Workbook

Sheet Estudio de mercado LOTE 1
A1: GESTIÓN CONTRACTUAL
A2: ELABORACIÓN ESTUDIOS DE MERCADO - PROCESOS DE GESTIÓN CONTRACTUAL
A4: DESCRIPCIÓN GENERAL | H4: PROVEEDOR 1 CLUSTER DE SERVICIOS SAS | K4: PROVEEDOR 2 DB SYSTEM | N4: VARIACIÓN | O4: =X4 -> MEDIA ARMÓNICA (RESPECTO A PRECIOS DE REFERENCIA) | R4: PROMEDIO SIMPLE (RESPECTO A PRECIOS DE REFERENCIA) | U4: MEDIA GEOMÉTRICA RESPECTO A PRECIOS DE REFERENCIA) | X4: MEDIA ARMÓNICA (RESPECTO A PRECIOS DE REFERENCIA)
A5: No. Item | B5: Código UNSPSC | C5: Ref. Artículo | D5: Descripción | E5: Cantidad | F5: Tiempo | G5: Unidad de Medida | H5: Precio unitario antes de IVA | I5: Precio unitario IVA incluido | J5: Precio total IVA incluido | K5: Precio unitario antes de IVA | L5: Precio unitario IVA incluido | M5: Precio total IVA incluido | O5: Precio unitario estimado antes de IVA | P5: Precio unitario estimado IVA incluido | Q5: Precio total estimado IVA incluido | R5: Precio unitario estimado antes de IVA | S5: Precio unitario estimado IVA incluido | T5: Precio total sin IVA | U5: Precio unitario estimado antes de IVA | V5: Precio unitario estimado IVA incluido | W5: Precio total sin IVA | X5: Precio unitario estimado antes de IVA | Y5: Precio unitario estimado IVA incluido | Z5: Precio total sin IVA
A6: LICENCIEMIENTO ANTIVIRUS
A7: 1 | D7: Central Intercept X Advanced with XDR - 12 MOS - RENEWAL - GOV SO: Windows, Linux, Mac | E7: 230 | F7: 12 meses | G7: Unidad | H7: 264250 | I7: =ROUND(H7*(1+19%),0) -> 314458 | J7: =$E7*I7 -> 72325340 | K7: 255000 | L7: =ROUND(K7*(1+19%),0) -> 303450 | M7: =$E7*L7 -> 69793500 | N7: =H7/K7-1 -> 0.03627451 | O7: =X7 -> 259543 | P7: =Y7 -> 308856 | Q7: =Z7 -> 71036880 | R7: =ROUND(AVERAGE(H7,K7),0) -> 259625 | S7: =ROUND(R7*(1+19%),0) -> 308954 | T7: =$E7*S7 -> 71059420 | U7: =ROUND(GEOMEAN(H7,K7),0) -> 259584 | V7: =ROUND(U7*(1+19%),0) -> 308905 | W7: =$E7*V7 -> 71048150 | X7: =ROUND(HARMEAN(H7,K7),0) -> 259543 | Y7: =ROUND(X7*(1+19%),0) -> 308856 | Z7: =$E7*Y7 -> 71036880
A8: 2 | D8: Central Intercept X Advanced for Server with XDR - SERVERS - 12 MOS - RENEWAL - GOV SO: Windows, Linux | E8: 5 | F8: 12 meses | G8: Unidad | H8: 555862 | I8: =ROUND(H8*(1+19%),0) -> 661476 | J8: =$E8*I8 -> 3307380 | K8: 540000 | L8: =ROUND(K8*(1+19%),0) -> 642600 | M8: =$E8*L8 -> 3213000 | N8: =H8/K8-1 -> 0.029374074 | O8: =X8 -> 547816 | P8: =Y8 -> 651901 | Q8: =Z8 -> 3259505 | R8: =ROUND(AVERAGE(H8,K8),0) -> 547931 | S8: =ROUND(R8*(1+19%),0) -> 652038 | T8: =$E8*S8 -> 3260190 | U8: =ROUND(GEOMEAN(H8,K8),0) -> 547874 | V8: =ROUND(U8*(1+19%),0) -> 651970 | W8: =$E8*V8 -> 3259850 | X8: =ROUND(HARMEAN(H8,K8),0) -> 547816 | Y8: =ROUND(X8*(1+19%),0) -> 651901 | Z8: =$E8*Y8 -> 3259505
A9: LICENCIAMIENTO FIREWALL
A10: 3 | D10: XGS4300 Email Protection - 12 MOS - RENEWAL (SKU: XM4C1CTAA) | E10: 1 | F10: 12 meses | G10: Unidad | H10: 8059500 | I10: =ROUND(H10*(1+19%),0) -> 9590805 | J10: =$E10*I10 -> 9590805 | K10: 7800000 | L10: =ROUND(K10*(1+19%),0) -> 9282000 | M10: =$E10*L10 -> 9282000 | N10: =H10/K10-1 -> 0.033269231 | O10: =X10 -> 7927627 | P10: =Y10 -> 9433876 | Q10: =Z10 -> 9433876 | R10: =ROUND(AVERAGE(H10,K10),0) -> 7929750 | S10: =ROUND(R10*(1+19%),0) -> 9436403 | T10: =$E10*S10 -> 9436403 | U10: =ROUND(GEOMEAN(H10,K10),0) -> 7928688 | V10: =ROUND(U10*(1+19%),0) -> 9435139 | W10: =$E10*V10 -> 9435139 | X10: =ROUND(HARMEAN(H10,K10),0) -> 7927627 | Y10: =ROUND(X10*(1+19%),0) -> 9433876 | Z10: =$E10*Y10 -> 9433876
A11: 4 | D11: XGS4300 Webserver Protection - 12 MOS - RENEWAL (SKU: XS4C1CTAA) | E11: 1 | F11: 12 meses | G11: Unidad | H11: 8059500 | I11: =ROUND(H11*(1+19%),0) -> 9590805 | J11: =$E11*I11 -> 9590805 | K11: 7800000 | L11: =ROUND(K11*(1+19%),0) -> 9282000 | M11: =$E11*L11 -> 9282000 | N11: =H11/K11-1 -> 0.033269231 | O11: =X11 -> 7927627 | P11: =Y11 -> 9433876 | Q11: =Z11 -> 9433876 | R11: =ROUND(AVERAGE(H11,K11),0) -> 7929750 | S11: =ROUND(R11*(1+19%),0) -> 9436403 | T11: =$E11*S11 -> 9436403 | U11: =ROUND(GEOMEAN(H11,K11),0) -> 7928688 | V11: =ROUND(U11*(1+19%),0) -> 9435139 | W11: =$E11*V11 -> 9435139 | X11: =ROUND(HARMEAN(H11,K11),0) -> 7927627 | Y11: =ROUND(X11*(1+19%),0) -> 9433876 | Z11: =$E11*Y11 -> 9433876
A12: 5 | D12: Xstream Protection for XGS4300 - 12 MOS - RENEWAL (SKU: XF4C1CTES) | E12: 1 | F12: 12 meses | G12: Unidad | H12: 53713125 | I12: =ROUND(H12*(1+19%),0) -> 63918619 | J12: =$E12*I12 -> 63918619 | K12: 51000000 | L12: =ROUND(K12*(1+19%),0) -> 60690000 | M12: =$E12*L12 -> 60690000 | N12: =H12/K12-1 -> 0.053198529 | O12: =X12 -> 52321414 | P12: =Y12 -> 62262483 | Q12: =Z12 -> 62262483 | R12: =ROUND(AVERAGE(H12,K12),0) -> 52356563 | S12: =ROUND(R12*(1+19%),0) -> 62304310 | T12: =$E12*S12 -> 62304310 | U12: =ROUND(GEOMEAN(H12,K12),0) -> 52338985 | V12: =ROUND(U12*(1+19%),0) -> 62283392 | W12: =$E12*V12 -> 62283392 | X12: =ROUND(HARMEAN(H12,K12),0) -> 52321414 | Y12: =ROUND(X12*(1+19%),0) -> 62262483 | Z12: =$E12*Y12 -> 62262483
A13: LICENCIEMIENTO DE GESTIÓN DE VULNERABILIDADES
A14: 1 | D14: Licencia Tenable Vulnerability Management (Nessus) | E14: 1 | F14: 12 meses | G14: Unidad | H14: 29375000 | I14: =ROUND(H14*(1+19%),0) -> 34956250 | J14: =$E14*I14 -> 34956250 | K14: 27700000 | L14: =ROUND(K14*(1+19%),0) -> 32963000 | M14: =$E14*L14 -> 32963000 | N14: =H14/K14-1 -> 0.060469314 | O14: =X14 -> 28512922 | P14: =Y14 -> 33930377 | Q14: =Z14 -> 33930377 | R14: =ROUND(AVERAGE(H14,K14),0) -> 28537500 | S14: =ROUND(R14*(1+19%),0) -> 33959625 | T14: =$E14*S14 -> 33959625 | U14: =ROUND(GEOMEAN(H14,K14),0) -> 28525208 | V14: =ROUND(U14*(1+19%),0) -> 33944998 | W14: =$E14*V14 -> 33944998 | X14: =ROUND(HARMEAN(H14,K14),0) -> 28512922 | Y14: =ROUND(X14*(1+19%),0) -> 33930377 | Z14: =$E14*Y14 -> 33930377
A15: 2 | D15: Advanced Support for a Nessus Professional License. | E15: 12 | F15: N/A | G15: Horas | H15: 329062.5 | I15: =ROUND(H15*(1+19%),0) -> 391584 | J15: =$E15*I15 -> 4699008 | K15: 302000 | L15: =ROUND(K15*(1+19%),0) -> 359380 | M15: =$E15*L15 -> 4312560 | N15: =H15/K15-1 -> 0.089610927 | O15: =X15 -> 314951 | P15: =Y15 -> 374792 | Q15: =Z15 -> 4497504 | R15: =ROUND(AVERAGE(H15,K15),0) -> 315531 | S15: =ROUND(R15*(1+19%),0) -> 375482 | T15: =$E15*S15 -> 4505784 | U15: =ROUND(GEOMEAN(H15,K15),0) -> 315241 | V15: =ROUND(U15*(1+19%),0) -> 375137 | W15: =$E15*V15 -> 4501644 | X15: =ROUND(HARMEAN(H15,K15),0) -> 314951 | Y15: =ROUND(X15*(1+19%),0) -> 374792 | Z15: =$E15*Y15 -> 4497504
A16: VALOR TOTAL ESTUDIO DE MERCADO DE ACUERDO CON LA CANTIDAD SELECCIONADA | J16: =SUM(J7:J8,J10:J12,J14:J15) -> 198388207 | M16: =SUM(M7:M8,M10:M12,M14:M15) -> 189536060 | Q16: =SUM(Q6:Q15) -> 193854501 | T16: =SUM(T6:T15) -> 193962135 | W16: =SUM(W6:W15) -> 193908312 | Z16: =SUM(Z6:Z15) -> 193854501
A17: Para estimar el valor del presupuesto del presente proceso, se realizó un comparativo entre los valores unitarios de las dos cotizaciones recibidas, en donde, se contempló la media armónica entre las cotizaciones recibidas. Es así como, de esta forma se encuentra una medida de tendencia central refleja el precio más acertado y objetivo del mercado, teniendo en cuenta lo consultado en el mercado.

Sheet Estudio de mercado LOTE 2
A1: GESTIÓN CONTRACTUAL
A2: ELABORACIÓN ESTUDIOS DE MERCADO - PROCESOS DE GESTIÓN CONTRACTUAL
A4: DESCRIPCIÓN GENERAL | H4: PROVEEDOR 1 SINERGY & LOWELLS COTIZACIÓN 2025 | L4: HISTÓRICOS | O4: VARIACIÓN | P4: =S4 -> PROMEDIO SIMPLE (RESPECTO A PRECIOS DE REFERENCIA CON VARIACIÓN POSITIVA FRENTE A HISTÓRICOS E HISTÓRICOS 2024) | S4: PROMEDIO SIMPLE (RESPECTO A PRECIOS DE REFERENCIA CON VARIACIÓN POSITIVA FRENTE A HISTÓRICOS E HISTÓRICOS 2024) | V4: MEDIA GEOMÉTRICA (RESPECTO A PRECIOS DE REFERENCIA CON VARIACIÓN POSITIVA FRENTE A HISTÓRICOS E HISTÓRICOS 2024) | Y4: MEDIA ARMÓNICA (RESPECTO A PRECIOS DE REFERENCIA CON VARIACIÓN POSITIVA FRENTE A HISTÓRICOS E HISTÓRICOS 2024)
A5: No. Item | B5: Código UNSPSC | C5: Ref. Artículo | D5: Descripción | E5: Cantidad | F5: Tiempo | G5: Unidad de Medida | H5: Precio unitario antes de IVA | I5: Precio unitario antes de IVA indexado 5,1% | J5: Precio unitario IVA incluido | K5: Precio total IVA incluido | L5: Precio unitario antes de IVA | M5: Precio unitario IVA incluido | N5: Precio total IVA incluido | P5: Precio unitario estimado antes de IVA | Q5: Precio unitario estimado IVA incluido | R5: Precio total estimado IVA incluido | S5: Precio unitario estimado antes de IVA | T5: Precio unitario estimado IVA incluido | U5: Precio total sin IVA | V5: Precio unitario estimado antes de IVA | W5: Precio unitario estimado IVA incluido | X5: Precio total sin IVA | Y5: Precio unitario estimado antes de IVA | Z5: Precio unitario estimado IVA incluido | AA5: Precio total sin IVA
A6: 1 | D6: Renovar el licenciamiento de la solución inalámbrica de la entidad Cloud Management (iMaster NCE-Campus) para Administración en la nube - Subscription License, AirEngine-Indoor, Per Device,1 Year - Para las 20 licencias de los dispositivos Access Point | E6: 20 | F6: 12 meses | G6: Unidad | H6: 450000 | I6: =ROUND(H6*(1+5.1%),0) -> 472950 | J6: =ROUND(I6*(1+19%),0) -> 562811 | K6: =$E6*J6 -> 11256220 | L6: 739242 | M6: =ROUND(L6*(1+19%),0) -> 879698 | N6: =$E6*M6 -> 17593960 | O6: =H6/L6-1 -> -0.39126835 | P6: =S6 -> 606096 | Q6: =T6 -> 721254 | R6: =U6 -> 14425080 | S6: =ROUND(AVERAGE(I6,L6),0) -> 606096 | T6: =ROUND(S6*(1+19%),0) -> 721254 | U6: =$E6*T6 -> 14425080 | V6: =ROUND(GEOMEAN(I6,L6),0) -> 591291 | W6: =ROUND(V6*(1+19%),0) -> 703636 | X6: =$E6*W6 -> 14072720 | Y6: =ROUND(HARMEAN(I6,L6),0) -> 576847 | Z6: =ROUND(Y6*(1+19%),0) -> 686448 | AA6: =$E6*Z6 -> 13728960
A7: 2 | D7: Renovar 20 licencias para equipos Access Point AirEngine5761-11 (11ax indoor,2+2 dual bands,smart antenna,USB,BLE)_Hi-Care Basic AirEngine5761-11 Serial | E7: 20 | F7: 12 meses | G7: Unidad | H7: 500000 | I7: =ROUND(H7*(1+5.1%),0) -> 525500 | J7: =ROUND(I7*(1+19%),0) -> 625345 | K7: =$E7*J7 -> 12506900 | L7: 567260 | M7: =ROUND(L7*(1+19%),0) -> 675039 | N7: =$E7*M7 -> 13500780 | O7: =H7/L7-1 -> -0.11856997 | P7: =S7 -> 546380 | Q7: =T7 -> 650192 | R7: =U7 -> 13003840 | S7: =ROUND(AVERAGE(I7,L7),0) -> 546380 | T7: =ROUND(S7*(1+19%),0) -> 650192 | U7: =$E7*T7 -> 13003840 | V7: =ROUND(GEOMEAN(I7,L7),0) -> 545981 | W7: =ROUND(V7*(1+19%),0) -> 649717 | X7: =$E7*W7 -> 12994340 | Y7: =ROUND(HARMEAN(I7,L7),0) -> 545582 | Z7: =ROUND(Y7*(1+19%),0) -> 649243 | AA7: =$E7*Z7 -> 12984860
A8: VALOR TOTAL ESTUDIO DE MERCADO DE ACUERDO CON LA CANTIDAD SELECCIONADA | K8: =SUM(K6:K7) -> 23763120 | N8: =SUM(N6:N7) -> 31094740 | R8: =SUM(R6:R7) -> 27428920 | U8: =SUM(U6:U7) -> 27428920 | X8: =SUM(X6:X7) -> 27067060 | AA8: =SUM(AA6:AA7) -> 26713820
A9: Para estimar el valor del presupuesto del presente proceso, se realizó un comparativo entre los valores unitarios de la cotización recibida en el año 2025 y el valor unitario del estudio de mercado establecido para el proceso de selección de la entidad en el año 2024 y 2025, en donde, se contempló la media aritmética de la cotización del 2025 y los precios unitarios históricos del 2024 indexados con el IPC para la vigencia 2026 (5,1%). Es así como, de esta forma se encuentra una medida de tendencia central refleja el precio más acertado y objetivo del mercado, teniendo en cuenta procesos previos de la entidad para la prestación de este servicio, así como lo consultado en el mercado.
K14: Licenciamiento Huawei Cloud Management | L14: HISTÓRICOS 2024 | N14: INDEXADO
L15: Valor con IVA 2024 | M15: =ROUND(M16*(1+19%),0) -> 795638 | N15: =ROUND(N16*(1+19%),0) -> 837010
L16: Valor sin IVA 2024 | M16: 668603 | N16: =ROUND(M16*(1+5.2%),0) -> 703370
L17: Valor 20 licencias sin IVA | M17: =M16*20 -> 13372060 | N17: =N16*20 -> 14067400
K19: Licencias para equipos Access Point | L19: HISTÓRICOS 2024 | N19: INDEXADO
L20: Valor con IVA 2024 | M20: =ROUND(M21*(1+19%),0) -> 610535 | N20: =ROUND(N21*(1+19%),0) -> 642283
L21: Valor sin IVA 2024 | M21: 513055 | N21: =ROUND(M21*(1+5.2%),0) -> 539734
L22: Valor 20 licencias sin IVA | M22: =M20*20 -> 12210700 | N22: =N21*20 -> 10794680
K24: Licenciamiento Huawei Cloud Management | L24: HISTÓRICOS 2025 | N24: INDEXADO
L25: Valor con IVA 2025 | M25: =ROUND(M26*(1+19%),0) -> 837010 | N25: =ROUND(N26*(1+19%),0) -> 879698
L26: Valor sin IVA 2025 | M26: 703370 | N26: =ROUND(M26*(1+5.1%),0) -> 739242
L27: Valor 20 licencias con IVA | M27: =M25*20 -> 16740200 | N27: =N25*20 -> 17593960
K29: Licencias para equipos Access Point | L29: HISTÓRICOS 2025 | N29: INDEXADO
L30: Valor con IVA 2025 | M30: =ROUND(M31*(1+19%),0) -> 642283 | N30: =ROUND(N31*(1+19%),0) -> 675039
L31: Valor sin IVA 2025 | M31: 539734 | N31: =ROUND(M31*(1+5.1%),0) -> 567260
L32: Valor 20 licencias con IVA | M32: =M30*20 -> 12845660 | N32: =N30*20 -> 13500780

Sheet Estudio de mercado LOTE 3
A1: GESTIÓN CONTRACTUAL
A2: ELABORACIÓN ESTUDIOS DE MERCADO - PROCESOS DE GESTIÓN CONTRACTUAL
A4: DESCRIPCIÓN GENERAL | H4: PROVEEDOR 1 SEKINFO SAS | K4: PROVEEDOR 2 CERTICAMARA SA | N4: =Q4 -> PROMEDIO SIMPLE (RESPECTO A PRECIOS DE REFERENCIA) | Q4: PROMEDIO SIMPLE (RESPECTO A PRECIOS DE REFERENCIA) | T4: MEDIA GEOMÉTRICA (RESPECTO A PRECIOS DE REFERENCIA) | W4: MEDIA ARMÓNICA (RESPECTO A PRECIOS DE REFERENCIA)
A5: No. Item | B5: Código UNSPSC | C5: Ref. Artículo | D5: Descripción | E5: Cantidad | F5: Tiempo | G5: Unidad de Medida | H5: Precio unitario antes de IVA | I5: Precio unitario IVA incluido | J5: Precio total IVA incluido | K5: Precio unitario antes de IVA | L5: Precio unitario IVA incluido | M5: Precio total IVA incluido | N5: Precio unitario estimado antes de IVA | O5: Precio unitario estimado IVA incluido | P5: Precio total estimado IVA incluido | Q5: Precio unitario estimado antes de IVA | R5: Precio unitario estimado IVA incluido | S5: Precio total sin IVA | T5: Precio unitario estimado antes de IVA | U5: Precio unitario estimado IVA incluido | V5: Precio total sin IVA | W5: Precio unitario estimado antes de IVA | X5: Precio unitario estimado IVA incluido | Y5: Precio total sin IVA
A6: 1 | D6: Certificado SSL Wildcard OV | E6: 1 | F6: 2 años | G6: Unidad | H6: 5800000 | I6: =ROUND(H6*(1+19%),0) -> 6902000 | J6: =$E6*I6 -> 6902000 | K6: 3980678 | L6: =ROUND(K6*(1+19%),0) -> 4737007 | M6: =$E6*L6 -> 4737007 | N6: =Q6 -> 4890339 | O6: =R6 -> 5819503 | P6: =S6 -> 5819503 | Q6: =ROUND(AVERAGE(H6,K6),0) -> 4890339 | R6: =ROUND(Q6*(1+19%),0) -> 5819503 | S6: =$E6*R6 -> 5819503 | T6: =ROUND(GEOMEAN(H6,K6),0) -> 4804990 | U6: =ROUND(T6*(1+19%),0) -> 5717938 | V6: =$E6*U6 -> 5717938 | W6: =ROUND(HARMEAN(H6,K6),0) -> 4721131 | X6: =ROUND(W6*(1+19%),0) -> 5618146 | Y6: =$E6*X6 -> 5618146
A7: VALOR TOTAL ESTUDIO DE MERCADO DE ACUERDO CON LA CANTIDAD SELECCIONADA | J7: =SUM(J6:J6) -> 6902000 | M7: =SUM(M6:M6) -> 4737007 | P7: =SUM(P6:P6) -> 5819503 | S7: =SUM(S6:S6) -> 5819503 | V7: =SUM(V6:V6) -> 5717938 | Y7: =SUM(Y6:Y6) -> 5618146
A8: Para estimar el valor del presupuesto del presente proceso, se realizó un comparativo entre los valores unitarios de las dos cotizaciones recibidas, en donde, se contempló la media aritmética entre las cotizaciones recibidas. Es así como, de esta forma se encuentra una medida de tendencia central refleja el precio más acertado y objetivo del mercado, teniendo en cuenta procesos previos de la entidad para la prestación de este servicio, así como lo consultado en el mercado.

Sheet Resumen
A1: GESTIÓN CONTRACTUAL
A2: ELABORACIÓN ESTUDIOS DE MERCADO - PROCESOS DE GESTIÓN CONTRACTUAL
A3: No. Item | B3: Código UNSPSC | C3: Ref. Artículo | D3: Descripción | E3: Cantidad | F3: Tiempo | G3: Unidad de Medida | H3: Precio unitario estimado incluido IVA | I3: Precio total estimado IVA incluido
A4: LOTE 1
A5: LICENCIEMIENTO ANTIVIRUS
A6: 1 | D6: ='Estudio de mercado LOTE 1'!D7 -> Central Intercept X Advanced with XDR - 12 MOS - RENEWAL - GOV SO: Windows, Linux, Mac | E6: ='Estudio de mercado LOTE 1'!E7 -> 230 | F6: ='Estudio de mercado LOTE 1'!F7 -> 12 meses | G6: ='Estudio de mercado LOTE 1'!G7 -> Unidad | H6: ='Estudio de mercado LOTE 1'!P7 -> 308856 | I6: ='Estudio de mercado LOTE 1'!Q7 -> 71036880
A7: 2 | D7: ='Estudio de mercado LOTE 1'!D8 -> Central Intercept X Advanced for Server with XDR - SERVERS - 12 MOS - RENEWAL - GOV SO: Windows, Linux | E7: ='Estudio de mercado LOTE 1'!E8 -> 5 | F7: ='Estudio de mercado LOTE 1'!F8 -> 12 meses | G7: ='Estudio de mercado LOTE 1'!G8 -> Unidad | H7: ='Estudio de mercado LOTE 1'!P8 -> 651901 | I7: ='Estudio de mercado LOTE 1'!Q8 -> 3259505
A8: LICENCIAMIENTO FIREWALL
A9: 3 | D9: ='Estudio de mercado LOTE 1'!D10 -> XGS4300 Email Protection - 12 MOS - RENEWAL (SKU: XM4C1CTAA) | E9: ='Estudio de mercado LOTE 1'!E10 -> 1 | F9: ='Estudio de mercado LOTE 1'!F10 -> 12 meses | G9: ='Estudio de mercado LOTE 1'!G10 -> Unidad | H9: ='Estudio de mercado LOTE 1'!P10 -> 9433876 | I9: ='Estudio de mercado LOTE 1'!Q10 -> 9433876
A10: 4 | D10: ='Estudio de mercado LOTE 1'!D11 -> XGS4300 Webserver Protection - 12 MOS - RENEWAL (SKU: XS4C1CTAA) | E10: ='Estudio de mercado LOTE 1'!E11 -> 1 | F10: ='Estudio de mercado LOTE 1'!F11 -> 12 meses | G10: ='Estudio de mercado LOTE 1'!G11 -> Unidad | H10: ='Estudio de mercado LOTE 1'!P11 -> 9433876 | I10: ='Estudio de mercado LOTE 1'!Q11 -> 9433876
A11: 5 | D11: ='Estudio de mercado LOTE 1'!D12 -> Xstream Protection for XGS4300 - 12 MOS - RENEWAL (SKU: XF4C1CTES) | E11: ='Estudio de mercado LOTE 1'!E12 -> 1 | F11: ='Estudio de mercado LOTE 1'!F12 -> 12 meses | G11: ='Estudio de mercado LOTE 1'!G12 -> Unidad | H11: ='Estudio de mercado LOTE 1'!P12 -> 62262483 | I11: ='Estudio de mercado LOTE 1'!Q12 -> 62262483
A12: LICENCIEMIENTO ANTIVIRUS
A13: 6 | D13: ='Estudio de mercado LOTE 1'!D14 -> Licencia Tenable Vulnerability Management (Nessus) | E13: ='Estudio de mercado LOTE 1'!E14 -> 1 | F13: ='Estudio de mercado LOTE 1'!F14 -> 12 meses | G13: ='Estudio de mercado LOTE 1'!G14 -> Unidad | H13: ='Estudio de mercado LOTE 1'!P14 -> 33930377 | I13: ='Estudio de mercado LOTE 1'!Q14 -> 33930377
A14: 7 | D14: ='Estudio de mercado LOTE 1'!D15 -> Advanced Support for a Nessus Professional License. | E14: ='Estudio de mercado LOTE 1'!E15 -> 12 | F14: ='Estudio de mercado LOTE 1'!F15 -> N/A | G14: ='Estudio de mercado LOTE 1'!G15 -> Horas | H14: ='Estudio de mercado LOTE 1'!P15 -> 374792 | I14: ='Estudio de mercado LOTE 1'!Q15 -> 4497504
A15: TOTAL LOTE 1 | I15: =SUM(I6:I7,I9:I11,I13:I14) -> 193854501
A16: LOTE 3
A17: 1 | D17: ='Estudio de mercado LOTE 2'!D6 -> Renovar el licenciamiento de la solución inalámbrica de la entidad Cloud Management (iMaster NCE-Campus) para Administración en la nube - Subscription License, AirEngine-Indoor, Per Device,1 Year - Para las 20 licencias de los dispositivos Access Point | E17: ='Estudio de mercado LOTE 2'!E6 -> 20 | F17: ='Estudio de mercado LOTE 2'!F6 -> 12 meses | G17: ='Estudio de mercado LOTE 2'!G6 -> Unidad | H17: ='Estudio de mercado LOTE 2'!Q6 -> 721254 | I17: ='Estudio de mercado LOTE 2'!R6 -> 14425080
A18: 2 | D18: ='Estudio de mercado LOTE 2'!D7 -> Renovar 20 licencias para equipos Access Point AirEngine5761-11 (11ax indoor,2+2 dual bands,smart antenna,USB,BLE)_Hi-Care Basic AirEngine5761-11 Serial | E18: ='Estudio de mercado LOTE 2'!E7 -> 20 | F18: ='Estudio de mercado LOTE 2'!F7 -> 12 meses | G18: ='Estudio de mercado LOTE 2'!G7 -> Unidad | H18: ='Estudio de mercado LOTE 2'!Q7 -> 650192 | I18: ='Estudio de mercado LOTE 2'!R7 -> 13003840
A19: TOTAL LOTE 3 | I19: =SUM(I17:I18) -> 27428920
A20: LOTE 2
A21: 1 | D21: ='Estudio de mercado LOTE 3'!D6 -> Certificado SSL Wildcard OV | E21: ='Estudio de mercado LOTE 3'!E6 -> 1 | F21: ='Estudio de mercado LOTE 3'!F6 -> 2 años | G21: ='Estudio de mercado LOTE 3'!G6 -> Unidad | H21: ='Estudio de mercado LOTE 3'!O6 -> 5819503 | I21: ='Estudio de mercado LOTE 3'!P6 -> 5819503
A22: TOTAL LOTE 2 | I22: =SUM(I21) -> 5819503
A23: VALOR TOTAL ESTUDIO DE MERCADO | I23: =SUM(I15,I19,I22) -> 227102924

Sheet Listado de unidades
A1: UNIDADES
A2: Nombre | B2: Descripción
A3: µA | B3: Microamperio
A4: µGL | B4: Microgramos/Litro
A5: µGQ | B5: Microgramos/ Metro cúbico
A6: µM | B6: Micrómetro
A7: 2IN | B7: Pulgada cuadrada
A8: A | B8: Amperio
A9: ACR | B9: Acre
A10: ANO | B10: Año
A11: ARR | B11: Arroba
A12: AT | B12: Hierro atado
A13: BDN | B13: Bidón
... A186: YD | B186: Yarda
