Workbook

Sheet Presupuesto Oficial LOTE 4
C3: Formulario 1 - Propuesta económica - Documento tipo de selección abreviada de menor cuantía - versión 2
C4: Código | D4: CCE-EICP-FM-25 | E4: Versión | F4: 2
C7: FORMULARIO 1
C8: PRESUPUESTO OFICIAL
C9: OBJETO: RSTC0274 MANTENER ZONAS DE SEGURIDAD, CANALES Y MANEJO PAISAJISTICO EN LOS EN LOS AEROPUERTOS DE SARAVENA, ARAUQUITA, TAME Y PUERTO RONDON (POR LOTES)
C10: LOTE 4: MANTENER ZONAS DE SEGURIDAD Y CANALES EN EL AEROPUERTO EL TRONCAL DE ARAUQUITA
C11: [La entidad puede utilizar este formulario de presentación de propuesta económica de forma detallada, sin perjuicio que la entidad pueda modificarlo o establecer la presentación de la oferta económica con un formulario distinto al indicado.] [Los proponentes emplearán el formulario establecido por la entidad para determinar su propuesta económica conforme al Formulario 1 - Presupuesto Oficial publicado por la Entidad]
C13: Cuando el proceso de contratación es estructurado por precios unitarios, la Entidad debe aplicar las notas 1, 2 y 3 del presente formato y las casillas de "Descripción", "Porcentaje" de la Administración, Imprevisto, Utilidad y total A.I.U. resaltadas en color amarillo.
C15: Nº | D15: ITEM DE PAGO | E15: ESPECIFICACIONES | G15: DESCRIPCION | H15: UND. | I15: CANTIDAD | J15: VALOR UNITARIO | K15: VALOR TOTAL
E16: GENERAL | F16: PARTICULAR
C17: 1 | D17: ROCERÍA | N17: =+'Propuesta Economica LOTE 4'!M16 -> 0.973
C18: 1.1 | D18: 1.1 | F18: 1.1 | G18: ROCERÍA Y LIMPIEZA MANUAL (INCLUYE DISPOSICIÓN FINALY FUMIGACION) | H18: M2 | I18: 425579.68 | J18: 100 | K18: =+J18*I18 -> 42557968 | N18: =+J18*$N$17 -> 97.3
C19: Subtotal | K19: =+K18 -> 42557968
C20: 2 | D20: ESTRUCTURAS Y DRENAJES
C21: 2.1 | D21: 2.1 | F21: 2.1 | G21: LIMPIEZA Y REACONDICIONAMIENTO DE CANALES Y/O ZANJAS DE CORONACIÓN Y/O DISIPADORES Y/O BOX COULVERT REVESTIDOS Y NO REVESTIDOS (INCLUYE DISPOSICIÓN FINAL) | H21: ML | I21: 2000 | J21: 8500 | K21: =+J21*I21 -> 17000000 | N21: =+J21*$N$17 -> 8270.5
C22: Subtotal | K22: =+K21 -> 17000000
C23: SUBTOTAL OBRAS | K23: =+K22+K19 -> 59557968
G28: SUBTOTAL OBRAS (INCLUYE IVA) | K28: 60000000
G32: VALOR TOTAL | K32: =+K28 -> 60000000
C35: NOTA 1: Se debe tener en cuenta que el PRECIO UNITARIO incluye el valor de A.I.U. | H35: DESCRIPCION | K35: PORCENTAJE
C36: NOTA 2: Cuando la fracción decimal del peso sea igual o superior a 5 se aproximara por exceso al número entero siguiente del peso y cuando la fracción decimal del peso sea inferior a 5 se aproximará por defecto al número entero del peso. | H36: ADMINISTRACION | J36: A= | K36: 0.21
C37: NOTA 3: El A.I.U y su discriminación deben estar en porcentaje (%). | H37: IMPREVISTO | J37: I= | K37: 0.02
H38: UTILIDAD | J38: U= | K38: 0.05
H39: TOTAL A.I.U | J39: A.I.U.= | K39: 0.28

Sheet Presupuesto Oficial LOTE 3
C3: Formulario 1 - Propuesta económica - Documento tipo de selección abreviada de menor cuantía - versión 2
C4: Código | D4: CCE-EICP-FM-25 | E4: Versión | F4: 2
C7: FORMULARIO 1
C8: PRESUPUESTO OFICIAL
C9: OBJETO: RSTC0274 MANTENER ZONAS DE SEGURIDAD, CANALES Y MANEJO PAISAJISTICO EN LOS EN LOS AEROPUERTOS DE SARAVENA, ARAUQUITA, TAME Y PUERTO RONDON (POR LOTES)
C10: LOTE 3: MANTENER ZONAS DE SEGURIDAD, CANALES Y MANEJO PAISAJISTICO EN EL AEROPUERTO LOS COLONIZADORES DE SARAVENA
C11: [La entidad puede utilizar este formulario de presentación de propuesta económica de forma detallada, sin perjuicio que la entidad pueda modificarlo o establecer la presentación de la oferta económica con un formulario distinto al indicado.] [Los proponentes emplearán el formulario establecido por la entidad para determinar su propuesta económica conforme al Formulario 1 - Presupuesto Oficial publicado por la Entidad]
C13: Cuando el proceso de contratación es estructurado por precios unitarios, la Entidad debe aplicar las notas 1, 2 y 3 del presente formato y las casillas de "Descripción", "Porcentaje" de la Administración, Imprevisto, Utilidad y total A.I.U. resaltadas en color amarillo.
C15: Nº | D15: ITEM DE PAGO | E15: ESPECIFICACIONES | G15: DESCRIPCION | H15: UND. | I15: CANTIDAD | J15: VALOR UNITARIO | K15: VALOR TOTAL
E16: GENERAL | F16: PARTICULAR
C17: 1 | D17: ROCERÍA | N17: =+'Propuesta Economica LOTE 3'!M17 -> 0.973
C18: 1.1 | D18: 1.1 | F18: 1.1 | G18: ROCERÍA Y LIMPIEZA MANUAL (INCLUYE DISPOSICIÓN FINALY FUMIGACION) | H18: M2 | I18: 392559.56 | J18: 100 | K18: =+J18*I18 -> 39255956 | N18: =+J18*$N$17 -> 97.3
C19: Subtotal | K19: =+K18 -> 39255956
C20: 2 | D20: ESTRUCTURAS Y DRENAJES
C21: 2.1 | D21: 2.1 | F21: 2.1 | G21: LIMPIEZA Y REACONDICIONAMIENTO DE CANALES Y/O ZANJAS DE CORONACIÓN Y/O DISIPADORES Y/O BOX COULVERT REVESTIDOS Y NO REVESTIDOS (INCLUYE DISPOSICIÓN FINAL) | H21: ML | I21: 2400 | J21: 8500 | K21: =+J21*I21 -> 20400000 | N21: =+J21*$N$17 -> 8270.5
C22: Subtotal | K22: =+K21 -> 20400000
C23: 3 | D23: MANEJO PAISAJISTICO
C24: 3.1 | D24: 3.1 | F24: 3.1 | G24: JARDINERIA - INCLUYE LIMPIEZA MANUAL, DESYERBE, PLATEO, ABONO, RIEGO, PODA MENOR, FUMIGACION Y CONTROL DE PLAGAS | H24: M2 | I24: 30000 | J24: 360 | K24: =+J24*I24 -> 10800000 | N24: =+J24*$N$17 -> 350.28
C25: 3.2 | D25: 3.2 | F25: 3.2 | G25: SIEMBRA DE ESPECIES NATIVAS | H25: UND | I25: 80 | J25: 21976 | K25: =+J25*I25 -> 1758080 | N25: =+J25*$N$17 -> 21382.648
C26: Subtotal | K26: =+K25+K24 -> 12558080
C27: SUBTOTAL OBRAS | K27: =+K22+K19+K26 -> 72214036
G32: SUBTOTAL OBRAS (INCLUYE IVA) | K32: 72750000
G36: VALOR TOTAL | K36: =+K32 -> 72750000
C39: NOTA 1: Se debe tener en cuenta que el PRECIO UNITARIO incluye el valor de A.I.U. | H39: DESCRIPCION | K39: PORCENTAJE
C40: NOTA 2: Cuando la fracción decimal del peso sea igual o superior a 5 se aproximara por exceso al número entero siguiente del peso y cuando la fracción decimal del peso sea inferior a 5 se aproximará por defecto al número entero del peso. | H40: ADMINISTRACION | J40: A= | K40: 0.21
C41: NOTA 3: El A.I.U y su discriminación deben estar en porcentaje (%). | H41: IMPREVISTO | J41: I= | K41: 0.02
H42: UTILIDAD | J42: U= | K42: 0.05
H43: TOTAL A.I.U | J43: A.I.U.= | K43: 0.28

Sheet Presupuesto Oficial LOTE 2
C3: Formulario 1 - Propuesta económica - Documento tipo de selección abreviada de menor cuantía - versión 2
C4: Código | D4: CCE-EICP-FM-25 | E4: Versión | F4: 2
C7: FORMULARIO 1
C8: PRESUPUESTO OFICIAL
C9: OBJETO: RSTC0274 MANTENER ZONAS DE SEGURIDAD, CANALES Y MANEJO PAISAJISTICO EN LOS EN LOS AEROPUERTOS DE SARAVENA, ARAUQUITA, TAME Y PUERTO RONDON (POR LOTES)
C10: LOTE 2: MANTENER ZONAS DE SEGURIDAD Y CANALES EN EL AEROPUERTO DE PUERTO RONDON
C11: [La entidad puede utilizar este formulario de presentación de propuesta económica de forma detallada, sin perjuicio que la entidad pueda modificarlo o establecer la presentación de la oferta económica con un formulario distinto al indicado.] [Los proponentes emplearán el formulario establecido por la entidad para determinar su propuesta económica conforme al Formulario 1 - Presupuesto Oficial publicado por la Entidad]
C13: Cuando el proceso de contratación es estructurado por precios unitarios, la Entidad debe aplicar las notas 1, 2 y 3 del presente formato y las casillas de "Descripción", "Porcentaje" de la Administración, Imprevisto, Utilidad y total A.I.U. resaltadas en color amarillo.
C15: Nº | D15: ITEM DE PAGO | E15: ESPECIFICACIONES | G15: DESCRIPCION | H15: UND. | I15: CANTIDAD | J15: VALOR UNITARIO | K15: VALOR TOTAL
E16: GENERAL | F16: PARTICULAR
C17: 1 | D17: ROCERÍA | N17: =+'PRESUPUESTO OFICIAL (Entidad)'!M16 -> 0
C18: 1.1 | D18: 1.1 | F18: 1.1 | G18: ROCERÍA Y LIMPIEZA MANUAL (INCLUYE DISPOSICIÓN FINALY FUMIGACION) | H18: M2 | I18: 744764.44 | J18: 100 | K18: =+J18*I18 -> 74476444 | N18: =+$N$17*J18 -> 0
C19: Subtotal | K19: =+K18 -> 74476444
C20: 2 | D20: ESTRUCTURAS Y DRENAJES
C21: 2.1 | D21: 2.1 | F21: 2.1 | G21: LIMPIEZA Y REACONDICIONAMIENTO DE CANALES Y/O ZANJAS DE CORONACIÓN Y/O DISIPADORES Y/O BOX COULVERT REVESTIDOS Y NO REVESTIDOS (INCLUYE DISPOSICIÓN FINAL) | H21: ML | I21: 3500 | J21: 8500 | K21: =+J21*I21 -> 29750000 | N21: =+$N$17*J21 -> 0
C22: Subtotal | K22: =+K21 -> 29750000
C23: SUBTOTAL OBRAS | K23: =+K22+K19 -> 104226444
G28: SUBTOTAL OBRAS (INCLUYE IVA) | K28: 105000000
G32: VALOR TOTAL | K32: =+K28 -> 105000000
C35: NOTA 1: Se debe tener en cuenta que el PRECIO UNITARIO incluye el valor de A.I.U. | H35: DESCRIPCION | K35: PORCENTAJE
C36: NOTA 2: Cuando la fracción decimal del peso sea igual o superior a 5 se aproximara por exceso al número entero siguiente del peso y cuando la fracción decimal del peso sea inferior a 5 se aproximará por defecto al número entero del peso. | H36: ADMINISTRACION | J36: A= | K36: 0.21
C37: NOTA 3: El A.I.U y su discriminación deben estar en porcentaje (%). | H37: IMPREVISTO | J37: I= | K37: 0.02
H38: UTILIDAD | J38: U= | K38: 0.05
H39: TOTAL A.I.U | J39: A.I.U.= | K39: 0.28

Sheet Presupuesto Oficial LOTE 1
C3: Formulario 1 - Propuesta económica - Documento tipo de selección abreviada de menor cuantía - versión 2
C4: Código | D4: CCE-EICP-FM-25 | E4: Versión | F4: 2
C7: FORMULARIO 1
C8: PRESUPUESTO OFICIAL
C9: OBJETO: RSTC0274 MANTENER ZONAS DE SEGURIDAD, CANALES Y MANEJO PAISAJISTICO EN LOS EN LOS AEROPUERTOS DE SARAVENA, ARAUQUITA, TAME Y PUERTO RONDON (POR LOTES)
C10: LOTE 1: MANTENER ZONAS DE SEGURIDAD, CANALES Y MANEJO PAISAJISTICO EN EL AEROPUERTO VARGAS SANTOS DE TAME
C11: [La entidad puede utilizar este formulario de presentación de propuesta económica de forma detallada, sin perjuicio que la entidad pueda modificarlo o establecer la presentación de la oferta económica con un formulario distinto al indicado.] [Los proponentes emplearán el formulario establecido por la entidad para determinar su propuesta económica conforme al Formulario 1 - Presupuesto Oficial publicado por la Entidad]
C13: Cuando el proceso de contratación es estructurado por precios unitarios, la Entidad debe aplicar las notas 1, 2 y 3 del presente formato y las casillas de "Descripción", "Porcentaje" de la Administración, Imprevisto, Utilidad y total A.I.U. resaltadas en color amarillo.
C15: Nº | D15: ITEM DE PAGO | E15: ESPECIFICACIONES | G15: DESCRIPCION | H15: UND. | I15: CANTIDAD | J15: VALOR UNITARIO | K15: VALOR TOTAL
E16: GENERAL | F16: PARTICULAR
C17: 1 | D17: ROCERÍA | N17: =+'Propuesta Economica LOTE 1'!M16 -> 0.973
C18: 1.1 | D18: 1.1 | F18: 1.1 | G18: ROCERÍA Y LIMPIEZA MANUAL (INCLUYE DISPOSICIÓN FINALY FUMIGACION) | H18: M2 | I18: 379270.31 | J18: 100 | K18: =+J18*I18 -> 37927031 | N18: =+$N$17*J18 -> 97.3
C19: Subtotal | K19: =+K18 -> 37927031
C20: 2 | D20: ESTRUCTURAS Y DRENAJES
C21: 2.1 | D21: 2.1 | F21: 2.1 | G21: LIMPIEZA Y REACONDICIONAMIENTO DE CANALES Y/O ZANJAS DE CORONACIÓN Y/O DISIPADORES Y/O BOX COULVERT REVESTIDOS Y NO REVESTIDOS (INCLUYE DISPOSICIÓN FINAL) | H21: ML | I21: 4600 | J21: 8500 | K21: =+J21*I21 -> 39100000 | N21: =+$N$17*J21 -> 8270.5
C22: Subtotal | K22: =+K21 -> 39100000
C23: 3 | D23: MANEJO PAISAJISTICO
C24: 3.1 | D24: 3.1 | F24: 3.1 | G24: JARDINERIA - INCLUYE LIMPIEZA MANUAL, DESYERBE, PLATEO, ABONO, RIEGO, PODA MENOR, FUMIGACION Y CONTROL DE PLAGAS | H24: M2 | I24: 30000 | J24: 360 | K24: =+J24*I24 -> 10800000 | N24: =+$N$17*J24 -> 350.28
C25: 3.2 | D25: 3.2 | F25: 3.2 | G25: SIEMBRA DE ESPECIES NATIVAS | H25: UND | I25: 80 | J25: 21976 | K25: =+J25*I25 -> 1758080 | N25: =+$N$17*J25 -> 21382.648
C26: Subtotal | K26: =+K25+K24 -> 12558080
C27: SUBTOTAL OBRAS | K27: =+K22+K19+K26 -> 89585111
G32: SUBTOTAL OBRAS (INCLUYE IVA) | K32: 90250000
G36: VALOR TOTAL | K36: =+K32 -> 90250000
C39: NOTA 1: Se debe tener en cuenta que el PRECIO UNITARIO incluye el valor de A.I.U. | H39: DESCRIPCION | K39: PORCENTAJE
C40: NOTA 2: Cuando la fracción decimal del peso sea igual o superior a 5 se aproximara por exceso al número entero siguiente del peso y cuando la fracción decimal del peso sea inferior a 5 se aproximará por defecto al número entero del peso. | H40: ADMINISTRACION | J40: A= | K40: 0.21
C41: NOTA 3: El A.I.U y su discriminación deben estar en porcentaje (%). | H41: IMPREVISTO | J41: I= | K41: 0.02
H42: UTILIDAD | J42: U= | K42: 0.05
H43: TOTAL A.I.U | J43: A.I.U.= | K43: 0.28

Sheet Propuesta Economica LOTE 4
C3: Formulario 1 - Propuesta económica - Documento tipo de selección abreviada de menor cuantía - versión 2
C4: Código | D4: CCE-EICP-FM-25 | E4: Versión | F4: 2
C7: FORMULARIO 1
C8: PROPUESTA ECONOMICA
C9: OBJETO: RSTC0274 MANTENER ZONAS DE SEGURIDAD, CANALES Y MANEJO PAISAJISTICO EN LOS EN LOS AEROPUERTOS DE SARAVENA, ARAUQUITA, TAME Y PUERTO RONDON (POR LOTES)
C10: LOTE 4: MANTENER ZONAS DE SEGURIDAD Y CANALES EN EL AEROPUERTO EL TRONCAL DE ARAUQUITA
C11: [La entidad puede utilizar este formulario de presentación de propuesta económica de forma detallada, sin perjuicio que la entidad pueda modificarlo o establecer la presentación de la oferta económica con un formulario distinto al indicado.] [Los proponentes emplearán el formulario establecido por la entidad para determinar su propuesta económica conforme al Formulario 1 - Presupuesto Oficial publicado por la Entidad]
C13: Cuando el proceso de contratación es estructurado por precios unitarios, la Entidad debe aplicar las notas 1, 2 y 3 del presente formato y las casillas de "Descripción", "Porcentaje" de la Administración, Imprevisto, Utilidad y total A.I.U. resaltadas en color amarillo.
C15: Nº | D15: ITEM DE PAGO | E15: ESPECIFICACIONES | G15: DESCRIPCION | H15: UND. | I15: CANTIDAD | J15: VALOR UNITARIO | K15: VALOR TOTAL
E16: GENERAL | F16: PARTICULAR | M16: 0.973
C17: 1 | D17: ROCERÍA
C18: 1.1 | D18: 1.1 | F18: 1.1 | G18: ROCERÍA Y LIMPIEZA MANUAL (INCLUYE DISPOSICIÓN FINALY FUMIGACION) | H18: M2 | I18: 425579.68 | J18: =('Presupuesto Oficial LOTE 4'!N18) -> 97.3 | K18: =+J18*I18 -> 41408903
C19: Subtotal | K19: =+K18 -> 41408903
C20: 2 | D20: ESTRUCTURAS Y DRENAJES
C21: 2.1 | D21: 2.1 | F21: 2.1 | G21: LIMPIEZA Y REACONDICIONAMIENTO DE CANALES Y/O ZANJAS DE CORONACIÓN Y/O DISIPADORES Y/O BOX COULVERT REVESTIDOS Y NO REVESTIDOS (INCLUYE DISPOSICIÓN FINAL) | H21: ML | I21: 2000 | J21: =('Presupuesto Oficial LOTE 4'!N21) -> 8270.5 | K21: =+J21*I21 -> 16541000
C22: Subtotal | K22: =+K21 -> 16541000
C23: SUBTOTAL OBRAS | K23: =+K22+K19 -> 57949903
N25: =+K23/(1+K39) -> 45273362
N26: =+$N$25*K36 -> 9507405.9
N27: =+$N$25*K37 -> 905467.23
G28: SUBTOTAL OBRAS (INCLUYE IVA) | K28: =+SUM(N25:N29) -> 58380000 | N28: =+$N$25*K38 -> 2263668.1
N29: =+N28*0.19 -> 430096.94
G32: VALOR TOTAL | K32: =+K28 -> 58380000
O34: =+K32/'Presupuesto Oficial LOTE 4'!K32 -> 0.973
C35: NOTA 1: Se debe tener en cuenta que el PRECIO UNITARIO incluye el valor de A.I.U. | H35: DESCRIPCION | K35: PORCENTAJE
C36: NOTA 2: Cuando la fracción decimal del peso sea igual o superior a 5 se aproximara por exceso al número entero siguiente del peso y cuando la fracción decimal del peso sea inferior a 5 se aproximará por defecto al número entero del peso. | H36: ADMINISTRACION | J36: A= | K36: 0.21
C37: NOTA 3: El A.I.U y su discriminación deben estar en porcentaje (%). | H37: IMPREVISTO | J37: I= | K37: 0.02
H38: UTILIDAD | J38: U= | K38: 0.05
H39: TOTAL A.I.U | J39: A.I.U.= | K39: 0.28
G42: ARQ. HAWER ALBERTO HERRERA RODRIGUEZ CC. 93.365.845 de Ibagué Rep. Legal H.A.H CONSTRUCCIONES S.A.S

Sheet Propuesta Economica LOTE 3
C3: Formulario 1 - Propuesta económica - Documento tipo de selección abreviada de menor cuantía - versión 2
C4: Código | D4: CCE-EICP-FM-25 | E4: Versión | F4: 2
C7: FORMULARIO 1
C8: PROPUESTA ECONOMICA
C9: OBJETO: RSTC0274 MANTENER ZONAS DE SEGURIDAD, CANALES Y MANEJO PAISAJISTICO EN LOS EN LOS AEROPUERTOS DE SARAVENA, ARAUQUITA, TAME Y PUERTO RONDON (POR LOTES)
C10: LOTE 3: MANTENER ZONAS DE SEGURIDAD, CANALES Y MANEJO PAISAJISTICO EN EL AEROPUERTO LOS COLONIZADORES DE SARAVENA
C11: [La entidad puede utilizar este formulario de presentación de propuesta económica de forma detallada, sin perjuicio que la entidad pueda modificarlo o establecer la presentación de la oferta económica con un formulario distinto al indicado.] [Los proponentes emplearán el formulario establecido por la entidad para determinar su propuesta económica conforme al Formulario 1 - Presupuesto Oficial publicado por la Entidad]
C13: Cuando el proceso de contratación es estructurado por precios unitarios, la Entidad debe aplicar las notas 1, 2 y 3 del presente formato y las casillas de "Descripción", "Porcentaje" de la Administración, Imprevisto, Utilidad y total A.I.U. resaltadas en color amarillo.
C15: Nº | D15: ITEM DE PAGO | E15: ESPECIFICACIONES | G15: DESCRIPCION | H15: UND. | I15: CANTIDAD | J15: VALOR UNITARIO | K15: VALOR TOTAL
E16: GENERAL | F16: PARTICULAR
C17: 1 | D17: ROCERÍA | M17: 0.973
C18: 1.1 | D18: 1.1 | F18: 1.1 | G18: ROCERÍA Y LIMPIEZA MANUAL (INCLUYE DISPOSICIÓN FINALY FUMIGACION) | H18: M2 | I18: 392559.56 | J18: =+'Presupuesto Oficial LOTE 3'!N18 -> 97.3 | K18: =+J18*I18 -> 38196045
C19: Subtotal | K19: =+K18 -> 38196045
C20: 2 | D20: ESTRUCTURAS Y DRENAJES
C21: 2.1 | D21: 2.1 | F21: 2.1 | G21: LIMPIEZA Y REACONDICIONAMIENTO DE CANALES Y/O ZANJAS DE CORONACIÓN Y/O DISIPADORES Y/O BOX COULVERT REVESTIDOS Y NO REVESTIDOS (INCLUYE DISPOSICIÓN FINAL) | H21: ML | I21: 2400 | J21: =+'Presupuesto Oficial LOTE 3'!N21 -> 8270.5 | K21: =+J21*I21 -> 19849200
C22: Subtotal | K22: =+K21 -> 19849200
C23: 3 | D23: MANEJO PAISAJISTICO
C24: 3.1 | D24: 3.1 | F24: 3.1 | G24: JARDINERIA - INCLUYE LIMPIEZA MANUAL, DESYERBE, PLATEO, ABONO, RIEGO, PODA MENOR, FUMIGACION Y CONTROL DE PLAGAS | H24: M2 | I24: 30000 | J24: =+'Presupuesto Oficial LOTE 3'!N24 -> 350.28 | K24: =+J24*I24 -> 10508400
C25: 3.2 | D25: 3.2 | F25: 3.2 | G25: SIEMBRA DE ESPECIES NATIVAS | H25: UND | I25: 80 | J25: =+'Presupuesto Oficial LOTE 3'!N25 -> 21382.648 | K25: =+J25*I25 -> 1710611.8
C26: Subtotal | K26: =+K24+K25 -> 12219012
C27: SUBTOTAL OBRAS | K27: =+K26+K22+K19 -> 70264257
N29: =+K27/(1+K43) -> 54893951
N30: =+$N$29*K40 -> 11527730
N31: =+$N$29*K41 -> 1097879
G32: SUBTOTAL OBRAS (INCLUYE IVA) | K32: =+SUM(N29:N33) -> 70785750 | N32: =+$N$29*K42 -> 2744697.5
N33: =+N32*0.19 -> 521492.53
G36: VALOR TOTAL | K36: =+K32 -> 70785750
C39: NOTA 1: Se debe tener en cuenta que el PRECIO UNITARIO incluye el valor de A.I.U. | H39: DESCRIPCION | K39: PORCENTAJE
C40: NOTA 2: Cuando la fracción decimal del peso sea igual o superior a 5 se aproximara por exceso al número entero siguiente del peso y cuando la fracción decimal del peso sea inferior a 5 se aproximará por defecto al número entero del peso. | H40: ADMINISTRACION | J40: A= | K40: 0.21 | O40: =+K36/'Presupuesto Oficial LOTE 3'!K36 -> 0.97299999
C41: NOTA 3: El A.I.U y su discriminación deben estar en porcentaje (%). | H41: IMPREVISTO | J41: I= | K41: 0.02
H42: UTILIDAD | J42: U= | K42: 0.05
H43: TOTAL A.I.U | J43: A.I.U.= | K43: 0.28
G46: ARQ. HAWER ALBERTO HERRERA RODRIGUEZ CC. 93.365.845 de Ibagué Rep. Legal H.A.H CONSTRUCCIONES S.A.S

Sheet PRESUPUESTO OFICIAL (Entidad)
C3: Formulario 1 - Propuesta económica - Documento tipo de selección abreviada de menor cuantía - versión 2
C4: Código | D4: CCE-EICP-FM-25 | E4: Versión | F4: 2
C7: FORMULARIO 1
C8: PRESUPUESTO OFICIAL
C9: OBJETO: ADECUAR FRANJAS DE SEGURIDAD PISTA 01-19 EN EL AEROPUERTO AGUAS CLARAS DE OCAÑA
C13: Nº | D13: ÍTEM DE PAGO | E13: ESPECIFICACIONES | G13: DESCRIPCIÓN | H13: UND. | I13: CANTIDAD | J13: VALOR UNITARIO | K13: VALOR TOTAL
E14: GENERAL | F14: PARTICULAR
D16: 1.1 | F16: 1.1 | G16: LOCALIZACIÓN Y REPLANTEO | H16: GLB | I16: 1 | J16: 10000000 | K16: =ROUND(I16*J16,0) -> 10000000
D17: 1.2 | F17: 1.2 | G17: DESMONTE Y LIMIPEZA EN ZONAS NO BOSCOSAS | H17: Ha | I17: 1 | J17: 1600000 | K17: =ROUND(I17*J17,0) -> 1600000
D18: 1.3 | F18: 1.3 | G18: DEMOLICIÓN DE CONCRETO HIDRAULICO | H18: M3 | I18: 84 | J18: 25000 | K18: =ROUND(I18*J18,0) -> 2100000
D19: 1.4 | F19: 1.4 | G19: EXCAVACION MANUAL SIN CLASIFICAR | H19: M3 | I19: 20 | J19: 75127.64 | K19: =ROUND(I19*J19,0) -> 1502553
D20: 1.5 | F20: 1.5 | G20: SUMINISTRO E INSTALACIÓN BASE GRANULAR PARA ADECUACIÓN FRANJA DE SEGURIDAD | H20: M3 | I20: 1300 | J20: 195877.06 | K20: =ROUND(I20*J20,0) -> 254640177
D21: 1.6 | F21: 1.6 | G21: RELLENO CON MATERIAL PROVENIENTE DE LA EXCAVACIÓN | H21: M3 | I21: 50 | J21: 59000 | K21: =ROUND(I21*J21,0) -> 2950000
D22: 1.7 | F22: 1.7 | G22: TUBERIA PERFORADA 4 PLG | H22: ML | I22: 2500 | J22: 75000 | K22: =ROUND(I22*J22,0) -> 187500000
D23: 1.8 | F23: 1.8 | G23: GEOTEXTIL NO TEJIDO | H23: M2 | I23: 5000 | J23: 7500 | K23: =ROUND(I23*J23,0) -> 37500000
D24: 1.9 | F24: 1.9 | G24: RETIRO Y DISPOSICIÓN FINAL DE MATERIAL DE ESCOMBROS | H24: M3 | I24: 130 | J24: 65000 | K24: =J24*I24 -> 8450000
C25: Subtotal | K25: =SUM(K16:K24) -> 506242730
C26: SUBTOTAL OBRAS | K26: =+K25 -> 506242730
G30: SUBTOTAL OBRAS (INCLUYE IVA) | K30: 510000000
N33: =+#REF!*K39 -> #REF!
G34: VALOR TOTAL | K34: =K30 -> 510000000 | N34: =+#REF!*K40 -> #REF!
N35: =+#REF!*K41 -> #REF!
N36: =+N35*0.19 -> #REF!
C37: NOTA 1: Se debe tener en cuenta que el PRECIO UNITARIO incluye el valor de A.I.U. | H37: DESCRIPCION | K37: PORCENTAJE
C38: NOTA 2: Cuando la fracción decimal del peso sea igual o superior a 5 se aproximará por exceso al número entero siguiente del peso y cuando la fracción decimal del peso sea inferior a 5 se aproximará por defecto al número entero del peso. | H38: ADMINISTRACIÓN | J38: A= | K38: 0.21 | O38: =+#REF!/'Presupuesto Oficial LOTE 2'!K32 -> #REF!
C39: NOTA 3: El A.I.U y su discriminación deben estar en porcentaje (%). | H39: IMPREVISTOS | J39: I= | K39: 0.02
H40: UTILIDAD | J40: U= | K40: 0.05
H41: TOTAL A.I.U | J41: A.I.U.= | K41: =SUM(K38:K40) -> 0.28

Sheet PROPUESTA ECONOMICA(Proponente)
C3: Formulario 1 - Propuesta económica - Documento tipo de selección abreviada de menor cuantía - versión 2
C4: Código | D4: CCE-EICP-FM-25 | E4: Versión | F4: 2
C6: FORMULARIO 1
C7: PROPUESTA ECONOMICA
C8: [La entidad puede utilizar este formulario de presentación de propuesta económica de forma detallada, sin perjuicio que la entidad pueda modificarlo o establecer la presentación de la oferta económica con un formulario distinto al indicado.] [Los proponentes emplearán el formulario establecido por la entidad para determinar su propuesta económica conforme al Formulario 1 - Presupuesto Oficial publicado por la Entidad]
C10: Cuando el proceso de contratación es estructurado por precios unitarios, la Entidad debe aplicar las notas 1, 2 y 3 del presente formato y las casillas de "Descripción", "Porcentaje" de la Administración, Imprevisto, Utilidad y total A.I.U. resaltadas en color amarillo.
C12: Nº | D12: ITEM DE PAGO | E12: ESPECIFICACIONES | G12: DESCRIPCION | H12: UND. | I12: CANTIDAD | J12: VALOR UNITARIO | K12: VALOR TOTAL
E13: GENERAL | F13: PARTICULAR
C16: Subtotal
C22: Subtotal
C32: Subtotal
C37: Subtotal
C40: Subtotal
C41: SUBTOTAL OBRAS
G46: SUBTOTAL OBRAS (INCLUYE IVA)
G50: VALOR TOTAL
C53: NOTA 1: Se debe tener en cuenta que el PRECIO UNITARIO incluye el valor de A.I.U. | H53: DESCRIPCION | K53: PORCENTAJE
C54: NOTA 2: Cuando la fracción decimal del peso sea igual o superior a 5 se aproximara por exceso al número entero siguiente del peso y cuando la fracción decimal del peso sea inferior a 5 se aproximará por defecto al número entero del peso. | H54: ADMINISTRACION | J54: A= | K54: [Ofrecimiento del Proponente]
C55: NOTA 3: El A.I.U y su discriminación deben estar en porcentaje (%). | H55: IMPREVISTO | J55: I= | K55: [Ofrecimiento del Proponente]
H56: UTILIDAD | J56: U= | K56: [Ofrecimiento del Proponente]
H57: TOTAL A.I.U | J57: A.I.U.= | K57: [Ofrecimiento del Proponente]
G60: Firma del Proponente o de su Representante Legal

Sheet INDICAR CDIGO DEL ITEM DE PAGO
C3: Formulario 1 - Propuesta económica - Documento tipo de selección abreviada de menor cuantía - versión 2
C4: Código | D4: CCE-EICP-FM-25 | E4: Versión | F4: 2
C6: [La entidad podrá utilizar este formato para la presentación de los análisis de precios unitarios el contratista en la oportunidad prevista en el numeral 8.1. del Documento Base]
D9: [NOMBRE DE LA ENTIDAD]
L10: VERSIÓN
D11: [NÚMERO DEL PROCESO]
L12: PÁGINA | M12: 1 | N12: DE | O12: 1
D14: ANALISIS DE PRECIOS UNITARIOS
L16: FECHA | M16: DD | N16: MM | O16: AA
C18: ITEMS DE LA PROPUESTA ECONÓMICA | I18: ITEMS NO PREVISTOS
C22: DATOS ESPECÍFICOS
C24: ITEM | D24: DESCRIPCIÓN | M24: UNIDAD | O24: CANTIDAD
C26: I. EQUIPO
C29: DESCRIPCIÓN | H29: MARCA | J29: TIPO | L29: TARIFA/HORA | M29: RENDIMIENTO | O29: Vr. UNITARIO
C33: SUBTOTAL $
C34: II. MATERIALES
C37: DESCRIPCIÓN | K37: UNIDAD | L37: CANTIDAD | M37: PRECIO UNIT. | O37: Vr. UNITARIO
C40: SUBTOTAL $ | O40: 0
C41: III. TRANSPORTES
C44: MATERIAL | J44: VOL. o PESO | K44: DISTANCIA | L44: M3 o Ton/Km | M44: TARIFA | O44: Vr. UNITARIO
C47: SUBTOTAL $
C48: IV. MANO DE OBRA
C51: TRABAJADOR | J51: JORNAL | K51: PRESTACIONES | L51: JORNAL TOTAL | M51: RENDIMIENTO | O51: Vr. UNITARIO
C56: SUBTOTAL $
C58: TOTAL COSTO DIRECTO $
C59: V. COSTOS INDIRECTOS
C62: Descripción | L62: Porcentaje | M62: Valor Total
C63: ADMINISTRACION
C64: IMPREVISTOS
C65: UTILIDAD
C66: SUBTOTAL $
C68: Precio Unitario Total Aproximado al peso $
H72: Firma
H73: Nombre:
H74: Representante Legal del Contratista o su Apoderado
H75: Matricula No. :
C77: OBSERVACIONES INTERVENTORÍA
C81: APROBACIÓN POR INTERVENTORÍA
C82: Nota 1: Cuando se trate de Análisis de precios unitarios correspondientes a ítems de la propuesta económica aprobada, el Interventor aprueba el desglose de los componentes manteniendo el mismo precio unitario de cada ítem, cumpliendo con las especificaciones de construcción vigentes para el proyecto.
C84: Nota 2: Cuando se trate de Análisis de precios unitarios de ítems no previstos, el Interventor aprueba el desglose y precio unitario de cada ítem no previsto, exigiendo la aplicación de los costos correspondientes a insumos y tarifas de la propuesta económica inicial cuando estén contemplados, cumpliendo con las especificaciones de construcción vigente para el proyecto.
...

Sheet Propuesta Economica LOTE 1
C3: Formulario 1 - Propuesta económica - Documento tipo de selección abreviada de menor cuantía - versión 2
C4: Código | D4: CCE-EICP-FM-25 | E4: Versión | F4: 2
C7: FORMULARIO 1
C8: PROPUESTA ECONOMICA
C9: OBJETO: RSTC0274 MANTENER ZONAS DE SEGURIDAD, CANALES Y MANEJO PAISAJISTICO EN LOS EN LOS AEROPUERTOS DE SARAVENA, ARAUQUITA, TAME Y PUERTO RONDON (POR LOTES)
C10: LOTE 1: MANTENER ZONAS DE SEGURIDAD, CANALES Y MANEJO PAISAJISTICO EN EL AEROPUERTO VARGAS SANTOS DE TAME
C11: [La entidad puede utilizar este formulario de presentación de propuesta económica de forma detallada, sin perjuicio que la entidad pueda modificarlo o establecer la presentación de la oferta económica con un formulario distinto al indicado.] [Los proponentes emplearán el formulario establecido por la entidad para determinar su propuesta económica conforme al Formulario 1 - Presupuesto Oficial publicado por la Entidad]
C13: Cuando el proceso de contratación es estructurado por precios unitarios, la Entidad debe aplicar las notas 1, 2 y 3 del presente formato y las casillas de "Descripción", "Porcentaje" de la Administración, Imprevisto, Utilidad y total A.I.U. resaltadas en color amarillo.
C15: Nº | D15: ITEM DE PAGO | E15: ESPECIFICACIONES | G15: DESCRIPCION | H15: UND. | I15: CANTIDAD | J15: VALOR UNITARIO | K15: VALOR TOTAL
E16: GENERAL | F16: PARTICULAR | M16: 0.973
C17: 1 | D17: ROCERÍA
C18: 1.1 | D18: 1.1 | F18: 1.1 | G18: ROCERÍA Y LIMPIEZA MANUAL (INCLUYE DISPOSICIÓN FINALY FUMIGACION) | H18: M2 | I18: 379270.31 | J18: =+'Presupuesto Oficial LOTE 1'!N18 -> 97.3 | K18: =+J18*I18 -> 36903001
C19: Subtotal | K19: =+K18 -> 36903001
C20: 2 | D20: ESTRUCTURAS Y DRENAJES
C21: 2.1 | D21: 2.1 | F21: 2.1 | G21: LIMPIEZA Y REACONDICIONAMIENTO DE CANALES Y/O ZANJAS DE CORONACIÓN Y/O DISIPADORES Y/O BOX COULVERT REVESTIDOS Y NO REVESTIDOS (INCLUYE DISPOSICIÓN FINAL) | H21: ML | I21: 4600 | J21: =+'Presupuesto Oficial LOTE 1'!N21 -> 8270.5 | K21: =+J21*I21 -> 38044300
C22: Subtotal | K22: =+K21 -> 38044300
C23: 3 | D23: MANEJO PAISAJISTICO
C24: 3.1 | D24: 3.1 | F24: 3.1 | G24: JARDINERIA - INCLUYE LIMPIEZA MANUAL, DESYERBE, PLATEO, ABONO, RIEGO, PODA MENOR, FUMIGACION Y CONTROL DE PLAGAS | H24: M2 | I24: 30000 | J24: =+'Presupuesto Oficial LOTE 1'!N24 -> 350.28 | K24: =+J24*I24 -> 10508400
C25: 3.2 | D25: 3.2 | F25: 3.2 | G25: SIEMBRA DE ESPECIES NATIVAS | H25: UND | I25: 80 | J25: =+'Presupuesto Oficial LOTE 1'!N25 -> 21382.648 | K25: =+J25*I25 -> 1710611.8
C26: Subtotal | K26: =+K24+K25 -> 12219012
C27: SUBTOTAL OBRAS | K27: =+K26+K22+K19 -> 87166313
N29: =+K27/(1+K43) -> 68098682
N30: =+$N$29*K40 -> 14300723
N31: =+$N$29*K41 -> 1361973.6
G32: SUBTOTAL OBRAS (INCLUYE IVA) | K32: =+SUM(N29:N342) -> 87813250 | N32: =+$N$29*K42 -> 3404934.1
N33: =+N32*0.19 -> 646937.48
G36: VALOR TOTAL | K36: =+K32 -> 87813250
C39: NOTA 1: Se debe tener en cuenta que el PRECIO UNITARIO incluye el valor de A.I.U. | H39: DESCRIPCION | K39: PORCENTAJE | O39: =+K36/'Presupuesto Oficial LOTE 1'!K36 -> 0.97300001
C40: NOTA 2: Cuando la fracción decimal del peso sea igual o superior a 5 se aproximara por exceso al número entero siguiente del peso y cuando la fracción decimal del peso sea inferior a 5 se aproximará por defecto al número entero del peso. | H40: ADMINISTRACION | J40: A= | K40: 0.21
C41: NOTA 3: El A.I.U y su discriminación deben estar en porcentaje (%). | H41: IMPREVISTO | J41: I= | K41: 0.02
H42: UTILIDAD | J42: U= | K42: 0.05
H43: TOTAL A.I.U | J43: A.I.U.= | K43: 0.28
G46: ARQ. HAWER ALBERTO HERRERA RODRIGUEZ CC. 93.365.845 de Ibagué Rep. Legal H.A.H CONSTRUCCIONES S.A.S

Sheet INDICAR CÓDIGO DEL ITEM DE PAGO
C3: Formulario 1 - Propuesta económica - Documento tipo de selección abreviada de menor cuantía - versión 2
C4: Código | D4: CCE-EICP-FM-25 | E4: Versión | F4: 2
C6: [La entidad podrá utilizar este formato para la presentación de los análisis de precios unitarios el contratista en la oportunidad prevista en el numeral 8.1. del Documento Base]
D9: [NOMBRE DE LA ENTIDAD]
L10: VERSIÓN
D11: [NÚMERO DEL PROCESO]
L12: PÁGINA | M12: 1 | N12: DE | O12: 1
D14: ANALISIS DE PRECIOS UNITARIOS
L16: FECHA | M16: DD | N16: MM | O16: AA
C18: ITEMS DE LA PROPUESTA ECONÓMICA | I18: ITEMS NO PREVISTOS
C22: DATOS ESPECÍFICOS
C24: ITEM | D24: DESCRIPCIÓN | M24: UNIDAD | O24: CANTIDAD
C26: I. EQUIPO
C29: DESCRIPCIÓN | H29: MARCA | J29: TIPO | L29: TARIFA/HORA | M29: RENDIMIENTO | O29: Vr. UNITARIO
C33: SUBTOTAL $
C34: II. MATERIALES
C37: DESCRIPCIÓN | K37: UNIDAD | L37: CANTIDAD | M37: PRECIO UNIT. | O37: Vr. UNITARIO
C40: SUBTOTAL $ | O40: 0
C41: III. TRANSPORTES
C44: MATERIAL | J44: VOL. o PESO | K44: DISTANCIA | L44: M3 o Ton/Km | M44: TARIFA | O44: Vr. UNITARIO
C47: SUBTOTAL $
C48: IV. MANO DE OBRA
C51: TRABAJADOR | J51: JORNAL | K51: PRESTACIONES | L51: JORNAL TOTAL | M51: RENDIMIENTO | O51: Vr. UNITARIO
C56: SUBTOTAL $
C58: TOTAL COSTO DIRECTO $
C59: V. COSTOS INDIRECTOS
C62: Descripción | L62: Porcentaje | M62: Valor Total
C63: ADMINISTRACION
C64: IMPREVISTOS
C65: UTILIDAD
C66: SUBTOTAL $
C68: Precio Unitario Total Aproximado al peso $
H72: Firma
H73: Nombre:
H74: Representante Legal del Contratista o su Apoderado
H75: Matricula No. :
C77: OBSERVACIONES INTERVENTORÍA
C81: APROBACIÓN POR INTERVENTORÍA
C82: Nota 1: Cuando se trate de Análisis de precios unitarios correspondientes a ítems de la propuesta económica aprobada, el Interventor aprueba el desglose de los componentes manteniendo el mismo precio unitario de cada ítem, cumpliendo con las especificaciones de construcción vigentes para el proyecto.
C84: Nota 2: Cuando se trate de Análisis de precios unitarios de ítems no previstos, el Interventor aprueba el desglose y precio unitario de cada ítem no previsto, exigiendo la aplicación de los costos correspondientes a insumos y tarifas de la propuesta económica inicial cuando estén contemplados, cumpliendo con las especificaciones de construcción vigente para el proyecto.
...
