Workbook

Sheet FESTIVAL DE DANZA
B2: VI FESTIVAL NACIONAL DE DANZA "LABRANDO DANZA-TERRITORIOS BIOCULTURALES" JULIO 31 , 1 Y 2 DE AGOSTO
G3: SOUND CONCERT | K3: FUNDA GUALIVA | M3: JUGANDO ENSERIO
B4: N° | C4: ITEM | D4: DESCRIPCIÓN | E4: UNIDAD | F4: CANTIDAD | G4: PRECIO PROMEDIO UNIDAD CON IMPUESTOS | H4: PRECIO PROMEDIO UNIDAD CON IMPUESTOS | I4: TOTAL CON IMPUESTOS | J4: TOTAL CON IMPUESTOS | K4: PRECIO PROMEDIO UNIDAD CON IMPUESTOS | L4: TOTAL CON IMPUESTOS | M4: PRECIO PROMEDIO UNIDAD CON IMPUESTOS | N4: TOTAL CON IMPUESTOS | O4: PRESUPUESTO
B5: 1 | C5: ALOJAMIENTO | D5: Alojamiento en el municipio de Tenjo o municipio cercano al lugar de desarrollo del evento en acomodaciones Multiple con baño, WIFI, Zonas Comunes, TV, Seguro hotelero. | E5: UNIDADES | F5: 490 | G5: 156000 | H5: =(G5*9%)+G5 -> 170040 | I5: =H5*F5 -> 83319600 | J5: =G5*F5 -> 76440000 | K5: =(H5*5%)+H5 -> 178542 | L5: =+K5*F5 -> 87485580 | M5: =(K5*3%)+K5 -> 183898.26 | N5: =+M5*F5 -> 90110147 | O5: =+ROUND(((I5+L5+N5)/3),0) -> 86971776
B6: 2 | C6: DESAYUNOS | D6: Huevos o caldo o tamal, 1 porcion de fruta, 1 bebida caliente de 9 oz café, chocolate, aguapanela acompañado de un carbohidrato de minimo de 120 gramos. | E6: UNIDADES | F6: 610 | G6: 28120 | H6: =(G6*9%)+G6 -> 30650.8 | I6: =H6*F6 -> 18696988 | J6: =G6*F6 -> 17153200 | K6: =(H6*5%)+H6 -> 32183.34 | L6: =+K6*F6 -> 19631837 | M6: =(K6*3%)+K6 -> 33148.84 | N6: =+M6*F6 -> 20220793 | O6: =+ROUND(((I6+L6+N6)/3),0) -> 19516539
B7: 3 | C7: REFRIGERIO | D7: Sandwich hechos con dos (2) rebanadas de pan blanco blando rectangular, una lonja de jamon de pollo, cordero, cerodo o pavo (de 20 gramos) y una revanadas de queso mozarela (de 20 gramos) o amasijo, o pastel de pollo, o empandas o pastel de yuca, Bebida de 200 ml bajo en azucar y fruta de cosecha (mandarina, banano, durazno, pera) | E7: UNIDADES | F7: 1000 | G7: 18500 | H7: =(G7*9%)+G7 -> 20165 | I7: =H7*F7 -> 20165000 | J7: =G7*F7 -> 18500000 | K7: =(H7*5%)+H7 -> 21173.25 | L7: =+K7*F7 -> 21173250 | M7: =(K7*3%)+K7 -> 21808.447 | N7: =+M7*F7 -> 21808448 | O7: =+ROUND(((I7+L7+N7)/3),0) -> 21048899
B8: 4 | C8: ALMUERZO | D8: 200 gramos de proteina (pechuga de pollo, carne, pavo a la plancha), 160 gramos de legumbre , 100 gramos de ensalada, 100 gramos de papa o platano. Una porcion de arroz blanco o verde, bebida: jugo natural de 10 onzas de fruta o bebida de 200 ml bajo en azucar y postre. | E8: UNIDADES | F8: 610 | G8: 29600 | H8: =(G8*9%)+G8 -> 32264 | I8: =H8*F8 -> 19681040 | J8: =G8*F8 -> 18056000 | K8: =(H8*5%)+H8 -> 33877.2 | L8: =+K8*F8 -> 20665092 | M8: =(K8*3%)+K8 -> 34893.516 | N8: =+M8*F8 -> 21285045 | O8: =+ROUND(((I8+L8+N8)/3),0) -> 20543726
B9: 5 | C9: CENA | D9: 200 gramos de proteina (pechuga de pollo, carne, pavo a la plancha), 160 gramos de legumbre, 90 gramos de ensalada, 90 gramos de pap/platano, una porcion de arroz blanco o verde, bebida: jugo natural de 10 onzas de fruta de cosecha o bebida de 200 ml bajo en azucar. | E9: UNIDADES | F9: 610 | G9: 29600 | H9: =(G9*9%)+G9 -> 32264 | I9: =H9*F9 -> 19681040 | J9: =G9*F9 -> 18056000 | K9: =(H9*5%)+H9 -> 33877.2 | L9: =+K9*F9 -> 20665092 | M9: =(K9*3%)+K9 -> 34893.516 | N9: =+M9*F9 -> 21285045 | O9: =+ROUND(((I9+L9+N9)/3),0) -> 20543726
B10: 6 | C10: HIDRATACION | D10: Botellas de agua potable de 300 ml | E10: UNIDADES | F10: 2500 | G10: 890.5 | H10: =(G10*9%)+G10 -> 970.645 | I10: =H10*F10 -> 2426612.5 | J10: =G10*F10 -> 2226250 | K10: =(H10*5%)+H10 -> 1019.1772 | L10: =+K10*F10 -> 2547943.1 | M10: =(K10*3%)+K10 -> 1049.7526 | N10: =+M10*F10 -> 2624381.4 | O10: =+ROUND(((I10+L10+N10)/3),0) -> 2532979
B11: 7 | C11: CERTIFICADO DEL EVENTO | D11: Tamaño carta en propalcote de 200gr full color según diseño enviado por la organización del evento. Para los grupos participantes al encuentro son 40 y para el Concurso Nacional de Danza Folclórica son 20 | E11: UNIDADES | F11: 50 | G11: 9672 | H11: =(G11*9%)+G11 -> 10542.48 | I11: =H11*F11 -> 527124 | J11: =G11*F11 -> 483600 | K11: =(H11*5%)+H11 -> 11069.604 | L11: =+K11*F11 -> 553480.2 | M11: =(K11*3%)+K11 -> 11401.692 | N11: =+M11*F11 -> 570084.61 | O11: =+ROUND(((I11+L11+N11)/3),0) -> 550230
B12: 8 | C12: VOLANTES | D12: Tamaño 14*21 cm en propalcote full color para la promoción del evento. Según diseño enviado por la organización del evento. | E12: UNIDADES | F12: 2000 | G12: 327.6 | H12: =(G12*9%)+G12 -> 357.084 | I12: =H12*F12 -> 714168 | J12: =G12*F12 -> 655200 | K12: =(H12*5%)+H12 -> 374.9382 | L12: =+K12*F12 -> 749876.4 | M12: =(K12*3%)+K12 -> 386.18635 | N12: =+M12*F12 -> 772372.69 | O12: =+ROUND(((I12+L12+N12)/3),0) -> 745472
B13: 9 | C13: ZONA INSTAGRAMEABLE | D13: Vinilo impreso adhesivo. Full color. 400 cm ancho x 2.30 cm alto x 50cm prof. Base de 60x40cm prof. | E13: UNIDADES | F13: 2 | G13: 2496000 | H13: =(G13*9%)+G13 -> 2720640 | I13: =H13*F13 -> 5441280 | J13: =G13*F13 -> 4992000 | K13: =(H13*5%)+H13 -> 2856672 | L13: =+K13*F13 -> 5713344 | M13: =(K13*3%)+K13 -> 2942372.2 | N13: =+M13*F13 -> 5884744.3 | O13: =+ROUND(((I13+L13+N13)/3),0) -> 5679789
B14: 10 | C14: MANILLAS | D14: Manillas en Tyvek o vinilo,color rojo. Cierre adhesivo en la punta para ajuste seguro. Marcadas con el texto: "TENJO 2025" en impresión resistente. | E14: UNIDADES | F14: 500 | G14: 546 | H14: =(G14*9%)+G14 -> 595.14 | I14: =H14*F14 -> 297570 | J14: =G14*F14 -> 273000 | K14: =(H14*5%)+H14 -> 624.897 | L14: =+K14*F14 -> 312448.5 | M14: =(K14*3%)+K14 -> 643.64391 | N14: =+M14*F14 -> 321821.95 | O14: =+ROUND(((I14+L14+N14)/3),0) -> 310613
B15: 11 | C15: DECORACIÓN DEL ESCENARIO PRINCIPAL | D15: Decoración del escenario principal con telas, globos, flores y demas elementos de decoración referente a la linea grafica del evento con previa autorizacion y acordada por el supervisor del evento. | E15: UNIDADES | F15: 1 | G15: 5460000 | H15: =(G15*9%)+G15 -> 5951400 | I15: =H15*F15 -> 5951400 | J15: =G15*F15 -> 5460000 | K15: =(H15*5%)+H15 -> 6248970 | L15: =+K15*F15 -> 6248970 | M15: =(K15*3%)+K15 -> 6436439.1 | N15: =+M15*F15 -> 6436439.1 | O15: =+ROUND(((I15+L15+N15)/3),0) -> 6212270
B16: 12 | C16: Pantalla LED Vertical, tipo pendon digital 1.2 m * 2 m | D16: Estructura tipo totem, pantalla LED vertical con instalacion y desinstalacion para difusion de contenido digital entregado por la entidad. Con conextiones electricas y dispositivos para reproduccion desde USB. Servicio tres dias. (3 por dia) | E16: UNIDADES | F16: 6 | G16: 2184000 | H16: =(G16*9%)+G16 -> 2380560 | I16: =H16*F16 -> 14283360 | J16: =G16*F16 -> 13104000 | K16: =(H16*5%)+H16 -> 2499588 | L16: =+K16*F16 -> 14997528 | M16: =(K16*3%)+K16 -> 2574575.6 | N16: =+M16*F16 -> 15447454 | O16: =+ROUND(((I16+L16+N16)/3),0) -> 14909447
... B40: 36 | C40: SAYCO | D40: Pago correspondiente a SAYCO Y ACIMPRO | E40: UNIDADES | F40: 1 | G40: 6850000 | H40: =(G40*9%)+G40 -> 7466500 | I40: =H40*F40 -> 7466500 | J40: =G40*F40 -> 6850000 | K40: =(H40*5%)+H40 -> 7839825 | L40: =+K40*F40 -> 7839825 | M40: =(K40*3%)+K40 -> 8075019.8 | N40: =+M40*F40 -> 8075019.8 | O40: =+ROUND(((I40+L40+N40)/3),0) -> 7793782
B41: TOTAL
B42: ENCUENTRO DE POESIA Y ESCRITURA -COROS (AGOSTO 27, 28 y 29)
B43: N° | C43: ITEM | D43: DESCRIPCIÓN | E43: UNIDAD | F43: CANTIDAD | G43: PRECIO PROMEDIO UNIDAD CON IMPUESTOS | H43: PRECIO PROMEDIO UNIDAD CON IMPUESTOS | I43: TOTAL CON IMPUESTOS | J43: TOTAL CON IMPUESTOS | K43: PRECIO PROMEDIO UNIDAD CON IMPUESTOS | L43: TOTAL CON IMPUESTOS | M43: PRECIO PROMEDIO UNIDAD CON IMPUESTOS | N43: TOTAL CON IMPUESTOS
B44: 1 | C44: VINO | D44: Cabernet Sauvignon de 750 ML, aroma intenso, repleto de frutos rojos, bayas, cerezas y casis | E44: UNIDADES | F44: 10 | G44: 32760 | H44: =(G44*9%)+G44 -> 35708.4 | I44: =H44*F44 -> 357084 | J44: =G44*F44 -> 327600 | K44: =(H44*4%)+H44 -> 37136.736 | L44: =+K44*F44 -> 371367.36 | M44: =(K44*3%)+K44 -> 38250.838 | N44: =+M44*F44 -> 382508.38 | O44: =+ROUND(((I44+L44+N44)/3),0) -> 370320
B45: 2 | C45: TABLAS DE QUESOS, CARNES, FRUTAS Y SEMILLAS | D45: Jamón Mixto Día a Día x 300 g Salchicha de Cerdo Ahumada Maestro x 288 g Jamón de pechuga de pollo Maestro 225 g Queso gouda en cubos 1 taza de uvas 1/2 taza de mermelada de frutos rojos 1 paquete de galletas crackers 1/2 taza de frutos rojos Queso Tilsit | E45: UNIDADES | F45: 10 | G45: 325187.08 | H45: =(G45*9%)+G45 -> 354453.92 | I45: =H45*F45 -> 3544539.2 | J45: =G45*F45 -> 3251870.8 | K45: =(H45*4%)+H45 -> 368632.07 | L45: =+K45*F45 -> 3686320.7 | M45: =(K45*3%)+K45 -> 379691.04 | N45: =+M45*F45 -> 3796910.4 | O45: =+ROUND(((I45+L45+N45)/3),0) -> 3675923
B46: 3 | C46: COPAS | D46: Copa desechable champanera plastica desechable | E46: UNIDADES | F46: 150 | G46: 2340 | H46: =(G46*9%)+G46 -> 2550.6 | I46: =H46*F46 -> 382590 | J46: =G46*F46 -> 351000 | K46: =(H46*4%)+H46 -> 2652.624 | L46: =+K46*F46 -> 397893.6 | M46: =(K46*3%)+K46 -> 2732.2027 | N46: =+M46*F46 -> 409830.41 | O46: =+ROUND(((I46+L46+N46)/3),0) -> 396771
B47: 4 | C47: AGUA | D47: Botella de agua 300 ml | E47: UNIDADES | F47: 200 | G47: 890.5 | H47: =(G47*9%)+G47 -> 970.645 | I47: =H47*F47 -> 194129 | J47: =G47*F47 -> 178100 | K47: =(H47*4%)+H47 -> 1009.4708 | L47: =+K47*F47 -> 201894.16 | M47: =(K47*3%)+K47 -> 1039.7549 | N47: =+M47*F47 -> 207950.98 | O47: =+ROUND(((I47+L47+N47)/3),0) -> 201325
B48: 5 | C48: ALMUERZOS | D48: 200 gramos de proteina (pechuga de pollo, carne, pavo a la plancha), 160 gramos de legumbre , 90 gramos de ensalada, 90 gramos de papa o platano. Una porcion de arroz blanco o verde, bebida: jugo natural de 10 onzas de fruta o bebida de 200 ml bajo en azucar y postre. | E48: UNIDADES | F48: 200 | G48: 29600 | H48: =(G48*9%)+G48 -> 32264 | I48: =H48*F48 -> 6452800 | J48: =G48*F48 -> 5920000 | K48: =(H48*4%)+H48 -> 33554.56 | L48: =+K48*F48 -> 6710912 | M48: =(K48*3%)+K48 -> 34561.197 | N48: =+M48*F48 -> 6912239.4 | O48: =+ROUND(((I48+L48+N48)/3),0) -> 6691984
B49: 6 | C49: CERTIFICADO PARTICIPACION | D49: Tamaño carta en propalcote de 200gr full color según diseño enviado por la organización del evento | E49: UNIDADES | F49: 60 | G49: 9672 | H49: =(G49*9%)+G49 -> 10542.48 | I49: =H49*F49 -> 632548.8 | J49: =G49*F49 -> 580320 | K49: =(H49*4%)+H49 -> 10964.179 | L49: =+K49*F49 -> 657850.75 | M49: =(K49*3%)+K49 -> 11293.105 | N49: =+M49*F49 -> 677586.27 | O49: =+ROUND(((I49+L49+N49)/3),0) -> 655995
B50: 7 | C50: PREMIO PARTICIPANTES POESIA | D50: Incentivo económico para las propuestas gandoras del encuentro de poesía 2025. | E50: UNIDADES | F50: 21 | G50: 411000 | H50: =(G50*9%)+G50 -> 447990 | I50: =H50*F50 -> 9407790 | J50: =G50*F50 -> 8631000 | K50: =(H50*4%)+H50 -> 465909.6 | L50: =+K50*F50 -> 9784101.6 | M50: =(K50*3%)+K50 -> 479886.89 | N50: =+M50*F50 -> 10077625 | O50: =+ROUND(((I50+L50+N50)/3),0) -> 9756505
B51: 8 | C51: RECORDATORIO | D51: Reconocimiento de participacion único que combine la temática de el encuentro de poesia, concurso de escritura y encuentro de coros con tematica que represente "los sentidos" . El reconocimiento debe ser tipo trofeo que simbolice la conexión entre la música, la escritura y los cinco sentidos (vista, oído, tacto, olfato y gusto), Debe ser una pieza artística, moderna y significativa para los participantes, Ligero pero robusto y fácil de transportar, el diseño debe ser aprobado por la entidad. | E51: UNIDADES | F51: 40 | G51: 78000 | H51: =(G51*9%)+G51 -> 85020 | I51: =H51*F51 -> 3400800 | J51: =G51*F51 -> 3120000 | K51: =(H51*4%)+H51 -> 88420.8 | L51: =+K51*F51 -> 3536832 | M51: =(K51*3%)+K51 -> 91073.424 | N51: =+M51*F51 -> 3642937 | O51: =+ROUND(((I51+L51+N51)/3),0) -> 3526856
B52: 9 | C52: LIBRO PERGAMINO | D52: Impresión Tipo libro, portada blanda plastificada en mate con impresión a color de los poemas ganadores como memoria del evento, en papel pergamino o similar de tamaño carta que contenga los logos del evento y logos institutcionales diseño enviado por la entidad | E52: UNIDADES | F52: 3 | G52: 93600 | H52: =(G52*9%)+G52 -> 102024 | I52: =H52*F52 -> 306072 | J52: =G52*F52 -> 280800 | K52: =(H52*4%)+H52 -> 106104.96 | L52: =+K52*F52 -> 318314.88 | M52: =(K52*3%)+K52 -> 109288.11 | N52: =+M52*F52 -> 327864.33 | O52: =+ROUND(((I52+L52+N52)/3),0) -> 317417
B53: 10 | C53: JURADO | D53: Profesional del campo literario con experiencia en escritura, edición, docencia o curaduría literaria, dedicado(a) al fomento de la lectura, la escritura creativa y el desarrollo de nuevas voces narrativas. | E53: PERSONA | F53: 2 | G53: 3425000 | H53: =(G53*9%)+G53 -> 3733250 | I53: =H53*F53 -> 7466500 | J53: =G53*F53 -> 6850000 | K53: =(H53*4%)+H53 -> 3882580 | L53: =+K53*F53 -> 7765160 | M53: =(K53*3%)+K53 -> 3999057.4 | N53: =+M53*F53 -> 7998114.8 | O53: =+ROUND(((I53+L53+N53)/3),0) -> 7743258
B54: 11 | C54: ARTISTA ENCUENTRO POESIA | D54: Agrupación musical interdisciplinaria que entrelaza la música y la poesía como lenguajes complementarios de expresión y memoria. Que propuesta artística nazca del deseo de explorar el poder evocador de la palabra hablada y cantada, tejiendo de esta manera repertorios en los que la sonoridad del texto y la musicalidad de la composición se funden en una misma experiencia estética. A través de la voz, los instrumentos y la escenificación, la agrupación da vida a poetas clásicos y contemporáneos, así como a creaciones propias que dialogan con lo íntimo, lo social y lo simbólico. Con una sensibilidad particular por la palabra, que convierte cada presentación en un viaje sonoro y poético que invita al público a escuchar con el oído, el cuerpo y el alma. | E54: AGRUPACIÓN | F54: 1 | G54: 6850000 | H54: =(G54*9%)+G54 -> 7466500 | I54: =H54*F54 -> 7466500 | J54: =G54*F54 -> 6850000 | K54: =(H54*4%)+H54 -> 7765160 | L54: =+K54*F54 -> 7765160 | M54: =(K54*3%)+K54 -> 7998114.8 | N54: =+M54*F54 -> 7998114.8 | O54: =+ROUND(((I54+L54+N54)/3),0) -> 7743258
B55: 12 | C55: TALLERISTA | D55: Compositor y creador interdisciplinar cuya obra transita entre la música y la palabra poética, tejiendo sonidos que nacen del verso y melodías que respiran literatura. Que su trabajo se caractericé por la exploración de la musicalidad del lenguaje, el ritmo del texto y la resonancia emocional de la palabra escrita, convirtiendo la poesía en partitura viva. Que haya compuesto para voz, ensambles de cámara y formatos corales, llevando la poesía a nuevas dimensiones escénicas y sonoras. Con formación en composición y una profunda sensibilidad literaria, con enfoque creativo que una tradición y experimentación, que en su trayectoria haya logrado que el oyente no solo escuche, sino que sienta y recuerde. | E55: PERSONA | F55: 1 | G55: 1370000 | H55: =(G55*9%)+G55 -> 1493300 | I55: =H55*F55 -> 1493300 | J55: =G55*F55 -> 1370000 | K55: =(H55*4%)+H55 -> 1553032 | L55: =+K55*F55 -> 1553032 | M55: =(K55*3%)+K55 -> 1599623 | N55: =+M55*F55 -> 1599623 | O55: =+ROUND(((I55+L55+N55)/3),0) -> 1548652
... B59: 16 | C59: EXPOSICION PARTE 2 | D59: Zona interactiva: Domo aeroinflable inmersivo: Instalación interactiva compuesta por un domo aeroinflable de 8 metros de diámetro, diseñado para ofrecer una experiencia inmersiva alrededor del concepto “Hogar como territorio biocultural”. El espacio contará con proyección audiovisual y sistema de sonido ambiental, permitiendo la reproducción de contenidos poéticos, visuales y sonoros relacionados con la memoria, el territorio, la naturaleza y el hogar. La experiencia estará dirigida a público de todas las edades, generando un ambiente de contemplación, interacción y encuentro cultural mediante imágenes, paisajes sonoros y narrativas audiovisuales. El servicio incluye transporte, montaje, desmontaje, proyector de video, sistema de sonido, operación técnica y funcionamiento durante dos (2) días del evento. | E59: KIT | F59: 1 | G59: 4084080 | H59: =(G59*9%)+G59 -> 4451647.2 | I59: =H59*F59 -> 4451647.2 | J59: =G59*F59 -> 4084080 | K59: =(H59*4%)+H59 -> 4629713.1 | L59: =+K59*F59 -> 4629713.1 | M59: =(K59*3%)+K59 -> 4768604.5 | N59: =+M59*F59 -> 4768604.5 | O59: =+ROUND(((I59+L59+N59)/3),0) -> 4616655
B60: TOTAL
B61: CINE CHICÚ (SEPTIEMBRE del 4 al 12)
B62: N° | C62: ITEM | D62: DESCRIPCIÓN | E62: UNIDAD | F62: CANTIDAD | G62: PRECIO PROMEDIO UNIDAD CON IMPUESTOS | H62: PRECIO PROMEDIO UNIDAD CON IMPUESTOS | I62: TOTAL CON IMPUESTOS | J62: TOTAL CON IMPUESTOS | K62: PRECIO PROMEDIO UNIDAD CON IMPUESTOS | L62: TOTAL CON IMPUESTOS | M62: PRECIO PROMEDIO UNIDAD CON IMPUESTOS | N62: TOTAL CON IMPUESTOS
B63: 1 | C63: JURADOS | D63: Realizador/a audiovisual con minimo de 5 años de trayectoria profesional y humana en el área de la cinematografía y/o la crítica cinematográfica para la evaluación de las obras en competencia de Cine Chicú. | E63: UNIDAD | F63: 3 | G63: 2740000 | H63: =(G63*9%)+G63 -> 2986600 | I63: =H63*F63 -> 8959800 | J63: =G63*F63 -> 8220000 | K63: =(H63*4%)+H63 -> 3106064 | L63: =+K63*F63 -> 9318192 | M63: =(K63*3%)+K63 -> 3199245.9 | N63: =+M63*F63 -> 9597737.8 | O63: =+ROUND(((I63+L63+N63)/3),0) -> 9291910
B64: 2 | C64: TALLERISTA | D64: Un/a Realizador/a audiovisual con amplia trayectoria profesional y humana en el área de la cinematografía y la enseñanza audiovisual para realizar un taller en el marco del evento y un/a fotógrafo/a con amplia trayectoria profesional y humana y experiencia en enseñanza práctica de la fotografía para realizar un taller en el marco del evento. | E64: UNIDAD | F64: 1 | G64: 1370000 | H64: =(G64*9%)+G64 -> 1493300 | I64: =H64*F64 -> 1493300 | J64: =G64*F64 -> 1370000 | K64: =(H64*4%)+H64 -> 1553032 | L64: =+K64*F64 -> 1553032 | M64: =(K64*3%)+K64 -> 1599623 | N64: =+M64*F64 -> 1599623 | O64: =+ROUND(((I64+L64+N64)/3),0) -> 1548652
B65: 3 | C65: INCENTIVOS | D65: Mejor Cortometraje Internacional | E65: UNIDAD | F65: 1 | G65: 6850000 | H65: =(G65*9%)+G65 -> 7466500 | I65: =H65*F65 -> 7466500 | J65: =G65*F65 -> 6850000 | K65: =(H65*4%)+H65 -> 7765160 | L65: =+K65*F65 -> 7765160 | M65: =(K65*3%)+K65 -> 7998114.8 | N65: =+M65*F65 -> 7998114.8 | O65: =+ROUND(((I65+L65+N65)/3),0) -> 7743258
B66: 4 | C66: INCENTIVOS | D66: Mejor Cortometraje Nacional | E66: UNIDAD | F66: 1 | G66: 6850000 | H66: =(G66*9%)+G66 -> 7466500 | I66: =H66*F66 -> 7466500 | J66: =G66*F66 -> 6850000 | K66: =(H66*4%)+H66 -> 7765160 | L66: =+K66*F66 -> 7765160 | M66: =(K66*3%)+K66 -> 7998114.8 | N66: =+M66*F66 -> 7998114.8 | O66: =+ROUND(((I66+L66+N66)/3),0) -> 7743258
B67: 5 | C67: INCENTIVOS | D67: Mejor Cortometraje Tenjano | E67: UNIDAD | F67: 1 | G67: 8220000 | H67: =(G67*9%)+G67 -> 8959800 | I67: =H67*F67 -> 8959800 | J67: =G67*F67 -> 8220000 | K67: =(H67*4%)+H67 -> 9318192 | L67: =+K67*F67 -> 9318192 | M67: =(K67*3%)+K67 -> 9597737.8 | N67: =+M67*F67 -> 9597737.8 | O67: =+ROUND(((I67+L67+N67)/3),0) -> 9291910
...

Sheet Hoja1
A1: TOTAL EVENTOS 2026 IMCTT
A2: 1 | B2: DANZA | C2: ='FESTIVAL DE DANZA'!J41 -> 0
A3: 2 | B3: POESIA-COROS | C3: ='FESTIVAL DE DANZA'!J60 -> 0
A4: 3 | B4: CINE | C4: ='FESTIVAL DE DANZA'!J89 -> 0
A5: 4 | B5: FORO | C5: ='FESTIVAL DE DANZA'!J118 -> 0
A6: 5 | B6: SALON | C6: ='FESTIVAL DE DANZA'!J137 -> 0
A7: 6 | B7: RUANA | C7: ='FESTIVAL DE DANZA'!J155 -> 0
A8: 7 | B8: TEATRO | C8: ='FESTIVAL DE DANZA'!#REF! -> #REF!
C9: =SUM(C2:C8) -> #REF! | D9: TOTAL
B10: RUBROS | C10: VALORES
B11: 220 | C11: 1372725251
B12: foro | C12: 40000000
B13: funcionamiento | C13: 20550000
B14: 209 | C14: 30000000
C15: =SUM(C11:C14) -> 1463275251 | D15: TOTAL
C16: =C9-C15 -> #REF!
