Workbook
Name MI: 'PPTO PROPUESTA'!#REF!,'PPTO PROPUESTA'!#REF!,'PPTO PROPUESTA'!#REF!,'PPTO PROPUESTA'!#REF!,'PPTO PROPUESTA'!#REF!,'PPTO PROPUESTA'!#REF!,'PPTO PROPUESTA'!#REF!
Name MI: PRESUPUESTO!$C$232,PRESUPUESTO!$C$235,PRESUPUESTO!$C$230,PRESUPUESTO!$C$228,PRESUPUESTO!$C$227,PRESUPUESTO!$C$75,PRESUPUESTO!$C$76
Name MI: 'PROPUESTA ECONOMICA'!#REF!,'PROPUESTA ECONOMICA'!#REF!,'PROPUESTA ECONOMICA'!#REF!,'PROPUESTA ECONOMICA'!#REF!,'PROPUESTA ECONOMICA'!#REF!,'PROPUESTA ECONOMICA'!#REF!,'PROPUESTA ECONOMICA'!#REF!
Name ML: 'PPTO PROPUESTA'!#REF!,'PPTO PROPUESTA'!#REF!,'PPTO PROPUESTA'!#REF!,'PPTO PROPUESTA'!#REF!,'PPTO PROPUESTA'!#REF!,'PPTO PROPUESTA'!#REF!,'PPTO PROPUESTA'!#REF!
Name ML: PRESUPUESTO!$C$232,PRESUPUESTO!$C$235,PRESUPUESTO!$C$230,PRESUPUESTO!$C$228,PRESUPUESTO!$C$227,PRESUPUESTO!$C$75,PRESUPUESTO!$C$76
Name ML: 'PROPUESTA ECONOMICA'!#REF!,'PROPUESTA ECONOMICA'!#REF!,'PROPUESTA ECONOMICA'!#REF!,'PROPUESTA ECONOMICA'!#REF!,'PROPUESTA ECONOMICA'!#REF!,'PROPUESTA ECONOMICA'!#REF!,'PROPUESTA ECONOMICA'!#REF!

Sheet PRESUPUESTO RESUMIDO
A1: =ROTULOS!A1 -> MANTENIMIENTO, MEJORAMIENTO Y ADECUACIÓN DE LA SEDE EDUCATIVA PRIMAVERA DEL MUNICIPIO DE SALADOBLANCO DEPARTAMENTO DEL HUILA
A2: =ROTULOS!A2 -> PRESUPUESTO DE OBRA
A3: =ROTULOS!A3 -> 0
A4: ITEM | B4: CUBS | C4: ACTIVIDAD | D4: UND | E4: VR. UNT. | F4: CANT. | G4: VR. PARCIAL
B5: 1 | C5: PRELIMINARES
B6: 3.3.1.6.0 | C6: Localización y replanteo topografico | D6: M2 | E6: =#REF! -> #REF! | G6: =E6*F6 -> #REF!
B7: 3,3.1,6,0 | C7: =+#REF! -> #REF! | D7: M2 | E7: =+#REF! -> #REF! | G7: =E7*F7 -> #REF!
B8: 3.3.1.6.0 | C8: =+#REF! -> #REF! | D8: =+#REF! -> #REF! | E8: =+#REF! -> #REF! | G8: =E8*F8 -> #REF!
B9: 3.3.1.2.2 | C9: =+#REF! -> #REF! | D9: M2 | E9: =#REF! -> #REF! | G9: =E9*F9 -> #REF!
B11: 2 | C11: DEMOLICIONES Y DESMONTE DE ELEMENTOS
B12: 3.3.1.1.8 | C12: Demolición muros e-0.15m, con retiro | D12: M2 | E12: =#REF! -> #REF! | G12: =E12*F12 -> #REF!
B13: 3.3.1.1.7 | C13: Demolición muros e=0.25m, con retiro | D13: M2 | E13: =#REF! -> #REF! | G13: =E13*F13 -> #REF!
B14: 3.3-1.1.0 | C14: Demolición de enchape y revoque, con retiro | D14: M2 | E14: =#REF! -> #REF! | G14: =E14*F14 -> #REF!
B15: 3.3.1.1.12 | C15: Demolición placa de piso concreto e=0.10m, incluye retiro | D15: M2 | E15: =#REF! -> #REF! | G15: =E15*F15 -> #REF!
B16: 3.3.1.1.0 | C16: Demolición mecánica placa concreto e = .20m, incluye retiro | D16: M2 | E16: =#REF! -> #REF! | G16: =E16*F16 -> #REF!
B17: 3.3.1.1.0 | C17: =+#REF! -> #REF! | D17: M2 | E17: =#REF! -> #REF! | G17: =E17*F17 -> #REF!
B18: 3.3.1.1.0 | C18: Retiro de escombros hasta 3Km | D18: M3 | E18: =#REF! -> #REF! | G18: =E18*F18 -> #REF!
B19: 3.3.1.1.0 | C19: Demolición mecánica de concreto ciclópeo | D19: M3 | E19: =#REF! -> #REF! | G19: =E19*F19 -> #REF!
B20: 3.3.1.1.0 | C20: Demolición mecánica viga concreto armado | D20: M3 | E20: =#REF! -> #REF! | G20: =E20*F20 -> #REF!
B21: 3.3.1.1.2 | C21: =+#REF! -> #REF! | D21: =+#REF! -> #REF! | E21: =#REF! -> #REF! | G21: =E21*F21 -> #REF!
B22: 3.3.1.1.3 | C22: =+#REF! -> #REF! | D22: =+#REF! -> #REF! | E22: =+#REF! -> #REF! | G22: =E22*F22 -> #REF!
C23: Desmonte de cielo falso en madera,incluye desmonte de estructura en madera y retiro de escombros | D23: M2 | E23: =#REF! -> #REF! | G23: =E23*F23 -> #REF!
C24: Desmonte de cubierta en teja de barro ,incluye desmonte de estructura en madera y retiro de escombros | D24: M2 | E24: =#REF! -> #REF! | G24: =E24*F24 -> #REF!
B25: 3.3.1.1.0 | C25: Desmonte cubierta teja de zinc con estructura | D25: M2 | E25: =#REF! -> #REF! | G25: =E25*F25 -> #REF!
B27: 3 | C27: MOVIMIENTO DE TIERRA
B28: 3.3.2.2.0 | C28: Excavación manual con retiro hasta h=2,9m | D28: M3 | E28: =#REF! -> #REF! | G28: =E28*F28 -> #REF!
B29: 3.3.2.2.0 | C29: Excavación mecánica con retiro | D29: M3 | E29: =#REF! -> #REF! | G29: =E29*F29 -> #REF!
B30: 3.3.2.2.0 | C30: Excavación en roca | D30: M3 | E30: =#REF! -> #REF! | G30: =E30*F30 -> #REF!
B31: 3.3.2.1.2 | C31: Explanación con retiro | D31: M3 | E31: =#REF! -> #REF! | G31: =E31*F31 -> #REF!
B32: 3.3.2.1.0 | C32: Explanación corte extendida | D32: M3 | E32: =#REF! -> #REF! | G32: =E32*F32 -> #REF!
B33: 3.3.2.6.0 | C33: Relleno compactado con material de sitio | D33: M3 | E33: =#REF! -> #REF! | G33: =E33*F33 -> #REF!
B35: 4 | C35: CIMIENTOS
B36: 3.3.6.1.0 | C36: =+#REF! -> #REF! | D36: =+#REF! -> #REF! | E36: =+#REF! -> #REF! | G36: =E36*F36 -> #REF!
B37: 3.3.6.3.0 | C37: =+#REF! -> #REF! | D37: =+#REF! -> #REF! | E37: =+#REF! -> #REF! | G37: =E37*F37 -> #REF!
B38: 3.3.6.3.0 | C38: Concreto muro de contención 3000 PSI | D38: M3 | E38: =#REF! -> #REF! | G38: =E38*F38 -> #REF!
B39: 3.3.6.1.4 | C39: Cimentacion tipo zapatas en concreto de 3000 P.S.I | D39: M3 | E39: =#REF! -> #REF! | G39: =E39*F39 -> #REF!
B40: 3.3.6.1.0 | C40: Cimentacion tipo viga de amarre, concreto 3000 psi. 0.25x0.25, Incluye acero | D40: ML | E40: =#REF! -> #REF! | G40: =E40*F40 -> #REF!
B41: 3.3.6.1.0 | C41: Cimentacion tipo viga de amarre, concreto 3000 psi. 0.15x0.25, Incluye acero | D41: ML | E41: =#REF! -> #REF! | G41: =E41*F41 -> #REF!
B42: 3.3.6.1.0 | C42: Cimentacion tipo viga de amarre, concreto 3000 psi. 0.30x0.30, Incluye acero (4No.5, E-3/8" C/0,20m) | D42: ML | E42: =#REF! -> #REF! | G42: =E42*F42 -> #REF!
B43: 3.3.6.1.12 | C43: Cimentacion tipo viga de amarre, concreto 3000 psi. | D43: M3 | E43: =#REF! -> #REF! | G43: =E43*F43 -> #REF!
...

Sheet PPTO PROPUESTA
A1: FORMATO No. 06
A2: OFERTA ECONOMICA
A4: SELECCIÓN ABREVIADA MC No. 003 de 2023
A6: Objeto: MANTENIMIENTO, MEJORAMIENTO Y ADECUACIÓN DE LAS DIFERENTES SEDES EDUCATIVAS DEL MUNICIPIO DE SALADOBLANCO DEPARTAMENTO DEL HUILA
A8: LISTA DE CANTIDADES Y PRECIOS
A10: ITEM | B10: ACTIVIDAD | C10: UN | D10: VR. UNT. | E10: CANT. | F10: VR. PARCIAL
B11: INSTITUCION EDUCATIVA GRAMALOTE
A12: 1 | B12: DEMOLICIONES Y DESMONTE DE ELEMENTOS
A13: =A12+0.1 -> 1.1 | B13: Desmonte de cubiertas (asbesto cemento) | C13: M2 | D13: =#REF! -> #REF! | E13: 198.05 | F13: =ROUND((D13*E13),0) -> #REF!
A14: 2 | B14: INSTALACIONES ELÉCTRICAS
A15: =A14+0.1 -> 2.1 | B15: Acometida Eléctrica Cable Cu 3x8+1x10awg Ø1 Pvc | C15: ML | D15: 85000 | E15: 20 | F15: =ROUND((D15*E15),0) -> 1700000 | H15: =E15+E47+E65 -> 60 | I15: =22+20+20 -> 62
A16: =A15+0.1 -> 2.2 | B16: Suministro e Instalación de Salida toma corriente doble 110v | C16: UN | D16: =#REF! -> #REF! | E16: 5 | F16: =ROUND((D16*E16),0) -> #REF! | H16: =E16+E48+#REF!+E66 -> #REF! | I16: =209+14 -> 223
A17: =A16+0.1 -> 2.3 | B17: Suministro e Instalación de Lampara Led * 18 W De Techo. | C17: UN | D17: =#REF! -> #REF! | E17: 14 | F17: =ROUND((D17*E17),0) -> #REF! | H17: =E17+E49+#REF!+E67 -> #REF! | I17: =18+20+11 -> 49
A18: =A17+0.1 -> 2.4 | B18: Tubería Emt 1/2" (Incluye 2 Cable Cobre Thhn/Thwn-2 90°C 600v 12awg + 1 Cable Cobre Thhn/Thwn-2 90°C 600v 14awg). | C18: ML | D18: =+#REF! -> #REF! | E18: 40.5 | F18: =ROUND((D18*E18),0) -> #REF! | H18: =E18+E50+#REF!+E68 -> #REF!
A19: =A18+0.1 -> 2.5 | B19: Instalacion salida interruptor Sencillo 110 V | C19: UN | D19: =+#REF! -> #REF! | E19: 5 | F19: =ROUND((D19*E19),0) -> #REF! | H19: =E19+E51+#REF!+E69 -> #REF!
A20: 7.22 | B20: Lampara a prueba de agua tipo tortuga (Tatiana) | C20: UN | D20: =#REF! -> #REF! | E20: =+'MEMORIA DE CANTIDADES'!H$936 -> 0 | F20: =D20*E20 -> #REF!
A21: 3 | B21: INSTALACIONES HIDROSANITARIAS-RED CONTRAINCENDIOS
A22: =A21+0.1 -> 3.1 | B22: Revision Hidrosanitaria | C22: UN | D22: 400000 | E22: 1 | F22: =ROUND((D22*E22),0) -> 400000
A23: =A22+0.1 -> 3.2 | B23: Suministro e Instalación de Tubería Sanitaria de 3" Para B.A.Ll. Incluye Todo lo necesario para el correcto desarrollo de la actividad. | C23: ML | D23: =#REF! -> #REF! | E23: 16 | F23: =ROUND((D23*E23),0) -> #REF!
A24: 4 | B24: CUBIERTA Y ESTRUCTURA DE CUBIERTA | J24: =I25/6 -> 265 | L24: =J24*K25 -> 3071.35
A25: =A24+0.1 -> 4.1 | B25: Suministro e instalación de Caballete en teja con trapecios, valles h=35mm cal.28, color, 1080 mm ancho total, incluye tornillos fijadores. | C25: ML | D25: =+#REF! -> #REF! | E25: 23 | F25: =ROUND((D25*E25),0) -> #REF! | H25: =E27+E55+E76 -> 2027.48 | I25: =206+26+216+252+809+81 -> 1590 | J25: =1500/6 -> 250 | K25: 11.59 | L25: =J25*K25 -> 2897.5
A26: =A25+0.1 -> 4.2 | B26: Suministro e Instalación en teja Arquitectonica Color-CAL. 30 | C26: M2 | D26: =#REF! -> #REF! | E26: =Cant!E8 -> 198.05 | F26: =ROUND((D26*E26),0) -> #REF! | H26: =E26+E54+E75+E95 -> 854.6 | I26: =148.96+29.37+60+135+250+939.94+77 -> 1640.27
A27: =A26+0.1 -> 4.3 | B27: Estructura Metálica para Teja Arquitectonica | C27: Kg | D27: =#REF! -> #REF! | E27: 680.5 | F27: =ROUND((D27*E27),0) -> #REF! | H27: =E25+E53+E74 -> 65 | I27: =15+21+53.12 -> 89.12
A28: =A27+0.1 -> 4.4 | B28: Instalación de Canal en lámina galvanizada cal. 22; ds=50 | C28: ML | D28: =+#REF! -> #REF! | E28: 46 | F28: =ROUND((D28*E28),0) -> #REF! | H28: =E28 -> 46 | K28: =SUM(#REF!) -> #REF! | L28: =K28/D27 -> #REF!
A29: 5 | B29: ACABADOS
A30: =A29+0.1 -> 5.1 | B30: Reparación de Filos y Carteras de Cumbrera | C30: ML | D30: 20500 | E30: 97.8 | F30: =ROUND((D30*E30),0) -> 2004900
A31: =A30+0.1 -> 5.2 | B31: Suministro e instalación de cielo raso blanco en PVC. (El gravado o detalle del material esta sujeto a aprobación del supervisor). | C31: M2 | D31: =#REF! -> #REF! | E31: 9 | F31: =ROUND((D31*E31),0) -> #REF! | H31: =E31 -> 9
A32: 6 | B32: TRANSPORTE DE MATERIAL
A33: =A32+0.1 -> 6.1 | B33: Transporte de materiales de construcción al sitio de las obras, en zona rural de dificil acceso. | C33: Viaje | D33: =#REF! -> #REF! | E33: 2 | F33: =ROUND((D33*E33),0) -> #REF!
C34: TOTAL COSTOS DIRECTOS GRAMALOTE | F34: =SUM(F12:F33) -> #REF! | K34: 40666509
B35: INSTITUCION EDUCATIVA CHAVARRO
A36: 1 | B36: PINTURA GENERAL
A37: =A36+0.1 -> 1.1 | B37: Estuco y pintura vinilo muros II manos | C37: M2 | D37: =#REF! -> #REF! | E37: 1810 | F37: =ROUND((D37*E37),0) -> #REF! | H37: =921+330+122+25+396 -> 1794
A38: =A37+0.1 -> 1.2 | B38: Suministro y Aplicación de Esmalte sobre marcos lámina | C38: UN | D38: =#REF! -> #REF! | E38: 13 | F38: =ROUND((D38*E38),0) -> #REF!
A39: =A38+0.1 -> 1.3 | B39: Suministro y Aplicación de Pintura esmalte ventaneria metálica | C39: M2 | D39: =#REF! -> #REF! | E39: 245.07 | F39: =ROUND((D39*E39),0) -> #REF! | H39: =194+42+24+19+25+2+28+32+184 -> 550
A40: 2 | B40: TRANSPORTE DE MATERIAL
A41: =A40+0.1 -> 2.1 | B41: Transporte de materiales de construcción al sitio de las obras, en zona rural de dificil acceso. | C41: Viaje | D41: =#REF! -> #REF! | E41: 1 | F41: =ROUND((D41*E41),0) -> #REF!
C42: TOTAL COSTOS DIRECTOS CHAVARRO | F42: =SUM(F36:F41) -> #REF!
B43: INSTITUCION EDUCATIVA EL ALTO
A44: 1 | B44: DEMOLICIONES Y DESMONTE DE ELEMENTOS
...

Sheet APU
B1: ='PPTO PROPUESTA'!A2 -> OFERTA ECONOMICA
B3: ='PPTO PROPUESTA'!A4 -> SELECCIÓN ABREVIADA MC No. 003 de 2023
B5: PROPONENTE: ANDRES FELIPE SANCHEZ RIVERA
B7: ANÁLISIS DE PRECIOS UNITARIOS - COSTOS DIRECTOS
A9: 1 | B9: DEMOLICIONES Y DESMONTE DE ELEMENTOS
A11: 1.1 | B11: =PRESUPUESTO!B28 -> Desmonte de cubiertas (asbesto cemento) | E11: Unidad: | F11: =PRESUPUESTO!C28 -> M2
B13: DESCRIPCIÓN | C13: UNIDAD | D13: CANT | E13: V/r UNITARIO | F13: V/r PARCIAL
B15: EQUIPO Y HERRAMIENTAS: | F15: =SUM(F16:F18) -> #REF!
B16: HERRAMIENTA MENOR | C16: UND | D16: 0.3 | E16: =#REF! -> #REF! | F16: =E16*D16 -> #REF!
B17: =#REF! -> #REF! | C17: DIA | D17: 0.056 | E17: =#REF! -> #REF! | F17: =E17*D17 -> #REF!
B18: =#REF! -> #REF! | C18: DIA | D18: 0.056 | E18: =#REF! -> #REF! | F18: =E18*D18 -> #REF!
B20: MANO DE OBRA | F20: =F21 -> #REF!
B21: MANO DE OBRA | C21: HR | D21: 0.45 | E21: =#REF! -> #REF! | F21: =D21*E21 -> #REF!
C23: V/r. COSTO DIRECTO | F23: =ROUND(F20+F15,0) -> #REF!
A24: 2 | B24: INSTALACIONES ELÉCTRICAS
A26: 2,1 | B26: Acometida Eléctrica Cable Cu 3x8+1x10awg Ø1 Pvc | E26: UNIDAD: | F26: ML
B28: DESCRIPCIÓN | C28: UNIDAD | D28: CANT | E28: V/r UNITARIO | F28: V/r PARCIAL
B30: MATERIALES : | F30: =SUM(F31:F37) -> 65323.8
B31: CABLE DE COBRE ENCAUCHETADO 3 X 8 AWG | C31: ML | D31: 1.03 | E31: =53250-6638 -> 46612 | F31: =D31*E31 -> 48010.36
B32: CABLE DE COBRE AISLADO NO 10 AWG THHN | C32: ML | D32: 1.03 | E32: 8580 | F32: =D32*E32 -> 8837.4
B33: UNIÓN PVC 1" | C33: UND | D33: 0.09 | E33: 1500 | F33: =D33*E33 -> 135
B34: CURVA 90° 1" | C34: UND | D34: 0.2 | E34: 5900 | F34: =D34*E34 -> 1180
B35: ABRAZADERA FIJA DOBLE ALA 1" | C35: UND | D35: 1 | E35: =1400+199.0414 -> 1599.04 | F35: =D35*E35 -> 1599.04
B36: TUBO PVC 1" X 3.05M | C36: ML | D36: 1.03 | E36: 5400 | F36: =D36*E36 -> 5562
B38: EQUIPO Y HERRAMIENTAS: | F38: =F39+F40 -> 2580.2
B39: HERRAMIENTA MENOR | C39: UND | D39: 1 | E39: 1993 | F39: =E39*D39 -> 1993
B40: ANDAMIO TUBULAR 0.8 X 2M CON CRUCETA - ALQUILER | C40: Día | D40: 0.8 | E40: 734 | F40: =E40*D40 -> 587.2
B42: MANO DE OBRA: | F42: =F43 -> 17096
B43: MANO DE OBRA ELECTRICA | C43: HR | D43: 0.5 | E43: 34192 | F43: =D43*E43 -> 17096
C45: V/r. COSTO DIRECTO = | F45: =F30+F38+F42 -> 85000
A47: 2,2 | B47: Suministro e Instalación de Salida toma corriente doble 110v | E47: UNIDAD: | F47: UN
B49: DESCRIPCIÓN | C49: UNIDAD | D49: CANT | E49: V/r UNITARIO | F49: V/r PARCIAL
B51: MATERIALES : | F51: 53600
B52: ALAMBRE COBRE SUAVE Y DURO DESNUDO 12AWG | C52: ML | D52: 2 | E52: 2400 | F52: 4800
B53: CABLE COBRE THHN/THWN-2 90°C 600V 12AWG | C53: ML | D53: 6 | E53: 3400 | F53: 20400
B54: TERMINAL CONECTOR EMT 1/2 | C54: UND | D54: 2 | E54: 1350 | F54: 2700
B55: SUPLEMENTO METÁLICO GALVANIZADO CAJA CUADRADA REF.2400-CAL.20 | C55: UND | D55: 1 | E55: 400 | F55: 400
B56: CAJA DOBLE GALVANIZADA 2400 | C56: UND | D56: 1 | E56: 2500 | F56: 2500
B57: TOMA CORRIENTE DOBLE P-T | C57: UND | D57: 1 | E57: 12000 | F57: 12000
B58: TUBO EMT UL 1/2 X 3.05M | C58: ML | D58: 2 | E58: 5400 | F58: 10800
...

Sheet Cant
B3: MEMORIAS DE CALCULO
B5: 1. GRAMALOTE
B7: CUBIERTA | C7: L | D7: A
C8: 23.3 | D8: 8.5 | E8: =C8*D8 -> 198.05
B10: ESTRUCTURA METALICA
B11: PERFILES 4 X 8 | D11: CANT | E11: LONG | G11: PESO
D12: 10 | E12: 23 | F12: =D12*E12 -> 230
B14: PERFILES 10 X 4 | D14: CANT | E14: LONG | H14: PESO
D15: 4 | E15: 6 | F15: 2 | G15: =D15*E15*F15 -> 48
B17: RESANES | I17: TOTAL
D18: 23 | E18: 6.8 | F18: 6 | G18: 11 | H18: =8.5*6 -> 51 | I18: =SUM(D18:H18) -> 97.8
B20: CANALES
C21: L | D21: 23 | E21: 2 | F21: =D21*E21 -> 46 | G21: ML
B22: BAJANTES | C22: L | D22: 16 | F22: =D22 -> 16
B24: RED ELECTRICA
B26: REPARACIONES HIDROSANITARIAS
B28: REVISAR CAJILLA DE INSPECCION
B31: 2. ESCUELA DE CHARRO
B32: PINTURA | C32: L | D32: A | E32: CANT | H32: VINILO | J32: ACEITE
B33: BLOQUE 1 | C33: 10.5 | D33: 3.7 | E33: 3 | F33: =C33*D33*E33 -> 116.55 | H33: =F33 -> 116.55
C34: 7.9 | D34: 3.7 | E34: 4 | F34: =C34*D34*E34 -> 116.92 | H34: =F34 -> 116.92
B35: MENOS CARPINTERIA METALICA
C36: 1.2 | D36: 1.9 | E36: 2 | F36: =C36*D36*E36 -> 4.56
C37: 1.2 | D37: 2 | E37: 2 | F37: =C37*D37*E37 -> 4.8
C38: 1.2 | D38: 2 | E38: 4 | F38: =C38*D38*E38 -> 9.6 | H38: =(F36+F37+F38)*-1 -> -18.96 | J38: =H38 -> -18.96
B39: RESTAURANTE
C40: 9.5 | D40: 2.6 | E40: 3 | F40: =C40*D40*E40 -> 74.1 | H40: =F40 -> 74.1
C41: 11.6 | D41: 2.6 | E41: 2 | F41: =C41*D41*E41 -> 60.32 | H41: =F41 -> 60.32
B42: BLOQUE NUEVO
C43: 35 | D43: 3 | E43: 4 | F43: =C43*D43*E43 -> 420 | H43: =F43 -> 420
C44: 8.6 | D44: 3.5 | E44: 10 | F44: =C44*D44*E44 -> 301 | H44: =F44 -> 301
B45: MENOS CARPINTERIA METALICA
C46: 1 | D46: 2.4 | E46: 8 | F46: =C46*D46*E46 -> 19.2
C47: 1.4 | D47: 2.7 | E47: 32 | F47: =C47*D47*E47 -> 120.96 | H47: =(F46+F47)*-1 -> -140.16 | J47: =H47 -> -140.16
B48: BATERIA SANITARIA
C49: =(4.2+2.9)/2 -> 3.55 | D49: 5.4 | E49: 4 | F49: =C49*D49*E49 -> 76.68 | H49: =F49 -> 76.68
C50: 4.2 | D50: 8.5 | E50: 2 | F50: =C50*D50*E50 -> 71.4 | H50: =F50 -> 71.4
C51: 2.9 | D51: 8.5 | E51: 2 | F51: =C51*D51*E51 -> 49.3 | H51: =F51 -> 49.3
B52: MENOS CARPINTERIA METALICA
C53: 2.7 | D53: 0.65 | E53: 4 | F53: =C53*D53*E53 -> 7.02
...

Sheet ROTULOS
A1: MANTENIMIENTO, MEJORAMIENTO Y ADECUACIÓN DE LA SEDE EDUCATIVA PRIMAVERA DEL MUNICIPIO DE SALADOBLANCO DEPARTAMENTO DEL HUILA
A2: PRESUPUESTO DE OBRA

Sheet PRESUPUESTO OFICIAL PRIMAVERA
A1: MEJORAMIENTO Y ADECUACIÓN DE LA PLACA DEL POLIDEPORTIVO SEDE EDUCATIVA PRIMAVERA DEL MUNICIPIO DE SALADOBLANCO DEPARTAMENTO DEL HUILA
A2: =ROTULOS!A2 -> PRESUPUESTO DE OBRA
A4: ITEM | B4: ACTIVIDAD | C4: UN | D4: VR. UNT. | E4: CANT. | F4: VR. PARCIAL
B5: INSTITUCION EDUCATIVA MISAEL PASTRANA BORRERO SEDE PRIMAVERA
A6: 1 | B6: EXTERIORES
A7: =A6+0.1 -> 1.1 | B7: Localización y replanteo manual | C7: M2 | D7: 4854 | E7: 422 | F7: =ROUND((D7*E7),0) -> 2048388
A8: =A7+0.1 -> 1.2 | B8: Nivelación terreno en concreto de 2000 psi | C8: M3 | D8: 412210 | E8: 8.44 | F8: =ROUND((D8*E8),0) -> 3479052
A9: =A8+0.1 -> 1.3 | B9: Placa de piso para exteriores en concreto 2500 P.S.I, barrido y dilatado E=0,08M (Incluye refuerzo) | C9: M2 | D9: 66298 | E9: 422 | F9: =ROUND((D9*E9),0) -> 27977756
A10: =A9+0.1 -> 1.4 | B10: Demarcacion de canchas con pintura esmalte | C10: ML | D10: 3895 | E10: 220 | F10: =ROUND((D10*E10),0) -> 856900
A11: 2 | B11: TRANSPORTE DE MATERIAL
A12: =A11+0.1 -> 2.1 | B12: Transporte de materiales de construcción al sitio de las obras, en zona rural de dificil acceso. | C12: Viaje | D12: 650000 | E12: 1 | F12: =ROUND((D12*E12),0) -> 650000
C13: TOTAL COSTOS DIRECTOS | F13: =SUM(F6:F12) -> 35012096
C14: ADMINISTRACION | E14: 0.24 | F14: =ROUND(($F$13*E14),0) -> 8402903
C15: IMPREVISTOS | E15: 0.01 | F15: =ROUND(($F$13*E15),0) -> 350121
C16: UTILIDADES | E16: 0.05 | F16: =ROUND(($F$13*E16),0) -> 1750605
C17: SUBTOTAL COSTOS INDIRECTOS | F17: =SUM(F14:F16) -> 10503629
C18: COSTO TOTAL | F18: =SUM(F13:F16) -> 45515725

Sheet PROPUESTA ECONOMICA
A1: MEJORAMIENTO Y ADECUACIÓN DE LA PLACA DEL POLIDEPORTIVO SEDE EDUCATIVA PRIMAVERA DEL MUNICIPIO DE SALADOBLANCO DEPARTAMENTO DEL HUILA
A2: =ROTULOS!A2 -> PRESUPUESTO DE OBRA
A4: ITEM | B4: ACTIVIDAD | C4: UN | D4: VR. UNT. | E4: CANT. | F4: VR. PARCIAL
B5: INSTITUCION EDUCATIVA MISAEL PASTRANA BORRERO SEDE PRIMAVERA
A6: 1 | B6: EXTERIORES
A7: =A6+0.1 -> 1.1 | B7: Localización y replanteo manual | C7: M2 | E7: 422 | F7: =ROUND((D7*E7),0) -> 0
A8: =A7+0.1 -> 1.2 | B8: Nivelación terreno en concreto de 2000 psi | C8: M3 | E8: 8.44 | F8: =ROUND((D8*E8),0) -> 0
A9: =A8+0.1 -> 1.3 | B9: Placa de piso para exteriores en concreto 2500 P.S.I, barrido y dilatado E=0,08M (Incluye refuerzo) | C9: M2 | E9: 422 | F9: =ROUND((D9*E9),0) -> 0
A10: =A9+0.1 -> 1.4 | B10: Demarcacion de canchas con pintura esmalte | C10: ML | E10: 220 | F10: =ROUND((D10*E10),0) -> 0
A11: 2 | B11: TRANSPORTE DE MATERIAL
A12: =A11+0.1 -> 2.1 | B12: Transporte de materiales de construcción al sitio de las obras, en zona rural de dificil acceso. | C12: Viaje | E12: 1 | F12: =ROUND((D12*E12),0) -> 0
C13: TOTAL COSTOS DIRECTOS | F13: =SUM(F6:F12) -> 0
C14: ADMINISTRACION | E14: 0.24 | F14: =ROUND(($F$13*E14),0) -> 0
C15: IMPREVISTOS | E15: 0.01 | F15: =ROUND(($F$13*E15),0) -> 0
C16: UTILIDADES | E16: 0.05 | F16: =ROUND(($F$13*E16),0) -> 0
C17: SUBTOTAL COSTOS INDIRECTOS | F17: =SUM(F14:F16) -> 0
C18: COSTO TOTAL | F18: =SUM(F13:F16) -> 0

Sheet PRESUPUESTO
A1: =ROTULOS!A1 -> MANTENIMIENTO, MEJORAMIENTO Y ADECUACIÓN DE LA SEDE EDUCATIVA PRIMAVERA DEL MUNICIPIO DE SALADOBLANCO DEPARTAMENTO DEL HUILA
A2: =ROTULOS!A2 -> PRESUPUESTO DE OBRA
A3: PRESUPUESTO
A4: =ROTULOS!A4 -> 0
A5: ITEM | B5: ACTIVIDAD | C5: UN | D5: VR. UNT. | E5: CANT. | F5: VR. PARCIAL
B6: INSTITUCION EDUCATIVA EL PORVENIR
A7: 1 | B7: PRELIMINARES
A8: 1.1 | B8: Localización y replanteo topográfico | C8: M2 | D8: =#REF! -> #REF! | E8: ='MEMORIA DE CANTIDADES'!H$12 -> 0 | F8: =D8*E8 -> #REF!
A9: 1.2 | B9: Localización y replanteo manual | C9: M2 | D9: =+#REF! -> #REF! | E9: 0 | F9: =D9*E9 -> #REF!
A10: 1.3 | B10: Localización y replanteo polideportivos | C10: M2 | D10: =+#REF! -> #REF! | E10: ='MEMORIA DE CANTIDADES'!H$24 -> 0 | F10: =D10*E10 -> #REF!
A11: 1.4 | B11: Descapote manual e=0.20m incluye retiro | C11: M2 | D11: =#REF! -> #REF! | E11: 0 | F11: =D11*E11 -> #REF!
A12: 1.5 | B12: Suministro e Instalación de Campamento 9 m2 | C12: UN | D12: =#REF! -> #REF! | E12: ='MEMORIA DE CANTIDADES'!H$36 -> 0 | F12: =D12*E12 -> #REF!
A13: 1.6 | B13: Suministro e instalación de cerca en lona verde h=2.10 m | C13: ML | D13: =#REF! -> #REF! | E13: ='MEMORIA DE CANTIDADES'!H$42 -> 0 | F13: =D13*E13 -> #REF!
A14: 1.7 | B14: Excavacion, corte y retiro de raices, profundidad hasta 2.00mts | C14: UN | D14: =+#REF! -> #REF! | E14: ='MEMORIA DE CANTIDADES'!H$43 -> 0 | F14: =D14*E14 -> #REF!
A15: 2 | B15: DEMOLICIONES Y DESMONTE DE ELEMENTOS
A16: 2.1 | B16: Demolición enchape de piso | C16: M2 | D16: =#REF! -> #REF! | E16: ='MEMORIA DE CANTIDADES'!H$49 -> 0 | F16: =D16*E16 -> #REF!
A17: 2.2 | B17: Demolición enchape muro | C17: M2 | D17: =#REF! -> #REF! | E17: ='MEMORIA DE CANTIDADES'!H$55 -> 0 | F17: =D17*E17 -> #REF!
A18: 2.3 | B18: Demolición pañete muro | C18: M2 | D18: =#REF! -> #REF! | E18: ='MEMORIA DE CANTIDADES'!H$61 -> 0 | F18: =D18*E18 -> #REF!
A19: 2.4 | B19: Desmonte de cielo falso | C19: M2 | D19: =#REF! -> #REF! | E19: ='MEMORIA DE CANTIDADES'!H$67 -> 0 | F19: =D19*E19 -> #REF!
A20: 2.5 | B20: Demolición placa maciza 0.25 m Incluye retiro | C20: M2 | D20: =#REF! -> #REF! | E20: ='MEMORIA DE CANTIDADES'!H$73 -> 0 | F20: =D20*E20 -> #REF!
A21: 2.6 | B21: Demolición placa piso 0.05 m Incluye retiro | C21: M2 | D21: =#REF! -> #REF! | E21: ='MEMORIA DE CANTIDADES'!H$79 -> 0 | F21: =D21*E21 -> #REF!
A22: 2.7 | B22: Demolición placa piso 0.10 m Incluye retiro | C22: M2 | D22: =#REF! -> #REF! | E22: ='MEMORIA DE CANTIDADES'!H$85 -> 0 | F22: =D22*E22 -> #REF!
A23: 2.8 | B23: Demolición vigas y columnas Incluye retiro | C23: M3 | D23: =#REF! -> #REF! | E23: ='MEMORIA DE CANTIDADES'!H$91 -> 0 | F23: =D23*E23 -> #REF!
A24: 2.9 | B24: Descapote a máquina e=0.20 m Incluye retiro | C24: M2 | D24: =#REF! -> #REF! | E24: ='MEMORIA DE CANTIDADES'!H$97 -> 0 | F24: =D24*E24 -> #REF!
A25: 2.10 | B25: Descapote manual y retiro e= 0.20 m apile a 15 m | C25: M2 | D25: =#REF! -> #REF! | E25: ='MEMORIA DE CANTIDADES'!H$103 -> 0 | F25: =D25*E25 -> #REF!
A26: 2.11 | B26: Desmonte aparatos sanitarios Incluye retiro | C26: UN | D26: =#REF! -> #REF! | E26: ='MEMORIA DE CANTIDADES'!H$109 -> 0 | F26: =D26*E26 -> #REF!
A27: 2.12 | B27: Desmonte de cubiertas (teja de barro) | C27: M2 | D27: =#REF! -> #REF! | E27: ='MEMORIA DE CANTIDADES'!H$115 -> 0 | F27: =D27*E27 -> #REF!
A28: 2.13 | B28: Desmonte de cubiertas (asbesto cemento) | C28: M2 | D28: =#REF! -> #REF! | E28: ='MEMORIA DE CANTIDADES'!H$121 -> 0 | F28: =D28*E28 -> #REF!
A29: 2.14 | B29: Desmonte de cubiertas (termoacústica) | C29: M2 | D29: =#REF! -> #REF! | E29: ='MEMORIA DE CANTIDADES'!H$127 -> 0 | F29: =D29*E29 -> #REF!
A30: 2.15 | B30: Desmonte de cubiertas (teja de zinc) | C30: M2 | D30: =#REF! -> #REF! | E30: ='MEMORIA DE CANTIDADES'!H$133 -> 0 | F30: =D30*E30 -> #REF!
A31: 2.16 | B31: Desmonte marcos y puertas | C31: UN | D31: =#REF! -> #REF! | E31: 0 | F31: =D31*E31 -> #REF!
A32: 2.17 | B32: Desmonte ventanas | C32: M2 | D32: =#REF! -> #REF! | E32: ='MEMORIA DE CANTIDADES'!H$145 -> 0 | F32: =D32*E32 -> #REF!
A33: 2.18 | B33: Demolición muros e-0.15m, con retiro | C33: M2 | D33: =#REF! -> #REF! | E33: 0 | F33: =D33*E33 -> #REF!
A34: 2.19 | B34: Demolición muros e=0.25m, con retiro | C34: M2 | D34: =#REF! -> #REF! | E34: ='MEMORIA DE CANTIDADES'!H$157 -> 0 | F34: =D34*E34 -> #REF!
A35: 2.20 | B35: Demolición de enchape y revoque, con retiro | C35: M2 | D35: =#REF! -> #REF! | E35: ='MEMORIA DE CANTIDADES'!H$163 -> 0 | F35: =D35*E35 -> #REF!
A36: 2.21 | B36: Demolición placa de piso concreto e=0.10m, incluye retiro | C36: M2 | D36: =#REF! -> #REF! | E36: ='MEMORIA DE CANTIDADES'!H$169 -> 0 | F36: =D36*E36 -> #REF!
A37: 2.22 | B37: Demolición mecánica placa concreto e = 0.20m, incluye retiro | C37: M2 | D37: =#REF! -> #REF! | E37: ='MEMORIA DE CANTIDADES'!H$175 -> 0 | F37: =D37*E37 -> #REF!
A38: 2.23 | B38: Desmonte cubierta teja de asbesto c. Con estructura , incluye retiro | C38: M2 | D38: =#REF! -> #REF! | E38: 146 | F38: =D38*E38 -> #REF!
A39: 2.24 | B39: Retiro de escombros hasta 5km, incluye cargue | C39: M3 | D39: =#REF! -> #REF! | E39: ='MEMORIA DE CANTIDADES'!H$187 -> 0 | F39: =D39*E39 -> #REF!
A40: 2.25 | B40: Demolición mecánica de concreto ciclópeo | C40: M3 | D40: =#REF! -> #REF! | E40: ='MEMORIA DE CANTIDADES'!H$193 -> 0 | F40: =D40*E40 -> #REF!
...

Sheet MEMORIA DE CANTIDADES
A1: =ROTULOS!A1 -> MANTENIMIENTO, MEJORAMIENTO Y ADECUACIÓN DE LA SEDE EDUCATIVA PRIMAVERA DEL MUNICIPIO DE SALADOBLANCO DEPARTAMENTO DEL HUILA
A2: =ROTULOS!A2 -> PRESUPUESTO DE OBRA
A3: PRESUPUESTO
A4: =ROTULOS!A4 -> 0
A5: ITEM | B5: ACTIVIDAD | C5: UNIDAD
A6: 1 | B6: PRELIMINARES
A7: 1.1 | B7: Localización y replanteo topográfico | C7: M2
A8: DESCRIPCION Y/O UBICACIÓN | C8: Largo (m) | D8: Ancho(m) | E8: Alto(m) | F8: Espesor Promedio(m) | G8: Cantidad | H8: Subtotal
A12: Total | H12: =SUM(H9:H11) -> 0
A13: 1.2 | B13: Localización y replanteo manual | C13: M2
A14: DESCRIPCION Y/O UBICACIÓN | C14: Largo (m) | D14: Ancho(m) | E14: Alto(m) | F14: Espesor Promedio(m) | G14: Cantidad | H14: Subtotal
A15: Aula Maxima | C15: 25 | D15: =(7.6+9.3)/2 -> 8.45 | G15: 1 | H15: =C15*D15*G15 -> 211.25
A18: Total | H18: =SUM(H15:H17) -> 211.25
A19: 1.3 | B19: Localización y replanteo polideportivos | C19: =+#REF! -> #REF!
A20: DESCRIPCION Y/O UBICACIÓN | C20: Largo (m) | D20: Ancho(m) | E20: Alto(m) | F20: Espesor Promedio(m) | G20: Cantidad | H20: Subtotal
A24: Total | H24: =SUM(H21:H23) -> 0
A25: 1.4 | B25: Descapote manual e=.20m incluye retiro | C25: M2
A26: DESCRIPCION Y/O UBICACIÓN | C26: Largo (m) | D26: Ancho(m) | E26: Alto(m) | F26: Espesor Promedio(m) | G26: Cantidad | H26: Subtotal
A27: Aula Maxima | C27: 25 | D27: =(7.6+9.3)/2 -> 8.45 | G27: 1 | H27: =C27*D27*G27 -> 211.25
A30: Total | H30: =SUM(H27:H29) -> 211.25
A31: 1.5 | B31: Instalación de Campamento 9 m2 | C31: UN
A32: DESCRIPCION Y/O UBICACIÓN | C32: Largo (m) | D32: Ancho(m) | E32: Alto(m) | F32: Espesor Promedio(m) | G32: Cantidad | H32: Subtotal
A36: Total | H36: =SUM(H33:H35) -> 0
A37: 1.6 | B37: Instalación de Cerca en tela verde h = 2.10 m | C37: ML
A38: DESCRIPCION Y/O UBICACIÓN | C38: Largo (m) | D38: Ancho(m) | E38: Alto(m) | F38: Espesor Promedio(m) | G38: Cantidad | H38: Subtotal
A42: Total | H42: =SUM(H39:H41) -> 0
A43: 2 | B43: DEMOLICIONES Y DESMONTE DE ELEMENTOS
A44: 2.1 | B44: Demolición baldosa de piso h=0.02 m | C44: M2
A45: DESCRIPCION Y/O UBICACIÓN | C45: Largo (m) | D45: Ancho(m) | E45: Alto(m) | F45: Espesor Promedio(m) | G45: Cantidad | H45: Subtotal
A49: Total | H49: =SUM(H46:H48) -> 0
A50: 2.2 | B50: Demolición enchape muro | C50: M2
A51: DESCRIPCION Y/O UBICACIÓN | C51: Largo (m) | D51: Ancho(m) | E51: Alto(m) | F51: Espesor Promedio(m) | G51: Cantidad | H51: Subtotal
A55: Total | H55: =SUM(H52:H54) -> 0
A56: 2.3 | B56: Demolición pañete muro | C56: M2
A57: DESCRIPCION Y/O UBICACIÓN | C57: Largo (m) | D57: Ancho(m) | E57: Alto(m) | F57: Espesor Promedio(m) | G57: Cantidad | H57: Subtotal
A61: Total | H61: =SUM(H58:H60) -> 0
A62: 2.4 | B62: Demolición cielo raso falso | C62: M2
A63: DESCRIPCION Y/O UBICACIÓN | C63: Largo (m) | D63: Ancho(m) | E63: Alto(m) | F63: Espesor Promedio(m) | G63: Cantidad | H63: Subtotal
A67: Total | H67: =SUM(H64:H66) -> 0
A68: 2.5 | B68: Demolición placa maciza 0.25 m | C68: M2
...
