Workbook

Sheet CONT. AÑOS E HISTORI
B2: CONTRATOS DEL INS | H2: OTRAS ENTIDADES
B3: No. De contrato | C3: Modalidad de selección | D3: Objeto del contrato | E3: Provedor | F3: Valor | H3: No. De contrato | I3: Entidad | J3: Modalidad de selección | K3: Objeto del contrato | L3: Provedor | M3: Valor
B4: INS-SAMC-499-2025 | C4: Selección abreviada de menor cuantía | D4: Prestar el servicio de laboratorio clínico veterinario integral para la realización de pruebas de hematología, bioquímica sanguínea, parasitología, microbióloga, histopatología, a partir de sangre y otros fluidos de origen animal. | E4: Laboratorio Médico Veterinario LMV | F4: 57659225 | H4: SUBASTA INVERSA 008-2024 | I4: Instituto Universitario de la Paz | J4: Selección abreviada subasta inversa | K4: Adquisición de equipos para laboratorio y de diagnostico veterinarios como apoyo al desarrollo de las actividades del proyecto de investigación estudio descriptivo de alteraciones ecográficas y hematologicas en caninos y felinos en estado de vulnerabilidad en el distrito especial de barrancabermeja | L4: IMCARE SAS | M4: 183620570
B5: INS-SMC-270-2024 | C5: Selección abreviada de menor cuantía | D5: Prestar el servicio de laboratorio clínico veterinario integral para la realización de pruebas de hematología, bioquímica sanguínea, parasitología, microbióloga, histopatología, a partir de sangre y otros fluidos de origen animal. | E5: Laboratorio Médico Veterinario LMV | F5: 53849131 | H5: SASI-004-2023 | I5: Instituto Distrital de Proteccion y Bienestar Animal | J5: Selección abreviada subasta inversa | K5: Prestación del servicio de laboratorio clínico veterinario para el procesamiento de las muestras que se requieran para la atención de la fauna doméstica bajo el cuidado del instituto distrital de proteccion y bienestar animal | L5: TEAM ZOE SAS | M5: 191600000
B6: INS-SMC-084-2022 | C6: Selección abreviada de menor cuantía | D6: Prestar el servicio de laboratorio clínico veterinario integral para la realización de pruebas de hematología, bioquímica sanguínea, parasitología, microbióloga, histopatología, a partir de sangre y otros fluidos de origen animal. | E6: Laboratorio Médico Veterinario LMV | F6: 26933130 | H6: SASI-006-2022 | I6: Instituto Distrital de Proteccion y Bienestar Animal | J6: Selección abreviada subasta inversa | K6: Contratar el servicio de laboratorio clínico veterinario para el procesamiento de las muestras que se requieran para la atención de la fauna doméstica bajo el cuidado del instituto distrital de proteccion y bienestar animal | L6: TEAM ZOE SAS | M6: 129999700
B7: INS-SMC-175-2023 | C7: Selección abreviada de menor cuantía | D7: Prestar el servicio de laboratorio clínico veterinario integral para la realización de pruebas de hematología, bioquímica sanguínea, parasitología, microbióloga, histopatología, a partir de sangre y otros fluidos de origen animal. | E7: Laboratorio Médico Veterinario LMV | F7: 55199523

Sheet HISTORICO E INDEXADO 
B2: HISTORICOS
B3: No. Item | C3: Descripción | D3: Presentación | E3: INS-SMC-084-2022 | J3: INS-SAMC-175-2023 | N3: INS-SAMC-270-2024 | Q3: INS-SAMC-499-2025 | S3: Promedio
E4: Precio unitario del mercado 2022 | F4: 2023 | G4: 2024 | H4: 2025 | I4: 2026 | J4: Precio unitario del mercado 2023 | K4: 2024 | L4: 2025 | M4: 2026 | N4: Precio unitario del mercado 2024 | O4: 2025 | P4: 2026 | Q4: Precio Unitario del 2025 | R4: 2026
F5: 0.0928 | G5: 0.052 | H5: 0.051 | I5: 0.0118 | K5: 0.052 | L5: 0.051 | M5: 0.0118 | O5: 0.051 | P5: 0.0118 | R5: 0.0118
B6: 1 | C6: Cuadro hemático | D6: Unidad | E6: 11319 | F6: =+(E6*$F$5)+E6 -> 12369.403 | G6: =+(F6*$G$5)+F6 -> 13012.612 | H6: =+(G6*$H$5)+G6 -> 13676.255 | I6: =+(H6*$I$5)+H6 -> 13837.635 | J6: 14369 | K6: =+(J6*$K$5)+J6 -> 15116.188 | L6: =+(K6*$L$5)+K6 -> 15887.114 | M6: =+(L6*$M$5)+L6 -> 16074.582 | N6: 16881 | O6: =+(N6*$O$5)+N6 -> 17741.931 | P6: =+(O6*$P$5)+O6 -> 17951.286 | Q6: 16745 | R6: =+(Q6*$R$5)+Q6 -> 16942.591 | S6: 16989 | V6: =+(M6+P6+R6)/3 -> 16989.486
B7: 2 | C7: Proteínas totales | D7: Unidad | E7: 9240 | F7: =+(E7*$F$5)+E7 -> 10097.472 | G7: =+(F7*$G$5)+F7 -> 10622.541 | H7: =+(G7*$H$5)+G7 -> 11164.29 | I7: =+(H7*$I$5)+H7 -> 11296.029 | J7: 11730 | K7: =+(J7*$K$5)+J7 -> 12339.96 | L7: =+(K7*$L$5)+K7 -> 12969.298 | M7: =+(L7*$M$5)+L7 -> 13122.336 | N7: 13798 | O7: =+(N7*$O$5)+N7 -> 14501.698 | P7: =+(O7*$P$5)+O7 -> 14672.818 | Q7: 12960 | R7: =+(Q7*$R$5)+Q7 -> 13112.928 | S7: 13636
B8: 3 | C8: Fibrinógeno | D8: Unidad | E8: 7161 | F8: =+(E8*$F$5)+E8 -> 7825.5408 | G8: =+(F8*$G$5)+F8 -> 8232.4689 | H8: =+(G8*$H$5)+G8 -> 8652.3248 | I8: =+(H8*$I$5)+H8 -> 8754.4223 | J8: 9091 | K8: =+(J8*$K$5)+J8 -> 9563.732 | L8: =+(K8*$L$5)+K8 -> 10051.482 | M8: =+(L8*$M$5)+L8 -> 10170.09 | N8: 10693 | O8: =+(N8*$O$5)+N8 -> 11238.343 | P8: =+(O8*$P$5)+O8 -> 11370.955 | Q8: 6400 | R8: =+(Q8*$R$5)+Q8 -> 6475.52 | S8: 9339
B9: 4 | C9: Creatinina | D9: Unidad | E9: 9240 | F9: =+(E9*$F$5)+E9 -> 10097.472 | G9: =+(F9*$G$5)+F9 -> 10622.541 | H9: =+(G9*$H$5)+G9 -> 11164.29 | I9: =+(H9*$I$5)+H9 -> 11296.029 | J9: 11730 | K9: =+(J9*$K$5)+J9 -> 12339.96 | L9: =+(K9*$L$5)+K9 -> 12969.298 | M9: =+(L9*$M$5)+L9 -> 13122.336 | N9: 13734 | O9: =+(N9*$O$5)+N9 -> 14434.434 | P9: =+(O9*$P$5)+O9 -> 14604.76 | Q9: 12960 | R9: =+(Q9*$R$5)+Q9 -> 13112.928 | S9: 13613
B10: 5 | C10: Nitrógeno ureico | D10: Unidad | E10: 9240 | F10: =+(E10*$F$5)+E10 -> 10097.472 | G10: =+(F10*$G$5)+F10 -> 10622.541 | H10: =+(G10*$H$5)+G10 -> 11164.29 | I10: =+(H10*$I$5)+H10 -> 11296.029 | J10: 11730 | K10: =+(J10*$K$5)+J10 -> 12339.96 | L10: =+(K10*$L$5)+K10 -> 12969.298 | M10: =+(L10*$M$5)+L10 -> 13122.336 | N10: 14341 | O10: =+(N10*$O$5)+N10 -> 15072.391 | P10: =+(O10*$P$5)+O10 -> 15250.245 | Q10: 12960 | R10: =+(Q10*$R$5)+Q10 -> 13112.928 | S10: 13829
B11: 6 | C11: AST (aspartato amino transferasa) | D11: Unidad | E11: 9240 | F11: =+(E11*$F$5)+E11 -> 10097.472 | G11: =+(F11*$G$5)+F11 -> 10622.541 | H11: =+(G11*$H$5)+G11 -> 11164.29 | I11: =+(H11*$I$5)+H11 -> 11296.029 | J11: 11730 | K11: =+(J11*$K$5)+J11 -> 12339.96 | L11: =+(K11*$L$5)+K11 -> 12969.298 | M11: =+(L11*$M$5)+L11 -> 13122.336 | N11: 13865 | O11: =+(N11*$O$5)+N11 -> 14572.115 | P11: =+(O11*$P$5)+O11 -> 14744.066 | Q11: 12960 | R11: =+(Q11*$R$5)+Q11 -> 13112.928 | S11: 13660
B12: 7 | C12: GGT(gamma glutamiltransferasa) | D12: Unidad | E12: 9240 | F12: =+(E12*$F$5)+E12 -> 10097.472 | G12: =+(F12*$G$5)+F12 -> 10622.541 | H12: =+(G12*$H$5)+G12 -> 11164.29 | I12: =+(H12*$I$5)+H12 -> 11296.029 | J12: 11730 | K12: =+(J12*$K$5)+J12 -> 12339.96 | L12: =+(K12*$L$5)+K12 -> 12969.298 | M12: =+(L12*$M$5)+L12 -> 13122.336 | N12: 14318 | O12: =+(N12*$O$5)+N12 -> 15048.218 | P12: =+(O12*$P$5)+O12 -> 15225.787 | Q12: 12960 | R12: =+(Q12*$R$5)+Q12 -> 13112.928 | S12: 13820
B13: 8 | C13: Albúmina | D13: Unidad | E13: 10010 | F13: =+(E13*$F$5)+E13 -> 10938.928 | G13: =+(F13*$G$5)+F13 -> 11507.752 | H13: =+(G13*$H$5)+G13 -> 12094.648 | I13: =+(H13*$I$5)+H13 -> 12237.364 | J13: 12282 | K13: =+(J13*$K$5)+J13 -> 12920.664 | L13: =+(K13*$L$5)+K13 -> 13579.618 | M13: =+(L13*$M$5)+L13 -> 13739.857 | N13: 11793 | O13: =+(N13*$O$5)+N13 -> 12394.443 | P13: =+(O13*$P$5)+O13 -> 12540.697 | Q13: 12960 | R13: =+(Q13*$R$5)+Q13 -> 13112.928 | S13: 13131
B14: 9 | C14: Ácido úrico | D14: Unidad | E14: 10780 | F14: =+(E14*$F$5)+E14 -> 11780.384 | G14: =+(F14*$G$5)+F14 -> 12392.964 | H14: =+(G14*$H$5)+G14 -> 13025.005 | I14: =+(H14*$I$5)+H14 -> 13178.7 | J14: 13400 | K14: =+(J14*$K$5)+J14 -> 14096.8 | L14: =+(K14*$L$5)+K14 -> 14815.737 | M14: =+(L14*$M$5)+L14 -> 14990.562 | N14: 13030 | O14: =+(N14*$O$5)+N14 -> 13694.53 | P14: =+(O14*$P$5)+O14 -> 13856.125 | Q14: 12960 | R14: =+(Q14*$R$5)+Q14 -> 13112.928 | S14: 13987
B15: 10 | C15: Coprológico | D15: Unidad | E15: 12320 | F15: =+(E15*$F$5)+E15 -> 13463.296 | G15: =+(F15*$G$5)+F15 -> 14163.387 | H15: =+(G15*$H$5)+G15 -> 14885.72 | I15: =+(H15*$I$5)+H15 -> 15061.372 | J15: 15640 | K15: =+(J15*$K$5)+J15 -> 16453.28 | L15: =+(K15*$L$5)+K15 -> 17292.397 | M15: =+(L15*$M$5)+L15 -> 17496.448 | N15: 17299 | O15: =+(N15*$O$5)+N15 -> 18181.249 | P15: =+(O15*$P$5)+O15 -> 18395.788 | Q15: 15840 | R15: =+(Q15*$R$5)+Q15 -> 16026.912 | S15: 17306
B16: 11 | C16: Parásitos pulmonares | D16: Unidad | E16: 10780 | F16: =+(E16*$F$5)+E16 -> 11780.384 | G16: =+(F16*$G$5)+F16 -> 12392.964 | H16: =+(G16*$H$5)+G16 -> 13025.005 | I16: =+(H16*$I$5)+H16 -> 13178.7 | J16: 13685 | K16: =+(J16*$K$5)+J16 -> 14396.62 | L16: =+(K16*$L$5)+K16 -> 15130.848 | M16: =+(L16*$M$5)+L16 -> 15309.392 | N16: 15508 | O16: =+(N16*$O$5)+N16 -> 16298.908 | P16: =+(O16*$P$5)+O16 -> 16491.235 | Q16: 14400 | R16: =+(Q16*$R$5)+Q16 -> 14569.92 | S16: 15457
B17: 12 | C17: Prueba de Dennis | D17: Unidad | E17: 10780 | F17: =+(E17*$F$5)+E17 -> 11780.384 | G17: =+(F17*$G$5)+F17 -> 12392.964 | H17: =+(G17*$H$5)+G17 -> 13025.005 | I17: =+(H17*$I$5)+H17 -> 13178.7 | J17: 13685 | K17: =+(J17*$K$5)+J17 -> 14396.62 | L17: =+(K17*$L$5)+K17 -> 15130.848 | M17: =+(L17*$M$5)+L17 -> 15309.392 | N17: 15508 | O17: =+(N17*$O$5)+N17 -> 16298.908 | P17: =+(O17*$P$5)+O17 -> 16491.235 | Q17: 14400 | R17: =+(Q17*$R$5)+Q17 -> 14569.92 | S17: 15457
B18: 13 | C18: Citología Exfoliativa | D18: Unidad | E18: 16940 | F18: =+(E18*$F$5)+E18 -> 18512.032 | G18: =+(F18*$G$5)+F18 -> 19474.658 | H18: =+(G18*$H$5)+G18 -> 20467.865 | I18: =+(H18*$I$5)+H18 -> 20709.386 | J18: 21505 | K18: =+(J18*$K$5)+J18 -> 22623.26 | L18: =+(K18*$L$5)+K18 -> 23777.046 | M18: =+(L18*$M$5)+L18 -> 24057.615 | N18: 24314 | O18: =+(N18*$O$5)+N18 -> 25554.014 | P18: =+(O18*$P$5)+O18 -> 25855.551 | Q18: 10400 | R18: =+(Q18*$R$5)+Q18 -> 10522.72 | S18: 20145
... B20: 15 | C20: Diagnóstico histopatológico | D20: Unidad | E20: 80080 | F20: =+(E20*$F$5)+E20 -> 87511.424 | G20: =+(F20*$G$5)+F20 -> 92062.018 | H20: =+(G20*$H$5)+G20 -> 96757.181 | I20: =+(H20*$I$5)+H20 -> 97898.916 | J20: 104134 | K20: =+(J20*$K$5)+J20 -> 109548.97 | L20: =+(K20*$L$5)+K20 -> 115135.97 | M20: =+(L20*$M$5)+L20 -> 116494.57 | N20: 184000 | O20: =+(N20*$O$5)+N20 -> 193384 | P20: =+(O20*$P$5)+O20 -> 195665.93 | Q20: 178020 | R20: =+(Q20*$R$5)+Q20 -> 180120.64 | S20: 164094
B21: 16 | C21: Cultivo de bacterias aerobias | D21: Unidad | F21: =+(E21*$F$5)+E21 -> 0 | G21: =+(F21*$G$5)+F21 -> 0 | H21: =+(G21*$H$5)+G21 -> 0 | I21: =+(H21*$I$5)+H21 -> 0 | J21: 38000 | K21: =+(J21*$K$5)+J21 -> 39976 | L21: =+(K21*$L$5)+K21 -> 42014.776 | M21: =+(L21*$M$5)+L21 -> 42510.55 | N21: 45456 | O21: =+(N21*$O$5)+N21 -> 47774.256 | P21: =+(O21*$P$5)+O21 -> 48337.992 | Q21: 38335 | R21: =+(Q21*$R$5)+Q21 -> 38787.353 | S21: 43212
B22: 17 | C22: Cultivo de hongos | D22: Unidad | F22: =+(E22*$F$5)+E22 -> 0 | G22: =+(F22*$G$5)+F22 -> 0 | H22: =+(G22*$H$5)+G22 -> 0 | I22: =+(H22*$I$5)+H22 -> 0 | K22: =+(J22*$K$5)+J22 -> 0 | L22: =+(K22*$L$5)+K22 -> 0 | M22: =+(L22*$M$5)+L22 -> 0 | N22: 47500 | O22: =+(N22*$O$5)+N22 -> 49922.5 | P22: =+(O22*$P$5)+O22 -> 50511.586 | Q22: 41990 | R22: =+(Q22*$R$5)+Q22 -> 42485.482 | S22: 46499
B23: 18 | C23: Antibiograma | D23: Unidad | F23: =+(E23*$F$5)+E23 -> 0 | G23: =+(F23*$G$5)+F23 -> 0 | H23: =+(G23*$H$5)+G23 -> 0 | I23: =+(H23*$I$5)+H23 -> 0 | J23: 46058 | K23: =+(J23*$K$5)+J23 -> 48453.016 | L23: =+(K23*$L$5)+K23 -> 50924.12 | M23: =+(L23*$M$5)+L23 -> 51525.024 | N23: 48922 | O23: =+(N23*$O$5)+N23 -> 51417.022 | P23: =+(O23*$P$5)+O23 -> 52023.743 | Q23: 25500 | R23: =+(Q23*$R$5)+Q23 -> 25800.9 | S23: 38912
B24: 19 | C24: Necropsia roedores y lagomorfos | D24: Unidad | F24: =+(E24*$F$5)+E24 -> 0 | G24: =+(F24*$G$5)+F24 -> 0 | H24: =+(G24*$H$5)+G24 -> 0 | I24: =+(H24*$I$5)+H24 -> 0 | K24: =+(J24*$K$5)+J24 -> 0 | L24: =+(K24*$L$5)+K24 -> 0 | M24: =+(L24*$M$5)+L24 -> 0 | N24: 118631 | O24: =+(N24*$O$5)+N24 -> 124681.18 | P24: =+(O24*$P$5)+O24 -> 126152.42 | Q24: 190000 | R24: =+(Q24*$R$5)+Q24 -> 192242 | S24: 159197
B26: Referencia de colores
C27: Precios no encontrados

Sheet COTIZACION Y PROMEDIO FINAL
A1: COTIZACIÓN -2026 | H1: HISTORICOS PROMEDIO | I1: COTIZACIÓN | J1: PROMEDIO COTIZACIÓN E HISTORICOS | K1: REDONDEO | L1: POR CANTIDADES
A2: No. Item | B2: Descripción | C2: Presentación | D2: CANTIDAD | E2: VALOR UNITARIO | F2: VALOR TOTAL
A3: 1 | B3: Cuadro hemático | C3: Unidad | D3: 220 | E3: 21100 | F3: =+E3*D3 -> 4642000 | H3: =+'HISTORICO E INDEXADO '!S6 -> 16989 | I3: =+E3 -> 21100 | J3: =+(H3+I3)/2 -> 19044.5 | K3: =+ROUND(J3,0) -> 19045 | L3: =+K3*D3 -> 4189900
A4: 2 | B4: Proteínas totales | C4: Unidad | D4: 540 | E4: 17400 | F4: =+E4*D4 -> 9396000 | H4: =+'HISTORICO E INDEXADO '!S7 -> 13636 | I4: =+E4 -> 17400 | J4: =+(H4+I4)/2 -> 15518 | K4: =+ROUND(J4,0) -> 15518 | L4: =+K4*D4 -> 8379720
A5: 3 | B5: Fibrinógeno | C5: Unidad | D5: 220 | E5: 8600 | F5: =+E5*D5 -> 1892000 | H5: =+'HISTORICO E INDEXADO '!S8 -> 9339 | I5: =+E5 -> 8600 | J5: =+(H5+I5)/2 -> 8969.5 | K5: =+ROUND(J5,0) -> 8970 | L5: =+K5*D5 -> 1973400
A6: 4 | B6: Creatinina | C6: Unidad | D6: 540 | E6: 17400 | F6: =+E6*D6 -> 9396000 | H6: =+'HISTORICO E INDEXADO '!S9 -> 13613 | I6: =+E6 -> 17400 | J6: =+(H6+I6)/2 -> 15506.5 | K6: =+ROUND(J6,0) -> 15507 | L6: =+K6*D6 -> 8373780
A7: 5 | B7: Nitrógeno ureico | C7: Unidad | D7: 540 | E7: 17400 | F7: =+E7*D7 -> 9396000 | H7: =+'HISTORICO E INDEXADO '!S10 -> 13829 | I7: =+E7 -> 17400 | J7: =+(H7+I7)/2 -> 15614.5 | K7: =+ROUND(J7,0) -> 15615 | L7: =+K7*D7 -> 8432100
A8: 6 | B8: AST (aspartato amino transferasa) | C8: Unidad | D8: 540 | E8: 17400 | F8: =+E8*D8 -> 9396000 | H8: =+'HISTORICO E INDEXADO '!S11 -> 13660 | I8: =+E8 -> 17400 | J8: =+(H8+I8)/2 -> 15530 | K8: =+ROUND(J8,0) -> 15530 | L8: =+K8*D8 -> 8386200
A9: 7 | B9: GGT(gamma glutamiltransferasa) | C9: Unidad | D9: 220 | E9: 17400 | F9: =+E9*D9 -> 3828000 | H9: =+'HISTORICO E INDEXADO '!S12 -> 13820 | I9: =+E9 -> 17400 | J9: =+(H9+I9)/2 -> 15610 | K9: =+ROUND(J9,0) -> 15610 | L9: =+K9*D9 -> 3434200
A10: 8 | B10: Albúmina | C10: Unidad | D10: 220 | E10: 17400 | F10: =+E10*D10 -> 3828000 | H10: =+'HISTORICO E INDEXADO '!S13 -> 13131 | I10: =+E10 -> 17400 | J10: =+(H10+I10)/2 -> 15265.5 | K10: =+ROUND(J10,0) -> 15266 | L10: =+K10*D10 -> 3358520
A11: 9 | B11: Ácido úrico | C11: Unidad | D11: 20 | E11: 17400 | F11: =+E11*D11 -> 348000 | H11: =+'HISTORICO E INDEXADO '!S14 -> 13987 | I11: =+E11 -> 17400 | J11: =+(H11+I11)/2 -> 15693.5 | K11: =+ROUND(J11,0) -> 15694 | L11: =+K11*D11 -> 313880
A12: 10 | B12: Coprológico | C12: Unidad | D12: 320 | E12: 21200 | F12: =+E12*D12 -> 6784000 | H12: =+'HISTORICO E INDEXADO '!S15 -> 17306 | I12: =+E12 -> 21200 | J12: =+(H12+I12)/2 -> 19253 | K12: =+ROUND(J12,0) -> 19253 | L12: =+K12*D12 -> 6160960
A13: 11 | B13: Parásitos pulmonares | C13: Unidad | D13: 160 | E13: 19300 | F13: =+E13*D13 -> 3088000 | H13: =+'HISTORICO E INDEXADO '!S16 -> 15457 | I13: =+E13 -> 19300 | J13: =+(H13+I13)/2 -> 17378.5 | K13: =+ROUND(J13,0) -> 17379 | L13: =+K13*D13 -> 2780640
A14: 12 | B14: Prueba de Dennis | C14: Unidad | D14: 46 | E14: 19300 | F14: =+E14*D14 -> 887800 | H14: =+'HISTORICO E INDEXADO '!S17 -> 15457 | I14: =+E14 -> 19300 | J14: =+(H14+I14)/2 -> 17378.5 | K14: =+ROUND(J14,0) -> 17379 | L14: =+K14*D14 -> 799434
... A21: 19 | B21: Necropsia roedores y lagomorfos | C21: Unidad | D21: 5 | E21: 214000 | F21: =+E21*D21 -> 1070000 | H21: =+'HISTORICO E INDEXADO '!S24 -> 159197 | I21: =+E21 -> 214000 | J21: =+(H21+I21)/2 -> 186598.5 | K21: =+ROUND(J21,0) -> 186599 | L21: =+K21*D21 -> 932995
A22: TOTAL | F22: =+SUM(F3:F21) -> 120158800 | H22: TOTAL | L22: =+SUM(L3:L21) -> 109458084
A31: Descripción | B31: VALOR UNITARIO
A32: Cuadro hemático | B32: 21100
A33: Proteínas totales | B33: 17400
A34: Fibrinógeno | B34: 8600
A35: Creatinina | B35: 17400
A36: Nitrógeno ureico | B36: 17400
A37: AST (aspartato amino transferasa) | B37: 17400
A38: GGT(gamma glutamiltransferasa) | B38: 17400
A39: Albúmina | B39: 17400
A40: Ácido úrico | B40: 17400
A41: Coprológico | B41: 21200
A42: Parásitos pulmonares | B42: 19300
A43: Prueba de Dennis | B43: 19300
... A50: Necropsia roedores y lagomorfos | B50: 214000

Sheet ANALISIS POR ÍTEM
B2: No. Item | C2: Descripción | D2: Diferencia (%) cotización - Historico | F2: Diferencia ($) cotización - Historico | H2: No. Item | I2: Descripción | J2: Diferencia (%) cotización - Historico | L2: Diferencia ($) cotización - Historico
B3: 1 | C3: Cuadro hemático | D3: =+('COTIZACION Y PROMEDIO FINAL'!H3-'COTIZACION Y PROMEDIO FINAL'!I3)/'COTIZACION Y PROMEDIO FINAL'!I3*-1 -> 0.19483412 | E3: Aumento | F3: =+'COTIZACION Y PROMEDIO FINAL'!I3-'COTIZACION Y PROMEDIO FINAL'!H3 -> 4111 | H3: 3 | I3: Fibrinógeno | J3: -0.085930233 | K3: Disminuye | L3: -739
B4: 2 | C4: Proteínas totales | D4: =+('COTIZACION Y PROMEDIO FINAL'!H4-'COTIZACION Y PROMEDIO FINAL'!I4)/'COTIZACION Y PROMEDIO FINAL'!I4*-1 -> 0.21632184 | E4: Aumento | F4: =+'COTIZACION Y PROMEDIO FINAL'!I4-'COTIZACION Y PROMEDIO FINAL'!H4 -> 3764 | H4: 13 | I4: Citología Exfoliativa | J4: -0.43892857 | K4: Disminuye | L4: -6145
B5: 3 | C5: Fibrinógeno | D5: =+('COTIZACION Y PROMEDIO FINAL'!H5-'COTIZACION Y PROMEDIO FINAL'!I5)/'COTIZACION Y PROMEDIO FINAL'!I5*-1 -> -0.085930233 | E5: Disminuye | F5: =+'COTIZACION Y PROMEDIO FINAL'!I5-'COTIZACION Y PROMEDIO FINAL'!H5 -> -739 | H5: 14 | I5: Raspado piel | J5: -0.28620561 | K5: Disminuye | L5: -15312
B6: 4 | C6: Creatinina | D6: =+('COTIZACION Y PROMEDIO FINAL'!H6-'COTIZACION Y PROMEDIO FINAL'!I6)/'COTIZACION Y PROMEDIO FINAL'!I6*-1 -> 0.21764368 | E6: Aumento | F6: =+'COTIZACION Y PROMEDIO FINAL'!I6-'COTIZACION Y PROMEDIO FINAL'!H6 -> 3787 | H6: 18 | I6: Antibiograma | J6: -0.21221184 | K6: Disminuye | L6: -6812
B7: 5 | C7: Nitrógeno ureico | D7: =+('COTIZACION Y PROMEDIO FINAL'!H7-'COTIZACION Y PROMEDIO FINAL'!I7)/'COTIZACION Y PROMEDIO FINAL'!I7*-1 -> 0.20522989 | E7: Aumento | F7: =+'COTIZACION Y PROMEDIO FINAL'!I7-'COTIZACION Y PROMEDIO FINAL'!H7 -> 3571
B8: 6 | C8: AST (aspartato amino transferasa) | D8: =+('COTIZACION Y PROMEDIO FINAL'!H8-'COTIZACION Y PROMEDIO FINAL'!I8)/'COTIZACION Y PROMEDIO FINAL'!I8*-1 -> 0.21494253 | E8: Aumento | F8: =+'COTIZACION Y PROMEDIO FINAL'!I8-'COTIZACION Y PROMEDIO FINAL'!H8 -> 3740 | H8: No. Item | I8: Códigos UNSPSC | J8: Descripción | K8: Cantidad | L8: Valor Unitario | M8: Valor total
B9: 7 | C9: GGT(gamma glutamiltransferasa) | D9: =+('COTIZACION Y PROMEDIO FINAL'!H9-'COTIZACION Y PROMEDIO FINAL'!I9)/'COTIZACION Y PROMEDIO FINAL'!I9*-1 -> 0.20574713 | E9: Aumento | F9: =+'COTIZACION Y PROMEDIO FINAL'!I9-'COTIZACION Y PROMEDIO FINAL'!H9 -> 3580 | H9: 1 | I9: 70122002 | J9: Cuadro hemático | K9: 220
B10: 8 | C10: Albúmina | D10: =+('COTIZACION Y PROMEDIO FINAL'!H10-'COTIZACION Y PROMEDIO FINAL'!I10)/'COTIZACION Y PROMEDIO FINAL'!I10*-1 -> 0.24534483 | E10: Aumento | F10: =+'COTIZACION Y PROMEDIO FINAL'!I10-'COTIZACION Y PROMEDIO FINAL'!H10 -> 4269 | H10: 2 | I10: 70122002 | J10: Proteínas totales | K10: 540
B11: 9 | C11: Ácido úrico | D11: =+('COTIZACION Y PROMEDIO FINAL'!H11-'COTIZACION Y PROMEDIO FINAL'!I11)/'COTIZACION Y PROMEDIO FINAL'!I11*-1 -> 0.19614943 | E11: Aumento | F11: =+'COTIZACION Y PROMEDIO FINAL'!I11-'COTIZACION Y PROMEDIO FINAL'!H11 -> 3413 | H11: 3 | I11: 70122002 | J11: Fibrinógeno | K11: 220
B12: 10 | C12: Coprológico | D12: =+('COTIZACION Y PROMEDIO FINAL'!H12-'COTIZACION Y PROMEDIO FINAL'!I12)/'COTIZACION Y PROMEDIO FINAL'!I12*-1 -> 0.18367925 | E12: Aumento | F12: =+'COTIZACION Y PROMEDIO FINAL'!I12-'COTIZACION Y PROMEDIO FINAL'!H12 -> 3894 | H12: 4 | I12: 70122002 | J12: Creatinina | K12: 540
B13: 11 | C13: Parásitos pulmonares | D13: =+('COTIZACION Y PROMEDIO FINAL'!H13-'COTIZACION Y PROMEDIO FINAL'!I13)/'COTIZACION Y PROMEDIO FINAL'!I13*-1 -> 0.19911917 | E13: Aumento | F13: =+'COTIZACION Y PROMEDIO FINAL'!I13-'COTIZACION Y PROMEDIO FINAL'!H13 -> 3843 | H13: 5 | I13: 70122002 | J13: Nitrógeno ureico | K13: 540
B14: 12 | C14: Prueba de Dennis | D14: =+('COTIZACION Y PROMEDIO FINAL'!H14-'COTIZACION Y PROMEDIO FINAL'!I14)/'COTIZACION Y PROMEDIO FINAL'!I14*-1 -> 0.19911917 | E14: Aumento | F14: =+'COTIZACION Y PROMEDIO FINAL'!I14-'COTIZACION Y PROMEDIO FINAL'!H14 -> 3843 | H14: 6 | I14: 70122002 | J14: AST (aspartato amino transferasa) | K14: 540
B15: 13 | C15: Citología Exfoliativa | D15: =+('COTIZACION Y PROMEDIO FINAL'!H15-'COTIZACION Y PROMEDIO FINAL'!I15)/'COTIZACION Y PROMEDIO FINAL'!I15*-1 -> -0.43892857 | E15: Disminuye | F15: =+'COTIZACION Y PROMEDIO FINAL'!I15-'COTIZACION Y PROMEDIO FINAL'!H15 -> -6145 | H15: 7 | I15: 70122002 | J15: GGT(gamma glutamiltransferasa) | K15: 220
B16: 14 | C16: Raspado piel | D16: =+('COTIZACION Y PROMEDIO FINAL'!H16-'COTIZACION Y PROMEDIO FINAL'!I16)/'COTIZACION Y PROMEDIO FINAL'!I16*-1 -> -0.28620561 | E16: Disminuye | F16: =+'COTIZACION Y PROMEDIO FINAL'!I16-'COTIZACION Y PROMEDIO FINAL'!H16 -> -15312 | H16: 8 | I16: 70122002 | J16: Albúmina | K16: 220
B17: 15 | C17: Diagnóstico histopatológico | D17: =+('COTIZACION Y PROMEDIO FINAL'!H17-'COTIZACION Y PROMEDIO FINAL'!I17)/'COTIZACION Y PROMEDIO FINAL'!I17*-1 -> 0.20727536 | E17: Aumento | F17: =+'COTIZACION Y PROMEDIO FINAL'!I17-'COTIZACION Y PROMEDIO FINAL'!H17 -> 42906 | H17: 9 | I17: 70122002 | J17: Ácido úrico | K17: 20
B18: 16 | C18: Cultivo de bacterias aerobias | D18: =+('COTIZACION Y PROMEDIO FINAL'!H18-'COTIZACION Y PROMEDIO FINAL'!I18)/'COTIZACION Y PROMEDIO FINAL'!I18*-1 -> 0.10534161 | E18: Aumento | F18: =+'COTIZACION Y PROMEDIO FINAL'!I18-'COTIZACION Y PROMEDIO FINAL'!H18 -> 5088 | H18: 10 | I18: 70122002 | J18: Coprológico | K18: 320
B19: 17 | C19: Cultivo de hongos | D19: =+('COTIZACION Y PROMEDIO FINAL'!H19-'COTIZACION Y PROMEDIO FINAL'!I19)/'COTIZACION Y PROMEDIO FINAL'!I19*-1 -> 0.12100189 | E19: Aumento | F19: =+'COTIZACION Y PROMEDIO FINAL'!I19-'COTIZACION Y PROMEDIO FINAL'!H19 -> 6401 | H19: 11 | I19: 70122002 | J19: Parásitos pulmonares | K19: 160
B20: 18 | C20: Antibiograma | D20: =+('COTIZACION Y PROMEDIO FINAL'!H20-'COTIZACION Y PROMEDIO FINAL'!I20)/'COTIZACION Y PROMEDIO FINAL'!I20*-1 -> -0.21221184 | E20: Disminuye | F20: =+'COTIZACION Y PROMEDIO FINAL'!I20-'COTIZACION Y PROMEDIO FINAL'!H20 -> -6812 | H20: 12 | I20: 70122002 | J20: Prueba de Dennis | K20: 46
B21: 19 | C21: Necropsia roedores y lagomorfos | D21: =+('COTIZACION Y PROMEDIO FINAL'!H21-'COTIZACION Y PROMEDIO FINAL'!I21)/'COTIZACION Y PROMEDIO FINAL'!I21*-1 -> 0.25608879 | E21: Aumento | F21: =+'COTIZACION Y PROMEDIO FINAL'!I21-'COTIZACION Y PROMEDIO FINAL'!H21 -> 54803 | H21: 13 | I21: 70122002 | J21: Citología Exfoliativa | K21: 5
H22: 14 | I22: 70122002 | J22: Raspado piel | K22: 55
H23: 15 | I23: 70122002 | J23: Diagnóstico histopatológico | K23: 200
C24: Media | D24: =+MEDIAN(D3:D21) -> 0.19911917 | H24: 16 | I24: 70122002 | J24: Cultivo de bacterias aerobias | K24: 165
H25: 17 | I25: 70122002 | J25: Cultivo de hongos | K25: 45
H26: 18 | I26: 70122002 | J26: Antibiograma | K26: 45
H27: 19 | I27: 70122002 | J27: Necropsia roedores y lagomorfos | K27: 5

Sheet IPC - 2026
A3: Colombia, Indice de Precios al Consumidor (IPC)
A5: Variaciones porcentuales 2003 - 2026
A6: AÑO 2026, MES 1 | Y6: Base Diciembre de 2018 = 100,00
A7: Mes | B7: 2003 | C7: 2004 | D7: 2005 | E7: 2006 | F7: 2007 | G7: 2008 | H7: 2009 | I7: 2010 | J7: 2011 | K7: 2012 | L7: 2013 | M7: 2014 | N7: 2015 | O7: 2016 | P7: 2017 | Q7: 2018 | R7: 2019 | S7: 2020 | T7: 2021 | U7: 2022 | V7: 2023 | W7: 2024 | X7: 2025 | Y7: 2026
A8: Enero | B8: 1.17 | C8: 0.89 | D8: 0.82 | E8: 0.54 | F8: 0.77 | G8: 1.06 | H8: 0.59 | I8: 0.69 | J8: 0.91 | K8: 0.73 | L8: 0.3 | M8: 0.49 | N8: 0.64 | O8: 1.29 | P8: 1.02 | Q8: 0.63 | R8: 0.6 | S8: 0.42 | T8: 0.41 | U8: 1.67 | V8: 1.78 | W8: 0.92 | X8: 0.94 | Y8: 1.18
A9: Febrero | B9: 1.11 | C9: 1.2 | D9: 1.02 | E9: 0.66 | F9: 1.17 | G9: 1.51 | H9: 0.84 | I9: 0.83 | J9: 0.6 | K9: 0.61 | L9: 0.44 | M9: 0.63 | N9: 1.15 | O9: 1.28 | P9: 1.01 | Q9: 0.71 | R9: 0.57 | S9: 0.67 | T9: 0.64 | U9: 1.63 | V9: 1.66 | W9: 1.09 | X9: 1.14
A10: Marzo | B10: 1.05 | C10: 0.98 | D10: 0.77 | E10: 0.7 | F10: 1.21 | G10: 0.81 | H10: 0.5 | I10: 0.25 | J10: 0.27 | K10: 0.12 | L10: 0.21 | M10: 0.39 | N10: 0.59 | O10: 0.94 | P10: 0.47 | Q10: 0.24 | R10: 0.43 | S10: 0.57 | T10: 0.51 | U10: 1 | V10: 1.05 | W10: 0.7 | X10: 0.52
A11: Abril | B11: 1.15 | C11: 0.46 | D11: 0.44 | E11: 0.45 | F11: 0.9 | G11: 0.71 | H11: 0.32 | I11: 0.46 | J11: 0.12 | K11: 0.14 | L11: 0.25 | M11: 0.46 | N11: 0.54 | O11: 0.5 | P11: 0.47 | Q11: 0.46 | R11: 0.5 | S11: 0.16 | T11: 0.59 | U11: 1.25 | V11: 0.78 | W11: 0.59 | X11: 0.66
A12: Mayo | B12: 0.49 | C12: 0.38 | D12: 0.41 | E12: 0.33 | F12: 0.3 | G12: 0.93 | H12: 0.01 | I12: 0.1 | J12: 0.28 | K12: 0.3 | L12: 0.28 | M12: 0.48 | N12: 0.26 | O12: 0.51 | P12: 0.23 | Q12: 0.25 | R12: 0.31 | S12: -0.32 | T12: 1 | U12: 0.84 | V12: 0.43 | W12: 0.43 | X12: 0.32
A13: Junio | B13: -0.05 | C13: 0.6 | D13: 0.4 | E13: 0.3 | F13: 0.12 | G13: 0.86 | H13: -0.06 | I13: 0.11 | J13: 0.32 | K13: 0.08 | L13: 0.23 | M13: 0.09 | N13: 0.1 | O13: 0.48 | P13: 0.11 | Q13: 0.15 | R13: 0.27 | S13: -0.38 | T13: -0.05 | U13: 0.51 | V13: 0.3 | W13: 0.32 | X13: 0.1
A14: Julio | B14: -0.14 | C14: -0.03 | D14: 0.05 | E14: 0.41 | F14: 0.17 | G14: 0.48 | H14: -0.04 | I14: -0.04 | J14: 0.14 | K14: -0.02 | L14: 0.04 | M14: 0.15 | N14: 0.19 | O14: 0.52 | P14: -0.05 | Q14: -0.13 | R14: 0.22 | S14: 0 | T14: 0.32 | U14: 0.81 | V14: 0.5 | W14: 0.2 | X14: 0.28
A15: Agosto | B15: 0.31 | C15: 0.03 | D15: 0 | E15: 0.39 | F15: -0.13 | G15: 0.19 | H15: 0.04 | I15: 0.11 | J15: -0.03 | K15: 0.04 | L15: 0.08 | M15: 0.2 | N15: 0.48 | O15: -0.32 | P15: 0.14 | Q15: 0.12 | R15: 0.09 | S15: -0.01 | T15: 0.45 | U15: 1.02 | V15: 0.7 | W15: 0 | X15: 0.19
A16: Septiembre | B16: 0.22 | C16: 0.3 | D16: 0.43 | E16: 0.29 | F16: 0.08 | G16: -0.19 | H16: -0.11 | I16: -0.14 | J16: 0.31 | K16: 0.29 | L16: 0.29 | M16: 0.14 | N16: 0.72 | O16: -0.05 | P16: 0.04 | Q16: 0.16 | R16: 0.23 | S16: 0.32 | T16: 0.38 | U16: 0.93 | V16: 0.54 | W16: 0.24 | X16: 0.32
A17: Octubre | B17: 0.06 | C17: -0.01 | D17: 0.23 | E17: -0.14 | F17: 0.01 | G17: 0.35 | H17: -0.13 | I17: -0.09 | J17: 0.19 | K17: 0.16 | L17: -0.26 | M17: 0.16 | N17: 0.68 | O17: -0.06 | P17: 0.02 | Q17: 0.12 | R17: 0.16 | S17: -0.06 | T17: 0.01 | U17: 0.72 | V17: 0.25 | W17: -0.13 | X17: 0.18
A18: Noviembre | B18: 0.35 | C18: 0.28 | D18: 0.11 | E18: 0.24 | F18: 0.47 | G18: 0.28 | H18: -0.07 | I18: 0.19 | J18: 0.14 | K18: -0.14 | L18: -0.22 | M18: 0.13 | N18: 0.6 | O18: 0.11 | P18: 0.18 | Q18: 0.12 | R18: 0.1 | S18: -0.15 | T18: 0.5 | U18: 0.77 | V18: 0.47 | W18: 0.27 | X18: 0.07
A19: Diciembre | B19: 0.61 | C19: 0.3 | D19: 0.07 | E19: 0.23 | F19: 0.49 | G19: 0.44 | H19: 0.08 | I19: 0.65 | J19: 0.42 | K19: 0.09 | L19: 0.26 | M19: 0.27 | N19: 0.62 | O19: 0.42 | P19: 0.38 | Q19: 0.3 | R19: 0.26 | S19: 0.38 | T19: 0.73 | U19: 1.26 | V19: 0.45 | W19: 0.46 | X19: 0.27
A20: En año corrido | B20: 6.49 | C20: 5.5 | D20: 4.85 | E20: 4.48 | F20: 5.69 | G20: 7.67 | H20: 2 | I20: 3.17 | J20: 3.73 | K20: 2.44 | L20: 1.94 | M20: 3.66 | N20: 6.77 | O20: 5.75 | P20: 4.09 | Q20: 3.18 | R20: 3.8 | S20: 1.61 | T20: 5.62 | U20: 13.12 | V20: 9.28 | W20: 5.2 | X20: 5.1 | Y20: 1.18
A22: Fuente: DANE.
A23: Nota: La diferencia en la suma de las variables, obedece al sistema de aproximación y redondeo.
A24: Actualizado el 6 de Febrero de 2026

Sheet DISTRIBUCION PRESEUPUESTAL
B2: GRUPO 1: ALIMENTO CONCENTRADO | L2: DISTRIBUCIÓN POR DIRECCIÓN | M2: Producción | N2: Redes | O2: Investigación
B3: No. Item | C3: Cnatidades | D3: Descripción | E3: Presentación | F3: Promedio Historicos | G3: Promedio AMP | H3: Promedio Cotización | I3: Promedio final | J3: Redondeo aritmetico | K3: Multiplicado por cantidades
B5: 1 | C5: 200 | D5: Alimento concentrado para equinos. | E5: Bulto por 40 kilogramos | F5: =+'HISTORICO E INDEXADO '!S6 -> 16989 | G5: =+#REF! -> #REF! | H5: =+#REF! -> #REF! | I5: =+(F5+H5)/2 -> #REF! | J5: =+#REF! -> #REF! | K5: =+J5*C5 -> #REF! | L5: Hacienda Galindo y Serpentario | M5: =+K5 -> #REF!
B6: 2 | C6: 18 | D6: Alimento concentrado para aves. | E6: Bulto por 40 kilogramos | F6: =+'HISTORICO E INDEXADO '!S7 -> 13636 | G6: =+#REF! -> #REF! | H6: =+#REF! -> #REF! | I6: =+(F6+H6)/2 -> #REF! | J6: =+#REF! -> #REF! | K6: =+J6*C6 -> #REF! | L6: Hacienda Galindo y Serpentario (10) Grupo de Entomología -DISP (8) | M6: =+J6*10 -> #REF! | O6: =+J6*8 -> #REF!
B7: 3 | C7: 12 | D7: Alimento concentrado para ovinos. Nota 1 | E7: Bulto por 40 kilogramos | F7: =+'HISTORICO E INDEXADO '!S8 -> 9339 | G7: =+#REF! -> #REF! | H7: =+#REF! -> #REF! | I7: =+H7 -> #REF! | J7: =+#REF! -> #REF! | K7: =+J7*C7 -> #REF! | L7: Hacienda Galindo y Serpentario | M7: =+K7 -> #REF!
B8: 4 | C8: 5 | D8: Alfalfa peletizada. Nota 2 | E8: Bulto por 40 kilogramos | F8: =+'HISTORICO E INDEXADO '!S9 -> 13613 | G8: =+#REF! -> #REF! | H8: =+#REF! -> #REF! | I8: =+(G8+H8)/2 -> #REF! | J8: =+#REF! -> #REF! | K8: =+J8*C8 -> #REF! | L8: Hacienda Galindo y Serpentario | M8: =+K8 -> #REF!
B9: 5 | C9: 4 | D9: Sal ovinos línea pequeñas especies. Nota 3 | E9: Bulto por 40 kilogramos | F9: =+'HISTORICO E INDEXADO '!S10 -> 13829 | G9: =+#REF! -> #REF! | H9: =+#REF! -> #REF! | I9: =+H9 -> #REF! | J9: =+#REF! -> #REF! | K9: =+J9*C9 -> #REF! | L9: Hacienda Galindo y Serpentario | M9: =+K9 -> #REF!
B10: 6 | C10: 12 | D10: Suplemento equiforma. | E10: Caneca por 10 kilogramos | F10: =+'HISTORICO E INDEXADO '!S11 -> 13660 | G10: =+#REF! -> #REF! | H10: =+#REF! -> #REF! | I10: =+(F10+G10+H10)/3 -> #REF! | J10: =+#REF! -> #REF! | K10: =+J10*C10 -> #REF! | L10: Hacienda Galindo y Serpentario | M10: =+K10 -> #REF!
B11: 7 | C11: 2 | D11: Alimento concentrado para reptiles REPTOMIN STICKS. Nota 4 | E11: Bolsa por 1,2 kilogramos | F11: =+'HISTORICO E INDEXADO '!S12 -> 13820 | G11: =+#REF! -> #REF! | H11: =+#REF! -> #REF! | I11: =+(F11+H11)/2 -> #REF! | J11: =+#REF! -> #REF! | K11: =+J11*C11 -> #REF! | L11: Hacienda Galindo y Serpentario | M11: =+K11 -> #REF!
B12: 8 | C12: 10 | D12: Germen de Trigo | E12: Bolsa por 1 kilogramo | F12: =+'HISTORICO E INDEXADO '!S13 -> 13131 | G12: =+#REF! -> #REF! | H12: =+#REF! -> #REF! | I12: =+H12 -> #REF! | J12: =+#REF! -> #REF! | K12: =+J12*C12 -> #REF! | L12: Hacienda Galindo y Serpentario | M12: =+K12 -> #REF!
B13: 9 | C13: 28 | D13: Alimento Concentrado para conejos etapa de peridestete. Nota 5 | E13: Bulto por 10 kilogramos | F13: =+'HISTORICO E INDEXADO '!S17 -> 15457 | G13: =+#REF! -> #REF! | H13: =+#REF! -> #REF! | I13: =+(F13+H13)/2 -> #REF! | J13: =+#REF! -> #REF! | K13: =+J13*C13 -> #REF! | L13: Grupo de Animales de Laboratorio | M13: =+K13 -> #REF!
B14: 10 | C14: 4 | D14: Alfalfa en cubo | E14: Bulto por 25 kilogramos | F14: =+'HISTORICO E INDEXADO '!S24 -> 159197 | G14: =+#REF! -> #REF! | H14: =+#REF! -> #REF! | I14: =+H14 -> #REF! | J14: =+#REF! -> #REF! | K14: =+J14*C14 -> #REF! | L14: Grupo de Animales de Laboratorio | M14: =+K14 -> #REF!
B15: 11 | C15: 25 | D15: Heno para conejos | E15: Bolsa por 1 kilogramo | F15: =+'HISTORICO E INDEXADO '!#REF! -> #REF! | G15: =+#REF! -> #REF! | H15: =+#REF! -> #REF! | I15: =H15 -> #REF! | J15: =+#REF! -> #REF! | K15: =+J15*C15 -> #REF! | L15: Grupo de Animales de Laboratorio | M15: =+K15 -> #REF!
B16: 12 | C16: 28 | D16: Alimento concentrado para gatos | E16: Bolsa por Por 500 gramos | F16: =+'HISTORICO E INDEXADO '!#REF! -> #REF! | G16: =+#REF! -> #REF! | H16: =+#REF! -> #REF! | I16: =+(F16+H16)/2 -> #REF! | J16: =+#REF! -> #REF! | K16: =+J16*C16 -> #REF! | L16: Grupo de Entomología -DRSP (14) Grupo de Entomología -DISP (14) | N16: =+J16*14 -> #REF! | O16: =+J16*14 -> #REF!
B17: PRODUCCIÓN | L17: =+SUM(M5:M16) -> #REF!
B18: REDES | L18: =+SUM(N5:N16) -> #REF!
B19: INVESTIGACIÓN | L19: =+SUM(O5:O16) -> #REF!
B20: TOTAL | L20: =+L17+L18+L19 -> #REF!

Sheet DISTRIBUCION PRESUPUESTAL
B2: GRUPO 2: MEDICAMENTOS Y ELEMENTOS Y PRODUCTOS DE USO VETERINARIO: | L2: DISTRIBUCION POR DIRECCIÓN | M2: Produccion | N2: Investigación
B3: No. Item | C3: Cnatidades | D3: Descripción | E3: Presentación | F3: Promedio Historicos | G3: Promedio AMP | H3: Promedio Cotización | I3: Promedio final | J3: Redondeo aritmetico | K3: Multiplicado por cantidades
B5: 1 | C5: 2 | D5: Acetato de Aluminio loción | E5: Frasco por 120 ml | F5: =+#REF! -> #REF! | G5: =+#REF! -> #REF! | H5: =+#REF! -> #REF! | I5: =+(F5+H5)/2 -> #REF! | J5: =+ROUND(I5,0) -> #REF! | K5: =+J5*C5 -> #REF! | L5: Grupo de Animales de Laboratorio | M5: =+K5 -> #REF!
B6: 2 | C6: 5 | D6: Ácido Fusídico al 2% | E6: Tubo por 15 g | F6: =+#REF! -> #REF! | G6: =+#REF! -> #REF! | H6: =+#REF! -> #REF! | I6: =+(F6+H6)/2 -> #REF! | J6: =+ROUND(I6,0) -> #REF! | K6: =+J6*C6 -> #REF! | L6: Grupo de Animales de Laboratorio | M6: =+K6 -> #REF!
B7: 3 | C7: 3 | D7: Ácido poliacrílico al 0,2% | E7: Tubo por 10 g | F7: =+#REF! -> #REF! | G7: =+#REF! -> #REF! | H7: =+#REF! -> #REF! | I7: =+(F7+H7)/2 -> #REF! | J7: =+ROUND(I7,0) -> #REF! | K7: =+J7*C7 -> #REF! | L7: Grupo de Animales de Laboratorio | M7: =+K7 -> #REF!
B8: 4 | C8: 4 | D8: Agua oxigenada al 3% | E8: Frasco Por 1 litro | F8: =+#REF! -> #REF! | G8: =+#REF! -> #REF! | H8: =+#REF! -> #REF! | I8: =+H8 -> #REF! | J8: =+ROUND(I8,0) -> #REF! | K8: =+J8*C8 -> #REF! | L8: Grupo Animales de Laboratorio | M8: =+K8 -> #REF!
B9: 5 | C9: 10 | D9: Adrenalina solución inyectable, 1mg/mL. | E9: Ampolla por 1 ml | F9: =+#REF! -> #REF! | G9: =+#REF! -> #REF! | I9: =+(F9+H9)/2 -> #REF! | J9: =+ROUND(I9,0) -> #REF! | K9: =+J9*C9 -> #REF! | L9: Hacienda Galindo y Serpentario | M9: =+K9 -> #REF!
B10: 6 | C10: 9 | D10: Arena para gato sin olor | E10: Bulto por 25 Kg | F10: =+#REF! -> #REF! | G10: =+#REF! -> #REF! | I10: =+F10 -> #REF! | J10: =+ROUND(I10,0) -> #REF! | K10: =+J10*C10 -> #REF! | L10: Grupo de Animales de Laboratorio | M10: =+K10 -> #REF!
B11: 7 | C11: 60 cajas | D11: Cuchillas tipo minora | E11: Caja por 5 unidades | F11: =+#REF! -> #REF! | G11: =+#REF! -> #REF! | I11: =+(F11+G11)/2 -> #REF! | J11: =+ROUND(I11,0) -> #REF! | K11: =+J11*60 -> #REF! | L11: Hacienda Galindo y Serpentario | M11: =+K11 -> #REF!
B12: 8 | C12: 200 | D12: Cuchila de bisturí número 15 | E12: Unidad | F12: =+#REF! -> #REF! | G12: =+#REF! -> #REF! | H12: =+#REF! -> #REF! | I12: =+H12 -> #REF! | J12: =+ROUND(I12,0) -> #REF! | K12: =+J12*C12 -> #REF! | L12: Grupo de Animales de Laboratorio | M12: =+K12 -> #REF!
B13: 9 | C13: 200 | D13: Cuchila de bisturí número 10 | E13: Unidad | F13: =+#REF! -> #REF! | G13: =+#REF! -> #REF! | H13: =+#REF! -> #REF! | I13: =+H13 -> #REF! | J13: =+ROUND(I13,0) -> #REF! | K13: =+J13*C13 -> #REF! | L13: Grupo de Animales de Laboratorio | M13: =+K13 -> #REF!
B14: 10 | C14: 5 cajas | D14: Cuchila de bisturí número 24 | E14: Caja por 100 unidades | F14: =+#REF! -> #REF! | G14: =+#REF! -> #REF! | I14: =+F14 -> #REF! | J14: =+ROUND(I14,0) -> #REF! | K14: =+J14*5 -> #REF! | L14: Hacienda Galindo y Serpentario | M14: =+K14 -> #REF!
B15: 11 | C15: 4 | D15: Clorhexidina digluconato al 0,5% solución antiséptica | E15: Frasco spray por 120 ml | F15: =+#REF! -> #REF! | G15: =+#REF! -> #REF! | I15: =+(F15+G15)/2 -> #REF! | J15: =+ROUND(I15,0) -> #REF! | K15: =+J15*C15 -> #REF! | L15: Grupo de Animales de Laboratorio | M15: =+K15 -> #REF!
B16: 12 | C16: 10 | D16: Clorhexidina digluconato al 0,5% solución antiséptica | E16: Galón por 4000 ml | F16: =+#REF! -> #REF! | G16: =+#REF! -> #REF! | I16: =+(F16+G16)/2 -> #REF! | J16: =+ROUND(I16,0) -> #REF! | K16: =+J16*C16 -> #REF! | L16: Hacienda Galindo y Serpentario | M16: =+K16 -> #REF!
B17: 13 | C17: 1 | D17: Clorhexidina digluconato al 0,5% solución antiséptica | E17: Frasco por 1 litro | F17: =+#REF! -> #REF! | G17: =+#REF! -> #REF! | H17: =+#REF! -> #REF! | I17: =+(F17+G17+H17)/3 -> #REF! | J17: =+ROUND(I17,0) -> #REF! | K17: =+J17*C17 -> #REF! | L17: Grupo de Animales de Laboratorio | M17: =+K17 -> #REF!
B18: 14 | C18: 3 | D18: Colirio oftálmico, Neomicina sulfato 5 mg/ Prednisolona sodio fosfato 1,2 mg por ml, Antibiótico, antiinflamatorio. | E18: Frasco por 10 ml | F18: =+#REF! -> #REF! | G18: =+#REF! -> #REF! | H18: =+#REF! -> #REF! | I18: =+H18 -> #REF! | J18: =+ROUND(I18,0) -> #REF! | K18: =+J18*C18 -> #REF! | L18: Grupo de Animales de Laboratorio | M18: =+K18 -> #REF!
B19: 15 | C19: 2 | D19: Corta uñas para gato tipo tijeras, de 8 cm mango antideslizante y diseño ergonómico, cuchilla de acero inoxidable | E19: Unidad Unidad | F19: =+#REF! -> #REF! | G19: =+#REF! -> #REF! | H19: =+#REF! -> #REF! | I19: =+H19 -> #REF! | J19: =+ROUND(I19,0) -> #REF! | K19: =+J19*C19 -> #REF! | L19: Grupo Animales de Laboratorio | M19: =+K19 -> #REF!
B20: 16 | C20: 15 | D20: Crema cicatrizante a base de oxido de zinc 7 g/100g, Ácido fénico 1,5g/100g, Aceite de pino 2g/100g | E20: Frasco por 250 g | F20: =+#REF! -> #REF! | G20: =+#REF! -> #REF! | H20: =+#REF! -> #REF! | I20: =+(F20+H20)/2 -> #REF! | J20: =+ROUND(I20,0) -> #REF! | K20: =+J20*C20 -> #REF! | L20: Hacienda Galindo y Serpentario | M20: =+K20 -> #REF!
B21: 17 | C21: 1 | D21: Crema Dérmica. Composición: Antibacteriana, Antimicótica, Antiinflamatoria, Antipruriginosa, Antialérgica, Anestésica, Cicatrizante, Epitelizante. Por cada 100 g debe contener: •Gentamicina máxima 0,12 g. •Clotrimazol máximo 1 g. •Betametasona máximo 0,12 g. •Lidocaína máxima 0,50 g. •Vitamina A maximo 0,06 g. | E21: Tubo por 15 g | F21: =+#REF! -> #REF! | G21: =+#REF! -> #REF! | H21: =+#REF! -> #REF! | I21: =+H21 -> #REF! | J21: =+ROUND(I21,0) -> #REF! | K21: =+J21*C21 -> #REF! | L21: Grupo Animales de Laboratorio | M21: =+K21 -> #REF!
B22: 18 | C22: 8 | D22: Desparasitante a base de Pamoato de pirantel 300mg/mL suspensión oral | E22: Frasco por 160 ml | F22: =+#REF! -> #REF! | G22: =+#REF! -> #REF! | H22: =+#REF! -> #REF! | I22: =+(F22+H22)/2 -> #REF! | J22: =+ROUND(I22,0) -> #REF! | K22: =+J22*C22 -> #REF! | L22: Hacienda Galindo y Serpentario | M22: =+K22 -> #REF!
B23: 19 | C23: 20 | D23: Desparasitante oral en pasta con Ivermectina 1,55 g/100mg + prazicuantel 7,75 mg/100mg. | E23: Unidad jeringa por 7,74 g | F23: =+#REF! -> #REF! | G23: =+#REF! -> #REF! | H23: =+#REF! -> #REF! | I23: =+(F23+H23)/2 -> #REF! | J23: =+ROUND(I23,0) -> #REF! | K23: =+J23*C23 -> #REF! | L23: Hacienda Galindo y Serpentario | M23: =+K23 -> #REF!
B24: 20 | C24: 4 | D24: Euthanex solución inyectable | E24: Frasco por 50 ml | F24: =+#REF! -> #REF! | G24: =+#REF! -> #REF! | I24: =+F24 -> #REF! | J24: =+ROUND(I24,0) -> #REF! | K24: =+J24*C24 -> #REF! | L24: Grupo de Animales de Laboratorio | M24: =+K24 -> #REF!
B25: 21 | C25: 1 | D25: Febendazol suspensión oral al 10% | E25: Frasco por 1 litro | F25: =+#REF! -> #REF! | G25: =+#REF! -> #REF! | H25: =+#REF! -> #REF! | I25: =+(F25+H25)/2 -> #REF! | J25: =+ROUND(I25,0) -> #REF! | K25: =+J25*C25 -> #REF! | L25: Hacienda Galindo y Serpentario | M25: =+K25 -> #REF!
B26: 22 | C26: 2 | D26: Fenilbutazona solución inyectable al 20% | E26: Frasco por 50 ml | F26: =+#REF! -> #REF! | G26: =+#REF! -> #REF! | H26: =+#REF! -> #REF! | I26: =+(F26+H26+G26)/3 -> #REF! | J26: =+ROUND(I26,0) -> #REF! | K26: =+J26*C26 -> #REF! | L26: Hacienda Galindo y Serpentario | M26: =+K26 -> #REF!
B27: 23 | C27: 4 | D27: Probióticos en polvo soluble. Composición: •Bifidobacterium bifidum Min. 10.000 Mill. •UFC, Lactobacillus casei Min. 10.000 Mill. •UFC, Lactobacillus acidophilus Min. 10.000 Mill. •UFC, Streptococcus faecium Min. 30.000 Mill. •Electrolitos: sodio 2.39 g. •Potasio 1.50 g. •Citrato 0.47 g. •Ácido cítrico 30 g. | E27: Sobre Por 100 g | F27: =+#REF! -> #REF! | G27: =+#REF! -> #REF! | H27: =+#REF! -> #REF! | I27: =+H27 -> #REF! | J27: =+ROUND(I27,0) -> #REF! | K27: =+J27*C27 -> #REF! | L27: Grupo Animales de Laboratorio | M27: =+K27 -> #REF!
B28: 24 | C28: 1 | D28: Flunixin Meglumine, solución inyectable al 5% | E28: Frasco por 50 ml | F28: =+#REF! -> #REF! | G28: =+#REF! -> #REF! | H28: =+#REF! -> #REF! | I28: =+(F28+H28+G28)/3 -> #REF! | J28: =+ROUND(I28,0) -> #REF! | K28: =+J28*C28 -> #REF! | L28: Hacienda Galindo y Serpentario | M28: =+K28 -> #REF!
B29: 25 | C29: 3 | D29: Complemento vitamínico: Composición: Vitamina B1 (Mín.)1.500 mg. Vitamina B12 (Mín.) 2.000 mcg. Vitamina B6 (Mín.) 1.000 mg. Colina (Mín.) 10 g. Pantotenato de Cálcio (Mín.) 1.000 mg. Ácido Aspártico (Mín.) 3.178,6 mg. Ácido Glutámico (Mín.) 6.144,8 mg. Alanina (Mín.) 7.085,6 mg. Arginina (Mín.) 2.383,7 mg. Betaína (Mín.) 10 g. Cisteína (Mín.) 216 mg. Fenilalanina (Mín.) 1.574,1 mg. Glicina (Mín.) 15,808 g. Histidina (Mín.) 1.209,2 mg. Isoleucina (Mín.) 678 mg. L-Carnitina (Mín.) 10 g. Leucina (Mín.) 2.525,2 mg. Lisina (Mín.) 10,035 g. Metionina (Mín.) 5.993,2 mg. Prolina (Mín.) 9.059,8 mg. Serina (Mín.) 440,7 mg. Tirosina (Mín.) 431,1 mg. Treonina (Mín.) 123,9 mg. Triptofano (Mín.) 156 mg. Valina (Mín.) 1.499,2 mg. Glucosa (Mín.) 200 g | E29: Frasco gotero 30 ml | F29: =+#REF! -> #REF! | G29: =+#REF! -> #REF! | H29: =+#REF! -> #REF! | I29: =+H29 -> #REF! | J29: =+ROUND(I29,0) -> #REF! | K29: =+J29*C29 -> #REF! | L29: Grupo de Animales de Laboratorio | M29: =+K29 -> #REF!
B30: 26 | C30: 3 | D30: Multivitamínico con una combinación de oligoelementos . Composición: Vitamina B1 (Mín.) 1.500 mg. Vitamina B12 (Mín.) 15.000 mcg. Vitamina B2 (Mín.) 1.500 mg. Vitamina B6 (Mín.) 1.200 mg. Vitamina K3 (Mín.) 250 mg. Ácido Fólico (Mín.) 5.000 mg. Ácido Nicotínico (Mín.) 1.200 mg. Cobalto (Mín.) 100 mg. Cobre (Mín.) 500 mg. Hierro (Mín.) 4.500 mg. Pantotenato de Calcio (Mín.) 1.200 mg. Zinc (Mín.) 5.000 mg. Glucosa (Mín.) 200 g | E30: Frasco gotero 30 ml | F30: =+#REF! -> #REF! | G30: =+#REF! -> #REF! | H30: =+#REF! -> #REF! | I30: =+H30 -> #REF! | J30: =+ROUND(I30,0) -> #REF! | K30: =+J30*C30 -> #REF! | L30: Grupo de Animales de Laboratorio | M30: =+K30 -> #REF!
B31: 27 | C31: 9 | D31: Ketamina 50, solución inyectable al 5% | E31: Frasco por 50 ml | F31: =+#REF! -> #REF! | G31: =+#REF! -> #REF! | I31: =+(F31+G31)/2 -> #REF! | J31: =+ROUND(I31,0) -> #REF! | K31: =+J31*C31 -> #REF! | L31: Grupo de Animales de Laboratorio (4) Hacienda Galindo y Serpentario (2) Grupo de Entomología -DISP (3) | M31: =+J31*6 -> #REF! | N31: =+J31*3 -> #REF!
B32: 28 | C32: 2 | D32: Lidocaína clorhidrato al 2%, jalea | E32: Tubo colapsible 30 ml | F32: =+#REF! -> #REF! | G32: =+#REF! -> #REF! | H32: =+#REF! -> #REF! | I32: =+(F32+H32)/2 -> #REF! | J32: =+ROUND(I32,0) -> #REF! | K32: =+J32*C32 -> #REF! | L32: Grupo de Animales de Laboratorio | M32: =+K32 -> #REF!
B33: 29 | C33: 16 | D33: Lidocaína clorhidrato SIN epinefrina solución inyectable de clorhidrato, 20 mg/mL | E33: Frasco 50 ml | F33: =+#REF! -> #REF! | G33: =+#REF! -> #REF! | I33: =+(F33+G33)/2 -> #REF! | J33: =+ROUND(I33,0) -> #REF! | K33: =+J33*C33 -> #REF! | L33: Grupo de Animales de Laboratorio (1) Hacienda Galindo y Serpentario (15) | M33: =+K33 -> #REF!
B34: 30 | C34: 4 | D34: Meloxicam solución inyectable al 0,2% | E34: Frasco por 20 ml. | F34: =+#REF! -> #REF! | G34: =+#REF! -> #REF! | H34: =+#REF! -> #REF! | I34: =+H34 -> #REF! | J34: =+ROUND(I34,0) -> #REF! | K34: =+J34*C34 -> #REF! | L34: Grupo de Animales de Laboratorio (2) Hacienda Galindo y Serpentario (2) | M34: =+K34 -> #REF!
B35: 31 | C35: 4 | D35: Meloxicam solución oral al 0,15% | E35: Frasco gotero por 10 ml | F35: =+#REF! -> #REF! | G35: =+#REF! -> #REF! | I35: =+F35 -> #REF! | J35: =+ROUND(I35,0) -> #REF! | K35: =+J35*C35 -> #REF! | L35: Grupo de Animales de Laboratorio | M35: =+K35 -> #REF!
B36: 32 | C36: 50 | D36: Oxibendazol al 20%, jeringa por 20 ml | E36: Unidad jeringa por 20 ml | F36: =+#REF! -> #REF! | G36: =+#REF! -> #REF! | I36: =+F36 -> #REF! | J36: =+ROUND(I36,0) -> #REF! | K36: =+J36*C36 -> #REF! | L36: Hacienda Galindo y Serpentario | M36: =+K36 -> #REF!
B37: 33 | C37: 1 | D37: Hidrolizado de proteínas animales (19 aminoácidos) Vitamina A, Vitamina D3, Tiamina, Riboflavina Piridoxina, Cianocobalamina, Biotina, Inositol, Menadiona, Nicotinamida, D-Pantenol. Composición: Vitamina A max. 10.000.000 UI. Vitamina D3 max. 2.000.000 UI. Vitamina K3 max. 0.5 g. Nicotinamida max. 16.25 g. D-pantenol max. 7.5 g. Vitamina B1 max. 1.75 g. Vitamina B2 max. 2.5 g. Vitamina B6 max. 1.125 g. Vitamina B12 max. 1.25 mg. Vitamina B15 max. 0.5 mg. Biotina max. 1 mg. Inositol max. 2.5 g. Alanina max. 11.5 g. Arginina max. 6.1 g. Ácido aspártico max. 9.5 g. Fenilalanina max. 5.5 g. Cistina max. 2.1 g. Ácido glutámico max. 21.5 g. Glicina max 9.6 g. Histidina max. 4.7 g. Isoleucina max. 6 g. Leucina max.12.5 g. Lisina max. 9.5 g. Metionina max. 2.2 g. Prolina max.9.5 g. Serina max.7 g.. Treonina max. 5 g. Triptófano max. 2 g. Tirosina max. 5.3 g. Valina max.6.2 g. Excipientes max. Csp 1.000 ml | E37: Frasco por 1 litro | F37: =+#REF! -> #REF! | G37: =+#REF! -> #REF! | H37: =+#REF! -> #REF! | I37: =+H37 -> #REF! | J37: =+ROUND(I37,0) -> #REF! | K37: =+J37*C37 -> #REF! | L37: Grupo Animales de Laboratorio | M37: =+K37 -> #REF!
B38: 34 | C38: 50 | D38: Solución ringer lactato | E38: Bolsa por 1 Litro | F38: =+#REF! -> #REF! | G38: =+#REF! -> #REF! | H38: =+#REF! -> #REF! | I38: =+(F38+H38)/2 -> #REF! | J38: =+ROUND(I38,0) -> #REF! | K38: =+J38*C38 -> #REF! | L38: Hacienda Galindo y Serpentario | M38: =+K38 -> #REF!
B39: 35 | C39: 42 | D39: Solución salina fisiológica al 0,9% estéril | E39: Bolsa por 50 ml | F39: =+#REF! -> #REF! | G39: =+#REF! -> #REF! | H39: =+#REF! -> #REF! | I39: =+(F39+H39)/2 -> #REF! | J39: =+ROUND(I39,0) -> #REF! | K39: =+J39*C39 -> #REF! | L39: Grupo de Aseguramiento de la Calidad (30) Grupo de Animales de Laboratorio (12) | M39: =+K39 -> #REF!
B40: 36 | C40: 500 | D40: Solucion salina fisiológica al 0,9% estéril | E40: Bolsa por 1 litro | F40: =+#REF! -> #REF! | G40: =+#REF! -> #REF! | H40: =+#REF! -> #REF! | I40: =+(F40+H40)/2 -> #REF! | J40: =+ROUND(I40,0) -> #REF! | K40: =+J40*C40 -> #REF! | L40: Hacienda Galindo y Serpentario | M40: =+K40 -> #REF!
B41: 37 | C41: 6 | D41: Sutura no absorbible, monofilamento de polipropileno, 6-0 aguja 3/8 por 12 mm | E41: Unidad | F41: =+#REF! -> #REF! | G41: =+#REF! -> #REF! | H41: =+#REF! -> #REF! | I41: =+(F41+H41)/2 -> #REF! | J41: =+ROUND(I41,0) -> #REF! | K41: =+J41*C41 -> #REF! | L41: Grupo de Animales de Laboratorio | M41: =+K41 -> #REF!
B42: 38 | C42: 6 | D42: Sutura no absorbible, monofilamento de polipropileno, 7-0, de 75 cm (30”), doble aguja 3/8 de 9.3 mm | E42: Unidad | F42: =+#REF! -> #REF! | G42: =+#REF! -> #REF! | H42: =+#REF! -> #REF! | I42: =+(F42+H42)/2 -> #REF! | J42: =+ROUND(I42,0) -> #REF! | K42: =+J42*C42 -> #REF! | L42: Grupo de Animales de Laboratorio | M42: =+K42 -> #REF!
B43: 39 | C43: 1 | D43: Sulfadiazina sódica y Trimetoprim micronizado, antibacteriano de amplio espectro, Sulfadiazina sódica 400 mg/Trimetoprim micronizado 80 mg. en 1 ml, suspensión oral, 30 ml | E43: Frasco por 30 ml | F43: =+#REF! -> #REF! | G43: =+#REF! -> #REF! | H43: =+#REF! -> #REF! | I43: =+H43 -> #REF! | J43: =+ROUND(I43,0) -> #REF! | K43: =+J43*C43 -> #REF! | L43: Grupo de Animales de Laboratorio | M43: =+K43 -> #REF!
B44: 40 | C44: 57 | D44: Vacuna Tétano-Influenza | E44: Unidad | F44: =+#REF! -> #REF! | G44: =+#REF! -> #REF! | H44: =+#REF! -> #REF! | I44: =+(F44+H44+G44)/3 -> #REF! | J44: =+ROUND(I44,0) -> #REF! | K44: =+J44*C44 -> #REF! | L44: Hacienda Galindo y Serpentario | M44: =+K44 -> #REF!
B45: 41 | C45: 3 | D45: Xilacine solución inyectable al 10 % | E45: Frasco por 50 ml | F45: =+#REF! -> #REF! | G45: =+#REF! -> #REF! | I45: =+(F45+G45)/2 -> #REF! | J45: =+ROUND(I45,0) -> #REF! | K45: =+J45*C45 -> #REF! | L45: Hacienda Galindo y Serpentario | M45: =+K45 -> #REF!
B46: 42 | C46: 4 | D46: Xilacine, solución inyectable al 2% | E46: Frasco por 20 ml | F46: =+#REF! -> #REF! | G46: =+#REF! -> #REF! | H46: =+#REF! -> #REF! | I46: =+(F46+H46+G46)/3 -> #REF! | J46: =+ROUND(I46,0) -> #REF! | K46: =+J46*C46 -> #REF! | L46: Grupo de Animales de Laboratorio | M46: =+K46 -> #REF!
B47: 43 | C47: 2 | D47: Tiletamimna (como clorhidrato) 125 mg + Zolazepam (como clorhidrato) 125 mg + excipientes + Diluyente estéril x 5mL. | E47: Frasco por 5 ml | F47: =+#REF! -> #REF! | G47: =+#REF! -> #REF! | I47: =+(F47+G47)/2 -> #REF! | J47: =+ROUND(I47,0) -> #REF! | K47: =+J47*C47 -> #REF! | L47: Grupo de Entomología -DISP | N47: =+K47 -> #REF!
B48: 44 | C48: 2 | D48: Isoflurano | E48: Frasco 250 ml | F48: =+#REF! -> #REF! | G48: =+#REF! -> #REF! | H48: =+#REF! -> #REF! | I48: =+H48 -> #REF! | J48: =+ROUND(I48,0) -> #REF! | K48: =+J48*C48 -> #REF! | L48: Grupo de Animales de Laboratorio | M48: =+K48 -> #REF!
B49: 45 | C49: 1 | D49: Enrofloxacina solución para administración oral al 20% | E49: Frasco 1 Litro | F49: =+#REF! -> #REF! | G49: =+#REF! -> #REF! | H49: =+#REF! -> #REF! | I49: =+H49 -> #REF! | J49: =+ROUND(I49,0) -> #REF! | K49: =+J49*C49 -> #REF! | L49: Hacienda Galindo y Serpentario | M49: =+K49 -> #REF!
B50: 46 | C50: 20 | D50: Sonda nasogástrica levin calibre # 20 | E50: Unidad | F50: =+#REF! -> #REF! | G50: =+#REF! -> #REF! | H50: =+#REF! -> #REF! | I50: =+H50 -> #REF! | J50: =+ROUND(I50,0) -> #REF! | K50: =+J50*C50 -> #REF! | L50: Hacienda Galindo y Serpentario | M50: =+K50 -> #REF!
B51: 47 | C51: 2 | D51: Sonda nasogástrica para potro de 1/4" | E51: Unidad | F51: =+#REF! -> #REF! | G51: =+#REF! -> #REF! | H51: =+#REF! -> #REF! | I51: =+H51 -> #REF! | J51: =+ROUND(I51,0) -> #REF! | K51: =+J51*C51 -> #REF! | L51: Hacienda Galindo y Serpentario | M51: =+K51 -> #REF!
B52: 48 | C52: 3 | D52: Multivitamínico. Composición: metionina 1 g. Histidina 0,5g. Triptofano 0,250g. Cacodilato de sodio 3g. Cianocobalamina 0.004 g. Excipientes csp 100m. | E52: Frasco por 100 ml | F52: =+#REF! -> #REF! | G52: =+#REF! -> #REF! | H52: =+#REF! -> #REF! | I52: =+H52 -> #REF! | J52: =+ROUND(I52,0) -> #REF! | K52: =+J52*C52 -> #REF! | L52: Hacienda Galindo y Serpentario | M52: =+K52 -> #REF!
B53: 49 | C53: 10 | D53: Penicilina procaínica de 9´000.000 UI con su diluyente. | E53: Unidad | F53: =+#REF! -> #REF! | G53: =+#REF! -> #REF! | H53: =+#REF! -> #REF! | I53: =+H53 -> #REF! | J53: =+ROUND(I53,0) -> #REF! | K53: =+J53*C53 -> #REF! | L53: Hacienda Galindo y Serpentario | M53: =+K53 -> #REF!
B54: 50 | C54: 5 | D54: Óxido de zinc en polvo | E54: Bolsa por 1 kg | F54: =+#REF! -> #REF! | G54: =+#REF! -> #REF! | H54: =+#REF! -> #REF! | I54: =+H54 -> #REF! | J54: =+ROUND(I54,0) -> #REF! | K54: =+J54*C54 -> #REF! | L54: Hacienda Galindo y Serpentario | M54: =+K54 -> #REF!
B55: 51 | C55: 1 | D55: Subsalicilato de bismuto, suspención oral de uso veterinario, concentración de 1.75g/100 mL | E55: Frasco por 1 litro | F55: =+#REF! -> #REF! | G55: =+#REF! -> #REF! | H55: =+#REF! -> #REF! | I55: =+(G55+H55)/2 -> #REF! | J55: =+ROUND(I55,0) -> #REF! | K55: =+J55*C55 -> #REF! | L55: Hacienda Galindo y Serpentario | M55: =+K55 -> #REF!
B56: 52 | C56: 2 | D56: Pegante líquido atrapamoscas | E56: Frasco por 1 litro | F56: =+#REF! -> #REF! | G56: =+#REF! -> #REF! | H56: =+#REF! -> #REF! | I56: =+H56 -> #REF! | J56: =+ROUND(I56,0) -> #REF! | K56: =+J56*C56 -> #REF! | L56: Hacienda Galindo y Serpentario | M56: =+K56 -> #REF!
B57: 53 | C57: 1 | D57: Gentamicina solución inyetable al 10% | E57: Frasco por 250 ml | F57: =+#REF! -> #REF! | G57: =+#REF! -> #REF! | H57: =+#REF! -> #REF! | I57: =+H57 -> #REF! | J57: =+ROUND(I57,0) -> #REF! | K57: =+J57*C57 -> #REF! | L57: Hacienda Galindo y Serpentario | M57: =+K57 -> #REF!
B58: 54 | C58: 5 | D58: Aluminio polvo micronizado, suspención para pulverización cutánea | E58: Frasco por 210 ml | F58: =+#REF! -> #REF! | G58: =+#REF! -> #REF! | H58: =+#REF! -> #REF! | I58: =+H58 -> #REF! | J58: =+ROUND(I58,0) -> #REF! | K58: =+J58*C58 -> #REF! | L58: Hacienda Galindo y Serpentario | M58: =+K58 -> #REF!
B59: 55 | C59: 2 | D59: Difenhidramina solución inyectable al 2.5% | E59: Frasco por 50 ml | F59: =+#REF! -> #REF! | G59: =+#REF! -> #REF! | H59: =+#REF! -> #REF! | I59: =+(G59+H59)/2 -> #REF! | J59: =+ROUND(I59,0) -> #REF! | K59: =+J59*C59 -> #REF! | L59: Hacienda Galindo y Serpentario | M59: =+K59 -> #REF!
B60: 56 | C60: 50 | D60: Levamisol suspensión oral al 4% | E60: Cojín por 30 ml | F60: =+#REF! -> #REF! | G60: =+#REF! -> #REF! | H60: =+#REF! -> #REF! | I60: =+H60 -> #REF! | J60: =+ROUND(I60,0) -> #REF! | K60: =+J60*C60 -> #REF! | L60: Hacienda Galindo y Serpentario | M60: =+K60 -> #REF!
B61: PRODUCCIÓN | L61: =+SUM(M5:M60) -> #REF!
B62: INVESTIGACIÓN | L62: =+SUM(N5:N60) -> #REF!
B63: TOTAL | L63: =+L61+L62 -> #REF!
