Workbook
Name \0: #REF!
Name \0: #REF!
Name \0: #REF!
Name \0: #REF!
Name \0: #REF!
Name \0: #REF!
Name \0: #REF!
Name \00: #REF!
Name \00: #REF!
Name \a: #REF!
Name \AA: [1]LIQUIDACION!#REF!
Name \AA: [1]LIQUIDACION!#REF!
Name \b: [2]STRSUMM0!#REF!
Name \b: [2]STRSUMM0!#REF!
Name \bb: [2]STRSUMM0!#REF!
Name \bb: [2]STRSUMM0!#REF!
Name \E: #REF!
Name \E: #REF!
Name \EE: #REF!
Name \G: #REF!
Name \k: '[3]7422CW00'!#REF!
Name \k: '[3]7422CW00'!#REF!
Name \l: [4]STRSUMM0!#REF!
Name \l: [4]STRSUMM0!#REF!
Name \M: #REF!
Name \ñ: '[5]7422CW00'!#REF!
Name \ñ: '[5]7422CW00'!#REF!
Name \P: #REF!
Name \R: #REF!
Name \s: #REF!
Name \V: #REF!
Name \X: 'APU 10'!ERR
Name \X: 'APU 6'!ERR
Name \X: 'APU 7'!ERR
Name \X: 'APU 8'!ERR
Name \X: 'APU 9'!ERR
Name \X: MEMORIAS!ERR
Name \X: [0]!ERR
Name \Z: 'APU 10'!ERR
Name \Z: 'APU 6'!ERR
Name \Z: 'APU 7'!ERR
Name \Z: 'APU 8'!ERR
Name \Z: 'APU 9'!ERR
Name \Z: MEMORIAS!ERR
Name \Z: [0]!ERR
Name _________AFC1: [6]INV!$A$25:$D$28
Name _________AFC3: [6]INV!$F$25:$I$28
Name _________AFC5: [6]INV!$K$25:$N$28
Name _________BGC1: [6]INV!$A$5:$D$8
Name _________BGC3: [6]INV!$F$5:$I$8
Name _________BGC5: [6]INV!$K$5:$N$8
Name _________CAC1: [6]INV!$A$19:$D$22
Name _________CAC3: [6]INV!$F$19:$I$22
Name _________CAC5: [6]INV!$K$19:$N$22
Name _________PJ50: #REF!
Name _________PJ50: #REF!
Name _________SBC1: [6]INV!$A$12:$D$15
Name _________SBC3: [6]INV!$F$12:$I$15
Name _________SBC5: [6]INV!$K$12:$N$15
Name ________AFC1: [6]INV!$A$25:$D$28

Sheet PPTO 
C2: PRESUPUESTO
C3: MEJORAMIENTO Y ADECUACIÓN EN LA INFRAESTRUCTURA DE LA ESTACION DE POLICIA EN EL MUNICIPIO DE GACHALÁ CUNDINAMARCA
B5: ESPECIFICACIÓN | C5: ITEM | D5: DESCRIPCIÓN DE LA ACTIVIDAD | E5: UNIDAD | F5: CANT | G5: VALOR UNITARIO | H5: SUBTOTAL
C6: 1 | D6: PRELIMINARES CUBIERTA (SECTOR ENTRADA PRINCIPAL) | E6: Sub Total | H6: =SUM(H7:H9) -> 298005
B7: APU 1 | C7: 1.1 | D7: LIMPIEZA DE CANAL EN CONCRETO | E7: ML | F7: 14 | G7: 8169 | H7: =+ROUND(F7*G7,2) -> 114366
B8: APU 6 | C8: 1.2 | D8: RETIRO DE MEMEBRANA IMPERMEABALE | E8: ML | F8: 15 | G8: 8109 | H8: =+ROUND(F8*G8,2) -> 121635
B9: APU 2 | C9: 1.3 | D9: DESMONTE DE BAJANTES EN PVC | E9: ML | F9: 6 | G9: 10334 | H9: =+ROUND(F9*G9,2) -> 62004
C10: 2 | D10: DEMOLICIONES (INGRESO PARQUEADERO) | E10: Sub Total | H10: =SUM(H11) -> 77221.82
B11: ICCU_CONS_1.17 | C11: 2.1 | D11: DEMOLICION MUROS EN MAMPOSTERÍA 0.25 M INCL RETIRO | E11: M2 | F11: 2.21 | G11: 34942 | H11: =F11*G11 -> 77221.82
C12: 3 | D12: ADECUACIÓN (CUBIERTA FRONTAL) | E12: Sub Total | H12: =SUM(H13:H18) -> 5244350.6
B13: APU 3 | C13: 3.1 | D13: RESANE IMPERMEABILIZADO MUROS 1:3, E=1.5 CM (INCLUYE ACABADO SIMILAR AL EXISTENTE) | E13: M2 | F13: 11.2 | G13: 35342 | H13: =+ROUND(F13*G13,2) -> 395830.4
B14: ICCU_CONS_18.16 | C14: 3.2 | D14: ESTUCO Y VINILO 3 MANOS | E14: M2 | F14: 11.2 | G14: 30281 | H14: =+ROUND(F14*G14,2) -> 339147.2
B15: ICCU_CONS_8.3 | C15: 3.3 | D15: CONCRETO 3000 PSI | E15: M3 | F15: 4.2 | G15: 529087 | H15: =+ROUND(F15*G15,2) -> 2222165.4
B16: ICCU_CONS_7.5. | C16: 3.4 | D16: BAJANTE PVC AGUAS LLUVIAS D= 4" INC ACCESORIOS | E16: ML | F16: 6 | G16: 61323 | H16: =+ROUND(F16*G16,2) -> 367938
B17: ICCU_CONS_7.35. | C17: 3.5 | D17: MEMBRANA IMPERMEABLE PARA CUBIERTA, DOS CAPAS | E17: M2 | F17: 30 | G17: 54154 | H17: =+ROUND(F17*G17,2) -> 1624620
B18: ICCU_CONS_6.5 | C18: 3.6 | D18: IMPERMEABILIZIACION INTEGRAL MORTERO SIKA | E18: M2 | F18: 11.2 | G18: 26308 | H18: =F18*G18 -> 294649.6
C19: 4 | D19: MAMPOSTERIA, PAÑETE Y PINTURA | E19: Sub Total | H19: =SUM(H20:H26) -> 14256435
B20: ICCU_CONS_5.50 | C20: 4.1 | D20: LAVADA DE FACHADA | E20: M2 | F20: 71.07 | G20: 12935 | H20: =+ROUND(F20*G20,2) -> 919290.45
B21: ICUU_CONS_6.15 | C21: 4.2 | D21: PAÑETE IMPERMEABILIZADO MUROS 1:3, E=1.5 CM | E21: M2 | F21: 71.07 | G21: 35284 | H21: =+ROUND(F21*G21,2) -> 2507633.9
B22: APU 7 | C22: 4.3 | D22: VINILO SOBRE PAÑETE A LA INTEMPERIE | E22: M2 | F22: 71.07 | G22: 11862 | H22: =+ROUND(F22*G22,2) -> 843032.34
B23: ICCU_CONS_18.16 | C23: 4.4 | D23: ESTUCO Y VINILO 3 MANOS | E23: M2 | F23: 200 | G23: 30281 | H23: =F23*G23 -> 6056200
B24: APU 8 | C24: 4.5 | D24: CONCRETO 3500 PSI ELEVACIÓN | E24: M3 | F24: 0.88 | G24: 702403 | H24: =+ROUND(F24*G24,2) -> 618114.64
B25: ICCU_CONS_4.22 | C25: 4.6 | D25: ACERO FIGURADO 60000 PSI | E25: KG | F25: 23.96 | G25: 8953 | H25: =+ROUND(F25*G25,2) -> 214513.88
B26: APU 5 | C26: 4.7 | D26: CERRAMIENTO EN CONCERTINA (INCLUYE ALAMBRE DE PUAS NO. 12 Y ÁNGULOS) | E26: ML | F26: 75 | G26: 41302 | H26: =+ROUND(F26*G26,2) -> 3097650
C27: 5 | D27: ADECUACIÓN DE 2 BAÑOS EN HABITACIÓN | E27: Sub Total | H27: =SUM(H28:H37) -> 2340873.6
B28: ICCU_CONS_1.12 | C28: 5.1 | D28: DEMOLICIÓN DE ENCHAPE EN MURO, INC RETIRO | E28: M2 | F28: 2.5 | G28: 14116 | H28: =F28*G28 -> 35290
B29: ICCU_CONS_1.10 | C29: 5.2 | D29: DEMOLICIÓN BALDOSA DE PISO, INC RETIRO | E29: M2 | F29: 1.2 | G29: 13166 | H29: =F29*G29 -> 15799.2
B30: ICCU_CONS_1.13 | C30: 5.3 | D30: DEMOLICIÓN PAÑETE DE MURO, INC RETIRO | E30: M2 | F30: 0.42 | G30: 14955 | H30: =F30*G30 -> 6281.1
B31: ICCU_CONS_1.27 | C31: 5.4 | D31: DEMOLICIÓN PLACA PISO 0.15 M, INC RETIRO | E31: M2 | F31: 0.35 | G31: 42423 | H31: =F31*G31 -> 14848.05
B32: ICCU_CONS_8.4 | C32: 5.5 | D32: CONCRETO 2500 PSI | E32: M3 | F32: 0.05 | G32: 487424 | H32: =F32*G32 -> 24371.2
B33: ICCU_CONS_6.5 | C33: 5.6 | D33: IMPERMEABILIZIACION INTEGRAL MORTERO SIKA | E33: M2 | F33: 6.1 | G33: 26308 | H33: =F33*G33 -> 160478.8
B34: ICCU_CONS_14.1 | C34: 5.7 | D34: BALDOSA CERÁMICA PISO-PARED 20X20, CALIDAD PRIMERA | E34: M2 | F34: 2.5 | G34: 91086 | H34: =F34*G34 -> 227715
B35: APU 4 | C35: 5.8 | D35: BALDOSA CERÁMICA PISO 34 X 34, CALIDAD PRIMERA (TEXTURA SIMILAR AL EXISTENTE) | E35: M2 | F35: 1.2 | G35: 85022 | H35: =F35*G35 -> 102026.4
B36: ICCU_CONS_18.30 | C36: 5.9 | D36: PINTURA TIPO KORAZA PARA EXTERIOR | E36: M2 | F36: 58.5 | G36: 28232 | H36: =+ROUND(F36*G36,2) -> 1651572
B37: APU 3 | C37: 5.10. | D37: RESANE IMPERMEABILIZADO MUROS 1:3, E=1.5 CM (INCLUYE ACABADO SIMILAR AL EXISTENTE) | E37: M2 | F37: 2.9 | G37: 35342 | H37: =+ROUND(F37*G37,2) -> 102491.8
C38: 6 | D38: LUMINARIAS ( REFLECTORES) EXTERIOR | E38: Sub Total | H38: =H39 -> 3852832
B39: ICCU_CONS_12.30 | C39: 6.1 | D39: LUMINARIA 150W SODIO | E39: UND | F39: 4 | G39: 963208 | H39: =+ROUND(F39*G39,2) -> 3852832
C40: 7 | D40: ADECUACION (DOMO) | E40: Sub Total | H40: =H41 -> 56313.6
B41: ICCU_CONS_18.1 | C41: 7.1 | D41: IMPERMEABILIZACIÓN FACHADA EN SIKA TRANSPARENTE 10 AÑOS O SIMILAR | E41: M2 | F41: 3.2 | G41: 17598 | H41: =+ROUND(F41*G41,2) -> 56313.6
C42: 8 | D42: PINTURA DE PUERTAS Y VENTANAS GENERAL | E42: Sub Total | H42: =H43+H44+H45+H46 -> 2371808
...

Sheet MEMORIAS
C2: MUNICIPIO DE GACHALÁ - CUNDINAMARCA
C3: MEMORIA DE CANTIDADES
I5: ACTIVIDAD
B6: ÍTEM | C6: 1.1 | H6: =VLOOKUP($C$6,[114]PPTO!$C$6:$E$37,2,0) -> LIMPIEZA DE CANAL EN CONCRETO
B7: CAPITULO | C7: 1
B8: UNIDAD | C8: =VLOOKUP($C$6,[114]PPTO!$C$6:$E$37,3,0) -> ML
B9: ESQUEMA-REGISTRO FOTOGRAFICO | H9: DESCRIPCIÓN | I9: DIMENSIONES | M9: TOTAL
I10: L | J10: A | K10: H | L10: No
H11: Canal en Concreto | I11: 14 | M11: =I11 -> 14
H16: TOTAL | M16: =ROUND(SUM(M11:M15),2) -> 14
C18: MUNICIPIO DE GACHALÁ - CUNDINAMARCA
C19: MEMORIA DE CANTIDADES
I21: ACTIVIDAD
B22: ÍTEM | C22: 1.2 | H22: =VLOOKUP(C22,[114]PPTO!$C$6:$E$37,2,0) -> RETIRO DE MEMEBRANA IMPERMEABALE
B23: CAPITULO | C23: 1
B24: UNIDAD | C24: =VLOOKUP(C22,[114]PPTO!$C$6:$E$37,3,0) -> ML
B25: ESQUEMA-REGISTRO FOTOGRAFICO | H25: DESCRIPCIÓN | I25: DIMENSIONES | M25: TOTAL
I26: L | J26: A | K26: H | L26: No
H27: Retiro Membrana Impermeable | I27: 15 | M27: =I27 -> 15
H32: TOTAL | M32: =ROUND(SUM(M27:M31),2) -> 15
C34: MUNICIPIO DE GACHALÁ - CUNDINAMARCA
C35: MEMORIA DE CANTIDADES
I37: ACTIVIDAD
B38: ÍTEM | C38: 1.3 | H38: =VLOOKUP(C38,[114]PPTO!$C$6:$E$37,2,0) -> DESMONTE DE BAJANTES EN PVC
B39: CAPITULO | C39: 1
B40: UNIDAD | C40: =VLOOKUP(C38,[114]PPTO!$C$6:$E$37,3,0) -> ML
B41: ESQUEMA-REGISTRO FOTOGRAFICO | H41: DESCRIPCIÓN | I41: DIMENSIONES | M41: TOTAL
I42: L | J42: A | K42: H | L42: No
H43: Bajante | I43: 6 | M43: =I43 -> 6
H48: TOTAL | M48: =ROUND(SUM(M43:M47),2) -> 6
C50: MUNICIPIO DE GACHALÁ - CUNDINAMARCA
C51: MEMORIA DE CANTIDADES
I53: ACTIVIDAD
B54: ÍTEM | C54: 2.1 | H54: =VLOOKUP(C54,[114]PPTO!$C$6:$E$37,2,0) -> DEMOLICION MUROS EN MAMPOSTERÍA 0.25 M INCL RETIRO
B55: CAPITULO | C55: 2
B56: UNIDAD | C56: =VLOOKUP(C54,[114]PPTO!$C$6:$E$37,3,0) -> M2
B57: ESQUEMA-REGISTRO FOTOGRAFICO | H57: DESCRIPCIÓN | I57: DIMENSIONES | M57: TOTAL
I58: L | J58: A | K58: H | L58: No
H59: Muro Derecho Entrada Parqueadero | I59: 1.3 | K59: 1.7 | M59: =I59*K59 -> 2.21
H64: TOTAL | M64: =ROUND(SUM(M59:M63),2) -> 2.21
...

Sheet APU 1
B3: MUNICIPIO DE GACHALÁ SECRETARÍA DE INFRAESTRUCTURA | C3: ANÁLISIS DE PRECIOS UNITARIOS APU 1 BASE ICCU
B4: PRESUPUESTO
B5: CAPITULO | C5: ='PPTO '!D6 -> PRELIMINARES CUBIERTA (SECTOR ENTRADA PRINCIPAL)
B6: ITEM | C6: ='PPTO '!C6 -> 1
B7: UNIDAD | C7: ML
B8: ACTIVIDAD | C8: ='PPTO '!D7 -> LIMPIEZA DE CANAL EN CONCRETO
B10: I. EQUIPO
B11: DESCRIPCIÓN | D11: UNIDAD | E11: TARIFA | F11: REND. | G11: VR. UNIT.
B12: HERRAMIENTA MENOR | D12: GL | E12: =+H30*0.05 -> 226.17833 | F12: 75 | G12: =+E12/F12 -> 3.0157111
B13: ELEMENTOS DE SEGURIDAD EN ALTURAS | D13: un | E13: 255000 | F13: 70 | G13: =+E13/F13 -> 3642.8571
G15: SUBTOTAL | H15: =SUM(G12:G13) -> 3645.8729
B16: II. MATERIALES EN OBRA
B17: DESCRIPCIÓN | D17: UNIDAD | E17: PRECIO UNIT. | F17: CANT. | G17: VR. TOTAL.
G18: =+E18*F18 -> 0
G20: SUBTOTAL | H20: =SUM(G18:G19) -> 0
B21: III. TRANSPORTE
B22: DESCRIPCIÓN | D22: UNIDAD | E22: CANT. | F22: V. UNIT | G22: V. PARCIAL
G25: SUBTOTAL | H25: =SUM(G23:G24) -> 0
B26: IV. MANO DE OBRA
B27: TRABAJADOR | C27: JORNAL | D27: PREST. | E27: JOR. TOTAL | F27: REND. | G27: V. PARCIAL
B28: AYUDANTE (2) AA | C28: 123370 | D28: 2.2 | E28: =+C28*D28 -> 271414 | F28: 60 | G28: =+E28/F28 -> 4523.5667
G30: SUBTOTAL | H30: =SUM(G28:G29) -> 4523.5667
F32: TOTAL COSTO DIRECTO | H32: =+ROUND(H15+H20+H25+H30,0) -> 8169

Sheet APU 2
B3: MUNICIPIO DE GACHALÁ SECRETARÍA DE INFRAESTRUCTURA | C3: ANÁLISIS DE PRECIOS UNITARIOS APU 2 BASE ICCU
B4: PRESUPUESTO
B5: CAPITULO | C5: ='PPTO '!D9 -> DESMONTE DE BAJANTES EN PVC
B6: ITEM | C6: ='PPTO '!C6 -> 1
B7: UNIDAD | C7: ML
B8: ACTIVIDAD | C8: ='PPTO '!D9 -> DESMONTE DE BAJANTES EN PVC
B10: I. EQUIPO
B11: DESCRIPCIÓN | D11: UNIDAD | E11: TARIFA | F11: REND. | G11: VR. UNIT.
B12: ANDAMIO SECCIÓN | D12: D | E12: 1831 | F12: 3 | G12: =+E12/F12 -> 610.33333
G14: SUBTOTAL | H14: =SUM(G12:G12) -> 610.33333
B15: II. MATERIALES EN OBRA
B16: DESCRIPCIÓN | D16: UNIDAD | E16: PRECIO UNIT. | F16: CANT. | G16: VR. TOTAL.
G18: SUBTOTAL | H18: =SUM(G17:G17) -> 0
B19: III. TRANSPORTE
B20: DESCRIPCIÓN | D20: UNIDAD | E20: CANT. | F20: V. UNIT | G20: V. PARCIAL
G23: SUBTOTAL | H23: =SUM(G21:G22) -> 0
B24: IV. MANO DE OBRA
B25: TRABAJADOR | C25: JORNAL | D25: PREST. | E25: JOR. TOTAL | F25: REND. | G25: V. PARCIAL
B26: MANO DE OBRA AA | C26: 154687 | D26: 2.2 | E26: =+C26*D26 -> 340311.4 | F26: 35 | G26: =+E26/F26 -> 9723.1829
G28: SUBTOTAL | H28: =SUM(G26:G27) -> 9723.1829
F30: TOTAL COSTO DIRECTO | H30: =+ROUND(H14+H18+H23+H28,0) -> 10334

Sheet APU 3
B3: MUNICIPIO DE GACHALÁ SECRETARÍA DE INFRAESTRUCTURA | C3: ANÁLISIS DE PRECIOS UNITARIOS APU 3 BASE ICCU
B4: PRESUPUESTO
B5: CAPITULO | C5: ADECUACIÓN (CUBIERTA FRONTAL) Y ADECUACIÓN DE BAÑO EN HABITACIÓN
B6: ITEM | C6: 3 Y 5
B7: UNIDAD | C7: M2
B8: ACTIVIDAD | C8: RESANE IMPERMEABILIZADO MUROS 1:3, E=1.5 CM (INCLUYE ACABADO SIMILAR AL EXISTENTE)
B10: I. EQUIPO
B11: DESCRIPCIÓN | D11: UNIDAD | E11: TARIFA | F11: REND. | G11: VR. UNIT.
B12: HERRAMIENTA MENOR | D12: GL | E12: 1130.89 | F12: 1 | G12: =E12/F12 -> 1130.89
G14: SUBTOTAL | H14: =SUM(G12:G12) -> 1130.89
B15: II. MATERIALES EN OBRA
B16: DESCRIPCIÓN | D16: UNIDAD | E16: PRECIO UNIT. | F16: CANT. | G16: VR. TOTAL.
B17: MORTERO 1:3 IMPERMEABILIZADO ELABORADO EN OBRA | D17: LT | E17: 956560 | F17: 0.016 | G17: =E17*F17 -> 15304.96
G18: SUBTOTAL | H18: =G17 -> 15304.96
B19: III. TRANSPORTE
B20: DESCRIPCIÓN | D20: UNIDAD | E20: CANT. | F20: V. UNIT | G20: V. PARCIAL
G23: SUBTOTAL | H23: =SUM(G21:G22) -> 0
B24: IV. MANO DE OBRA
B25: TRABAJADOR | C25: JORNAL | D25: PREST. | E25: JOR. TOTAL | F25: REND. | G25: V. PARCIAL
B26: MANO DE OBRA AA | C26: 154687 | D26: 2.2 | E26: =+C26*D26 -> 340311.4 | F26: 18 | G26: =+E26/F26 -> 18906.189
G28: SUBTOTAL | H28: =SUM(G26:G27) -> 18906.189
F30: TOTAL COSTO DIRECTO | H30: =+ROUND(H14+H18+H23+H28,0) -> 35342

Sheet APU 4
B3: MUNICIPIO DE GACHALÁ SECRETARÍA DE INFRAESTRUCTURA | C3: ANÁLISIS DE PRECIOS UNITARIOS APU 4 BASE ICCU
B4: PRESUPUESTO
B5: CAPITULO | C5: ='PPTO '!D27 -> ADECUACIÓN DE 2 BAÑOS EN HABITACIÓN
B6: ITEM | C6: ='PPTO '!C27 -> 5
B7: UNIDAD | C7: M2
B8: ACTIVIDAD | C8: ='PPTO '!D35 -> BALDOSA CERÁMICA PISO 34 X 34, CALIDAD PRIMERA (TEXTURA SIMILAR AL EXISTENTE)
B10: I. EQUIPO
B11: DESCRIPCIÓN | D11: UNIDAD | E11: TARIFA | F11: REND. | G11: VR. UNIT.
G14: SUBTOTAL | H14: =SUM(G12:G13) -> 0
B15: II. MATERIALES EN OBRA
B16: DESCRIPCIÓN | D16: UNIDAD | E16: PRECIO UNIT. | F16: CANT. | G16: VR. TOTAL.
B17: ARENA LAVADA DE PEÑA EN MUNICIPIO | D17: M3 | E17: 81017 | F17: 0.02 | G17: =E17*F17 -> 1620.34
B18: CEMENTO BLANCO | D18: KG | E18: 3244 | F18: 0.51 | G18: =E18*F18 -> 1654.44
B19: CEMENTO GRIS | D19: KG | E19: 753 | F19: 6.27 | G19: =E19*F19 -> 4721.31
B20: AGUA | D20: LT | E20: 76 | F20: 2.85 | G20: =E20*F20 -> 216.6
B21: CERÁMICA 34X34, CALIDAD PRIMERA | D21: M2 | E21: 39400 | F21: 1.03 | G21: =E21*F21 -> 40582
B22: BOQUILLA CON LÁTEX CONCOLOR PARA JUNTAS ESTRECHAS | D22: Kg | E22: 6240 | F22: 0.01 | G22: =E22*F22 -> 62.4 | I22: https://www.homecenter.com.co/homecenter-co/product/132813/boquilla-con-latex-concolor-para-juntas-estrechas-super-blanco-5kg/132813/
G24: SUBTOTAL | H24: =SUM(G17:G23) -> 48857.09
B25: III. TRANSPORTE
B26: DESCRIPCIÓN | D26: UNIDAD | E26: CANT. | F26: V. UNIT | G26: V. PARCIAL
G29: SUBTOTAL | H29: =SUM(G27:G28) -> 0
B30: IV. MANO DE OBRA
B31: TRABAJADOR | C31: JORNAL | D31: PREST. | E31: JOR. TOTAL | F31: REND. | G31: V. PARCIAL
B32: MANO DE OBRA AA | C32: 154687 | D32: 2.2 | E32: =+C32*D32 -> 340311.4 | F32: 9.41 | G32: =+E32/F32 -> 36164.867
G34: SUBTOTAL | H34: =SUM(G32:G33) -> 36164.867
F36: TOTAL COSTO DIRECTO | H36: =+ROUND(H14+H24+H29+H34,0) -> 85022

Sheet APU 5
B3: MUNICIPIO DE GACHALÁ SECRETARÍA DE INFRAESTRUCTURA | C3: ANÁLISIS DE PRECIOS UNITARIOS APU 5 BASE ICCU
B4: PRESUPUESTO
B5: CAPITULO | C5: ='PPTO '!D19 -> MAMPOSTERIA, PAÑETE Y PINTURA
B6: ITEM | C6: ='PPTO '!C19 -> 4
B7: UNIDAD | C7: ML
B8: ACTIVIDAD | C8: ='PPTO '!D26 -> CERRAMIENTO EN CONCERTINA (INCLUYE ALAMBRE DE PUAS NO. 12 Y ÁNGULOS)
B10: I. EQUIPO
B11: DESCRIPCIÓN | D11: UNIDAD | E11: TARIFA | F11: REND. | G11: VR. UNIT.
B12: TALADRO PERCUTOR | D12: D | E12: 20000 | F12: 58 | G12: =E12/F12 -> 344.82759
G14: SUBTOTAL | H14: =SUM(G12:G13) -> 344.82759
B15: II. MATERIALES EN OBRA
B16: DESCRIPCIÓN | D16: UNIDAD | E16: PRECIO UNIT. | F16: CANT. | G16: VR. TOTAL.
B17: ÁNGULO HIERRO 1" X 1" X 6M CON AGUJERO | D17: ML | E17: 8577 | F17: 0.5 | G17: =E17*F17 -> 4288.5
B18: ALAMBRE DE PUA CALIBRE 12.5 A 2 LINEAS | D18: ML | E18: =864*2 -> 1728 | F18: 1 | G18: =E18*F18 -> 1728 | I18: https://www.homecenter.com.co/homecenter-co/product/214423/alambre-de-pua-calibre-125-x-350mt-36kg-iowa/214423/
B19: CONCERTINA 30 CM DIAMETRO | D19: ML | E19: 7990 | F19: 1.05 | G19: =E19*F19 -> 8389.5 | I19: https://www.homecenter.com.co/homecenter-co/product/272739/concertina-10mt-max-30cm-diametro-max-67-circulos/272739/?kid=goosho_1246419&shop=googleShopping&gad_source=1&gad_campaignid=20228062686&gbraid=0AAAAADt6wnqlxM4mSG8AfsRiBOp5QZhxV&gclid=CjwKCAjwgb_CBhBMEiwA0p3oOAtBz0RXt2W8YlDJneCm2UE-XFdqmUjOO2kRoDdPQp-aGMlgoswkChoCCv8QAvD_BwE
B20: MORTERO 1:4 ELABORADO EN OBRA | D20: M3 | E20: 613218 | F20: 0.01 | G20: =E20*F20 -> 6132.18
G21: SUBTOTAL | H21: =SUM(G17:G20) -> 20538.18
B22: III. TRANSPORTE
B23: DESCRIPCIÓN | D23: UNIDAD | E23: CANT. | F23: V. UNIT | G23: V. PARCIAL
G26: SUBTOTAL | H26: =SUM(G24:G25) -> 0
B27: IV. MANO DE OBRA
B28: TRABAJADOR | C28: JORNAL | D28: PREST. | E28: JOR. TOTAL | F28: REND. | G28: V. PARCIAL
B29: MANO DE OBRA DD | C29: 185624 | D29: 2.2 | E29: =+C29*D29 -> 408372.8 | F29: 20 | G29: =+E29/F29 -> 20418.64
G31: SUBTOTAL | H31: =SUM(G29:G30) -> 20418.64
F33: TOTAL COSTO DIRECTO | H33: =+ROUND(H14+H21+H26+H31,0) -> 41302

Sheet APU 6
B3: MUNICIPIO DE GACHALÁ SECRETARÍA DE INFRAESTRUCTURA | C3: ANÁLISIS DE PRECIOS UNITARIOS APU 6 BASE ICCU
B4: PRESUPUESTO
B5: CAPITULO | C5: ='PPTO '!D6 -> PRELIMINARES CUBIERTA (SECTOR ENTRADA PRINCIPAL)
B6: ITEM | C6: ='PPTO '!C6 -> 1
B7: UNIDAD | C7: ML
B8: ACTIVIDAD | C8: ='PPTO '!D8 -> RETIRO DE MEMEBRANA IMPERMEABALE
B10: I. EQUIPO
B11: DESCRIPCIÓN | D11: UNIDAD | E11: TARIFA | F11: REND. | G11: VR. UNIT.
B12: HERRAMIENTA MENOR | D12: GL | E12: 1063.47 | F12: 1 | G12: =E12/F12 -> 1063.47
B13: ELEMENTOS DE SEGURIDAD EN ALTURAS | D13: un | E13: 255000 | F13: 70 | G13: =+E13/F13 -> 3642.8571
G14: SUBTOTAL | H14: =SUM(G12:G13) -> 4706.3271
B15: II. MATERIALES EN OBRA
B16: DESCRIPCIÓN | D16: UNIDAD | E16: PRECIO UNIT. | F16: CANT. | G16: VR. TOTAL.
G18: SUBTOTAL | H18: =G17 -> 0
B19: III. TRANSPORTE
B20: DESCRIPCIÓN | D20: UNIDAD | E20: CANT. | F20: V. UNIT | G20: V. PARCIAL
G23: SUBTOTAL | H23: =SUM(G21:G22) -> 0
B24: IV. MANO DE OBRA
B25: TRABAJADOR | C25: JORNAL | D25: PREST. | E25: JOR. TOTAL | F25: REND. | G25: V. PARCIAL
B26: MANO DE OBRA AA | C26: 154687 | D26: 2.2 | E26: =+C26*D26 -> 340311.4 | F26: 100 | G26: =+E26/F26 -> 3403.114
G28: SUBTOTAL | H28: =SUM(G26:G27) -> 3403.114
F30: TOTAL COSTO DIRECTO | H30: =+ROUND(H14+H18+H23+H28,0) -> 8109

Sheet APU 7
B3: MUNICIPIO DE GACHALÁ SECRETARÍA DE INFRAESTRUCTURA | C3: ANÁLISIS DE PRECIOS UNITARIOS APU 7 BASE ICCU
B4: PRESUPUESTO
B5: CAPITULO | C5: ='PPTO '!D19 -> MAMPOSTERIA, PAÑETE Y PINTURA
B6: ITEM | C6: ='PPTO '!C19 -> 4
B7: UNIDAD | C7: M2
B8: ACTIVIDAD | C8: ='PPTO '!D22 -> VINILO SOBRE PAÑETE A LA INTEMPERIE
B10: I. EQUIPO
B11: DESCRIPCIÓN | D11: UNIDAD | E11: TARIFA | F11: REND. | G11: VR. UNIT.
G14: SUBTOTAL | H14: =SUM(G12:G13) -> 0
B15: II. MATERIALES EN OBRA
B16: DESCRIPCIÓN | D16: UNIDAD | E16: PRECIO UNIT. | F16: CANT. | G16: VR. TOTAL.
B17: Pintura para Fachada Blanco | D17: GLN | E17: =319900/5 -> 63980 | F17: 0.04 | G17: =E17*F17 -> 2559.2 | I17: https://www.homecenter.com.co/homecenter-co/product/695654/pintura-para-fachadas-5-galones-blanco/695654/
G18: SUBTOTAL | H18: =G17 -> 2559.2
B19: III. TRANSPORTE
B20: DESCRIPCIÓN | D20: UNIDAD | E20: CANT. | F20: V. UNIT | G20: V. PARCIAL
G23: SUBTOTAL | H23: =SUM(G21:G22) -> 0
B24: IV. MANO DE OBRA
B25: TRABAJADOR | C25: JORNAL | D25: PREST. | E25: JOR. TOTAL | F25: REND. | G25: V. PARCIAL
B26: MANO DE OBRA CC | C26: 177890 | D26: 2.2 | E26: =+C26*D26 -> 391358 | F26: 50 | G26: =+E26/F26 -> 7827.16
G28: SUBTOTAL | H28: =SUM(G26:G27) -> 7827.16
F30: TOTAL COSTO DIRECTO | H30: =+ROUND(H14+H18+H23+H28,0) -> 10386

Sheet APU 8
B3: MUNICIPIO DE GACHALÁ SECRETARÍA DE INFRAESTRUCTURA | C3: ANÁLISIS DE PRECIOS UNITARIOS APU 8 BASE ICCU
B4: PRESUPUESTO
B5: CAPITULO | C5: MAMPOSTERIA, PAÑETE Y PINTURA
B6: ITEM | C6: 4
B7: UNIDAD | C7: M2
B8: ACTIVIDAD | C8: ='PPTO '!D24 -> CONCRETO 3500 PSI ELEVACIÓN
B10: I. EQUIPO
B11: DESCRIPCIÓN | D11: UNIDAD | E11: TARIFA | F11: REND. | G11: VR. UNIT.
B12: VIBRADOR PARA CONCRETO | D12: D | E12: 82435 | F12: 4 | G12: =E12/F12 -> 20608.75
B13: FORMALETA | D13: M2 | E13: 16007 | F13: 0.45 | G13: =E13/F13 -> 35571.111
B14: HERRAMIENTA MENOR | D14: GL | E14: 16998 | F14: 1 | G14: =E14/F14 -> 16998
G18: SUBTOTAL | H18: =SUM(G12:G17) -> 73177.861
B19: II. MATERIALES EN OBRA
B20: DESCRIPCIÓN | D20: UNIDAD | E20: PRECIO UNIT. | F20: CANT. | G20: VR. TOTAL.
B21: CONCRETO 3500 PSI | D21: M3 | E21: 491803 | F21: 1.05 | G21: =E21*F21 -> 516393.15
G22: SUBTOTAL | H22: =G21 -> 516393.15
B23: III. TRANSPORTE
B24: DESCRIPCIÓN | D24: UNIDAD | E24: CANT. | F24: V. UNIT | G24: V. PARCIAL
G27: SUBTOTAL | H27: =SUM(G25:G26) -> 0
B28: IV. MANO DE OBRA
B29: TRABAJADOR | C29: JORNAL | D29: PREST. | E29: JOR. TOTAL | F29: REND. | G29: V. PARCIAL
B30: OFICIAL (1) AA | C30: 92002 | D30: 2.2 | E30: =+C30*D30 -> 202404.4 | F30: 4.5 | G30: =+E30/F30 -> 44978.756
B31: AYUDANTE (2) AA | C31: 123370 | D31: 2.2 | E31: =+C31*D31 -> 271414 | F31: 4 | G31: =+E31/F31 -> 67853.5
G32: SUBTOTAL | H32: =SUM(G30:G31) -> 112832.26
F34: TOTAL COSTO DIRECTO | H34: =+ROUND(H18+H22+H27+H32,0) -> 702403

Sheet APU 9
B3: MUNICIPIO DE GACHALÁ SECRETARÍA DE INFRAESTRUCTURA | C3: ANÁLISIS DE PRECIOS UNITARIOS APU 9 BASE ICCU
B4: PRESUPUESTO
B5: CAPITULO | C5: ='PPTO '!D47 -> RED HIDRAULICA NUEVA
B6: ITEM | C6: ='PPTO '!C47 -> 9
B7: UNIDAD | C7: ML
B8: ACTIVIDAD | C8: ='PPTO '!D49 -> DEMOLICION REGATE DE MURO EN MAMPOSTERIA (INC RETIRO)
B10: I. EQUIPO
B11: DESCRIPCIÓN | D11: UNIDAD | E11: TARIFA | F11: REND. | G11: VR. UNIT.
B12: HERRAMIENTA MENOR | D12: GLB | E12: 700 | F12: 10 | G12: =E12/F12 -> 70
G18: SUBTOTAL | H18: =SUM(G12:G17) -> 70
B19: II. MATERIALES EN OBRA
B20: DESCRIPCIÓN | D20: UNIDAD | E20: PRECIO UNIT. | F20: CANT. | G20: VR. TOTAL.
G22: SUBTOTAL | H22: =G21 -> 0
B23: III. TRANSPORTE
B24: DESCRIPCIÓN | D24: UNIDAD | E24: CANT. | F24: V. UNIT | G24: V. PARCIAL
G27: SUBTOTAL | H27: =SUM(G25:G26) -> 0
B28: IV. MANO DE OBRA
B29: TRABAJADOR | C29: JORNAL | D29: PREST. | E29: JOR. TOTAL | F29: REND. | G29: V. PARCIAL
B30: OFICIAL (1) AA | C30: 92002 | D30: 2.2 | E30: =+C30*D30 -> 202404.4 | F30: 64 | G30: =+E30/F30 -> 3162.5688
B31: AYUDANTE (2) AA | C31: 123370 | D31: 2.2 | E31: =+C31*D31 -> 271414 | F31: 150 | G31: =+E31/F31 -> 1809.4267
G32: SUBTOTAL | H32: =SUM(G30:G31) -> 4971.9954
F34: TOTAL COSTO DIRECTO | H34: =+ROUND(H18+H22+H27+H32,0) -> 5042

Sheet APU 10
B3: MUNICIPIO DE GACHALÁ SECRETARÍA DE INFRAESTRUCTURA | C3: ANÁLISIS DE PRECIOS UNITARIOS APU 10 BASE ICCU
B4: PRESUPUESTO
B5: CAPITULO | C5: ='PPTO '!D47 -> RED HIDRAULICA NUEVA
B6: ITEM | C6: ='PPTO '!C47 -> 9
B7: UNIDAD | C7: UND
B8: ACTIVIDAD | C8: ='PPTO '!D54 -> SIMINISTRO E INSTALACION DE LLAVES PARA DUCHAS
B10: I. EQUIPO
B11: DESCRIPCIÓN | D11: UNIDAD | E11: TARIFA | F11: REND. | G11: VR. UNIT.
B12: HERRAMIENTA MENOR | D12: GLB | E12: 2000 | F12: 4 | G12: =E12/F12 -> 500
G18: SUBTOTAL | H18: =SUM(G12:G17) -> 500
B19: II. MATERIALES EN OBRA
B20: DESCRIPCIÓN | D20: UNIDAD | E20: PRECIO UNIT. | F20: CANT. | G20: VR. TOTAL.
B21: LLAVE DUCHA METALICA CROMADA | D21: UND | E21: 94900 | F21: 1 | G21: =E21*F21 -> 94900 | I21: https://www.homecenter.com.co/homecenter-co/product/596084/llave-de-ducha-cromada-1-2/596084/
B22: CINTA TEFLON | D22: ROLLO | E22: 5000 | F22: 0.1 | G22: =E22*F22 -> 500
B23: Niple/adaptador PVC | D23: UND | E23: 6000 | F23: 1 | G23: =E23*F23 -> 6000
B24: ACCESORIOS MENORES | D24: GLB | E24: 2500 | F24: 1 | G24: =E24*F24 -> 2500
G25: SUBTOTAL | H25: =G21+G22+G23+G24 -> 103900
B26: III. TRANSPORTE
B27: DESCRIPCIÓN | D27: UNIDAD | E27: CANT. | F27: V. UNIT | G27: V. PARCIAL
G30: SUBTOTAL | H30: =SUM(G28:G29) -> 0
B31: IV. MANO DE OBRA
B32: TRABAJADOR | C32: JORNAL | D32: PREST. | E32: JOR. TOTAL | F32: REND. | G32: V. PARCIAL
B33: OFICIAL (1) AA | C33: 92002 | D33: 2.2 | E33: =+C33*D33 -> 202404.4 | F33: 200 | G33: =+E33/F33 -> 1012.022
B34: AYUDANTE (1) AA | C34: =123370/2 -> 61685 | D34: 2.2 | E34: =+C34*D34 -> 135707 | F34: 200 | G34: =+E34/F34 -> 678.535
G35: SUBTOTAL | H35: =SUM(G33:G34) -> 1690.557
F37: TOTAL COSTO DIRECTO | H37: =+ROUND(H18+H25+H30+H35,0) -> 106091
