Workbook

Sheet Reporte
A1: CANALIZACIONES PIC | O1: RIPS | W1: VALIDADORES
A2: NOMBRE DEL MUNICIPIO | B2: IPS / ESE - EJECUTORA | C2: LÍNEA | D2: NOMBRE DE LA ESTRATEGIA | E2: NOMBRE COMPLETO | F2: TIPO DE IDENTIFICACIÓN | G2: NUMERO DE IDENTIFICACIÓN | H2: EPS | I2: FECHA CANALIZACIÓN (dia/mes/año) | J2: MOTIVO CANALIZACION | K2: SERVICIO SALUD | L2: DIA CITA ASIGNADA | M2: OTRO SECTOR ( educación, protección, justicia, economico, agropecuario, entre otros) | N2: OBSERVACIONES | O2: Nº DE LA FACTURA | P2: CODIGO DEL PRESTADOR DE SERV SALUD | Q2: TIPO ID USUARIO | R2: Nº ID. USUARIO | S2: FECHA DE LA CONSULTA | T2: COD CONSULTA | U2: FINALIDAD CONSULTA | V2: CAUSA EXTERNA | W2: CUMPLE DOCUMENTO DE IDENTIDAD | X2: VERIFICACIÓN FECHA DE ATENCIÓN | Y2: CONFIRMACION COD CONSULTA | Z2: CONFIRMACION FINALIDAD CONSULTA | AA2: CONFIRMACIÓN CAUSA EXTERNA | AB2: CUMPLIMIENTO RESOLUCIÓN 3280 | AC2: COINCIDENCIA- MOTIVO CANALIZACIÓN VS CONSULTA
A3: AGUADAS | B3: ESE HOSPITAL SAN JOSE DE AGUADAS | C3: NO TRANSMISIBLES | D3: FORMANDO FACILITADORES EN SALUD | E3: DIANA PATRICIA DUQUE | F3: CC | G3: 24370222 | H3: NUEVA EPS CONTIRBUTIVO | I3: 46120 | J3: CONSULTA DE PRIMERA VEZ POR MEDICINA GENERAL | K3: MANTENIMIENTO Y PROMOCION DE LA SALUD RIAS | L3: 46135 | M3: NINGUNO | N3: ASISTIO | O3: 2805904 | P3: 170130087901 | Q3: CC | R3: 24370222 | S3: 46120 | T3: 890201 | U3: 11 | V3: 40 | W3: =R3=G3 -> TRUE | X3: =IF(AND(S3>=I3),"VERDADERO","FALSO") -> VERDADERO | Y3: =VLOOKUP(T3,Variables!$A$2:$B$10012,2,FALSE) -> CONSULTA DE PRIMERA VEZ POR MEDICINA GENERAL | Z3: =VLOOKUP(U3,Variables!$D$3:$E$36,2,FALSE) -> VALORACION INTEGRAL PARA LA PROMOCION Y MANTENIMIENTO | AA3: =VLOOKUP(V3,Variables!$G$2:$H$30,2,FALSE) -> PROMOCION Y MANTENIMIENTO DE LA SALUD ? INTERVENCIONES INDIVIDUALES | AB3: =IF(COUNTIF(Variables!$M$3:$M$18,Reporte!T3)>0,"ENCONTRADO","NO ENCONTRADO") -> ENCONTRADO | AC3: =Y3=J3 -> TRUE
A4: AGUADAS | B4: ESE HOSPITAL SAN JOSE DE AGUADAS | C4: NO TRANSMISIBLES | D4: FORMANDO FACILITADORES EN SALUD | E4: KELLY TATIANA PALACIO | F4: CC | G4: 1035854547 | H4: NUEVA EPS CONTIRBUTIVO | I4: 46121 | J4: CONSULTA DE PRIMERA VEZ POR MEDICINA GENERAL | K4: MANTENIMIENTO Y PROMOCION DE LA SALUD RIAS | L4: 46135 | M4: NINGUNO | N4: ASISTIO | O4: 2805931 | P4: 170130087901 | Q4: CC | R4: 1035854547 | S4: 46121 | T4: 890201 | U4: 11 | V4: 40 | W4: =R4=G4 -> TRUE | X4: =IF(AND(S4>=I4),"VERDADERO","FALSO") -> VERDADERO | Y4: =VLOOKUP(T4,Variables!$A$2:$B$10012,2,FALSE) -> CONSULTA DE PRIMERA VEZ POR MEDICINA GENERAL | Z4: =VLOOKUP(U4,Variables!$D$3:$E$36,2,FALSE) -> VALORACION INTEGRAL PARA LA PROMOCION Y MANTENIMIENTO | AA4: =VLOOKUP(V4,Variables!$G$2:$H$30,2,FALSE) -> PROMOCION Y MANTENIMIENTO DE LA SALUD ? INTERVENCIONES INDIVIDUALES | AB4: =IF(COUNTIF(Variables!$M$3:$M$18,Reporte!T4)>0,"ENCONTRADO","NO ENCONTRADO") -> ENCONTRADO | AC4: =Y4=J4 -> TRUE
A5: AGUADAS | B5: ESE HOSPITAL SAN JOSE DE AGUADAS | C5: NO TRANSMISIBLES | D5: FORMANDO FACILITADORES EN SALUD | E5: OMAR ALONSO LÓPEZ | F5: CC | G5: 75051722 | H5: SALUD TOTAL CONTIRBUTIVO | I5: 46122 | J5: CONSULTA DE PRIMERA VEZ POR MEDICINA GENERAL | K5: MANTENIMIENTO Y PROMOCION DE LA SALUD RIAS | L5: 46135 | M5: NINGUNO | N5: ASISTIO | O5: 2805985 | P5: 170130087901 | Q5: CC | R5: 75051722 | S5: 46122 | T5: 890201 | U5: 11 | V5: 40 | W5: =R5=G5 -> TRUE | X5: =IF(AND(S5>=I5),"VERDADERO","FALSO") -> VERDADERO | Y5: =VLOOKUP(T5,Variables!$A$2:$B$10012,2,FALSE) -> CONSULTA DE PRIMERA VEZ POR MEDICINA GENERAL | Z5: =VLOOKUP(U5,Variables!$D$3:$E$36,2,FALSE) -> VALORACION INTEGRAL PARA LA PROMOCION Y MANTENIMIENTO | AA5: =VLOOKUP(V5,Variables!$G$2:$H$30,2,FALSE) -> PROMOCION Y MANTENIMIENTO DE LA SALUD ? INTERVENCIONES INDIVIDUALES | AB5: =IF(COUNTIF(Variables!$M$3:$M$18,Reporte!T5)>0,"ENCONTRADO","NO ENCONTRADO") -> ENCONTRADO | AC5: =Y5=J5 -> TRUE
A6: AGUADAS | B6: ESE HOSPITAL SAN JOSE DE AGUADAS | C6: NO TRANSMISIBLES | D6: FORMANDO FACILITADORES EN SALUD | E6: LUIS FERNANDO ARIAS | F6: CC | G6: 1055835096 | H6: NUEVA EPS CONTIRBUTIVO | I6: 46125 | J6: CONSULTA DE PRIMERA VEZ POR MEDICINA GENERAL | K6: MANTENIMIENTO Y PROMOCION DE LA SALUD RIAS | L6: 46135 | M6: NINGUNO | N6: ASISTIO | O6: 2806067 | P6: 170130087901 | Q6: CC | R6: 1055835096 | S6: 46125 | T6: 890201 | U6: 11 | V6: 40 | W6: =R6=G6 -> TRUE | X6: =IF(AND(S6>=I6),"VERDADERO","FALSO") -> VERDADERO | Y6: =VLOOKUP(T6,Variables!$A$2:$B$10012,2,FALSE) -> CONSULTA DE PRIMERA VEZ POR MEDICINA GENERAL | Z6: =VLOOKUP(U6,Variables!$D$3:$E$36,2,FALSE) -> VALORACION INTEGRAL PARA LA PROMOCION Y MANTENIMIENTO | AA6: =VLOOKUP(V6,Variables!$G$2:$H$30,2,FALSE) -> PROMOCION Y MANTENIMIENTO DE LA SALUD ? INTERVENCIONES INDIVIDUALES | AB6: =IF(COUNTIF(Variables!$M$3:$M$18,Reporte!T6)>0,"ENCONTRADO","NO ENCONTRADO") -> ENCONTRADO | AC6: =Y6=J6 -> TRUE
A7: AGUADAS | B7: ESE HOSPITAL SAN JOSE DE AGUADAS | C7: NO TRANSMISIBLES | D7: TERRITORIO ATENTO AL CANCER | E7: LUIS CARLOS RAMÍREZ | F7: CC | G7: 15900888 | H7: EPS SURAMERICANA | I7: 46119 | J7: CONSULTA DE PRIMERA VEZ POR MEDICINA GENERAL | K7: RIAS VEJEZ | L7: 46119 | M7: NINGUNO | N7: ASISTIO | O7: 2797766 | P7: 170130087901 | Q7: CC | R7: 15900888 | S7: 46119 | T7: 890201 | U7: 11 | V7: 40 | W7: =R7=G7 -> TRUE | X7: =IF(AND(S7>=I7),"VERDADERO","FALSO") -> VERDADERO | Y7: =VLOOKUP(T7,Variables!$A$2:$B$10012,2,FALSE) -> CONSULTA DE PRIMERA VEZ POR MEDICINA GENERAL | Z7: =VLOOKUP(U7,Variables!$D$3:$E$36,2,FALSE) -> VALORACION INTEGRAL PARA LA PROMOCION Y MANTENIMIENTO | AA7: =VLOOKUP(V7,Variables!$G$2:$H$30,2,FALSE) -> PROMOCION Y MANTENIMIENTO DE LA SALUD ? INTERVENCIONES INDIVIDUALES | AB7: =IF(COUNTIF(Variables!$M$3:$M$18,Reporte!T7)>0,"ENCONTRADO","NO ENCONTRADO") -> ENCONTRADO | AC7: =Y7=J7 -> TRUE
A8: AGUADAS | B8: ESE HOSPITAL SAN JOSE DE AGUADAS | C8: NO TRANSMISIBLES | D8: TERRITORIO ATENTO AL CANCER | E8: JHON JAIRO CASTRILLON SANCHEZ | F8: CC | G8: 1035918058 | H8: NUEVA EPS | I8: 46119 | J8: CONSULTA DE PRIMERA VEZ POR MEDICINA GENERAL | K8: RIAS ADULTEZ | L8: 46119 | M8: NINGUNO | N8: ASISTIO | O8: 2797779 | P8: 170130087901 | Q8: CC | R8: 1035918058 | S8: 46119 | T8: 890201 | U8: 11 | V8: 40 | W8: =R8=G8 -> TRUE | X8: =IF(AND(S8>=I8),"VERDADERO","FALSO") -> VERDADERO | Y8: =VLOOKUP(T8,Variables!$A$2:$B$10012,2,FALSE) -> CONSULTA DE PRIMERA VEZ POR MEDICINA GENERAL | Z8: =VLOOKUP(U8,Variables!$D$3:$E$36,2,FALSE) -> VALORACION INTEGRAL PARA LA PROMOCION Y MANTENIMIENTO | AA8: =VLOOKUP(V8,Variables!$G$2:$H$30,2,FALSE) -> PROMOCION Y MANTENIMIENTO DE LA SALUD ? INTERVENCIONES INDIVIDUALES | AB8: =IF(COUNTIF(Variables!$M$3:$M$18,Reporte!T8)>0,"ENCONTRADO","NO ENCONTRADO") -> ENCONTRADO | AC8: =Y8=J8 -> TRUE
A9: AGUADAS | B9: ESE HOSPITAL SAN JOSE DE AGUADAS | C9: NO TRANSMISIBLES | D9: TERRITORIO ATENTO AL CANCER | E9: ERIKA MARCELA RINCON CASTAÑED | F9: CC | G9: 1055834885 | H9: NUEVA EPS | I9: 46119 | J9: CONSULTA DE PRIMERA VEZ POR MEDICINA GENERAL | K9: RIAS ADULTEZ | L9: 46119 | M9: NINGUNO | N9: ASISTIO | O9: 2798017 | P9: 170130087901 | Q9: CC | R9: 1055834885 | S9: 46119 | T9: 890201 | U9: 11 | V9: 40 | W9: =R9=G9 -> TRUE | X9: =IF(AND(S9>=I9),"VERDADERO","FALSO") -> VERDADERO | Y9: =VLOOKUP(T9,Variables!$A$2:$B$10012,2,FALSE) -> CONSULTA DE PRIMERA VEZ POR MEDICINA GENERAL | Z9: =VLOOKUP(U9,Variables!$D$3:$E$36,2,FALSE) -> VALORACION INTEGRAL PARA LA PROMOCION Y MANTENIMIENTO | AA9: =VLOOKUP(V9,Variables!$G$2:$H$30,2,FALSE) -> PROMOCION Y MANTENIMIENTO DE LA SALUD ? INTERVENCIONES INDIVIDUALES | AB9: =IF(COUNTIF(Variables!$M$3:$M$18,Reporte!T9)>0,"ENCONTRADO","NO ENCONTRADO") -> ENCONTRADO | AC9: =Y9=J9 -> TRUE
A10: AGUADAS | B10: ESE HOSPITAL SAN JOSE DE AGUADAS | C10: Ambiental | D10: AGUA SUCIA - DIARREA SEGURA | E10: ISABELLA FRANCO HENAO | F10: TI | G10: 1055835816 | H10: SALUD TOTAL | I10: 46084 | J10: CONSULTA DE PRIMERA VEZ POR ENFERMERIA | K10: RIAS ADOLESCENTE | L10: 46213 | M10: NINGUNO | N10: ASISTIO | O10: 2673140 | P10: 170130087901 | Q10: TI | R10: 1055835816 | S10: 46213 | T10: 890205 | U10: 11 | V10: 40 | W10: =R10=G10 -> TRUE | X10: =IF(AND(S10>=I10),"VERDADERO","FALSO") -> VERDADERO | Y10: =VLOOKUP(T10,Variables!$A$2:$B$10012,2,FALSE) -> CONSULTA DE PRIMERA VEZ POR ENFERMERIA | Z10: =VLOOKUP(U10,Variables!$D$3:$E$36,2,FALSE) -> VALORACION INTEGRAL PARA LA PROMOCION Y MANTENIMIENTO | AA10: =VLOOKUP(V10,Variables!$G$2:$H$30,2,FALSE) -> PROMOCION Y MANTENIMIENTO DE LA SALUD ? INTERVENCIONES INDIVIDUALES | AB10: =IF(COUNTIF(Variables!$M$3:$M$18,Reporte!T10)>0,"ENCONTRADO","NO ENCONTRADO") -> ENCONTRADO | AC10: =Y10=J10 -> TRUE
A11: AGUADAS | B11: ESE HOSPITAL SAN JOSE DE AGUADAS | C11: Ambiental | D11: AGUA SUCIA - DIARREA SEGURA | E11: LAURA VALENTINA GIL FLORES | F11: TI | G11: 1055836225 | H11: NUEVA EPS S.A. | I11: 46084 | J11: CONSULTA DE PRIMERA VEZ POR ENFERMERIA | K11: RIAS ADOLESCENTE | L11: 46129 | M11: NINGUNO | N11: ASISTIO | O11: 2803794 | P11: 170130087901 | Q11: TI | R11: 1055836225 | S11: 46129 | T11: 890205 | U11: 11 | V11: 40 | W11: =R11=G11 -> TRUE | X11: =IF(AND(S11>=I11),"VERDADERO","FALSO") -> VERDADERO | Y11: =VLOOKUP(T11,Variables!$A$2:$B$10012,2,FALSE) -> CONSULTA DE PRIMERA VEZ POR ENFERMERIA | Z11: =VLOOKUP(U11,Variables!$D$3:$E$36,2,FALSE) -> VALORACION INTEGRAL PARA LA PROMOCION Y MANTENIMIENTO | AA11: =VLOOKUP(V11,Variables!$G$2:$H$30,2,FALSE) -> PROMOCION Y MANTENIMIENTO DE LA SALUD ? INTERVENCIONES INDIVIDUALES | AB11: =IF(COUNTIF(Variables!$M$3:$M$18,Reporte!T11)>0,"ENCONTRADO","NO ENCONTRADO") -> ENCONTRADO | AC11: =Y11=J11 -> TRUE
A12: AGUADAS | B12: ESE HOSPITAL SAN JOSE DE AGUADAS | C12: Ambiental | D12: AGUA SUCIA - DIARREA SEGURA | E12: YAIRA ANTONELLA ORREGO MONSALVE | F12: TI | G12: 1055836097 | H12: SALUD TOTAL | I12: 46084 | J12: CONSULTA DE PRIMERA VEZ POR ENFERMERIA | K12: RIAS ADOLESCENTE | L12: 46060 | M12: NINGUNO | N12: ASISTIO | O12: 2770682 | P12: 170130087901 | Q12: TI | R12: 1055836097 | S12: 46060 | T12: 890205 | U12: 11 | V12: 40 | W12: =R12=G12 -> TRUE | X12: =IF(AND(S12>=I12),"VERDADERO","FALSO") -> FALSO | Y12: =VLOOKUP(T12,Variables!$A$2:$B$10012,2,FALSE) -> CONSULTA DE PRIMERA VEZ POR ENFERMERIA | Z12: =VLOOKUP(U12,Variables!$D$3:$E$36,2,FALSE) -> VALORACION INTEGRAL PARA LA PROMOCION Y MANTENIMIENTO | AA12: =VLOOKUP(V12,Variables!$G$2:$H$30,2,FALSE) -> PROMOCION Y MANTENIMIENTO DE LA SALUD ? INTERVENCIONES INDIVIDUALES | AB12: =IF(COUNTIF(Variables!$M$3:$M$18,Reporte!T12)>0,"ENCONTRADO","NO ENCONTRADO") -> ENCONTRADO | AC12: =Y12=J12 -> TRUE
A13: AGUADAS | B13: ESE HOSPITAL SAN JOSE DE AGUADAS | C13: Ambiental | D13: AGUA SUCIA - DIARREA SEGURA | E13: LUISA FERNANDA BETANCUR MARTÍNEZ | F13: TI | G13: 1055835944 | H13: SALUD TOTAL | I13: 46084 | J13: CONSULTA DE PRIMERA VEZ POR ENFERMERIA | K13: RIAS ADOLESCENTE | L13: 45979 | M13: NINGUNO | N13: ASISTIO | O13: 2733441 | P13: 170130087901 | Q13: TI | R13: 1055835944 | S13: 45979 | T13: 890205 | U13: 11 | V13: 40 | W13: =R13=G13 -> TRUE | X13: =IF(AND(S13>=I13),"VERDADERO","FALSO") -> FALSO | Y13: =VLOOKUP(T13,Variables!$A$2:$B$10012,2,FALSE) -> CONSULTA DE PRIMERA VEZ POR ENFERMERIA | Z13: =VLOOKUP(U13,Variables!$D$3:$E$36,2,FALSE) -> VALORACION INTEGRAL PARA LA PROMOCION Y MANTENIMIENTO | AA13: =VLOOKUP(V13,Variables!$G$2:$H$30,2,FALSE) -> PROMOCION Y MANTENIMIENTO DE LA SALUD ? INTERVENCIONES INDIVIDUALES | AB13: =IF(COUNTIF(Variables!$M$3:$M$18,Reporte!T13)>0,"ENCONTRADO","NO ENCONTRADO") -> ENCONTRADO | AC13: =Y13=J13 -> TRUE
A14: AGUADAS | B14: ESE HOSPITAL SAN JOSE DE AGUADAS | C14: Ambiental | D14: AGUA SUCIA - DIARREA SEGURA | E14: JUALIANA VALENCIA JIMENEZ | F14: TI | G14: 1055834810 | H14: SALUD TOTAL | I14: 46084 | J14: CONSULTA DE PRIMERA VEZ POR ENFERMERIA | K14: RIAS ADOLESCENTE | L14: 45994 | M14: NINGUNO | N14: ASISTIO | O14: 2740078 | P14: 170130087901 | Q14: TI | R14: 1055834810 | S14: 46359 | T14: 890205 | U14: 11 | V14: 40 | W14: =R14=G14 -> TRUE | X14: =IF(AND(S14>=I14),"VERDADERO","FALSO") -> VERDADERO | Y14: =VLOOKUP(T14,Variables!$A$2:$B$10012,2,FALSE) -> CONSULTA DE PRIMERA VEZ POR ENFERMERIA | Z14: =VLOOKUP(U14,Variables!$D$3:$E$36,2,FALSE) -> VALORACION INTEGRAL PARA LA PROMOCION Y MANTENIMIENTO | AA14: =VLOOKUP(V14,Variables!$G$2:$H$30,2,FALSE) -> PROMOCION Y MANTENIMIENTO DE LA SALUD ? INTERVENCIONES INDIVIDUALES | AB14: =IF(COUNTIF(Variables!$M$3:$M$18,Reporte!T14)>0,"ENCONTRADO","NO ENCONTRADO") -> ENCONTRADO | AC14: =Y14=J14 -> TRUE
... A43: AGUADAS | B43: ESE HOSPITAL SAN JOSE DE AGUADAS | C43: APS | D43: "Redes Comunitarias para el Cuidado de la Salud - En busca de apoyo comunitario para un bienestar colectivo- " | E43: MARIANA GIRALDO GALLEGO | F43: CC | G43: 1055834736 | H43: SALUD TOTAL | I43: 46147 | J43: CONSULTA DE CONTROL O DE SEGUIMIENTO POR ENFERMERIA | K43: RIAS Juventud | L43: 45933 | M43: NINGUNO | N43: ASISTIO | O43: 2711178 | P43: 170130087901 | Q43: CC | R43: 1055834736 | S43: 45933 | T43: 890305 | U43: 11 | V43: 40 | W43: =R43=G43 -> TRUE | X43: =IF(AND(S43>=I43),"VERDADERO","FALSO") -> FALSO | Y43: =VLOOKUP(T43,Variables!$A$2:$B$10012,2,FALSE) -> CONSULTA DE CONTROL O DE SEGUIMIENTO POR ENFERMERIA | Z43: =VLOOKUP(U43,Variables!$D$3:$E$36,2,FALSE) -> VALORACION INTEGRAL PARA LA PROMOCION Y MANTENIMIENTO | AA43: =VLOOKUP(V43,Variables!$G$2:$H$30,2,FALSE) -> PROMOCION Y MANTENIMIENTO DE LA SALUD ? INTERVENCIONES INDIVIDUALES | AB43: =IF(COUNTIF(Variables!$M$3:$M$18,Reporte!T43)>0,"ENCONTRADO","NO ENCONTRADO") -> ENCONTRADO | AC43: =Y43=J43 -> TRUE
A44: AGUADAS | B44: ESE HOSPITAL SAN JOSE DE AGUADAS | C44: Salud Sexual y Reproductiva | D44: Tejiendo saberes menstruales | E44: YULIANAN ANDREA MORALES | F44: CC | G44: 1090513655 | H44: NUEVA EPS | I44: 46090 | J44: CONSULTA DE PRIMERA VEZ POR MEDICINA GENERAL | K44: RIAS JUVENTUD | L44: 45489 | M44: NINGUNO | N44: ASISTIO | O44: 2493774 | P44: 170130087901 | Q44: CC | R44: 1090513655 | S44: 45489 | T44: 890201 | U44: 11 | V44: 40 | W44: =R44=[1]Reporte!G68 -> TRUE | X44: =IF(AND(S44>=[1]Reporte!I68),"VERDADERO","FALSO") -> FALSO | Y44: =VLOOKUP(T44,Variables!$A$2:$B$10012,2,FALSE) -> CONSULTA DE PRIMERA VEZ POR MEDICINA GENERAL | Z44: =VLOOKUP(U44,Variables!$D$3:$E$36,2,FALSE) -> VALORACION INTEGRAL PARA LA PROMOCION Y MANTENIMIENTO | AA44: =VLOOKUP(V44,Variables!$G$2:$H$30,2,FALSE) -> PROMOCION Y MANTENIMIENTO DE LA SALUD ? INTERVENCIONES INDIVIDUALES | AB44: =IF(COUNTIF(Variables!$M$3:$M$18,Reporte!T44)>0,"ENCONTRADO","NO ENCONTRADO") -> ENCONTRADO | AC44: =Y44=J44 -> TRUE
A45: AGUADAS | B45: ESE HOSPITAL SAN JOSE DE AGUADAS | C45: Salud Sexual y Reproductiva | D45: Tejiendo saberes menstruales | E45: LUZ ADRIANA HINCAPIE | F45: CC | G45: 24373077 | H45: NUEVA EPS | I45: 46090 | J45: CONSULTA DE PRIMERA VEZ POR MEDICINA GENERAL | K45: RIAS Adultez | L45: 46031 | M45: NINGUNO | N45: ASISTIO | O45: 2756702 | P45: 170130087901 | Q45: CC | R45: 24373077 | S45: 46031 | T45: 890201 | U45: 11 | V45: 40 | W45: =R45=[1]Reporte!G69 -> TRUE | X45: =IF(AND(S45>=[1]Reporte!I69),"VERDADERO","FALSO") -> FALSO | Y45: =VLOOKUP(T45,Variables!$A$2:$B$10012,2,FALSE) -> CONSULTA DE PRIMERA VEZ POR MEDICINA GENERAL | Z45: =VLOOKUP(U45,Variables!$D$3:$E$36,2,FALSE) -> VALORACION INTEGRAL PARA LA PROMOCION Y MANTENIMIENTO | AA45: =VLOOKUP(V45,Variables!$G$2:$H$30,2,FALSE) -> PROMOCION Y MANTENIMIENTO DE LA SALUD ? INTERVENCIONES INDIVIDUALES | AB45: =IF(COUNTIF(Variables!$M$3:$M$18,Reporte!T45)>0,"ENCONTRADO","NO ENCONTRADO") -> ENCONTRADO | AC45: =Y45=J45 -> TRUE
A46: AGUADAS | B46: ESE HOSPITAL SAN JOSE DE AGUADAS | C46: Salud Sexual y Reproductiva | D46: Tejiendo saberes menstruales | E46: ERIKA TATIANA FLOREZ | F46: CC | G46: 1055834344 | H46: NUEVA EPS | I46: 46090 | J46: CONSULTA DE PRIMERA VEZ POR MEDICINA GENERAL | K46: RIAS Adultez | L46: 46004 | M46: NINGUNO | N46: ASISTIO | O46: 2746701 | P46: 170130087901 | Q46: CC | R46: 1055834344 | S46: 46004 | T46: 890201 | U46: 11 | V46: 40 | W46: =R46=[1]Reporte!G70 -> TRUE | X46: =IF(AND(S46>=[1]Reporte!I70),"VERDADERO","FALSO") -> FALSO | Y46: =VLOOKUP(T46,Variables!$A$2:$B$10012,2,FALSE) -> CONSULTA DE PRIMERA VEZ POR MEDICINA GENERAL | Z46: =VLOOKUP(U46,Variables!$D$3:$E$36,2,FALSE) -> VALORACION INTEGRAL PARA LA PROMOCION Y MANTENIMIENTO | AA46: =VLOOKUP(V46,Variables!$G$2:$H$30,2,FALSE) -> PROMOCION Y MANTENIMIENTO DE LA SALUD ? INTERVENCIONES INDIVIDUALES | AB46: =IF(COUNTIF(Variables!$M$3:$M$18,Reporte!T46)>0,"ENCONTRADO","NO ENCONTRADO") -> ENCONTRADO | AC46: =Y46=J46 -> TRUE
A47: AGUADAS | B47: ESE HOSPITAL SAN JOSE DE AGUADAS | C47: Salud Sexual y Reproductiva | D47: Tejiendo saberes menstruales | E47: DIANA BUITRAGO | F47: CC | G47: 24370366 | H47: EPS SURAMERICANA | I47: 46090 | J47: CONSULTA DE PRIMERA VEZ POR MEDICINA GENERAL | K47: RIAS Adultez | L47: 46176 | M47: NINGUNO | N47: ASISTIO | O47: 2824009 | P47: 170130087901 | Q47: CC | R47: 24370366 | S47: 46176 | T47: 890201 | U47: 11 | V47: 40 | W47: =R47=[1]Reporte!G71 -> TRUE | X47: =IF(AND(S47>=[1]Reporte!I71),"VERDADERO","FALSO") -> VERDADERO | Y47: =VLOOKUP(T47,Variables!$A$2:$B$10012,2,FALSE) -> CONSULTA DE PRIMERA VEZ POR MEDICINA GENERAL | Z47: =VLOOKUP(U47,Variables!$D$3:$E$36,2,FALSE) -> VALORACION INTEGRAL PARA LA PROMOCION Y MANTENIMIENTO | AA47: =VLOOKUP(V47,Variables!$G$2:$H$30,2,FALSE) -> PROMOCION Y MANTENIMIENTO DE LA SALUD ? INTERVENCIONES INDIVIDUALES | AB47: =IF(COUNTIF(Variables!$M$3:$M$18,Reporte!T47)>0,"ENCONTRADO","NO ENCONTRADO") -> ENCONTRADO | AC47: =Y47=J47 -> TRUE
A48: AGUADAS | B48: ESE HOSPITAL SAN JOSE DE AGUADAS | C48: Salud Sexual y Reproductiva | D48: Tejiendo saberes menstruales | E48: JOHANA MOSQUERA ARBOLEDA | F48: CC | G48: 1055833518 | H48: NUEVA EPS | I48: 46097 | J48: CONSULTA DE PRIMERA VEZ POR MEDICINA GENERAL | K48: RIAS Adultez | L48: 45566 | M48: NINGUNO | N48: ASISTIO | O48: 2531755 | P48: 170130087901 | Q48: CC | R48: 1055833518 | S48: 45566 | T48: 890201 | U48: 11 | V48: 40 | W48: =R48=[1]Reporte!G72 -> TRUE | X48: =IF(AND(S48>=[1]Reporte!I72),"VERDADERO","FALSO") -> FALSO | Y48: =VLOOKUP(T48,Variables!$A$2:$B$10012,2,FALSE) -> CONSULTA DE PRIMERA VEZ POR MEDICINA GENERAL | Z48: =VLOOKUP(U48,Variables!$D$3:$E$36,2,FALSE) -> VALORACION INTEGRAL PARA LA PROMOCION Y MANTENIMIENTO | AA48: =VLOOKUP(V48,Variables!$G$2:$H$30,2,FALSE) -> PROMOCION Y MANTENIMIENTO DE LA SALUD ? INTERVENCIONES INDIVIDUALES | AB48: =IF(COUNTIF(Variables!$M$3:$M$18,Reporte!T48)>0,"ENCONTRADO","NO ENCONTRADO") -> ENCONTRADO | AC48: =Y48=J48 -> TRUE
A49: AGUADAS | B49: ESE HOSPITAL SAN JOSE DE AGUADAS | C49: Salud Sexual y Reproductiva | D49: Tejiendo saberes menstruales | E49: NICOLLE VANESSA HERRERA | F49: CC | G49: 1055831821 | H49: SALUDVIDA S.A. | I49: 46097 | J49: CONSULTA DE PRIMERA VEZ POR MEDICINA GENERAL | K49: RIAS JUVENTUD | L49: 45974 | M49: NINGUNO | N49: ASISTIO | O49: 2731162 | P49: 170130087901 | Q49: CC | R49: 1055831821 | S49: 45974 | T49: 890201 | U49: 11 | V49: 40 | W49: =R49=[1]Reporte!G73 -> TRUE | X49: =IF(AND(S49>=[1]Reporte!I73),"VERDADERO","FALSO") -> FALSO | Y49: =VLOOKUP(T49,Variables!$A$2:$B$10012,2,FALSE) -> CONSULTA DE PRIMERA VEZ POR MEDICINA GENERAL | Z49: =VLOOKUP(U49,Variables!$D$3:$E$36,2,FALSE) -> VALORACION INTEGRAL PARA LA PROMOCION Y MANTENIMIENTO | AA49: =VLOOKUP(V49,Variables!$G$2:$H$30,2,FALSE) -> PROMOCION Y MANTENIMIENTO DE LA SALUD ? INTERVENCIONES INDIVIDUALES | AB49: =IF(COUNTIF(Variables!$M$3:$M$18,Reporte!T49)>0,"ENCONTRADO","NO ENCONTRADO") -> ENCONTRADO | AC49: =Y49=J49 -> TRUE
A50: AGUADAS | B50: ESE HOSPITAL SAN JOSE DE AGUADAS | C50: Salud Sexual y Reproductiva | D50: Tejiendo saberes menstruales | E50: ÁNGELA MARÍA BETANCUR | F50: CC | G50: 1055837057 | H50: CAJA DE PREVISION SOCIAL DE COMUNICACIONES CAPRECOM E.P.S. | I50: 46097 | J50: CONSULTA DE PRIMERA VEZ POR MEDICINA GENERAL | K50: RIAS Adultez | L50: 46005 | M50: NINGUNO | N50: ASISTIO | O50: 2746741 | P50: 170130087901 | Q50: CC | R50: 1055837057 | S50: 46005 | T50: 890201 | U50: 11 | V50: 40 | W50: =R50=[1]Reporte!G74 -> TRUE | X50: =IF(AND(S50>=[1]Reporte!I74),"VERDADERO","FALSO") -> FALSO | Y50: =VLOOKUP(T50,Variables!$A$2:$B$10012,2,FALSE) -> CONSULTA DE PRIMERA VEZ POR MEDICINA GENERAL | Z50: =VLOOKUP(U50,Variables!$D$3:$E$36,2,FALSE) -> VALORACION INTEGRAL PARA LA PROMOCION Y MANTENIMIENTO | AA50: =VLOOKUP(V50,Variables!$G$2:$H$30,2,FALSE) -> PROMOCION Y MANTENIMIENTO DE LA SALUD ? INTERVENCIONES INDIVIDUALES | AB50: =IF(COUNTIF(Variables!$M$3:$M$18,Reporte!T50)>0,"ENCONTRADO","NO ENCONTRADO") -> ENCONTRADO | AC50: =Y50=J50 -> TRUE
A51: AGUADAS | B51: ESE HOSPITAL SAN JOSE DE AGUADAS | C51: Salud Sexual y Reproductiva | D51: Tejiendo saberes menstruales | E51: PAULINA SALAZAR SANTA | F51: CC | G51: 1002642969 | H51: SALUD TOTAL | I51: 46197 | J51: CONSULTA DE PRIMERA VEZ POR MEDICINA GENERAL | K51: RIAS JUVENTUD | L51: 45969 | M51: NINGUNO | N51: ASISTIO | O51: 2727965 | P51: 170130087901 | Q51: CC | R51: 1002642969 | S51: 45969 | T51: 890201 | U51: 11 | V51: 40 | W51: =R51=[1]Reporte!G75 -> TRUE | X51: =IF(AND(S51>=[1]Reporte!I75),"VERDADERO","FALSO") -> FALSO | Y51: =VLOOKUP(T51,Variables!$A$2:$B$10012,2,FALSE) -> CONSULTA DE PRIMERA VEZ POR MEDICINA GENERAL | Z51: =VLOOKUP(U51,Variables!$D$3:$E$36,2,FALSE) -> VALORACION INTEGRAL PARA LA PROMOCION Y MANTENIMIENTO | AA51: =VLOOKUP(V51,Variables!$G$2:$H$30,2,FALSE) -> PROMOCION Y MANTENIMIENTO DE LA SALUD ? INTERVENCIONES INDIVIDUALES | AB51: =IF(COUNTIF(Variables!$M$3:$M$18,Reporte!T51)>0,"ENCONTRADO","NO ENCONTRADO") -> ENCONTRADO | AC51: =Y51=J51 -> TRUE
A52: AGUADAS | B52: ESE HOSPITAL SAN JOSE DE AGUADAS | C52: Salud Sexual y Reproductiva | D52: Tejiendo saberes menstruales | E52: ANGÉLICA MARÍA HERRERA | F52: CC | G52: 1017923505 | H52: EPS SURAMERICANA | I52: 46197 | J52: CONSULTA DE PRIMERA VEZ POR MEDICINA GENERAL | K52: RIAS JUVENTUD | L52: 46291 | M52: NINGUNO | N52: ASISTIO | O52: 2529653 | P52: 170130087901 | Q52: CC | R52: 1017923505 | S52: 46197 | T52: 890201 | U52: 11 | V52: 40 | W52: =R52=[1]Reporte!G76 -> TRUE | X52: =IF(AND(S52>=[1]Reporte!I76),"VERDADERO","FALSO") -> VERDADERO | Y52: =VLOOKUP(T52,Variables!$A$2:$B$10012,2,FALSE) -> CONSULTA DE PRIMERA VEZ POR MEDICINA GENERAL | Z52: =VLOOKUP(U52,Variables!$D$3:$E$36,2,FALSE) -> VALORACION INTEGRAL PARA LA PROMOCION Y MANTENIMIENTO | AA52: =VLOOKUP(V52,Variables!$G$2:$H$30,2,FALSE) -> PROMOCION Y MANTENIMIENTO DE LA SALUD ? INTERVENCIONES INDIVIDUALES | AB52: =IF(COUNTIF(Variables!$M$3:$M$18,Reporte!T52)>0,"ENCONTRADO","NO ENCONTRADO") -> ENCONTRADO | AC52: =Y52=J52 -> TRUE
W53: =R53=[1]Reporte!G77 -> FALSE | X53: =IF(AND(S53>=[1]Reporte!I77),"VERDADERO","FALSO") -> FALSO | Y53: =VLOOKUP(T53,Variables!$A$2:$B$10012,2,FALSE) -> #N/A | Z53: =VLOOKUP(U53,Variables!$D$3:$E$36,2,FALSE) -> #N/A | AA53: =VLOOKUP(V53,Variables!$G$2:$H$30,2,FALSE) -> #N/A | AB53: =IF(COUNTIF(Variables!$M$3:$M$18,Reporte!T53)>0,"ENCONTRADO","NO ENCONTRADO") -> NO ENCONTRADO | AC53: =Y53=J53 -> #N/A
W54: =R54=[1]Reporte!G78 -> FALSE | X54: =IF(AND(S54>=[1]Reporte!I78),"VERDADERO","FALSO") -> FALSO | Y54: =VLOOKUP(T54,Variables!$A$2:$B$10012,2,FALSE) -> #N/A | Z54: =VLOOKUP(U54,Variables!$D$3:$E$36,2,FALSE) -> #N/A | AA54: =VLOOKUP(V54,Variables!$G$2:$H$30,2,FALSE) -> #N/A | AB54: =IF(COUNTIF(Variables!$M$3:$M$18,Reporte!T54)>0,"ENCONTRADO","NO ENCONTRADO") -> NO ENCONTRADO | AC54: =Y54=J54 -> #N/A
W55: =R55=[1]Reporte!G79 -> FALSE | X55: =IF(AND(S55>=[1]Reporte!I79),"VERDADERO","FALSO") -> FALSO | Y55: =VLOOKUP(T55,Variables!$A$2:$B$10012,2,FALSE) -> #N/A | Z55: =VLOOKUP(U55,Variables!$D$3:$E$36,2,FALSE) -> #N/A | AA55: =VLOOKUP(V55,Variables!$G$2:$H$30,2,FALSE) -> #N/A | AB55: =IF(COUNTIF(Variables!$M$3:$M$18,Reporte!T55)>0,"ENCONTRADO","NO ENCONTRADO") -> NO ENCONTRADO | AC55: =Y55=J55 -> #N/A
W56: =R56=[1]Reporte!G80 -> FALSE | X56: =IF(AND(S56>=[1]Reporte!I80),"VERDADERO","FALSO") -> FALSO | Y56: =VLOOKUP(T56,Variables!$A$2:$B$10012,2,FALSE) -> #N/A | Z56: =VLOOKUP(U56,Variables!$D$3:$E$36,2,FALSE) -> #N/A | AA56: =VLOOKUP(V56,Variables!$G$2:$H$30,2,FALSE) -> #N/A | AB56: =IF(COUNTIF(Variables!$M$3:$M$18,Reporte!T56)>0,"ENCONTRADO","NO ENCONTRADO") -> NO ENCONTRADO | AC56: =Y56=J56 -> #N/A
W57: =R57=[1]Reporte!G81 -> FALSE | X57: =IF(AND(S57>=[1]Reporte!I81),"VERDADERO","FALSO") -> FALSO | Y57: =VLOOKUP(T57,Variables!$A$2:$B$10012,2,FALSE) -> #N/A | Z57: =VLOOKUP(U57,Variables!$D$3:$E$36,2,FALSE) -> #N/A | AA57: =VLOOKUP(V57,Variables!$G$2:$H$30,2,FALSE) -> #N/A | AB57: =IF(COUNTIF(Variables!$M$3:$M$18,Reporte!T57)>0,"ENCONTRADO","NO ENCONTRADO") -> NO ENCONTRADO | AC57: =Y57=J57 -> #N/A
W58: =R58=[1]Reporte!G82 -> FALSE | X58: =IF(AND(S58>=[1]Reporte!I82),"VERDADERO","FALSO") -> FALSO | Y58: =VLOOKUP(T58,Variables!$A$2:$B$10012,2,FALSE) -> #N/A | Z58: =VLOOKUP(U58,Variables!$D$3:$E$36,2,FALSE) -> #N/A | AA58: =VLOOKUP(V58,Variables!$G$2:$H$30,2,FALSE) -> #N/A | AB58: =IF(COUNTIF(Variables!$M$3:$M$18,Reporte!T58)>0,"ENCONTRADO","NO ENCONTRADO") -> NO ENCONTRADO | AC58: =Y58=J58 -> #N/A
W59: =R59=[1]Reporte!G83 -> FALSE | X59: =IF(AND(S59>=[1]Reporte!I83),"VERDADERO","FALSO") -> FALSO | Y59: =VLOOKUP(T59,Variables!$A$2:$B$10012,2,FALSE) -> #N/A | Z59: =VLOOKUP(U59,Variables!$D$3:$E$36,2,FALSE) -> #N/A | AA59: =VLOOKUP(V59,Variables!$G$2:$H$30,2,FALSE) -> #N/A | AB59: =IF(COUNTIF(Variables!$M$3:$M$18,Reporte!T59)>0,"ENCONTRADO","NO ENCONTRADO") -> NO ENCONTRADO | AC59: =Y59=J59 -> #N/A
W60: =R60=[1]Reporte!G84 -> FALSE | X60: =IF(AND(S60>=[1]Reporte!I84),"VERDADERO","FALSO") -> FALSO | Y60: =VLOOKUP(T60,Variables!$A$2:$B$10012,2,FALSE) -> #N/A | Z60: =VLOOKUP(U60,Variables!$D$3:$E$36,2,FALSE) -> #N/A | AA60: =VLOOKUP(V60,Variables!$G$2:$H$30,2,FALSE) -> #N/A | AB60: =IF(COUNTIF(Variables!$M$3:$M$18,Reporte!T60)>0,"ENCONTRADO","NO ENCONTRADO") -> NO ENCONTRADO | AC60: =Y60=J60 -> #N/A
W61: =R61=[1]Reporte!G85 -> FALSE | X61: =IF(AND(S61>=[1]Reporte!I85),"VERDADERO","FALSO") -> FALSO | Y61: =VLOOKUP(T61,Variables!$A$2:$B$10012,2,FALSE) -> #N/A | Z61: =VLOOKUP(U61,Variables!$D$3:$E$36,2,FALSE) -> #N/A | AA61: =VLOOKUP(V61,Variables!$G$2:$H$30,2,FALSE) -> #N/A | AB61: =IF(COUNTIF(Variables!$M$3:$M$18,Reporte!T61)>0,"ENCONTRADO","NO ENCONTRADO") -> NO ENCONTRADO | AC61: =Y61=J61 -> #N/A
W62: =R62=[1]Reporte!G86 -> FALSE | X62: =IF(AND(S62>=[1]Reporte!I86),"VERDADERO","FALSO") -> FALSO | Y62: =VLOOKUP(T62,Variables!$A$2:$B$10012,2,FALSE) -> #N/A | Z62: =VLOOKUP(U62,Variables!$D$3:$E$36,2,FALSE) -> #N/A | AA62: =VLOOKUP(V62,Variables!$G$2:$H$30,2,FALSE) -> #N/A | AB62: =IF(COUNTIF(Variables!$M$3:$M$18,Reporte!T62)>0,"ENCONTRADO","NO ENCONTRADO") -> NO ENCONTRADO | AC62: =Y62=J62 -> #N/A
W63: =R63=[1]Reporte!G87 -> FALSE | X63: =IF(AND(S63>=[1]Reporte!I87),"VERDADERO","FALSO") -> FALSO | Y63: =VLOOKUP(T63,Variables!$A$2:$B$10012,2,FALSE) -> #N/A | Z63: =VLOOKUP(U63,Variables!$D$3:$E$36,2,FALSE) -> #N/A | AA63: =VLOOKUP(V63,Variables!$G$2:$H$30,2,FALSE) -> #N/A | AB63: =IF(COUNTIF(Variables!$M$3:$M$18,Reporte!T63)>0,"ENCONTRADO","NO ENCONTRADO") -> NO ENCONTRADO | AC63: =Y63=J63 -> #N/A
W64: =R64=[1]Reporte!G88 -> FALSE | X64: =IF(AND(S64>=[1]Reporte!I88),"VERDADERO","FALSO") -> FALSO | Y64: =VLOOKUP(T64,Variables!$A$2:$B$10012,2,FALSE) -> #N/A | Z64: =VLOOKUP(U64,Variables!$D$3:$E$36,2,FALSE) -> #N/A | AA64: =VLOOKUP(V64,Variables!$G$2:$H$30,2,FALSE) -> #N/A | AB64: =IF(COUNTIF(Variables!$M$3:$M$18,Reporte!T64)>0,"ENCONTRADO","NO ENCONTRADO") -> NO ENCONTRADO | AC64: =Y64=J64 -> #N/A
... W107: =R107=[1]Reporte!G131 -> TRUE | X107: =IF(AND(S107>=[1]Reporte!I131),"VERDADERO","FALSO") -> VERDADERO | Y107: =VLOOKUP(T107,Variables!$A$2:$B$10012,2,FALSE) -> #N/A | Z107: =VLOOKUP(U107,Variables!$D$3:$E$36,2,FALSE) -> #N/A | AA107: =VLOOKUP(V107,Variables!$G$2:$H$30,2,FALSE) -> #N/A | AB107: =IF(COUNTIF(Variables!$M$3:$M$18,Reporte!T107)>0,"ENCONTRADO","NO ENCONTRADO") -> NO ENCONTRADO | AC107: =Y107=J107 -> #N/A
W108: =R108=G108 -> TRUE | X108: =IF(AND(S108>=I108),"VERDADERO","FALSO") -> VERDADERO | Y108: =VLOOKUP(T108,Variables!$A$2:$B$10012,2,FALSE) -> #N/A | Z108: =VLOOKUP(U108,Variables!$D$3:$E$36,2,FALSE) -> #N/A | AA108: =VLOOKUP(V108,Variables!$G$2:$H$30,2,FALSE) -> #N/A | AB108: =IF(COUNTIF(Variables!$M$3:$M$18,Reporte!T108)>0,"ENCONTRADO","NO ENCONTRADO") -> NO ENCONTRADO | AC108: =Y108=J108 -> #N/A
W109: =R109=G109 -> TRUE | X109: =IF(AND(S109>=I109),"VERDADERO","FALSO") -> VERDADERO | Y109: =VLOOKUP(T109,Variables!$A$2:$B$10012,2,FALSE) -> #N/A | Z109: =VLOOKUP(U109,Variables!$D$3:$E$36,2,FALSE) -> #N/A | AA109: =VLOOKUP(V109,Variables!$G$2:$H$30,2,FALSE) -> #N/A | AB109: =IF(COUNTIF(Variables!$M$3:$M$18,Reporte!T109)>0,"ENCONTRADO","NO ENCONTRADO") -> NO ENCONTRADO | AC109: =Y109=J109 -> #N/A
W110: =R110=G110 -> TRUE | X110: =IF(AND(S110>=I110),"VERDADERO","FALSO") -> VERDADERO | Y110: =VLOOKUP(T110,Variables!$A$2:$B$10012,2,FALSE) -> #N/A | Z110: =VLOOKUP(U110,Variables!$D$3:$E$36,2,FALSE) -> #N/A | AA110: =VLOOKUP(V110,Variables!$G$2:$H$30,2,FALSE) -> #N/A | AB110: =IF(COUNTIF(Variables!$M$3:$M$18,Reporte!T110)>0,"ENCONTRADO","NO ENCONTRADO") -> NO ENCONTRADO | AC110: =Y110=J110 -> #N/A
...

Sheet Variables
A1: Codigo | B1: Nombre | G1: Código | H1: Causa Externa | J1: Resolución 3280
A2: 10101 | B2: PUNCION CISTERNAL, VIA LATERAL | D2: Código | E2: Finalidad | G2: 21 | H2: ACCIDENTE DE TRABAJO | J2: Linea | K2: PROCEDIMIENTO | L2: PROCEDIMIENTOS /CONSULTAS | M2: CUPS 2018
A3: 10102 | B3: PUNCION CISTERNAL, VIA MEDIAL | D3: 11 | E3: VALORACION INTEGRAL PARA LA PROMOCION Y MANTENIMIENTO | G3: 22 | H3: ACCIDENTE EN EL HOGAR | J3: Primera Infancia | K3: VALORACIÓN INTEGRAL | L3: Atención en salud por_x000D_ medicina general o_x000D_ especialista en pediatría o_x000D_ medicina familiar | M3: 890201
A4: 10103 | B4: PUNCION CISTERNAL | D4: 12 | E4: DETECCION TEMPRANA DE ENFERMEDAD GENERAL | G4: 23 | H4: ACCIDENTE DE TRANSITO DE ORIGEN COMUN | J4: Primera Infancia | K4: VALORACIÓN INTEGRAL | L4: Atención en salud por_x000D_ profesional de enfermería | M4: 890205
A5: 10201 | B5: PUNCION (ASPIRACION DE LIQUIDO) VENTRICULAR A TRAVES DE CATETER PREVIAMENTE IMPLANTADO | D5: 13 | E5: DETECCION TEMPRANA DE ENFERMEDAD LABORAL | G5: 24 | H5: ACCIDENTE DE TRANSITO DE ORIGEN LABORAL | J5: Primera Infancia | K5: VALORACIÓN INTEGRAL | L5: Atención en salud bucal por profesional de odontología | M5: 890203
A6: 10202 | B6: PUNCION (ASPIRACION DE LIQUIDO) VENTRICULAR POR TREPANACION (SIN CATETER) | D6: 14 | E6: PROTECCION ESPECIFICA | G6: 25 | H6: ACCIDENTE EN EL ENTORNO EDUCATIVO | J6: Primera Infancia | K6: VALORACIÓN INTEGRAL | L6: Atención por profesional de_x000D_ enfermería, medicina_x000D_ general o nutrición para la promoción y apoyo de la lactancia materna | M6: 890305
A7: 10203 | B7: PUNCION (ASPIRACION DE LIQUIDO) VENTRICULAR A TRAVES DE UN RESERVORIO | D7: 15 | E7: DIAGNOSTICO | G7: 26 | H7: OTRO TIPO DE ACCIDENTE | J7: Infancia | K7: VALORACIÓN INTEGRAL | L7: Atención en salud por medicina general o especialista en pediatría o medicina familiar | M7: 890201
A8: 10204 | B8: PUNCION (ASPIRACION DE LIQUIDO) VENTRICULAR, VIA TRANSFONTANELAR | D8: 16 | E8: TRATAMIENTO | G8: 27 | H8: EVENTO CATASTROFICO DE ORIGEN NATURAL | J8: Infancia | K8: VALORACIÓN INTEGRAL | L8: Atención en salud por profesional de enfermería | M8: 890205
A9: 10205 | B9: PUNCION (ASPIRACION DE LIQUIDO) VENTRICULAR | D9: 17 | E9: REHABILITACION | G9: 28 | H9: LESION POR AGRESION | J9: Infancia | K9: VALORACIÓN INTEGRAL | L9: Atención en salud bucal por profesional de odontología | M9: 890203
A10: 10901 | B10: PUNCION SUBDURAL | D10: 18 | E10: PALIACION | G10: 29 | H10: LESION AUTO INFLIGIDA | J10: Adolescencia | K10: VALORACIÓN INTEGRAL | L10: Atención en salud por medicina general o medicina familiar | M10: 890201
A11: 10902 | B11: OTRA PUNCION CRANEAL | D11: 19 | E11: PLANIFICACION FAMILIAR Y ANTICONCEPCION | G11: 30 | H11: SOSPECHA DE VIOLENCIA FISICA | J11: Adolescencia | K11: VALORACIÓN INTEGRAL | L11: Atención en salud por profesional de enfermería | M11: 890205
A12: 11101 | B12: BIOPSIAOSEA EN CRANEO POR CRANEOTOMIA | D12: 20 | E12: PROMOCION Y APOYO A LA LACTANCIA MATERNA | G12: 31 | H12: SOSPECHA DE VIOLENCIA PSICOLOGICA | J12: Adolescencia | K12: VALORACIÓN INTEGRAL | L12: Atención en salud bucal por profesional de odontología | M12: 890203
A13: 11102 | B13: BIOPSIAOSEA EN CRANEO POR CRANIECTOMIA | D13: 21 | E13: ATENCION BASICA DE ORIENTACION FAMILIAR | G13: 32 | H13: SOSPECHA DE VIOLENCIA SEXUAL | J13: Juventud | K13: VALORACIÓN INTEGRAL | L13: Atención en salud por medicina general o medicina familiar | M13: 890201
A14: 11103 | B14: BIOPSIA DE CRANEO | D14: 22 | E14: ATENCION PARA EL CUIDADO PRECONCEPCIONAL | G14: 33 | H14: SOSPECHA DE NEGLIGENCIA Y ABANDONO | J14: Juventud | K14: VALORACIÓN INTEGRAL | L14: Atención en salud bucal por profesional de odontología | M14: 890203
... A16: 11202 | B16: BIOPSIA DE MENINGE CEREBRAL | D16: 24 | E16: INTERRUPCION VOLUNTARIA DEL EMBARAZO | G16: 35 | H16: IVE POR MALFORMACION CONGENITA INCOMPATIBLE CON LA VIDA | J16: Adultez | K16: VALORACIÓN INTEGRAL | L16: Atención en salud bucal por profesional de odontología | M16: 890203
A17: 11301 | B17: BIOPSIA CERRADA (PERCUTANEA) (AGUJA) DE CEREBRO | D17: 25 | E17: ATENCION DEL PARTO Y PUERPERIO | G17: 36 | H17: IVE POR VIOLENCIA SEXUAL, INCESTO O POR INSEMINACION ARTIFICIAL O TRANSFERENCIA DE OVULO FECUNDADO NO CONSENTIDA | J17: Vejez | K17: VALORACIÓN INTEGRAL | L17: Atención en salud por medicina general o medicina familiar. | M17: 890201
A18: 11302 | B18: BIOPSIA ABIERTA (CRANEOTOMIA) DE CEREBRO | D18: 26 | E18: ATENCION PARA EL CUIDADO DEL RECIEN NACIDO | G18: 37 | H18: EVENTO ADVERSO EN SALUD | J18: Vejez | K18: VALORACIÓN INTEGRAL | L18: Atención en salud bucal por profesional de odontología | M18: 890203
A19: 11303 | B19: BIOPSIA DE CEREBRO POR TREPANACION | D19: 27 | E19: ATENCION PARA EL SEGUIMIENTO DEL RECIEN NACIDO | G19: 38 | H19: ENFERMEDAD GENERAL
A20: 11306 | B20: BIOPSIA DE CEREBRO SUPERFICIAL POR ESTEREOTAXIA | D20: 28 | E20: PREPARACION PARA LA MATERNIDAD Y LA PATERNIDAD | G20: 39 | H20: ENFERMEDAD LABORAL | J20: Primera Infancia | K20: PROTECCIÓN ESPECÍFICA | L20: Aplicación de barniz de flúor | M20: 997106
A21: 11307 | B21: BIOPSIA DE CEREBRO PROFUNDA POR ESTEREOTAXIA | D21: 29 | E21: PROMOCION DE ACTIVIDAD FISICA | G21: 40 | H21: PROMOCION Y MANTENIMIENTO DE LA SALUD ? INTERVENCIONES INDIVIDUALES | J21: Primera Infancia | K21: PROTECCIÓN ESPECÍFICA | L21: Profilaxis y remoción de_x000D_ placa bacteriana | M21: 997310
A22: 12101 | B22: CRANEALIZACION DE SENO FRONTAL | D22: 30 | E22: PROMOCION DE LA CESACION DEL TABAQUISMO | G22: 41 | H22: INTERVENCION COLECTIVA | J22: Primera Infancia | K22: PROTECCIÓN ESPECÍFICA | L22: Aplicación de sellantes | M22: 997102
A23: 12102 | B23: INCISION Y DRENAJE DE SENO FRONTAL | D23: 31 | E23: PREVENCION DEL CONSUMO DE SUSTANCIAS PSICOACTIVAS | G23: 42 | H23: ATENCION DE POBLACION MATERNO PERINATAL | J23: Primera Infancia | K23: PROTECCIÓN ESPECÍFICA | L23: Vacunación | M23: 993
A24: 12103 | B24: DESFUNCIONALIZACION DE SENO FRONTAL | D24: 32 | E24: PROMOCION DE LA ALIMENTACION SALUDABLE | G24: 43 | H24: RIESGO AMBIENTAL | J24: Primera Infancia | K24: PROTECCIÓN ESPECÍFICA | L24: Fortificación casera con_x000D_ micronutrientes en polvo
A25: 12201 | B25: RETIRO O SUSTITUCION DE ELECTRODO CRANEAL PROFUNDO O INTRAPARENQUIMATOSO | D25: 33 | E25: PROMOCION PARA EL EJERCICIO DE LOS DERECHOS SEXUALES Y DERECHOS REPRODUCTIVOS | G25: 44 | H25: OTROS EVENTOS CATASTROFICOS | J25: Primera Infancia | K25: PROTECCIÓN ESPECÍFICA | L25: Suplementación con_x000D_ micronutrientes
A26: 12202 | B26: RETIRO O SUSTITUCION DE ELECTRODO EPIDURAL | D26: 34 | E26: PROMOCION PARA EL DESARROLLO DE HABILIDADES PARA LA VIDA | G26: 45 | H26: ACCIDENTE DE MINA ANTIPERSONAL ? MAP | J26: Primera Infancia | K26: PROTECCIÓN ESPECÍFICA | L26: Suplementación con hierro* | M26: B03AA0701
A27: 12203 | B27: RETIRO O SUSTITUCION DE ELECTRODO SUBDURAL | D27: 35 | E27: PROMOCION PARA LA CONSTRUCCION DE ESTRATEGIAS DE AFRONTAMIENTO FRENTE A SUCESOS VITALES | G27: 46 | H27: ACCIDENTE DE ARTEFACTO EXPLOSIVO IMPROVISADO ? AEI | J27: Primera Infancia | K27: PROTECCIÓN ESPECÍFICA | L27: Desparasitación intestinal antihelmíntica | M27: P02CA0301
A28: 12204 | B28: RETIRO O SUSTITUCION DE ELECTRODO A NERVIO CRANEAL O PERIFERICO | D28: 36 | E28: PROMOCION DE LA SANA CONVIVENCIA Y EL TEJIDO SOCIAL | G28: 47 | H28: ACCIDENTE DE MUNICION SIN EXPLOTAR- MUSE | J28: Infancia | K28: PROTECCIÓN ESPECÍFICA | L28: Aplicación de barniz de flúor | M28: 997106
A29: 12205 | B29: RETIRO O SUSTITUCION DE NEUROESTIMULADOR INTRACRANEAL | D29: 37 | E29: PROMOCION DE UN AMBIENTE SEGURO Y DE CUIDADO Y PROTECCION DEL AMBIENTE | G29: 48 | H29: OTRA VICTIMA DE CONFLICTO ARMADO COLOMBIANO | J29: Infancia | K29: PROTECCIÓN ESPECÍFICA | L29: Profilaxis y remoción de placa bacteriana | M29: 997310
A30: 12206 | B30: REVISION DE ELECTRODO CRANEAL PROFUNDO O INTRAPARENQUIMATOSO | D30: 38 | E30: PROMOCION DEL EMPODERAMIENTO PARA EL EJERCICIO DEL DERECHO A LA SALUD | G30: 49 | H30: IVE POR DECISION O MANIFESTACION DE VOLUNTAD DE LA PERSONA GESTANTE HASTA LA SEMANA 24 DE GESTACION | J30: Infancia | K30: PROTECCIÓN ESPECÍFICA | L30: Aplicación de sellantes | M30: 997102
A31: 12207 | B31: REVISION DE ELECTRODO EPIDURAL | D31: 39 | E31: PROMOCION PARA LA ADOPCION DE PRACTICAS DE CRIANZA Y CUIDADO PARA LA SALUD | J31: Infancia | K31: PROTECCIÓN ESPECÍFICA | L31: Vacunación | M31: 993
A32: 12208 | B32: REVISION DE ELECTRODO SUBDURAL | D32: 40 | E32: PROMOCION DE LA CAPACIDAD DE LA AGENCIA Y CUIDADO DE LA SALUD | J32: Adolescencia | K32: PROTECCIÓN ESPECÍFICA | L32: Atención en salud por medicina general, medicina familiar o enfermería para la asesoría en anticoncepción** | M32: 890201
A33: 12209 | B33: REVISION DE ELECTRODO A NERVIO CRANEAL O PERIFERICO | D33: 41 | E33: DESARROLLO DE HABILIDADES COGNITIVAS | J33: Adolescencia | K33: PROTECCIÓN ESPECÍFICA | L33: Atención en salud por medicina general, medicina familiar o enfermería para la asesoría en anticoncepción** | M33: 890301
A34: 12210 | B34: REVISION DE NEUROESTIMULADOR | D34: 42 | E34: INTERVENCION COLECTIVA | J34: Adolescencia | K34: PROTECCIÓN ESPECÍFICA | L34: Atención en salud por medicina general, medicina familiar o enfermería para la asesoría en anticoncepción - Control** | M34: 890205
A35: 12301 | B35: REAPERTURA DE CRANEOTOMIA | D35: 43 | E35: MODIFICACION DE LA ESTETICA CORPORAL FINES ESTETICOS | J35: Adolescencia | K35: PROTECCIÓN ESPECÍFICA | L35: Atención en salud por medicina general, medicina familiar o enfermería para la asesoría en anticoncepción - Control** | M35: 890305
A36: 12401 | B36: DRENAJE DE ESPACIO EPIDURAL SUPRATENTORIAL, POR CRANEOTOMIA | D36: 44 | E36: OTRA | J36: Adolescencia | K36: PROTECCIÓN ESPECÍFICA | L36: Inserción de dispositivo_x000D_ intrauterino anticonceptivo [DIU] sod | M36: 697100
A37: 12402 | B37: DRENAJE DE ESPACIO EPIDURAL FOSA POSTERIOR, POR CRANEOTOMIA | J37: Adolescencia | K37: PROTECCIÓN ESPECÍFICA | L37: Inserción de anticonceptivos subdérmicos | M37: 861801
A38: 12403 | B38: CRANEOTOMIA (DESCOMPRESIVA O EXPLORATORIA) | J38: Adolescencia | K38: PROTECCIÓN ESPECÍFICA | L38: Suministro de anticoncepción oral ciclo e inyectable | M38: No aplica
A39: 12410 | B39: EXTRACCION DE CUERPO EXTRANO INTRACRANEAL, POR CRANEOTOMIA | J39: Adolescencia | K39: PROTECCIÓN ESPECÍFICA | L39: Suministro de preservativos
A40: 12501 | B40: SECUESTRECTOMIA DE CRANEO, POR CRANIECTOMIA | J40: Adolescencia | K40: PROTECCIÓN ESPECÍFICA | L40: Aplicación de barniz de flúor | M40: 997106
A41: 12502 | B41: DRENAJE DE COLECCION EPIDURAL SUPRATENTORIAL, POR CRANIECTOMIA | J41: Adolescencia | K41: PROTECCIÓN ESPECÍFICA | L41: Profilaxis y remoción de placa bacteriana | M41: 997310
...
