Workbook

Sheet CONTRATO DISPOSIT. Y TRANSPOR
B1: DIRECCION TERRITORIAL DE SALUD DE CALDAS SISTEMA DE GESTION DE CALIDAD Proceso Gestión de Inspección, Vigilancia y Control Procedimiento Inspección, Vigilancia y Control Monitoreo y Seguimiento Equipos Básicos de Atención en Salud | S1: Versión: 04
S2: Código: F207-P01-GIV
S3: Fecha: 2025-06-11
A5: Fecha de la Visita:
A6: Nombre de la ESE
A7: Dirección:
A8: Municipio:
A9: Profesional que asiste al seguimiento:
A10: Correo:
A11: Servicio contratado | B11: Nombre y Apellido (Razón social ) | C11: Tipo de documento | D11: # documento | E11: Número contrato | F11: Valor contrato | G11: Fecha inicio | H11: Fecha finalización | I11: Primer Pago ejecutado | J11: Fecha pago | K11: Segundo Pago ejecutado | L11: Fecha pago | M11: Tercer Pago ejecutado | N11: Fecha pago | O11: Cuarto Pago ejecutado | P11: Fecha pago | Q11: Enlace de SECOP | R11: Número de documento del supervisor del contrato | S11: Nombre completo del supervisor del contrato
E16: TOTALES | F16: =SUM(F12:F14) -> 0 | I16: =SUM(I12:I14) -> 0 | K16: =SUM(K12:K14) -> 0 | M16: =SUM(M12:M14) -> 0 | O16: =SUM(O12:O14) -> 0

Sheet CONTRATOS COSTO DIRECTO
B1: DIRECCION TERRITORIAL DE SALUD DE CALDAS SISTEMA DE GESTION DE CALIDAD Proceso Asistencia Técnica Procedimiento Plan de Intervenciones Colectivas Registro de Contratación Plan de Intervenciones Colectivas
A5: Fecha de la Visita: | B5: 46133
A6: Nombre de la ESE | B6: HOSPITAL SAN JOSE AGUADAS
A7: Dirección: | B7: SALIDA A PACORA
A8: Municipio: | B8: AGUADAS
A9: Número de contrato | B9: 150.25.4.0238
A10: Fecha de contrato
A11: Valor Asignado para contratos (Destinado)
A12: Valor total contratado | B12: 146113846
A13: Fecha de Adición
A14: Valor de Adición
A15: E-mail | B15: clauditacar1@gmail.com
N17: =SUM(#REF!) -> #REF! | P17: =SUM(#REF!) -> #REF! | R17: =SUM(#REF!) -> #REF! | T17: =SUM(#REF!) -> #REF! | V17: =SUM(#REF!) -> #REF! | X17: =SUM(#REF!) -> #REF! | Z17: =SUM(#REF!) -> #REF!
A19: Contratación realizada en Febrero
A21: Número de contrato | B21: Nombres y Apellidos del contratista | C21: Tipo de documento | D21: # documento | E21: Valor contrato | F21: Fecha inicio | G21: Fecha finalización | H21: Valor PRIMER Pago ejecutado durante el contrato | I21: Fecha pago | J21: Valor SEGUNDO Pago ejecutado durante el contrato | K21: Fecha pago | L21: Valor TERCER Pago ejecutado durante el contrato | M21: Fecha pago | N21: Valor CUARTO Pago ejecutado durante el contrato | O21: Fecha pago | P21: Valor QUINTO Pago ejecutado durante el contrato | Q21: Fecha pago | R21: Valor SEXTO Pago ejecutado durante el contrato | S21: Fecha pago | T21: Valor SEPTIMO Pago ejecutado durante el contrato | U21: Fecha pago | V21: Valor OCTAVO Pago ejecutado durante el contrato | W21: Fecha pago | X21: Valor NOVENO Pago ejecutado durante el contrato | Y21: Fecha pago | Z21: Enlace de SECOP | AA21: Número de documento del supervisor del contrato | AB21: Nombre completo del supervisor del contrato
A22: 262-2026 | B22: CLAUDIA CARDENAS A | C22: CC | D22: 30330734 | E22: 36574000 | F22: 46055 | G22: 46326 | H22: 4063777 | I22: 46080 | J22: 4063777 | K22: 46112 | L22: 4063777 | M22: 46142 | N22: 4063777 | O22: 46172 | P22: 4063777 | Q22: 46203 | Z22: https://community.secop.gov.co/Public/Tendering/OpportunityDetail/Index?noticeUID=CO1.NTC.10055838&isFromPublicArea=True&isModal=False
A23: 273-2026 | B23: CARLOS A VALENCIA G | C23: CC | D23: 1055831336 | E23: 29600000 | F23: 46067 | G23: 46309 | H23: 1850000 | I23: 46080 | J23: 3700000 | K23: 46112 | L23: 3700000 | M23: 46142 | N23: 3700000 | O23: 46172 | P23: 3700000 | Q23: 46203 | Z23: https://community.secop.gov.co/Public/Tendering/OpportunityDetail/Index?noticeUID=CO1.NTC.10069184&isFromPublicArea=True&isModal=False
A24: 274-2026 | B24: YURY M GAVIRIA G | C24: CC | D24: 1006028381 | E24: 28800000 | F24: 46067 | G24: 46309 | H24: 1800000 | I24: 46080 | J24: 3600000 | K24: 46112 | L24: 3600000 | M24: 46142 | N24: 3600000 | O24: 46172 | P24: 3600000 | Q24: 46203 | Z24: https://community.secop.gov.co/Public/Tendering/OpportunityDetail/Index?noticeUID=CO1.NTC.10069199&isFromPublicArea=True&isModal=False
P26: =SUM(P22:P25) -> 11363777 | R26: =SUM(R22:R25) -> 0 | T26: =SUM(T22:T25) -> 0 | V26: =SUM(V22:V25) -> 0 | X26: =SUM(X22:X25) -> 0
N28: =SUM(#REF!) -> #REF! | P28: =SUM(#REF!) -> #REF! | R28: =SUM(#REF!) -> #REF! | T28: =SUM(#REF!) -> #REF! | V28: =SUM(#REF!) -> #REF! | X28: =SUM(#REF!) -> #REF!
M32: Fecha pago | N32: Valor Séptimo Pago ejecutado durante el contrato | O32: Fecha pago | P32: Valor Octavo Pago ejecutado durante el contrato | Q32: Fecha pago | R32: Valor Noveno Pago ejecutado durante el contrato | S32: Fecha pago | T32: Valor Décimo Pago ejecutado durante el contrato | U32: Fecha pago | V32: Valor Onceavo Pago ejecutado durante el contrato | W32: Fecha pago | X32: Valor Doceavo Pago ejecutado durante el contrato | Y32: Fecha pago
N37: =SUM(N33:N36) -> 0 | P37: =SUM(P33:P36) -> 0 | R37: =SUM(R33:R36) -> 0 | T37: =SUM(T33:T36) -> 0 | V37: =SUM(V33:V36) -> 0 | X37: =SUM(X33:X36) -> 0
M41: Fecha pago | N41: Valor Octavo Pago ejecutado durante el contrato | O41: Fecha pago | P41: Valor Noveno Pago ejecutado durante el contrato | Q41: Fecha pago | R41: Valor Décimo Pago ejecutado durante el contrato | S41: Fecha pago | T41: Valor Onceavo Pago ejecutado durante el contrato | U41: Fecha pago | V41: Valor Doceavo Pago ejecutado durante el contrato | W41: Fecha pago | X41: Enlace de SECOP | Y41: Número de documento del supervisor del contrato
N46: =SUM(N42:N45) -> 0 | P46: =SUM(P42:P45) -> 0 | R46: =SUM(R42:R45) -> 0 | T46: =SUM(T42:T45) -> 0 | V46: =SUM(V42:V45) -> 0
M50: Fecha pago | N50: Valor Noveno Pago ejecutado durante el contrato | O50: Fecha pago | P50: Valor Décimo Pago ejecutado durante el contrato | Q50: Fecha pago | R50: Valor Onceavo Pago ejecutado durante el contrato | S50: Fecha pago | T50: Valor Doceavo Pago ejecutado durante el contrato | U50: Fecha pago | V50: Enlace de SECOP | W50: Número de documento del supervisor del contrato | X50: Nombre completo del supervisor del contrato
N55: =SUM(N51:N54) -> 0 | P55: =SUM(P51:P54) -> 0 | R55: =SUM(R51:R54) -> 0 | T55: =SUM(T51:T54) -> 0
M59: Fecha pago | N59: Valor Décimo Pago ejecutado durante el contrato | O59: Fecha pago | P59: Valor Onceavo Pago ejecutado durante el contrato | Q59: Fecha pago | R59: Valor Doceavo Pago ejecutado durante el contrato | S59: Fecha pago | T59: Enlace de SECOP | U59: Número de documento del supervisor del contrato | V59: Nombre completo del supervisor del contrato
N64: =SUM(N60:N63) -> 0 | P64: =SUM(P60:P63) -> 0 | R64: =SUM(R60:R63) -> 0
M69: Fecha pago | N69: Valor Onceavo Pago ejecutado durante el contrato | O69: Fecha pago | P69: Valor Doceavo Pago ejecutado durante el contrato | Q69: Fecha pago | R69: Enlace de SECOP | S69: Número de documento del supervisor del contrato | T69: Nombre completo del supervisor del contrato
N74: =SUM(N70:N73) -> 0 | P74: =SUM(P70:P73) -> 0
M78: Fecha pago | N78: Valor Doceavo Pago ejecutado durante el contrato | O78: Fecha pago | P78: Enlace de SECOP | Q78: Número de documento del supervisor del contrato | R78: Nombre completo del supervisor del contrato
N83: =SUM(N79:N82) -> 0
M88: Fecha pago | N88: Enlace de SECOP | O88: Número de documento del supervisor del contrato | P88: Nombre completo del supervisor del contrato
M98: Número de documento del supervisor del contrato | N98: Nombre completo del supervisor del contrato

Sheet CONTRATOS COSTO INDIRECTO 
B1: DIRECCION TERRITORIAL DE SALUD DE CALDAS SISTEMA DE GESTION DE CALIDAD Proceso Asistencia Técnica Procedimiento Plan de Intervenciones Colectivas Registro de Contratación Plan de Intervenciones Colectivas | Z1: Versión: 01
Z2: Código: F042-P03-AT
Z3: Fecha: 2025-12-17
A5: Fecha de la Visita:
A6: Nombre de la ESE
A7: Dirección:
A8: Municipio:
A9: Número de contrato | B9: 150.25.4.0875
A10: Fecha de contrato | B10: 45747
A11: Valor de contrato | B11: ='[1]Anexo Financiero'!$B$10 -> 51139846
A12: Fecha de Adición | B12: 45833
A13: Valor de Adición | B13: 200000
A14: E-mail
A16: Contratación realizada en Enero
A18: Número de contrato | B18: Nombres y Apellidos del contratista | C18: Tipo de documento | D18: # documento | E18: Valor contrato | F18: Fecha inicio | G18: Fecha finalización | H18: Valor Primer Pago ejecutado durante el contrato | I18: Fecha pago | J18: Valor Segundo Pago ejecutado durante el contrato | K18: Fecha pago | L18: Valor Tercer Pago ejecutado durante el contrato | M18: Fecha pago | N18: Valor Cuarto Pago ejecutado durante el contrato | O18: Fecha pago | P18: Valor Quinto Pago ejecutado durante el contrato | Q18: Fecha pago | R18: Valor Sexto Pago ejecutado durante el contrato | S18: Fecha pago | T18: Valor Séptimo Pago ejecutado durante el contrato | U18: Fecha pago | V18: Valor octavo Pago ejecutado durante el contrato | W18: Fecha pago | X18: Valor Noveno Pago ejecutado durante el contrato | Y18: Fecha pago | Z18: Valor Décimo Pago ejecutado durante el contrato | AA18: Fecha pago | AB18: Valor Onceavo Pago ejecutado durante el contrato | AC18: Fecha pago | AD18: Valor Doceavo Pago ejecutado durante el contrato | AE18: Fecha pago | AF18: Enlace de SECOP | AG18: Número de documento del supervisor del contrato | AH18: Nombre completo del supervisor del contrato
A19: 150 | B19: dahiana | C19: grajales | D19: 101010 | E19: 40000 | H19: 2000
E23: =SUM(E19:E22) -> 40000 | H23: =SUM(H19:H22) -> 2000 | J23: =SUM(J19:J22) -> 0 | L23: =SUM(L19:L22) -> 0 | N23: =SUM(N19:N22) -> 0 | P23: =SUM(P19:P22) -> 0 | R23: =SUM(R19:R22) -> 0 | T23: =SUM(T19:T22) -> 0 | V23: =SUM(V19:V22) -> 0 | X23: =SUM(X19:X22) -> 0 | Z23: =SUM(Z19:Z22) -> 0 | AB23: =SUM(AB19:AB22) -> 0 | AD23: =SUM(AD19:AD22) -> 0
A25: Contratación realizada en Febrero
A27: Número de contrato | B27: Nombres y Apellidos del contratista | C27: Tipo de documento | D27: # documento | E27: Valor contrato | F27: Fecha inicio | G27: Fecha finalización | H27: Valor Segundo Pago ejecutado durante el contrato | I27: Fecha pago | J27: Valor Tercer Pago ejecutado durante el contrato | K27: Fecha pago | L27: Valor Cuarto Pago ejecutado durante el contrato | M27: Fecha pago | N27: Valor Quinto Pago ejecutado durante el contrato | O27: Fecha pago | P27: Valor Sexto Pago ejecutado durante el contrato | Q27: Fecha pago | R27: Valor Séptimo Pago ejecutado durante el contrato | S27: Fecha pago | T27: Valor Octubre Pago ejecutado durante el contrato | U27: Fecha pago | V27: Valor Noveno Pago ejecutado durante el contrato | W27: Fecha pago | X27: Valor Décimo Pago ejecutado durante el contrato | Y27: Fecha pago | Z27: Valor Onceavo Pago ejecutado durante el contrato | AA27: Fecha pago | AB27: Valor Doceavo Pago ejecutado durante el contrato | AC27: Fecha pago | AD27: Enlace de SECOP | AE27: Número de documento del supervisor del contrato | AF27: Nombre completo del supervisor del contrato
A28: 150 | B28: dahiana | C28: grajales | D28: 101010 | E28: 20000
E32: =SUM(E28:E31) -> 20000 | H32: =SUM(H28:H31) -> 0 | J32: =SUM(J28:J31) -> 0 | L32: =SUM(L28:L31) -> 0 | N32: =SUM(N28:N31) -> 0 | P32: =SUM(P28:P31) -> 0 | R32: =SUM(R28:R31) -> 0 | T32: =SUM(T28:T31) -> 0 | V32: =SUM(V28:V31) -> 0 | X32: =SUM(X28:X31) -> 0 | Z32: =SUM(Z28:Z31) -> 0 | AB32: =SUM(AB28:AB31) -> 0
A34: Contratación realizada en Marzo
A36: Número de contrato | B36: Nombres y Apellidos del contratista | C36: Tipo de documento | D36: # documento | E36: Valor contrato | F36: Fecha inicio | G36: Fecha finalización | H36: Valor Tercer Pago ejecutado durante el contrato | I36: Fecha pago | J36: Valor Cuarto Pago ejecutado durante el contrato | K36: Fecha pago | L36: Valor Quinto Pago ejecutado durante el contrato | M36: Fecha pago | N36: Valor Sexto Pago ejecutado durante el contrato | O36: Fecha pago | P36: Valor Séptimo Pago ejecutado durante el contrato | Q36: Fecha pago | R36: Valor Octavo Pago ejecutado durante el contrato | S36: Fecha pago | T36: Valor Noveno Pago ejecutado durante el contrato | U36: Fecha pago | V36: Valor Décimo Pago ejecutado durante el contrato | W36: Fecha pago | X36: Valor Onceavo Pago ejecutado durante el contrato | Y36: Fecha pago | Z36: Valor Doceavo Pago ejecutado durante el contrato | AA36: Fecha pago | AB36: Enlace de SECOP | AC36: Número de documento del supervisor del contrato | AD36: Nombre completo del supervisor del contrato
A37: 150 | B37: dahiana | C37: grajales | D37: 101010 | E37: 15000
E41: =SUM(E37:E40) -> 15000 | H41: =SUM(H37:H40) -> 0 | J41: =SUM(J37:J40) -> 0 | L41: =SUM(L37:L40) -> 0 | N41: =SUM(N37:N40) -> 0 | P41: =SUM(P37:P40) -> 0 | R41: =SUM(R37:R40) -> 0 | T41: =SUM(T37:T40) -> 0 | V41: =SUM(V37:V40) -> 0 | X41: =SUM(X37:X40) -> 0 | Z41: =SUM(Z37:Z40) -> 0
A43: Contratación realizada en Abril
A45: Número de contrato | B45: Nombres y Apellidos del contratista | C45: Tipo de documento | D45: # documento | E45: Valor contrato | F45: Fecha inicio | G45: Fecha finalización | H45: Valor Cuarto Pago ejecutado durante el contrato | I45: Fecha pago | J45: Valor Quinto Pago ejecutado durante el contrato | K45: Fecha pago | L45: Valor Sexto Pago ejecutado durante el contrato | M45: Fecha pago | N45: Valor Séptimo Pago ejecutado durante el contrato | O45: Fecha pago | P45: Valor Octavo Pago ejecutado durante el contrato | Q45: Fecha pago | R45: Valor Noveno Pago ejecutado durante el contrato | S45: Fecha pago | T45: Valor Décimo Pago ejecutado durante el contrato | U45: Fecha pago | V45: Valor Onceavo Pago ejecutado durante el contrato | W45: Fecha pago | X45: Valor Doceavo Pago ejecutado durante el contrato | Y45: Fecha pago | Z45: Enlace de SECOP | AA45: Número de documento del supervisor del contrato | AB45: Nombre completo del supervisor del contrato
A46: 150 | B46: dahiana | C46: grajales | D46: 101010 | E46: 30000
E50: =SUM(E46:E49) -> 30000 | H50: =SUM(H46:H49) -> 0 | J50: =SUM(J46:J49) -> 0 | L50: =SUM(L46:L49) -> 0 | N50: =SUM(N46:N49) -> 0 | P50: =SUM(P46:P49) -> 0 | R50: =SUM(R46:R49) -> 0 | T50: =SUM(T46:T49) -> 0 | V50: =SUM(V46:V49) -> 0 | X50: =SUM(X46:X49) -> 0
A52: Contratación realizada en Mayo
A54: Número de contrato | B54: Nombres y Apellidos del contratista | C54: Tipo de documento | D54: # documento | E54: Valor contrato | F54: Fecha inicio | G54: Fecha finalización | H54: Valor Quinto Pago ejecutado durante el contrato | I54: Fecha pago | J54: Valor Sexto Pago ejecutado durante el contrato | K54: Fecha pago | L54: Valor Séptimo Pago ejecutado durante el contrato | M54: Fecha pago | N54: Valor Octavo Pago ejecutado durante el contrato | O54: Fecha pago | P54: Valor Noveno Pago ejecutado durante el contrato | Q54: Fecha pago | R54: Valor Décimo Pago ejecutado durante el contrato | S54: Fecha pago | T54: Valor Onceavo Pago ejecutado durante el contrato | U54: Fecha pago | V54: Valor Doceavo Pago ejecutado durante el contrato | W54: Fecha pago | X54: Enlace de SECOP | Y54: Número de documento del supervisor del contrato | Z54: Nombre completo del supervisor del contrato
A55: 150 | B55: dahiana | C55: grajales | D55: 101010 | E55: 60000
E59: =SUM(E55:E58) -> 60000 | H59: =SUM(H55:H58) -> 0 | J59: =SUM(J55:J58) -> 0 | L59: =SUM(L55:L58) -> 0 | N59: =SUM(N55:N58) -> 0 | P59: =SUM(P55:P58) -> 0 | R59: =SUM(R55:R58) -> 0 | T59: =SUM(T55:T58) -> 0 | V59: =SUM(V55:V58) -> 0
A61: Contratación realizada en Junio
A63: Número de contrato | B63: Nombres y Apellidos del contratista | C63: Tipo de documento | D63: # documento | E63: Valor contrato | F63: Fecha inicio | G63: Fecha finalización | H63: Valor Sexto Pago ejecutado durante el contrato | I63: Fecha pago | J63: Valor Séptimo Pago ejecutado durante el contrato | K63: Fecha pago | L63: Valor Octavo Pago ejecutado durante el contrato | M63: Fecha pago | N63: Valor Noveno Pago ejecutado durante el contrato | O63: Fecha pago | P63: Valor Décimo Pago ejecutado durante el contrato | Q63: Fecha pago | R63: Valor Onceavo Pago ejecutado durante el contrato | S63: Fecha pago | T63: Valor Doceavo Pago ejecutado durante el contrato | U63: Fecha pago | V63: Enlace de SECOP | W63: Número de documento del supervisor del contrato | X63: Nombre completo del supervisor del contrato
A64: 150 | B64: dahiana | C64: grajales | D64: 101010 | E64: 70000
E68: =SUM(E64:E67) -> 70000 | H68: =SUM(H64:H67) -> 0 | J68: =SUM(J64:J67) -> 0 | L68: =SUM(L64:L67) -> 0 | N68: =SUM(N64:N67) -> 0 | P68: =SUM(P64:P67) -> 0 | R68: =SUM(R64:R67) -> 0 | T68: =SUM(T64:T67) -> 0
A70: Contratación realizada en Julio
A72: Número de contrato | B72: Nombres y Apellidos del contratista | C72: Tipo de documento | D72: # documento | E72: Valor contrato | F72: Fecha inicio | G72: Fecha finalización | H72: Valor Séptimo Pago ejecutado durante el contrato | I72: Fecha pago | J72: Valor Octubre Pago ejecutado durante el contrato | K72: Fecha pago | L72: Valor Noveno Pago ejecutado durante el contrato | M72: Fecha pago | N72: Valor Décimo Pago ejecutado durante el contrato | O72: Fecha pago | P72: Valor Onceavo Pago ejecutado durante el contrato | Q72: Fecha pago | R72: Valor Doceavo Pago ejecutado durante el contrato | S72: Fecha pago | T72: Enlace de SECOP | U72: Número de documento del supervisor del contrato | V72: Nombre completo del supervisor del contrato
A73: 150 | B73: dahiana | C73: grajales | D73: 101010 | E73: 25000
...

Sheet VALIDACION EJECUCION (2)
B2: VERIFICACIÓN FINANCIERA
B4: TOTAL CONTRATO | C4: ='CONTRATOS COSTO DIRECTO'!B9 -> 150.25.4.0238 | F4: Fecha de contrato | G4: ='CONTRATOS COSTO DIRECTO'!B10 -> 0
B5: Talento Humano | C5: =C7*65% -> 94974000 | F5: Fecha de adición | G5: ='CONTRATOS COSTO DIRECTO'!B13 -> 0
B6: Costos Indirectos | C6: =C7*35% -> 51139846
B7: TOTAL | C7: 146113846
B9: VALIDACIÓN RECURSO COMPROMETIDO
B11: Destinación | C11: Recursos Asignados | D11: Porcentaje | F11: Destinación | G11: Recursos Asignados | H11: Porcentaje
B12: Talento Humano | C12: =C5 -> 94974000 | D12: =C12/C7 -> 0.65 | F12: Costos indirectos | G12: =C6 -> 51139846 | H12: =G12/C7 -> 0.35
B13: Mes de compromiso | C13: Total comprometido | D13: Porcentaje compromiso | F13: Mes de compromiso | G13: Total comprometido | H13: Porcentaje compromiso
B14: Enero | C14: ='CONTRATOS COSTO DIRECTO'!E17 -> 0 | D14: =C14/$C$12 -> 0 | F14: Enero | G14: ='CONTRATOS COSTO INDIRECTO '!E23 -> 40000 | H14: =G14/$G$12 -> 0.00078216896
B15: Febrero | C15: ='CONTRATOS COSTO DIRECTO'!E26 -> 0 | D15: =C15/$C$12 -> 0 | F15: Febrero | G15: ='CONTRATOS COSTO INDIRECTO '!E32 -> 20000 | H15: =G15/$G$12 -> 0.00039108448
B16: Marzo | C16: ='CONTRATOS COSTO DIRECTO'!E28 -> 0 | D16: =C16/$C$12 -> 0 | F16: Marzo | G16: ='CONTRATOS COSTO INDIRECTO '!E41 -> 15000 | H16: =G16/$G$12 -> 0.00029331336
B17: Abril | C17: ='CONTRATOS COSTO DIRECTO'!E37 -> 0 | D17: =C17/$C$12 -> 0 | F17: Abril | G17: ='CONTRATOS COSTO INDIRECTO '!E50 -> 30000 | H17: =G17/$G$12 -> 0.00058662672
B18: Mayo | C18: ='CONTRATOS COSTO DIRECTO'!E46 -> 0 | D18: =C18/$C$12 -> 0 | F18: Mayo | G18: ='CONTRATOS COSTO INDIRECTO '!E59 -> 60000 | H18: =G18/$G$12 -> 0.0011732534
B19: Junio | C19: ='CONTRATOS COSTO DIRECTO'!E55 -> 0 | D19: =C19/$C$12 -> 0 | F19: Junio | G19: ='CONTRATOS COSTO INDIRECTO '!E68 -> 70000 | H19: =G19/$G$12 -> 0.0013687957
B20: Julio | C20: ='CONTRATOS COSTO DIRECTO'!E64 -> 0 | D20: =C20/$C$12 -> 0 | F20: Julio | G20: ='CONTRATOS COSTO INDIRECTO '!E77 -> 25000 | H20: =G20/$G$12 -> 0.0004888556
B21: Agosto | C21: ='CONTRATOS COSTO DIRECTO'!E74 -> 0 | D21: =C21/$C$12 -> 0 | F21: Agosto | G21: ='CONTRATOS COSTO INDIRECTO '!E87 -> 30000 | H21: =G21/$G$12 -> 0.00058662672
B22: Septiembre | C22: ='CONTRATOS COSTO DIRECTO'!E83 -> 0 | D22: =C22/$C$12 -> 0 | F22: Septiembre | G22: ='CONTRATOS COSTO INDIRECTO '!E96 -> 30000 | H22: =G22/$G$12 -> 0.00058662672
B23: Octubre | C23: ='CONTRATOS COSTO DIRECTO'!E93 -> 0 | D23: =C23/$C$12 -> 0 | F23: Octubre | G23: ='CONTRATOS COSTO INDIRECTO '!E106 -> 30000 | H23: =G23/$G$12 -> 0.00058662672
B24: Noviembre | C24: ='CONTRATOS COSTO DIRECTO'!E103 -> 0 | D24: =C24/$C$12 -> 0 | F24: Noviembre | G24: ='CONTRATOS COSTO INDIRECTO '!E116 -> 30000 | H24: =G24/$G$12 -> 0.00058662672
B25: Diciembre | C25: ='CONTRATOS COSTO DIRECTO'!E113 -> 0 | D25: =C25/$C$12 -> 0 | F25: Diciembre | G25: ='CONTRATOS COSTO INDIRECTO '!E126 -> 30000 | H25: =G25/$G$12 -> 0.00058662672
B26: TOTALES | C26: =SUM(C14:C25) -> 0 | D26: =C26/C12 -> 0 | F26: TOTALES | G26: =SUM(G14:G25) -> 410000 | H26: =G26/G12 -> 0.0080172318
B29: Recurso Comprometido | C29: =C26 -> 0 | D29: =C29/C12 -> 0 | F29: Recurso Comprometido | G29: =G26 -> 410000 | H29: =G29/G12 -> 0.0080172318
B30: Recurso pendiente por Comprometer | C30: =C12-C26 -> 94974000 | D30: =C30/C12 -> 1 | F30: Recurso pendiente por Comprometer | G30: =G12-G26 -> 50729846 | H30: =G30/G12 -> 0.99198277
B33: VALIDACIÓN RECURSO EJECUTADO
B35: Destinación | C35: Recursos Comprometido | D35: Porcentaje | F35: Destinación | G35: Recursos Comprometidos | H35: Porcentaje
B36: Talento Humano | C36: =C26 -> 0 | D36: =C36/C12 -> 0 | F36: Costos indirectos | G36: =G26 -> 410000 | H36: =G36/C31 -> #DIV/0!
B37: Mes de compromiso | C37: Total Ejecutado | D37: Porcentaje ejecución | F37: Mes de compromiso | G37: Total Ejecutado | H37: Porcentaje ejecución
B38: Enero | C38: ='CONTRATOS COSTO DIRECTO'!H17 -> 0 | D38: =C38/$C$12 -> 0 | F38: Enero
B39: Febrero | C39: ='CONTRATOS COSTO DIRECTO'!J17+'CONTRATOS COSTO DIRECTO'!H26 -> 0 | D39: =C39/$C$12 -> 0 | F39: Febrero
B40: Marzo | C40: ='CONTRATOS COSTO DIRECTO'!L17+'CONTRATOS COSTO DIRECTO'!J26+'CONTRATOS COSTO DIRECTO'!H28 -> 0 | D40: =C40/$C$12 -> 0 | F40: Marzo
B41: Abril | C41: ='CONTRATOS COSTO DIRECTO'!N17+'CONTRATOS COSTO DIRECTO'!L26+'CONTRATOS COSTO DIRECTO'!J28+'CONTRATOS COSTO DIRECTO'!H37 -> #REF! | D41: =C41/$C$12 -> #REF! | F41: Abril
B42: Mayo | C42: ='CONTRATOS COSTO DIRECTO'!N26+'CONTRATOS COSTO DIRECTO'!L28+'CONTRATOS COSTO DIRECTO'!J37+'CONTRATOS COSTO DIRECTO'!H46 -> 0 | D42: =C42/$C$12 -> 0 | F42: Mayo
B43: Junio | C43: ='CONTRATOS COSTO DIRECTO'!R17+'CONTRATOS COSTO DIRECTO'!P26+'CONTRATOS COSTO DIRECTO'!N28+'CONTRATOS COSTO DIRECTO'!L37+'CONTRATOS COSTO DIRECTO'!J46+'CONTRATOS COSTO DIRECTO'!H55 -> #REF! | D43: =C43/$C$12 -> #REF! | F43: Junio
B44: Julio | C44: ='CONTRATOS COSTO DIRECTO'!T17+'CONTRATOS COSTO DIRECTO'!R26+'CONTRATOS COSTO DIRECTO'!P28+'CONTRATOS COSTO DIRECTO'!N37+'CONTRATOS COSTO DIRECTO'!L46+'CONTRATOS COSTO DIRECTO'!J55+'CONTRATOS COSTO DIRECTO'!H64 -> #REF! | D44: =C44/$C$12 -> #REF! | F44: Julio
B45: Agosto | F45: Agosto
B46: Septiembre | F46: Septiembre
B47: Octubre | F47: Octubre
B48: Noviembre | F48: Noviembre
B49: Diciembre | C49: ='CONTRATOS COSTO DIRECTO'!V17+'CONTRATOS COSTO DIRECTO'!T26+'CONTRATOS COSTO DIRECTO'!R28+'CONTRATOS COSTO DIRECTO'!P37+'CONTRATOS COSTO DIRECTO'!N46+'CONTRATOS COSTO DIRECTO'!L55+'CONTRATOS COSTO DIRECTO'!J64+'CONTRATOS COSTO DIRECTO'!H74 -> #REF! | D49: =C49/$C$12 -> #REF! | F49: Diciembre | G49: ='CONTRATOS COSTO INDIRECTO '!E57 -> 0
...
