Workbook

Sheet REF
A1: 01. USAQUÉN | B1: NINGUNO | E1: COD_UPGD | F1: RAZON_SOCIAL | G1: LOCALIDAD | H1: RED | J1: NO APLICA | M1: 1. CIERTAS ENFERMEDADES INFECCIOSAS Y PARASITARIAS
A2: 02. CHAPINERO | B2: ALIANSALUD | E2: 110010793902 | F2: CENTRO ADMINISTRATIVO Y ASISTENCIAL CM | G2: 02 - Chapinero | H2: 1 - Norte | J2: ACHAGUA | M2: 2. NEOPLASIAS
A3: 03. SANTAFE | B3: AIC DEL CAUCA EPSI | E3: 110010918629 | F3: UNIDAD RENAL SANITAS | G3: 01 - Usaquén | H3: 1 - Norte | J3: AMBALÓ | M3: 3. ENFERMEDADES DE LA SANGRE Y ÓRGANOS HEMATOPOYÉTICOS Y CIERTOS TRASTORNOS QUE AFECTAN AL MECANISMO INMUNOLÓGICO
A4: 04. SAN CRISTOBAL | B4: ALIANZA MEDELLIN ANTIOQUIA EPS S.A.S. "SAVIA SALUD EPS" | E4: 110011840601 | F4: CARLOS ARTURO RODRÌGUEZ SARMIENTO | G4: 15 - Antonio Nariño | H4: 2 - Centro Oriente | J4: AMORÚA | M4: 4. ENFERMEDADES ENDOCRINAS, NUTRICIONALES Y METABÓLICAS
A5: 05. USME | B5: ALLIANZ | E5: 110012378101 | F5: IPS SANANGEL | G5: 09 - Fontibón | H5: 3 - Sur Occidente | J5: ANDAKIES | M5: 5. TRASTORNOS MENTALES Y DE COMPORTAMIENTO
A6: 06. TUNJUELITO | B6: ANAS WAYUU | E6: 110010586811 | F6: UNIMEDICA SANTAFE KENNEDY II | G6: 08 - Kennedy | H6: 3 - Sur Occidente | J6: ANDOQUE | M6: 6. ENFERMEDADES DEL SISTEMA NERVIOSO
A7: 07. BOSA | B7: APC COLOMBIA | E7: 110010403509 | F7: CENTRO MEDICO COLMEDICA SEDE SALITRE CAPITAL | G7: 09 - Fontibón | H7: 3 - Sur Occidente | J7: AWÁ | M7: 7. ENFERMEDADES DEL APARATO CIRCULATORIO
A8: 08. KENNEDY | B8: ASMETSALUD | E8: 110012487401 | F8: PREVENTSALUD IPS SAS | G8: 15 - Antonio Nariño | H8: 2 - Centro Oriente | J8: BARÁ | M8: 8. ENFERMEDADES DEL APARATO RESPIRATORIO
A9: 09. FONTIBON | B9: ASOCIACION MUTUAL BARRIOS UNIDOS DE QUIBDÓ | E9: 110010037601 | F9: WILLIAM RICARDO CABRA CRUZ | G9: 02 - Chapinero | H9: 1 - Norte | J9: BARASANO | M9: 9. ENFERMEDADES DEL APARATO DIGESTIVO
A10: 10. ENGATIVÁ | B10: CAFESALUD EPS SA | E10: 110010952301 | F10: VIRREY SOLIS IPS SA OLAYA | G10: 18 - Rafael Uribe Uribe | H10: 2 - Centro Oriente | J10: BARÍ | M10: 10. ENFERMEDADES DEL APARATO MUSCULOESQUELÉTICO Y DEL TEJIDO CONECTIVO
A11: 11. SUBA | B11: CAFESALUD REGIMEN SUBSIDIADO | E11: 110010568101 | F11: FUNDACION HOSPITAL DE LA MISERICORDIA | G11: 14 - Los Mártires | H11: 2 - Centro Oriente | J11: BETOYE | M11: 11. ENFERMEDADES DEL APARATO GENITOURINARIO
A12: 12. BARRIOS UNIDOS | B12: CAJACOPI | E12: 110010580001 | F12: VIVIR IPS SAS COUNTRY SUR | G12: 04 - San Cristóbal | H12: 2 - Centro Oriente | J12: BORA | M12: 12. CIERTAS AFECCIONES ORIGINADAS EN EL PERIODO PERINATAL
A13: 13. TEUSAQUILLO | B13: CAPITAL SALUD | E13: 110010817157 | F13: PUNTO DE ATENCION EN SALUD SURA SUR | G13: 15 - Antonio Nariño | H13: 2 - Centro Oriente | J13: CAÑAMOMO | M13: 13. MALFORMACIONES CONGÉNITAS, DEFORMIDADES Y ANOMALÍAS CROMOSÓMICAS
A14: 14. LOS MARTIRES | B14: CAPRESOCA | E14: 110010857202 | F14: REDIMED IPS CENTRO RADIOLOGICO DEL SUR | G14: 18 - Rafael Uribe Uribe | H14: 2 - Centro Oriente | J14: CARAPANA | M14: 14. NINGUNA
A15: 15. ANTONIO NARIÑO | B15: COLMÉDICA | E15: 110011475701 | F15: CEDI SALUD FAMILIAR JUAN PABLO II IPS SAS | G15: 18 - Rafael Uribe Uribe | H15: 2 - Centro Oriente | J15: CHIMILAS - ETTE ENEKA
A16: 16. PUENTE ARANDA | B16: COLPATRIA | E16: 110012688701 | F16: CLINICA CENTENARIO SAS | G16: 14 - Los Mártires | H16: 2 - Centro Oriente | J16: CHIRICOA
A17: 17. CANDELARIA | B17: COMFABOY | E17: 110010606501 | F17: INSTITUTO NACIONAL DE CANCEROLOGIA | G17: 04 - San Cristóbal | H17: 2 - Centro Oriente | J17: COCAMA
A18: 18. RAFAEL URIBE URIBE | B18: COMFACHOCO | E18: 110010952308 | F18: VIRREY SOLIS IPS SA SANTA LUCIA | G18: 18 - Rafael Uribe Uribe | H18: 2 - Centro Oriente | J18: COYAIMA
A19: 19. CIUDAD BOLIVAR | B19: COMFACOR | E19: 110010559713 | F19: CENTRO DE ATENCIËN EN SALUD CAFAM CENTENARIO | G19: 18 - Rafael Uribe Uribe | H19: 2 - Centro Oriente | J19: CURRIPAKO
A20: 20. SUMAPAZ | B20: COMFACUNDI | E20: 110010867901 | F20: SOCIEDAD DE CIRUGIA DE BOGOTA HOSPITAL DE SAN JOSE | G20: 14 - Los Mártires | H20: 2 - Centro Oriente | J20: DESANO
A21: 21. FUERA DE BOGOTÁ | B21: COMFAMILIAR CARTAGENA | E21: 110010817134 | F21: CENTRO MEDICO COLSUBSIDIO RESTREPO | G21: 15 - Antonio Nariño | H21: 2 - Centro Oriente | J21: DUJO
A22: 22. DESCONOCIDA POR EL GEORREFERENCIADOR | B22: COMFAMILIAR DE NARIÑO | E22: 110010861304 | F22: MEDIEXPRESS SEDE 4 | G22: 17 - La Candelaria | H22: 2 - Centro Oriente | J22: EMBERA CHAMI
B23: COMFAMILIAR HUILA | E23: 110010887101 | F23: ALVARO NIETO PAREJA | G23: 18 - Rafael Uribe Uribe | H23: 2 - Centro Oriente | J23: EMBERA DOBIDÁ
B24: COMFAORIENTE | E24: 110011104801 | F24: CENDIATRA PRINCIPAL | G24: 03 - Santafe | H24: 2 - Centro Oriente | J24: EMBERA EYABIDA - EMBERA KATÍO
B25: COMFAORIENTE EPSS | E25: 110010686302 | F25: DEPARTAMENTO MEDICO | G25: 17 - La Candelaria | H25: 2 - Centro Oriente | J25: EPERARA SIAPIDARA
B26: COMFASUCRE | E26: 110010443901 | F26: GUILLERMO DIAZ GUEVARA | G26: 09 - Fontibón | H26: 3 - Sur Occidente | J26: GUANACO
B27: COMFENALCO VALLE | E27: 110010559705 | F27: CENTRO DE ATENCION EN SALUD CAFAM KENNEDY | G27: 08 - Kennedy | H27: 3 - Sur Occidente | J27: GUANADULE - TULE - CUNA
B28: COMPARTA | E28: 110010733502 | F28: UNIDAD DE SERVICIOS KENNEDY | G28: 08 - Kennedy | H28: 3 - Sur Occidente | J28: GUANE
B29: COMPENSAR | E29: 110010733522 | F29: UNIDAD DE SERVICIOS FONTIBON | G29: 09 - Fontibón | H29: 3 - Sur Occidente | J29: HITNÜ- MACAGUÁN
B30: COOMEVA | E30: 110010773701 | F30: CENTRO ASISTENCIAL MADRE BERNARDA | G30: 09 - Fontibón | H30: 3 - Sur Occidente | J30: HUPDË - HUPDAH - HUPDU
B31: COOSALUD | E31: 110010877801 | F31: CARMENZA FORERO BUITRAGO | G31: 07 - Bosa | H31: 3 - Sur Occidente | J31: IJKU - ARHUACO
B32: CRUZ BLANCA | E32: 110010942402 | F32: FUNDACION MEDICA MIRA TU SALUD | G32: 08 - Kennedy | H32: 3 - Sur Occidente | J32: INGA
B33: DUSAKAWI EPSI | E33: 110010952309 | F33: VIRREY SOLIS IPS SA FONTIBON | G33: 09 - Fontibón | H33: 3 - Sur Occidente | J33: JIW - GUAYABERO
B34: ECOOPSOS | E34: 110010952310 | F34: VIRREY SOLIS IPS SA AMERICAS | G34: 16 - Puente Aranda | H34: 3 - Sur Occidente | J34: JUDPA - JUJUPDA
... B62: EPS FAMILIAR DE COLOMBIA SAS | E62: 110010201601 | F62: BETHSY MIRIAM DUSSAN VIVAR | G62: 01 - Usaquén | H62: 1 - Norte | J62: PASTO
E63: 110010313001 | F63: LEONIDAS ABAUNZA GAMEZ | G63: 10 - Engativá | H63: 1 - Norte | J63: PIAPOCO
E64: 110010313201 | F64: SAMUEL ABAUNZA GAMEZ | G64: 10 - Engativá | H64: 1 - Norte | J64: PIAROA
E65: 110010703701 | F65: POLICLINICO SOCIAL DEL NORTE LTDA | G65: 01 - Usaquén | H65: 1 - Norte | J65: PIJAO
E66: 110010911101 | F66: FUNDACION CARDIO INFANTIL INSTITUTO DE CARDIOLOGIA | G66: 01 - Usaquén | H66: 1 - Norte | J66: PIRATAPUYO
E67: 110010922501 | F67: CLUB DE LEONES BOGOTA ANTONIO NARIÑO | G67: 10 - Engativá | H67: 1 - Norte | J67: PISAMIRA
...

Sheet MENORES_18_AÑOS
A1: SISTEMA DE VIGILANCIA EPIDEMIOLÓGICA ALIMENTARIA Y NUTRICIONAL - SISVAN - PARA NIÑOS, NIÑAS Y ADOLESCENTES MENORES DE 18 AÑOS | AF1: Variables Georreferenciación para uso exclusivo de las Subredes integradas de Servicios de Salud y SDS
A2: UPGD (No diligencie) | B2: CODIGO DE UPGD (Diligencie) | C2: TIPO UPGD | D2: SUBRED | E2: LOCALIDAD UPGD (Seleccione de la lista) | F2: SERVICIO (Seleccione de la lista) | G2: FECHA DE CONSULTA (Diligencie en formato DD/MM/AAAA) | H2: TIPO ID (Seleccione de la lista) | I2: ID (Diligencie) | J2: PRIMER NOMBRE (Diligencie) | K2: SEGUNDO NOMBRE (Diligencie) | L2: PRIMER APELLIDO (Diligencie) | M2: SEGUNDO APELLIDO (Diligencie) | N2: DIRECCIÓN RESIDENCIA (Diligencie según manual de nomenclatura) | O2: LOCALIDAD DE RESIDENCIA (Seleccione de la lista) | P2: TELEFONO (Diligencie) | Q2: GRUPO POBLACIONAL (Seleccione de la lista) | R2: FECHA NACIMIENTO (Diligencie en formato DD/MM/AAAA) | S2: SEXO (Seleccione de la lista | T2: PERTENENCIA ÉTNICA (Seleccione de la lista | U2: ETNIA (Diligencie) | V2: PESO (Kg, con 1 decimal) | W2: TALLA (cm, con 1 decimal) | X2: PERIMETRO BRAQUEAL (cm, con 1 decimal) | Y2: CLASIFICACIÓN PATOLOGÍA (Seleccione de la lista) | Z2: CÓDIGO CIE-10 EJEMPLO: A009 o NINGUNA | AA2: CÁLCULO EDAD EN MESES | AB2: LACTANCIA MATERNA EXCLUSIVA (Seleccione de la lista) | AC2: LACTANCIA MATERNA COMPLEMENTARIA (Seleccione de la lista) | AD2: TIPO DE AFILIACIÓN (Seleccione de la lista) | AE2: ENTIDAD (Seleccione de la lista) | AF2: X (Digite valor numérico con decimales) | AG2: Y (Digite valor numérico con decimales) | AH2: UPZCOD (UPZ___ y código) | AI2: UPZNOM (Nombre de la UPZ) | AJ2: LOCGEO (N y nombre de localidad geocodificada) | AK2: LOCREGISTRO (N y nombre localidad residencia columna O) | AL2: VALIDACIÒN LOCALIDAD (Comparación Locgeo y Locreg)
A3: UNIDAD DE SALUD E BUENA VISTA | C3: PUBLICA | D3: NORTE | E3: 01. USAQUÉN | F3: Valoracion Integral | G3: 46218 | H3: 2. TI | I3: 1014673031 | J3: VALERIE | K3: VALENTINA | L3: LOPEZ | M3: LEMUS | N3: KR2 189C 23 | O3: 01. USAQUÉN | P3: 3209536105 | Q3: Otros grupos poblacionales | R3: 41257 | S3: F | T3: Sin pertenencia étnica | U3: NO APLICA | V3: 40.2 | W3: 143 | Y3: 14. NINGUNA | Z3: Z003 | AA3: =(G3-R3)/30.4375 -> 162.98973 | AB3: No | AC3: No | AD3: 4. Subsidiado | AE3: FAMISANAR
A4: UNIDAD DE SALUD E BUENA VISTA | C4: PUBLICA | D4: NORTE | E4: 01. USAQUÉN | F4: Valoracion Integral | G4: 46219 | H4: 2. TI | I4: 1119893159 | J4: SARA | K4: SALOME | L4: DIAZ | M4: MOSQUERA | N4: KR 4 185A 03 | O4: 01. USAQUÉN | P4: 3224776426 | Q4: Otros grupos poblacionales | R4: 42124 | S4: F | T4: Negro o afrocolombiano | U4: NO APLICA | V4: 62.2 | W4: 154.5 | Y4: 14. NINGUNA | Z4: Z002 | AA4: 163 | AB4: No | AC4: No | AD4: 4. Subsidiado | AE4: FAMISANAR
A5: UNIDAD DE SALUD E BUENA VISTA | C5: PUBLICA | D5: NORTE | E5: 01. USAQUÉN | F5: Valoracion Integral | G5: 46220 | H5: 1. RC | I5: 1020853860 | J5: JEAN | K5: PAUL | L5: LOPEZ | M5: ORDONEZ | N5: KR 2 BIS 185A 37 | O5: 01. USAQUÉN | P5: 3118958053 | Q5: Otros grupos poblacionales | R5: 45642 | S5: M | T5: Sin pertenencia étnica | U5: NO APLICA | V5: 9.6 | W5: 79.5 | Y5: 14. NINGUNA | Z5: Z001 | AA5: 18 | AB5: No | AC5: No | AD5: 4. Subsidiado | AE5: CAPITAL SALUD
A6: UNIDAD DE SALUD E BUENA VISTA | C6: PUBLICA | D6: NORTE | E6: 01. USAQUÉN | F6: Valoracion Integral | G6: 46220 | H6: 2. TI | I6: 1028406649 | J6: ESTEFANY | L6: BONILLA | M6: BLANCO | N6: KR 8 192 30 | O6: 01. USAQUÉN | P6: 3107959708 | Q6: Otros grupos poblacionales | R6: 42131 | S6: F | T6: Sin pertenencia étnica | U6: NO APLICA | V6: 46.1 | W6: 150 | Y6: 14. NINGUNA | Z6: Z002 | AA6: =(G6-R6)/30.4375 -> 134.34086 | AB6: No | AC6: No | AD6: 4. Subsidiado | AE6: CAPITAL SALUD
A7: =IFERROR(VLOOKUP(B7,REF!E:H,2,FALSE),"")
A8: =IFERROR(VLOOKUP(B8,REF!E:H,2,FALSE),"") | AA8: =(G8-R8)/30.4375 -> 0
A9: =IFERROR(VLOOKUP(B9,REF!E:H,2,FALSE),"") | AA9: =(G9-R9)/30.4375 -> 0
A10: =IFERROR(VLOOKUP(B10,REF!E:H,2,FALSE),"") | AA10: =(G10-R10)/30.4375 -> 0
A11: =IFERROR(VLOOKUP(B11,REF!E:H,2,FALSE),"") | AA11: =(G11-R11)/30.4375 -> 0
A12: =IFERROR(VLOOKUP(B12,REF!E:H,2,FALSE),"") | AA12: =(G12-R12)/30.4375 -> 0
A13: =IFERROR(VLOOKUP(B13,REF!E:H,2,FALSE),"") | AA13: =(G13-R13)/30.4375 -> 0
A14: =IFERROR(VLOOKUP(B14,REF!E:H,2,FALSE),"") | AA14: =(G14-R14)/30.4375 -> 0
A15: =IFERROR(VLOOKUP(B15,REF!E:H,2,FALSE),"") | AA15: =(G15-R15)/30.4375 -> 0
A16: =IFERROR(VLOOKUP(B16,REF!E:H,2,FALSE),"") | AA16: =(G16-R16)/30.4375 -> 0
A17: =IFERROR(VLOOKUP(B17,REF!E:H,2,FALSE),"") | AA17: =(G17-R17)/30.4375 -> 0
A18: =IFERROR(VLOOKUP(B18,REF!E:H,2,FALSE),"") | AA18: =(G18-R18)/30.4375 -> 0
A19: =IFERROR(VLOOKUP(B19,REF!E:H,2,FALSE),"") | AA19: =(G19-R19)/30.4375 -> 0
... A130: =IFERROR(VLOOKUP(B130,REF!E:H,2,FALSE),"") | AA130: =(G130-R130)/30.4375 -> 0
A131: =IFERROR(VLOOKUP(B129,REF!E:H,2,FALSE),"")
A132: =IFERROR(VLOOKUP(B130,REF!E:H,2,FALSE),"")

Sheet Proteccion de datos
A1: Políticas y protección de datos personales La seguridad de la información resultante del proceso de VSP, se genera a través de mecanismos que respalden la información en relación con la integridad y la confidencialidad. Este proceso no es solo responsabilidad de la Subred sino de toda institución que produce datos relevantes para aportar al desarrollo social y que detallen variables de identificación personal. Con el diligenciamiento del presente formato/herramienta/lista/cuestionario (ajustar según corresponda) manifiesto que he sido previamente informado y en ese sentido autorizo de manera libre y expresa a la Subred Integrada de Servicios de Salud Norte/Sur/Sur Occidente/Centro Oriente E.S.E. (ajustar según corresponda) y a la Secretaría Distrital de Salud para que, realicen la recolección, almacenamiento, uso y en general, tratamiento de los datos personales de conformidad con la Ley 1581 de 2012, el Decreto 1377 de 2013, la Política de Protección y Tratamiento de Datos Personales de la Secretaría Distrital de Salud y el Fondo Financiero Distrital de Salud, disponible en https://www.saludcapital.gov.co/Documents/Politica_Proteccion_Datos_P.pdf y la Política de Protección y Tratamiento de Datos Personales (o su equivalente) de la Subred Integrada de Servicios de Salud Norte/Sur/Sur Occidente/Centro Oriente E.S.E., disponible en XXXXXXX (diligenciar según corresponda). Así mismo he sido informado el carácter facultativo a que tengo derecho como titilar del dato a responder preguntas que versen sobre datos sensibles ((1) (*) (°) Es el dato que afecta la intimidad del titular o cuyo uso indebido puede generar su discriminación)
