Workbook

Sheet ESTUDIO DE MERCADO
C2: ESTUDIO DE MERCADO DE LOS SERVICIOS DE DIAGNÓSTICO TÉCNICO INTEGRAL, MANTENIMIENTO PREVENTIVO Y/O CORRECTIVO, PARA LOS SISTEMAS DE AIRE ACONDICIONADO DEL DATA CENTER, UPS, Y PLANTAS ELÉCTRICAS DEL IDIPRON.
F4: GPS ELECTRONICS | I4: PC INGENIERIA | L4: POWER SUM | O4: AMELECTRICISTAS | R4: VALOR TOTAL PROMEDIO POR ITEM
D5: Descripción detallada y completa del Servicios | E5: CANT. | F5: VALOR ANTES DE IVA | G5: IVA | H5: VALOR TOTAL | I5: VALOR ANTES DE IVA | J5: IVA | K5: VALOR TOTAL | L5: VALOR ANTES DE IVA | M5: IVA | N5: VALOR TOTAL | O5: VALOR ANTES DE IVA | P5: IVA | Q5: VALOR TOTAL | R5: CANT. | S5: VALOR TOTAL
C6: 1 | D6: DIAGNOSTICO INTEGRAL UPS's, PLANTAS Y AIRES ACONDICIONADOS | E6: 1 | F6: =H6/1.19 -> 17352941 | G6: =H6-F6 -> 3297058.8 | H6: ='DIAGNOSTICO UPS, PLANTA, AIRES.'!K56 -> 20650000 | I6: =K6/1.19 -> 18269748 | J6: =K6-I6 -> 3471252.1 | K6: ='DIAGNOSTICO UPS, PLANTA, AIRES.'!J56 -> 21741000 | L6: =N6/1.19 -> 27291000 | M6: =N6-L6 -> 5185290 | N6: ='DIAGNOSTICO UPS, PLANTA, AIRES.'!I56 -> 32476290 | O6: =Q6/1.19 -> 15766807 | P6: =Q6-O6 -> 2995693.3 | Q6: ='DIAGNOSTICO UPS, PLANTA, AIRES.'!H56 -> 18762500 | R6: 1 | S6: =(H6+K6+N6+Q6)/4 -> 23407448
C7: 2 | D7: MANTENIMIENTO PREVENTIVO UPS's, PLANTAS Y AIRES ACONDICIONADOS | E7: 1 | F7: =H7/1.19 -> 19033613 | G7: =H7-F7 -> 3616386.6 | H7: ='MANT PREV. UPS, PLANTAS Y AIRES'!K56 -> 22650000 | I7: =K7/1.19 -> 21538185 | J7: =K7-I7 -> 4092255.1 | K7: ='MANT PREV. UPS, PLANTAS Y AIRES'!J56 -> 25630440 | L7: =N7/1.19 -> 45350000 | M7: =N7-L7 -> 8616500 | N7: ='MANT PREV. UPS, PLANTAS Y AIRES'!I56 -> 53966500 | O7: =Q7/1.19 -> 52689076 | P7: =Q7-O7 -> 10010924 | Q7: ='MANT PREV. UPS, PLANTAS Y AIRES'!H56 -> 62700000 | R7: 1 | S7: =(H7+K7+N7+Q7)/4 -> 41236735
C8: 3 | D8: REPUESTOS REPUESTOS, PARTES E INSUMOS UPS's, PLANTAS Y AIRES ACONDICIONADOS | E8: 1 | F8: =H8/1.19 -> 40478655 | G8: =H8-F8 -> 7690944.5 | H8: =REPUESTOS!G99 -> 48169600 | I8: =K8/1.19 -> 42907375 | J8: =K8-I8 -> 8152401.2 | K8: =REPUESTOS!F99 -> 51059776 | L8: =N8/1.19 -> 42622000 | M8: =N8-L8 -> 8098180 | N8: =REPUESTOS!E99 -> 50720180 | O8: =Q8/1.19 -> 23584839 | P8: =Q8-O8 -> 4481119.5 | Q8: =REPUESTOS!D99 -> 28065959 | R8: 1 | S8: =(H8+K8+N8+Q8)/4 -> 44503879
D9: GRAN TOTAL | F9: =+H6+H7+H8 -> 91469600 | I9: =+K6+K7+K8 -> 98431216 | L9: =+N6+N7+N8 -> 137162970 | O9: =+Q6+Q7+Q8 -> 109528459 | R9: =+S6+S7+S8 -> 1.0914806e+08
C10: VALOR PROMEDIO | D10: =R9 -> 1.0914806e+08

Sheet DIAGNOSTICO UPS, PLANTA, AIRES.
A1: SOBREPASAR EL PRECIO DE REFERENCIA POR ITEM, ES CAUSAL DE RECHAZO DE LAS OFERTAS
B3: DIAGNOSTICO INTEGRAL UNIDADES INTERRUMPIDAS DE POTENCIA (UPS’s)
B4: UNIDADES INTERRUMPIDAS DE POTENCIA (UPS’s)
H5: amelectricistas | I5: POWER SUM | J5: PC INGENIERIA | K5: GPS
B6: ITEM | C6: DESCRIPCION | D6: MARCA | E6: CAPACIDAD | F6: UBICACIÓN | G6: CANTIDAD | H6: VALOR TOTAL IVA INCLUIDO | I6: VALOR TOTAL IVA INCLUIDO | J6: VALOR TOTAL IVA INCLUIDO | K6: VALOR TOTAL IVA INCLUIDO | L6: PRECIO DE REFERENCIA PROMEDIO POR ITEM | M6: VALOR OFERTADO UNITARIO SIN IVA SI APLICA | N6: IVA | O6: VALOR OFERTADO CON IVA SI APLICA
B7: 1 | C7: UPS - LIEBERT NX | D7: EMERSON | E7: 30 KVA | F7: UPI PERDOMO - Av. Cra. 70C (Av. Villavicencio) No. 60B - 05 Sur, Barrio Perdomo- Bogotá, D.C. | G7: 1 | H7: 475000 | I7: 963900 | J7: 750000 | K7: 750000 | L7: =+AVERAGE(H7:K7) -> 734725
B8: 2 | C8: UPS - LIEBERT NX | D8: EMERSON | E8: 15 KVA | G8: 1 | H8: 475000 | I8: 871080 | J8: 650000 | K8: 650000 | L8: =+AVERAGE(H8:K8) -> 661520
B9: 3 | C9: UPS PEI | D9: PEI | E9: 10 KVA | F9: OASIS Calle 10 a # 45 09 | G9: 1 | H9: 475000 | I9: 871080 | J9: 550000 | K9: 550000 | L9: =+AVERAGE(H9:K9) -> 611520
B10: 4 | C10: UPS - LIEBERT NX | D10: EMERSON | E10: 20 KVA | F10: UPI LA 32 - Cra. 32 No 12 – 55, Barrio Ricaurte, Bogotá, D.C. | G10: 1 | H10: 475000 | I10: 871080 | J10: 700000 | K10: 700000 | L10: =+AVERAGE(H10:K10) -> 686520
B11: 5 | C11: UPS - SU20K3/3 | D11: TRIPP- LITE | E11: 20 KVA | F11: UPI LA FLORIDA - Parque la Florida costado sur, Funza- Cundinamarca | G11: 1 | H11: 475000 | I11: 871080 | J11: 700000 | K11: 700000 | L11: =+AVERAGE(H11:K11) -> 686520
B12: 6 | C12: UPS - LIEBERT NX | D12: EMERSON | E12: 15 KVA | G12: 1 | H12: 475000 | I12: 664020 | J12: 650000 | K12: 650000 | L12: =+AVERAGE(H12:K12) -> 609755
B13: 7 | C13: UPS TITAN | D13: TITAN | E13: 10 KVA | G13: 1 | H13: 475000 | I13: 442680 | J13: 550000 | K13: 550000 | L13: =+AVERAGE(H13:K13) -> 504420
B14: 8 | C14: UPS - U320 | D14: PEI | E14: 20 KVA | F14: DISTRITO JOVEN - Av. Quito No 63F – 35, Barrio Benjamín Herrera, Bogotá, D.C. | G14: 1 | H14: 475000 | I14: 885360 | J14: 700000 | K14: 700000 | L14: 686520
B15: 9 | C15: UPS U320 | D15: PEI | E15: 20KVA | G15: 1 | H15: 475000 | I15: 871080 | J15: 700000 | K15: 700000 | L15: =+AVERAGE(H15:K15) -> 686520
B16: 10 | C16: UPS LIEBERT NX | D16: EMERSON | E16: 15KVA | G16: 1 | H16: 475000 | I16: 871080 | J16: 650000 | K16: 650000 | L16: =+AVERAGE(H16:K16) -> 661520
B17: 11 | C17: UPS ABLEREX | D17: ABLEREX | E17: 6KVA | F17: CASA BELEN Carrera 1 # 6b 98 | G17: 1 | H17: 475000 | I17: 766360 | J17: 400000 | K17: 400000 | L17: =+AVERAGE(H17:K17) -> 510340
B18: 12 | C18: UPS - LIEBERT NX | D18: EMERSON | E18: 15 KVA | F18: UPI LA 27 SUR - Av. Cra 27 Sur No 23 – 21, Barrio Santander, Bogotá, D.C. | G18: 1 | H18: 475000 | I18: 871080 | J18: 650000 | K18: 650000 | L18: =+AVERAGE(H18:K18) -> 661520
B19: 13 | C19: UPS - TITAN | D19: TITAN | E19: 10 KVA | F19: ECONOMATO SAN BLAS, Cra. 3 Este Nº 18 – 51 Sur, Barrio San Blas, Bogotá, D.C. | G19: 1 | H19: 475000 | I19: 871080 | J19: 550000 | K19: 550000 | L19: =+AVERAGE(H19:K19) -> 611520
B20: 14 | C20: UPS - LIEBERT NX | D20: EMERSON | E20: 15 KVA | F20: UPI SANTA LUCIA - Cra 20 No. 44 - 98 Sur, Barrio Santa Lucía, Bogotá, D.C. | G20: 1 | H20: 475000 | I20: 871080 | J20: 650000 | K20: 650000 | L20: =+AVERAGE(H20:K20) -> 661520
B21: 15 | C21: UPS - LIEBERT NX | D21: EMERSON | E21: 15 KVA | F21: UPI SERVITA - Av. Cra 7 No. 164 – 94, Barrio Servitá, Bogotá, D.C. | G21: 1 | H21: 475000 | I21: 871080 | J21: 650000 | K21: 650000 | L21: =+AVERAGE(H21:K21) -> 661520
B22: 16 | C22: UPS - LIEBERT NX | D22: EMERSON | E22: 30KVA | F22: SEDE ADMINISTRATIVA CL 63,- Cra 27A No 63B – 07, Barrio Benjamín Herrera, Bogotá, D.C. | G22: 1 | H22: 475000 | I22: 963900 | J22: 700000 | K22: 700000 | L22: =+AVERAGE(H22:K22) -> 709725
B23: 17 | C23: UPS TRIPP-LITE | D23: TRIPP-LITE | E23: 6 KVA | G23: 1 | H23: 475000 | I23: 766360 | J23: 400000 | K23: 400000 | L23: =+AVERAGE(H23:K23) -> 510340
B24: 18 | C24: UPS TITAN | D24: TITAN | E24: 10 KVA | F24: UPI LUNAPARK - Calle 13 Sur No. 17 -52, Barrio Lunapark | G24: 1 | H24: 475000 | I24: 871080 | J24: 550000 | K24: 550000 | L24: =+AVERAGE(H24:K24) -> 611520
B25: 19 | C25: UPS ABLEREX | D25: ABLEREX | E25: 2KVA | F25: EL EDEN Km 95 via Bogota La Escobita Melgar Tolima | G25: 1 | H25: 475000 | I25: 652120 | J25: 300000 | K25: 300000 | L25: =+AVERAGE(H25:K25) -> 431780
B26: 20 | C26: UPS ABLEREX | D26: ABLEREX | E26: 6KVA | G26: 1 | H26: 475000 | I26: 1301860 | J26: 525000 | K26: 400000 | L26: =+AVERAGE(H26:K26) -> 675465
B27: 21 | C27: UPS ABLEREX | D27: ABLEREX | E27: 2 KVA | F27: BODEGA LA FAVORITA – Calle 18 No. 15 – 62, Barrio La Favorita, Bogotá, D.C. | G27: 1 | H27: 475000 | I27: 328440 | J27: 470000 | K27: 300000 | L27: =+AVERAGE(H27:K27) -> 393360
B28: 22 | C28: LIEBERT GXT2 | D28: LIEBERT | E28: 10KVA | F28: UPI SAN FRANCISCO, Vereda El Peñon- Villa Magdalena, San Francisco, Cundinamarca | G28: 1 | H28: 475000 | I28: 871080 | J28: 525000 | K28: 400000 | L28: =+AVERAGE(H28:K28) -> 567770
B29: 23 | C29: UPS NETION | D29: NETION | E29: 6 KVA | F29: UPI BOSA - Carrera 77G No. 62 - 35 Sur Bosa Barrio La Estación. | G29: 1 | H29: 475000 | I29: 766360 | J29: 525000 | K29: 400000 | L29: =+AVERAGE(H29:K29) -> 541590
B30: 24 | C30: UPS CDP | D30: CDP | E30: 20 KVA | F30: CONSERVATORIO JAVIER DE NICOLÓ - Diagonal 18 No. 16 A 13 Los Mártires La Favorita. | G30: 1 | H30: 475000 | I30: 871080 | J30: 525000 | K30: 400000 | L30: =+AVERAGE(H30:K30) -> 567770
B31: 25 | C31: UPS PEI | D31: PEI | E31: 20KVA | F31: CALLE 15 (Calle 15 No. 13-86) | G31: 1 | H31: 475000 | I31: 978180 | J31: 689000 | K31: 650000 | L31: =+AVERAGE(H31:K31) -> 698045
B32: 26 | C32: UPS - LIEBERT NX | D32: EMERSON | E32: 15 KVA | F32: UPI ARCADIA Km Vereda El hato, vía Funza -cota Cundinamarca | G32: 1 | H32: 475000 | I32: 664020 | J32: 725000 | K32: 700000 | L32: =+AVERAGE(H32:K32) -> 641005
B33: SUBTOTAL | H33: =SUM(H7:H32) -> 12350000 | I33: =SUM(I7:I32) -> 21467600 | J33: =SUM(J7:J32) -> 15434000 | K33: =SUM(K7:K32) -> 14700000 | L33: =SUM(L7:L32) -> 15984330
B35: DIAGNOSTICO INTEGRAL PLANTAS ELÉCTRICAS
B36: PLANTAS ELECTRICAS
H37: amelectricistas | I37: POWER SUM | J37: PC INGENIERIA | K37: GPS
B38: ITEM | C38: DESCRIPCION | D38: MARCA | E38: CAPACIDAD | F38: UBICACIÓN | G38: CANTIDAD | H38: VALOR TOTAL IVA INCLUIDO | I38: VALOR TOTAL IVA INCLUIDO | J38: VALOR TOTAL IVA INCLUIDO | K38: VALOR TOTAL IVA INCLUIDO | L38: PRECIO DE REFERENCIA PROMEDIO POR ITEM | M38: VALOR OFERTADO UNITARIO SIN IVA SI APLICA | N38: IVA | O38: VALOR OFERTADO CON IVA SI APLICA
B39: 1 | C39: PLANTA ELECTRICA | D39: MODASA | E39: 75 KVA | F39: SEDE ADMINISTRATIVA - Calle 61Ubicada en la Cl. 61 No. 7-78, Bogotá, D.C. | G39: 1 | H39: 831250 | I39: 1238790 | J39: 689000 | K39: 650000 | L39: =+AVERAGE(H39:K39) -> 852260
B40: 2 | C40: PLANTA ELECTRICA | D40: PERKINS | E40: 37 KVA | F40: UPI LA FLORIDA - Parque la Florida costado sur Funza- Cundinamarca | G40: 1 | H40: 831250 | I40: 1118600 | J40: 689000 | K40: 650000 | L40: =+AVERAGE(H40:K40) -> 822212.5
B41: 3 | C41: PLANTA ELECTRICA | D41: FAWDE | E41: 16 KVA | F41: AULA MOVIL – Ubicada en UPI Perdomo Av. Cra. 70C (Av. Villavicencio) No. 60B - 05 Sur Barrio Perdomo- Bogotá, D.C. | G41: 1 | H41: 831250 | I41: 1000790 | J41: 689000 | K41: 650000 | L41: =+AVERAGE(H41:K41) -> 792760
B42: 4 | C42: PLANTA ELECTRICA | D42: POWERGEN | E42: 125 KVA | F42: SEDE ADMINISTRATIVA CL 63,- Cra 27A No 63B – 07, Barrio Benjamín Herrera, Bogotá, D.C. | G42: 1 | H42: 831250 | I42: 1309000 | J42: 689000 | K42: 650000 | L42: =+AVERAGE(H42:K42) -> 869812.5
B43: 5 | C43: PLANTA ELECTRICA | D43: PEL POWER SYSTEM | E43: 75 KVA | F43: UPI BOSA - Carrera 77G No. 62 - 35 Sur Bosa Barrio La Estación. | G43: 1 | H43: 831250 | I43: 1238790 | J43: 689000 | K43: 650000 | L43: =+AVERAGE(H43:K43) -> 852260
B44: 6 | C44: PLANTA ELECTRICA | D44: RENTAL 220 ENDRESS | E44: 150 KVA | F44: CONSERVATORIO JAVIER DE NICOLÓ - Diagonal 18 No. 16 A 13 Los Mártires La Favorita. | G44: 1 | H44: 831250 | I44: 1261400 | J44: 689000 | K44: 650000 | L44: =+AVERAGE(H44:K44) -> 857912.5
B45: SUBTOTAL | H45: =SUM(H39:H44) -> 4987500 | I45: =SUM(I39:I44) -> 7167370 | J45: =SUM(J39:J44) -> 4134000 | K45: =SUM(K39:K44) -> 3900000 | L45: =SUM(L39:L44) -> 5047217.5
B47: DIAGNOSTICO INTEGRAL AIRES ACONDICIONADOS
B48: AIRES ACONDICIONADOS DATACENTER
H49: amelectricistas | I49: POWER SUM | J49: PC INGENIERIA | K49: GPS
B50: ITEM | C50: DESCRIPCION | D50: MARCA | E50: CAPACIDAD | F50: UBICACIÓN | G50: CANTIDAD | H50: VALOR TOTAL IVA INCLUIDO | I50: VALOR TOTAL IVA INCLUIDO | J50: VALOR TOTAL IVA INCLUIDO | K50: VALOR TOTAL IVA INCLUIDO | L50: PRECIO DE REFERENCIA PROMEDIO POR ITEM | M50: VALOR OFERTADO UNITARIO SIN IVA SI APLICA | N50: IVA | O50: VALOR OFERTADO CON IVA SI APLICA
B51: 1 | C51: AIRE ACONDICIONADO DE PRESICION | D51: EMERSON LIEBERT | E51: 36.000 BTU | F51: SEDE ADMINISTRATIVA CL 63,- Cra 27A No 63B – 07, Barrio Benjamín Herrera, Bogotá, D.C. DATACENTER | G51: 1 | H51: 475000 | I51: 1339940 | J51: 901000 | K51: 850000 | L51: =+AVERAGE(H51:K51) -> 891485
B52: 2 | C52: AIRE ACONDICIONADO | D52: CONFORTFRESH | E52: 36.000 BTU | G52: 1 | H52: 475000 | I52: 1339940 | J52: 901000 | K52: 850000 | L52: =+AVERAGE(H52:K52) -> 891485
B53: 3 | C53: AIRE ACONDICIONADO | D53: KELLEY | E53: 12.000 BTU | G53: 1 | H53: 475000 | I53: 1161440 | J53: 371000 | K53: 350000 | L53: =+AVERAGE(H53:K53) -> 589360
B54: SUBTOTAL | H54: =SUM(H51:H53) -> 1425000 | I54: =SUM(I51:I53) -> 3841320 | J54: =SUM(J51:J53) -> 2173000 | K54: =SUM(K51:K53) -> 2050000 | L54: =SUM(L51:L53) -> 2372330
B56: GRAN TOTAL | H56: =SUM(H33+H45+H54) -> 18762500 | I56: =I33+I45+I54 -> 32476290 | J56: =J33+J45+J54 -> 21741000 | K56: =K33+K45+K54 -> 20650000 | L56: =L33+L45+L54 -> 23403878
B60: Empresa:
B61: Nit:
B62: Dirección:
B63: E-Mail:
B64: Celular o Fijo:
B65: Firma

Sheet MANT PREV. UPS, PLANTAS Y AIRES
B1: SOBREPASAR EL PRECIO DE REFERENCIA POR ITEM, ES CAUSAL DE RECHAZO DE LAS OFERTAS
B3: MANTENIMIENTO PREVENTIVO UNIDADES INTERRUMPIDAS DE POTENCIA (UPS’s)
B4: UNIDADES INTERRUMPIDAS DE POTENCIA (UPS’s)
H5: amelectricistas | I5: POWER SUM | J5: PC INGENIERIA | K5: GPS
B6: ITEM | C6: DESCRIPCION | D6: MARCA | E6: CAPACIDAD | F6: UBICACIÓN | G6: CANTIDAD | H6: VALOR TOTAL IVA INCLUIDO | I6: VALOR TOTAL IVA INCLUIDO | J6: VALOR TOTAL IVA INCLUIDO | K6: VALOR TOTAL IVA INCLUIDO | L6: PRECIO DE REFERENCIA PROMEDIO POR ITEM | M6: VALOR OFERTADO UNITARIO SIN IVA SI APLICA | N6: IVA | O6: VALOR OFERTADO CON IVA SI APLICA
B7: 1 | C7: UPS - LIEBERT NX | D7: EMERSON | E7: 30 KVA | F7: UPI PERDOMO - Av. Cra. 70C (Av. Villavicencio) No. 60B - 05 Sur, Barrio Perdomo- Bogotá, D.C. | G7: 1 | H7: 990000 | I7: 963900 | J7: 764048 | K7: 750000 | L7: =+AVERAGE(H7:K7) -> 866987
B8: 2 | C8: UPS - LIEBERT NX | D8: EMERSON | E8: 15 KVA | G8: 1 | H8: 990000 | I8: 871080 | J8: 730340 | K8: 650000 | L8: =+AVERAGE(H8:K8) -> 810355
B9: 3 | C9: UPS PEI | D9: PEI | E9: 10 KVA | F9: OASIS Calle 10 a # 45 09 | G9: 1 | H9: 990000 | I9: 871080 | J9: 617980 | K9: 550000 | L9: =+AVERAGE(H9:K9) -> 757265
B10: 4 | C10: UPS - LIEBERT NX | D10: EMERSON | E10: 20 KVA | F10: UPI LA 32 - Cra. 32 No 12 – 55, Barrio Ricaurte, Bogotá, D.C. | G10: 1 | H10: 990000 | I10: 871080 | J10: 786520 | K10: 700000 | L10: =+AVERAGE(H10:K10) -> 836900
B11: 5 | C11: UPS - SU20K3/3 | D11: TRIPP- LITE | E11: 20 KVA | F11: UPI LA FLORIDA - Parque la Florida costado sur, Funza- Cundinamarca | G11: 1 | H11: 990000 | I11: 871080 | J11: 786520 | K11: 700000 | L11: =+AVERAGE(H11:K11) -> 836900
B12: 6 | C12: UPS - LIEBERT NX | D12: EMERSON | E12: 15 KVA | G12: 1 | H12: 990000 | I12: 664020 | J12: 730340 | K12: 650000 | L12: =+AVERAGE(H12:K12) -> 758590
B13: 7 | C13: UPS TITAN | D13: TITAN | E13: 10 KVA | G13: 1 | H13: 990000 | I13: 442680 | J13: 617980 | K13: 550000 | L13: =+AVERAGE(H13:K13) -> 650165
B14: 8 | C14: UPS - U320 | D14: PEI | E14: 20 KVA | F14: DISTRITO JOVEN - Av. Quito No 63F – 35, Barrio Benjamín Herrera, Bogotá, D.C. | G14: 1 | H14: 990000 | I14: 885360 | J14: 786520 | K14: 700000 | L14: 836900
B15: 9 | C15: UPS U320 | D15: PEI | E15: 20KVA | G15: 1 | H15: 990000 | I15: 871080 | J15: 786520 | K15: 700000 | L15: =+AVERAGE(H15:K15) -> 836900
B16: 10 | C16: UPS LIEBERT NX | D16: EMERSON | E16: 15KVA | G16: 1 | H16: 990000 | I16: 871080 | J16: 730340 | K16: 650000 | L16: =+AVERAGE(H16:K16) -> 810355
B17: 11 | C17: UPS ABLEREX | D17: ABLEREX | E17: 6KVA | F17: CASA BELEN Carrera 1 # 6b 98 | G17: 1 | H17: 990000 | I17: 766360 | J17: 449440 | K17: 400000 | L17: =+AVERAGE(H17:K17) -> 651450
B18: 12 | C18: UPS - LIEBERT NX | D18: EMERSON | E18: 15 KVA | F18: UPI LA 27 SUR - Av. Cra 27 Sur No 23 – 21, Barrio Santander, Bogotá, D.C. | G18: 1 | H18: 990000 | I18: 871080 | J18: 730340 | K18: 650000 | L18: =+AVERAGE(H18:K18) -> 810355
B19: 13 | C19: UPS - TITAN | D19: TITAN | E19: 10 KVA | F19: ECONOMATO SAN BLAS, Cra. 3 Este Nº 18 – 51 Sur, Barrio San Blas, Bogotá, D.C. | G19: 1 | H19: 990000 | I19: 871080 | J19: 617980 | K19: 550000 | L19: =+AVERAGE(H19:K19) -> 757265
B20: 14 | C20: UPS - LIEBERT NX | D20: EMERSON | E20: 15 KVA | F20: UPI SANTA LUCIA - Cra 20 No. 44 - 98 Sur, Barrio Santa Lucía, Bogotá, D.C. | G20: 1 | H20: 990000 | I20: 871080 | J20: 730340 | K20: 650000 | L20: =+AVERAGE(H20:K20) -> 810355
B21: 15 | C21: UPS - LIEBERT NX | D21: EMERSON | E21: 15 KVA | F21: UPI SERVITA - Av. Cra 7 No. 164 – 94, Barrio Servitá, Bogotá, D.C. | G21: 1 | H21: 990000 | I21: 871080 | J21: 730340 | K21: 650000 | L21: =+AVERAGE(H21:K21) -> 810355
B22: 16 | C22: UPS - LIEBERT NX | D22: EMERSON | E22: 30KVA | F22: SEDE ADMINISTRATIVA CL 63,- Cra 27A No 63B – 07, Barrio Benjamín Herrera, Bogotá, D.C. | G22: 1 | H22: 990000 | I22: 963900 | J22: 786520 | K22: 700000 | L22: =+AVERAGE(H22:K22) -> 860105
B23: 17 | C23: UPS TRIPP-LITE | D23: TRIPP-LITE | E23: 6 KVA | G23: 1 | H23: 990000 | I23: 766360 | J23: 449440 | K23: 400000 | L23: =+AVERAGE(H23:K23) -> 651450
B24: 18 | C24: UPS TITAN | D24: TITAN | E24: 10 KVA | F24: UPI LUNAPARK - Calle 13 Sur No. 17 -52, Barrio Lunapark | G24: 1 | H24: 990000 | I24: 871080 | J24: 617980 | K24: 550000 | L24: =+AVERAGE(H24:K24) -> 757265
B25: 19 | C25: UPS ABLEREX | D25: ABLEREX | E25: 2KVA | F25: EL EDEN Km 95 via Bogota La Escobita Melgar Tolima | G25: 1 | H25: 990000 | I25: 652120 | J25: 337080 | K25: 300000 | L25: =+AVERAGE(H25:K25) -> 569800
B26: 20 | C26: UPS ABLEREX | D26: ABLEREX | E26: 6KVA | G26: 1 | H26: 990000 | I26: 1301860 | J26: 449440 | K26: 400000 | L26: =+AVERAGE(H26:K26) -> 785325
B27: 21 | C27: UPS ABLEREX | D27: ABLEREX | E27: 2 KVA | F27: BODEGA LA FAVORITA – Calle 18 No. 15 – 62, Barrio La Favorita, Bogotá, D.C. | G27: 1 | H27: 990000 | I27: 328440 | J27: 337080 | K27: 300000 | L27: =+AVERAGE(H27:K27) -> 488880
B28: 22 | C28: LIEBERT GXT2 | D28: LIEBERT | E28: 10KVA | F28: UPI SAN FRANCISCO, Vereda El Peñon- Villa Magdalena, San Francisco, Cundinamarca | G28: 1 | H28: 990000 | I28: 871080 | J28: 449440 | K28: 400000 | L28: =+AVERAGE(H28:K28) -> 677630
B29: 23 | C29: UPS NETION | D29: NETION | E29: 6 KVA | F29: UPI BOSA - Carrera 77G No. 62 - 35 Sur Bosa Barrio La Estación. | G29: 1 | H29: 990000 | I29: 766360 | J29: 449440 | K29: 400000 | L29: =+AVERAGE(H29:K29) -> 651450
B30: 24 | C30: UPS CDP | D30: CDP | E30: 20 KVA | F30: CONSERVATORIO JAVIER DE NICOLÓ - Diagonal 18 No. 16 A 13 Los Mártires La Favorita. | G30: 1 | H30: 990000 | I30: 871080 | J30: 449440 | K30: 400000 | L30: =+AVERAGE(H30:K30) -> 677630
B31: 25 | C31: UPS PEI | D31: PEI | E31: 20KVA | F31: CALLE 15 (Calle 15 No. 13-86) | G31: 1 | H31: 990000 | I31: 978180 | J31: 730340 | K31: 650000 | L31: =+AVERAGE(H31:K31) -> 837130
B32: 26 | C32: UPS - LIEBERT NX | D32: EMERSON | E32: 15 KVA | F32: UPI ARCADIA Km Vereda El hato, vía Funza -cota Cundinamarca | G32: 1 | H32: 990000 | I32: 664020 | J32: 786520 | K32: 700000 | L32: =+AVERAGE(H32:K32) -> 785135
B33: SUBTOTAL | H33: =SUM(H7:H32) -> 25740000 | I33: =SUM(I7:I32) -> 21467600 | J33: =SUM(J7:J32) -> 16438268 | K33: =SUM(K7:K32) -> 14700000 | L33: =SUM(L7:L32) -> 19582897
B35: MANTENIMIENTO PREVENTIVO PLANTAS ELÉCTRICAS
B36: PLANTAS ELECTRICAS
H37: amelectricistas | I37: POWER SUM | J37: PC INGENIERIA | K37: GPS
B38: ITEM | C38: DESCRIPCION | D38: MARCA | E38: CAPACIDAD | F38: UBICACIÓN | G38: CANTIDAD | H38: VALOR TOTAL IVA INCLUIDO | I38: VALOR TOTAL IVA INCLUIDO | J38: VALOR TOTAL IVA INCLUIDO | K38: VALOR TOTAL IVA INCLUIDO | L38: PRECIO DE REFERENCIA PROMEDIO POR ITEM | M38: VALOR OFERTADO UNITARIO SIN IVA SI APLICA | N38: IVA | O38: VALOR OFERTADO CON IVA SI APLICA
B39: 1 | C39: PLANTA ELECTRICA | D39: MODASA | E39: 75 KVA | F39: SEDE ADMINISTRATIVA - Calle 61Ubicada en la Cl. 61 No. 7-78, Bogotá, D.C. | G39: 1 | H39: 5500000 | I39: 4574360 | J39: 730340 | K39: 650000 | L39: =+AVERAGE(H39:K39) -> 2863675
B40: 2 | C40: PLANTA ELECTRICA | D40: PERKINS | E40: 37 KVA | F40: UPI LA FLORIDA - Parque la Florida costado sur Funza- Cundinamarca | G40: 1 | H40: 5500000 | I40: 4175710 | J40: 730340 | K40: 650000 | L40: =+AVERAGE(H40:K40) -> 2764012.5
B41: 3 | C41: PLANTA ELECTRICA | D41: FAWDE | E41: 16 KVA | F41: AULA MOVIL – Ubicada en UPI Perdomo Av. Cra. 70C (Av. Villavicencio) No. 60B - 05 Sur Barrio Perdomo- Bogotá, D.C. | G41: 1 | H41: 5500000 | I41: 2767940 | J41: 730340 | K41: 650000 | L41: =+AVERAGE(H41:K41) -> 2412070
B42: 4 | C42: PLANTA ELECTRICA | D42: POWERGEN | E42: 125 KVA | F42: SEDE ADMINISTRATIVA CL 63,- Cra 27A No 63B – 07, Barrio Benjamín Herrera, Bogotá, D.C. | G42: 1 | H42: 5500000 | I42: 5677490 | J42: 842700 | K42: 750000 | L42: =+AVERAGE(H42:K42) -> 3192547.5
B43: 5 | C43: PLANTA ELECTRICA | D43: PEL POWER SYSTEM | E43: 75 KVA | F43: UPI BOSA - Carrera 77G No. 62 - 35 Sur Bosa Barrio La Estación. | G43: 1 | H43: 5500000 | I43: 4574360 | J43: 730340 | K43: 650000 | L43: =+AVERAGE(H43:K43) -> 2863675
B44: 6 | C44: PLANTA ELECTRICA | D44: RENTAL 220 ENDRESS | E44: 150 KVA | F44: CONSERVATORIO JAVIER DE NICOLÓ - Diagonal 18 No. 16 A 13 Los Mártires La Favorita. | G44: 1 | H44: 5500000 | I44: 6709220 | J44: 842700 | K44: 750000 | L44: =+AVERAGE(H44:K44) -> 3450480
B45: SUBTOTAL | H45: =SUM(H39:H44) -> 33000000 | I45: =SUM(I39:I44) -> 28479080 | J45: =SUM(J39:J44) -> 4606760 | K45: =SUM(K39:K44) -> 4100000 | L45: =SUM(L39:L44) -> 17546460
B47: MANTENIMIENTO PREVENTIVO AIRES ACONDICIONADOS
B48: AIRES ACONDICIONADOS DATACENTER
H49: amelectricistas | I49: POWER SUM | J49: PC INGENIERIA | K49: GPS
B50: ITEM | C50: DESCRIPCION | D50: MARCA | E50: CAPACIDAD | F50: UBICACIÓN | G50: CANTIDAD | H50: VALOR TOTAL IVA INCLUIDO | I50: VALOR TOTAL IVA INCLUIDO | J50: VALOR TOTAL IVA INCLUIDO | K50: VALOR TOTAL IVA INCLUIDO | L50: PRECIO DE REFERENCIA PROMEDIO POR ITEM | M50: VALOR OFERTADO UNITARIO SIN IVA SI APLICA | N50: IVA | O50: VALOR OFERTADO CON IVA SI APLICA
B51: 1 | C51: AIRE ACONDICIONADO DE PRESICION | D51: EMERSON LIEBERT | E51: 36.000 BTU | F51: SEDE ADMINISTRATIVA CL 63,- Cra 27A No 63B – 07, Barrio Benjamín Herrera, Bogotá, D.C. DATACENTER | G51: 1 | H51: 1320000 | I51: 1339940 | J51: 1965176 | K51: 1650000 | L51: =+AVERAGE(H51:K51) -> 1568779
B52: 2 | C52: AIRE ACONDICIONADO | D52: CONFORTFRESH | E52: 36.000 BTU | G52: 1 | H52: 1320000 | I52: 1339940 | J52: 1965176 | K52: 1650000 | L52: =+AVERAGE(H52:K52) -> 1568779
B53: 3 | C53: AIRE ACONDICIONADO | D53: KELLEY | E53: 12.000 BTU | G53: 1 | H53: 1320000 | I53: 1339940 | J53: 655059 | K53: 550000 | L53: =+AVERAGE(H53:K53) -> 966249.75
B54: SUBTOTAL | H54: =SUM(H51:H53) -> 3960000 | I54: =SUM(I51:I53) -> 4019820 | J54: 4585412 | K54: =SUM(K51:K53) -> 3850000 | L54: =SUM(L51:L53) -> 4103807.8
B56: GRAN TOTAL | H56: =SUM(H33+H45+H54) -> 62700000 | I56: =I33+I45+I54 -> 53966500 | J56: =J33+J45+J54 -> 25630440 | K56: =K33+K45+K54 -> 22650000 | L56: =L33+L45+L54 -> 41233165
B62: Empresa:
B63: Nit:
B64: Dirección:
B65: E-Mail:
B66: Celular o Fijo:
B67: Firma

Sheet REPUESTOS
B1: SOBREPASAR EL PRECIO DE REFERENCIA POR ITEM, ES CAUSAL DE RECHAZO DE LAS OFERTAS
A3: REPUESTOS REPUESTOS, PARTES E INSUMOS UPS´S
D4: amelectricistas | E4: POWER SUM | F4: PC INGENIERIA | G4: GPS
A5: ITEM | B5: DESCRIPCION | C5: CANT. | D5: VALOR TOTAL IVA INCLUIDO | E5: VALOR TOTAL IVA INCLUIDO | F5: VALOR TOTAL IVA INCLUIDO | G5: VALOR TOTAL IVA INCLUIDO
A6: SUMINISTRO E INSTALACIÓN DE REPUESTOS Y PARTES PARA MANTENIMIENTO CORRECTIVO: Incluye desplazamientos, mano de obra, la disposición de herramientas mayores y menores y la entrega, instalación e insumos en el evento de ser necesario.
A7: Mantenimiento correctivo de UPS’s | H7: PRECIO DE REFERENCIA PROMEDIO POR ITEM | I7: VALOR OFERTADO UNITARIO SIN IVA SI APLICA | J7: IVA | K7: VALOR OFERTADO CON IVA SI APLICA
A8: A | B8: Batería sellada libre de mantenimiento de 12V-80Ah | C8: 1 | D8: 856800 | E8: 847280 | F8: 991100 | G8: 935000 | H8: =+AVERAGE(D8:G8) -> 907545
A9: A | B9: Batería sellada libre de mantenimiento de 12V-75Ah | C9: 1 | D9: 799680 | E9: 847280 | F9: 956120 | G9: 902000 | H9: =+AVERAGE(D9:G9) -> 876270
A10: A | B10: Batería sellada libre de mantenimiento de 12V- 65Ah | C10: 1 | D10: 666400 | E10: 730660 | F10: 909480 | G10: 858000 | H10: =+AVERAGE(D10:G10) -> 791135
A11: A | B11: Batería sellada libre de mantenimiento de 12V- 40Ah | C11: 1 | D11: 476000 | E11: 451010 | F11: 764896 | G11: 721600 | H11: =+AVERAGE(D11:G11) -> 603376.5
A12: A | B12: Batería sellada libre de mantenimiento de 12V- 38Ah | C12: 1 | D12: 456960 | E12: 360570 | F12: 699600 | G12: 660000 | H12: =+AVERAGE(D12:G12) -> 544282.5
A13: A | B13: Batería sellada libre de mantenimiento de 12V- 34Ah | C13: 1 | D13: 418880 | E13: 360570 | F13: 641300 | G13: 605000 | H13: =+AVERAGE(D13:G13) -> 506437.5
A14: A | B14: Batería sellada libre de mantenimiento de 12V- 26Ah | C14: 1 | D14: 342720 | E14: 297500 | F14: 583000 | G14: 550000 | H14: =+AVERAGE(D14:G14) -> 443305
A15: A | B15: Batería sellada libre de mantenimiento de 12V- 24Ah | C15: 1 | D15: 323680 | E15: 297500 | F15: 524700 | G15: 495000 | H15: =+AVERAGE(D15:G15) -> 410220
A16: A | B16: Batería sellada libre de mantenimiento de 12V- 18Ah | C16: 1 | D16: 228480 | E16: 230860 | F16: 466400 | G16: 440000 | H16: =+AVERAGE(D16:G16) -> 341435
A17: A | B17: Batería sellada libre de mantenimiento de 12V- 17Ah | C17: 1 | D17: 209440 | E17: 203490 | F17: 466400 | G17: 440000 | H17: =+AVERAGE(D17:G17) -> 329832.5
A18: A | B18: Batería sellada libre de mantenimiento de 12V- 9Ah | C18: 1 | D18: 123760 | E18: 134470 | F18: 256520 | G18: 242000 | H18: =+AVERAGE(D18:G18) -> 189187.5
A19: A | B19: Batería sellada libre de mantenimiento de 12V- 7Ah | C19: 1 | D19: 104720 | E19: 108290 | F19: 174900 | G19: 165000 | H19: =+AVERAGE(D19:G19) -> 138227.5
... A41: A | B41: Fusible de vidrio 3 A | C41: 1 | D41: 15294.832 | E41: 152320 | F41: 39750 | G41: 37500 | H41: =+AVERAGE(D41:G41) -> 61216.208
A42: TOTAL | D42: =SUM(D8:D41) -> 7069175 | E42: =SUM(E8:E41) -> 8776250 | F42: =SUM(F8:F41) -> 15505786 | G42: =SUM(G8:G41) -> 14628100 | H42: =SUM(H8:H41) -> 11494828
A44: REPUESTOS REPUESTOS, PARTES E INSUMOS PLANTAS ELÉCTRICAS
D45: amelectricistas | E45: POWER SUM | F45: PC INGENIERIA | G45: GPS
A46: ITEM | B46: DESCRIPCION | C46: CANTIDAD | D46: VALOR TOTAL IVA INCLUIDO | E46: VALOR TOTAL IVA INCLUIDO | F46: VALOR TOTAL IVA INCLUIDO | G46: VALOR TOTAL IVA INCLUIDO
A47: SUMINISTRO E INSTALACIÓN DE REPUESTOS Y PARTES PARA MANTENIMIENTO CORRECTIVO: Incluye desplazamientos, mano de obra, la disposición de herramientas mayores y menores y la entrega, instalación e insumos en el evento de ser necesario.
A48: Mantenimiento correctivo de Plantas Eléctricas | H48: PRECIO DE REFERENCIA PROMEDIO POR ITEM | I48: VALOR OFERTADO UNITARIO SIN IVA SI APLICA | J48: IVA | K48: VALOR OFERTADO CON IVA SI APLICA
A49: B | B49: Batería 12 V, 8D, 1500 | C49: 1 | D49: 4001261.4 | E49: 2879800 | F49: 2072300 | G49: 1955000 | H49: =+AVERAGE(D49:G49) -> 2727090.3
A50: B | B50: Batería 12 V, 31H, 1200 | C50: 1 | D50: 2616209.3 | E50: 1505350 | F50: 1462800 | G50: 1380000 | H50: =+AVERAGE(D50:G50) -> 1741089.8
A51: B | B51: Aros para Batería (Juego x 2 Und) | C51: 1 | D51: 61557.867 | E51: 54740 | F51: 97520 | G51: 92000 | H51: =+AVERAGE(D51:G51) -> 76454.467
A52: B | B52: Agua para Baterías (frasco x 550 cc) | C52: 1 | D52: 15390.425 | E52: 54740 | F52: 18285 | G52: 17250 | H52: =+AVERAGE(D52:G52) -> 26416.356
A53: B | B53: Cargador de baterías 120 VAC/12 VDC | C53: 1 | D53: 923368.01 | E53: 981750 | F53: 1097100 | G53: 1035000 | H53: =+AVERAGE(D53:G53) -> 1009304.5
A54: B | B54: Filtro de aire | C54: 1 | D54: 246231.47 | E54: 829430 | F54: 426650 | G54: 402500 | H54: =+AVERAGE(D54:G54) -> 476202.87
A55: B | B55: Filtro de aceite | C55: 1 | D55: 184673.6 | E55: 164220 | F55: 304750 | G55: 287500 | H55: =+AVERAGE(D55:G55) -> 235285.9
A56: B | B56: Filtro primario de combustible | C56: 1 | D56: 215452.53 | E56: 183260 | F56: 268180 | G56: 253000 | H56: =+AVERAGE(D56:G56) -> 229973.13
A57: B | B57: Filtro secundario de combustible | C57: 1 | D57: 200064.03 | E57: 174930 | F57: 219420 | G57: 207000 | H57: =+AVERAGE(D57:G57) -> 200353.51
A58: B | B58: Aceite 15W40, galón | C58: 1 | D58: 277010.4 | E58: 273700 | F58: 170660 | G58: 161000 | H58: =+AVERAGE(D58:G58) -> 220592.6
A59: B | B59: Calibración y puesta a punto de válvulas | C59: 1 | D59: 769473.34 | E59: 1636250 | F59: 1889450 | G59: 1782500 | H59: =+AVERAGE(D59:G59) -> 1519418.3
A60: B | B60: Calibración y puesta a punto bomba de inyección e inyectores | C60: 1 | D60: 2462314.7 | E60: 7526750 | F60: 7923500 | G60: 7475000 | H60: =+AVERAGE(D60:G60) -> 6346891.2
... A73: B | B73: Diafragma | C73: 1 | D73: 344112.3 | E73: 1047200 | F73: 1961000 | G73: 1850000 | H73: =+AVERAGE(D73:G73) -> 1300578.1
A74: TOTAL | D74: =SUM(D49:D73) -> 18488296 | E74: =SUM(E49:E73) -> 39371150 | F74: =SUM(F49:F73) -> 31619270 | G74: =SUM(G49:G73) -> 29829500 | H74: =SUM(H49:H73) -> 29827054
A77: REPUESTOS REPUESTOS, PARTES E INSUMOS AIRES ACONDICIONADOS
D78: amelectricistas | E78: POWER SUM | F78: PC INGENIERIA | G78: GPS
A79: ITEM | B79: DESCRIPCION | C79: CANTIDAD | D79: VALOR TOTAL IVA INCLUIDO | E79: VALOR TOTAL IVA INCLUIDO | F79: VALOR TOTAL IVA INCLUIDO | G79: VALOR TOTAL IVA INCLUIDO
A80: SUMINISTRO E INSTALACIÓN DE REPUESTOS Y PARTES PARA MANTENIMIENTO CORRECTIVO: Incluye desplazamientos, mano de obra, la disposición de herramientas mayores y menores y la entrega, instalación e insumos en el evento de ser necesario.
A81: Mantenimiento correctivo de Plantas Eléctricas | H81: PRECIO DE REFERENCIA PROMEDIO POR ITEM | I81: VALOR OFERTADO UNITARIO SIN IVA SI APLICA | J81: IVA | K81: VALOR OFERTADO CON IVA SI APLICA
A82: C | B82: Fusible de vidrio 100 A | C82: 1 | D82: 61557.867 | E82: 297500 | F82: 53000 | G82: 50000 | H82: =+AVERAGE(D82:G82) -> 115514.47
A83: C | B83: Fusible de vidrio 150 A | C83: 1 | D83: 61557.867 | E83: 29750 | F83: 68900 | G83: 65000 | H83: =+AVERAGE(D83:G83) -> 56301.967
A84: C | B84: Fusible de vidrio 125 A | C84: 1 | D84: 61557.867 | E84: 297500 | F84: 60420 | G84: 57000 | H84: =+AVERAGE(D84:G84) -> 119119.47
A85: C | B85: Fusible de vidrio 30 A | C85: 1 | D85: 15390.425 | E85: 14280 | F85: 53000 | G85: 50000 | H85: =+AVERAGE(D85:G85) -> 33167.606
A86: C | B86: Fusible de vidrio 20 A | C86: 1 | D86: 15390.425 | E86: 14280 | F86: 47700 | G86: 45000 | H86: =+AVERAGE(D86:G86) -> 30592.606
A87: C | B87: Fusible de vidrio 15 A | C87: 1 | D87: 15390.425 | E87: 14280 | F87: 47700 | G87: 45000 | H87: =+AVERAGE(D87:G87) -> 30592.606
A88: C | B88: Fusible de vidrio 3 A | C88: 1 | D88: 15390.425 | E88: 8330 | F88: 42400 | G88: 40000 | H88: =+AVERAGE(D88:G88) -> 26530.106
A89: C | B89: Filtro de aire para EMERSON LIEBERT | C89: 1 | D89: 461684 | E89: 694960 | F89: 1219000 | G89: 1150000 | H89: =+AVERAGE(D89:G89) -> 881411
A90: C | B90: Rele | C90: 1 | D90: 123115.73 | E90: 89250 | F90: 477000 | G90: 450000 | H90: =+AVERAGE(D90:G90) -> 284841.43
A91: C | B91: Valvula de expansion | C91: 1 | D91: 677136.54 | E91: 555730 | F91: 901000 | G91: 850000 | H91: =+AVERAGE(D91:G91) -> 745966.63
A92: C | B92: termostato | C92: 1 | D92: 554020.8 | E92: 159460 | F92: 720800 | G92: 680000 | H92: =+AVERAGE(D92:G92) -> 528570.2
A93: C | B93: Gas Refrigerante para aires acondiciónales convencionales 1Kg | C93: 1 | D93: 200064.03 | E93: 178500 | F93: 132500 | G93: 125000 | H93: =+AVERAGE(D93:G93) -> 159016.01
A94: C | B94: Gas refrigerante 407C 1Kg | C94: 1 | D94: 246231.47 | E94: 218960 | F94: 111300 | G94: 105000 | H94: =+AVERAGE(D94:G94) -> 170372.87
A95: TOTAL | D95: =SUM(D82:D94) -> 2508487.9 | E95: =SUM(E82:E94) -> 2572780 | F95: =SUM(F82:F94) -> 3934720 | G95: =SUM(G82:G94) -> 3712000 | H95: =SUM(H82:H94) -> 3181997
A97: TOTAL REPUESTOS
D98: amelectricistas | E98: POWER SUM | F98: PC INGENIERIA | G98: GPS
A99: TOTAL | D99: =ROUND(SUM(D42+D74+D95),0) -> 28065959 | E99: =SUM(E42+E74+E95) -> 50720180 | F99: =SUM(F42+F74+F95) -> 51059776 | G99: =SUM(G42+G74+G95) -> 48169600 | H99: =SUM(H42+H74+H95) -> 44503879
A103: Empresa:
A104: Nit:
A105: Dirección:
A106: E-Mail:
A107: Celular o Fijo:
A108: Firma
