Workbook

Sheet LIST (3)
A1: ID | B1: DESCRIPCIÓN | C1: UNIDAD | D1: V/UNIT
A2: P | B2: PRELIMINARES (P)
A3: P-0001 | B3: DEMOLICIÓN PLACA e= 0.10m INCLUYE TRANSPORTE | C3: M2 | D3: =+'[1]P-0001'!H48 -> 42831 | F3: =+TEXT(LIST3[[#This Row],[ID]],"XXXXXX") -> P-0001
A4: P-0002 | B4: DEMOLICIÓN MURO LADRILLO HASTA 15 CM ANCHO, INCLUYE RETIRO DE ESCOMBROS A 5 KM | C4: M2 | D4: =+'[1]P-0002'!H48 -> 29966
A5: P-0003 | B5: DESMONTE DE MOTOBOMBAS, TABLEROS, Y ELEMENTOS ELECTRONICOS. | C5: GLOBAL | D5: =+'[1]P-0003'!H48 -> 719688
A6: P-0004 | B6: RETIRO DE ADOQUIN DEFECTUOSO Y EN MAL ESTADO | C6: M2 | D6: =+'[1]P-0004'!H48 -> 16553
A7: P-0005 | B7: EXCAVACIÓN MANUAL EN MATERIAL COMÚN 0-2 MTS | C7: M3 | D7: =+'[1]P-0005'!H45 -> 41022
A8: P-0006 | B8: RELLENO EN ARENA | C8: M3 | D8: =+'[1]P-0006'!H48 -> 388247
A9: P-0007 | B9: DESMONTE DE APARATOS SANITARIOS | C9: UND | D9: =+'[1]P-0007'!H48 -> 93559
A10: P-0008 | B10: LOCALIZACIÓN Y REPLANTEO (AREA) | C10: M2 | D10: =+'[1]P-0008'!H48 -> 4477
A11: P-0009 | B11: DEMOLICIÓN DE PLACA CONCRETO e=0.15m INCLUYE TRANSPORTE | C11: M2 | D11: =+'[1]P-0009'!H48 -> 50982
A12: P-0010 | B12: DEMOLICIÓN DE MURO EN CONCRETO REFORZADO INCLUYE TRANSPORTE | C12: M2 | D12: =+'[1]P-0010'!H48 -> 75162
A13: P-0011 | B13: EXCAVACIÓN MECANICA EN MATERIAL COMÚN | C13: M3 | D13: =+'[1]P-0011'!H48 -> 30161
A14: P-0012 | B14: RELLENO EN RECEBO COMPACTADO | C14: M3 | D14: =+'[1]P-0012'!H48 -> 158481
A15: P-0013 | B15: DESCAPOTE MANUAL DE TERRENO E=0,15 CM, INCLUYE RETIRO | C15: M2 | D15: =+'[1]P-0013'!H48 -> 12504
A16: P-0014 | B16: DESMONTE DE CUBIERTA EXISTENTE | C16: M2 | D16: =+'[1]P-0014'!H48 -> 20830
A20: PTA | B20: PISOS CERAMICOS, TERMINADOS Y ACABADOS (PTA)
A21: PTA-001 | B21: ADOQUIN RECTANGULAR ADOP-A O SIMILAR COLOR GRIS (20 X10X 8) | C21: M2 | D21: =+'[1]PTA-001'!H45 -> 210966
A22: PTA-002 | B22: ADOQUIN INDUPISO PIZARRA O SIMILAR COLOR ARENA (20X20X8) | C22: M2 | D22: =+'[1]PTA-002'!H45 -> 199216
A23: PTA-003 | B23: PINTURA DE SILLAS REDONDAS DIAMETRO 50CM H=60CM TIPO 1 EXTERIOR COLOR BLANCO (INCLUYE RESANE) | C23: UND | D23: =+'[1]PTA-003'!H45 -> 102188
A24: PTA-004 | B24: PINTURA DE MATERA RECTANGULAR 40X60X30 TIPO 1 EXTERIOR COLOR BLANCO (INCLUYE RESANE) | C24: UND | D24: =+'[1]PTA-004'!H48 -> 108719
A25: PTA-005 | B25: MURO EN BLOQUE ABUJARDADO CON DOVELAS 14X19X39 PARA ALCORQUE DE ARBOL | C25: M2 | D25: =+'[1]PTA-005'!H48 -> 143058
A26: PTA-006 | B26: ALFAGIA PREFABRICADA DE ANCHO 25CMX100CM | C26: M | D26: =+'[1]PTA-006'!H48 -> 71941
A27: PTA-007 | B27: CIELO RASO PVC 9 MM INCLUYE ESTRUCTURA | C27: M2 | D27: =+'[1]PTA-007'!H48 -> 71344
A28: PTA-008 | B28: ENCHAPE EN GRES ROJO | C28: M2 | D28: =+'[1]PTA-008'!H48 -> 129294
A29: PTA-009 | B29: PINTURA TIPO 1 INTERIOR, DOS MANOS | C29: M2 | D29: =+'[1]PTA-009'!H48 -> 16372
A30: PTA-010 | B30: RESANE EN ESTUCO ACRILICO 100% | C30: M2 | D30: =+'[1]PTA-010'!H48 -> 16395
A31: PTA-011 | B31: PINTURA TIPO 1 EXTERIOR 100% ACRILICA, DOS MANOS | C31: M2 | D31: =+'[1]PTA-011'!H48 -> 21848
A32: PTA-012 | B32: POLARIZADO PARA VENTANAS PELICULA PROTECCIÓN 100% UV 2 MM | C32: M2 | D32: =+'[1]PTA-012'!H48 -> 91611
A33: PTA-013 | B33: ENCHAPE CERAMICO 20X30 CM COLOR BLANCO (PARED) | C33: M2 | D33: =+'[1]PTA-013'!H48 -> 89850
A34: PTA-014 | B34: PINTURA ESMALTE ELEMENTOS METALICOS (AREA) | C34: M2 | D34: =+'[1]PTA-014'!H48 -> 20161
A35: PTA-015 | B35: PINTURA ESMALTE ELEMENTOS METALICOS (LINEAL BARANDA) | C35: M | D35: =+'[1]PTA-015'!H48 -> 14102
A36: PTA-016 | B36: MURAL DECORATIVO CON IDENTIFICACIÓN CULTURAL | C36: M2 | D36: =+'[1]PTA-016'!H48 -> 54084
A37: PTA-017 | B37: RECUBRIMIENTO DE TRUFLEX ANTIDESLIZANTE DE 3 CAPAS (UNA BASE DE CUARZO Y DOS CAPAS DE COLOR) PARA ZONA EQUIPOS BIOSALUDABLES Y PARQUE INFANTIL. | C37: M2 | D37: =+'[1]PTA-017'!H48 -> 118313
A38: PTA-018 | B38: PINTURA ACRILICA PARA TRAFICO PESADO TIPO CANCHA Y/O PISOS SOBRE UNA BASE EN IMPRIMANTE EPOXICO DE DOS COMPONENTES, PARA DEMARCACION DE CANCHA MULTIPLE (VOLEIBOL, MICROFUTBOL Y BALONCESTO) (2 MANOS) | C38: M2 | D38: =+'[1]PTA-018'!H48 -> 38921
A39: PTA-019 | B39: SUMINISTRO E INSTALACIÓN DE LADRILLO TOLETE 25X12X6CM | C39: M2 | D39: =+'[1]PTA-019'!H48 -> 86053
A40: PTA-020 | B40: PAÑETE MURO 1:4 E=0.02M | C40: M2 | D40: =+'[1]PTA-020'!H48 -> 32597
A41: PTA-021 | B41: PINTURA TIPO 1 INTERIOR, TRES MANOS | C41: M2 | D41: =+'[1]PTA-021'!H48 -> 22913
A44: CMR | B44: CONCRETOS, MORTEROS Y REFUERZOS (CMR)
A45: CMR-001 | B45: ACERO DE REFUERZO 60.000 PSI | C45: KG | D45: =+'[1]CMR-001'!H48 -> 10449
...

Sheet LIST (2)
A1: ID | B1: DESCRIPCIÓN | C1: UNIDAD | D1: V/UNIT
A2: P | B2: PRELIMINARES (P)
A3: P-0001 | B3: DEMOLICIÓN PLACA e= 0.10m INCLUYE TRANSPORTE | C3: M2 | D3: =+'[1]P-0001'!H48 -> 42831 | F3: =+TEXT(LIST2[[#This Row],[ID]],"XXXXXX") -> P-0001
A4: P-0002 | B4: DEMOLICIÓN MURO, INCLUYE RETIRO DE ESCOMBROS A 5 KM | C4: M2 | D4: =+'[1]P-0002'!H48 -> 29966
A5: P-0003 | B5: DESMONTE DE MOTOBOMBAS, TABLEROS, Y ELEMENTOS ELECTRONICOS. | C5: GLOBAL | D5: =+'[1]P-0003'!H48 -> 719688
A6: P-0004 | B6: RETIRO DE ADOQUIN DEFECTUOSO Y EN MAL ESTADO | C6: M2 | D6: =+'[1]P-0004'!H48 -> 16553
A7: P-0005 | B7: EXCAVACIÓN MANUAL EN MATERIAL COMÚN 0-2 MTS | C7: M3 | D7: =+'[1]P-0005'!H45 -> 41022
A8: P-0006 | B8: RELLENO EN ARENA | C8: M3 | D8: =+'[1]P-0006'!H48 -> 388247
A9: P-0007 | B9: DESMONTE DE APARATOS SANITARIOS | C9: UND | D9: =+'[1]P-0007'!H48 -> 93559
A10: P-0008 | B10: LOCALIZACIÓN Y REPLANTEO (AREA) | C10: M2 | D10: =+'[1]P-0008'!H48 -> 4477
A11: P-0009 | B11: DEMOLICIÓN DE PLACA CONCRETO e=0.15m INCLUYE TRANSPORTE | C11: M2 | D11: =+'[1]P-0009'!H48 -> 50982
A12: P-0010 | B12: DEMOLICIÓN DE MURO EN CONCRETO REFORZADO INCLUYE TRANSPORTE | C12: M2 | D12: =+'[1]P-0010'!H48 -> 75162
A13: P-0011 | B13: EXCAVACIÓN MECANICA EN MATERIAL COMÚN | C13: M3 | D13: =+'[1]P-0011'!H48 -> 30161
A14: P-0012 | B14: RELLENO EN RECEBO COMPACTADO | C14: M3 | D14: =+'[1]P-0012'!H48 -> 158481
A15: P-0013 | B15: DESCAPOTE MANUAL DE TERRENO E=0,15 CM, INCLUYE RETIRO | C15: M2 | D15: =+'[1]P-0013'!H48 -> 12504
A16: P-0014 | B16: DESMONTE DE CUBIERTA EXISTENTE | C16: M2 | D16: =+[1]!LIST[[#This Row],[V/UNIT]] -> 20830
A20: PTA | B20: PISOS CERAMICOS, TERMINADOS Y ACABADOS (PTA)
A21: PTA-001 | B21: ADOQUIN RECTANGULAR ADOP-A O SIMILAR COLOR GRIS (20 X10X 8) | C21: M2 | D21: =+'[1]PTA-001'!H45 -> 210966
A22: PTA-002 | B22: ADOQUIN INDUPISO PIZARRA O SIMILAR COLOR ARENA (20X20X8) | C22: M2 | D22: =+'[1]PTA-002'!H45 -> 199216
A23: PTA-003 | B23: PINTURA DE SILLAS REDONDAS DIAMETRO 50CM H=60CM TIPO 1 EXTERIOR COLOR BLANCO (INCLUYE RESANE) | C23: UND | D23: =+'[1]PTA-003'!H45 -> 102188
A24: PTA-004 | B24: PINTURA DE MATERA RECTANGULAR 40X60X30 TIPO 1 EXTERIOR COLOR BLANCO (INCLUYE RESANE) | C24: UND | D24: =+'[1]PTA-004'!H48 -> 108719
A25: PTA-005 | B25: MURO EN BLOQUE ABUJARDADO CON DOVELAS 14X19X39 PARA ALCORQUE DE ARBOL | C25: M2 | D25: =+'[1]PTA-005'!H48 -> 143058
A26: PTA-006 | B26: ALFAGIA PREFABRICADA DE ANCHO 25CMX100CM | C26: M | D26: =+'[1]PTA-006'!H48 -> 71941
A27: PTA-007 | B27: CIELO RASO PVC 9 MM INCLUYE ESTRUCTURA | C27: M2 | D27: =+'[1]PTA-007'!H48 -> 71344
A28: PTA-008 | B28: ENCHAPE EN GRES ROJO | C28: M2 | D28: =+'[1]PTA-008'!H48 -> 129294
A29: PTA-009 | B29: PINTURA TIPO 1 INTERIOR, DOS MANOS | C29: M2 | D29: =+'[1]PTA-009'!H48 -> 16372
A30: PTA-010 | B30: RESANE EN ESTUCO ACRILICO 100% | C30: M2 | D30: =+'[1]PTA-010'!H48 -> 16395
A31: PTA-011 | B31: PINTURA TIPO 1 EXTERIOR 100% ACRILICA, DOS MANOS | C31: M2 | D31: =+'[1]PTA-011'!H48 -> 21848
A32: PTA-012 | B32: POLARIZADO PARA VENTANAS PELICULA PROTECCIÓN 100% UV 2 MM | C32: M2 | D32: =+'[1]PTA-012'!H48 -> 91611
A33: PTA-013 | B33: ENCHAPE CERAMICO 20X30 CM COLOR BLANCO (PARED) | C33: M2 | D33: =+'[1]PTA-013'!H48 -> 89850
A34: PTA-014 | B34: PINTURA ESMALTE ELEMENTOS METALICOS (AREA) | C34: M2 | D34: =+'[1]PTA-014'!H48 -> 20161
A35: PTA-015 | B35: PINTURA ESMALTE ELEMENTOS METALICOS (LINEAL BARANDA) | C35: M | D35: =+'[1]PTA-015'!H48 -> 14102
A36: PTA-016 | B36: MURAL DECORATIVO CON IDENTIFICACIÓN CULTURAL | C36: M2 | D36: =+'[1]PTA-016'!H48 -> 54084
A37: PTA-017 | B37: RECUBRIMIENTO DE TRUFLEX ANTIDESLIZANTE DE 3 CAPAS (UNA BASE DE CUARZO Y DOS CAPAS DE COLOR) PARA ZONA EQUIPOS BIOSALUDABLES Y PARQUE INFANTIL. | C37: M2 | D37: =+'[1]PTA-017'!H48 -> 118313
A38: PTA-018 | B38: PINTURA TIPO EPOXICA O TRAFICO PESADO, PARA DEMARCACION DE CANCHA MULTIPLE, INCLUYE BASE (VOLEIBOL, MICROFUTBOL Y BALONCESTO) (2 MANOS) | C38: M2
A42: CMR | B42: CONCRETOS, MORTEROS Y REFUERZOS (CMR)
A43: CMR-001 | B43: ACERO DE REFUERZO 60.000 PSI | C43: KG | D43: =+'[1]CMR-001'!H48 -> 10449
A44: CMR-002 | B44: CONCRETO 3.000 PSI | C44: M3 | D44: =+'[1]CMR-002'!H48 -> 1111084
A45: CMR-003 | B45: SUMINISTRO E INSTALACION DE TUBERIA PETROLERA DE 20" y 10", INCLUYE ESCALERA DE ACCESO, ESTRUCTURA DE FIJACION DE LA PANTALLA Y TODOS LOS ELEMENTROS NECESARIOS PARA SU CORRECTO FUNCIONAMIENTO | C45: KG
A46: CMR-004 | B46: PLACA CONCRETO 3.000 PSI E=10CM | C46: M2 | D46: =+'[1]CMR-004'!H48 -> 126819
...

Sheet PTA-015
A1: ANALISIS DE PRECIOS UNITARIOS
A3: SECRETARIA DE PLANEACIÓN E INFRAESTRUCTURA
A4: ALCALDÍA MUNICIPAL DE RIOBLANCO - TOLIMA
A6: OBJETO: | B6: =+[1]PTO!D3 -> CONSTRUCCIÓN DE PARQUE BIOSALUDABLE EN EL BARRIO LOS CAMBULOS DEL MUNICIPIO DE RIOBLANCO TOLIMA
A9: ITEM | D9: =+_xlfn.XLOOKUP(D10,[1]PTO!$D$4:$D$22,[1]PTO!$C$4:$C$22) -> #N/A | E9: UNIDAD | F9: =+_xlfn.XLOOKUP($D$10,[1]!LIST[DESCRIPCIÓN],[1]!LIST[UNIDAD]) -> M | G9: CANTIDAD | H9: 1
A10: DESCRIPCION | D10: PINTURA ESMALTE ELEMENTOS METALICOS (LINEAL BARANDA)
A13: I. MATERIALES
A14: DESCRIPCION | E14: UND | F14: CANT | G14: V. UNITARIO | H14: V. PARCIAL
A15: PINTURA ESMALTE 2 EN 1 | E15: =IF($A15=0,0,VLOOKUP($A15,INS!$A$2:$E$106,2,FALSE)) -> GLN | F15: 0.04 | G15: =IF($A15=0,0,_xlfn.XLOOKUP($A15,INS[DESCRIPCIÓN],INS[PROMEDIO])) -> 80000 | H15: =+F15*G15 -> 3200
A16: DISOLVENTE | E16: =IF($A16=0,0,VLOOKUP($A16,INS!$A$2:$E$106,2,FALSE)) -> GLN | F16: 0.007 | G16: =IF($A16=0,0,_xlfn.XLOOKUP($A16,INS[DESCRIPCIÓN],INS[PROMEDIO])) -> 40000 | H16: =+F16*G16 -> 280
E17: =IF($A17=0,0,VLOOKUP($A17,[1]INS!$A$2:$E$110,2,FALSE)) -> 0 | G17: =IF($A17=0,0,_xlfn.XLOOKUP($A17,[1]!INS[DESCRIPCIÓN],[1]!INS[PROMEDIO])) -> 0 | H17: =+F17*G17 -> 0
E18: =IF($A18=0,0,VLOOKUP($A18,[1]INS!$A$2:$E$110,2,FALSE)) -> 0 | G18: =IF($A18=0,0,_xlfn.XLOOKUP($A18,[1]!INS[DESCRIPCIÓN],[1]!INS[PROMEDIO])) -> 0 | H18: =+F18*G18 -> 0
E19: =IF($A19=0,0,VLOOKUP($A19,[1]INS!$A$2:$E$110,2,FALSE)) -> 0 | G19: =IF($A19=0,0,VLOOKUP($A19,[1]INS!$A$2:$G$110,6,FALSE)) -> 0 | H19: =+F19*G19 -> 0
E20: =IF($A20=0,0,VLOOKUP($A20,[1]INS!$A$2:$E$110,2,FALSE)) -> 0 | G20: =IF($A20=0,0,VLOOKUP($A20,[1]INS!$A$2:$G$110,6,FALSE)) -> 0 | H20: =+F20*G20 -> 0
E21: =IF($A21=0,0,VLOOKUP($A21,[1]INS!$A$2:$E$110,2,FALSE)) -> 0 | G21: =IF($A21=0,0,VLOOKUP($A21,[1]INS!$A$2:$G$110,6,FALSE)) -> 0 | H21: =+F21*G21 -> 0
A22: Herramienta menor | E22: %M.O | F22: 0.1 | G22: =H46 -> 7087.5 | H22: =F22*G22 -> 708.75
G23: SUBTOTAL | H23: =SUM(H15:H22) -> 4188.75
A25: II. EQUIPO
A26: DESCRIPCION | D26: MARCA | E26: UND | F26: TARIFA/HORA | G26: RENDIMIENTO | H26: V. PARCIAL
A27: COMPRESOR 50 LT | F27: =IF($A27=0,0,_xlfn.XLOOKUP($A27,EQUI[DESCRIPCIÓN],EQUI[VALOR])) -> 55000 | G27: =IF($A27=0,0,_xlfn.XLOOKUP($A27,EQUI[DESCRIPCIÓN],EQUI[RENDIMIENTO])) -> 0.01 | H27: =F27*G27 -> 550
A28: ANDAMIO CON TABLON (2 CUERPOS) | F28: =IF($A28=0,0,_xlfn.XLOOKUP($A28,EQUI[DESCRIPCIÓN],EQUI[VALOR])) -> 10000 | G28: =IF($A28=0,0,_xlfn.XLOOKUP($A28,EQUI[DESCRIPCIÓN],EQUI[RENDIMIENTO])) -> 0.1 | H28: =F28*G28 -> 1000
G31: SUBTOTAL | H31: =SUM(H27:H30) -> 1550
A33: III. TRANSPORTE
A34: MATERIAL | D34: VOL. O PESO (EXP) | E34: DISTANCIA (KM) | F34: CANT | G34: TARIFA | H34: V. PARCIAL
D35: =IF($A$35=0,0,VLOOKUP($A$35,[1]TRANS!$A$2:$F$38,5,FALSE)) -> 0 | E35: =IF($A$35=0,0,VLOOKUP($A$35,TRANS!$A$2:$D$39,3,FALSE)) -> 0 | G35: =IF($A$35=0,0,VLOOKUP($A$35,TRANS!$A$2:$D$38,4,FALSE)) -> 0 | H35: =+E35*F35*G35*D35 -> 0
G39: SUBTOTAL | H39: =SUM(H35:H38) -> 0
A41: IV. MANO DE OBRA
A42: DESCRIPCION | D42: V. HORA +PRESTACIONES | E42: CANTIDAD | F42: JORNAL TOTAL | G42: RENDIMIENTO HH | H42: V. PARCIAL
A43: OFICIAL A. | D43: =MO!F31/8 -> 24791.667 | E43: 1 | F43: =D43*E43 -> 24791.667 | G43: =+IF(AND($E$43=1,$E$44=1),_xlfn.XLOOKUP($D$10,REND[DESCRIPCIÓN],REND[RENDIMIENTO (1)]),IF(AND($E$43=1,$E$44=2),_xlfn.XLOOKUP($D$10,REND[DESCRIPCIÓN],REND[RENDIMIENTO (2)]),IF(AND($E$43=1,$E$44=3),_xlfn.XLOOKUP($D$10,REND[DESCRIPCIÓN],REND[RENDIMIENTO (3)]),IF(AND($E$43=1,$E$44=4),_xlfn.XLOOKUP($D$10,REND[DESCRIPCIÓN],REND[RENDIMIENTO (4)]),0)))) -> 0.18 | H43: =F43*G43 -> 4462.5
A44: AYUDANTE A. | D44: =MO!F14/8 -> 14583.333 | E44: 1 | F44: =D44*E44 -> 14583.333 | G44: =+IF(AND($E$43=1,$E$44=1),_xlfn.XLOOKUP($D$10,REND[DESCRIPCIÓN],REND[RENDIMIENTO (1)]),IF(AND($E$43=1,$E$44=2),_xlfn.XLOOKUP($D$10,REND[DESCRIPCIÓN],REND[RENDIMIENTO (2)]),IF(AND($E$43=1,$E$44=3),_xlfn.XLOOKUP($D$10,REND[DESCRIPCIÓN],REND[RENDIMIENTO (3)]),IF(AND($E$43=1,$E$44=4),_xlfn.XLOOKUP($D$10,REND[DESCRIPCIÓN],REND[RENDIMIENTO (4)]),0)))) -> 0.18 | H44: =F44*G44 -> 2625
H45: =F45*G45 -> 0
G46: SUBTOTAL | H46: =SUM(H43:H45) -> 7087.5
A48: VALOR TOTAL | H48: =ROUND(H23+H31+H39+H46,0) -> 12826
A54: VoBo ARQ. LINA MARITZA BOCANEGRA QUINTERO | F54: ING. MIGUEL ANDRES CAPERA HERNANDEZ
A55: Secretaria de Planeación e Infraestructura | F55: Proyectó y elaboró

Sheet PTA-014
A1: ANALISIS DE PRECIOS UNITARIOS
A3: SECRETARIA DE PLANEACIÓN E INFRAESTRUCTURA
A4: ALCALDÍA MUNICIPAL DE RIOBLANCO - TOLIMA
A6: OBJETO: | B6: =+[1]PTO!D3 -> CONSTRUCCIÓN DE PARQUE BIOSALUDABLE EN EL BARRIO LOS CAMBULOS DEL MUNICIPIO DE RIOBLANCO TOLIMA
A9: ITEM | D9: =+_xlfn.XLOOKUP(D10,[1]PTO!$D$4:$D$22,[1]PTO!$C$4:$C$22) -> #N/A | E9: UNIDAD | F9: =+_xlfn.XLOOKUP($D$10,[1]!LIST[DESCRIPCIÓN],[1]!LIST[UNIDAD]) -> M2 | G9: CANTIDAD | H9: 1
A10: DESCRIPCION | D10: PINTURA ESMALTE ELEMENTOS METALICOS (AREA)
A13: I. MATERIALES
A14: DESCRIPCION | E14: UND | F14: CANT | G14: V. UNITARIO | H14: V. PARCIAL
A15: PINTURA ESMALTE 2 EN 1 | E15: =IF($A15=0,0,VLOOKUP($A15,[1]INS!$A$2:$E$110,2,FALSE)) -> #N/A | F15: 0.06 | G15: =IF($A15=0,0,_xlfn.XLOOKUP($A15,[1]!INS[DESCRIPCIÓN],[1]!INS[PROMEDIO])) -> #N/A | H15: =+F15*G15 -> #N/A
A16: DISOLVENTE | E16: =IF($A16=0,0,VLOOKUP($A16,[1]INS!$A$2:$E$110,2,FALSE)) -> GLN | F16: 0.01 | G16: =IF($A16=0,0,_xlfn.XLOOKUP($A16,[1]!INS[DESCRIPCIÓN],[1]!INS[PROMEDIO])) -> 40000 | H16: =+F16*G16 -> 400
E17: =IF($A17=0,0,VLOOKUP($A17,[1]INS!$A$2:$E$110,2,FALSE)) -> 0 | G17: =IF($A17=0,0,_xlfn.XLOOKUP($A17,[1]!INS[DESCRIPCIÓN],[1]!INS[PROMEDIO])) -> 0 | H17: =+F17*G17 -> 0
E18: =IF($A18=0,0,VLOOKUP($A18,[1]INS!$A$2:$E$110,2,FALSE)) -> 0 | G18: =IF($A18=0,0,_xlfn.XLOOKUP($A18,[1]!INS[DESCRIPCIÓN],[1]!INS[PROMEDIO])) -> 0 | H18: =+F18*G18 -> 0
E19: =IF($A19=0,0,VLOOKUP($A19,[1]INS!$A$2:$E$110,2,FALSE)) -> 0 | G19: =IF($A19=0,0,VLOOKUP($A19,[1]INS!$A$2:$G$110,6,FALSE)) -> 0 | H19: =+F19*G19 -> 0
E20: =IF($A20=0,0,VLOOKUP($A20,[1]INS!$A$2:$E$110,2,FALSE)) -> 0 | G20: =IF($A20=0,0,VLOOKUP($A20,[1]INS!$A$2:$G$110,6,FALSE)) -> 0 | H20: =+F20*G20 -> 0
E21: =IF($A21=0,0,VLOOKUP($A21,[1]INS!$A$2:$E$110,2,FALSE)) -> 0 | G21: =IF($A21=0,0,VLOOKUP($A21,[1]INS!$A$2:$G$110,6,FALSE)) -> 0 | H21: =+F21*G21 -> 0
A22: Herramienta menor | E22: %M.O | F22: 0.1 | G22: =H46 -> 8662.5 | H22: =F22*G22 -> 866.25
G23: SUBTOTAL | H23: =SUM(H15:H22) -> #N/A
A25: II. EQUIPO
A26: DESCRIPCION | D26: MARCA | E26: UND | F26: TARIFA/HORA | G26: RENDIMIENTO | H26: V. PARCIAL
A27: COMPRESOR 50 LT | F27: =IF($A27=0,0,_xlfn.XLOOKUP($A27,[1]!EQUI[DESCRIPCIÓN],[1]!EQUI[VALOR])) -> 55000 | G27: =IF($A27=0,0,_xlfn.XLOOKUP($A27,[1]!EQUI[DESCRIPCIÓN],[1]!EQUI[RENDIMIENTO])) -> 0.01 | H27: =F27*G27 -> 550
A28: ANDAMIO CON TABLON (2 CUERPOS) | F28: =IF($A28=0,0,_xlfn.XLOOKUP($A28,[1]!EQUI[DESCRIPCIÓN],[1]!EQUI[VALOR])) -> 10000 | G28: =IF($A28=0,0,_xlfn.XLOOKUP($A28,[1]!EQUI[DESCRIPCIÓN],[1]!EQUI[RENDIMIENTO])) -> 0.1 | H28: =F28*G28 -> 1000
G31: SUBTOTAL | H31: =SUM(H27:H30) -> 1550
A33: III. TRANSPORTE
A34: MATERIAL | D34: VOL. O PESO (EXP) | E34: DISTANCIA (KM) | F34: CANT | G34: TARIFA | H34: V. PARCIAL
D35: =IF($A$35=0,0,VLOOKUP($A$35,[1]TRANS!$A$2:$F$38,5,FALSE)) -> 0 | E35: =IF($A$35=0,0,VLOOKUP($A$35,[1]TRANS!$A$2:$D$39,3,FALSE)) -> 0 | F35: =+F15 -> 0.06 | G35: =IF($A$35=0,0,VLOOKUP($A$35,[1]TRANS!$A$2:$D$38,4,FALSE)) -> 0 | H35: =+E35*F35*G35*D35 -> 0
G39: SUBTOTAL | H39: =SUM(H35:H38) -> 0
A41: IV. MANO DE OBRA
A42: DESCRIPCION | D42: V. HORA +PRESTACIONES | E42: CANTIDAD | F42: JORNAL TOTAL | G42: RENDIMIENTO HH | H42: V. PARCIAL
A43: OFICIAL A. | D43: =[1]MO!F31/8 -> 24791.667 | E43: 1 | F43: =D43*E43 -> 24791.667 | G43: =+IF(AND($E$43=1,$E$44=1),_xlfn.XLOOKUP($D$10,[1]!REND[DESCRIPCIÓN],[1]!REND[RENDIMIENTO (1)]),IF(AND($E$43=1,$E$44=2),_xlfn.XLOOKUP($D$10,[1]!REND[DESCRIPCIÓN],[1]!REND[RENDIMIENTO (2)]),IF(AND($E$43=1,$E$44=3),_xlfn.XLOOKUP($D$10,[1]!REND[DESCRIPCIÓN],[1]!REND[RENDIMIENTO (3)]),IF(AND($E$43=1,$E$44=4),_xlfn.XLOOKUP($D$10,[1]!REND[DESCRIPCIÓN],[1]!REND[RENDIMIENTO (4)]),0)))) -> 0.22 | H43: =F43*G43 -> 5454.1667
A44: AYUDANTE A. | D44: =[1]MO!F14/8 -> 14583.333 | E44: 1 | F44: =D44*E44 -> 14583.333 | G44: =+IF(AND($E$43=1,$E$44=1),_xlfn.XLOOKUP($D$10,[1]!REND[DESCRIPCIÓN],[1]!REND[RENDIMIENTO (1)]),IF(AND($E$43=1,$E$44=2),_xlfn.XLOOKUP($D$10,[1]!REND[DESCRIPCIÓN],[1]!REND[RENDIMIENTO (2)]),IF(AND($E$43=1,$E$44=3),_xlfn.XLOOKUP($D$10,[1]!REND[DESCRIPCIÓN],[1]!REND[RENDIMIENTO (3)]),IF(AND($E$43=1,$E$44=4),_xlfn.XLOOKUP($D$10,[1]!REND[DESCRIPCIÓN],[1]!REND[RENDIMIENTO (4)]),0)))) -> 0.22 | H44: =F44*G44 -> 3208.3333
H45: =F45*G45 -> 0
G46: SUBTOTAL | H46: =SUM(H43:H45) -> 8662.5
A48: VALOR TOTAL | H48: =ROUND(H23+H31+H39+H46,0) -> #N/A
A54: VoBo ARQ. LINA MARITZA BOCANEGRA QUINTERO | F54: ING. MIGUEL ANDRES CAPERA HERNANDEZ
A55: Secretaria de Planeación e Infraestructura | F55: Proyectó y elaboró

Sheet PTA-013
A1: ANALISIS DE PRECIOS UNITARIOS
A3: SECRETARIA DE PLANEACIÓN E INFRAESTRUCTURA
A4: ALCALDÍA MUNICIPAL DE RIOBLANCO - TOLIMA
A6: OBJETO: | B6: =+PTO!D3 -> MEJORAMIENTO DE LAS IET GENERAL SANTANDER SEDE PRINCIPAL Y FRANCISCO JULIAN OLAYA SEDE PRINCIPAL DEL MUNICIPIO DE RIOBLANCO TOLIMA
A9: ITEM | D9: =+_xlfn.XLOOKUP(D10,PTO!$D$4:$D$22,PTO!$C$4:$C$22) -> #N/A | E9: UNIDAD | F9: =+_xlfn.XLOOKUP($D$10,LIST[DESCRIPCIÓN],LIST[UNIDAD]) -> M2 | G9: CANTIDAD | H9: 1
A10: DESCRIPCION | D10: ENCHAPE CERAMICO 20X30 CM COLOR BLANCO (PARED)
A13: I. MATERIALES
A14: DESCRIPCION | E14: UND | F14: CANT | G14: V. UNITARIO | H14: V. PARCIAL
A15: ENCHAPE CERAMICO 20X30 CM PRIMERA CALIDAD | E15: =IF($A15=0,0,VLOOKUP($A15,INS!$A$2:$E$106,2,FALSE)) -> M2 | F15: 1.1 | G15: =IF($A15=0,0,_xlfn.XLOOKUP($A15,INS[DESCRIPCIÓN],INS[PROMEDIO])) -> 38300 | H15: =+F15*G15 -> 42130
A16: PEGANTE PARA CERÁMICA X25 KG | E16: =IF($A16=0,0,VLOOKUP($A16,INS!$A$2:$E$106,2,FALSE)) -> UND | F16: 0.1 | G16: =IF($A16=0,0,_xlfn.XLOOKUP($A16,INS[DESCRIPCIÓN],INS[PROMEDIO])) -> 35000 | H16: =+F16*G16 -> 3500
A17: SEPARADOR DE CERAMICA 2MM | E17: =IF($A17=0,0,VLOOKUP($A17,INS!$A$2:$E$106,2,FALSE)) -> UND | F17: 10 | G17: =IF($A17=0,0,_xlfn.XLOOKUP($A17,INS[DESCRIPCIÓN],INS[PROMEDIO])) -> 110 | H17: =+F17*G17 -> 1100
E18: =IF($A18=0,0,VLOOKUP($A18,[1]INS!$A$2:$E$110,2,FALSE)) -> 0 | G18: =IF($A18=0,0,_xlfn.XLOOKUP($A18,[1]!INS[DESCRIPCIÓN],[1]!INS[PROMEDIO])) -> 0 | H18: =+F18*G18 -> 0
E19: =IF($A19=0,0,VLOOKUP($A19,[1]INS!$A$2:$E$110,2,FALSE)) -> 0 | G19: =IF($A19=0,0,VLOOKUP($A19,[1]INS!$A$2:$G$110,6,FALSE)) -> 0 | H19: =+F19*G19 -> 0
E20: =IF($A20=0,0,VLOOKUP($A20,[1]INS!$A$2:$E$110,2,FALSE)) -> 0 | G20: =IF($A20=0,0,VLOOKUP($A20,[1]INS!$A$2:$G$110,6,FALSE)) -> 0 | H20: =+F20*G20 -> 0
E21: =IF($A21=0,0,VLOOKUP($A21,[1]INS!$A$2:$E$110,2,FALSE)) -> 0 | G21: =IF($A21=0,0,VLOOKUP($A21,[1]INS!$A$2:$G$110,6,FALSE)) -> 0 | H21: =+F21*G21 -> 0
A22: Herramienta menor | E22: %M.O | F22: 0.1 | G22: =H46 -> 31500 | H22: =F22*G22 -> 3150
G23: SUBTOTAL | H23: =SUM(H15:H22) -> 49880
A25: II. EQUIPO
A26: DESCRIPCION | D26: MARCA | E26: UND | F26: TARIFA/HORA | G26: RENDIMIENTO | H26: V. PARCIAL
A27: CORTADORA DE BALDOSA | F27: =IF($A27=0,0,_xlfn.XLOOKUP($A27,EQUI[DESCRIPCIÓN],EQUI[VALOR])) -> 35000 | G27: =IF($A27=0,0,_xlfn.XLOOKUP($A27,EQUI[DESCRIPCIÓN],EQUI[RENDIMIENTO])) -> 0.07 | H27: =F27*G27 -> 2450
F28: =IF($A28=0,0,VLOOKUP($A28,[1]EQUI!$A$2:$E$6,3,FALSE)) -> 0 | G28: =+IF($A28=0,0,VLOOKUP($A28,[1]EQUI!$A$2:$E$6,5,FALSE)) -> 0 | H28: =F28*G28 -> 0
G31: SUBTOTAL | H31: =SUM(H27:H30) -> 2450
A33: III. TRANSPORTE
A34: MATERIAL | D34: VOL. O PESO (EXP) | E34: DISTANCIA (KM) | F34: CANT | G34: TARIFA | H34: V. PARCIAL
A35: TRANSPORTE ENCHAPE | D35: =IF($A$35=0,0,VLOOKUP($A$35,TRANS!$A$2:$F$38,5,FALSE)) -> 1 | E35: =IF($A$35=0,0,VLOOKUP($A$35,TRANS!$A$2:$D$39,3,FALSE)) -> 50 | F35: =+F15 -> 1.1 | G35: =IF($A$35=0,0,VLOOKUP($A$35,TRANS!$A$2:$D$38,4,FALSE)) -> 200 | H35: =+E35*F35*G35*D35 -> 11000
G39: SUBTOTAL | H39: =SUM(H35:H38) -> 11000
A41: IV. MANO DE OBRA
A42: DESCRIPCION | D42: V. HORA +PRESTACIONES | E42: CANTIDAD | F42: JORNAL TOTAL | G42: RENDIMIENTO HH | H42: V. PARCIAL
A43: OFICIAL A. | D43: =[1]MO!F31/8 -> 24791.667 | E43: 1 | F43: =D43*E43 -> 24791.667 | G43: =+IF(AND($E$43=1,$E$44=1),_xlfn.XLOOKUP($D$10,[1]!REND[DESCRIPCIÓN],[1]!REND[RENDIMIENTO (1)]),IF(AND($E$43=1,$E$44=2),_xlfn.XLOOKUP($D$10,[1]!REND[DESCRIPCIÓN],[1]!REND[RENDIMIENTO (2)]),IF(AND($E$43=1,$E$44=3),_xlfn.XLOOKUP($D$10,[1]!REND[DESCRIPCIÓN],[1]!REND[RENDIMIENTO (3)]),IF(AND($E$43=1,$E$44=4),_xlfn.XLOOKUP($D$10,[1]!REND[DESCRIPCIÓN],[1]!REND[RENDIMIENTO (4)]),0)))) -> 0.8 | H43: =F43*G43 -> 19833.333
A44: AYUDANTE A. | D44: =[1]MO!F14/8 -> 14583.333 | E44: 1 | F44: =D44*E44 -> 14583.333 | G44: =+IF(AND($E$43=1,$E$44=1),_xlfn.XLOOKUP($D$10,[1]!REND[DESCRIPCIÓN],[1]!REND[RENDIMIENTO (1)]),IF(AND($E$43=1,$E$44=2),_xlfn.XLOOKUP($D$10,[1]!REND[DESCRIPCIÓN],[1]!REND[RENDIMIENTO (2)]),IF(AND($E$43=1,$E$44=3),_xlfn.XLOOKUP($D$10,[1]!REND[DESCRIPCIÓN],[1]!REND[RENDIMIENTO (3)]),IF(AND($E$43=1,$E$44=4),_xlfn.XLOOKUP($D$10,[1]!REND[DESCRIPCIÓN],[1]!REND[RENDIMIENTO (4)]),0)))) -> 0.8 | H44: =F44*G44 -> 11666.667
H45: =F45*G45 -> 0
G46: SUBTOTAL | H46: =SUM(H43:H45) -> 31500
A48: VALOR TOTAL | H48: =ROUND(H23+H31+H39+H46,0) -> 94830
A54: VoBo ARQ. LINA MARITZA BOCANEGRA QUINTERO | F54: ING. MIGUEL ANDRES CAPERA HERNANDEZ
A55: Secretaria de Planeación e Infraestructura | F55: Proyectó y elaboró

Sheet PTA-012
A1: ANALISIS DE PRECIOS UNITARIOS
A3: SECRETARIA DE PLANEACIÓN E INFRAESTRUCTURA
A4: ALCALDÍA MUNICIPAL DE RIOBLANCO - TOLIMA
A6: OBJETO: | B6: =+[1]PTO!D3 -> CONSTRUCCIÓN DE PARQUE BIOSALUDABLE EN EL BARRIO LOS CAMBULOS DEL MUNICIPIO DE RIOBLANCO TOLIMA
A9: ITEM | D9: =+_xlfn.XLOOKUP(D10,[1]PTO!$D$4:$D$22,[1]PTO!$C$4:$C$22) -> #N/A | E9: UNIDAD | F9: =+_xlfn.XLOOKUP($D$10,[1]!LIST[DESCRIPCIÓN],[1]!LIST[UNIDAD]) -> M2 | G9: CANTIDAD | H9: 1
A10: DESCRIPCION | D10: POLARIZADO PARA VENTANAS PELICULA PROTECCIÓN 100% UV 2 MM
A13: I. MATERIALES
A14: DESCRIPCION | E14: UND | F14: CANT | G14: V. UNITARIO | H14: V. PARCIAL
A15: Película Protección Uv 100% & Irr 1.2x2m 2mm | E15: =IF($A15=0,0,VLOOKUP($A15,[1]INS!$A$2:$E$110,2,FALSE)) -> M2 | F15: 0.42 | G15: =IF($A15=0,0,_xlfn.XLOOKUP($A15,[1]!INS[DESCRIPCIÓN],[1]!INS[PROMEDIO])) -> 62458 | H15: =+F15*G15 -> 26232.36
E16: =IF($A16=0,0,VLOOKUP($A16,[1]INS!$A$2:$E$110,2,FALSE)) -> 0 | F16: 0.1 | G16: =IF($A16=0,0,_xlfn.XLOOKUP($A16,[1]!INS[DESCRIPCIÓN],[1]!INS[PROMEDIO])) -> 0 | H16: =+F16*G16 -> 0
E17: =IF($A17=0,0,VLOOKUP($A17,[1]INS!$A$2:$E$110,2,FALSE)) -> 0 | G17: =IF($A17=0,0,_xlfn.XLOOKUP($A17,[1]!INS[DESCRIPCIÓN],[1]!INS[PROMEDIO])) -> 0 | H17: =+F17*G17 -> 0
E18: =IF($A18=0,0,VLOOKUP($A18,[1]INS!$A$2:$E$110,2,FALSE)) -> 0 | G18: =IF($A18=0,0,_xlfn.XLOOKUP($A18,[1]!INS[DESCRIPCIÓN],[1]!INS[PROMEDIO])) -> 0 | H18: =+F18*G18 -> 0
E19: =IF($A19=0,0,VLOOKUP($A19,[1]INS!$A$2:$E$110,2,FALSE)) -> 0 | G19: =IF($A19=0,0,VLOOKUP($A19,[1]INS!$A$2:$G$110,6,FALSE)) -> 0 | H19: =+F19*G19 -> 0
E20: =IF($A20=0,0,VLOOKUP($A20,[1]INS!$A$2:$E$110,2,FALSE)) -> 0 | G20: =IF($A20=0,0,VLOOKUP($A20,[1]INS!$A$2:$G$110,6,FALSE)) -> 0 | H20: =+F20*G20 -> 0
E21: =IF($A21=0,0,VLOOKUP($A21,[1]INS!$A$2:$E$110,2,FALSE)) -> 0 | G21: =IF($A21=0,0,VLOOKUP($A21,[1]INS!$A$2:$G$110,6,FALSE)) -> 0 | H21: =+F21*G21 -> 0
A22: Herramienta menor | E22: %M.O | F22: 0.1 | G22: =H46 -> 25593.75 | H22: =F22*G22 -> 2559.375
G23: SUBTOTAL | H23: =SUM(H15:H22) -> 28791.735
A25: II. EQUIPO
A26: DESCRIPCION | D26: MARCA | E26: UND | F26: TARIFA/HORA | G26: RENDIMIENTO | H26: V. PARCIAL
A27: ANDAMIO CON TABLON (2 CUERPOS) | F27: =IF($A27=0,0,_xlfn.XLOOKUP($A27,[1]!EQUI[DESCRIPCIÓN],[1]!EQUI[VALOR])) -> 10000 | G27: =IF($A27=0,0,_xlfn.XLOOKUP($A27,[1]!EQUI[DESCRIPCIÓN],[1]!EQUI[RENDIMIENTO])) -> 0.1 | H27: =F27*G27 -> 1000
F28: =IF($A28=0,0,VLOOKUP($A28,[1]EQUI!$A$2:$E$6,3,FALSE)) -> 0 | G28: =+IF($A28=0,0,VLOOKUP($A28,[1]EQUI!$A$2:$E$6,5,FALSE)) -> 0 | H28: =F28*G28 -> 0
G31: SUBTOTAL | H31: =SUM(H27:H30) -> 1000
A33: III. TRANSPORTE
A34: MATERIAL | D34: VOL. O PESO (EXP) | E34: DISTANCIA (KM) | F34: CANT | G34: TARIFA | H34: V. PARCIAL
D35: =IF($A$35=0,0,VLOOKUP($A$35,[1]TRANS!$A$2:$F$38,5,FALSE)) -> 0 | E35: =IF($A$35=0,0,VLOOKUP($A$35,[1]TRANS!$A$2:$D$39,3,FALSE)) -> 0 | G35: =IF($A$35=0,0,VLOOKUP($A$35,[1]TRANS!$A$2:$D$38,4,FALSE)) -> 0 | H35: =+E35*F35*G35*D35 -> 0
G39: SUBTOTAL | H39: =SUM(H35:H38) -> 0
A41: IV. MANO DE OBRA
A42: DESCRIPCION | D42: V. HORA +PRESTACIONES | E42: CANTIDAD | F42: JORNAL TOTAL | G42: RENDIMIENTO HH | H42: V. PARCIAL
A43: OFICIAL A. | D43: =[1]MO!F31/8 -> 24791.667 | E43: 1 | F43: =D43*E43 -> 24791.667 | G43: =+IF(AND($E$43=1,$E$44=1),_xlfn.XLOOKUP($D$10,[1]!REND[DESCRIPCIÓN],[1]!REND[RENDIMIENTO (1)]),IF(AND($E$43=1,$E$44=2),_xlfn.XLOOKUP($D$10,[1]!REND[DESCRIPCIÓN],[1]!REND[RENDIMIENTO (2)]),IF(AND($E$43=1,$E$44=3),_xlfn.XLOOKUP($D$10,[1]!REND[DESCRIPCIÓN],[1]!REND[RENDIMIENTO (3)]),IF(AND($E$43=1,$E$44=4),_xlfn.XLOOKUP($D$10,[1]!REND[DESCRIPCIÓN],[1]!REND[RENDIMIENTO (4)]),0)))) -> 0.65 | H43: =F43*G43 -> 16114.583
A44: AYUDANTE A. | D44: =[1]MO!F14/8 -> 14583.333 | E44: 1 | F44: =D44*E44 -> 14583.333 | G44: =+IF(AND($E$43=1,$E$44=1),_xlfn.XLOOKUP($D$10,[1]!REND[DESCRIPCIÓN],[1]!REND[RENDIMIENTO (1)]),IF(AND($E$43=1,$E$44=2),_xlfn.XLOOKUP($D$10,[1]!REND[DESCRIPCIÓN],[1]!REND[RENDIMIENTO (2)]),IF(AND($E$43=1,$E$44=3),_xlfn.XLOOKUP($D$10,[1]!REND[DESCRIPCIÓN],[1]!REND[RENDIMIENTO (3)]),IF(AND($E$43=1,$E$44=4),_xlfn.XLOOKUP($D$10,[1]!REND[DESCRIPCIÓN],[1]!REND[RENDIMIENTO (4)]),0)))) -> 0.65 | H44: =F44*G44 -> 9479.1667
H45: =F45*G45 -> 0
G46: SUBTOTAL | H46: =SUM(H43:H45) -> 25593.75
A48: VALOR TOTAL | H48: =ROUND(H23+H31+H39+H46,0) -> 55385
A54: VoBo ARQ. LINA MARITZA BOCANEGRA QUINTERO | F54: ING. MIGUEL ANDRES CAPERA HERNANDEZ
A55: Secretaria de Planeación e Infraestructura | F55: Proyectó y elaboró

Sheet PTA-011
A1: ANALISIS DE PRECIOS UNITARIOS
A3: SECRETARIA DE PLANEACIÓN E INFRAESTRUCTURA
A4: ALCALDÍA MUNICIPAL DE RIOBLANCO - TOLIMA
A6: OBJETO: | B6: =+PTO!D3 -> MEJORAMIENTO DE LAS IET GENERAL SANTANDER SEDE PRINCIPAL Y FRANCISCO JULIAN OLAYA SEDE PRINCIPAL DEL MUNICIPIO DE RIOBLANCO TOLIMA
A9: ITEM | D9: =+_xlfn.XLOOKUP(D10,PTO!$D$4:$D$22,PTO!$C$4:$C$22) -> #N/A | E9: UNIDAD | F9: =+_xlfn.XLOOKUP($D$10,LIST[DESCRIPCIÓN],LIST[UNIDAD]) -> M2 | G9: CANTIDAD | H9: 1
A10: DESCRIPCION | D10: PINTURA TIPO 1 EXTERIOR 100% ACRILICA, DOS MANOS
A13: I. MATERIALES
A14: DESCRIPCION | E14: UND | F14: CANT | G14: V. UNITARIO | H14: V. PARCIAL
A15: PINTURA TIPO 1 EXTERIOR SUPER ACRILICA PROTECCION SOL Y LLUVIA ANTI-HONGOS | E15: =IF($A15=0,0,VLOOKUP($A15,[1]INS!$A$2:$E$110,2,FALSE)) -> GLN | F15: =1/20 -> 0.05 | G15: =IF($A15=0,0,_xlfn.XLOOKUP($A15,INS[DESCRIPCIÓN],INS[PROMEDIO])) -> 140667 | H15: =+F15*G15 -> 7033.35
A16: RODILLO DE FELPA 9" | E16: =IF($A16=0,0,VLOOKUP($A16,[1]INS!$A$2:$E$110,2,FALSE)) -> UND | F16: 0.1 | G16: =IF($A16=0,0,_xlfn.XLOOKUP($A16,INS[DESCRIPCIÓN],INS[PROMEDIO])) -> 17900 | H16: =+F16*G16 -> 1790
E17: =IF($A17=0,0,VLOOKUP($A17,[1]INS!$A$2:$E$110,2,FALSE)) -> 0 | G17: =IF($A17=0,0,_xlfn.XLOOKUP($A17,[1]!INS[DESCRIPCIÓN],[1]!INS[PROMEDIO])) -> 0 | H17: =+F17*G17 -> 0
E18: =IF($A18=0,0,VLOOKUP($A18,[1]INS!$A$2:$E$110,2,FALSE)) -> 0 | G18: =IF($A18=0,0,_xlfn.XLOOKUP($A18,[1]!INS[DESCRIPCIÓN],[1]!INS[PROMEDIO])) -> 0 | H18: =+F18*G18 -> 0
E19: =IF($A19=0,0,VLOOKUP($A19,[1]INS!$A$2:$E$110,2,FALSE)) -> 0 | G19: =IF($A19=0,0,VLOOKUP($A19,[1]INS!$A$2:$G$110,6,FALSE)) -> 0 | H19: =+F19*G19 -> 0
E20: =IF($A20=0,0,VLOOKUP($A20,[1]INS!$A$2:$E$110,2,FALSE)) -> 0 | G20: =IF($A20=0,0,VLOOKUP($A20,[1]INS!$A$2:$G$110,6,FALSE)) -> 0 | H20: =+F20*G20 -> 0
E21: =IF($A21=0,0,VLOOKUP($A21,[1]INS!$A$2:$E$110,2,FALSE)) -> 0 | G21: =IF($A21=0,0,VLOOKUP($A21,[1]INS!$A$2:$G$110,6,FALSE)) -> 0 | H21: =+F21*G21 -> 0
A22: Herramienta menor | E22: %M.O | F22: 0.05 | G22: =H46 -> 11812.5 | H22: =F22*G22 -> 590.625
G23: SUBTOTAL | H23: =SUM(H15:H22) -> 9413.975
A25: II. EQUIPO
A26: DESCRIPCION | D26: MARCA | E26: UND | F26: TARIFA/HORA | G26: RENDIMIENTO | H26: V. PARCIAL
A27: ANDAMIO CON TABLON (2 CUERPOS) | F27: =IF($A27=0,0,_xlfn.XLOOKUP($A27,[1]!EQUI[DESCRIPCIÓN],[1]!EQUI[VALOR])) -> 10000 | G27: =IF($A27=0,0,_xlfn.XLOOKUP($A27,[1]!EQUI[DESCRIPCIÓN],[1]!EQUI[RENDIMIENTO])) -> 0.1 | H27: =F27*G27 -> 1000
F28: =IF($A28=0,0,VLOOKUP($A28,[1]EQUI!$A$2:$E$6,3,FALSE)) -> 0 | G28: =+IF($A28=0,0,VLOOKUP($A28,[1]EQUI!$A$2:$E$6,5,FALSE)) -> 0 | H28: =F28*G28 -> 0
G31: SUBTOTAL | H31: =SUM(H27:H30) -> 1000
A33: III. TRANSPORTE
A34: MATERIAL | D34: VOL. O PESO (EXP) | E34: DISTANCIA (KM) | F34: CANT | G34: TARIFA | H34: V. PARCIAL
D35: =IF($A$35=0,0,VLOOKUP($A$35,[1]TRANS!$A$2:$F$38,5,FALSE)) -> 0 | E35: =IF($A$35=0,0,VLOOKUP($A$35,[1]TRANS!$A$2:$D$39,3,FALSE)) -> 0 | G35: =IF($A$35=0,0,VLOOKUP($A$35,[1]TRANS!$A$2:$D$38,4,FALSE)) -> 0 | H35: =+E35*F35*G35*D35 -> 0
G39: SUBTOTAL | H39: =SUM(H35:H38) -> 0
A41: IV. MANO DE OBRA
A42: DESCRIPCION | D42: V. HORA +PRESTACIONES | E42: CANTIDAD | F42: JORNAL TOTAL | G42: RENDIMIENTO HH | H42: V. PARCIAL
A43: OFICIAL A. | D43: =[1]MO!F31/8 -> 24791.667 | E43: 1 | F43: =D43*E43 -> 24791.667 | G43: =+IF(AND($E$43=1,$E$44=1),_xlfn.XLOOKUP($D$10,[1]!REND[DESCRIPCIÓN],[1]!REND[RENDIMIENTO (1)]),IF(AND($E$43=1,$E$44=2),_xlfn.XLOOKUP($D$10,[1]!REND[DESCRIPCIÓN],[1]!REND[RENDIMIENTO (2)]),IF(AND($E$43=1,$E$44=3),_xlfn.XLOOKUP($D$10,[1]!REND[DESCRIPCIÓN],[1]!REND[RENDIMIENTO (3)]),IF(AND($E$43=1,$E$44=4),_xlfn.XLOOKUP($D$10,[1]!REND[DESCRIPCIÓN],[1]!REND[RENDIMIENTO (4)]),0)))) -> 0.3 | H43: =F43*G43 -> 7437.5
A44: AYUDANTE A. | D44: =[1]MO!F14/8 -> 14583.333 | E44: 1 | F44: =D44*E44 -> 14583.333 | G44: =+IF(AND($E$43=1,$E$44=1),_xlfn.XLOOKUP($D$10,[1]!REND[DESCRIPCIÓN],[1]!REND[RENDIMIENTO (1)]),IF(AND($E$43=1,$E$44=2),_xlfn.XLOOKUP($D$10,[1]!REND[DESCRIPCIÓN],[1]!REND[RENDIMIENTO (2)]),IF(AND($E$43=1,$E$44=3),_xlfn.XLOOKUP($D$10,[1]!REND[DESCRIPCIÓN],[1]!REND[RENDIMIENTO (3)]),IF(AND($E$43=1,$E$44=4),_xlfn.XLOOKUP($D$10,[1]!REND[DESCRIPCIÓN],[1]!REND[RENDIMIENTO (4)]),0)))) -> 0.3 | H44: =F44*G44 -> 4375
H45: =F45*G45 -> 0
G46: SUBTOTAL | H46: =SUM(H43:H45) -> 11812.5
A48: VALOR TOTAL | H48: =ROUND(H23+H31+H39+H46,0) -> 22226
A54: VoBo ARQ. LINA MARITZA BOCANEGRA QUINTERO | F54: ING. MIGUEL ANDRES CAPERA HERNANDEZ
A55: Secretaria de Planeación e Infraestructura | F55: Proyectó y elaboró

Sheet PTA-010
A1: ANALISIS DE PRECIOS UNITARIOS
A3: SECRETARIA DE PLANEACIÓN E INFRAESTRUCTURA
A4: ALCALDÍA MUNICIPAL DE RIOBLANCO - TOLIMA
A6: OBJETO: | B6: =+PTO!D3 -> MEJORAMIENTO DE LAS IET GENERAL SANTANDER SEDE PRINCIPAL Y FRANCISCO JULIAN OLAYA SEDE PRINCIPAL DEL MUNICIPIO DE RIOBLANCO TOLIMA
A9: ITEM | D9: =+_xlfn.XLOOKUP(D10,PTO!$D$4:$D$22,PTO!$C$4:$C$22) -> #N/A | E9: UNIDAD | F9: =+VLOOKUP($D$10,LIST!B3:C61,2,FALSE) -> M2 | G9: CANTIDAD | H9: 1
A10: DESCRIPCION | D10: RESANE EN ESTUCO ACRILICO 100%
A13: I. MATERIALES
A14: DESCRIPCION | E14: UND | F14: CANT | G14: V. UNITARIO | H14: V. PARCIAL
A15: ESTUCO PLASTICO INTERIOR Y EXTERIOR | E15: =IF($A15=0,0,VLOOKUP($A15,INS!$A$2:$E$106,2,FALSE)) -> 5 GLN | F15: =(1/4)/5 -> 0.05 | G15: =IF($A15=0,0,_xlfn.XLOOKUP($A15,INS[DESCRIPCIÓN],INS[PROMEDIO])) -> 120000 | H15: =+F15*G15 -> 6000
A16: ESPATULA 3" | E16: =IF($A16=0,0,VLOOKUP($A16,INS!$A$2:$E$106,2,FALSE)) -> UND | F16: 0.08 | G16: =IF($A16=0,0,_xlfn.XLOOKUP($A16,INS[DESCRIPCIÓN],INS[PROMEDIO])) -> 13500 | H16: =+F16*G16 -> 1080
E17: =IF($A17=0,0,VLOOKUP($A17,[1]INS!$A$2:$E$110,2,FALSE)) -> 0 | G17: =IF($A17=0,0,_xlfn.XLOOKUP($A17,[1]!INS[DESCRIPCIÓN],[1]!INS[PROMEDIO])) -> 0 | H17: =+F17*G17 -> 0
E18: =IF($A18=0,0,VLOOKUP($A18,[1]INS!$A$2:$E$110,2,FALSE)) -> 0 | G18: =IF($A18=0,0,_xlfn.XLOOKUP($A18,[1]!INS[DESCRIPCIÓN],[1]!INS[PROMEDIO])) -> 0 | H18: =+F18*G18 -> 0
E19: =IF($A19=0,0,VLOOKUP($A19,[1]INS!$A$2:$E$110,2,FALSE)) -> 0 | G19: =IF($A19=0,0,VLOOKUP($A19,[1]INS!$A$2:$G$110,6,FALSE)) -> 0 | H19: =+F19*G19 -> 0
E20: =IF($A20=0,0,VLOOKUP($A20,[1]INS!$A$2:$E$110,2,FALSE)) -> 0 | G20: =IF($A20=0,0,VLOOKUP($A20,[1]INS!$A$2:$G$110,6,FALSE)) -> 0 | H20: =+F20*G20 -> 0
E21: =IF($A21=0,0,VLOOKUP($A21,[1]INS!$A$2:$E$110,2,FALSE)) -> 0 | G21: =IF($A21=0,0,VLOOKUP($A21,[1]INS!$A$2:$G$110,6,FALSE)) -> 0 | H21: =+F21*G21 -> 0
A22: Herramienta menor | E22: %M.O | F22: 0.05 | G22: =H46 -> 11025 | H22: =F22*G22 -> 551.25
G23: SUBTOTAL | H23: =SUM(H15:H22) -> 7631.25
A25: II. EQUIPO
A26: DESCRIPCION | D26: MARCA | E26: UND | F26: TARIFA/HORA | G26: RENDIMIENTO | H26: V. PARCIAL
F27: =IF($A27=0,0,VLOOKUP($A27,EQUI!$A$2:$E$6,3,FALSE)) -> 0 | G27: =+IF($A27=0,0,VLOOKUP($A27,EQUI!$A$2:$E$6,5,FALSE)) -> 0 | H27: =F27*G27 -> 0
F28: =IF($A28=0,0,VLOOKUP($A28,EQUI!$A$2:$E$6,3,FALSE)) -> 0 | G28: =+IF($A28=0,0,VLOOKUP($A28,EQUI!$A$2:$E$6,5,FALSE)) -> 0 | H28: =F28*G28 -> 0
G31: SUBTOTAL | H31: =SUM(H27:H30) -> 0
A33: III. TRANSPORTE
A34: MATERIAL | D34: VOL. O PESO (EXP) | E34: DISTANCIA (KM) | F34: CANT | G34: TARIFA | H34: V. PARCIAL
D35: =IF($A$35=0,0,VLOOKUP($A$35,[1]TRANS!$A$2:$F$38,5,FALSE)) -> 0 | E35: =IF($A$35=0,0,VLOOKUP($A$35,TRANS!$A$2:$D$39,3,FALSE)) -> 0 | G35: =IF($A$35=0,0,VLOOKUP($A$35,TRANS!$A$2:$D$38,4,FALSE)) -> 0 | H35: =+E35*F35*G35*D35 -> 0
G39: SUBTOTAL | H39: =SUM(H35:H38) -> 0
A41: IV. MANO DE OBRA
A42: DESCRIPCION | D42: V. HORA +PRESTACIONES | E42: CANTIDAD | F42: JORNAL TOTAL | G42: RENDIMIENTO HH | H42: V. PARCIAL
A43: OFICIAL A. | D43: =[1]MO!F31/8 -> 24791.667 | E43: 1 | F43: =D43*E43 -> 24791.667 | G43: =+IF(AND($E$43=1,$E$44=1),_xlfn.XLOOKUP($D$10,REND[DESCRIPCIÓN],REND[RENDIMIENTO (1)]),IF(AND($E$43=1,$E$44=2),_xlfn.XLOOKUP($D$10,REND[DESCRIPCIÓN],REND[RENDIMIENTO (2)]),IF(AND($E$43=1,$E$44=3),_xlfn.XLOOKUP($D$10,REND[DESCRIPCIÓN],REND[RENDIMIENTO (3)]),IF(AND($E$43=1,$E$44=4),_xlfn.XLOOKUP($D$10,REND[DESCRIPCIÓN],REND[RENDIMIENTO (4)]),0)))) -> 0.28 | H43: =F43*G43 -> 6941.6667
A44: AYUDANTE A. | D44: =[1]MO!F14/8 -> 14583.333 | E44: 1 | F44: =D44*E44 -> 14583.333 | G44: =+IF(AND($E$43=1,$E$44=1),_xlfn.XLOOKUP($D$10,REND[DESCRIPCIÓN],REND[RENDIMIENTO (1)]),IF(AND($E$43=1,$E$44=2),_xlfn.XLOOKUP($D$10,REND[DESCRIPCIÓN],REND[RENDIMIENTO (2)]),IF(AND($E$43=1,$E$44=3),_xlfn.XLOOKUP($D$10,REND[DESCRIPCIÓN],REND[RENDIMIENTO (3)]),IF(AND($E$43=1,$E$44=4),_xlfn.XLOOKUP($D$10,REND[DESCRIPCIÓN],REND[RENDIMIENTO (4)]),0)))) -> 0.28 | H44: =F44*G44 -> 4083.3333
H45: =F45*G45 -> 0
G46: SUBTOTAL | H46: =SUM(H43:H45) -> 11025
A48: VALOR TOTAL | H48: =ROUND(H23+H31+H39+H46,0) -> 18656
A54: VoBo ARQ. LINA MARITZA BOCANEGRA QUINTERO | F54: ING. MIGUEL ANDRES CAPERA HERNANDEZ
A55: Secretaria de Planeación e Infraestructura | F55: Proyectó y elaboró

Sheet PTA-009
A1: ANALISIS DE PRECIOS UNITARIOS
A3: SECRETARIA DE PLANEACIÓN E INFRAESTRUCTURA
A4: ALCALDÍA MUNICIPAL DE RIOBLANCO - TOLIMA
A6: OBJETO: | B6: =+PTO!D3 -> MEJORAMIENTO DE LAS IET GENERAL SANTANDER SEDE PRINCIPAL Y FRANCISCO JULIAN OLAYA SEDE PRINCIPAL DEL MUNICIPIO DE RIOBLANCO TOLIMA
A9: ITEM | D9: =+_xlfn.XLOOKUP(D10,PTO!$D$4:$D$22,PTO!$C$4:$C$22) -> #N/A | E9: UNIDAD | F9: =+VLOOKUP($D$10,LIST!B3:C61,2,FALSE) -> M2 | G9: CANTIDAD | H9: 1
A10: DESCRIPCION | D10: PINTURA TIPO 1 INTERIOR, DOS MANOS
A13: I. MATERIALES
A14: DESCRIPCION | E14: UND | F14: CANT | G14: V. UNITARIO | H14: V. PARCIAL
A15: PINTURA TIPO 1 X 5 GLN | E15: =IF($A15=0,0,VLOOKUP($A15,INS!$A$2:$E$106,2,FALSE)) -> 5 GLN | F15: =1/(5*20) -> 0.01 | G15: =IF($A15=0,0,_xlfn.XLOOKUP($A15,INS[DESCRIPCIÓN],INS[PROMEDIO])) -> 300000 | H15: =+F15*G15 -> 3000
A16: RODILLO DE FELPA 9" | E16: =IF($A16=0,0,VLOOKUP($A16,INS!$A$2:$E$106,2,FALSE)) -> UND | F16: 0.1 | G16: =IF($A16=0,0,_xlfn.XLOOKUP($A16,INS[DESCRIPCIÓN],INS[PROMEDIO])) -> 17900 | H16: =+F16*G16 -> 1790
E17: =IF($A17=0,0,VLOOKUP($A17,[1]INS!$A$2:$E$110,2,FALSE)) -> 0 | G17: =IF($A17=0,0,_xlfn.XLOOKUP($A17,[1]!INS[DESCRIPCIÓN],[1]!INS[PROMEDIO])) -> 0 | H17: =+F17*G17 -> 0
E18: =IF($A18=0,0,VLOOKUP($A18,[1]INS!$A$2:$E$110,2,FALSE)) -> 0 | G18: =IF($A18=0,0,_xlfn.XLOOKUP($A18,[1]!INS[DESCRIPCIÓN],[1]!INS[PROMEDIO])) -> 0 | H18: =+F18*G18 -> 0
E19: =IF($A19=0,0,VLOOKUP($A19,[1]INS!$A$2:$E$110,2,FALSE)) -> 0 | G19: =IF($A19=0,0,VLOOKUP($A19,[1]INS!$A$2:$G$110,6,FALSE)) -> 0 | H19: =+F19*G19 -> 0
E20: =IF($A20=0,0,VLOOKUP($A20,[1]INS!$A$2:$E$110,2,FALSE)) -> 0 | G20: =IF($A20=0,0,VLOOKUP($A20,[1]INS!$A$2:$G$110,6,FALSE)) -> 0 | H20: =+F20*G20 -> 0
E21: =IF($A21=0,0,VLOOKUP($A21,[1]INS!$A$2:$E$110,2,FALSE)) -> 0 | G21: =IF($A21=0,0,VLOOKUP($A21,[1]INS!$A$2:$G$110,6,FALSE)) -> 0 | H21: =+F21*G21 -> 0
A22: Herramienta menor | E22: %M.O | F22: 0.05 | G22: =H46 -> 9843.75 | H22: =F22*G22 -> 492.1875
G23: SUBTOTAL | H23: =SUM(H15:H22) -> 5282.1875
A25: II. EQUIPO
A26: DESCRIPCION | D26: MARCA | E26: UND | F26: TARIFA/HORA | G26: RENDIMIENTO | H26: V. PARCIAL
F27: =IF($A27=0,0,VLOOKUP($A27,EQUI!$A$2:$E$6,3,FALSE)) -> 0 | G27: =+IF($A27=0,0,VLOOKUP($A27,EQUI!$A$2:$E$6,5,FALSE)) -> 0 | H27: =F27*G27 -> 0
F28: =IF($A28=0,0,VLOOKUP($A28,EQUI!$A$2:$E$6,3,FALSE)) -> 0 | G28: =+IF($A28=0,0,VLOOKUP($A28,EQUI!$A$2:$E$6,5,FALSE)) -> 0 | H28: =F28*G28 -> 0
G31: SUBTOTAL | H31: =SUM(H27:H30) -> 0
A33: III. TRANSPORTE
A34: MATERIAL | D34: VOL. O PESO (EXP) | E34: DISTANCIA (KM) | F34: CANT | G34: TARIFA | H34: V. PARCIAL
D35: =IF($A$35=0,0,VLOOKUP($A$35,TRANS!$A$2:$F$38,5,FALSE)) -> 0 | E35: =IF($A$35=0,0,VLOOKUP($A$35,TRANS!$A$2:$D$39,3,FALSE)) -> 0 | G35: =IF($A$35=0,0,VLOOKUP($A$35,TRANS!$A$2:$D$38,4,FALSE)) -> 0 | H35: =+E35*F35*G35*D35 -> 0
G39: SUBTOTAL | H39: =SUM(H35:H38) -> 0
A41: IV. MANO DE OBRA
A42: DESCRIPCION | D42: V. HORA +PRESTACIONES | E42: CANTIDAD | F42: JORNAL TOTAL | G42: RENDIMIENTO HH | H42: V. PARCIAL
A43: OFICIAL A. | D43: =MO!F31/8 -> 24791.667 | E43: 1 | F43: =D43*E43 -> 24791.667 | G43: =+IF(AND($E$43=1,$E$44=1),_xlfn.XLOOKUP($D$10,REND[DESCRIPCIÓN],REND[RENDIMIENTO (1)]),IF(AND($E$43=1,$E$44=2),_xlfn.XLOOKUP($D$10,REND[DESCRIPCIÓN],REND[RENDIMIENTO (2)]),IF(AND($E$43=1,$E$44=3),_xlfn.XLOOKUP($D$10,REND[DESCRIPCIÓN],REND[RENDIMIENTO (3)]),IF(AND($E$43=1,$E$44=4),_xlfn.XLOOKUP($D$10,REND[DESCRIPCIÓN],REND[RENDIMIENTO (4)]),0)))) -> 0.25 | H43: =F43*G43 -> 6197.9167
A44: AYUDANTE A. | D44: =MO!F14/8 -> 14583.333 | E44: 1 | F44: =D44*E44 -> 14583.333 | G44: =+IF(AND($E$43=1,$E$44=1),_xlfn.XLOOKUP($D$10,REND[DESCRIPCIÓN],REND[RENDIMIENTO (1)]),IF(AND($E$43=1,$E$44=2),_xlfn.XLOOKUP($D$10,REND[DESCRIPCIÓN],REND[RENDIMIENTO (2)]),IF(AND($E$43=1,$E$44=3),_xlfn.XLOOKUP($D$10,REND[DESCRIPCIÓN],REND[RENDIMIENTO (3)]),IF(AND($E$43=1,$E$44=4),_xlfn.XLOOKUP($D$10,REND[DESCRIPCIÓN],REND[RENDIMIENTO (4)]),0)))) -> 0.25 | H44: =F44*G44 -> 3645.8333
H45: =F45*G45 -> 0
G46: SUBTOTAL | H46: =SUM(H43:H45) -> 9843.75
A48: VALOR TOTAL | H48: =ROUND(H23+H31+H39+H46,0) -> 15126
A54: VoBo ARQ. LINA MARITZA BOCANEGRA QUINTERO | F54: ING. MIGUEL ANDRES CAPERA HERNANDEZ
A55: Secretaria de Planeación e Infraestructura | F55: Proyectó y elaboró

Sheet PTA-008
A1: ANALISIS DE PRECIOS UNITARIOS
A3: SECRETARIA DE PLANEACIÓN E INFRAESTRUCTURA
A4: ALCALDÍA MUNICIPAL DE RIOBLANCO - TOLIMA
A6: OBJETO: | B6: =+PTO!D3 -> MEJORAMIENTO DE LAS IET GENERAL SANTANDER SEDE PRINCIPAL Y FRANCISCO JULIAN OLAYA SEDE PRINCIPAL DEL MUNICIPIO DE RIOBLANCO TOLIMA
A9: ITEM | D9: =+_xlfn.XLOOKUP(D10,PTO!$D$4:$D$22,PTO!$C$4:$C$22) -> #N/A | E9: UNIDAD | F9: =+VLOOKUP($D$10,[1]LIST!B3:C69,2,FALSE) -> M2 | G9: CANTIDAD | H9: 1
A10: DESCRIPCION | D10: ENCHAPE EN GRES ROJO
A13: I. MATERIALES
A14: DESCRIPCION | E14: UND | F14: CANT | G14: V. UNITARIO | H14: V. PARCIAL
A15: CERAMICA GRES 20X20 CALIDAD 1 | E15: =IF($A15=0,0,VLOOKUP($A15,INS!$A$2:$E$106,2,FALSE)) -> M2 | F15: 1 | G15: =IF($A15=0,0,_xlfn.XLOOKUP($A15,INS[DESCRIPCIÓN],INS[PROMEDIO])) -> 70000 | H15: =+F15*G15 -> 70000
A16: PEGANTE PARA CERÁMICA X25 KG | E16: =IF($A16=0,0,VLOOKUP($A16,INS!$A$2:$E$106,2,FALSE)) -> UND | F16: 0.25 | G16: =IF($A16=0,0,_xlfn.XLOOKUP($A16,INS[DESCRIPCIÓN],INS[PROMEDIO])) -> 35000 | H16: =+F16*G16 -> 8750
A17: CEMENTO 50 KG | E17: =IF($A17=0,0,VLOOKUP($A17,INS!$A$2:$E$106,2,FALSE)) -> BLT | F17: 0.2 | G17: =IF($A17=0,0,_xlfn.XLOOKUP($A17,INS[DESCRIPCIÓN],INS[PROMEDIO])) -> 37000 | H17: =+F17*G17 -> 7400
A18: ARENA | E18: =IF($A18=0,0,VLOOKUP($A18,INS!$A$2:$E$106,2,FALSE)) -> M3 | F18: 0.03 | G18: =IF($A18=0,0,_xlfn.XLOOKUP($A18,INS[DESCRIPCIÓN],INS[PROMEDIO])) -> 71813 | H18: =+F18*G18 -> 2154.39
E19: =IF($A19=0,0,VLOOKUP($A19,[1]INS!$A$2:$E$110,2,FALSE)) -> 0 | G19: =IF($A19=0,0,VLOOKUP($A19,[1]INS!$A$2:$G$110,6,FALSE)) -> 0 | H19: =+F19*G19 -> 0
E20: =IF($A20=0,0,VLOOKUP($A20,[1]INS!$A$2:$E$110,2,FALSE)) -> 0 | G20: =IF($A20=0,0,VLOOKUP($A20,[1]INS!$A$2:$G$110,6,FALSE)) -> 0 | H20: =+F20*G20 -> 0
E21: =IF($A21=0,0,VLOOKUP($A21,[1]INS!$A$2:$E$110,2,FALSE)) -> 0 | G21: =IF($A21=0,0,VLOOKUP($A21,[1]INS!$A$2:$G$110,6,FALSE)) -> 0 | H21: =+F21*G21 -> 0
A22: Herramienta menor | E22: %M.O | F22: 0.05 | G22: =H46 -> 39375 | H22: =F22*G22 -> 1968.75
G23: SUBTOTAL | H23: =SUM(H15:H22) -> 90273.14
A25: II. EQUIPO
A26: DESCRIPCION | D26: MARCA | E26: UND | F26: TARIFA/HORA | G26: RENDIMIENTO | H26: V. PARCIAL
F27: =IF($A27=0,0,VLOOKUP($A27,EQUI!$A$2:$E$6,3,FALSE)) -> 0 | G27: =+IF($A27=0,0,VLOOKUP($A27,EQUI!$A$2:$E$6,5,FALSE)) -> 0 | H27: =F27*G27 -> 0
H28: =F28*G28 -> 0
G31: SUBTOTAL | H31: =SUM(H27:H30) -> 0
A33: III. TRANSPORTE
A34: MATERIAL | D34: VOL. O PESO (EXP) | E34: DISTANCIA (KM) | F34: CANT | G34: TARIFA | H34: V. PARCIAL
D35: =IF($A$35=0,0,VLOOKUP($A$35,[1]TRANS!$A$2:$F$38,5,FALSE)) -> 0 | E35: =IF($A$35=0,0,VLOOKUP($A$35,TRANS!$A$2:$D$39,3,FALSE)) -> 0 | F35: =+F15 -> 1 | G35: =IF($A$35=0,0,VLOOKUP($A$35,TRANS!$A$2:$D$38,4,FALSE)) -> 0 | H35: =+E35*F35*G35*D35 -> 0
G39: SUBTOTAL | H39: =SUM(H35:H38) -> 0
A41: IV. MANO DE OBRA
A42: DESCRIPCION | D42: V. HORA +PRESTACIONES | E42: CANTIDAD | F42: JORNAL TOTAL | G42: RENDIMIENTO HH | H42: V. PARCIAL
A43: OFICIAL A. | D43: =[1]MO!F31/8 -> 24791.667 | E43: 1 | F43: =D43*E43 -> 24791.667 | G43: =+IF(AND($E$43=1,$E$44=1),_xlfn.XLOOKUP($D$10,REND[DESCRIPCIÓN],REND[RENDIMIENTO (1)]),IF(AND($E$43=1,$E$44=2),_xlfn.XLOOKUP($D$10,REND[DESCRIPCIÓN],REND[RENDIMIENTO (2)]),IF(AND($E$43=1,$E$44=3),_xlfn.XLOOKUP($D$10,REND[DESCRIPCIÓN],REND[RENDIMIENTO (3)]),IF(AND($E$43=1,$E$44=4),_xlfn.XLOOKUP($D$10,REND[DESCRIPCIÓN],REND[RENDIMIENTO (4)]),0)))) -> 1 | H43: =F43*G43 -> 24791.667
A44: AYUDANTE A. | D44: =[1]MO!F14/8 -> 14583.333 | E44: 1 | F44: =D44*E44 -> 14583.333 | G44: =+IF(AND($E$43=1,$E$44=1),_xlfn.XLOOKUP($D$10,REND[DESCRIPCIÓN],REND[RENDIMIENTO (1)]),IF(AND($E$43=1,$E$44=2),_xlfn.XLOOKUP($D$10,REND[DESCRIPCIÓN],REND[RENDIMIENTO (2)]),IF(AND($E$43=1,$E$44=3),_xlfn.XLOOKUP($D$10,REND[DESCRIPCIÓN],REND[RENDIMIENTO (3)]),IF(AND($E$43=1,$E$44=4),_xlfn.XLOOKUP($D$10,REND[DESCRIPCIÓN],REND[RENDIMIENTO (4)]),0)))) -> 1 | H44: =F44*G44 -> 14583.333
H45: =F45*G45 -> 0
G46: SUBTOTAL | H46: =SUM(H43:H45) -> 39375
A48: VALOR TOTAL | H48: =ROUND(H23+H31+H39+H46,0) -> 129648
A54: VoBo ARQ. LINA MARITZA BOCANEGRA QUINTERO | F54: ING. MIGUEL ANDRES CAPERA HERNANDEZ
A55: Secretaria de Planeación e Infraestructura | F55: Proyectó y elaboró

Sheet AIU
A7: DESGLOSE DEL A.I.U.
A8: Cálculo pormenorizado del factor Administración, Imprevistos y Utilidades. AIU | L8: =+L10*0.2 -> 0
A10: No | B10: DESCRIPCIÓN | G10: PORCENTAJES % Y CANTIDADES ESTIMADAS | H10: UNIDAD | I10: PORCENTAJE % Y CANTIDAD REAL | L10: =+K10/1.28 -> 0
I11: C. DIRECTO | J11: =+PTO!H42 -> 37706775 | O11: =J11*0.26 -> 9803761.6
A12: VALOR ADMINISTRACIÓN DE OBRA | K12: 5826620802 | L12: 4482016002 | M12: =+L12*0.3 -> 1.3446048e+09 | N12: =+L12+M12 -> 5.8266208e+09 | O12: 95546871
A13: 1 | B13: PERSONAL DE OBRA (incl. Prestaciones) | C13: DURACION | D13: CANTIDAD | E13: FACTOR PRESTACIONAL | F13: VALOR UNITARIO | G13: DEDICACION | I13: =SUM(I14:I16) -> 0.073407895 | J13: =SUM(J14:J16) -> 2767975 | L13: =SUM(L14:L16) -> 0.011166684
A14: 1.1 | B14: Director de Obra | C14: 1 | D14: 0 | E14: 1.5817 | F14: 4400000 | G14: 0.3 | H14: % | I14: =+J14/$J$11 -> 0 | J14: =F14*E14*G14*C14*D14 -> 0 | K14: 15152528 | L14: =+K14/$L$12 -> 0.0033807393
A15: 1.2 | B15: Residente de Obra | C15: 1 | D15: 1 | E15: =+E14 -> 1.5817 | F15: 3500000 | G15: 0.5 | H15: % | I15: =+J15/$J$11 -> 0.073407895 | J15: =F15*E15*G15*C15*D15 -> 2767975 | K15: 34896730 | L15: =+K15/$L$12 -> 0.007785945
A17: 2 | B17: GASTOS DE LEGALIZACION Y PERFECCIONAMIENTO | G17: =SUM(G18:G27) -> 0.1673 | I17: =SUM(I18:I27) -> 0.1673 | J17: =+SUM(J18:J27) -> 6308343.5 | L17: =+K17/$L$12 -> 0
A18: 2.1 | B18: Póliza de cumplimiento | G18: 0.0015 | H18: % | I18: =J18/$J$11 -> 0.0015 | J18: =G18*$J$11 -> 56560.163 | L18: =+I18*$L$12 -> 6723024
A19: 2.2 | B19: Amparo de salarios y prest. Sociales | G19: 0.0015 | H19: % | I19: =J19/$J$11 -> 0.0015 | J19: =G19*$J$11 -> 56560.163
A20: 2.3 | B20: Estabilidad de obra | G20: 0.0033 | H20: % | I20: =J20/$J$11 -> 0.0033 | J20: =G20*$J$11 -> 124432.36
A21: 2.4 | B21: Responsabilidad civil extracontractual | G21: 0.001 | H21: % | I21: =J21/$J$11 -> 0.001 | J21: =G21*$J$11 -> 37706.775
A22: 2.5 | B22: Estampilla Pro Adulto | G22: 0.04 | H22: % | I22: =J22/$J$11 -> 0.04 | J22: =G22*$J$11 -> 1508271
A23: 2.6 | B23: Estampilla Pro Cultura | G23: 0.02 | H23: % | I23: =J23/$J$11 -> 0.02 | J23: =G23*$J$11 -> 754135.51 | L23: =+I23*$L$12 -> 89640320
A24: 2.7 | B24: Tasa Pro Deporte | G24: 0.02 | H24: % | I24: =J24/$J$11 -> 0.02 | J24: =G24*$J$11 -> 754135.51
A25: 2.8 | B25: Estampilla Justicia Familiar | G25: 0.02 | H25: % | I25: =J25/$J$11 -> 0.02 | J25: =G25*$J$11 -> 754135.51
A26: 2.9 | B26: Fondo de seguridad | G26: 0.05 | H26: % | I26: =J26/$J$11 -> 0.05 | J26: =G26*$J$11 -> 1885338.8
A27: 2.9 | B27: Estampilla de Electrificación rural | G27: 0.01 | H27: % | I27: =J27/$J$11 -> 0.01 | J27: =G27*$J$11 -> 377067.75
A28: 3 | B28: GASTOS DE LEGALIZACION Y PERFECCIONAMIENTO | I28: =SUM(I29:I31) -> 0.0093110614 | J28: =+SUM(J29:J31) -> 351090.1 | L28: =+K28/$L$12 -> 0
A29: 3.1 | B29: Alquiler de oficina | C29: 0 | F29: 800000 | I29: =J29/$J$11 -> 0 | J29: =+F29*C29 -> 0 | L29: =+I29*$L$12 -> 0
A30: 3.2 | B30: Transporte | C30: 0 | F30: 500000 | I30: =J30/$J$11 -> 0 | J30: =+F30*C30 -> 0
A31: 3.3 | B31: Informes y papeleria | C31: 1 | F31: 351090.1 | I31: =J31/$J$11 -> 0.0093110614 | J31: =+F31*C31 -> 351090.1
B32: PORCENTAJE ADMINISTRACION | I32: =I17+I13+I28 -> 0.25001896 | J32: =J13+J17+J28 -> 9427408.6 | L32: =+L12*22/100 -> 9.8604352e+08 | M32: =+J32-L32 -> -9.7661611e+08 | O32: =+PTO!H43 -> 9426693.8
O33: 9428854.6
B34: VALOR IMPREVISTOS | I34: 0.01 | J34: =+I34*J11 -> 377067.75 | L34: =+L12*3/100 -> 1.3446048e+08
B36: VALOR UTILIDAD | I36: 0.04 | J36: =I36*J11 -> 1508271 | L36: =+L12*5/100 -> 2.241008e+08
B38: TOTAL A.I.U. | I38: =+I32+I34+I36 -> 0.30001896 | J38: =+J32+J34+J36 -> 11312747 | O38: 1.1766099e+08
A41: VoBo ING. IVAN MAURICIO PENAGOS ANDRADE | L41: =+J33+J35+J37 -> 0
A42: Subsecretaria de Planeación e Infraestructura

Sheet LIST
A1: ID | B1: DESCRIPCIÓN | C1: UNIDAD | D1: V/UNIT
A2: P | B2: PRELIMINARES (P)
A3: P-0001 | B3: DEMOLICIÓN PLACA e= 0.10m | C3: M2 | D3: =+'P-0001'!H48 -> 38328 | F3: =+TEXT(LIST[[#This Row],[ID]],"XXXXXX") -> P-0001
A4: P-0002 | B4: DEMOLICIÓN MURO, INCLUYE RETIRO DE ESCOMBROS A 5 KM | C4: M2 | D4: =+'P-0002'!H48 -> 39966
A5: P-0003 | B5: DESMONTE DE MOTOBOMBAS, TABLEROS, Y ELEMENTOS ELECTRONICOS. | C5: GLOBAL | D5: =+'P-0003'!H48 -> 719688
A6: P-0004 | B6: RETIRO DE ADOQUIN DEFECTUOSO Y EN MAL ESTADO | C6: M2 | D6: =+'P-0004'!H48 -> 16553
A7: P-0005 | B7: EXCAVACIÓN MANUAL EN MATERIAL COMÚN 0-2 MTS | C7: M3 | D7: =+'P-0005'!H45 -> 41022
A8: P-0006 | B8: RELLENO EN ARENA | C8: M3 | D8: =+'P-0006'!H48 -> 368241
A9: P-0007 | B9: DESMONTE DE APARATOS SANITARIOS | C9: UND | D9: =+'P-0007'!H48 -> 93559
A10: P-0008 | B10: LOCALIZACIÓN Y REPLANTEO (AREA) | C10: M2 | D10: =+'P-0008'!H48 -> 4422
A11: P-0009 | B11: DEMOLICIÓN DE PLACA CONCRETO e=0.15m INCLUYE TRANSPORTE | C11: M2 | D11: =+'P-0009'!H48 -> 50982
A12: P-0010 | B12: DEMOLICIÓN DE MURO EN CONCRETO REFORZADO INCLUYE TRANSPORTE | C12: M2 | D12: =+'P-0010'!H48 -> 75162
A13: P-0011 | B13: EXCAVACIÓN MECANICA EN MATERIAL COMÚN | C13: M3 | D13: =+'P-0011'!H48 -> 30161
A14: P-0012 | B14: RELLENO EN RECEBO COMPACTADO | C14: M3 | D14: =+'P-0012'!H48 -> 119091
A15: P-0013 | B15: DESCAPOTE MANUAL DE TERRENO E=0,15 CM, INCLUYE RETIRO | C15: M2 | D15: =+'P-0013'!H48 -> 12504
A18: PTA | B18: PISOS CERAMICOS, TERMINADOS Y ACABADOS (PTA)
A19: PTA-001 | B19: ADOQUIN RECTANGULAR ADOP-A O SIMILAR COLOR GRIS (20 X10X 8) | C19: M2 | D19: =+'PTA-001'!H45 -> 193639
A20: PTA-002 | B20: ADOQUIN INDUPISO PIZARRA O SIMILAR COLOR ARENA (20X20X8) | C20: M2 | D20: =+'PTA-002'!H45 -> 191764
A21: PTA-003 | B21: PINTURA DE SILLAS REDONDAS DIAMETRO 50CM H=60CM TIPO 1 EXTERIOR COLOR BLANCO (INCLUYE RESANE) | C21: UND | D21: =+'PTA-003'!H45 -> 105321
A22: PTA-004 | B22: PINTURA DE MATERA RECTANGULAR 40X60X30 TIPO 1 EXTERIOR COLOR BLANCO (INCLUYE RESANE) | C22: UND | D22: =+'PTA-004'!H48 -> 112448
A23: PTA-005 | B23: MURO EN BLOQUE ABUJARDADO CON DOVELAS 14X19X39 PARA ALCORQUE DE ARBOL | C23: M2 | D23: =+'PTA-005'!H48 -> 146466
A24: PTA-006 | B24: ALFAGIA PREFABRICADA DE ANCHO 25CMX100CM | C24: M | D24: =+'PTA-006'!H48 -> 81667
A25: PTA-007 | B25: CIELO RASO PVC 9 MM INCLUYE ESTRUCTURA | C25: M2 | D25: =+'PTA-007'!H48 -> 65142
A26: PTA-008 | B26: ENCHAPE EN GRES ROJO | C26: M2 | D26: =+'PTA-008'!H48 -> 129648
A27: PTA-009 | B27: PINTURA TIPO 1 INTERIOR, DOS MANOS | C27: M2 | D27: =+'PTA-009'!H48 -> 15126
A28: PTA-010 | B28: RESANE EN ESTUCO ACRILICO 100% | C28: M2 | D28: =+'PTA-010'!H48 -> 18656
A29: PTA-011 | B29: PINTURA TIPO 1 EXTERIOR 100% ACRILICA, DOS MANOS | C29: M2 | D29: =+'PTA-011'!H48 -> 22226
A30: PTA-012 | B30: POLARIZADO PARA VENTANAS PELICULA PROTECCIÓN 100% UV 2 MM | C30: M2 | D30: =+'PTA-012'!H48 -> 55385
A31: PTA-013 | B31: ENCHAPE CERAMICO 20X30 CM COLOR BLANCO (PARED) | C31: M2 | D31: =+'PTA-013'!H48 -> 94830
A32: PTA-014 | B32: PINTURA ESMALTE ELEMENTOS METALICOS (AREA) | C32: M2 | D32: =+'PTA-014'!H48 -> #N/A
A33: PTA-015 | B33: PINTURA ESMALTE ELEMENTOS METALICOS (LINEAL BARANDA) | C33: M | D33: =+'PTA-015'!H48 -> 12826
A34: PTA-016 | B34: MURAL DECORATIVO CON IDENTIFICACIÓN CULTURAL | C34: M2
A36: CMR | B36: CONCRETOS, MORTEROS Y REFUERZOS (CMR)
A37: CMR-001 | B37: ACERO DE REFUERZO 60.000 PSI | C37: KG | D37: =+'CMR-001'!H48 -> 10228
A38: CMR-002 | B38: CONCRETO 3.000 PSI | C38: M3 | D38: =+'CMR-002'!H48 -> 1290784
A39: CMR-003 | B39: SUMINISTRO E INSTALACION DE TUBERIA PETROLERA DE 20" y 10", INCLUYE ESCALERA DE ACCESO, ESTRUCTURA DE FIJACION DE LA PANTALLA Y TODOS LOS ELEMENTROS NECESARIOS PARA SU CORRECTO FUNCIONAMIENTO | C39: KG
A42: ELC | B42: ELECTRICIDAD Y ACCESORIOS ELECTRICOS (ELC)
A43: ELC-001 | B43: SUMINISTRO E INSTALACION DE PANTALLA EXTERIO 3,9 PICH CON 15 GRADO DE 7680 HZ #500 X1000 MM CON PROCESADOR Tb40 , INCLUYE CONEXIÓN ELECTRICA, CAJA DE CONTROL Y PUESTA EN FUNCIONAMIENTO. | C43: UND
A44: ELC-002 | B44: TABLERO ELECTRICO PARA INSTALACIÓN PANTALLA BIFASICO | C44: UND
A45: ELC-003 | B45: RED ELECTRICA EN CABLE N°12 Y TUBO EMT 1/2" PVC | C45: M | D45: =+'ELC-003'!H48 -> 33707
...

Sheet REND
A1: ID | B1: DESCRIPCIÓN | C1: UND | D1: TRABAJO | E1: RENDIMIENTO (1) | F1: RENDIMIENTO (2) | G1: RENDIMIENTO (3) | H1: RENDIMIENTO (4) | I1: RENDIMIENTO (5)
A2: =+LIST!A1 -> ID | E2: 1 OFC Y 1 AYUD | F2: 1 OFC Y 2 AYUD | G2: 1 OFC Y 3 AYUD | H2: 1 OFC Y 4 AYUD | I2: 1 OFC Y 5 AYUD
A3: =+LIST!A2 -> P | B3: =+LIST!B2 -> PRELIMINARES (P)
A4: =+LIST!A3 -> P-0001 | B4: =+_xlfn.XLOOKUP($A4,LIST[ID],LIST[DESCRIPCIÓN]) -> DEMOLICIÓN PLACA e= 0.10m | C4: =+_xlfn.XLOOKUP($A4,LIST[ID],LIST[UNIDAD]) -> M2 | D4: HH | E4: 0.7 | F4: 0.5 | G4: 0.38 | H4: 0.31
A5: =+LIST!A4 -> P-0002 | B5: =+_xlfn.XLOOKUP($A5,LIST[ID],LIST[DESCRIPCIÓN]) -> DEMOLICIÓN MURO, INCLUYE RETIRO DE ESCOMBROS A 5 KM | C5: =+_xlfn.XLOOKUP($A5,LIST[ID],LIST[UNIDAD]) -> M2 | D5: HH | F5: 0.5
A6: =+LIST!A5 -> P-0003 | B6: =+_xlfn.XLOOKUP($A6,LIST[ID],LIST[DESCRIPCIÓN]) -> DESMONTE DE MOTOBOMBAS, TABLEROS, Y ELEMENTOS ELECTRONICOS. | C6: =+_xlfn.XLOOKUP($A6,LIST[ID],LIST[UNIDAD]) -> GLOBAL | D6: HH | G6: 10
A7: =+LIST!A6 -> P-0004 | B7: =+_xlfn.XLOOKUP($A7,LIST[ID],LIST[DESCRIPCIÓN]) -> RETIRO DE ADOQUIN DEFECTUOSO Y EN MAL ESTADO | C7: =+_xlfn.XLOOKUP($A7,LIST[ID],LIST[UNIDAD]) -> M2 | D7: HH | F7: 0.3 | G7: 0.23
A8: =+LIST!A7 -> P-0005 | B8: =+_xlfn.XLOOKUP($A8,LIST[ID],LIST[DESCRIPCIÓN]) -> EXCAVACIÓN MANUAL EN MATERIAL COMÚN 0-2 MTS | C8: =+_xlfn.XLOOKUP($A8,LIST[ID],LIST[UNIDAD]) -> M3 | D8: HH | F8: 0.7 | G8: 0.57 | H8: 0.48
A9: =+LIST!A8 -> P-0006 | B9: =+_xlfn.XLOOKUP($A9,LIST[ID],LIST[DESCRIPCIÓN]) -> RELLENO EN ARENA | C9: =+_xlfn.XLOOKUP($A9,LIST[ID],LIST[UNIDAD]) -> M3 | D9: HH | F9: 0.3 | G9: 0.25 | H9: 0.23
A10: =+LIST!A9 -> P-0007 | B10: =+_xlfn.XLOOKUP($A10,LIST[ID],LIST[DESCRIPCIÓN]) -> DESMONTE DE APARATOS SANITARIOS | C10: =+_xlfn.XLOOKUP($A10,LIST[ID],LIST[UNIDAD]) -> UND | D10: HH | E10: 2.1 | F10: 1.6 | G10: 1.3
A11: =+LIST!A10 -> P-0008 | B11: =+_xlfn.XLOOKUP($A11,LIST[ID],LIST[DESCRIPCIÓN]) -> LOCALIZACIÓN Y REPLANTEO (AREA) | C11: =+_xlfn.XLOOKUP($A11,LIST[ID],LIST[UNIDAD]) -> M2 | D11: HH | E11: 0.05 | H11: =+AVERAGE(E11:G11) -> 0.05
A12: =+LIST!A11 -> P-0009 | B12: =+_xlfn.XLOOKUP($A12,LIST[ID],LIST[DESCRIPCIÓN]) -> DEMOLICIÓN DE PLACA CONCRETO e=0.15m INCLUYE TRANSPORTE | C12: =+_xlfn.XLOOKUP($A12,LIST[ID],LIST[UNIDAD]) -> M2 | D12: HH | E12: 0.9 | F12: 0.65 | H12: =+AVERAGE(E12:G12) -> 0.775
A13: =+LIST!A12 -> P-0010 | B13: =+_xlfn.XLOOKUP($A13,LIST[ID],LIST[DESCRIPCIÓN]) -> DEMOLICIÓN DE MURO EN CONCRETO REFORZADO INCLUYE TRANSPORTE | C13: =+_xlfn.XLOOKUP($A13,LIST[ID],LIST[UNIDAD]) -> M2 | D13: HH | E13: 1.2 | F13: 1.1
A14: =+LIST!A13 -> P-0011 | B14: =+_xlfn.XLOOKUP($A14,LIST[ID],LIST[DESCRIPCIÓN]) -> EXCAVACIÓN MECANICA EN MATERIAL COMÚN | C14: =+_xlfn.XLOOKUP($A14,LIST[ID],LIST[UNIDAD]) -> M3 | D14: HH | E14: 0.12 | F14: 0.1 | H14: =+AVERAGE(E14:G14) -> 0.11
A15: =+LIST!A14 -> P-0012 | B15: =+_xlfn.XLOOKUP($A15,LIST[ID],LIST[DESCRIPCIÓN]) -> RELLENO EN RECEBO COMPACTADO | C15: =+_xlfn.XLOOKUP($A15,LIST[ID],LIST[UNIDAD]) -> M3 | D15: HH | F15: 0.2
A16: =+LIST!A15 -> P-0013 | B16: =+_xlfn.XLOOKUP($A16,LIST[ID],LIST[DESCRIPCIÓN]) -> DESCAPOTE MANUAL DE TERRENO E=0,15 CM, INCLUYE RETIRO | C16: =+_xlfn.XLOOKUP($A16,LIST[ID],LIST[UNIDAD]) -> M2 | D16: HH | E16: 0.26
A17: =+LIST!A16 -> 0
A18: =+LIST!A17 -> 0
A19: =+LIST!A18 -> PTA | B19: =+LIST!B18 -> PISOS CERAMICOS, TERMINADOS Y ACABADOS (PTA)
A20: =+LIST!A19 -> PTA-001 | B20: =+_xlfn.XLOOKUP($A20,LIST[ID],LIST[DESCRIPCIÓN]) -> ADOQUIN RECTANGULAR ADOP-A O SIMILAR COLOR GRIS (20 X10X 8) | C20: =+_xlfn.XLOOKUP($A20,LIST[ID],LIST[UNIDAD]) -> M2 | D20: HH | F20: 1
A21: =+LIST!A20 -> PTA-002 | B21: =+_xlfn.XLOOKUP($A21,LIST[ID],LIST[DESCRIPCIÓN]) -> ADOQUIN INDUPISO PIZARRA O SIMILAR COLOR ARENA (20X20X8) | C21: =+_xlfn.XLOOKUP($A21,LIST[ID],LIST[UNIDAD]) -> M2 | D21: HH | F21: 1
A22: =+LIST!A21 -> PTA-003 | B22: =+_xlfn.XLOOKUP($A22,LIST[ID],LIST[DESCRIPCIÓN]) -> PINTURA DE SILLAS REDONDAS DIAMETRO 50CM H=60CM TIPO 1 EXTERIOR COLOR BLANCO (INCLUYE RESANE) | C22: =+_xlfn.XLOOKUP($A22,LIST[ID],LIST[UNIDAD]) -> UND | D22: HH | F22: 1.2
A23: =+LIST!A22 -> PTA-004 | B23: =+_xlfn.XLOOKUP($A23,LIST[ID],LIST[DESCRIPCIÓN]) -> PINTURA DE MATERA RECTANGULAR 40X60X30 TIPO 1 EXTERIOR COLOR BLANCO (INCLUYE RESANE) | C23: =+_xlfn.XLOOKUP($A23,LIST[ID],LIST[UNIDAD]) -> UND | D23: HH | F23: 1.2
A24: =+LIST!A23 -> PTA-005 | B24: =+_xlfn.XLOOKUP($A24,LIST[ID],LIST[DESCRIPCIÓN]) -> MURO EN BLOQUE ABUJARDADO CON DOVELAS 14X19X39 PARA ALCORQUE DE ARBOL | C24: =+_xlfn.XLOOKUP($A24,LIST[ID],LIST[UNIDAD]) -> M2 | D24: HH | E24: 1.1 | F24: 1
A25: =+LIST!A24 -> PTA-006 | B25: =+_xlfn.XLOOKUP($A25,LIST[ID],LIST[DESCRIPCIÓN]) -> ALFAGIA PREFABRICADA DE ANCHO 25CMX100CM | C25: =+_xlfn.XLOOKUP($A25,LIST[ID],LIST[UNIDAD]) -> M | D25: HH | E25: 0.7 | F25: 0.6 | H25: =+AVERAGE(E25:G25) -> 0.65
A26: =+LIST!A25 -> PTA-007 | B26: =+_xlfn.XLOOKUP($A26,LIST[ID],LIST[DESCRIPCIÓN]) -> CIELO RASO PVC 9 MM INCLUYE ESTRUCTURA | C26: =+_xlfn.XLOOKUP($A26,LIST[ID],LIST[UNIDAD]) -> M2 | D26: HH | E26: 0.85
A27: =+LIST!A26 -> PTA-008 | B27: =+_xlfn.XLOOKUP($A27,LIST[ID],LIST[DESCRIPCIÓN]) -> ENCHAPE EN GRES ROJO | C27: =+_xlfn.XLOOKUP($A27,LIST[ID],LIST[UNIDAD]) -> M2 | D27: HH | E27: 1
A28: =+LIST!A27 -> PTA-009 | B28: =+_xlfn.XLOOKUP($A28,LIST[ID],LIST[DESCRIPCIÓN]) -> PINTURA TIPO 1 INTERIOR, DOS MANOS | C28: =+_xlfn.XLOOKUP($A28,LIST[ID],LIST[UNIDAD]) -> M2 | D28: HH | E28: 0.25
A29: =+LIST!A28 -> PTA-010 | B29: =+_xlfn.XLOOKUP($A29,LIST[ID],LIST[DESCRIPCIÓN]) -> RESANE EN ESTUCO ACRILICO 100% | C29: =+_xlfn.XLOOKUP($A29,LIST[ID],LIST[UNIDAD]) -> M2 | D29: HH | E29: 0.28
A30: =+LIST!A29 -> PTA-011 | B30: =+_xlfn.XLOOKUP($A30,LIST[ID],LIST[DESCRIPCIÓN]) -> PINTURA TIPO 1 EXTERIOR 100% ACRILICA, DOS MANOS | C30: =+_xlfn.XLOOKUP($A30,LIST[ID],LIST[UNIDAD]) -> M2 | D30: HH | E30: 0.28
A31: =+LIST!A30 -> PTA-012 | B31: =+_xlfn.XLOOKUP($A31,LIST[ID],LIST[DESCRIPCIÓN]) -> POLARIZADO PARA VENTANAS PELICULA PROTECCIÓN 100% UV 2 MM | C31: =+_xlfn.XLOOKUP($A31,LIST[ID],LIST[UNIDAD]) -> M2 | D31: HH | E31: 0.2
A32: =+LIST!A31 -> PTA-013 | B32: =+_xlfn.XLOOKUP($A32,LIST[ID],LIST[DESCRIPCIÓN]) -> ENCHAPE CERAMICO 20X30 CM COLOR BLANCO (PARED) | C32: =+_xlfn.XLOOKUP($A32,LIST[ID],LIST[UNIDAD]) -> M2 | D32: HH | E32: 0.8
A33: =+LIST!A32 -> PTA-014 | B33: =+_xlfn.XLOOKUP($A33,LIST[ID],LIST[DESCRIPCIÓN]) -> PINTURA ESMALTE ELEMENTOS METALICOS (AREA) | C33: =+_xlfn.XLOOKUP($A33,LIST[ID],LIST[UNIDAD]) -> M2 | D33: HH | E33: 0.28 | H33: =+AVERAGE(E33:G33) -> 0.28
A34: =+LIST!A33 -> PTA-015 | B34: =+_xlfn.XLOOKUP($A34,LIST[ID],LIST[DESCRIPCIÓN]) -> PINTURA ESMALTE ELEMENTOS METALICOS (LINEAL BARANDA) | C34: =+_xlfn.XLOOKUP($A34,LIST[ID],LIST[UNIDAD]) -> M | D34: HH | E34: 0.18 | H34: =+AVERAGE(E34:G34) -> 0.18
A35: =+LIST!A34 -> PTA-016 | B35: =+_xlfn.XLOOKUP($A35,LIST[ID],LIST[DESCRIPCIÓN]) -> MURAL DECORATIVO CON IDENTIFICACIÓN CULTURAL | C35: =+_xlfn.XLOOKUP($A35,LIST[ID],LIST[UNIDAD]) -> M2 | H35: =+AVERAGE(E35:G35) -> #DIV/0!
A36: =+LIST!A35 -> 0 | H36: =+AVERAGE(E36:G36) -> #DIV/0!
A37: =+LIST!A36 -> CMR | B37: =+LIST!B36 -> CONCRETOS, MORTEROS Y REFUERZOS (CMR)
A38: =+LIST!A37 -> CMR-001 | B38: =+_xlfn.XLOOKUP($A38,LIST[ID],LIST[DESCRIPCIÓN]) -> ACERO DE REFUERZO 60.000 PSI | C38: KG | D38: HH | E38: 0.08 | F38: 0.06 | G38: 0.05 | H38: =+AVERAGE(E38:G38) -> 0.063333333
A39: =+LIST!A38 -> CMR-002 | B39: =+_xlfn.XLOOKUP($A39,LIST[ID],LIST[DESCRIPCIÓN]) -> CONCRETO 3.000 PSI | C39: =+_xlfn.XLOOKUP($A39,LIST[ID],LIST[UNIDAD]) -> M3 | D39: HH | E39: 8 | F39: 6 | G39: 5 | H39: 4.5
A40: =+LIST!A39 -> CMR-003 | B40: =+_xlfn.XLOOKUP($A40,LIST[ID],LIST[DESCRIPCIÓN]) -> SUMINISTRO E INSTALACION DE TUBERIA PETROLERA DE 20" y 10", INCLUYE ESCALERA DE ACCESO, ESTRUCTURA DE FIJACION DE LA PANTALLA Y TODOS LOS ELEMENTROS NECESARIOS PARA SU CORRECTO FUNCIONAMIENTO | C40: =+_xlfn.XLOOKUP($A40,LIST[ID],LIST[UNIDAD]) -> KG | D40: HH
...

Sheet EQUI
A1: DESCRIPCIÓN | B1: UNIDAD | C1: VALOR | D1: SITIO 2 | E1: RENDIMIENTO | F1: PROMEDIO | G1: DISTANCIA KM
A2: TALADRO DEMOLEDOR | B2: HORA | C2: 50000 | E2: 0.2 | F2: =+C2*E2 -> 10000
