Workbook

Sheet RESUMEN 
B2: SERVICIOS DE VIGILANCIA 2026
B4: MES | C4: Funcionamiento | D4: SGR | E4: TOTAL
B5: AGOSTO | C5: =ROUND(agosto2026!$L$56,0) -> 270048404 | D5: =ROUND(agosto2026!$U$56,0) -> 236929662 | E5: =C5+D5 -> 506978066
B6: SEPTIEMBRE | C6: =ROUND(septiembre2026!$L$56,0) -> 270048404 | D6: =ROUND(septiembre2026!$U$56,0) -> 236929662 | E6: =C6+D6 -> 506978066
B7: OCTUBRE | C7: =ROUND(octubre2026!$L$56,0) -> 270048404 | D7: =ROUND(octubre2026!$U$56,0) -> 236929662 | E7: =C7+D7 -> 506978066
B8: NOVIEMBRE | C8: =ROUND(noviembre2026!$L$56,0) -> 270048404 | D8: =ROUND(noviembre2026!$U$56,0) -> 236929662 | E8: =C8+D8 -> 506978066
B9: DICIEMBRE | C9: =ROUND(noviembre2026!$L$56/2,0) -> 135024202 | D9: =ROUND(noviembre2026!$U$56/2,0) -> 118464831 | E9: =C9+D9 -> 253489033
B10: TOTAL | C10: =SUM(C5:C9) -> 1215217818 | D10: =SUM(D5:D9) -> 1066183479 | E10: =SUM(E5:E9) -> 2281401297
B15: ALARMAS 2026
B17: CONCEPTO | C17: Funcionamiento | D17: SGR | E17: TOTAL
B18: MONITOREO DE ALARMAS | C18: =+'MONITOREO '!E37 -> 9018504 | D18: =+'MONITOREO '!E38 -> 9838368 | E18: =+C18+D18 -> 18856872
B19: MANTENIMIENTO DE ALARMAS | C19: =+'MTO ALARMAS '!E40 -> 6120103 | D19: =+'MTO ALARMAS '!E41 -> 6676476 | E19: =+C19+D19 -> 12796579
B20: ADQUISICION DE ALARMAS FIJAS E INALAMBRICAS | C20: =+'ADQUISICION ALARMAS '!D5 -> 20801303 | E20: =+C20+D20 -> 20801303
B21: TOTAL | C21: =SUM(C18:C20) -> 35939910 | D21: =SUM(D18:D20) -> 16514844 | E21: =+C21+D21 -> 52454754
B29: Presupuesto Agosto / Dic 15-2026 | C29: Funcionamiento | D29: SGR | E29: TOTAL
B30: Vigilancia/alarmas | C30: =C10+C21 -> 1251157728 | D30: =D10+D21 -> 1082698323 | E30: =E10+E21 -> 2333856051
B33: Disponibilidad presupuestal
B34: Servicio | C34: Funcionamiento | D34: Regalías | E34: Total
B35: Vigilancia | C35: 1593495961 | D35: 2917108546 | E35: =C35+D35 -> 4510604507

Sheet agosto2026
B1: AGENCIA NACIONAL DE MINERÍA
D2: SERVICIOS DE VIGILANCIA Y SEGURIDAD PRIVADA
D6: SALARIO MINIMO 2026 | E6: 1750905
D7: TARIFA | E7: 10.21
D8: TOTAL TARIFA | E8: =E6*E7 -> 17876740 | O8: DE 6 AM A 9 PM | Q8: DIURNO
O9: DE 9 PM A 6 AM | Q9: NOCTURNO
B10: SERVICIOS DE VIGILANCIA Y SEGURIDAD PRIVADA
B11: UBICACIÓN | C11: CANTIDAD | D11: DESCRIPCIÓN DE LOS SERVICIOS | E11: ESPECIFI-CACIÓN | F11: TURNO | G11: HORAS X TURNO | H11: HORARIO | I11: HORAS BASE | J11: DIAS | K11: TARIFA | L11: Variable Propor | M11: SUBTOTAL | N11: TARIFA | O11: SEGURO VIGILANCIA | P11: AYS | Q11: SUBTOTAL | R11: BASE IVA | S11: IVA | T11: TOTAL | U11: RECURSO $ | X11: 0.03
B12: BOGOTÁ SEDE PRINCIPAL ANM | C12: 2 | D12: Turno de vigilancia sin arma 12 horas lunes a viernes sin festivo (8:00 am a 8:00 p.m.) 11 horas diurnas. Recorredor. | E12: SIN ARMA | F12: 12 HORAS | G12: 11 | H12: DIURNO | I12: 13 | J12: 22 | K12: =+$E$6*$E$7 -> 17876740 | L12: =IF(H12="DIURNO",47.59%,IF(H12="NOCTURNO",52.41%,0)) -> 0.4759 | M12: =IF(H12="N/a",(((K12*L12)/30))*J12*C12,(((K12*L12)/30)/I12)*G12*J12*C12) -> 10558076 | N12: =+IF(E12="SIN ARMA",8%,IF(E12="CON ARMA",10%,0)) -> 0.08 | O12: =+'ESTUDIO DE MERCADO_SEGURO'!$M7 -> 1998 | P12: =+M12*N12 -> 844646.08 | Q12: =+M12+O12+P12 -> 11404720 | R12: =+Q12*10% -> 1140472 | S12: =+R12*19% -> 216689.68 | T12: =+Q12+S12 -> 11621410 | U12: ANM | W12: 2750 | X12: =(W12*$X$11)+W12 -> 2832.5
C13: 2 | D13: Turno de vigilancia sin arma 12 horas lunes a viernes sin festivo (8:00 am a 8:00 p.m.) 1 hora nocturna. Recorredor. | E13: SIN ARMA | F13: 12 HORAS | G13: 1 | H13: NOCTURNO | I13: 11 | J13: 22 | K13: =+$E$6*$E$7 -> 17876740 | L13: =IF(H13="DIURNO",47.59%,IF(H13="NOCTURNO",52.41%,0)) -> 0.5241 | M13: =IF(H13="N/a",(((K13*L13)/30))*J13*C13,(((K13*L13)/30)/I13)*G13*J13*C13) -> 1249226.6 | N13: =+IF(E13="SIN ARMA",8%,IF(E13="CON ARMA",10%,0)) -> 0.08 | O13: =+'ESTUDIO DE MERCADO_SEGURO'!$M8 -> 1548 | P13: =+M13*N13 -> 99938.128 | Q13: =+M13+O13+P13 -> 1350712.7 | R13: =+Q13*10% -> 135071.27 | S13: =+R13*19% -> 25663.542 | T13: =+Q13+S13 -> 1376376.3 | U13: ANM | W13: 1375 | X13: =(W13*$X$11)+W13 -> 1416.25
C14: 1 | D14: 1 Turno diurno de 12 horas lunes a viernes (sin festivos) (1 recepcionistas). Piso 9. | E14: SIN ARMA | F14: 12 HORAS | G14: =IF(F14="24 HORAS",24,IF(F14="12 HORAS",12,0)) -> 12 | H14: DIURNO | I14: 13 | J14: 22 | K14: =+$E$6*$E$7 -> 17876740 | L14: =IF(H14="DIURNO",47.59%,IF(H14="NOCTURNO",52.41%,0)) -> 0.4759 | M14: =IF(H14="N/a",(((K14*L14)/30))*J14*C14,(((K14*L14)/30)/I14)*G14*J14*C14) -> 5758950.6 | N14: =+IF(E14="SIN ARMA",8%,IF(E14="CON ARMA",10%,0)) -> 0.08 | O14: =+'ESTUDIO DE MERCADO_SEGURO'!$M9 -> 1548 | P14: =+M14*N14 -> 460716.04 | Q14: =+M14+O14+P14 -> 6221214.6 | R14: =+Q14*10% -> 622121.46 | S14: =+R14*19% -> 118203.08 | T14: =+Q14+S14 -> 6339417.7 | U14: ANM | W14: 1375 | X14: =(W14*$X$11)+W14 -> 1416.25
C15: 1 | D15: 1 Turno diurno de 12 horas lunes a viernes (sin festivos) (1 recepcionista). Piso 10. | E15: SIN ARMA | F15: 12 HORAS | G15: =IF(F15="24 HORAS",24,IF(F15="12 HORAS",12,0)) -> 12 | H15: DIURNO | I15: 13 | J15: 22 | K15: =+$E$6*$E$7 -> 17876740 | L15: =IF(H15="DIURNO",47.59%,IF(H15="NOCTURNO",52.41%,0)) -> 0.4759 | M15: =IF(H15="N/a",(((K15*L15)/30))*J15*C15,(((K15*L15)/30)/I15)*G15*J15*C15) -> 5758950.6 | N15: =+IF(E15="SIN ARMA",8%,IF(E15="CON ARMA",10%,0)) -> 0.08 | O15: =+'ESTUDIO DE MERCADO_SEGURO'!$M10 -> 1548 | P15: =+M15*N15 -> 460716.04 | Q15: =+M15+O15+P15 -> 6221214.6 | R15: =+Q15*10% -> 622121.46 | S15: =+R15*19% -> 118203.08 | T15: =+Q15+S15 -> 6339417.7 | U15: ANM | W15: 1375 | X15: =(W15*$X$11)+W15 -> 1416.25
C16: 1 | D16: 1 Turno diurno de 12 horas lunes a viernes (sin festivos) (1 recepcionista). Piso 8. | E16: SIN ARMA | F16: 12 HORAS | G16: =IF(F16="24 HORAS",24,IF(F16="12 HORAS",12,0)) -> 12 | H16: DIURNO | I16: 13 | J16: 22 | K16: =+$E$6*$E$7 -> 17876740 | L16: =IF(H16="DIURNO",47.59%,IF(H16="NOCTURNO",52.41%,0)) -> 0.4759 | M16: =IF(H16="N/a",(((K16*L16)/30))*J16*C16,(((K16*L16)/30)/I16)*G16*J16*C16) -> 5758950.6 | N16: =+IF(E16="SIN ARMA",8%,IF(E16="CON ARMA",10%,0)) -> 0.08 | O16: =+'ESTUDIO DE MERCADO_SEGURO'!$M11 -> 2547 | P16: =+M16*N16 -> 460716.04 | Q16: =+M16+O16+P16 -> 6222213.6 | R16: =+Q16*10% -> 622221.36 | S16: =+R16*19% -> 118222.06 | T16: =+Q16+S16 -> 6340435.7 | U16: ANM | W16: 1875 | X16: =(W16*$X$11)+W16 -> 1931.25
C17: 1 | D17: 1 Turno de 13 horas diurnas permanentes (Operador de medios tecnológicos). | E17: SIN ARMA | F17: 13 HORAS | G17: 13 | H17: DIURNO | I17: 13 | J17: 30 | K17: =+$E$6*$E$7 -> 17876740 | L17: =IF(H17="DIURNO",47.59%,IF(H17="NOCTURNO",52.41%,0)) -> 0.4759 | M17: =IF(H17="N/a",(((K17*L17)/30))*J17*C17,(((K17*L17)/30)/I17)*G17*J17*C17)+((150000/30)*30) -> 8657540.6 | N17: =+IF(E17="SIN ARMA",8%,IF(E17="CON ARMA",10%,0)) -> 0.08 | O17: =+'ESTUDIO DE MERCADO_SEGURO'!$M12 -> 1037 | P17: =+M17*N17 -> 692603.25 | Q17: =+M17+O17+P17 -> 9351180.8 | R17: =+Q17*10% -> 935118.08 | S17: =+R17*19% -> 177672.44 | T17: =+Q17+S17 -> 9528853.3 | U17: ANM | W17: 625 | X17: =(W17*$X$11)+W17 -> 643.75
C18: 1 | D18: 1 Turno nocturno de 11 horas permanentes (Operador de medios tecnológicos) | E18: SIN ARMA | F18: 11 HORAS | G18: 11 | H18: NOCTURNO | I18: 11 | J18: 30 | K18: =+$E$6*$E$7 -> 17876740 | L18: =IF(H18="DIURNO",47.59%,IF(H18="NOCTURNO",52.41%,0)) -> 0.5241 | M18: =IF(H18="N/a",(((K18*L18)/30))*J18*C18,(((K18*L18)/30)/I18)*G18*J18*C18)+((150000/30)*30) -> 9519199.5 | N18: =+IF(E18="SIN ARMA",8%,IF(E18="CON ARMA",10%,0)) -> 0.08 | O18: =+'ESTUDIO DE MERCADO_SEGURO'!$M13 -> 2865 | P18: =+M18*N18 -> 761535.96 | Q18: =+M18+O18+P18 -> 10283600 | R18: =+Q18*10% -> 1028360 | S18: =+R18*19% -> 195388.41 | T18: =+Q18+S18 -> 10478989 | U18: SGR | W18: 1875 | X18: =(W18*$X$11)+W18 -> 1931.25
C19: 1 | D19: 1 Turno diurno de 12 horas Lunes a Sábado (con festivos) (Supervisor Nacional) | E19: SIN ARMA | F19: 12 HORAS | G19: 12 | H19: DIURNO | I19: 13 | J19: 26 | K19: =+$E$6*$E$7 -> 17876740 | L19: =IF(H19="DIURNO",47.59%,IF(H19="NOCTURNO",52.41%,0)) -> 0.4759 | M19: =IF(H19="N/a",(((K19*L19)/30))*J19*C19,(((K19*L19)/30)/I19)*G19*J19*C19)+((495000/30)*30) -> 7301032.5 | N19: =+IF(E19="SIN ARMA",8%,IF(E19="CON ARMA",10%,0)) -> 0.08 | O19: =+'ESTUDIO DE MERCADO_SEGURO'!$M14 -> 2328 | P19: =+M19*N19 -> 584082.6 | Q19: =+M19+O19+P19 -> 7887443.1 | R19: =+Q19*10% -> 788744.31 | S19: =+R19*19% -> 149861.42 | T19: =+Q19+S19 -> 8037304.5 | U19: ANM | W19: 1250 | X19: =(W19*$X$11)+W19 -> 1287.5
B20: BOGOTÁ, BODEGA ARCHIVO | C20: 1 | D20: 1 Turno de vigilancia armada 24 horas (12 horas diurnas y 12 horas nocturnas). | E20: CON ARMA | F20: 24 HORAS | G20: =IF(F20="24 HORAS",24,IF(F20="12 HORAS",12,0)) -> 24 | H20: N/A | I20: =IF(H20="N/A",1,IF(H20="NOCTURNO",9,IF(H20="DIURNO",15,0))) -> 1 | J20: 30 | K20: =+$E$6*$E$7 -> 17876740 | L20: =+IF(F20="12 HORAS",IF(H20="DIURNO",55.97%,0),0)+IF(F20="12 HORAS",IF(H20="NOCTURNO",44.03%,0),1) -> 1 | M20: =IF(H20="N/a",(((K20*L20)/30))*J20*C20,(((K20*L20)/30)/I20)*G20*J20*C20) -> 17876740 | N20: =+IF(E20="SIN ARMA",8%,IF(E20="CON ARMA",10%,0)) -> 0.1 | O20: =+'ESTUDIO DE MERCADO_SEGURO'!$M15 -> 5100 | P20: =+M20*N20 -> 1787674 | Q20: =+M20+O20+P20 -> 19669514 | R20: =+Q20*10% -> 1966951.4 | S20: =+R20*19% -> 373720.77 | T20: =+Q20+S20 -> 20043235 | U20: ANM | W20: 3750 | X20: =(W20*$X$11)+W20 -> 3862.5
B21: BOGOTÁ ANM CAN (Esmeraldas) | C21: 1 | D21: 1 Turno de vigilancia armada 24 horas permanentes (12 horas diurnas y 12 horas nocturnas) | E21: CON ARMA | F21: 24 HORAS | G21: =IF(F21="24 HORAS",24,IF(F21="12 HORAS",12,0)) -> 24 | H21: N/A | I21: =IF(H21="N/A",1,IF(H21="NOCTURNO",9,IF(H21="DIURNO",15,0))) -> 1 | J21: 30 | K21: =+$E$6*$E$7 -> 17876740 | L21: =+IF(F21="12 HORAS",IF(H21="DIURNO",55.97%,0),0)+IF(F21="12 HORAS",IF(H21="NOCTURNO",44.03%,0),1) -> 1 | M21: =IF(H21="N/a",(((K21*L21)/30))*J21*C21,(((K21*L21)/30)/I21)*G21*J21*C21) -> 17876740 | N21: =+IF(E21="SIN ARMA",8%,IF(E21="CON ARMA",10%,0)) -> 0.1 | O21: =+'ESTUDIO DE MERCADO_SEGURO'!$M16 -> 5100 | P21: =+M21*N21 -> 1787674 | Q21: =+M21+O21+P21 -> 19669514 | R21: =+Q21*10% -> 1966951.4 | S21: =+R21*19% -> 373720.77 | T21: =+Q21+S21 -> 20043235 | U21: ANM | W21: 3750 | X21: =(W21*$X$11)+W21 -> 3862.5
B22: CARTAGENA | C22: 1 | D22: 1 Turno diurno de 12 horas lunes a viernes (sin festivos) | E22: SIN ARMA | F22: 12 HORAS | G22: =IF(F22="24 HORAS",24,IF(F22="12 HORAS",12,0)) -> 12 | H22: DIURNO | I22: 13 | J22: 22 | K22: =+$E$6*$E$7 -> 17876740 | L22: =IF(H22="DIURNO",47.59%,IF(H22="NOCTURNO",52.41%,0)) -> 0.4759 | M22: =IF(H22="N/a",(((K22*L22)/30))*J22*C22,(((K22*L22)/30)/I22)*G22*J22*C22) -> 5758950.6 | N22: =+IF(E22="SIN ARMA",8%,IF(E22="CON ARMA",10%,0)) -> 0.08 | O22: =+'ESTUDIO DE MERCADO_SEGURO'!$M17 -> 1548 | P22: =+M22*N22 -> 460716.04 | Q22: =+M22+O22+P22 -> 6221214.6 | R22: =+Q22*10% -> 622121.46 | S22: =+R22*19% -> 118203.08 | T22: =+Q22+S22 -> 6339417.7 | U22: SGR | W22: 1081.3 | X22: =(W22*$X$11)+W22 -> 1113.739
B23: BUCARAMANGA | C23: 1 | D23: 1 Turno de vigilancia armada 24 horas | E23: CON ARMA | F23: 24 HORAS | G23: =IF(F23="24 HORAS",24,IF(F23="12 HORAS",12,0)) -> 24 | H23: N/A | I23: =IF(H23="N/A",1,IF(H23="NOCTURNO",9,IF(H23="DIURNO",15,0))) -> 1 | J23: 30 | K23: =+$E$6*$E$7 -> 17876740 | L23: =+IF(F23="12 HORAS",IF(H23="DIURNO",55.97%,0),0)+IF(F23="12 HORAS",IF(H23="NOCTURNO",44.03%,0),1) -> 1 | M23: =IF(H23="N/a",(((K23*L23)/30))*J23*C23,(((K23*L23)/30)/I23)*G23*J23*C23) -> 17876740 | N23: =+IF(E23="SIN ARMA",8%,IF(E23="CON ARMA",10%,0)) -> 0.1 | O23: =+'ESTUDIO DE MERCADO_SEGURO'!$M18 -> 5100 | P23: =+M23*N23 -> 1787674 | Q23: =+M23+O23+P23 -> 19669514 | R23: =+Q23*10% -> 1966951.4 | S23: =+R23*19% -> 373720.77 | T23: =+Q23+S23 -> 20043235 | U23: SGR | W23: 3750 | X23: =(W23*$X$11)+W23 -> 3862.5
B24: CÚCUTA - ESSM UFPS | C24: 1 | D24: 1 Turno de vigilancia armada 24 horas. Salvamento Minero. | E24: CON ARMA | F24: 24 HORAS | G24: =IF(F24="24 HORAS",24,IF(F24="12 HORAS",12,0)) -> 24 | H24: N/A | I24: =IF(H24="N/A",1,IF(H24="NOCTURNO",9,IF(H24="DIURNO",15,0))) -> 1 | J24: 30 | K24: =+$E$6*$E$7 -> 17876740 | L24: =+IF(F24="12 HORAS",IF(H24="DIURNO",55.97%,0),0)+IF(F24="12 HORAS",IF(H24="NOCTURNO",44.03%,0),1) -> 1 | M24: =IF(H24="N/a",(((K24*L24)/30))*J24*C24,(((K24*L24)/30)/I24)*G24*J24*C24) -> 17876740 | N24: =+IF(E24="SIN ARMA",8%,IF(E24="CON ARMA",10%,0)) -> 0.1 | O24: =+'ESTUDIO DE MERCADO_SEGURO'!$M19 -> 5100 | P24: =+M24*N24 -> 1787674 | Q24: =+M24+O24+P24 -> 19669514 | R24: =+Q24*10% -> 1966951.4 | S24: =+R24*19% -> 373720.77 | T24: =+Q24+S24 -> 20043235 | U24: ANM | W24: 3750 | X24: =(W24*$X$11)+W24 -> 3862.5
B25: CÚCUTA | C25: 1 | D25: 1 Turno de vigilancia armada 24 horas | E25: CON ARMA | F25: 24 HORAS | G25: =IF(F25="24 HORAS",24,IF(F25="12 HORAS",12,0)) -> 24 | H25: N/A | I25: =IF(H25="N/A",1,IF(H25="NOCTURNO",9,IF(H25="DIURNO",15,0))) -> 1 | J25: 30 | K25: =+$E$6*$E$7 -> 17876740 | L25: =+IF(F25="12 HORAS",IF(H25="DIURNO",55.97%,0),0)+IF(F25="12 HORAS",IF(H25="NOCTURNO",44.03%,0),1) -> 1 | M25: =IF(H25="N/a",(((K25*L25)/30))*J25*C25,(((K25*L25)/30)/I25)*G25*J25*C25) -> 17876740 | N25: =+IF(E25="SIN ARMA",8%,IF(E25="CON ARMA",10%,0)) -> 0.1 | O25: =+'ESTUDIO DE MERCADO_SEGURO'!$M20 -> 5100 | P25: =+M25*N25 -> 1787674 | Q25: =+M25+O25+P25 -> 19669514 | R25: =+Q25*10% -> 1966951.4 | S25: =+R25*19% -> 373720.77 | T25: =+Q25+S25 -> 20043235 | U25: SGR | W25: 3750 | X25: =(W25*$X$11)+W25 -> 3862.5
B26: IBAGUÉ | C26: 1 | D26: 1 Turno de vigilancia armada 24 horas | E26: CON ARMA | F26: 24 HORAS | G26: =IF(F26="24 HORAS",24,IF(F26="12 HORAS",12,0)) -> 24 | H26: N/A | I26: =IF(H26="N/A",1,IF(H26="NOCTURNO",9,IF(H26="DIURNO",15,0))) -> 1 | J26: 30 | K26: =+$E$6*$E$7 -> 17876740 | L26: =+IF(F26="12 HORAS",IF(H26="DIURNO",55.97%,0),0)+IF(F26="12 HORAS",IF(H26="NOCTURNO",44.03%,0),1) -> 1 | M26: =IF(H26="N/a",(((K26*L26)/30))*J26*C26,(((K26*L26)/30)/I26)*G26*J26*C26) -> 17876740 | N26: =+IF(E26="SIN ARMA",8%,IF(E26="CON ARMA",10%,0)) -> 0.1 | O26: =+'ESTUDIO DE MERCADO_SEGURO'!$M21 -> 5100 | P26: =+M26*N26 -> 1787674 | Q26: =+M26+O26+P26 -> 19669514 | R26: =+Q26*10% -> 1966951.4 | S26: =+R26*19% -> 373720.77 | T26: =+Q26+S26 -> 20043235 | U26: SGR | W26: 3750 | X26: =(W26*$X$11)+W26 -> 3862.5
B27: MEDELLÍN | C27: 1 | D27: 1 Turno de vigilancia armada 24 horas. | E27: CON ARMA | F27: 24 HORAS | G27: =IF(F27="24 HORAS",24,IF(F27="12 HORAS",12,0)) -> 24 | H27: N/A | I27: =IF(H27="N/A",1,IF(H27="NOCTURNO",9,IF(H27="DIURNO",15,0))) -> 1 | J27: 30 | K27: =+$E$6*$E$7 -> 17876740 | L27: =+IF(F27="12 HORAS",IF(H27="DIURNO",55.97%,0),0)+IF(F27="12 HORAS",IF(H27="NOCTURNO",44.03%,0),1) -> 1 | M27: =IF(H27="N/a",(((K27*L27)/30))*J27*C27,(((K27*L27)/30)/I27)*G27*J27*C27) -> 17876740 | N27: =+IF(E27="SIN ARMA",8%,IF(E27="CON ARMA",10%,0)) -> 0.1 | O27: =+'ESTUDIO DE MERCADO_SEGURO'!$M22 -> 5100 | P27: =+M27*N27 -> 1787674 | Q27: =+M27+O27+P27 -> 19669514 | R27: =+Q27*10% -> 1966951.4 | S27: =+R27*19% -> 373720.77 | T27: =+Q27+S27 -> 20043235 | U27: SGR | W27: 3750 | X27: =(W27*$X$11)+W27 -> 3862.5
B28: CALI | C28: 1 | D28: 1 Turno de vigilancia armada 24 horas | E28: CON ARMA | F28: 24 HORAS | G28: =IF(F28="24 HORAS",24,IF(F28="12 HORAS",12,0)) -> 24 | H28: N/A | I28: =IF(H28="N/A",1,IF(H28="NOCTURNO",9,IF(H28="DIURNO",15,0))) -> 1 | J28: 30 | K28: =+$E$6*$E$7 -> 17876740 | L28: =+IF(F28="12 HORAS",IF(H28="DIURNO",55.97%,0),0)+IF(F28="12 HORAS",IF(H28="NOCTURNO",44.03%,0),1) -> 1 | M28: =IF(H28="N/a",(((K28*L28)/30))*J28*C28,(((K28*L28)/30)/I28)*G28*J28*C28) -> 17876740 | N28: =+IF(E28="SIN ARMA",8%,IF(E28="CON ARMA",10%,0)) -> 0.1 | O28: =+'ESTUDIO DE MERCADO_SEGURO'!$M23 -> 5100 | P28: =+M28*N28 -> 1787674 | Q28: =+M28+O28+P28 -> 19669514 | R28: =+Q28*10% -> 1966951.4 | S28: =+R28*19% -> 373720.77 | T28: =+Q28+S28 -> 20043235 | U28: SGR | W28: 3750 | X28: =(W28*$X$11)+W28 -> 3862.5
B29: NOBSA (PAR y ESSM) | C29: 1 | D29: 1 Turno de vigilancia armada 24 horas | E29: CON ARMA | F29: 24 HORAS | G29: =IF(F29="24 HORAS",24,IF(F29="12 HORAS",12,0)) -> 24 | H29: N/A | I29: =IF(H29="N/A",1,IF(H29="NOCTURNO",9,IF(H29="DIURNO",15,0))) -> 1 | J29: 30 | K29: =+$E$6*$E$7 -> 17876740 | L29: =+IF(F29="12 HORAS",IF(H29="DIURNO",55.97%,0),0)+IF(F29="12 HORAS",IF(H29="NOCTURNO",44.03%,0),1) -> 1 | M29: =IF(H29="N/a",(((K29*L29)/30))*J29*C29,(((K29*L29)/30)/I29)*G29*J29*C29) -> 17876740 | N29: =+IF(E29="SIN ARMA",8%,IF(E29="CON ARMA",10%,0)) -> 0.1 | O29: =+'ESTUDIO DE MERCADO_SEGURO'!$M24 -> 5100 | P29: =+M29*N29 -> 1787674 | Q29: =+M29+O29+P29 -> 19669514 | R29: =+Q29*10% -> 1966951.4 | S29: =+R29*19% -> 373720.77 | T29: =+Q29+S29 -> 20043235 | U29: ANM | W29: 3750 | X29: =(W29*$X$11)+W29 -> 3862.5
C30: 1 | D30: 1 Turno de vigilancia armada 24 horas | E30: CON ARMA | F30: 24 HORAS | G30: =IF(F30="24 HORAS",24,IF(F30="12 HORAS",12,0)) -> 24 | H30: N/A | I30: =IF(H30="N/A",1,IF(H30="NOCTURNO",9,IF(H30="DIURNO",15,0))) -> 1 | J30: 30 | K30: =+$E$6*$E$7 -> 17876740 | L30: =+IF(F30="12 HORAS",IF(H30="DIURNO",55.97%,0),0)+IF(F30="12 HORAS",IF(H30="NOCTURNO",44.03%,0),1) -> 1 | M30: =IF(H30="N/a",(((K30*L30)/30))*J30*C30,(((K30*L30)/30)/I30)*G30*J30*C30) -> 17876740 | N30: =+IF(E30="SIN ARMA",8%,IF(E30="CON ARMA",10%,0)) -> 0.1 | O30: =+'ESTUDIO DE MERCADO_SEGURO'!$M25 -> 5100 | P30: =+M30*N30 -> 1787674 | Q30: =+M30+O30+P30 -> 19669514 | R30: =+Q30*10% -> 1966951.4 | S30: =+R30*19% -> 373720.77 | T30: =+Q30+S30 -> 20043235 | U30: SGR | W30: 3750 | X30: =(W30*$X$11)+W30 -> 3862.5
B31: AMAGA (PASSM) | C31: 2 | D31: 1 Turno de vigilancia armada 24 horas. Nueva Sede Salvamento Minero. | E31: CON ARMA | F31: 24 HORAS | G31: =IF(F31="24 HORAS",24,IF(F31="12 HORAS",12,0)) -> 24 | H31: N/A | I31: =IF(H31="N/A",1,IF(H31="NOCTURNO",9,IF(H31="DIURNO",15,0))) -> 1 | J31: 30 | K31: =+$E$6*$E$7 -> 17876740 | L31: =+IF(F31="12 HORAS",IF(H31="DIURNO",55.97%,0),0)+IF(F31="12 HORAS",IF(H31="NOCTURNO",44.03%,0),1) -> 1 | M31: =IF(H31="N/a",(((K31*L31)/30))*J31*C31,(((K31*L31)/30)/I31)*G31*J31*C31) -> 35753480 | N31: =+IF(E31="SIN ARMA",8%,IF(E31="CON ARMA",10%,0)) -> 0.1 | O31: =+'ESTUDIO DE MERCADO_SEGURO'!$M26 -> 5100 | P31: =+M31*N31 -> 3575348 | Q31: =+M31+O31+P31 -> 39333928 | R31: =+Q31*10% -> 3933392.8 | S31: =+R31*19% -> 747344.63 | T31: =+Q31+S31 -> 40081273 | U31: ANM | W31: 3750 | X31: =(W31*$X$11)+W31 -> 3862.5
B32: VALLEDUPAR | C32: 1 | D32: 1 Turno de vigilancia armada 24 horas | E32: CON ARMA | F32: 24 HORAS | G32: =IF(F32="24 HORAS",24,IF(F32="12 HORAS",12,0)) -> 24 | H32: N/A | I32: =IF(H32="N/A",1,IF(H32="NOCTURNO",9,IF(H32="DIURNO",15,0))) -> 1 | J32: 30 | K32: =+$E$6*$E$7 -> 17876740 | L32: =+IF(F32="12 HORAS",IF(H32="DIURNO",55.97%,0),0)+IF(F32="12 HORAS",IF(H32="NOCTURNO",44.03%,0),1) -> 1 | M32: =IF(H32="N/a",(((K32*L32)/30))*J32*C32,(((K32*L32)/30)/I32)*G32*J32*C32) -> 17876740 | N32: =+IF(E32="SIN ARMA",8%,IF(E32="CON ARMA",10%,0)) -> 0.1 | O32: =+'ESTUDIO DE MERCADO_SEGURO'!$M27 -> 5100 | P32: =+M32*N32 -> 1787674 | Q32: =+M32+O32+P32 -> 19669514 | R32: =+Q32*10% -> 1966951.4 | S32: =+R32*19% -> 373720.77 | T32: =+Q32+S32 -> 20043235 | U32: SGR | W32: 3750 | X32: =(W32*$X$11)+W32 -> 3862.5
B33: JAMUNDÍ ESSM | C33: 2 | D33: 2 Turnos de vigilancia armada 24 horas. Salvamento Minero. | E33: CON ARMA | F33: 24 HORAS | G33: =IF(F33="24 HORAS",24,IF(F33="12 HORAS",12,0)) -> 24 | H33: N/A | I33: =IF(H33="N/A",1,IF(H33="NOCTURNO",9,IF(H33="DIURNO",15,0))) -> 1 | J33: 30 | K33: =+$E$6*$E$7 -> 17876740 | L33: =+IF(F33="12 HORAS",IF(H33="DIURNO",55.97%,0),0)+IF(F33="12 HORAS",IF(H33="NOCTURNO",44.03%,0),1) -> 1 | M33: =IF(H33="N/a",(((K33*L33)/30))*J33*C33,(((K33*L33)/30)/I33)*G33*J33*C33) -> 35753480 | N33: =+IF(E33="SIN ARMA",8%,IF(E33="CON ARMA",10%,0)) -> 0.1 | O33: =+'ESTUDIO DE MERCADO_SEGURO'!$M28 -> 5100 | P33: =+M33*N33 -> 3575348 | Q33: =+M33+O33+P33 -> 39333928 | R33: =+Q33*10% -> 3933392.8 | S33: =+R33*19% -> 747344.63 | T33: =+Q33+S33 -> 40081273 | U33: ANM | W33: 3750 | X33: =(W33*$X$11)+W33 -> 3862.5
B34: QUIBDÓ | C34: 1 | D34: 1 Turno de vigilancia armada 24 horas | E34: CON ARMA | F34: 24 HORAS | G34: =IF(F34="24 HORAS",24,IF(F34="12 HORAS",12,0)) -> 24 | H34: N/A | I34: =IF(H34="N/A",1,IF(H34="NOCTURNO",9,IF(H34="DIURNO",15,0))) -> 1 | J34: 30 | K34: =+$E$6*$E$7 -> 17876740 | L34: =+IF(F34="12 HORAS",IF(H34="DIURNO",55.97%,0),0)+IF(F34="12 HORAS",IF(H34="NOCTURNO",44.03%,0),1) -> 1 | M34: =IF(H34="N/a",(((K34*L34)/30))*J34*C34,(((K34*L34)/30)/I34)*G34*J34*C34) -> 17876740 | N34: =+IF(E34="SIN ARMA",8%,IF(E34="CON ARMA",10%,0)) -> 0.1 | O34: =+'ESTUDIO DE MERCADO_SEGURO'!$M29 -> 5100 | P34: =+M34*N34 -> 1787674 | Q34: =+M34+O34+P34 -> 19669514 | R34: =+Q34*10% -> 1966951.4 | S34: =+R34*19% -> 373720.77 | T34: =+Q34+S34 -> 20043235 | U34: SGR | W34: 3750 | X34: =(W34*$X$11)+W34 -> 3862.5
B35: MANIZALES | C35: 1 | D35: 1 Turno de vigilancia armada 24 horas | E35: CON ARMA | F35: 24 HORAS | G35: =IF(F35="24 HORAS",24,IF(F35="12 HORAS",12,0)) -> 24 | H35: N/A | I35: =IF(H35="N/A",1,IF(H35="NOCTURNO",9,IF(H35="DIURNO",15,0))) -> 1 | J35: 30 | K35: =+$E$6*$E$7 -> 17876740 | L35: =+IF(F35="12 HORAS",IF(H35="DIURNO",55.97%,0),0)+IF(F35="12 HORAS",IF(H35="NOCTURNO",44.03%,0),1) -> 1 | M35: =IF(H35="N/a",(((K35*L35)/30))*J35*C35,(((K35*L35)/30)/I35)*G35*J35*C35) -> 17876740 | N35: =+IF(E35="SIN ARMA",8%,IF(E35="CON ARMA",10%,0)) -> 0.1 | O35: =+'ESTUDIO DE MERCADO_SEGURO'!$M30 -> 5100 | P35: =+M35*N35 -> 1787674 | Q35: =+M35+O35+P35 -> 19669514 | R35: =+Q35*10% -> 1966951.4 | S35: =+R35*19% -> 373720.77 | T35: =+Q35+S35 -> 20043235 | U35: SGR | W35: 3750 | X35: =(W35*$X$11)+W35 -> 3862.5
B36: PASTO | C36: 1 | D36: 1 Turno de vigilancia armada 24 horas | E36: CON ARMA | F36: 24 HORAS | G36: =IF(F36="24 HORAS",24,IF(F36="12 HORAS",12,0)) -> 24 | H36: N/A | I36: =IF(H36="N/A",1,IF(H36="NOCTURNO",9,IF(H36="DIURNO",15,0))) -> 1 | J36: 30 | K36: =+$E$6*$E$7 -> 17876740 | L36: =+IF(F36="12 HORAS",IF(H36="DIURNO",55.97%,0),0)+IF(F36="12 HORAS",IF(H36="NOCTURNO",44.03%,0),1) -> 1 | M36: =IF(H36="N/a",(((K36*L36)/30))*J36*C36,(((K36*L36)/30)/I36)*G36*J36*C36) -> 17876740 | N36: =+IF(E36="SIN ARMA",8%,IF(E36="CON ARMA",10%,0)) -> 0.1 | O36: =+'ESTUDIO DE MERCADO_SEGURO'!$M31 -> 5100 | P36: =+M36*N36 -> 1787674 | Q36: =+M36+O36+P36 -> 19669514 | R36: =+Q36*10% -> 1966951.4 | S36: =+R36*19% -> 373720.77 | T36: =+Q36+S36 -> 20043235 | U36: SGR | W36: 3750 | X36: =(W36*$X$11)+W36 -> 3862.5
B37: MARMATO, CALDAS, PASSM | C37: 1 | D37: 1 Turno de vigilancia armada 24 horas. Salvamento Minero. | E37: CON ARMA | F37: 24 HORAS | G37: =IF(F37="24 HORAS",24,IF(F37="12 HORAS",12,0)) -> 24 | H37: N/A | I37: =IF(H37="N/A",1,IF(H37="NOCTURNO",9,IF(H37="DIURNO",15,0))) -> 1 | J37: 30 | K37: =+$E$6*$E$7 -> 17876740 | L37: =+IF(F37="12 HORAS",IF(H37="DIURNO",55.97%,0),0)+IF(F37="12 HORAS",IF(H37="NOCTURNO",44.03%,0),1) -> 1 | M37: =IF(H37="N/a",(((K37*L37)/30))*J37*C37,(((K37*L37)/30)/I37)*G37*J37*C37) -> 17876740 | N37: =+IF(E37="SIN ARMA",8%,IF(E37="CON ARMA",10%,0)) -> 0.1 | O37: =+'ESTUDIO DE MERCADO_SEGURO'!$M32 -> 5100 | P37: =+M37*N37 -> 1787674 | Q37: =+M37+O37+P37 -> 19669514 | R37: =+Q37*10% -> 1966951.4 | S37: =+R37*19% -> 373720.77 | T37: =+Q37+S37 -> 20043235 | U37: ANM | W37: 3750 | X37: =(W37*$X$11)+W37 -> 3862.5
B38: REMEDIOS, ANTIOQUIA, PASSM | C38: 1 | D38: 1 Turno de vigilancia armada 24 horas. Salvamento Minero. | E38: CON ARMA | F38: 24 HORAS | G38: =IF(F38="24 HORAS",24,IF(F38="12 HORAS",12,0)) -> 24 | H38: N/A | I38: =IF(H38="N/A",1,IF(H38="NOCTURNO",9,IF(H38="DIURNO",15,0))) -> 1 | J38: 30 | K38: =+$E$6*$E$7 -> 17876740 | L38: =+IF(F38="12 HORAS",IF(H38="DIURNO",55.97%,0),0)+IF(F38="12 HORAS",IF(H38="NOCTURNO",44.03%,0),1) -> 1 | M38: =IF(H38="N/a",(((K38*L38)/30))*J38*C38,(((K38*L38)/30)/I38)*G38*J38*C38) -> 17876740 | N38: =+IF(E38="SIN ARMA",8%,IF(E38="CON ARMA",10%,0)) -> 0.1 | O38: =+'ESTUDIO DE MERCADO_SEGURO'!$M33 -> 5100 | P38: =+M38*N38 -> 1787674 | Q38: =+M38+O38+P38 -> 19669514 | R38: =+Q38*10% -> 1966951.4 | S38: =+R38*19% -> 373720.77 | T38: =+Q38+S38 -> 20043235 | U38: ANM | W38: 3750 | X38: =(W38*$X$11)+W38 -> 3862.5
B39: UBATÉ ESSM | C39: 1 | D39: 1 Turnos de vigilancia armada 24 horas. Salvamento Minero. | E39: CON ARMA | F39: 24 HORAS | G39: =IF(F39="24 HORAS",24,IF(F39="12 HORAS",12,0)) -> 24 | H39: N/A | I39: =IF(H39="N/A",1,IF(H39="NOCTURNO",9,IF(H39="DIURNO",15,0))) -> 1 | J39: 30 | K39: =+$E$6*$E$7 -> 17876740 | L39: =+IF(F39="12 HORAS",IF(H39="DIURNO",55.97%,0),0)+IF(F39="12 HORAS",IF(H39="NOCTURNO",44.03%,0),1) -> 1 | M39: =IF(H39="N/a",(((K39*L39)/30))*J39*C39,(((K39*L39)/30)/I39)*G39*J39*C39) -> 17876740 | N39: =+IF(E39="SIN ARMA",8%,IF(E39="CON ARMA",10%,0)) -> 0.1 | O39: =+'ESTUDIO DE MERCADO_SEGURO'!$M34 -> 5100 | P39: =+M39*N39 -> 1787674 | Q39: =+M39+O39+P39 -> 19669514 | R39: =+Q39*10% -> 1966951.4 | S39: =+R39*19% -> 373720.77 | T39: =+Q39+S39 -> 20043235 | U39: ANM | W39: 3750 | X39: =(W39*$X$11)+W39 -> 3862.5
B40: CALIFORNIA | C40: 1 | D40: 1 Turno de vigilancia armada 24 horas. | E40: SIN ARMA | F40: 24 HORAS | G40: =IF(F40="24 HORAS",24,IF(F40="12 HORAS",12,0)) -> 24 | H40: N/A | I40: =IF(H40="N/A",1,IF(H40="NOCTURNO",9,IF(H40="DIURNO",15,0))) -> 1 | J40: 30 | K40: =+$E$6*$E$7 -> 17876740 | L40: =+IF(F40="12 HORAS",IF(H40="DIURNO",55.97%,0),0)+IF(F40="12 HORAS",IF(H40="NOCTURNO",44.03%,0),1) -> 1 | M40: =IF(H40="N/a",(((K40*L40)/30))*J40*C40,(((K40*L40)/30)/I40)*G40*J40*C40) -> 17876740 | N40: =+IF(E40="SIN ARMA",8%,IF(E40="CON ARMA",10%,0)) -> 0.08 | O40: =+'ESTUDIO DE MERCADO_SEGURO'!$M35 -> 5100 | P40: =+M40*N40 -> 1430139.2 | Q40: =+M40+O40+P40 -> 19311979 | R40: =+Q40*10% -> 1931197.9 | S40: =+R40*19% -> 366927.61 | T40: =+Q40+S40 -> 19678907 | U40: SGR | W40: 3750 | X40: =(W40*$X$11)+W40 -> 3862.5
B41: TOTAL | M41: =SUM(M12:M40) -> 4.5360916e+08 | O41: =SUM(O12:O40) -> 118967 | P41: =SUM(P12:P40) -> 43796963 | Q41: =SUM(Q12:Q40) -> 4.9752509e+08 | R41: =SUM(R12:R40) -> 49752509 | S41: =SUM(S12:S40) -> 9452976.7 | T41: =SUM(T12:T40) -> 5.0697807e+08
B43: NOTA: Los valores de los servicios de vigilancia y seguridad privada corresponden a las tarifas establecidas para el año 2026 por la Circular Externa 20251300000115CS de 30 de diciembre de 2025 de la Superintendencia de Vigilancia y Seguridad Privada.
R45: COSTO DIRECTO ($) | T45: =+M41 -> 4.5360916e+08
...

Sheet septiembre2026
B1: AGENCIA NACIONAL DE MINERÍA
D2: SERVICIOS DE VIGILANCIA Y SEGURIDAD PRIVADA
D6: SALARIO MINIMO 2026 | E6: 1750905
D7: TARIFA | E7: 10.21
D8: TOTAL TARIFA | E8: =E6*E7 -> 17876740 | O8: DE 6 AM A 9 PM | Q8: DIURNO
O9: DE 9 PM A 6 AM | Q9: NOCTURNO
B10: SERVICIOS DE VIGILANCIA Y SEGURIDAD PRIVADA
B11: UBICACIÓN | C11: CANTIDAD | D11: DESCRIPCIÓN DE LOS SERVICIOS | E11: ESPECIFI-CACIÓN | F11: TURNO | G11: HORAS X TURNO | H11: HORARIO | I11: HORAS BASE | J11: DIAS | K11: TARIFA | L11: Variable Propor | M11: SUBTOTAL | N11: TARIFA | O11: SEGURO VIGILANCIA | P11: AYS | Q11: SUBTOTAL | R11: BASE IVA | S11: IVA | T11: TOTAL | U11: RECURSO $ | X11: 0.03
B12: BOGOTÁ SEDE PRINCIPAL ANM | C12: 2 | D12: Turno de vigilancia sin arma 12 horas lunes a viernes sin festivo (8:00 am a 8:00 p.m.) 11 horas diurnas. Recorredor. | E12: SIN ARMA | F12: 12 HORAS | G12: 11 | H12: DIURNO | I12: 13 | J12: 22 | K12: =+$E$6*$E$7 -> 17876740 | L12: =IF(H12="DIURNO",47.59%,IF(H12="NOCTURNO",52.41%,0)) -> 0.4759 | M12: =IF(H12="N/a",(((K12*L12)/30))*J12*C12,(((K12*L12)/30)/I12)*G12*J12*C12) -> 10558076 | N12: =+IF(E12="SIN ARMA",8%,IF(E12="CON ARMA",10%,0)) -> 0.08 | O12: =+'ESTUDIO DE MERCADO_SEGURO'!$M7 -> 1998 | P12: =+M12*N12 -> 844646.08 | Q12: =+M12+O12+P12 -> 11404720 | R12: =+Q12*10% -> 1140472 | S12: =+R12*19% -> 216689.68 | T12: =+Q12+S12 -> 11621410 | U12: ANM | W12: 2750 | X12: =(W12*$X$11)+W12 -> 2832.5
C13: 2 | D13: Turno de vigilancia sin arma 12 horas lunes a viernes sin festivo (8:00 am a 8:00 p.m.) 1 hora nocturna. Recorredor. | E13: SIN ARMA | F13: 12 HORAS | G13: 1 | H13: NOCTURNO | I13: 11 | J13: 22 | K13: =+$E$6*$E$7 -> 17876740 | L13: =IF(H13="DIURNO",47.59%,IF(H13="NOCTURNO",52.41%,0)) -> 0.5241 | M13: =IF(H13="N/a",(((K13*L13)/30))*J13*C13,(((K13*L13)/30)/I13)*G13*J13*C13) -> 1249226.6 | N13: =+IF(E13="SIN ARMA",8%,IF(E13="CON ARMA",10%,0)) -> 0.08 | O13: =+'ESTUDIO DE MERCADO_SEGURO'!$M8 -> 1548 | P13: =+M13*N13 -> 99938.128 | Q13: =+M13+O13+P13 -> 1350712.7 | R13: =+Q13*10% -> 135071.27 | S13: =+R13*19% -> 25663.542 | T13: =+Q13+S13 -> 1376376.3 | U13: ANM | W13: 1375 | X13: =(W13*$X$11)+W13 -> 1416.25
C14: 1 | D14: 1 Turno diurno de 12 horas lunes a viernes (sin festivos) (1 recepcionistas). Piso 9. | E14: SIN ARMA | F14: 12 HORAS | G14: =IF(F14="24 HORAS",24,IF(F14="12 HORAS",12,0)) -> 12 | H14: DIURNO | I14: 13 | J14: 22 | K14: =+$E$6*$E$7 -> 17876740 | L14: =IF(H14="DIURNO",47.59%,IF(H14="NOCTURNO",52.41%,0)) -> 0.4759 | M14: =IF(H14="N/a",(((K14*L14)/30))*J14*C14,(((K14*L14)/30)/I14)*G14*J14*C14) -> 5758950.6 | N14: =+IF(E14="SIN ARMA",8%,IF(E14="CON ARMA",10%,0)) -> 0.08 | O14: =+'ESTUDIO DE MERCADO_SEGURO'!$M9 -> 1548 | P14: =+M14*N14 -> 460716.04 | Q14: =+M14+O14+P14 -> 6221214.6 | R14: =+Q14*10% -> 622121.46 | S14: =+R14*19% -> 118203.08 | T14: =+Q14+S14 -> 6339417.7 | U14: ANM | W14: 1375 | X14: =(W14*$X$11)+W14 -> 1416.25
C15: 1 | D15: 1 Turno diurno de 12 horas lunes a viernes (sin festivos) (1 recepcionista). Piso 10. | E15: SIN ARMA | F15: 12 HORAS | G15: =IF(F15="24 HORAS",24,IF(F15="12 HORAS",12,0)) -> 12 | H15: DIURNO | I15: 13 | J15: 22 | K15: =+$E$6*$E$7 -> 17876740 | L15: =IF(H15="DIURNO",47.59%,IF(H15="NOCTURNO",52.41%,0)) -> 0.4759 | M15: =IF(H15="N/a",(((K15*L15)/30))*J15*C15,(((K15*L15)/30)/I15)*G15*J15*C15) -> 5758950.6 | N15: =+IF(E15="SIN ARMA",8%,IF(E15="CON ARMA",10%,0)) -> 0.08 | O15: =+'ESTUDIO DE MERCADO_SEGURO'!$M10 -> 1548 | P15: =+M15*N15 -> 460716.04 | Q15: =+M15+O15+P15 -> 6221214.6 | R15: =+Q15*10% -> 622121.46 | S15: =+R15*19% -> 118203.08 | T15: =+Q15+S15 -> 6339417.7 | U15: ANM | W15: 1375 | X15: =(W15*$X$11)+W15 -> 1416.25
C16: 1 | D16: 1 Turno diurno de 12 horas lunes a viernes (sin festivos) (1 recepcionista). Piso 8. | E16: SIN ARMA | F16: 12 HORAS | G16: =IF(F16="24 HORAS",24,IF(F16="12 HORAS",12,0)) -> 12 | H16: DIURNO | I16: 13 | J16: 22 | K16: =+$E$6*$E$7 -> 17876740 | L16: =IF(H16="DIURNO",47.59%,IF(H16="NOCTURNO",52.41%,0)) -> 0.4759 | M16: =IF(H16="N/a",(((K16*L16)/30))*J16*C16,(((K16*L16)/30)/I16)*G16*J16*C16) -> 5758950.6 | N16: =+IF(E16="SIN ARMA",8%,IF(E16="CON ARMA",10%,0)) -> 0.08 | O16: =+'ESTUDIO DE MERCADO_SEGURO'!$M11 -> 2547 | P16: =+M16*N16 -> 460716.04 | Q16: =+M16+O16+P16 -> 6222213.6 | R16: =+Q16*10% -> 622221.36 | S16: =+R16*19% -> 118222.06 | T16: =+Q16+S16 -> 6340435.7 | U16: ANM | W16: 1875 | X16: =(W16*$X$11)+W16 -> 1931.25
C17: 1 | D17: 1 Turno de 13 horas diurnas permanentes (Operador de medios tecnológicos). | E17: SIN ARMA | F17: 13 HORAS | G17: 13 | H17: DIURNO | I17: 13 | J17: 30 | K17: =+$E$6*$E$7 -> 17876740 | L17: =IF(H17="DIURNO",47.59%,IF(H17="NOCTURNO",52.41%,0)) -> 0.4759 | M17: =IF(H17="N/a",(((K17*L17)/30))*J17*C17,(((K17*L17)/30)/I17)*G17*J17*C17)+((150000/30)*30) -> 8657540.6 | N17: =+IF(E17="SIN ARMA",8%,IF(E17="CON ARMA",10%,0)) -> 0.08 | O17: =+'ESTUDIO DE MERCADO_SEGURO'!$M12 -> 1037 | P17: =+M17*N17 -> 692603.25 | Q17: =+M17+O17+P17 -> 9351180.8 | R17: =+Q17*10% -> 935118.08 | S17: =+R17*19% -> 177672.44 | T17: =+Q17+S17 -> 9528853.3 | U17: ANM | W17: 625 | X17: =(W17*$X$11)+W17 -> 643.75
C18: 1 | D18: 1 Turno nocturno de 11 horas permanentes (Operador de medios tecnológicos) | E18: SIN ARMA | F18: 11 HORAS | G18: 11 | H18: NOCTURNO | I18: 11 | J18: 30 | K18: =+$E$6*$E$7 -> 17876740 | L18: =IF(H18="DIURNO",47.59%,IF(H18="NOCTURNO",52.41%,0)) -> 0.5241 | M18: =IF(H18="N/a",(((K18*L18)/30))*J18*C18,(((K18*L18)/30)/I18)*G18*J18*C18)+((150000/30)*30) -> 9519199.5 | N18: =+IF(E18="SIN ARMA",8%,IF(E18="CON ARMA",10%,0)) -> 0.08 | O18: =+'ESTUDIO DE MERCADO_SEGURO'!$M13 -> 2865 | P18: =+M18*N18 -> 761535.96 | Q18: =+M18+O18+P18 -> 10283600 | R18: =+Q18*10% -> 1028360 | S18: =+R18*19% -> 195388.41 | T18: =+Q18+S18 -> 10478989 | U18: SGR | W18: 1875 | X18: =(W18*$X$11)+W18 -> 1931.25
C19: 1 | D19: 1 Turno diurno de 12 horas Lunes a Sábado (con festivos) (Supervisor Nacional) | E19: SIN ARMA | F19: 12 HORAS | G19: 12 | H19: DIURNO | I19: 13 | J19: 26 | K19: =+$E$6*$E$7 -> 17876740 | L19: =IF(H19="DIURNO",47.59%,IF(H19="NOCTURNO",52.41%,0)) -> 0.4759 | M19: =IF(H19="N/a",(((K19*L19)/30))*J19*C19,(((K19*L19)/30)/I19)*G19*J19*C19)+((495000/30)*30) -> 7301032.5 | N19: =+IF(E19="SIN ARMA",8%,IF(E19="CON ARMA",10%,0)) -> 0.08 | O19: =+'ESTUDIO DE MERCADO_SEGURO'!$M14 -> 2328 | P19: =+M19*N19 -> 584082.6 | Q19: =+M19+O19+P19 -> 7887443.1 | R19: =+Q19*10% -> 788744.31 | S19: =+R19*19% -> 149861.42 | T19: =+Q19+S19 -> 8037304.5 | U19: ANM | W19: 1250 | X19: =(W19*$X$11)+W19 -> 1287.5
B20: BOGOTÁ, BODEGA ARCHIVO | C20: 1 | D20: 1 Turno de vigilancia armada 24 horas (12 horas diurnas y 12 horas nocturnas). | E20: CON ARMA | F20: 24 HORAS | G20: =IF(F20="24 HORAS",24,IF(F20="12 HORAS",12,0)) -> 24 | H20: N/A | I20: =IF(H20="N/A",1,IF(H20="NOCTURNO",9,IF(H20="DIURNO",15,0))) -> 1 | J20: 30 | K20: =+$E$6*$E$7 -> 17876740 | L20: =+IF(F20="12 HORAS",IF(H20="DIURNO",55.97%,0),0)+IF(F20="12 HORAS",IF(H20="NOCTURNO",44.03%,0),1) -> 1 | M20: =IF(H20="N/a",(((K20*L20)/30))*J20*C20,(((K20*L20)/30)/I20)*G20*J20*C20) -> 17876740 | N20: =+IF(E20="SIN ARMA",8%,IF(E20="CON ARMA",10%,0)) -> 0.1 | O20: =+'ESTUDIO DE MERCADO_SEGURO'!$M15 -> 5100 | P20: =+M20*N20 -> 1787674 | Q20: =+M20+O20+P20 -> 19669514 | R20: =+Q20*10% -> 1966951.4 | S20: =+R20*19% -> 373720.77 | T20: =+Q20+S20 -> 20043235 | U20: ANM | W20: 3750 | X20: =(W20*$X$11)+W20 -> 3862.5
B21: BOGOTÁ ANM CAN (Esmeraldas) | C21: 1 | D21: 1 Turno de vigilancia armada 24 horas permanentes (12 horas diurnas y 12 horas nocturnas) | E21: CON ARMA | F21: 24 HORAS | G21: =IF(F21="24 HORAS",24,IF(F21="12 HORAS",12,0)) -> 24 | H21: N/A | I21: =IF(H21="N/A",1,IF(H21="NOCTURNO",9,IF(H21="DIURNO",15,0))) -> 1 | J21: 30 | K21: =+$E$6*$E$7 -> 17876740 | L21: =+IF(F21="12 HORAS",IF(H21="DIURNO",55.97%,0),0)+IF(F21="12 HORAS",IF(H21="NOCTURNO",44.03%,0),1) -> 1 | M21: =IF(H21="N/a",(((K21*L21)/30))*J21*C21,(((K21*L21)/30)/I21)*G21*J21*C21) -> 17876740 | N21: =+IF(E21="SIN ARMA",8%,IF(E21="CON ARMA",10%,0)) -> 0.1 | O21: =+'ESTUDIO DE MERCADO_SEGURO'!$M16 -> 5100 | P21: =+M21*N21 -> 1787674 | Q21: =+M21+O21+P21 -> 19669514 | R21: =+Q21*10% -> 1966951.4 | S21: =+R21*19% -> 373720.77 | T21: =+Q21+S21 -> 20043235 | U21: ANM | W21: 3750 | X21: =(W21*$X$11)+W21 -> 3862.5
B22: CARTAGENA | C22: 1 | D22: 1 Turno diurno de 12 horas lunes a viernes (sin festivos) | E22: SIN ARMA | F22: 12 HORAS | G22: =IF(F22="24 HORAS",24,IF(F22="12 HORAS",12,0)) -> 12 | H22: DIURNO | I22: 13 | J22: 22 | K22: =+$E$6*$E$7 -> 17876740 | L22: =IF(H22="DIURNO",47.59%,IF(H22="NOCTURNO",52.41%,0)) -> 0.4759 | M22: =IF(H22="N/a",(((K22*L22)/30))*J22*C22,(((K22*L22)/30)/I22)*G22*J22*C22) -> 5758950.6 | N22: =+IF(E22="SIN ARMA",8%,IF(E22="CON ARMA",10%,0)) -> 0.08 | O22: =+'ESTUDIO DE MERCADO_SEGURO'!$M17 -> 1548 | P22: =+M22*N22 -> 460716.04 | Q22: =+M22+O22+P22 -> 6221214.6 | R22: =+Q22*10% -> 622121.46 | S22: =+R22*19% -> 118203.08 | T22: =+Q22+S22 -> 6339417.7 | U22: SGR | V22: =T12/2 -> 5810704.9 | W22: 1081.3 | X22: =(W22*$X$11)+W22 -> 1113.739
B23: BUCARAMANGA | C23: 1 | D23: 1 Turno de vigilancia armada 24 horas | E23: CON ARMA | F23: 24 HORAS | G23: =IF(F23="24 HORAS",24,IF(F23="12 HORAS",12,0)) -> 24 | H23: N/A | I23: =IF(H23="N/A",1,IF(H23="NOCTURNO",9,IF(H23="DIURNO",15,0))) -> 1 | J23: 30 | K23: =+$E$6*$E$7 -> 17876740 | L23: =+IF(F23="12 HORAS",IF(H23="DIURNO",55.97%,0),0)+IF(F23="12 HORAS",IF(H23="NOCTURNO",44.03%,0),1) -> 1 | M23: =IF(H23="N/a",(((K23*L23)/30))*J23*C23,(((K23*L23)/30)/I23)*G23*J23*C23) -> 17876740 | N23: =+IF(E23="SIN ARMA",8%,IF(E23="CON ARMA",10%,0)) -> 0.1 | O23: =+'ESTUDIO DE MERCADO_SEGURO'!$M18 -> 5100 | P23: =+M23*N23 -> 1787674 | Q23: =+M23+O23+P23 -> 19669514 | R23: =+Q23*10% -> 1966951.4 | S23: =+R23*19% -> 373720.77 | T23: =+Q23+S23 -> 20043235 | U23: SGR | W23: 3750 | X23: =(W23*$X$11)+W23 -> 3862.5
B24: CÚCUTA - ESSM UFPS | C24: 1 | D24: 1 Turno de vigilancia armada 24 horas. Salvamento Minero. | E24: CON ARMA | F24: 24 HORAS | G24: =IF(F24="24 HORAS",24,IF(F24="12 HORAS",12,0)) -> 24 | H24: N/A | I24: =IF(H24="N/A",1,IF(H24="NOCTURNO",9,IF(H24="DIURNO",15,0))) -> 1 | J24: 30 | K24: =+$E$6*$E$7 -> 17876740 | L24: =+IF(F24="12 HORAS",IF(H24="DIURNO",55.97%,0),0)+IF(F24="12 HORAS",IF(H24="NOCTURNO",44.03%,0),1) -> 1 | M24: =IF(H24="N/a",(((K24*L24)/30))*J24*C24,(((K24*L24)/30)/I24)*G24*J24*C24) -> 17876740 | N24: =+IF(E24="SIN ARMA",8%,IF(E24="CON ARMA",10%,0)) -> 0.1 | O24: =+'ESTUDIO DE MERCADO_SEGURO'!$M19 -> 5100 | P24: =+M24*N24 -> 1787674 | Q24: =+M24+O24+P24 -> 19669514 | R24: =+Q24*10% -> 1966951.4 | S24: =+R24*19% -> 373720.77 | T24: =+Q24+S24 -> 20043235 | U24: ANM | W24: 3750 | X24: =(W24*$X$11)+W24 -> 3862.5
B25: CÚCUTA | C25: 1 | D25: 1 Turno de vigilancia armada 24 horas | E25: CON ARMA | F25: 24 HORAS | G25: =IF(F25="24 HORAS",24,IF(F25="12 HORAS",12,0)) -> 24 | H25: N/A | I25: =IF(H25="N/A",1,IF(H25="NOCTURNO",9,IF(H25="DIURNO",15,0))) -> 1 | J25: 30 | K25: =+$E$6*$E$7 -> 17876740 | L25: =+IF(F25="12 HORAS",IF(H25="DIURNO",55.97%,0),0)+IF(F25="12 HORAS",IF(H25="NOCTURNO",44.03%,0),1) -> 1 | M25: =IF(H25="N/a",(((K25*L25)/30))*J25*C25,(((K25*L25)/30)/I25)*G25*J25*C25) -> 17876740 | N25: =+IF(E25="SIN ARMA",8%,IF(E25="CON ARMA",10%,0)) -> 0.1 | O25: =+'ESTUDIO DE MERCADO_SEGURO'!$M20 -> 5100 | P25: =+M25*N25 -> 1787674 | Q25: =+M25+O25+P25 -> 19669514 | R25: =+Q25*10% -> 1966951.4 | S25: =+R25*19% -> 373720.77 | T25: =+Q25+S25 -> 20043235 | U25: SGR | W25: 3750 | X25: =(W25*$X$11)+W25 -> 3862.5
B26: IBAGUÉ | C26: 1 | D26: 1 Turno de vigilancia armada 24 horas | E26: CON ARMA | F26: 24 HORAS | G26: =IF(F26="24 HORAS",24,IF(F26="12 HORAS",12,0)) -> 24 | H26: N/A | I26: =IF(H26="N/A",1,IF(H26="NOCTURNO",9,IF(H26="DIURNO",15,0))) -> 1 | J26: 30 | K26: =+$E$6*$E$7 -> 17876740 | L26: =+IF(F26="12 HORAS",IF(H26="DIURNO",55.97%,0),0)+IF(F26="12 HORAS",IF(H26="NOCTURNO",44.03%,0),1) -> 1 | M26: =IF(H26="N/a",(((K26*L26)/30))*J26*C26,(((K26*L26)/30)/I26)*G26*J26*C26) -> 17876740 | N26: =+IF(E26="SIN ARMA",8%,IF(E26="CON ARMA",10%,0)) -> 0.1 | O26: =+'ESTUDIO DE MERCADO_SEGURO'!$M21 -> 5100 | P26: =+M26*N26 -> 1787674 | Q26: =+M26+O26+P26 -> 19669514 | R26: =+Q26*10% -> 1966951.4 | S26: =+R26*19% -> 373720.77 | T26: =+Q26+S26 -> 20043235 | U26: SGR | W26: 3750 | X26: =(W26*$X$11)+W26 -> 3862.5
B27: MEDELLÍN | C27: 1 | D27: 1 Turno de vigilancia armada 24 horas. | E27: CON ARMA | F27: 24 HORAS | G27: =IF(F27="24 HORAS",24,IF(F27="12 HORAS",12,0)) -> 24 | H27: N/A | I27: =IF(H27="N/A",1,IF(H27="NOCTURNO",9,IF(H27="DIURNO",15,0))) -> 1 | J27: 30 | K27: =+$E$6*$E$7 -> 17876740 | L27: =+IF(F27="12 HORAS",IF(H27="DIURNO",55.97%,0),0)+IF(F27="12 HORAS",IF(H27="NOCTURNO",44.03%,0),1) -> 1 | M27: =IF(H27="N/a",(((K27*L27)/30))*J27*C27,(((K27*L27)/30)/I27)*G27*J27*C27) -> 17876740 | N27: =+IF(E27="SIN ARMA",8%,IF(E27="CON ARMA",10%,0)) -> 0.1 | O27: =+'ESTUDIO DE MERCADO_SEGURO'!$M22 -> 5100 | P27: =+M27*N27 -> 1787674 | Q27: =+M27+O27+P27 -> 19669514 | R27: =+Q27*10% -> 1966951.4 | S27: =+R27*19% -> 373720.77 | T27: =+Q27+S27 -> 20043235 | U27: SGR | W27: 3750 | X27: =(W27*$X$11)+W27 -> 3862.5
B28: CALI | C28: 1 | D28: 1 Turno de vigilancia armada 24 horas | E28: CON ARMA | F28: 24 HORAS | G28: =IF(F28="24 HORAS",24,IF(F28="12 HORAS",12,0)) -> 24 | H28: N/A | I28: =IF(H28="N/A",1,IF(H28="NOCTURNO",9,IF(H28="DIURNO",15,0))) -> 1 | J28: 30 | K28: =+$E$6*$E$7 -> 17876740 | L28: =+IF(F28="12 HORAS",IF(H28="DIURNO",55.97%,0),0)+IF(F28="12 HORAS",IF(H28="NOCTURNO",44.03%,0),1) -> 1 | M28: =IF(H28="N/a",(((K28*L28)/30))*J28*C28,(((K28*L28)/30)/I28)*G28*J28*C28) -> 17876740 | N28: =+IF(E28="SIN ARMA",8%,IF(E28="CON ARMA",10%,0)) -> 0.1 | O28: =+'ESTUDIO DE MERCADO_SEGURO'!$M23 -> 5100 | P28: =+M28*N28 -> 1787674 | Q28: =+M28+O28+P28 -> 19669514 | R28: =+Q28*10% -> 1966951.4 | S28: =+R28*19% -> 373720.77 | T28: =+Q28+S28 -> 20043235 | U28: SGR | W28: 3750 | X28: =(W28*$X$11)+W28 -> 3862.5
B29: NOBSA (PAR y ESSM) | C29: 1 | D29: 1 Turno de vigilancia armada 24 horas | E29: CON ARMA | F29: 24 HORAS | G29: =IF(F29="24 HORAS",24,IF(F29="12 HORAS",12,0)) -> 24 | H29: N/A | I29: =IF(H29="N/A",1,IF(H29="NOCTURNO",9,IF(H29="DIURNO",15,0))) -> 1 | J29: 30 | K29: =+$E$6*$E$7 -> 17876740 | L29: =+IF(F29="12 HORAS",IF(H29="DIURNO",55.97%,0),0)+IF(F29="12 HORAS",IF(H29="NOCTURNO",44.03%,0),1) -> 1 | M29: =IF(H29="N/a",(((K29*L29)/30))*J29*C29,(((K29*L29)/30)/I29)*G29*J29*C29) -> 17876740 | N29: =+IF(E29="SIN ARMA",8%,IF(E29="CON ARMA",10%,0)) -> 0.1 | O29: =+'ESTUDIO DE MERCADO_SEGURO'!$M24 -> 5100 | P29: =+M29*N29 -> 1787674 | Q29: =+M29+O29+P29 -> 19669514 | R29: =+Q29*10% -> 1966951.4 | S29: =+R29*19% -> 373720.77 | T29: =+Q29+S29 -> 20043235 | U29: ANM | W29: 3750 | X29: =(W29*$X$11)+W29 -> 3862.5
C30: 1 | D30: 1 Turno de vigilancia armada 24 horas | E30: CON ARMA | F30: 24 HORAS | G30: =IF(F30="24 HORAS",24,IF(F30="12 HORAS",12,0)) -> 24 | H30: N/A | I30: =IF(H30="N/A",1,IF(H30="NOCTURNO",9,IF(H30="DIURNO",15,0))) -> 1 | J30: 30 | K30: =+$E$6*$E$7 -> 17876740 | L30: =+IF(F30="12 HORAS",IF(H30="DIURNO",55.97%,0),0)+IF(F30="12 HORAS",IF(H30="NOCTURNO",44.03%,0),1) -> 1 | M30: =IF(H30="N/a",(((K30*L30)/30))*J30*C30,(((K30*L30)/30)/I30)*G30*J30*C30) -> 17876740 | N30: =+IF(E30="SIN ARMA",8%,IF(E30="CON ARMA",10%,0)) -> 0.1 | O30: =+'ESTUDIO DE MERCADO_SEGURO'!$M25 -> 5100 | P30: =+M30*N30 -> 1787674 | Q30: =+M30+O30+P30 -> 19669514 | R30: =+Q30*10% -> 1966951.4 | S30: =+R30*19% -> 373720.77 | T30: =+Q30+S30 -> 20043235 | U30: SGR | W30: 3750 | X30: =(W30*$X$11)+W30 -> 3862.5
B31: AMAGA (PASSM) | C31: 2 | D31: 1 Turno de vigilancia armada 24 horas. Nueva Sede Salvamento Minero. | E31: CON ARMA | F31: 24 HORAS | G31: =IF(F31="24 HORAS",24,IF(F31="12 HORAS",12,0)) -> 24 | H31: N/A | I31: =IF(H31="N/A",1,IF(H31="NOCTURNO",9,IF(H31="DIURNO",15,0))) -> 1 | J31: 30 | K31: =+$E$6*$E$7 -> 17876740 | L31: =+IF(F31="12 HORAS",IF(H31="DIURNO",55.97%,0),0)+IF(F31="12 HORAS",IF(H31="NOCTURNO",44.03%,0),1) -> 1 | M31: =IF(H31="N/a",(((K31*L31)/30))*J31*C31,(((K31*L31)/30)/I31)*G31*J31*C31) -> 35753480 | N31: =+IF(E31="SIN ARMA",8%,IF(E31="CON ARMA",10%,0)) -> 0.1 | O31: =+'ESTUDIO DE MERCADO_SEGURO'!$M26 -> 5100 | P31: =+M31*N31 -> 3575348 | Q31: =+M31+O31+P31 -> 39333928 | R31: =+Q31*10% -> 3933392.8 | S31: =+R31*19% -> 747344.63 | T31: =+Q31+S31 -> 40081273 | U31: ANM | W31: 3750 | X31: =(W31*$X$11)+W31 -> 3862.5
B32: VALLEDUPAR | C32: 1 | D32: 1 Turno de vigilancia armada 24 horas | E32: CON ARMA | F32: 24 HORAS | G32: =IF(F32="24 HORAS",24,IF(F32="12 HORAS",12,0)) -> 24 | H32: N/A | I32: =IF(H32="N/A",1,IF(H32="NOCTURNO",9,IF(H32="DIURNO",15,0))) -> 1 | J32: 30 | K32: =+$E$6*$E$7 -> 17876740 | L32: =+IF(F32="12 HORAS",IF(H32="DIURNO",55.97%,0),0)+IF(F32="12 HORAS",IF(H32="NOCTURNO",44.03%,0),1) -> 1 | M32: =IF(H32="N/a",(((K32*L32)/30))*J32*C32,(((K32*L32)/30)/I32)*G32*J32*C32) -> 17876740 | N32: =+IF(E32="SIN ARMA",8%,IF(E32="CON ARMA",10%,0)) -> 0.1 | O32: =+'ESTUDIO DE MERCADO_SEGURO'!$M27 -> 5100 | P32: =+M32*N32 -> 1787674 | Q32: =+M32+O32+P32 -> 19669514 | R32: =+Q32*10% -> 1966951.4 | S32: =+R32*19% -> 373720.77 | T32: =+Q32+S32 -> 20043235 | U32: SGR | W32: 3750 | X32: =(W32*$X$11)+W32 -> 3862.5
B33: JAMUNDÍ ESSM | C33: 2 | D33: 2 Turnos de vigilancia armada 24 horas. Salvamento Minero. | E33: CON ARMA | F33: 24 HORAS | G33: =IF(F33="24 HORAS",24,IF(F33="12 HORAS",12,0)) -> 24 | H33: N/A | I33: =IF(H33="N/A",1,IF(H33="NOCTURNO",9,IF(H33="DIURNO",15,0))) -> 1 | J33: 30 | K33: =+$E$6*$E$7 -> 17876740 | L33: =+IF(F33="12 HORAS",IF(H33="DIURNO",55.97%,0),0)+IF(F33="12 HORAS",IF(H33="NOCTURNO",44.03%,0),1) -> 1 | M33: =IF(H33="N/a",(((K33*L33)/30))*J33*C33,(((K33*L33)/30)/I33)*G33*J33*C33) -> 35753480 | N33: =+IF(E33="SIN ARMA",8%,IF(E33="CON ARMA",10%,0)) -> 0.1 | O33: =+'ESTUDIO DE MERCADO_SEGURO'!$M28 -> 5100 | P33: =+M33*N33 -> 3575348 | Q33: =+M33+O33+P33 -> 39333928 | R33: =+Q33*10% -> 3933392.8 | S33: =+R33*19% -> 747344.63 | T33: =+Q33+S33 -> 40081273 | U33: ANM | W33: 3750 | X33: =(W33*$X$11)+W33 -> 3862.5
B34: QUIBDÓ | C34: 1 | D34: 1 Turno de vigilancia armada 24 horas | E34: CON ARMA | F34: 24 HORAS | G34: =IF(F34="24 HORAS",24,IF(F34="12 HORAS",12,0)) -> 24 | H34: N/A | I34: =IF(H34="N/A",1,IF(H34="NOCTURNO",9,IF(H34="DIURNO",15,0))) -> 1 | J34: 30 | K34: =+$E$6*$E$7 -> 17876740 | L34: =+IF(F34="12 HORAS",IF(H34="DIURNO",55.97%,0),0)+IF(F34="12 HORAS",IF(H34="NOCTURNO",44.03%,0),1) -> 1 | M34: =IF(H34="N/a",(((K34*L34)/30))*J34*C34,(((K34*L34)/30)/I34)*G34*J34*C34) -> 17876740 | N34: =+IF(E34="SIN ARMA",8%,IF(E34="CON ARMA",10%,0)) -> 0.1 | O34: =+'ESTUDIO DE MERCADO_SEGURO'!$M29 -> 5100 | P34: =+M34*N34 -> 1787674 | Q34: =+M34+O34+P34 -> 19669514 | R34: =+Q34*10% -> 1966951.4 | S34: =+R34*19% -> 373720.77 | T34: =+Q34+S34 -> 20043235 | U34: SGR | W34: 3750 | X34: =(W34*$X$11)+W34 -> 3862.5
B35: MANIZALES | C35: 1 | D35: 1 Turno de vigilancia armada 24 horas | E35: CON ARMA | F35: 24 HORAS | G35: =IF(F35="24 HORAS",24,IF(F35="12 HORAS",12,0)) -> 24 | H35: N/A | I35: =IF(H35="N/A",1,IF(H35="NOCTURNO",9,IF(H35="DIURNO",15,0))) -> 1 | J35: 30 | K35: =+$E$6*$E$7 -> 17876740 | L35: =+IF(F35="12 HORAS",IF(H35="DIURNO",55.97%,0),0)+IF(F35="12 HORAS",IF(H35="NOCTURNO",44.03%,0),1) -> 1 | M35: =IF(H35="N/a",(((K35*L35)/30))*J35*C35,(((K35*L35)/30)/I35)*G35*J35*C35) -> 17876740 | N35: =+IF(E35="SIN ARMA",8%,IF(E35="CON ARMA",10%,0)) -> 0.1 | O35: =+'ESTUDIO DE MERCADO_SEGURO'!$M30 -> 5100 | P35: =+M35*N35 -> 1787674 | Q35: =+M35+O35+P35 -> 19669514 | R35: =+Q35*10% -> 1966951.4 | S35: =+R35*19% -> 373720.77 | T35: =+Q35+S35 -> 20043235 | U35: SGR | W35: 3750 | X35: =(W35*$X$11)+W35 -> 3862.5
B36: PASTO | C36: 1 | D36: 1 Turno de vigilancia armada 24 horas | E36: CON ARMA | F36: 24 HORAS | G36: =IF(F36="24 HORAS",24,IF(F36="12 HORAS",12,0)) -> 24 | H36: N/A | I36: =IF(H36="N/A",1,IF(H36="NOCTURNO",9,IF(H36="DIURNO",15,0))) -> 1 | J36: 30 | K36: =+$E$6*$E$7 -> 17876740 | L36: =+IF(F36="12 HORAS",IF(H36="DIURNO",55.97%,0),0)+IF(F36="12 HORAS",IF(H36="NOCTURNO",44.03%,0),1) -> 1 | M36: =IF(H36="N/a",(((K36*L36)/30))*J36*C36,(((K36*L36)/30)/I36)*G36*J36*C36) -> 17876740 | N36: =+IF(E36="SIN ARMA",8%,IF(E36="CON ARMA",10%,0)) -> 0.1 | O36: =+'ESTUDIO DE MERCADO_SEGURO'!$M31 -> 5100 | P36: =+M36*N36 -> 1787674 | Q36: =+M36+O36+P36 -> 19669514 | R36: =+Q36*10% -> 1966951.4 | S36: =+R36*19% -> 373720.77 | T36: =+Q36+S36 -> 20043235 | U36: SGR | W36: 3750 | X36: =(W36*$X$11)+W36 -> 3862.5
B37: MARMATO, CALDAS, PASSM | C37: 1 | D37: 1 Turno de vigilancia armada 24 horas. Salvamento Minero. | E37: CON ARMA | F37: 24 HORAS | G37: =IF(F37="24 HORAS",24,IF(F37="12 HORAS",12,0)) -> 24 | H37: N/A | I37: =IF(H37="N/A",1,IF(H37="NOCTURNO",9,IF(H37="DIURNO",15,0))) -> 1 | J37: 30 | K37: =+$E$6*$E$7 -> 17876740 | L37: =+IF(F37="12 HORAS",IF(H37="DIURNO",55.97%,0),0)+IF(F37="12 HORAS",IF(H37="NOCTURNO",44.03%,0),1) -> 1 | M37: =IF(H37="N/a",(((K37*L37)/30))*J37*C37,(((K37*L37)/30)/I37)*G37*J37*C37) -> 17876740 | N37: =+IF(E37="SIN ARMA",8%,IF(E37="CON ARMA",10%,0)) -> 0.1 | O37: =+'ESTUDIO DE MERCADO_SEGURO'!$M32 -> 5100 | P37: =+M37*N37 -> 1787674 | Q37: =+M37+O37+P37 -> 19669514 | R37: =+Q37*10% -> 1966951.4 | S37: =+R37*19% -> 373720.77 | T37: =+Q37+S37 -> 20043235 | U37: ANM | W37: 3750 | X37: =(W37*$X$11)+W37 -> 3862.5
B38: REMEDIOS, ANTIOQUIA, PASSM | C38: 1 | D38: 1 Turno de vigilancia armada 24 horas. Salvamento Minero. | E38: CON ARMA | F38: 24 HORAS | G38: =IF(F38="24 HORAS",24,IF(F38="12 HORAS",12,0)) -> 24 | H38: N/A | I38: =IF(H38="N/A",1,IF(H38="NOCTURNO",9,IF(H38="DIURNO",15,0))) -> 1 | J38: 30 | K38: =+$E$6*$E$7 -> 17876740 | L38: =+IF(F38="12 HORAS",IF(H38="DIURNO",55.97%,0),0)+IF(F38="12 HORAS",IF(H38="NOCTURNO",44.03%,0),1) -> 1 | M38: =IF(H38="N/a",(((K38*L38)/30))*J38*C38,(((K38*L38)/30)/I38)*G38*J38*C38) -> 17876740 | N38: =+IF(E38="SIN ARMA",8%,IF(E38="CON ARMA",10%,0)) -> 0.1 | O38: =+'ESTUDIO DE MERCADO_SEGURO'!$M33 -> 5100 | P38: =+M38*N38 -> 1787674 | Q38: =+M38+O38+P38 -> 19669514 | R38: =+Q38*10% -> 1966951.4 | S38: =+R38*19% -> 373720.77 | T38: =+Q38+S38 -> 20043235 | U38: ANM | W38: 3750 | X38: =(W38*$X$11)+W38 -> 3862.5
B39: UBATÉ ESSM | C39: 1 | D39: 1 Turnos de vigilancia armada 24 horas. Salvamento Minero. | E39: CON ARMA | F39: 24 HORAS | G39: =IF(F39="24 HORAS",24,IF(F39="12 HORAS",12,0)) -> 24 | H39: N/A | I39: =IF(H39="N/A",1,IF(H39="NOCTURNO",9,IF(H39="DIURNO",15,0))) -> 1 | J39: 30 | K39: =+$E$6*$E$7 -> 17876740 | L39: =+IF(F39="12 HORAS",IF(H39="DIURNO",55.97%,0),0)+IF(F39="12 HORAS",IF(H39="NOCTURNO",44.03%,0),1) -> 1 | M39: =IF(H39="N/a",(((K39*L39)/30))*J39*C39,(((K39*L39)/30)/I39)*G39*J39*C39) -> 17876740 | N39: =+IF(E39="SIN ARMA",8%,IF(E39="CON ARMA",10%,0)) -> 0.1 | O39: =+'ESTUDIO DE MERCADO_SEGURO'!$M34 -> 5100 | P39: =+M39*N39 -> 1787674 | Q39: =+M39+O39+P39 -> 19669514 | R39: =+Q39*10% -> 1966951.4 | S39: =+R39*19% -> 373720.77 | T39: =+Q39+S39 -> 20043235 | U39: ANM | W39: 3750 | X39: =(W39*$X$11)+W39 -> 3862.5
B40: CALIFORNIA | C40: 1 | D40: 1 Turno de vigilancia armada 24 horas. | E40: SIN ARMA | F40: 24 HORAS | G40: =IF(F40="24 HORAS",24,IF(F40="12 HORAS",12,0)) -> 24 | H40: N/A | I40: =IF(H40="N/A",1,IF(H40="NOCTURNO",9,IF(H40="DIURNO",15,0))) -> 1 | J40: 30 | K40: =+$E$6*$E$7 -> 17876740 | L40: =+IF(F40="12 HORAS",IF(H40="DIURNO",55.97%,0),0)+IF(F40="12 HORAS",IF(H40="NOCTURNO",44.03%,0),1) -> 1 | M40: =IF(H40="N/a",(((K40*L40)/30))*J40*C40,(((K40*L40)/30)/I40)*G40*J40*C40) -> 17876740 | N40: =+IF(E40="SIN ARMA",8%,IF(E40="CON ARMA",10%,0)) -> 0.08 | O40: =+'ESTUDIO DE MERCADO_SEGURO'!$M35 -> 5100 | P40: =+M40*N40 -> 1430139.2 | Q40: =+M40+O40+P40 -> 19311979 | R40: =+Q40*10% -> 1931197.9 | S40: =+R40*19% -> 366927.61 | T40: =+Q40+S40 -> 19678907 | U40: SGR | W40: 3750 | X40: =(W40*$X$11)+W40 -> 3862.5
B41: TOTAL | M41: =SUM(M12:M40) -> 4.5360916e+08 | O41: =SUM(O12:O40) -> 118967 | P41: =SUM(P12:P40) -> 43796963 | Q41: =SUM(Q12:Q40) -> 4.9752509e+08 | R41: =SUM(R12:R40) -> 49752509 | S41: =SUM(S12:S40) -> 9452976.7 | T41: =SUM(T12:T40) -> 5.0697807e+08
B43: NOTA: Los valores de los servicios de vigilancia y seguridad privada corresponden a las tarifas establecidas para el año 2026 por la Circular Externa 20251300000115CS de 30 de diciembre de 2025 de la Superintendencia de Vigilancia y Seguridad Privada.
R45: COSTO DIRECTO ($) | T45: =+M41 -> 4.5360916e+08
...

Sheet octubre2026
B1: AGENCIA NACIONAL DE MINERÍA
D2: SERVICIOS DE VIGILANCIA Y SEGURIDAD PRIVADA
D6: SALARIO MINIMO 2026 | E6: 1750905
D7: TARIFA | E7: 10.21
D8: TOTAL TARIFA | E8: =E6*E7 -> 17876740 | O8: DE 6 AM A 9 PM | Q8: DIURNO
O9: DE 9 PM A 6 AM | Q9: NOCTURNO
B10: SERVICIOS DE VIGILANCIA Y SEGURIDAD PRIVADA
B11: UBICACIÓN | C11: CANTIDAD | D11: DESCRIPCIÓN DE LOS SERVICIOS | E11: ESPECIFI-CACIÓN | F11: TURNO | G11: HORAS X TURNO | H11: HORARIO | I11: HORAS BASE | J11: DIAS | K11: TARIFA | L11: Variable Propor | M11: SUBTOTAL | N11: TARIFA | O11: SEGURO VIGILANCIA | P11: AYS | Q11: SUBTOTAL | R11: BASE IVA | S11: IVA | T11: TOTAL | U11: RECURSO $ | X11: 0.03
B12: BOGOTÁ SEDE PRINCIPAL ANM | C12: 2 | D12: Turno de vigilancia sin arma 12 horas lunes a viernes sin festivo (8:00 am a 8:00 p.m.) 11 horas diurnas. Recorredor. | E12: SIN ARMA | F12: 12 HORAS | G12: 11 | H12: DIURNO | I12: 13 | J12: 22 | K12: =+$E$6*$E$7 -> 17876740 | L12: =IF(H12="DIURNO",47.59%,IF(H12="NOCTURNO",52.41%,0)) -> 0.4759 | M12: =IF(H12="N/a",(((K12*L12)/30))*J12*C12,(((K12*L12)/30)/I12)*G12*J12*C12) -> 10558076 | N12: =+IF(E12="SIN ARMA",8%,IF(E12="CON ARMA",10%,0)) -> 0.08 | O12: =+'ESTUDIO DE MERCADO_SEGURO'!$M7 -> 1998 | P12: =+M12*N12 -> 844646.08 | Q12: =+M12+O12+P12 -> 11404720 | R12: =+Q12*10% -> 1140472 | S12: =+R12*19% -> 216689.68 | T12: =+Q12+S12 -> 11621410 | U12: ANM | W12: 2750 | X12: =(W12*$X$11)+W12 -> 2832.5
C13: 2 | D13: Turno de vigilancia sin arma 12 horas lunes a viernes sin festivo (8:00 am a 8:00 p.m.) 1 hora nocturna. Recorredor. | E13: SIN ARMA | F13: 12 HORAS | G13: 1 | H13: NOCTURNO | I13: 11 | J13: 22 | K13: =+$E$6*$E$7 -> 17876740 | L13: =IF(H13="DIURNO",47.59%,IF(H13="NOCTURNO",52.41%,0)) -> 0.5241 | M13: =IF(H13="N/a",(((K13*L13)/30))*J13*C13,(((K13*L13)/30)/I13)*G13*J13*C13) -> 1249226.6 | N13: =+IF(E13="SIN ARMA",8%,IF(E13="CON ARMA",10%,0)) -> 0.08 | O13: =+'ESTUDIO DE MERCADO_SEGURO'!$M8 -> 1548 | P13: =+M13*N13 -> 99938.128 | Q13: =+M13+O13+P13 -> 1350712.7 | R13: =+Q13*10% -> 135071.27 | S13: =+R13*19% -> 25663.542 | T13: =+Q13+S13 -> 1376376.3 | U13: ANM | W13: 1375 | X13: =(W13*$X$11)+W13 -> 1416.25
C14: 1 | D14: 1 Turno diurno de 12 horas lunes a viernes (sin festivos) (1 recepcionistas). Piso 9. | E14: SIN ARMA | F14: 12 HORAS | G14: =IF(F14="24 HORAS",24,IF(F14="12 HORAS",12,0)) -> 12 | H14: DIURNO | I14: 13 | J14: 22 | K14: =+$E$6*$E$7 -> 17876740 | L14: =IF(H14="DIURNO",47.59%,IF(H14="NOCTURNO",52.41%,0)) -> 0.4759 | M14: =IF(H14="N/a",(((K14*L14)/30))*J14*C14,(((K14*L14)/30)/I14)*G14*J14*C14) -> 5758950.6 | N14: =+IF(E14="SIN ARMA",8%,IF(E14="CON ARMA",10%,0)) -> 0.08 | O14: =+'ESTUDIO DE MERCADO_SEGURO'!$M9 -> 1548 | P14: =+M14*N14 -> 460716.04 | Q14: =+M14+O14+P14 -> 6221214.6 | R14: =+Q14*10% -> 622121.46 | S14: =+R14*19% -> 118203.08 | T14: =+Q14+S14 -> 6339417.7 | U14: ANM | W14: 1375 | X14: =(W14*$X$11)+W14 -> 1416.25
C15: 1 | D15: 1 Turno diurno de 12 horas lunes a viernes (sin festivos) (1 recepcionista). Piso 10. | E15: SIN ARMA | F15: 12 HORAS | G15: =IF(F15="24 HORAS",24,IF(F15="12 HORAS",12,0)) -> 12 | H15: DIURNO | I15: 13 | J15: 22 | K15: =+$E$6*$E$7 -> 17876740 | L15: =IF(H15="DIURNO",47.59%,IF(H15="NOCTURNO",52.41%,0)) -> 0.4759 | M15: =IF(H15="N/a",(((K15*L15)/30))*J15*C15,(((K15*L15)/30)/I15)*G15*J15*C15) -> 5758950.6 | N15: =+IF(E15="SIN ARMA",8%,IF(E15="CON ARMA",10%,0)) -> 0.08 | O15: =+'ESTUDIO DE MERCADO_SEGURO'!$M10 -> 1548 | P15: =+M15*N15 -> 460716.04 | Q15: =+M15+O15+P15 -> 6221214.6 | R15: =+Q15*10% -> 622121.46 | S15: =+R15*19% -> 118203.08 | T15: =+Q15+S15 -> 6339417.7 | U15: ANM | W15: 1375 | X15: =(W15*$X$11)+W15 -> 1416.25
C16: 1 | D16: 1 Turno diurno de 12 horas lunes a viernes (sin festivos) (1 recepcionista). Piso 8. | E16: SIN ARMA | F16: 12 HORAS | G16: =IF(F16="24 HORAS",24,IF(F16="12 HORAS",12,0)) -> 12 | H16: DIURNO | I16: 13 | J16: 22 | K16: =+$E$6*$E$7 -> 17876740 | L16: =IF(H16="DIURNO",47.59%,IF(H16="NOCTURNO",52.41%,0)) -> 0.4759 | M16: =IF(H16="N/a",(((K16*L16)/30))*J16*C16,(((K16*L16)/30)/I16)*G16*J16*C16) -> 5758950.6 | N16: =+IF(E16="SIN ARMA",8%,IF(E16="CON ARMA",10%,0)) -> 0.08 | O16: =+'ESTUDIO DE MERCADO_SEGURO'!$M11 -> 2547 | P16: =+M16*N16 -> 460716.04 | Q16: =+M16+O16+P16 -> 6222213.6 | R16: =+Q16*10% -> 622221.36 | S16: =+R16*19% -> 118222.06 | T16: =+Q16+S16 -> 6340435.7 | U16: ANM | W16: 1875 | X16: =(W16*$X$11)+W16 -> 1931.25
C17: 1 | D17: 1 Turno de 13 horas diurnas permanentes (Operador de medios tecnológicos). | E17: SIN ARMA | F17: 13 HORAS | G17: 13 | H17: DIURNO | I17: 13 | J17: 30 | K17: =+$E$6*$E$7 -> 17876740 | L17: =IF(H17="DIURNO",47.59%,IF(H17="NOCTURNO",52.41%,0)) -> 0.4759 | M17: =IF(H17="N/a",(((K17*L17)/30))*J17*C17,(((K17*L17)/30)/I17)*G17*J17*C17)+((150000/30)*30) -> 8657540.6 | N17: =+IF(E17="SIN ARMA",8%,IF(E17="CON ARMA",10%,0)) -> 0.08 | O17: =+'ESTUDIO DE MERCADO_SEGURO'!$M12 -> 1037 | P17: =+M17*N17 -> 692603.25 | Q17: =+M17+O17+P17 -> 9351180.8 | R17: =+Q17*10% -> 935118.08 | S17: =+R17*19% -> 177672.44 | T17: =+Q17+S17 -> 9528853.3 | U17: ANM | W17: 625 | X17: =(W17*$X$11)+W17 -> 643.75
C18: 1 | D18: 1 Turno nocturno de 11 horas permanentes (Operador de medios tecnológicos) | E18: SIN ARMA | F18: 11 HORAS | G18: 11 | H18: NOCTURNO | I18: 11 | J18: 30 | K18: =+$E$6*$E$7 -> 17876740 | L18: =IF(H18="DIURNO",47.59%,IF(H18="NOCTURNO",52.41%,0)) -> 0.5241 | M18: =IF(H18="N/a",(((K18*L18)/30))*J18*C18,(((K18*L18)/30)/I18)*G18*J18*C18)+((150000/30)*30) -> 9519199.5 | N18: =+IF(E18="SIN ARMA",8%,IF(E18="CON ARMA",10%,0)) -> 0.08 | O18: =+'ESTUDIO DE MERCADO_SEGURO'!$M13 -> 2865 | P18: =+M18*N18 -> 761535.96 | Q18: =+M18+O18+P18 -> 10283600 | R18: =+Q18*10% -> 1028360 | S18: =+R18*19% -> 195388.41 | T18: =+Q18+S18 -> 10478989 | U18: SGR | W18: 1875 | X18: =(W18*$X$11)+W18 -> 1931.25
C19: 1 | D19: 1 Turno diurno de 12 horas Lunes a Sábado (con festivos) (Supervisor Nacional) | E19: SIN ARMA | F19: 12 HORAS | G19: 12 | H19: DIURNO | I19: 13 | J19: 26 | K19: =+$E$6*$E$7 -> 17876740 | L19: =IF(H19="DIURNO",47.59%,IF(H19="NOCTURNO",52.41%,0)) -> 0.4759 | M19: =IF(H19="N/a",(((K19*L19)/30))*J19*C19,(((K19*L19)/30)/I19)*G19*J19*C19)+((495000/30)*30) -> 7301032.5 | N19: =+IF(E19="SIN ARMA",8%,IF(E19="CON ARMA",10%,0)) -> 0.08 | O19: =+'ESTUDIO DE MERCADO_SEGURO'!$M14 -> 2328 | P19: =+M19*N19 -> 584082.6 | Q19: =+M19+O19+P19 -> 7887443.1 | R19: =+Q19*10% -> 788744.31 | S19: =+R19*19% -> 149861.42 | T19: =+Q19+S19 -> 8037304.5 | U19: ANM | W19: 1250 | X19: =(W19*$X$11)+W19 -> 1287.5
B20: BOGOTÁ, BODEGA ARCHIVO | C20: 1 | D20: 1 Turno de vigilancia armada 24 horas (12 horas diurnas y 12 horas nocturnas). | E20: CON ARMA | F20: 24 HORAS | G20: =IF(F20="24 HORAS",24,IF(F20="12 HORAS",12,0)) -> 24 | H20: N/A | I20: =IF(H20="N/A",1,IF(H20="NOCTURNO",9,IF(H20="DIURNO",15,0))) -> 1 | J20: 30 | K20: =+$E$6*$E$7 -> 17876740 | L20: =+IF(F20="12 HORAS",IF(H20="DIURNO",55.97%,0),0)+IF(F20="12 HORAS",IF(H20="NOCTURNO",44.03%,0),1) -> 1 | M20: =IF(H20="N/a",(((K20*L20)/30))*J20*C20,(((K20*L20)/30)/I20)*G20*J20*C20) -> 17876740 | N20: =+IF(E20="SIN ARMA",8%,IF(E20="CON ARMA",10%,0)) -> 0.1 | O20: =+'ESTUDIO DE MERCADO_SEGURO'!$M15 -> 5100 | P20: =+M20*N20 -> 1787674 | Q20: =+M20+O20+P20 -> 19669514 | R20: =+Q20*10% -> 1966951.4 | S20: =+R20*19% -> 373720.77 | T20: =+Q20+S20 -> 20043235 | U20: ANM | W20: 3750 | X20: =(W20*$X$11)+W20 -> 3862.5
B21: BOGOTÁ ANM CAN (Esmeraldas) | C21: 1 | D21: 1 Turno de vigilancia armada 24 horas permanentes (12 horas diurnas y 12 horas nocturnas) | E21: CON ARMA | F21: 24 HORAS | G21: =IF(F21="24 HORAS",24,IF(F21="12 HORAS",12,0)) -> 24 | H21: N/A | I21: =IF(H21="N/A",1,IF(H21="NOCTURNO",9,IF(H21="DIURNO",15,0))) -> 1 | J21: 30 | K21: =+$E$6*$E$7 -> 17876740 | L21: =+IF(F21="12 HORAS",IF(H21="DIURNO",55.97%,0),0)+IF(F21="12 HORAS",IF(H21="NOCTURNO",44.03%,0),1) -> 1 | M21: =IF(H21="N/a",(((K21*L21)/30))*J21*C21,(((K21*L21)/30)/I21)*G21*J21*C21) -> 17876740 | N21: =+IF(E21="SIN ARMA",8%,IF(E21="CON ARMA",10%,0)) -> 0.1 | O21: =+'ESTUDIO DE MERCADO_SEGURO'!$M16 -> 5100 | P21: =+M21*N21 -> 1787674 | Q21: =+M21+O21+P21 -> 19669514 | R21: =+Q21*10% -> 1966951.4 | S21: =+R21*19% -> 373720.77 | T21: =+Q21+S21 -> 20043235 | U21: ANM | W21: 3750 | X21: =(W21*$X$11)+W21 -> 3862.5
B22: CARTAGENA | C22: 1 | D22: 1 Turno diurno de 12 horas lunes a viernes (sin festivos) | E22: SIN ARMA | F22: 12 HORAS | G22: =IF(F22="24 HORAS",24,IF(F22="12 HORAS",12,0)) -> 12 | H22: DIURNO | I22: 13 | J22: 22 | K22: =+$E$6*$E$7 -> 17876740 | L22: =IF(H22="DIURNO",47.59%,IF(H22="NOCTURNO",52.41%,0)) -> 0.4759 | M22: =IF(H22="N/a",(((K22*L22)/30))*J22*C22,(((K22*L22)/30)/I22)*G22*J22*C22) -> 5758950.6 | N22: =+IF(E22="SIN ARMA",8%,IF(E22="CON ARMA",10%,0)) -> 0.08 | O22: =+'ESTUDIO DE MERCADO_SEGURO'!$M17 -> 1548 | P22: =+M22*N22 -> 460716.04 | Q22: =+M22+O22+P22 -> 6221214.6 | R22: =+Q22*10% -> 622121.46 | S22: =+R22*19% -> 118203.08 | T22: =+Q22+S22 -> 6339417.7 | U22: SGR | W22: 1081.3 | X22: =(W22*$X$11)+W22 -> 1113.739
