Workbook

Sheet RESUMEN
A1: BIENES CORPORINOQUIA AÑO 2026 QUE REQUIERE SER AMPARADOS | F1: SUBTOTAL | G1: IVA | H1: TOTAL PRIMA
A2: ITEM | B2: RAMO | C2: OBJETO | E2: VALOR ASEGURADO
A3: 1 | B3: RESPONSABILIDAD CIVIL EXTRACONTRACTUAL | C3: EXTRACONTRACTUAL | E3: 525271500 | F3: 2626358 | G3: =F3*19% -> 499008.02 | H3: =F3+(F3*19%) -> 3125366
A4: SUBTOTAL | B4: RESPONSABILIDAD CIVIL | E4: =E3 -> 525271500 | F4: 2626358 | G4: =F4*19% -> 499008.02 | H4: =F4+(F4*19%) -> 3125366
A5: 2 | B5: PÓLIZA RESPONSABILIDAD CIVIL SERVIDORES PUBLICOS | C5: 18 CARGOS | E5: 300000000 | F5: 10500000 | G5: =F5*19% -> 1995000 | H5: =F5+(F5*19%) -> 12495000
A6: SUBTOTAL | B6: RESPONSABILIDAD CIVIL | E6: =E5 -> 300000000 | F6: 10500001 | G6: =F6*19% -> 1995000.2 | H6: =F6+(F6*19%) -> 12495001
A7: 3 | B7: TODO RIESGO AUTOMOVILES COLECTIVA | C7: MOTOCICLETA SUZUKI, LINEA:TS125, MODELO:2008, CILINDRAJE: 123 CC, MOTOR: F103-231528, CHASIS:9FSSF11A88C097806 PLACA: JAF85B. (se anexa tarjeta de propiedad) | E7: 4600000 | F7: 782000 | G7: =F7*19% -> 148580 | H7: =F7+(F7*19%) -> 930580
C8: MOTOCICLETA HONDA, LINEA: CB1PRO, CILINDRAJE:125CC, MODELO:2015, MOTOR: SDH152FMI-3*E3500536*, CHASIS:9FMPCJ020FF000643, PLACA: SPZ93D .(se anexa tarjeta de propiedad) | E8: 4200000 | F8: 714000 | G8: =F8*19% -> 135660 | H8: =F8+(F8*19%) -> 849660
C9: MOTOCICLETA HERO , LINEA: XPULSE 200 FI OC CB1PRO, CILINDRAJE:199CC, MODELO:2024. MOTOR: MC20ABNGG00675 CHASIS: 9G5LDL024RVPH0033 PLACA: RSD 31G. (se anexa tarjeta de propiedad) | E9: 9000000 | F9: 900000 | G9: =F9*19% -> 171000 | H9: =F9+(F9*19%) -> 1071000
C10: MOTOCICLETA HERO , LINEA: XPULSE 200 FI OC CB1PRO, CILINDRAJE:199CC, MODELO:2024. MOTOR: MC20ABNGG00731 CHASIS: 9G5LDL026RVPH0020 PLACA: RSD 32G | E10: 9000000 | F10: 900000 | G10: =F10*19% -> 171000 | H10: =F10+(F10*19%) -> 1071000
C11: CAMIONETA CHEVROLET TRAILBLAZER LT2.8 5P4 4X4 DSL, DIESEL, COLOR: BLANCO NIEBLA, CILINDRAJE: 2776, MODELO 2023 PLACA: OSE 944. | E11: 150900000 | F11: 25351200 | G11: =F11*19% -> 4816728 | H11: =F11+(F11*19%) -> 30167928
C12: CAMIONETA CHEVROLET COLORADO CILINDRAJE: 2776, MODELO 2022 PLACA: OSE 917. (se anexa tarjeta de propiedad) | E12: 146500000 | F12: 24612000 | G12: =F12*19% -> 4676280 | H12: =F12+(F12*19%) -> 29288280
C13: CAMIONETA CHEVROLET COLORADO CILINDRAJE: 2776, MODELO 2022 PLACA: OSE 919. (se anexa tarjeta de propiedad) | E13: 146500000 | F13: 24612000 | G13: =F13*19% -> 4676280 | H13: =F13+(F13*19%) -> 29288280
C14: CAMIONETA CHEVROLET COLORADO CILINDRAJE: 2776, MODELO 2022 PLACA: OSE 920. (se anexa tarjeta de propiedad) | E14: 146500000 | F14: 24612000 | G14: =F14*19% -> 4676280 | H14: =F14+(F14*19%) -> 29288280
C15: CAMIONETA CHEVROLET COLORADO CILINDRAJE: 2776, MODELO 2022 PLACA: OSE 921. (se anexa tarjeta de propiedad) | E15: 146500000 | F15: 24612000 | G15: =F15*19% -> 4676280 | H15: =F15+(F15*19%) -> 29288280
C16: CAMIONETA CHEVROLET DIMAX. CILINDRAJE: 2500, NODELO 2016 PLACA: OSE 835 | E16: 89400000 | F16: 15019200 | G16: =F16*19% -> 2853648 | H16: =F16+(F16*19%) -> 17872848
A17: SUBTOTAL | B17: =+B7 -> TODO RIESGO AUTOMOVILES COLECTIVA | E17: =SUM(E7:E16) -> 853100000 | F17: =SUM(F7:F16) -> 142114400 | G17: =SUM(G7:G16) -> 27001736 | H17: =SUM(H7:H16) -> 169116136
A18: 4 | B18: SOAT | C18: MOTOCICLETA SUZUKI, LINEA:TS125, MODELO:2008, CILINDRAJE: 123 CC, MOTOR: F103-231528, CHASIS:9FSSF11A88C097806 PLACA: JAF85B. (se anexa tarjeta de propiedad) | E18: NO APLICA | F18: 343300 | G18: 0 | H18: =F18 -> 343300
C19: MOTOCICLETA HONDA, LINEA: CB1PRO, CILINDRAJE:125CC, MODELO:2015, MOTOR: SDH152FMI-3*E3500536*, CHASIS:9FMPCJ020FF000643, PLACA: SPZ93D .(se anexa tarjeta de propiedad) | F19: 343300 | G19: 0 | H19: =F19 -> 343300
C20: MOTOCICLETA HERO , LINEA: XPULSE 200 FI OC CB1PRO, CILINDRAJE:199CC, MODELO:2024. MOTOR: MC20ABNGG00675 CHASIS: 9G5LDL024RVPH0033 PLACA: RSD 31G. (se anexa tarjeta de propiedad) | F20: 343300 | G20: 0 | H20: =F20 -> 343300
C21: MOTOCICLETA HERO , LINEA: XPULSE 200 FI OC CB1PRO, CILINDRAJE:199CC, MODELO:2024. MOTOR: MC20ABNGG00731 CHASIS: 9G5LDL026RVPH0020 PLACA: RSD 32G | F21: 343300 | G21: 0 | H21: =F21 -> 343300
C22: CAMIONETA CHEVROLET TRAILBLAZER LT2.8 5P4 4X4 DSL, DIESEL, COLOR: BLANCO NIEBLA, CILINDRAJE: 2776, MODELO 2023 PLACA: OSE 944. | F22: 1110300 | G22: 0 | H22: =F22 -> 1110300
C23: CAMIONETA CHEVROLET COLORADO CILINDRAJE: 2776, MODELO 2022 PLACA: OSE 917. (se anexa tarjeta de propiedad) | F23: 1110300 | G23: 0 | H23: =F23 -> 1110300
C24: CAMIONETA CHEVROLET COLORADO CILINDRAJE: 2776, MODELO 2022 PLACA: OSE 919. (se anexa tarjeta de propiedad) | F24: 1110300 | G24: 0 | H24: =F24 -> 1110300
C25: CAMIONETA CHEVROLET COLORADO CILINDRAJE: 2776, MODELO 2022 PLACA: OSE 920. (se anexa tarjeta de propiedad) | F25: 1110300 | G25: 0 | H25: =F25 -> 1110300
C26: CAMIONETA CHEVROLET COLORADO CILINDRAJE: 2776, MODELO 2022 PLACA: OSE 921. (se anexa tarjeta de propiedad) | F26: 1110300 | G26: 0 | H26: =F26 -> 1110300
C27: CAMIONETA CHEVROLET DIMAX. CILINDRAJE: 2500, NODELO 2016 PLACA: OSE 835 | F27: 1121400 | G27: 0 | H27: =F27 -> 1121400
A28: SUBTOTAL | B28: =+B18 -> SOAT | E28: 8046100 | F28: =SUM(F18:F27) -> 8046100 | G28: =SUM(G18:G27) -> 0 | H28: =SUM(H18:H27) -> 8046100
A29: 5 | B29: MANEJO GLOBAL SECTOR OFICIAL | C29: DIANA CAROLINA MARIÑO MONDRAGON | D29: DIRECTOR GENERAL | E29: 250000000 | F29: 22500000 | G29: =F29*19% -> 4275000 | H29: =F29+(F29*19%) -> 26775000
C30: CARMENZA PICO MENDEZ | D30: SUBDIRECTOR ADMINISTRATIVO Y FINANCIERO CÓDIGO 40 GRADO 16
C31: HEILER MARTIN RICAURTE AVELLA | D31: SUBDIRECTOR DE CONTROL Y CALIDAD AMBIENTAL CÓDIGO 42 GRADO 16
C32: RODRIGO ROA PINEDA | D32: SUBDIRECTOR DE PLANEACIÓN AMBIENTAL CÓDIGO 40 GRADO 16
C33: ROBINSON BARRAGAN MORENO | D33: DIRECTOR TERRITORIAL SUBSEDE ARAUCA CÓDIGO 42 GRADO 14
C34: LUIS MANUEL AZABACHE LUNA | D34: DIRECTOR TERRITORIAL SUBSEDE LA PRIMAVERA CÓDIGO 42 GRADO 14
C35: ANGIE JOHANA AGUDELO BARBOSA | D35: PROFESIONAL ESPECIALIZADO CÓDIGO 2028 GRADO 16
C36: RODRIGO GARAVITO AMARILES | D36: JEFE OFICINA ASESORA JURIDICA CÓDIGO 1045 GRADO 7
C37: DANITXA LISSETH ROMERO CRUZ | D37: SECRETARIA GENERAL CÓDIGO 37 GRADO 16
C38: JAIDI BARRERA TOLOSA | D38: PROFESIONAL ESPECIALIZADO CÓDIGO 2028 GRADO 16
C39: LUZ DARY LEAL ABRIL | D39: PROFESIONAL UNIVERSITARIO CÓDIGO 2044 G11
C40: MARITZA MARLENY GOMEZ BARRETO | D40: PROFESIONAL UNIVERSITARIO CÓDIGO 2044 G10
...

Sheet COTIZACION
A1: BIENES CORPORINOQUIA AÑO 2026 QUE REQUIERE SER AMPARADOS | F1: SUBTOTAL | G1: IVA | H1: TOTAL PRIMA
A2: ITEM | B2: RAMO | C2: OBJETO | E2: VALOR ASEGURADO
A3: 1 | B3: RESPONSABILIDAD CIVIL EXTRACONTRACTUAL | C3: EXTRACONTRACTUAL | E3: 525271500
A4: SUBTOTAL | B4: RESPONSABILIDAD CIVIL | E4: =E3 -> 525271500
A5: 2 | B5: PÓLIZA RESPONSABILIDAD CIVIL SERVIDORES PUBLICOS | C5: 18 CARGOS | E5: 300000000
A6: SUBTOTAL | B6: RESPONSABILIDAD CIVIL | E6: =E5 -> 300000000
A7: 3 | B7: TODO RIESGO AUTOMOVILES COLECTIVA | C7: MOTOCICLETA SUZUKI, LINEA:TS125, MODELO:2008, CILINDRAJE: 123 CC, MOTOR: F103-231528, CHASIS:9FSSF11A88C097806 PLACA: JAF85B. (se anexa tarjeta de propiedad) | E7: 4600000
C8: MOTOCICLETA HONDA, LINEA: CB1PRO, CILINDRAJE:125CC, MODELO:2015, MOTOR: SDH152FMI-3*E3500536*, CHASIS:9FMPCJ020FF000643, PLACA: SPZ93D .(se anexa tarjeta de propiedad) | E8: 4200000
C9: MOTOCICLETA HERO , LINEA: XPULSE 200 FI OC CB1PRO, CILINDRAJE:199CC, MODELO:2024. MOTOR: MC20ABNGG00675 CHASIS: 9G5LDL024RVPH0033 PLACA: RSD 31G. (se anexa tarjeta de propiedad) | E9: 9000000
C10: MOTOCICLETA HERO , LINEA: XPULSE 200 FI OC CB1PRO, CILINDRAJE:199CC, MODELO:2024. MOTOR: MC20ABNGG00731 CHASIS: 9G5LDL026RVPH0020 PLACA: RSD 32G | E10: 9000000
C11: CAMIONETA CHEVROLET TRAILBLAZER LT2.8 5P4 4X4 DSL, DIESEL, COLOR: BLANCO NIEBLA, CILINDRAJE: 2776, MODELO 2023 PLACA: OSE 944. | E11: 150900000
C12: CAMIONETA CHEVROLET COLORADO CILINDRAJE: 2776, MODELO 2022 PLACA: OSE 917. (se anexa tarjeta de propiedad) | E12: 146500000
C13: CAMIONETA CHEVROLET COLORADO CILINDRAJE: 2776, MODELO 2022 PLACA: OSE 919. (se anexa tarjeta de propiedad) | E13: 146500000
C14: CAMIONETA CHEVROLET COLORADO CILINDRAJE: 2776, MODELO 2022 PLACA: OSE 920. (se anexa tarjeta de propiedad) | E14: 146500000
C15: CAMIONETA CHEVROLET COLORADO CILINDRAJE: 2776, MODELO 2022 PLACA: OSE 921. (se anexa tarjeta de propiedad) | E15: 146500000
C16: CAMIONETA CHEVROLET DIMAX. CILINDRAJE: 2500, NODELO 2016 PLACA: OSE 835 | E16: 89400000
A17: SUBTOTAL | B17: =+B7 -> TODO RIESGO AUTOMOVILES COLECTIVA | E17: =SUM(E7:E16) -> 853100000
A18: 4 | B18: SOAT | C18: MOTOCICLETA SUZUKI, LINEA:TS125, MODELO:2008, CILINDRAJE: 123 CC, MOTOR: F103-231528, CHASIS:9FSSF11A88C097806 PLACA: JAF85B. (se anexa tarjeta de propiedad)
C19: MOTOCICLETA HONDA, LINEA: CB1PRO, CILINDRAJE:125CC, MODELO:2015, MOTOR: SDH152FMI-3*E3500536*, CHASIS:9FMPCJ020FF000643, PLACA: SPZ93D .(se anexa tarjeta de propiedad)
C20: MOTOCICLETA HERO , LINEA: XPULSE 200 FI OC CB1PRO, CILINDRAJE:199CC, MODELO:2024. MOTOR: MC20ABNGG00675 CHASIS: 9G5LDL024RVPH0033 PLACA: RSD 31G. (se anexa tarjeta de propiedad)
C21: MOTOCICLETA HERO , LINEA: XPULSE 200 FI OC CB1PRO, CILINDRAJE:199CC, MODELO:2024. MOTOR: MC20ABNGG00731 CHASIS: 9G5LDL026RVPH0020 PLACA: RSD 32G
C22: CAMIONETA CHEVROLET TRAILBLAZER LT2.8 5P4 4X4 DSL, DIESEL, COLOR: BLANCO NIEBLA, CILINDRAJE: 2776, MODELO 2023 PLACA: OSE 944.
C23: CAMIONETA CHEVROLET COLORADO CILINDRAJE: 2776, MODELO 2022 PLACA: OSE 917. (se anexa tarjeta de propiedad)
C24: CAMIONETA CHEVROLET COLORADO CILINDRAJE: 2776, MODELO 2022 PLACA: OSE 919. (se anexa tarjeta de propiedad)
C25: CAMIONETA CHEVROLET COLORADO CILINDRAJE: 2776, MODELO 2022 PLACA: OSE 920. (se anexa tarjeta de propiedad)
C26: CAMIONETA CHEVROLET COLORADO CILINDRAJE: 2776, MODELO 2022 PLACA: OSE 921. (se anexa tarjeta de propiedad)
C27: CAMIONETA CHEVROLET DIMAX. CILINDRAJE: 2500, NODELO 2016 PLACA: OSE 835
A28: SUBTOTAL | B28: =+B18 -> SOAT
A29: 5 | B29: MANEJO GLOBAL SECTOR OFICIAL | C29: DIANA CAROLINA MARIÑO MONDRAGON | D29: DIRECTOR GENERAL | E29: 250000000
C30: CARMENZA PICO MENDEZ | D30: SUBDIRECTOR ADMINISTRATIVO Y FINANCIERO CÓDIGO 40 GRADO 16
C31: HEILER MARTIN RICAURTE AVELLA | D31: SUBDIRECTOR DE CONTROL Y CALIDAD AMBIENTAL CÓDIGO 42 GRADO 16
C32: RODRIGO ROA PINEDA | D32: SUBDIRECTOR DE PLANEACIÓN AMBIENTAL CÓDIGO 40 GRADO 16
C33: ROBINSON BARRAGAN MORENO | D33: DIRECTOR TERRITORIAL SUBSEDE ARAUCA CÓDIGO 42 GRADO 14
C34: LUIS MANUEL AZABACHE LUNA | D34: DIRECTOR TERRITORIAL SUBSEDE LA PRIMAVERA CÓDIGO 42 GRADO 14
C35: ANGIE JOHANA AGUDELO BARBOSA | D35: PROFESIONAL ESPECIALIZADO CÓDIGO 2028 GRADO 16
C36: RODRIGO GARAVITO AMARILES | D36: JEFE OFICINA ASESORA JURIDICA CÓDIGO 1045 GRADO 7
C37: DANITXA LISSETH ROMERO CRUZ | D37: SECRETARIA GENERAL CÓDIGO 37 GRADO 16
C38: JAIDI BARRERA TOLOSA | D38: PROFESIONAL ESPECIALIZADO CÓDIGO 2028 GRADO 16
C39: LUZ DARY LEAL ABRIL | D39: PROFESIONAL UNIVERSITARIO CÓDIGO 2044 G11
C40: MARITZA MARLENY GOMEZ BARRETO | D40: PROFESIONAL UNIVERSITARIO CÓDIGO 2044 G10
...

Sheet INVENTARIO
A1: PLACA | B1: CODIGO CATEGORIA | C1: NOMBRE CATEGORIA | D1: DESCRIPCION_ELEMENTO | E1: VALOR_COSTO | F1: FECHA INGRESO | G1: ESTADO | H1: TIPO DEVOLUTIVO
A2: 8391 | B2: 2501 | C2: SOFTWARE | D2: LICENCIAS SISTEMAS OPERATIVOS MICROSOFT WINDOWS SERVER 2016 ESTANDAR SECTOR GOBIERNO | E2: 3306000 | F2: 13/12/2016 | G2: Bueno | H2: ACTIVO
A3: 8618 | B3: 2501 | C3: SOFTWARE | D3: LICENCIA DE SOFTWARE USO DEL SOFTWARE HUMANO | E3: 100224362 | F3: 30/12/2016 | G3: Bueno | H3: ACTIVO
A4: 8640 | B4: 2501 | C4: SOFTWARE | D4: LICENCIAS SISTEMAS OPERATIVOS Licencia de Sistema Operativo Windows Server 2016, 2 core. | E4: 3306000 | F4: 30/12/2016 | G4: Bueno | H4: ACTIVO
A5: 9111 | B5: 2501 | C5: SOFTWARE | D5: LICENCIA DE SOFTWARE | E5: 39510380 | F5: 27/12/2017 | G5: Bueno | H5: ACTIVO
A6: 9263 | B6: 2501 | C6: SOFTWARE | D6: LICENCIAS SISTEMAS OPERATIVOS | E6: 3768558.6 | F6: 31/12/2018 | G6: Bueno | H6: ACTIVO
A7: 9264 | B7: 2501 | C7: SOFTWARE | D7: LICENCIAS SISTEMAS OPERATIVOS | E7: 3768558.6 | F7: 31/12/2018 | G7: Bueno | H7: ACTIVO
A8: 9331 | B8: 2501 | C8: SOFTWARE | D8: LICENCIA MAIL ENABLE SERVER | E8: 4559842 | F8: 31/12/2018 | G8: Bueno | H8: ACTIVO
A9: 10689 | B9: 2501 | C9: SOFTWARE | D9: LICENCIAS SISTEMAS OPERATIVOS | E9: 5319300 | F9: 30/12/2022 | G9: Bueno | H9: ACTIVO
A10: 10692 | B10: 2501 | C10: SOFTWARE | D10: LICENCIAS DE OFIMATICA MICROSOFT OFFICE 2021 | E10: 3094000 | F10: 30/12/2022 | G10: Bueno | H10: ACTIVO
A11: 10693 | B11: 2501 | C11: SOFTWARE | D11: LICENCIAS DE OFIMATICA MICROSOFT OFFICE 2021 | E11: 3094000 | F11: 30/12/2022 | G11: Bueno | H11: ACTIVO
A12: 11007 | B12: 2501 | C12: SOFTWARE | D12: LICENCIA OFFICE LTSC PROFESIONAL PLUS 2021 | E12: 3193563.7 | F12: 4/12/2023 | G12: Bueno | H12: ACTIVO
A13: 11008 | B13: 2501 | C13: SOFTWARE | D13: LICENCIA OFFICE LTSC PROFESIONAL PLUS 2021 | E13: 3193563.7 | F13: 4/12/2023 | G13: Bueno | H13: ACTIVO
... A356: 10990 | B356: 2201 | C356: AUTOMOVILES | D356: MOTOCICLETA MARCA HERO PLACA RSD 32G | E356: 15000000 | F356: 8/11/2023 | G356: Bueno | H356: ACTIVO
E357: =SUM(E2:E356) -> 4.7264885e+09

Sheet SOFWARE
A1: PLACA | B1: CODIGO CATEGORIA | C1: NOMBRE CATEGORIA | D1: DESCRIPCION_ELEMENTO | E1: VALOR_COSTO | F1: FECHA INGRESO | G1: ESTADO | H1: TIPO DEVOLUTIVO
A2: 8391 | B2: 2501 | C2: SOFTWARE | D2: LICENCIAS SISTEMAS OPERATIVOS MICROSOFT WINDOWS SERVER 2016 ESTANDAR SECTOR GOBIERNO | E2: 3306000 | F2: 13/12/2016 | G2: Bueno | H2: ACTIVO
A3: 8618 | B3: 2501 | C3: SOFTWARE | D3: LICENCIA DE SOFTWARE USO DEL SOFTWARE HUMANO | E3: 100224362 | F3: 30/12/2016 | G3: Bueno | H3: ACTIVO
A4: 8640 | B4: 2501 | C4: SOFTWARE | D4: LICENCIAS SISTEMAS OPERATIVOS Licencia de Sistema Operativo Windows Server 2016, 2 core. | E4: 3306000 | F4: 30/12/2016 | G4: Bueno | H4: ACTIVO
A5: 9111 | B5: 2501 | C5: SOFTWARE | D5: LICENCIA DE SOFTWARE | E5: 39510380 | F5: 27/12/2017 | G5: Bueno | H5: ACTIVO
A6: 9263 | B6: 2501 | C6: SOFTWARE | D6: LICENCIAS SISTEMAS OPERATIVOS | E6: 3768558.6 | F6: 31/12/2018 | G6: Bueno | H6: ACTIVO
A7: 9264 | B7: 2501 | C7: SOFTWARE | D7: LICENCIAS SISTEMAS OPERATIVOS | E7: 3768558.6 | F7: 31/12/2018 | G7: Bueno | H7: ACTIVO
A8: 9331 | B8: 2501 | C8: SOFTWARE | D8: LICENCIA MAIL ENABLE SERVER | E8: 4559842 | F8: 31/12/2018 | G8: Bueno | H8: ACTIVO
A9: 10689 | B9: 2501 | C9: SOFTWARE | D9: LICENCIAS SISTEMAS OPERATIVOS | E9: 5319300 | F9: 30/12/2022 | G9: Bueno | H9: ACTIVO
A10: 10692 | B10: 2501 | C10: SOFTWARE | D10: LICENCIAS DE OFIMATICA MICROSOFT OFFICE 2021 | E10: 3094000 | F10: 30/12/2022 | G10: Bueno | H10: ACTIVO
A11: 10693 | B11: 2501 | C11: SOFTWARE | D11: LICENCIAS DE OFIMATICA MICROSOFT OFFICE 2021 | E11: 3094000 | F11: 30/12/2022 | G11: Bueno | H11: ACTIVO
A12: 11007 | B12: 2501 | C12: SOFTWARE | D12: LICENCIA OFFICE LTSC PROFESIONAL PLUS 2021 | E12: 3193563.7 | F12: 4/12/2023 | G12: Bueno | H12: ACTIVO
A13: 11008 | B13: 2501 | C13: SOFTWARE | D13: LICENCIA OFFICE LTSC PROFESIONAL PLUS 2021 | E13: 3193563.7 | F13: 4/12/2023 | G13: Bueno | H13: ACTIVO
... A29: 11479 | B29: 2501 | C29: SOFTWARE | D29: CERTIFICADO SSL MULTIDOMINIO | E29: 7800000 | F29: 25/06/2025 | G29: Bueno | H29: ACTIVO
E30: =SUM(E2:E29) -> 5.0462763e+08

Sheet OBRAS DE ARTE 
A1: PLACA | B1: CODIGO CATEGORIA | C1: NOMBRE CATEGORIA | D1: DESCRIPCION_ELEMENTO | E1: VALOR_COSTO | F1: FECHA INGRESO | G1: ESTADO | H1: TIPO DEVOLUTIVO
A2: 11229 | B2: 2401 | C2: OBRAS DE ARTE | D2: LIBRO VIRTUAL LABORATORIO STANDARD METHODS FOR THE EXAMINATION OF WATER AND WASTEWATER 24TH EDITION | E2: 4246333 | F2: 22/12/2023 | G2: Bueno | H2: ACTIVO
E3: =SUM(E2) -> 4246333

Sheet MAQUINARIA Y EQUIPO
A1: PLACA | B1: CODIGO CATEGORIA | C1: NOMBRE CATEGORIA | D1: DESCRIPCION_ELEMENTO | E1: VALOR_COSTO | F1: FECHA INGRESO | G1: ESTADO | H1: TIPO DEVOLUTIVO
A2: 675 | B2: 1601 | C2: MAQUINARIA Y EQUIPO | D2: PLANTAS DE GENERACION ELECTRICA PLANTA ELECTRICA 75KWA-C10, CABINA INSONORA 72DBA75KWA | E2: 36601480 | F2: 1/03/2002 | G2: Bueno | H2: ACTIVO
A3: 676 | B3: 1601 | C3: MAQUINARIA Y EQUIPO | D3: PLANTAS DE GENERACION ELECTRICA GENERADOR DE 5KWA TENSEUH MOTOR TENSEUJ 850MG 1000T DE 10HT | E3: 3596000 | F3: 1/03/2002 | G3: Bueno | H3: ACTIVO
A4: 1796 | B4: 1601 | C4: MAQUINARIA Y EQUIPO | D4: PLANTAS DE GENERACION ELECTRICA | E4: 4000000 | F4: 1/03/2002 | G4: Bueno | H4: ACTIVO
A5: 6342 | B5: 1601 | C5: MAQUINARIA Y EQUIPO | D5: TRANSFORMADOR TRIFASICO | E5: 14503523 | F5: 19/08/2008 | G5: Bueno | H5: ACTIVO
A6: 6344 | B6: 1601 | C6: MAQUINARIA Y EQUIPO | D6: CELDA AUTOSOPORTADA | E6: 7540000 | F6: 19/08/2008 | G6: Bueno | H6: ACTIVO
A7: 6345 | B7: 1601 | C7: MAQUINARIA Y EQUIPO | D7: TABLERO DE PROTECCION | E7: 7152000 | F7: 19/08/2008 | G7: Bueno | H7: ACTIVO
A8: 9077 | B8: 1801 | C8: MAQUINARIA Y EQUIPO | D8: CAJA METALICA | E8: 6152300 | F8: 27/12/2017 | G8: Bueno | H8: ACTIVO
A9: 9078 | B9: 1801 | C9: MAQUINARIA Y EQUIPO | D9: CAJA METALICA | E9: 6152300 | F9: 27/12/2017 | G9: Bueno | H9: ACTIVO
A10: 9079 | B10: 1801 | C10: MAQUINARIA Y EQUIPO | D10: CAJA METALICA | E10: 6152300 | F10: 27/12/2017 | G10: Bueno | H10: ACTIVO
A11: 9104 | B11: 2002 | C11: MAQUINARIA Y EQUIPO | D11: CÁMARA FOTOGRAFICA | E11: 17816680 | F11: 27/12/2017 | G11: Bueno | H11: ACTIVO
A12: 9105 | B12: 2002 | C12: MAQUINARIA Y EQUIPO | D12: CÁMARA FOTOGRAFICA | E12: 17816680 | F12: 27/12/2017 | G12: Bueno | H12: ACTIVO
A13: 9787 | B13: 2002 | C13: MAQUINARIA Y EQUIPO | D13: AIRE ACONDICIONADO | E13: 3130000 | F13: 29/12/2020 | G13: Bueno | H13: ACTIVO
... A46: 11606 | B46: 2002 | C46: MAQUINARIA Y EQUIPO | D46: AIRE ACONDICIONADO TIPO MINI SPLIT INVERTER 18.000 BTU MODELO MSGPD-22CRFN8-NQ0W | E46: 5355000 | F46: 10/02/2026 | G46: Bueno | H46: ACTIVO
E47: =SUM(E2:E46) -> 3.8698042e+08

Sheet MUEBLES  Y ENSERES 
A1: PLACA | B1: CODIGO CATEGORIA | C1: NOMBRE CATEGORIA | D1: DESCRIPCION_ELEMENTO | E1: VALOR_COSTO | F1: FECHA INGRESO | G1: ESTADO | H1: TIPO DEVOLUTIVO
A2: 10181 | B2: 2001 | C2: MUEBLES Y ENSERES | D2: ARCHIVADOR METALICO | E2: 3748500 | F2: 25/02/2022 | G2: Bueno | H2: ACTIVO
A3: 10359 | B3: 2001 | C3: MUEBLES Y ENSERES | D3: ARCHIVADOR RODANTE MECANICO | E3: 27346200 | F3: 28/12/2022 | G3: Bueno | H3: ACTIVO
A4: 11011 | B4: 2001 | C4: MUEBLES Y ENSERES | D4: ARCHIVADOR RODANTE MECANICO | E4: 89779907 | F4: 11/12/2023 | G4: Bueno | H4: ACTIVO
A5: 11075 | B5: 2001 | C5: MUEBLES Y ENSERES | D5: DISFRAZ ESTRUCTURAL TIPO MUÑECON, DISFRAZ DE ALTO TRAFICO, SISTEMA DE VENTILACION DE DOS MOTORES DEN | E5: 7645750 | F5: 21/12/2023 | G5: Bueno | H5: ACTIVO
A6: 11076 | B6: 2001 | C6: MUEBLES Y ENSERES | D6: DISFRAZ INFLABLE DE 2 MTS, ELABORADO EN TELA CAMPERA, COSIDOS, TURBINAS DE 12 V CON BASE PROTECTORA | E6: 3332000 | F6: 21/12/2023 | G6: Bueno | H6: ACTIVO
A7: 11077 | B7: 2001 | C7: MUEBLES Y ENSERES | D7: DISFRAZ INFLABLE DE 2 MTS, ELABORADO EN TELA CAMPERA, COSIDOS, TURBINAS DE 12 V CON BASE PROTECTORA | E7: 3332000 | F7: 21/12/2023 | G7: Bueno | H7: ACTIVO
A8: 11078 | B8: 2001 | C8: MUEBLES Y ENSERES | D8: DISFRAZ INFLABLE DE 2 MTS, ELABORADO EN TELA CAMPERA, COSIDOS, TURBINAS DE 12 V CON BASE PROTECTORA | E8: 3332000 | F8: 21/12/2023 | G8: Bueno | H8: ACTIVO
A9: 11079 | B9: 2001 | C9: MUEBLES Y ENSERES | D9: DISFRAZ INFLABLE DE 2 MTS, ELABORADO EN TELA CAMPERA, COSIDOS, TURBINAS DE 12 V CON BASE PROTECTORA | E9: 3332000 | F9: 21/12/2023 | G9: Bueno | H9: ACTIVO
A10: 11196 | B10: 2001 | C10: MUEBLES Y ENSERES | D10: NEVERA CONGELADOR SUPERIOR | E10: 4417994 | F10: 22/12/2023 | G10: Bueno | H10: ACTIVO
A11: 11197 | B11: 2001 | C11: MUEBLES Y ENSERES | D11: CONGELADOR HORIZONTAL | E11: 2984401 | F11: 22/12/2023 | G11: Bueno | H11: ACTIVO
A12: 11400 | B12: 2001 | C12: MUEBLES Y ENSERES | D12: ARCHIVADOR RODANTE MECANICO | E12: 59799999 | F12: 11/12/2024 | G12: Bueno | H12: ACTIVO
A13: 11401 | B13: 2001 | C13: MUEBLES Y ENSERES | D13: ARCHIVADOR RODANTE MANUAL | E13: 19992000 | F13: 11/12/2024 | G13: Bueno | H13: ACTIVO
... A16: 11641 | B16: 2001 | C16: MUEBLES Y ENSERES | D16: PERGOLA | E16: 13903960 | F16: 30/12/2025 | G16: Bueno | H16: ACTIVO
E17: =SUM(E2:E16) -> 270446659

Sheet EQUIPOS DIAGNOSTICO
A1: PLACA | B1: CODIGO CATEGORIA | C1: NOMBRE CATEGORIA | D1: DESCRIPCION_ELEMENTO | E1: VALOR_COSTO | F1: FECHA INGRESO | G1: ESTADO | H1: TIPO DEVOLUTIVO
A2: 2295 | B2: 1901 | C2: EQUIPO DE DIAGNOSTICO | D2: BALANZA ELECTRONICA | E2: 3244598 | F2: 1/11/1995 | G2: Bueno | H2: ACTIVO
A3: 6834 | B3: 1901 | C3: EQUIPO DE DIAGNOSTICO | D3: MOLINETE | E3: 27642800 | F3: 30/10/2009 | G3: Bueno | H3: ACTIVO
A4: 9447 | B4: 1901 | C4: EQUIPO DE DIAGNOSTICO | D4: POZOMETRO POR CINTA 100 MTS | E4: 4944450 | F4: 3/02/2020 | G4: Bueno | H4: ACTIVO
A5: 9448 | B5: 1901 | C5: EQUIPO DE DIAGNOSTICO | D5: POZOMETRO POR CINTA 100 MTS | E5: 4944450 | F5: 3/02/2020 | G5: Bueno | H5: ACTIVO
A6: 9449 | B6: 1901 | C6: EQUIPO DE DIAGNOSTICO | D6: POZOMETRO POR CINTA 200 MTS | E6: 6934130 | F6: 3/02/2020 | G6: Bueno | H6: ACTIVO
A7: 9450 | B7: 1901 | C7: EQUIPO DE DIAGNOSTICO | D7: POZOMETRO POR CINTA 200 MTS | E7: 6934130 | F7: 3/02/2020 | G7: Bueno | H7: ACTIVO
A8: 9451 | B8: 1901 | C8: EQUIPO DE DIAGNOSTICO | D8: POZOMETRO POR CINTA 200 MTS | E8: 6934130 | F8: 3/02/2020 | G8: Bueno | H8: ACTIVO
A9: 9452 | B9: 1901 | C9: EQUIPO DE DIAGNOSTICO | D9: MULTIPARAMETRO ROBUSTO X 3 SONDAS ROBUSTAS CON SERIALES: PH 193052569232-CONDUC 1930122589296 Y OXY | E9: 40775350 | F9: 3/02/2020 | G9: Bueno | H9: ACTIVO
A10: 9453 | B10: 1901 | C10: EQUIPO DE DIAGNOSTICO | D10: MULTIPARAMETRO ROBUSTO X 3 SONDAS ROBUSTAS CON SERIALES: PH 193052569231-CONDUC 192902589266 Y OXY | E10: 40775350 | F10: 3/02/2020 | G10: Bueno | H10: ACTIVO
A11: 9454 | B11: 1901 | C11: EQUIPO DE DIAGNOSTICO | D11: MULTIPARAMETRO ROBUSTO X 3 SONDAS ROBUSTAS CON SERIALES: PH 193052569234-CONDUC 1930122589295 Y OXY | E11: 40775350 | F11: 3/02/2020 | G11: Bueno | H11: ACTIVO
A12: 9455 | B12: 1901 | C12: EQUIPO DE DIAGNOSTICO | D12: MULTIPARAMETRO ROBUSTO X 3 SONDAS ROBUSTAS CON SERIALES: PH 193052569229 - CONDUC 192902589265 Y OX | E12: 40775350 | F12: 3/02/2020 | G12: Bueno | H12: ACTIVO
A13: 9456 | B13: 1901 | C13: EQUIPO DE DIAGNOSTICO | D13: MULTIPARAMETRO ROBUSTO X 3 SONDAS ROBUSTAS CON SERIALES: PH 193052569233 - CONDUC 192872589256 Y OX | E13: 40775350 | F13: 3/02/2020 | G13: Bueno | H13: ACTIVO
... A20: 9463 | B20: 1901 | C20: EQUIPO DE DIAGNOSTICO | D20: POZOMETRO POR CINTA 200 MTS | E20: 6934130 | F20: 13/02/2020 | G20: Bueno | H20: ACTIVO
E21: =SUM(E2:E20) -> 556710318

Sheet EQUIPOS MEDICOS 
A1: PLACA | B1: CODIGO CATEGORIA | C1: NOMBRE CATEGORIA | D1: DESCRIPCION_ELEMENTO | E1: VALOR_COSTO | F1: FECHA INGRESO | G1: ESTADO | H1: TIPO DEVOLUTIVO
A2: 6000 | B2: 1902 | C2: EQUIPOS MEDICOS | D2: MANIFOLD | E2: 4802400 | F2: 2/01/2008 | G2: Bueno | H2: ACTIVO
A3: 6652 | B3: 1902 | C3: EQUIPOS MEDICOS | D3: CONDUCTIMETRO DE MESA SENSION 7 | E3: 8641814 | F3: 29/04/2009 | G3: Bueno | H3: ACTIVO
A4: 6654 | B4: 1902 | C4: EQUIPOS MEDICOS | D4: BURETA DIGITAL | E4: 4883414 | F4: 29/04/2009 | G4: Bueno | H4: ACTIVO
A5: 6655 | B5: 1902 | C5: EQUIPOS MEDICOS | D5: BURETA DIGITAL | E5: 4883414 | F5: 29/04/2009 | G5: Bueno | H5: ACTIVO
A6: 6656 | B6: 1902 | C6: EQUIPOS MEDICOS | D6: BURETA DIGITAL | E6: 4883414 | F6: 29/04/2009 | G6: Bueno | H6: ACTIVO
A7: 6657 | B7: 1902 | C7: EQUIPOS MEDICOS | D7: INCUBADORA | E7: 7508912 | F7: 29/04/2009 | G7: Bueno | H7: ACTIVO
A8: 9734 | B8: 1902 | C8: EQUIPOS MEDICOS | D8: DESTILADOR KJENDALH. CONTROL DE TEMPERATURA ELECTRONICO/ANALOGICO INDIVIDUAL. PANEL DE CONTROL CON I | E8: 44469133 | F8: 10/09/2020 | G8: Bueno | H8: ACTIVO
A9: 9735 | B9: 1902 | C9: EQUIPOS MEDICOS | D9: SOXHLET PARA EXTRACCION DE GRASAS ANALOGO CON CALENTAMIENTO DE 6 MUESTRAS Y CONTROLADOR DE TEMPERATU | E9: 19148309 | F9: 10/09/2020 | G9: Bueno | H9: ACTIVO
A10: 9736 | B10: 1902 | C10: EQUIPOS MEDICOS | D10: REACTOR DRB200, 110 V 15X16 MM. CERTIFICACIONES DE CONFORMIDAD: CE, cTUVus. GARANTIA 1 AÑO | E10: 20904006 | F10: 10/09/2020 | G10: Bueno | H10: ACTIVO
A11: 9737 | B11: 1902 | C11: EQUIPOS MEDICOS | D11: PH METRO PH 100. DESCRIPCION DETALLADA: PH METER SET HANDYLAB 100 CON COMBINADO DE PHELECTRODO DE PH | E11: 7354766 | F11: 10/09/2020 | G11: Bueno | H11: ACTIVO
A12: 9738 | B12: 1902 | C12: EQUIPOS MEDICOS | D12: PH METRO PH 100 PANTALLA LCD B/W GRAFICO RETRO ILUMINADO. MANUAL DE MEMORIA DE DATOS 200 CONJUNTOS D | E12: 7354766 | F12: 10/09/2020 | G12: Bueno | H12: ACTIVO
A13: 9739 | B13: 1902 | C13: EQUIPOS MEDICOS | D13: CONDUCTIMETRO SET 200 | E13: 10606361 | F13: 10/09/2020 | G13: Bueno | H13: ACTIVO
... A43: 11456 | B43: 1902 | C43: EQUIPOS MEDICOS | D43: HORNO DE CONVECCION FORZADA | E43: 39032000 | F43: 19/03/2025 | G43: Bueno | H43: ACTIVO
E44: =SUM(E2:E43) -> 3.9726951e+08

Sheet EQUIPOS COMPUTO
A1: PLACA | B1: CODIGO CATEGORIA | C1: NOMBRE CATEGORIA | D1: DESCRIPCION_ELEMENTO | E1: VALOR_COSTO | F1: FECHA INGRESO | G1: ESTADO | H1: TIPO DEVOLUTIVO
A2: 7478 | B2: 2102 | C2: EQUIPO DE COMPUTACION | D2: COMPUTADOR PORTATIL | E2: 5582848 | F2: 12/02/2013 | G2: Bueno | H2: ACTIVO
A3: 7483 | B3: 2102 | C3: EQUIPO DE COMPUTACION | D3: COMPUTADO TODO EN UNO ESCRITORIO Pro 4300; Teclado hp bczzm0bvb4c3ls; mouse hp 674316-001 | E3: 3107640 | F3: 12/02/2013 | G3: Bueno | H3: ACTIVO
A4: 7535 | B4: 2101 | C4: EQUIPO DE COMPUTACION | D4: SWITCH | E4: 6036593 | F4: 3/09/2013 | G4: Bueno | H4: ACTIVO
A5: 7539 | B5: 2101 | C5: EQUIPO DE COMPUTACION | D5: SWITCH | E5: 3453941 | F5: 3/09/2013 | G5: Bueno | H5: ACTIVO
A6: 7542 | B6: 2102 | C6: EQUIPO DE COMPUTACION | D6: COMPUTADOR TODO EN UNO | E6: 3547960 | F6: 3/09/2013 | G6: Bueno | H6: ACTIVO
A7: 7544 | B7: 2102 | C7: EQUIPO DE COMPUTACION | D7: COMPUTADOR | E7: 3547960 | F7: 3/09/2013 | G7: Bueno | H7: ACTIVO
A8: 7546 | B8: 2102 | C8: EQUIPO DE COMPUTACION | D8: COMPUTADOR DE ESCRITORIO, CON PROCESADOR INTEL CORE 15 3470 (3.2 GHZ, 6 MB DE CACHE, A NUCLEOS), 4 | E8: 3547960 | F8: 3/09/2013 | G8: Inservible | H8: ACTIVO
A9: 7609 | B9: 2102 | C9: EQUIPO DE COMPUTACION | D9: MICROSOFT WINDOWS SERVER | E9: 13742253 | F9: 20/09/2013 | G9: Bueno | H9: ACTIVO
A10: 7662 | B10: 2101 | C10: EQUIPO DE COMPUTACION | D10: RACK | E10: 3460309 | F10: 20/12/2013 | G10: Bueno | H10: ACTIVO
A11: 7700 | B11: 2102 | C11: EQUIPO DE COMPUTACION | D11: VIDEO - PROYECTOR RESOLUCION XGA Y HDMI, ALTAVOZ INTEGRADO 10 W WRILESS | E11: 4200000.4 | F11: 20/12/2013 | G11: Bueno | H11: ACTIVO
A12: 7707 | B12: 2102 | C12: EQUIPO DE COMPUTACION | D12: SERVIDOR HP PROLIANT | E12: 2976142 | F12: 25/03/2014 | G12: Bueno | H12: ACTIVO
A13: 7709 | B13: 2102 | C13: EQUIPO DE COMPUTACION | D13: COMPUTADOR (CPU), TECLADO HP SERIAL BCZXF0BVB3M0DY , MOUSE HP SERIAL FCMHF0BAU3H54V | E13: 3070128 | F13: 25/03/2014 | G13: Bueno | H13: ACTIVO
... A181: 11642 | B181: 2101 | C181: EQUIPO DE COMPUTACION | D181: SISTEMA DE ALARMA | E181: 9520000 | F181: 19/03/2025 | G181: Bueno | H181: ACTIVO
E182: =SUM(E2:E181) -> 1.3726195e+09

Sheet LISTADO DE CARGOS
A1: LISTADO DE CARGOS POLIZA DE MANEJO Y SERVIDORES PUBLICOS
A2: ITEM | B2: BENEFICIARIO | C2: CARGO | D2: No. IDENTIFICACION
A3: 1 | B3: DIANA CAROLINA MARIÑO MONDRAGON | C3: DIRECTOR GENERAL | D3: 23726509
A4: 2 | B4: CARMENZA PICO MENDEZ | C4: SUBDIRECTOR ADMINISTRATIVO Y FINANCIERO CÓDIGO 40 GRADO 16 | D4: 68299013
A5: =A4+1 -> 3 | B5: HEILER MARTIN RICAURTE AVELLA | C5: SUBDIRECTOR DE CONTROL Y CALIDAD AMBIENTAL CÓDIGO 42 GRADO 16 | D5: 33366880
A6: =A5+1 -> 4 | B6: RODRIGO ROA PINEDA | C6: SUBDIRECTOR DE PLANEACIÓN AMBIENTAL CÓDIGO 40 GRADO 16 | D6: 74182370
A7: =A6+1 -> 5 | B7: ROBINSON BARRAGAN MORENO | C7: DIRECTOR TERRITORIAL SUBSEDE ARAUCA CÓDIGO 42 GRADO 14 | D7: 91477557
A8: =A7+1 -> 6 | B8: LUIS MANUEL AZABACHE LUNA | C8: DIRECTOR TERRITORIAL SUBSEDE LA PRIMAVERA CÓDIGO 42 GRADO 14 | D8: 80850873
A9: =A8+1 -> 7 | B9: ANGIE JOHANA AGUDELO BARBOSA | C9: PROFESIONAL ESPECIALIZADO CÓDIGO 2028 GRADO 16 | D9: 1072395089
A10: =A9+1 -> 8 | B10: RODRIGO GARAVITO AMARILES | C10: JEFE OFICINA ASESORA JURIDICA CÓDIGO 1045 GRADO 7 | D10: 17421734
A11: =A10+1 -> 9 | B11: DANITXA LISSETH ROMERO CRUZ | C11: SECRETARIA GENERAL CÓDIGO 37 GRADO 16 | D11: 1118550978
A12: =A11+1 -> 10 | B12: JAIDI BARRERA TOLOSA | C12: PROFESIONAL ESPECIALIZADO CÓDIGO 2028 GRADO 16 | D12: 23726543
A14: 11 | B14: LUZ DARY LEAL ABRIL | C14: PROFESIONAL UNIVERSITARIO CÓDIGO 2044 G11 | D14: 23791075
A15: 12 | B15: MARITZA MARLENY GOMEZ BARRETO | C15: PROFESIONAL UNIVERSITARIO CÓDIGO 2044 G10 | D15: 1122128522
A16: 13 | B16: MARIA OLIVIA OLARTE CABRERA | C16: TECNICO ADMINISTRATIVO CÓDIGO 3124 GRADO 14 | D16: 1179729
A17: 14 | B17: ALBA MARIENT CAMPIÑO MENDOZA | C17: PROFESIONAL ESPECIALIZADO CÓDIGO 2028 GRADO 12 | D17: 40405602
A18: 15 | B18: RUBIELA LINARES RODRIGUEZ | C18: TECNICO ADMINISTRATIVO TESORERIA CÓDIGO 3124 G14 | D18: 23791145
A19: 16 | B19: RICARDO LEON RUEDA | C19: PROFESIONAL ESPECIALIZADO COBRO COACTIVO CODIGO 2044 G10 | D19: 1118548590
A20: 17 | B20: ZORAIDA ESTEPA MENDIVELSO | C20: PROSESIONAL ESPECIALIZADO CODIGO 2028 G14 | D20: 47437198
A21: 18 | B21: RUBY DEYANIRA PARADA TORRES | C21: PROFESIONAL UNIVERSITARIO CODIGO 2044 G10 | D21: 1094247027

Sheet Catg Construcciones y Edificaci
A1: LISTADO INFRAESTRUCTURA
A2: ITEM | B2: DESCRIPCION | C2: UBICACION | D2: CLASE_INMUEBLE | E2: TIPO_INMUEBLE | F2: TIPO_UBICACION | G2: VLR_COSTO
A3: 1 | B3: EDIFICACION: -OFICINA ARAUCA CRA 16 Nº 25-05 | C3: OFICINA ARAUCA CRA 16 Nº 25-05 | D3: Edificacion | E3: Edificio (Urbano) | F3: 1-ZONA URBANA | G3: 224090000
A4: 2 | B4: EDIFICACION: -SEDE PRINCIPAL CRA 23 No. 18-31 YOPAL | C4: SEDE PRINCIPAL CRA 23 No. 18-31 YOPAL | D4: Edificacion | E4: Edificio (Urbano) | F4: 1-ZONA URBANA | G4: 1190177681
A5: 3 | B5: EDIFICACION: CASA DE LA HACIENDA COROZAL O GRANJA UARY | C5: VEREDA PALOMAS KM 18 VIA SIRIVANA - YOPAL CASANARE | D5: Edificacion | E5: Casa (Rural) | F5: 2-ZONA RURAL | G5: 59356850
G6: =SUM(G3:G5) -> 1473624531

Sheet VEHICULOS
A1: DESCRIPCION DEL VEHICULO | B1: CODIGO FASECOLDA | C1: VALOR CODIGO FASECOLDA
A2: TRAILER TIPO FURGON; EN ALUMINIO ALFAJOR, 100X. 90CM EJE EN ACERO CON HOJAS DE RESORTE | C2: 3516000
A3: CAMIONETA VERSION DMAX CD 2.5L DSL CRD 4X4 C/A BLANCO GALA DOBLE CAMILA MODELO 2016, NUMERO DE PASAJ | B3: 1621090 | C3: 91500000
A4: CAMIONETA 4X4 PLACA OSE917 | B4: 1621101 | C4: 147900000
A5: CAMIONETA 4X4 PLACA OSE919 | B5: 1621101 | C5: 147900000
A6: CAMIONETA 4X4 PLACA OSE920 | B6: 1621101 | C6: 147900000
A7: CAMIONETA 4X4 PLACA OSE921 | B7: 1621101 | C7: 147900000
A8: CAMIONETA TRAILBLAZER | B8: 1608061 | C8: 150900000
A9: MOTOCICLETA MARCA HERO PLACA RSD31G | B9: 39517024 | C9: 9400000
A10: MOTOCICLETA MARCA HERO PLACA RSD 32G | B10: 39517024 | C10: 9400000
A11: MOTOCICLETA COLOR NEGRA, MOTOR "SDH152FMI-3*E3500536*", CHASIS "9FMPCJ020FF000643"; CON PLACA SPZ93 | B11: 3417157 | C11: 4500000
B13: TOTAL | C13: =SUM(C2:C11) -> 860816000

Sheet CASCO BARCO
A1: NOMBRE CATEGORIA | B1: DESCRIPCION_ELEMENTO | C1: VALOR_COSTO | E1: SERIAL | F1: MARCA
A2: MARITIMO Y FLUVIAL | B2: BOTE 12 2 CUADERNAS MOTOR FUERA DE BORDA YAMAHA, CAPOTA, CONSOLA Y PARABRISAS | C2: 10481600 | D2: 10481600 | F2: ** NULL **
A3: MARITIMO Y FLUVIAL | B3: BOTE DE 13 PIES TRES CUADERNAS REF E13A08 | C3: 7835800 | D3: 7835800 | F3: EDUARDOÑO DE 13 PIES CUADERNAS REF E13A08
A4: MARITIMO Y FLUVIAL | B4: MOTOR FUERA DE BORDA DE 40 HP PATA LARGA REF E40GMHL | C4: 8669000 | D4: 8669000 | F4: EDUARDO¥O
A5: MARITIMO Y FLUVIAL | B5: BALSA INFLABLE PARA TRANSPORTE DE PERSONAL | C5: 10478280 | D5: 10478280 | F5: ** NULL **
A6: MARITIMO Y FLUVIAL | B6: BOTE INFLABLE PARA TRANSPORTE DE PERSONAL | C6: 14057470 | D6: 14057470 | F6: COLMAN NAVI
A7: MARITIMO Y FLUVIAL | B7: MOTOR FUERA DE BORDA 30 HP | C7: 17350200 | D7: 17350200 | F7: SUZUKI 30HP
D8: =SUM(D2:D7) -> 68872350

Sheet CASCO AVIACION
A1: EQUIPO DE COMUNICACION | B1: DESCRIPCION | C1: VALOR
A2: EQUIPO DE COMUNICACION | B2: DRON | C2: 3201576
A3: EQUIPO DE COMUNICACION | B3: DRON | C3: 3201576
A4: EQUIPO DE COMUNICACION | B4: DRON | C4: 3201576
A5: EQUIPO DE COMUNICACION | B5: DRON | C5: 3201576
A6: EQUIPO DE COMUNICACION | B6: DRON | C6: 3201576
A7: EQUIPO DE COMUNICACION | B7: DRON | C7: 3201576
A8: EQUIPO DE COMUNICACION | B8: AERONAVE NO TRIPULADA DRONE DJI MAVIC 3 ENTERPRISE+RADIO CONTROL S/N 5YSZLB30034GR5+1 BATERIA S/N 4E | C8: 22480000
C10: =SUM(C2:C9) -> 41689456
