Workbook
Name _: [1]RECURSOS!$A$2:$E$478
Name _.: [1]RECURSOS!$A$2:$E$478
Name ________________________________PJ50: #REF!
Name _______________________________PJ50: #REF!
Name ______________________________APU221: #REF!
Name ______________________________PJ50: #REF!
Name ______________________________pj51: #REF!
Name _____________________________APU221: #REF!
Name _____________________________pj51: #REF!
Name ____________________________APU221: #REF!
Name ____________________________PJ50: #REF!
Name ____________________________pj51: #REF!
Name ____________________________rc: #REF!
Name ___________________________PJ50: #REF!
Name ___________________________rc: #REF!
Name __________________________APU221: #REF!
Name __________________________PJ50: #REF!
Name __________________________pj51: #REF!
Name __________________________rc: #REF!
Name _________________________APU221: #REF!
Name _________________________PJ50: #REF!
Name _________________________pj51: #REF!
Name _________________________rc: #REF!
Name ________________________APU221: #REF!
Name ________________________PJ50: #REF!
Name ________________________pj51: #REF!
Name ________________________rc: #REF!
Name _______________________APU221: #REF!
Name _______________________PJ50: #REF!
Name _______________________pj51: #REF!
Name _______________________rc: #REF!
Name ______________________APU221: #REF!
Name ______________________i1: #REF!
Name ______________________PJ50: #REF!
Name ______________________pj51: #REF!
Name ______________________rc: #REF!
Name _____________________APU221: #REF!
Name _____________________i1: #REF!
Name _____________________PJ50: #REF!
Name _____________________pj51: #REF!
Name _____________________rc: #REF!
Name ____________________APU221: #REF!
Name ____________________i1: #REF!
Name ____________________PJ50: #REF!
Name ____________________pj51: #REF!
Name ____________________rc: #REF!
Name ___________________APU221: #REF!
Name ___________________i1: #REF!
Name ___________________PJ50: #REF!
Name ___________________pj51: #REF!
Name ___________________rc: #REF!
Name __________________APU221: #REF!
Name __________________i1: #REF!
Name __________________PJ50: #REF!
Name __________________pj51: #REF!
Name __________________rc: #REF!
Name _________________APU221: #REF!
Name _________________i1: #REF!
Name _________________PJ50: #REF!
Name _________________pj51: #REF!

Sheet ZAFIRO V14  ACTA MODI No. 2 
A1: ACTA DE MODIFICACION CONTRATO DE OBRA
T3: -20558.23
A6: ACTA MODIFICACION No. | C6: 2 | J6: VALOR | K6: 6.5092453e+10 | M6: PLAZO DE EJECUCION INICIAL: | O6: 6 MESES Y 24 DÍAS
M7: FECHA DE TERMINACION INICIAL: | O7: 31 DE DICIEMBRE DE 2025
A8: TIPO DE CONTRATO: | B8: OBRA | F8: VR INICIAL CONTRATO: | K8: =+K6 -> 6.5092453e+10 | M8: SUPENSION No. 1;
A9: OBJETO: | B9: CONSTRUCCIÓN, ADECUACIÓN Y MEJORAMIENTO DEL URBANISMO SOBRE EL MALECON DEL DISTRITO DE RÍOHACHA, DEPARTAMENTO DE LA GUAJIRA | I9: VR ADICIONES: | K9: =+C358 -> 1.2839979e+10 | M9: REINICIO No. 1: | S9: 5449.6241 | T9: 1.3364371 | U9: =+S9*T9 -> 7283.08
M10: SUPENSION No. 2;
A11: CONTRATISTA : | B11: TRANSPORTE INGENIERIA CONSTRUCCIONES Y MAQUINARIA S.A. TICOM S.A. | I11: VR ACTUAL CONTRATO: | K11: =+K8+K9 -> 7.7932432e+10 | M11: REINICIO No. 2:
A12: INTERVENTOR: | B12: CONSORCIO ZAFIRO | C12: CTO INTERV. No. | E12: CO1. PCCNTR. 7837771 DE 2025 | I12: FECHA INICIO | K12: 6 DE JUNIO DE 2025 | M12: PRORROGA No. 1: | O12: OCHO (8) MESES y ONCE (11) días
M13: PLAZO TOTAL DE EJECUCIÓN: | O13: QUINCE (15) MESES y CINCO (5) DÍAS.
M14: FECHA DE TERMINACION ACTUAL: | O14: 11 DE SEPTIEMBRE DE 2026
A16: En Riohacha, a los ocho (8) días del mes de junio del año 2026, se reunieron; por el Contratista de Obras, el Señor Jose Maria Vecino Villareal, Representante Legal de TICOM S.A.; Por la Interventoría, Liliana Margarita Araos Berardinelli presentante Legal del Consorcio Zafiro, para dejar constancia por medio de la presente acta Modificativa las siguientes actividades según las condiciones que se detallan a continuación: | T16: 1.2839979e+10 | AN16: =+F351 -> 6.5092453e+10 | AO16: =+R351 -> 7.7932432e+10
A18: ÍTEM | B18: DESCRIPCIÓN (Corresponde a los ítems o productos contratados) | C18: UNIDAD | D18: CONTRATO | F18: =+C358 -> 1.2839979e+10 | G18: CONDICIONES ACTUALIZADAS Acta de modificacion de fecha | I18: CANTIDAD | K18: VALOR | M18: ITEM NO PREVISTO | P18: ACTA MODIFICATIVA No. 2 | T18: =+C358 -> 1.2839979e+10 | X18: =12840000000 -> 12840000000
D19: CANTIDAD CONTRATO | E19: VALOR UNITARIO | F19: VALOR TOTAL PARCIAL | G19: CANTIDAD | H19: VALOR | I19: MAS (+) | J19: MENOS (-) | K19: VALOR TOTAL (+) | L19: VALOR TOTAL (-) | M19: CANTIDAD | N19: ZAFIRO VR UNITARIO | O19: ZAFIRO VR TOTAL | P19: CANT. | Q19: VR. UNIT | R19: VALOR PARCIAL | T19: 1.2839979e+10 | U19: =T18-T19 -> 0.0030822754
A21: 1 | B21: TRABAJOS DE ADECUACIÓN DEL CAMPO | F21: =+F22+F26 -> 1.8665682e+09 | H21: =+H22+H26 -> 1.8665682e+09 | K21: =+K22+K26 -> 0 | L21: =+L22+L26 -> 1.8279417e+08 | R21: =+R22+R26 -> 1.6837741e+09 | AH21: =+R21*1.33 -> 2.2394195e+09
A22: 1.1 | B22: PRELIMINARES | F22: =SUM(F23:F25) -> 1.0564633e+09 | H22: =SUM(H23:H25) -> 1.0564633e+09 | K22: =SUM(K23:K25) -> 0 | L22: =SUM(L23:L25) -> 1.8279417e+08 | R22: =SUM(R23:R25) -> 8.736691e+08 | U22: CANTIDAD | V22: VALOR PARCIAL | X22: CANTIDAD | Y22: VALOR PARCIAL | AH22: =+R22*1.33 -> 1161979900
A23: 1.1.1 | B23: LOCALIZACIÓN, TRAZADO Y REPLANTEO (M2). INCLUYE COMISIÓN TOPOGRÁFICA, CARTERA Y PLANOS. | C23: M2 | D23: 79500 | E23: 5449.6241 | F23: =+D23*E23 -> 4.3324511e+08 | G23: 79500 | H23: =+E23*G23 -> 4.3324511e+08 | K23: =+E23*I23 -> 0 | L23: =+E23*J23 -> 0 | P23: =+G23+I23-J23+M23 -> 79500 | Q23: =+E23 -> 5449.6241 | R23: =+P23*Q23 -> 4.3324511e+08 | S23: =+Q23*1.33 -> 7248 | V23: =+Q23*U23 -> 0 | Y23: =+Q23*X23 -> 0 | AH23: =+R23*1.33 -> 576216000 | AO23: =+R23*1.33 -> 576216000
A24: 1.1.2 | B24: CERRAMIENTO PROVISIONAL EN TELA VERDE H=2.10 M. ESTACONES EN MADERA COMÚN. BASES EN CONCRETO 2000 PSI. PARA ZONA COLINDANTE A CARRERA PRINCIPAL | C24: ML | D24: 2060 | E24: 259072.93 | F24: =+D24*E24 -> 5.3369024e+08 | G24: 2060 | H24: =+E24*G24 -> 5.3369024e+08 | J24: 360 | K24: =+E24*I24 -> 0 | L24: =+E24*J24 -> 93266256 | P24: =+G24+I24-J24+M24 -> 1700 | Q24: =+E24 -> 259072.93 | R24: =+P24*Q24 -> 4.4042398e+08 | S24: =+Q24*1.33 -> 344567 | V24: =+Q24*U24 -> 0 | Y24: =+Q24*X24 -> 0 | AH24: =+R24*1.33 -> 585763900 | AO24: =+R24*1.33 -> 585763900
A25: 1.1.3 | B25: CERRAMIENTO PROVISIONAL EN TELA VERDE H=2.10 M. ESTACONES EN MADERA COMÚN. PARA ZONA DE PLAYA | C25: ML | D25: 2060 | E25: 43460.15 | F25: =+D25*E25 -> 89527910 | G25: 2060 | H25: =+E25*G25 -> 89527910 | J25: 2060 | K25: =+E25*I25 -> 0 | L25: =+E25*J25 -> 89527910 | P25: =+G25+I25-J25+M25 -> 0 | Q25: =+E25 -> 43460.15 | R25: =+P25*Q25 -> 0 | S25: =+Q25*1.33 -> 57802 | V25: =+Q25*U25 -> 0 | Y25: =+Q25*X25 -> 0 | AH25: =+R25*1.33 -> 0 | AO25: =+R25*1.33 -> 0
A26: 1.2 | B26: DEMOLICION Y DESMONTE | F26: =SUM(F27:F32) -> 8.1010497e+08 | H26: =SUM(H27:H32) -> 8.1010497e+08 | K26: =SUM(K27:K32) -> 0 | L26: =SUM(L27:L32) -> 0 | R26: =SUM(R27:R32) -> 8.1010497e+08 | V26: =+Q26*U26 -> 0 | Y26: =+Q26*X26 -> 0 | AH26: =+R26*1.33 -> 1.0774396e+09
A27: 1.2.1 | B27: DEMOLICION PISO EN BALDOSIN. | C27: M2 | D27: 13040.3 | E27: 25951.88 | F27: =+D27*E27 -> 3.384203e+08 | G27: 13040.3 | H27: =+E27*G27 -> 3.384203e+08 | K27: =+E27*I27 -> 0 | L27: =+E27*J27 -> 0 | P27: =+G27+I27-J27+M27 -> 13040.3 | Q27: =+E27 -> 25951.88 | R27: =+P27*Q27 -> 3.384203e+08 | U27: 667 | V27: =+Q27*U27 -> 17309904 | Y27: =+Q27*X27 -> 0 | AH27: =+R27*1.33 -> 4.5009899e+08 | AO27: =+R27*1.33 -> 4.5009899e+08
A28: 1.2.2 | B28: DEMOLICION DE PLANTILLA EN CONCRETO. | C28: M2 | D28: 13040.3 | E28: 22848.12 | F28: =+D28*E28 -> 2.9794634e+08 | G28: 13040.3 | H28: =+E28*G28 -> 2.9794634e+08 | K28: =+E28*I28 -> 0 | L28: =+E28*J28 -> 0 | P28: =+G28+I28-J28+M28 -> 13040.3 | Q28: =+E28 -> 22848.12 | R28: =+P28*Q28 -> 2.9794634e+08 | U28: 216.6 | V28: =+Q28*U28 -> 4948902.9 | Y28: =+Q28*X28 -> 0 | AH28: =+R28*1.33 -> 3.9626864e+08 | AO28: =+R28*1.33 -> 3.9626864e+08
A29: 1.2.3 | B29: DEMOLICION MANUAL DE MUROS e=0.25. | C29: M2 | D29: 2093.2736 | E29: 34575.188 | F29: =+D29*E29 -> 72375328 | G29: 2093.2736 | H29: =+E29*G29 -> 72375328 | K29: =+E29*I29 -> 0 | L29: =+E29*J29 -> 0 | P29: =+G29+I29-J29+M29 -> 2093.2736 | Q29: =+E29 -> 34575.188 | R29: =+P29*Q29 -> 72375328 | V29: =+Q29*U29 -> 0 | Y29: =+Q29*X29 -> 0 | AH29: =+R29*1.33 -> 96259186 | AO29: =+R29*1.33 -> 96259186
A30: 1.2.4 | B30: DEMOLICIONES DE ESTRUCTURAS EN CONCRETO REFORZADO. INCLUYE CARGUE, RETIRO Y DESECHO DE ESCOMBROS HASTA 20 KM. | C30: M3 | D30: 133.9 | E30: 318603.76 | F30: =+D30*E30 -> 42661043 | G30: 133.9 | H30: =+E30*G30 -> 42661043 | K30: =+E30*I30 -> 0 | L30: =+E30*J30 -> 0 | P30: =+G30+I30-J30+M30 -> 133.9 | Q30: =+E30 -> 318603.76 | R30: =+P30*Q30 -> 42661043 | V30: =+Q30*U30 -> 0 | Y30: =+Q30*X30 -> 0 | AH30: =+R30*1.33 -> 56739188 | AO30: =+R30*1.33 -> 56739188
A31: 1.2.5 | B31: DESMONTE DE BANCAS. | C31: UND | D31: 250 | E31: 51422.556 | F31: =+D31*E31 -> 12855639 | G31: 250 | H31: =+E31*G31 -> 12855639 | K31: =+E31*I31 -> 0 | L31: =+E31*J31 -> 0 | P31: =+G31+I31-J31+M31 -> 250 | Q31: =+E31 -> 51422.556 | R31: =+P31*Q31 -> 12855639 | V31: =+Q31*U31 -> 0 | Y31: =+Q31*X31 -> 0 | AH31: =+R31*1.33 -> 17098000 | AO31: =+R31*1.33 -> 17098000
A32: 1.2.6 | B32: TRANSPORTE Y DISPOSICIÓN FINAL DE ESCOMBROS EN SITIO AUTORIZADO. | C32: M3 | D32: 1916.327 | E32: 23924.06 | F32: =+D32*E32 -> 45846323 | G32: 1916.327 | H32: =+E32*G32 -> 45846323 | K32: =+E32*I32 -> 0 | L32: =+E32*J32 -> 0 | P32: =+G32+I32-J32+M32 -> 1916.327 | Q32: =+E32 -> 23924.06 | R32: =+P32*Q32 -> 45846323 | U32: 1000 | V32: =+Q32*U32 -> 23924060 | X32: 1000 | Y32: =+Q32*X32 -> 23924060 | AH32: =+R32*1.33 -> 60975610 | AO32: =+R32*1.33 -> 60975610
A33: 2 | B33: EXCAVACIONES Y LLENOS | F33: =+F34+F37 -> 7.0017451e+09 | H33: =+H34+H37 -> 6.7666915e+09 | K33: =+K34+K37 -> 2.0300776e+09 | L33: =+L34+L37 -> 0 | R33: =+R34+R37 -> 8.7967691e+09 | V33: =+Q33*U33 -> 0 | Y33: =+Q33*X33 -> 0 | AH33: =+R33*1.33 -> 1.1699703e+10
A34: 2.1 | B34: MOVIMIENTO DE TIERRA | F34: =SUM(F35:F36) -> 3.0830047e+09 | H34: =SUM(H35:H36) -> 3.0830047e+09 | K34: =SUM(K35:K36) -> 1.7117971e+08 | L34: =SUM(L35:L36) -> 0 | R34: =SUM(R35:R36) -> 3.2541844e+09 | V34: =+Q34*U34 -> 0 | Y34: =+Q34*X34 -> 0 | AH34: =+R34*1.33 -> 4.3280653e+09
A35: 2.1.1 | B35: EXCAVACIÓN MECÁNICA EN MATERIAL COMÚN. INCLUYE CARGUE, TRANSPORTE Y DISPOSICIÓN FINAL DE RESIDUOS. | C35: M3 | D35: 39208.032 | E35: 76441.353 | F35: =+D35*E35 -> 2.997115e+09 | G35: 39208.032 | H35: =+E35*G35 -> 2.997115e+09 | I35: 2239.36 | K35: =+E35*I35 -> 1.7117971e+08 | L35: =+E35*J35 -> 0 | P35: =+G35+I35-J35+M35 -> 41447.392 | Q35: =+E35 -> 76441.353 | R35: =+P35*Q35 -> 3.1682947e+09 | T35: =+I35*Q35*1.33 -> 2.2766901e+08 | U35: 5620 | V35: =+Q35*U35 -> 4.2960041e+08 | X35: 1029.3 | Y35: =+Q35*X35 -> 78681085 | AH35: =+R35*1.33 -> 4.213832e+09 | AO35: =+R35*1.33 -> 4.213832e+09
A36: 2.1.2 | B36: EXCAVACIÓN MANUAL, CARGUE, TRANSPORTE Y DISPOSICIÓN FINAL DE MATERIAL. | C36: M3 | D36: 1209.9064 | E36: 70988.722 | F36: =+D36*E36 -> 85889709 | G36: 1209.9064 | H36: =+E36*G36 -> 85889709 | K36: =+E36*I36 -> 0 | L36: =+E36*J36 -> 0 | P36: =+G36+I36-J36+M36 -> 1209.9064 | Q36: =+E36 -> 70988.722 | R36: =+P36*Q36 -> 85889709 | V36: =+Q36*U36 -> 0 | Y36: =+Q36*X36 -> 0 | AH36: =+R36*1.33 -> 1.1423331e+08 | AI36: =+C358 -> 1.2839979e+10 | AO36: =+R36*1.33 -> 1.1423331e+08
A37: 2.2 | B37: NIVELACIÓN Y RELLENOS | F37: =SUM(F38:F41) -> 3.9187403e+09 | H37: =SUM(H38:H41) -> 3.6836868e+09 | K37: =SUM(K38:K41) -> 1.8588979e+09 | L37: =SUM(L38:L41) -> 0 | R37: =SUM(R38:R41) -> 5.5425847e+09 | V37: =+Q37*U37 -> 0 | Y37: =+Q37*X37 -> 0 | AH37: =+R37*1.33 -> 7.3716376e+09
A38: 2.2.1 | B38: RELLENO EN RECEBO COMUN PARA NIVELACION DE TERRENO. INCLUYE EXTENDIDO, NIVELACIÓN, HUMEDECIMIENTO Y COMPACTACIÓN CON MAQUINARIA PESADA. | C38: M3 | D38: 9802.008 | E38: 76466.165 | F38: =+D38*E38 -> 7.4952197e+08 | G38: 44687.408 | H38: =+E38*G38 -> 3.4170747e+09 | I38: =+[135]V3!$D$42-I35 -> 23779.268 | K38: =+E38*I38 -> 1.8183094e+09 | L38: =+E38*J38 -> 0 | P38: =+G38+I38-J38+M38 -> 68466.676 | Q38: =+E38 -> 76466.165 | R38: =+P38*Q38 -> 5.2353841e+09 | U38: 7000 | V38: =+Q38*U38 -> 5.3526316e+08 | Y38: =+Q38*X38 -> 0 | AH38: =+R38*1.33 -> 6.9630609e+09 | AI38: 1.7435821e+09 | AJ38: 0.75 | AK38: 1.8 | AL38: =+P38*AJ38*AK38 -> 92430.012 | AN38: 37190.008 | AO38: =+R38*1.33 -> 6.9630609e+09
A39: 2.2.2 | B39: RELLENO GRANULAR SELECCIONADO Y COMPACTADO. | C39: M3 | D39: 8881.408 | E39: 113442.11 | F39: =+D39*E39 -> 1.0075256e+09 | G39: 0 | H39: =+E39*G39 -> 0 | K39: =+E39*I39 -> 0 | L39: =+E39*J39 -> 0 | P39: =+G39+I39-J39+M39 -> 0 | Q39: =+E39 -> 113442.11 | R39: =+P39*Q39 -> 0 | V39: =+Q39*U39 -> 0 | Y39: =+Q39*X39 -> 0 | AH39: =+R39*1.33 -> 0 | AI39: 1.0075256e+09 | AJ39: 0.7 | AK39: 1.6 | AL39: =+P39*AJ39*AK39 -> 0 | AM39: =80000000/Q39 -> 705.20553 | AO39: =+R39*1.33 -> 0
A40: 2.2.3 | B40: SUBBASE GRANULAR TIPO INVIAS ESTABILIZADA CON CEMENTO AL 4%. SUMINISTRO, EXTENDIDO, HUMEDECIMIENTO Y COMPACTACIÓN CON RODILLO VIBROCOMPACTADOR 15 TON). | C40: M3 | D40: 10722.608 | E40: 201304.51 | F40: =+D40*E40 -> 2.1585094e+09 | G40: 1308.608 | H40: =+E40*G40 -> 2.6342869e+08 | K40: =+E40*I40 -> 0 | L40: =+E40*J40 -> 0 | P40: =+G40+I40-J40+M40 -> 1308.608 | Q40: =+E40 -> 201304.51 | R40: =+P40*Q40 -> 2.6342869e+08 | U40: 1308.61 | V40: =+Q40*U40 -> 2.634291e+08 | Y40: =+Q40*X40 -> 0 | AH40: =+R40*1.33 -> 3.5036016e+08 | AI40: 2.1585094e+09 | AJ40: 0.7 | AK40: 1.4 | AL40: =+P40*AJ40*AK40 -> 1282.4358 | AO40: =+R40*1.33 -> 3.5036016e+08
A41: 2.2.4 | B41: CONFORMACION DE LA BANCA EXISTENTE | C41: M2 | D41: 3300 | E41: 964.66165 | F41: =+D41*E41 -> 3183383.5 | G41: 3300 | H41: =+E41*G41 -> 3183383.5 | I41: =+P45+M268+M295+M296+M297+M298-3300 -> 42075.35 | K41: =+E41*I41 -> 40588477 | L41: =+E41*J41 -> 0 | P41: =+G41+I41-J41+M41 -> 45375.35 | Q41: =+E41 -> 964.66165 | R41: =+P41*Q41 -> 43771860 | V41: =+Q41*U41 -> 0 | Y41: =+Q41*X41 -> 0 | AH41: =+R41*1.33 -> 58216574 | AJ41: 0.7 | AK41: 1.2 | AL41: =+P41*AJ41*AK41 -> 38115.294 | AO41: =+R41*1.33 -> 58216574
A42: 3 | B42: OBRAS DE URBANISMO | F42: =+F43+F47+F51+F54+F59 -> 8.8878061e+09 | H42: =+H43+H47+H51+H54+H59 -> 8.8878061e+09 | K42: =+K43+K47+K51+K54+K59 -> 3.0244177e+08 | L42: =+L43+L47+L51+L54+L59 -> 8.6813572e+09 | R42: =+R43+R47+R51+R54+R59 -> 5.0889071e+08 | V42: =+Q42*U42 -> 0 | Y42: =+Q42*X42 -> 0 | AH42: =+R42*1.33 -> 6.7682464e+08 | AJ42: 0.7 | AK42: 1.2 | AL42: =+P42*AJ42*AK42 -> 0
A43: 3.1 | B43: URBANISMO (PISOS, ACABADOS Y CONCRETOS) | F43: =SUM(F44:F45) -> 5.5339283e+09 | H43: =SUM(H44:H46) -> 5.5339283e+09 | K43: =SUM(K44:K46) -> 3.0244177e+08 | L43: =SUM(L44:L46) -> 5.4099895e+09 | R43: =SUM(R44:R46) -> 4.2638053e+08 | V43: =+Q43*U43 -> 0 | Y43: =+Q43*X43 -> 0 | AH43: =+R43*1.33 -> 5.670861e+08 | AJ43: 0.7 | AK43: 1 | AL43: =+P43*AJ43*AK43 -> 0 | AN43: =+AI43+586.4 -> 586.4
A44: 3.1.1 | B44: SUMINISTRO E INSTALACION DE PISO EN LOSETA EN CEMENTO DE 20 X 20 CM A COLOR ;(INCLUYE CAPA DE ARENA 4 CM) | C44: M2 | D44: 37718.596 | E44: 134946.62 | F44: =+D44*E44 -> 5.0899969e+09 | G44: 37718.596 | H44: =+E44*G44 -> 5.0899969e+09 | J44: 37718.596 | L44: =+E44*J44 -> 5.0899969e+09 | P44: =+G44+I44-J44+M44 -> 0 | Q44: =+E44 -> 134946.62 | R44: =+P44*Q44 -> 0 | V44: =+Q44*U44 -> 0 | Y44: =+Q44*X44 -> 0 | AH44: =+R44*1.33 -> 0 | AJ44: 0.7 | AK44: 1 | AL44: =+P44*AJ44*AK44 -> 0 | AO44: =+R44*1.33 -> 0
A45: 3.1.2 | B45: RAMPAS EN CONCRETO , REFORZADAS CON MALLA ELECTROSOLDADA. CONCRETO 3500PSI | C45: M2 | D45: 2399.99 | E45: 184972.18 | F45: =+D45*E45 -> 4.4393138e+08 | G45: 2399.99 | H45: =+E45*G45 -> 4.4393138e+08 | J45: =+G45-670.04 -> 1729.95 | K45: =+E45*I45 -> 0 | L45: =+E45*J45 -> 3.1999262e+08 | P45: =+G45+I45-J45+M45 -> 670.04 | Q45: =+E45 -> 184972.18 | R45: =+P45*Q45 -> 1.2393876e+08 | V45: =+Q45*U45 -> 0 | Y45: =+Q45*X45 -> 0 | AH45: =+R45*1.33 -> 1.6483855e+08 | AL45: =SUM(AL38:AL44) -> 131827.74 | AO45: =+R45*1.33 -> 1.6483855e+08
A46: 3.2.2 | B46: ACERO DE REFUERZO FY 4200 KG/CM2. INCLUYE SUMINISTRO, TRANSPORTE, FIGURADO, ARMADO, COLOCACIÓN Y AMARRE. | C46: KG | D46: 0 | E46: 9391.7293 | F46: =+D46*E46 -> 0 | H46: =+E46*G46 -> 0 | I46: 32202.99 | K46: =+E46*I46 -> 3.0244177e+08 | L46: =+E46*J46 -> 0 | P46: =+G46+I46-J46+M46 -> 32202.99 | Q46: =+E46 -> 9391.7293 | R46: =+P46*Q46 -> 3.0244177e+08 | T46: 32202.99
...

Sheet Resumen NP
A1: ÍTEM | B1: DESCRIPCIÓN | C1: UNIDAD | D1: CANT. | E1: VR. UNIT | F1: VALOR PARCIAL
A2: 11 | B2: ITEMS NO PREVISTOS | F2: =+F3 -> 1.8563147e+10
A3: 11.1 | B3: ITEMS NO PREVISTOS | F3: =SUM(F4:F28) -> 1.8563147e+10 | G3: 28 | I3: =42+28 -> 70
A4: =+'ZAFIRO V14 ACTA MODI No. 2 '!A268 -> NP-4 | B4: =+'ZAFIRO V14 ACTA MODI No. 2 '!B268 -> SUMINISTRO E INSTALACIÓN DE LOSETA GUIA TACTIL, ALERTA Y LISA 40X40X6 CM A COLOR | C4: =+'ZAFIRO V14 ACTA MODI No. 2 '!C268 -> M2 | D4: =+'ZAFIRO V14 ACTA MODI No. 2 '!P268 -> 14125.74 | E4: =+'ZAFIRO V14 ACTA MODI No. 2 '!Q268 -> 221881 | F4: =+D4*E4 -> 3.1342333e+09
A5: NP-5 | B5: SUMINISTRO E INSTALACIÓN DE BORDILLO PREFABRICADO DE 35X15X80 CM SIN CHAFLAN | C5: ML | D5: =+'ZAFIRO V14 ACTA MODI No. 2 '!P269 -> 5363.33 | E5: =+'ZAFIRO V14 ACTA MODI No. 2 '!Q269 -> 141965 | F5: =+D5*E5 -> 7.6140514e+08 | H5: =F3 -> 1.8563147e+10
A6: NP-6 | B6: SUMINISTRO E INSTALACIÓN DE BORDILLO PREFABRICADO DE 80X20X50 CM CON CHAFLAN | C6: ML | D6: =+'ZAFIRO V14 ACTA MODI No. 2 '!P270 -> 2821.3 | E6: =+'ZAFIRO V14 ACTA MODI No. 2 '!Q270 -> 160792 | F6: =+D6*E6 -> 4.5364247e+08 | H6: 1.8563147e+10
A7: NP-7 | B7: SUMINISTRO E INSTALACIÓN DE CONCRETO DE 3000 PSI PARA GRADERIAS DE CANCHAS | C7: M3 | D7: =+'ZAFIRO V14 ACTA MODI No. 2 '!P271 -> 187.6554 | E7: =+'ZAFIRO V14 ACTA MODI No. 2 '!Q271 -> 1018133 | F7: =+D7*E7 -> 1.9105816e+08 | H7: =H5-H6 -> 83.639282
A8: NP-8 | B8: SUMINISTRO E INSTALACIÓN DE MALLA DE ALTO IMPACTO ELECTROSOLDADA CON PINTURA ELECTROESTATICA COLOR AZUL H=1.2M | C8: M2 | D8: =+'ZAFIRO V14 ACTA MODI No. 2 '!P272 -> 218.28 | E8: =+'ZAFIRO V14 ACTA MODI No. 2 '!Q272 -> 1273650 | F8: =+D8*E8 -> 278012322
A9: NP-9 | B9: SUMINISTRO E INSTALACIÓN DE CERRAMIENTO EN MALLA NYLON REF. 210/90. ORIFICIO 10X10 CM, ALTURA 10 M PARA CANCHA | C9: M2 | D9: =+'ZAFIRO V14 ACTA MODI No. 2 '!P273 -> 128.8 | E9: =+'ZAFIRO V14 ACTA MODI No. 2 '!Q273 -> 70223 | F9: =+D9*E9 -> 9044722.4
A10: NP-10 | B10: SUMINISTRO E INSTALACION DE PUERTA DE ACCESO DE 2.20X1 M PARA CANCHA | C10: UND | D10: =+'ZAFIRO V14 ACTA MODI No. 2 '!P274 -> 1 | E10: =+'ZAFIRO V14 ACTA MODI No. 2 '!Q274 -> 1571149 | F10: =+D10*E10 -> 1571149
A11: NP-11 | B11: SUMINISTRO E INSTALACIÓN DE ARENA NEGRA PARA JARDINERIA | C11: M3 | D11: =+'ZAFIRO V14 ACTA MODI No. 2 '!P275 -> 623.288 | E11: =+'ZAFIRO V14 ACTA MODI No. 2 '!Q275 -> 107089 | F11: =+D11*E11 -> 66747289
A12: NP-12 | B12: SUMINISTRO E INSTALACION DE PALMERAS HPROM=3,00 M | C12: UND | D12: =+'ZAFIRO V14 ACTA MODI No. 2 '!P276 -> 54 | E12: =+'ZAFIRO V14 ACTA MODI No. 2 '!Q276 -> 1271795 | F12: =+D12*E12 -> 68676930
A13: NP-13 | B13: SUMINISTRO E INSTALACIÓN PLANTAS NATIVAS SEGUN DISEÑO INCLUYE MANTENIMIENTO HASTA ENTREGA DE OBRA | C13: M2 | D13: =+'ZAFIRO V14 ACTA MODI No. 2 '!P277 -> 2879 | E13: =+'ZAFIRO V14 ACTA MODI No. 2 '!Q277 -> 100388 | F13: =+D13*E13 -> 289017052
A14: NP-14 | B14: SUMINISTRO, FABRICACIÓN, PINTURA TRICAPA, TRANSPORTE Y MONTAJE DE ESTRUCTURA METÁLICA ARQUITECTÓNICA EN ACERO A572 GR 50. | C14: KG | D14: =+'ZAFIRO V14 ACTA MODI No. 2 '!P278 -> 222401.43 | E14: =+'ZAFIRO V14 ACTA MODI No. 2 '!Q278 -> 35507.774 | F14: =+D14*E14 -> 7.8969798e+09
A15: NP-15 | B15: SUMINISTRO E INSTALACIÓN DE PERNOS DE ANCLAJES EMBEBIDOS EN CONCRETO ASTM A193 (B7) D= 1/2" L=0.3M | C15: UND | D15: =+'ZAFIRO V14 ACTA MODI No. 2 '!P279 -> 256 | E15: =+'ZAFIRO V14 ACTA MODI No. 2 '!Q279 -> 30463 | F15: =+D15*E15 -> 7798528
A16: NP-16 | B16: SUMINISTRO, FABRICACIÓN, PINTURA TRICAPA, TRANSPORTE Y MONTAJE DE ESTRUCTURA METÁLICA ARQUITECTÓNICA EN ACERO A500 GR C. | C16: KG | D16: =+'ZAFIRO V14 ACTA MODI No. 2 '!P280 -> 66176.17 | E16: =+'ZAFIRO V14 ACTA MODI No. 2 '!Q280 -> 33440 | F16: =+D16*E16 -> 2.2129311e+09
A17: NP-17 | B17: PILOTES PRE-EXCAVADOS Y FUNDIDOS IN-SITU D=60 CM CONCRETO TREMIE DE 5000 PSI (245 KG/CM2) . INCLUYE. CONCRETO TREMIE, EXCAVACIÓN, MOVILIZACIÓN, MONTAJE Y DESMONTAJE EQUIPO Y FUNDIDA. NO INCLUYE MANEJO NI SUMINISTRO DE ACERO DE REFUERZO. | C17: ML | D17: =+'ZAFIRO V14 ACTA MODI No. 2 '!P281 -> 432 | E17: =+'ZAFIRO V14 ACTA MODI No. 2 '!Q281 -> 1639289 | F17: =+D17*E17 -> 708172848
A18: NP-18 | B18: SUMINISTRO E INSTALACION DE PISO EN PINO AMARILLO DEL SUR INCLUYE TORNILLOS, ANCLAJES Y TODOS LOS ELEMENTOS PARA SU INSTALACION | C18: M2 | D18: =+'ZAFIRO V14 ACTA MODI No. 2 '!P282 -> 976.83 | E18: =+'ZAFIRO V14 ACTA MODI No. 2 '!Q282 -> 626308 | F18: =+D18*E18 -> 6.1179644e+08
A19: NP-19 | B19: SUMINISTRO E INSTALACIÓN DE PANEL TIPO SÁNDWICH TECHMET DRY 50MM | C19: M2 | D19: =+'ZAFIRO V14 ACTA MODI No. 2 '!P283 -> 443.83 | E19: =+'ZAFIRO V14 ACTA MODI No. 2 '!Q283 -> 518046 | F19: =+D19*E19 -> 2.2992436e+08
... A28: NP-28 | B28: SUMINISTRO E INSTALACION DE TUBERIA PVC CONDUIT DE 2¨ | C28: ML | D28: =+'ZAFIRO V14 ACTA MODI No. 2 '!P292 -> 1635 | E28: =+'ZAFIRO V14 ACTA MODI No. 2 '!Q292 -> 32292 | F28: =+D28*E28 -> 52797420

Sheet Resumen AD
A1: ÍTEM | B1: DESCRIPCIÓN | C1: UNIDAD | D1: CANT. | E1: VR. UNIT | F1: VALOR PARCIAL
A2: 11 | B2: ITEMS NO PREVISTOS | F2: =+F3 -> 9.9716325e+09
A3: 11.1 | B3: ITEMS NO PREVISTOS | F3: =SUM(F4:F43) -> 9.9716325e+09 | G3: 42
A4: ='ZAFIRO V14 ACTA MODI No. 2 '!A295 -> AD-1 | B4: ='ZAFIRO V14 ACTA MODI No. 2 '!B295 -> CONSTRUCCION DE PISO EN CONCRETO ESTAMPADO DE 3000 PSI, ESPESOR DE 0.10 M COLOR MATE NO INCLUYE ACERO DE REFUERZO | C4: ='ZAFIRO V14 ACTA MODI No. 2 '!C295 -> M2 | D4: =+'ZAFIRO V14 ACTA MODI No. 2 '!M295 -> 21274.59 | E4: =+'ZAFIRO V14 ACTA MODI No. 2 '!Q295 -> 194832 | F4: =+D4*E4 -> 4.1449709e+09
A5: ='ZAFIRO V14 ACTA MODI No. 2 '!A296 -> AD-2 | B5: ='ZAFIRO V14 ACTA MODI No. 2 '!B296 -> CONSTRUCCION DE CONCRETO PULIDO E: 0.10 M | C5: ='ZAFIRO V14 ACTA MODI No. 2 '!C296 -> M2 | D5: =+'ZAFIRO V14 ACTA MODI No. 2 '!M296 -> 3657.46 | E5: =+'ZAFIRO V14 ACTA MODI No. 2 '!Q296 -> 182789 | F5: =+D5*E5 -> 6.6854346e+08
A6: ='ZAFIRO V14 ACTA MODI No. 2 '!A297 -> AD-3 | B6: ='ZAFIRO V14 ACTA MODI No. 2 '!B297 -> SUMINISTRO E INSTALACIÓN DE CONCRETO HIDRÁULICO PARA PAVIMENTO MR-42 (4.2 MPA) E=0.20 M NO INCLUYE ACERO DE REFUERZO | C6: ='ZAFIRO V14 ACTA MODI No. 2 '!C297 -> M2 | D6: =+'ZAFIRO V14 ACTA MODI No. 2 '!M297 -> 2427.81 | E6: =+'ZAFIRO V14 ACTA MODI No. 2 '!Q297 -> 280563 | F6: =+D6*E6 -> 6.8115366e+08
A7: ='ZAFIRO V14 ACTA MODI No. 2 '!A298 -> AD-4 | B7: ='ZAFIRO V14 ACTA MODI No. 2 '!B298 -> SUMINISTRO E INSTALACIÓN DE CONCRETO DE 3000 PSI PARA CICLORUTA, ESPESOR 0.12M NO INCLUYE ACERO DE REFUERZO | C7: ='ZAFIRO V14 ACTA MODI No. 2 '!C298 -> M2 | D7: =+'ZAFIRO V14 ACTA MODI No. 2 '!M298 -> 3219.71 | E7: =+'ZAFIRO V14 ACTA MODI No. 2 '!Q298 -> 169604 | F7: =+D7*E7 -> 5.4607569e+08
A8: ='ZAFIRO V14 ACTA MODI No. 2 '!A299 -> AD-5 | B8: ='ZAFIRO V14 ACTA MODI No. 2 '!B299 -> SUMINISTRO E INSTLACIÓN DE TELÓN ENRROLLABLE TIPO ESTERA MICROPERFORADA EN PERFILES DE ALUMINIO EXTRUIDO. GUÍAS, EJE Y CAJÓN EN ALUMINIO. DIMENSIONES SEGÚN VANO (2,40Mx1,98M). INCLUYE ACABADO EN PINTURA ELECTROSTÁTICA, SISTEMA DE ACCIONAMIENTO Y CERRADURA CENTRAL DE PISO | C8: ='ZAFIRO V14 ACTA MODI No. 2 '!C299 -> M2 | D8: =+'ZAFIRO V14 ACTA MODI No. 2 '!M299 -> 117.6 | E8: =+'ZAFIRO V14 ACTA MODI No. 2 '!Q299 -> 1026676 | F8: =+D8*E8 -> 1.207371e+08
A9: ='ZAFIRO V14 ACTA MODI No. 2 '!A300 -> AD-6 | B9: ='ZAFIRO V14 ACTA MODI No. 2 '!B300 -> SUMINISTRO E INSTALACIÓN DE TUBERIA DE 160 MM (6") PARA AGUAS LLUVIAS | C9: ='ZAFIRO V14 ACTA MODI No. 2 '!C300 -> ML | D9: =+'ZAFIRO V14 ACTA MODI No. 2 '!M300 -> 689.05 | E9: =+'ZAFIRO V14 ACTA MODI No. 2 '!Q300 -> 101025 | F9: =+D9*E9 -> 69611276
A10: ='ZAFIRO V14 ACTA MODI No. 2 '!A301 -> AD-7 | B10: ='ZAFIRO V14 ACTA MODI No. 2 '!B301 -> SUMINISTRO E INSTALACIÓN DE TUBERIA DE 200 MM (8") PARA AGUAS LLUVIAS | C10: ='ZAFIRO V14 ACTA MODI No. 2 '!C301 -> ML | D10: =+'ZAFIRO V14 ACTA MODI No. 2 '!M301 -> 176.19 | E10: =+'ZAFIRO V14 ACTA MODI No. 2 '!Q301 -> 126333 | F10: =+D10*E10 -> 22258611
A11: ='ZAFIRO V14 ACTA MODI No. 2 '!A302 -> AD-8 | B11: ='ZAFIRO V14 ACTA MODI No. 2 '!B302 -> SUMINISTRO E INSTALACIÓN DE TUBERIA DE 250 MM (10") PARA AGUAS LLUVIAS | C11: ='ZAFIRO V14 ACTA MODI No. 2 '!C302 -> ML | D11: =+'ZAFIRO V14 ACTA MODI No. 2 '!M302 -> 75.42 | E11: =+'ZAFIRO V14 ACTA MODI No. 2 '!Q302 -> 175485 | F11: =+D11*E11 -> 13235079
A12: ='ZAFIRO V14 ACTA MODI No. 2 '!A303 -> AD-9 | B12: ='ZAFIRO V14 ACTA MODI No. 2 '!B303 -> SUMINISTRO E INSTALACIÓN DE TUBERIA DE 315 MM (12") PARA AGUAS LLUVIAS | C12: ='ZAFIRO V14 ACTA MODI No. 2 '!C303 -> ML | D12: =+'ZAFIRO V14 ACTA MODI No. 2 '!M303 -> 84.78 | E12: =+'ZAFIRO V14 ACTA MODI No. 2 '!Q303 -> 238871 | F12: =+D12*E12 -> 20251483
A13: ='ZAFIRO V14 ACTA MODI No. 2 '!A304 -> AD-10 | B13: ='ZAFIRO V14 ACTA MODI No. 2 '!B304 -> SUMINISTRO E INSTALACIÓN DE TUBERIA DE 355 MM (14") PARA AGUAS LLUVIAS | C13: ='ZAFIRO V14 ACTA MODI No. 2 '!C304 -> ML | D13: =+'ZAFIRO V14 ACTA MODI No. 2 '!M304 -> 68.94 | E13: =+'ZAFIRO V14 ACTA MODI No. 2 '!Q304 -> 333227 | F13: =+D13*E13 -> 22972669
A14: ='ZAFIRO V14 ACTA MODI No. 2 '!A305 -> AD-11 | B14: ='ZAFIRO V14 ACTA MODI No. 2 '!B305 -> SUMINISTRO E INSTALACIÓN DE TUBERIA DE 450 MM (18") PARA AGUAS LLUVIAS | C14: ='ZAFIRO V14 ACTA MODI No. 2 '!C305 -> ML | D14: =+'ZAFIRO V14 ACTA MODI No. 2 '!M305 -> 171.37 | E14: =+'ZAFIRO V14 ACTA MODI No. 2 '!Q305 -> 555643 | F14: =+D14*E14 -> 95220541
A15: ='ZAFIRO V14 ACTA MODI No. 2 '!A306 -> AD-12 | B15: ='ZAFIRO V14 ACTA MODI No. 2 '!B306 -> SUMINISTRO E INSTALACIÓN DE TUBERIA DE 500 MM (20") PARA AGUAS LLUVIAS | C15: ='ZAFIRO V14 ACTA MODI No. 2 '!C306 -> ML | D15: =+'ZAFIRO V14 ACTA MODI No. 2 '!M306 -> 57.27 | E15: =+'ZAFIRO V14 ACTA MODI No. 2 '!Q306 -> 663281 | F15: =+D15*E15 -> 37986103
... A43: ='ZAFIRO V14 ACTA MODI No. 2 '!A334 -> AD-40 | B43: ='ZAFIRO V14 ACTA MODI No. 2 '!B334 -> SUMINISTRO E INSTALACION DESDE TABLERO GENERAL ILUMINACION PLAYA 2F #6 + 1N #6 + 1T #10 AWG Cu THWN-2 600V. | C43: ='ZAFIRO V14 ACTA MODI No. 2 '!C334 -> ML | D43: =+'ZAFIRO V14 ACTA MODI No. 2 '!M334 -> 1341 | E43: =+'ZAFIRO V14 ACTA MODI No. 2 '!Q334 -> 79841 | F43: =+D43*E43 -> 107066781
