Workbook

Sheet GRUPO 3
A1: LISTADO DE SUMINISTROS
A2: REPUESTOS: VOLQUETAS INTERNATIONAL - VOLKSWAGEN - KODIAK
A3: ITEM | B3: DESCRIPCION | C3: Und | D3: CANT | E3: PROMEDIO ENTIDAD | F3: OFERTA ECONOMICA PROPONENTE | G3: MEDIA PRECIOS 2026
A4: 1 | B4: ABRAZADERA INDUSTRIAL T519 | C4: Un | D4: 1 | E4: 23508 | F4: 15280.2 | G4: =+VLOOKUP(B4,PRESUPUESTO!$A$1:$M$626,12,FALSE) -> #N/A
A5: 2 | B5: ABRAZADERA MOFLE 3"1/2 | C5: Un | D5: 1 | E5: 60306 | F5: 39198.9 | G5: =+VLOOKUP(B5,PRESUPUESTO!$A$1:$M$626,12,FALSE) -> #N/A
A6: 3 | B6: ABRAZADERA MUELLE DELANTERA | C6: Un | D6: 1 | E6: 199470 | F6: 129655.5 | G6: =+VLOOKUP(B6,PRESUPUESTO!$A$1:$M$626,12,FALSE) -> #N/A
A7: 4 | B7: ABRAZADERA MUELLE TRASERA | C7: Un | D7: 1 | E7: 199535 | F7: 129697.75 | G7: =+VLOOKUP(B7,PRESUPUESTO!$A$1:$M$626,12,FALSE) -> #N/A
A8: 5 | B8: ABRAZADERA TANQUE DE COMBUSTIBLE | C8: Un | D8: 1 | E8: 846259 | F8: 550068.35 | G8: =+VLOOKUP(B8,PRESUPUESTO!$A$1:$M$626,12,FALSE) -> #N/A
A9: 6 | B9: ABRAZADERAS MANGUERAS INTERCOOLER | C9: Un | D9: 1 | E9: 96305 | F9: 62598.25 | G9: =+VLOOKUP(B9,PRESUPUESTO!$A$1:$M$626,12,FALSE) -> #N/A
A10: 7 | B10: ABRAZADERAS METALICAS PARA MANGUERA DE RADIADOR | C10: Un | D10: 1 | E10: 77827 | F10: 50587.55 | G10: =+VLOOKUP(B10,PRESUPUESTO!$A$1:$M$626,12,FALSE) -> #N/A
A11: 8 | B11: ACOPLE CARDAN SPEED | C11: Un | D11: 1 | E11: 2391993 | F11: 1554795.5 | G11: =+VLOOKUP(B11,PRESUPUESTO!$A$1:$M$626,12,FALSE) -> #N/A
A12: 9 | B12: ACOPLE MANGUERAS PERA BAJO | C12: Un | D12: 1 | E12: 40788 | F12: 26512.2 | G12: =+VLOOKUP(B12,PRESUPUESTO!$A$1:$M$626,12,FALSE) -> #N/A
A13: 10 | B13: ACOPLE RAPIDO PARA MANGUERA DE AIRE | C13: Un | D13: 1 | E13: 56485 | F13: 36715.25 | G13: =+VLOOKUP(B13,PRESUPUESTO!$A$1:$M$626,12,FALSE) -> #N/A
A14: 11 | B14: ALTERNADOR | C14: Un | D14: 1 | E14: 2715950 | F14: 1765367.5 | G14: =+VLOOKUP(B14,PRESUPUESTO!$A$1:$M$626,12,FALSE) -> #N/A
A15: 12 | B15: ANILLO BRONCE 1/4 | C15: Un | D15: 1 | E15: 8444 | F15: 5488.6 | G15: =+VLOOKUP(B15,PRESUPUESTO!$A$1:$M$626,12,FALSE) -> #N/A
... A399: 399 | B399: ZAPATA FRENO TIPO PESADO | C399: Un | D399: 1 | E399: 1212368 | F399: 788039.2 | G399: =+VLOOKUP(B399,PRESUPUESTO!$A$1:$M$626,12,FALSE) -> #N/A
A400: SERVICIOS: VOLQUETAS INTERNATIONAL - VOLKSWAGEN - KODIAK | G400: =+VLOOKUP(B400,PRESUPUESTO!$A$1:$M$626,12,FALSE) -> #N/A
A401: ÍTEM | B401: DESCRIPCION | C401: UND | D401: CANT | G401: =+VLOOKUP(B401,PRESUPUESTO!$A$1:$M$626,12,FALSE)
A402: 400 | B402: CALIBRACION BOMBA DE INYECCION | C402: Un | D402: 1 | E402: 402118 | F402: 261376.7 | G402: =+VLOOKUP(B402,PRESUPUESTO!$A$1:$M$626,12,FALSE) -> #N/A
A403: 401 | B403: CALIBRACION DE INYECTORES | C403: Un | D403: 1 | E403: 502292 | F403: 326489.8 | G403: =+VLOOKUP(B403,PRESUPUESTO!$A$1:$M$626,12,FALSE) -> #N/A
A404: 402 | B404: CALIBRACION VALVULAS | C404: Un | D404: 1 | E404: 473086 | F404: 307505.9 | G404: =+VLOOKUP(B404,PRESUPUESTO!$A$1:$M$626,12,FALSE) -> #N/A
A405: 403 | B405: MANO DE OBRA AIRE ACONDICIONADO | C405: HORA | D405: 1 | E405: 383932 | F405: 249555.8 | G405: =+VLOOKUP(B405,PRESUPUESTO!$A$1:$M$626,12,FALSE) -> #N/A
A406: 404 | B406: MANO DE OBRA ELECTRICA | C406: HORA | D406: 1 | E406: 361728 | F406: 235123.2 | G406: =+VLOOKUP(B406,PRESUPUESTO!$A$1:$M$626,12,FALSE) -> #N/A
A407: 405 | B407: MANO DE OBRA HIDRAULICA | C407: HORA | D407: 1 | E407: 431244 | F407: 280308.6 | G407: =+VLOOKUP(B407,PRESUPUESTO!$A$1:$M$626,12,FALSE) -> #N/A
A408: 406 | B408: MANO DE OBRA MECANICA | C408: HORA | D408: 1 | E408: 412453 | F408: 268094.45 | G408: =+VLOOKUP(B408,PRESUPUESTO!$A$1:$M$626,12,FALSE) -> #N/A
A409: 407 | B409: MANO DE OBRA MECATRONICA | C409: HORA | D409: 1 | E409: 494517 | F409: 321436.05 | G409: =+VLOOKUP(B409,PRESUPUESTO!$A$1:$M$626,12,FALSE) -> #N/A
A410: 408 | B410: MANO DE OBRA SISTEMA DE FRENOS | C410: HORA | D410: 1 | E410: 275703 | F410: 179206.95 | G410: =+VLOOKUP(B410,PRESUPUESTO!$A$1:$M$626,12,FALSE) -> #N/A
A411: 409 | B411: MANO DE OBRA SISTEMA DE SUSPENSION | C411: HORA | D411: 1 | E411: 410720 | F411: 266968 | G411: =+VLOOKUP(B411,PRESUPUESTO!$A$1:$M$626,12,FALSE) -> #N/A
A412: 410 | B412: RECTIFICADA BLOQUE MOTOR | C412: Un | D412: 1 | E412: 514854 | F412: 334655.1 | G412: =+VLOOKUP(B412,PRESUPUESTO!$A$1:$M$626,12,FALSE) -> #N/A
A413: 411 | B413: RECTIFICADA CIGÜEÑAL | C413: Un | D413: 1 | E413: 550919 | F413: 358097.35 | G413: =+VLOOKUP(B413,PRESUPUESTO!$A$1:$M$626,12,FALSE) -> #N/A
... A416: 415 | B416: TAPIZADA COJINERIA VOLQUETA | C416: Un | D416: 1 | E416: 1051785 | F416: 683660.25 | G416: =+VLOOKUP(B416,PRESUPUESTO!$A$1:$M$626,12,FALSE) -> #N/A
A417: REPUESTOS: CHEVROLET NHR - NPR - JAC | G417: =+VLOOKUP(B417,PRESUPUESTO!$A$1:$M$626,12,FALSE) -> #N/A
A418: ÍTEM | B418: DESCRIPCION | C418: UND | D418: CANT | G418: =+VLOOKUP(B418,PRESUPUESTO!$A$1:$M$626,12,FALSE)
A419: 416 | B419: AMORTIGUADOR DELANTERO (JUEGO) | C419: Un | D419: 1 | E419: 1543287 | F419: 1003136.6 | G419: =+VLOOKUP(B419,PRESUPUESTO!$A$1:$M$626,12,FALSE) -> #N/A
A420: 417 | B420: ALTERNADOR | C420: Un | D420: 1 | E420: 2344284 | F420: 1523784.6 | G420: =+VLOOKUP(B420,PRESUPUESTO!$A$1:$M$626,12,FALSE) -> #N/A
A421: 418 | B421: AMORTIGUADOR TRASERO (JUEGO) | C421: Un | D421: 1 | E421: 1571515 | F421: 1021484.8 | G421: =+VLOOKUP(B421,PRESUPUESTO!$A$1:$M$626,12,FALSE) -> #N/A
A422: 419 | B422: BANDAS DE FRENO DELANTERO (JUEGO) | C422: Un | D422: 1 | E422: 1447042 | F422: 940577.3 | G422: =+VLOOKUP(B422,PRESUPUESTO!$A$1:$M$626,12,FALSE) -> #N/A
A423: 420 | B423: BANDAS DE FRENO TRASERO (JUEGO) | C423: Un | D423: 1 | E423: 974683 | F423: 633543.95 | G423: =+VLOOKUP(B423,PRESUPUESTO!$A$1:$M$626,12,FALSE) -> #N/A
A424: 421 | B424: BARRA ESTABILIZADORA | C424: Un | D424: 1 | E424: 3977329 | F424: 2585263.9 | G424: =+VLOOKUP(B424,PRESUPUESTO!$A$1:$M$626,12,FALSE) -> #N/A
A425: 422 | B425: BATERIA SERIE F-65D23R | C425: Un | D425: 1 | E425: 1400938 | F425: 910609.7 | G425: =+VLOOKUP(B425,PRESUPUESTO!$A$1:$M$626,12,FALSE) -> #N/A
...

Sheet GRUPO 1
A2: PRESUPUESTO MANTENIMIENTO VEHÍCULOS ADMINISTRATIVO
A3: ÍTEM | B3: DESCRIPCIÓN | C3: CANT | D3: UNIDAD | E3: PROMEDIO ENTIDAD | F3: OFERTA ECONOMICA PROPONENTE | G3: MEDIA PRECIOS 2026
A4: 1 | B4: FRENO DE AHOGO COMPLETO | C4: 1 | D4: UN | E4: 3307345 | F4: 2248994.6 | G4: =+VLOOKUP(B4,PRESUPUESTO!$A$1:$N$626,12,FALSE) -> #N/A
A5: 2 | B5: BANDAS DELANTERAS TIPO PESADO | C5: 1 | D5: JUEGO | E5: 1020913 | F5: 694220.84 | G5: =+VLOOKUP(B5,PRESUPUESTO!$A$1:$N$626,12,FALSE) -> #N/A
A6: 3 | B6: BANDAS TRASERAS TIPO PESADO | C6: 1 | D6: JUEGO | E6: 937062 | F6: 637202.16 | G6: =+VLOOKUP(B6,PRESUPUESTO!$A$1:$N$626,12,FALSE) -> #N/A
A7: 4 | B7: REMACHADA BANDAS TIPO PESADO | C7: 1 | D7: JUEGO | E7: 449594 | F7: 305723.92 | G7: =+VLOOKUP(B7,PRESUPUESTO!$A$1:$N$626,12,FALSE) -> #N/A
A8: 5 | B8: BRAZO PARA PLUMILLA | C8: 1 | D8: PAR | E8: 373928 | F8: 254271.04 | G8: =+VLOOKUP(B8,PRESUPUESTO!$A$1:$N$626,12,FALSE) -> #N/A
A9: 6 | B9: PLUMILLA 15" | C9: 1 | D9: PAR | E9: 132564 | F9: 90143.52 | G9: =+VLOOKUP(B9,PRESUPUESTO!$A$1:$N$626,12,FALSE) -> #N/A
A10: 7 | B10: PLUMILLA 18" | C10: 1 | D10: PAR | E10: 127759 | F10: 86876.12 | G10: =+VLOOKUP(B10,PRESUPUESTO!$A$1:$N$626,12,FALSE) -> #N/A
A11: 8 | B11: PLUMILLA 19" | C11: 1 | D11: PAR | E11: 157198 | F11: 106894.64 | G11: =+VLOOKUP(B11,PRESUPUESTO!$A$1:$N$626,12,FALSE) -> #N/A
A12: 9 | B12: PLUMILLA 22" | C12: 1 | D12: PAR | E12: 180742 | F12: 122904.56 | G12: =+VLOOKUP(B12,PRESUPUESTO!$A$1:$N$626,12,FALSE) -> #N/A
A13: 10 | B13: PILA BOMBA DE COMBUSTIBLE (CAMIONETA- AUTOMOVIL) | C13: 1 | D13: UN | E13: 1163548 | F13: 791212.64 | G13: =+VLOOKUP(B13,PRESUPUESTO!$A$1:$N$626,12,FALSE) -> #N/A
A14: 11 | B14: BANDAS FRENO TRASERO | C14: 1 | D14: JUEGO | E14: 958522 | F14: 651794.96 | G14: =+VLOOKUP(B14,PRESUPUESTO!$A$1:$N$626,12,FALSE) -> #N/A
A15: 12 | B15: REMACHADA BANDA FRENO TRASERO | C15: 1 | D15: JUEGO | E15: 462584 | F15: 314557.12 | G15: =+VLOOKUP(B15,PRESUPUESTO!$A$1:$N$626,12,FALSE) -> #N/A
... A87: 84 | B87: RECTIFICACON CULATA (CAMIONETA - AUTOMOVIL) | C87: 1 | D87: UN | E87: 1706959 | F87: 1160732.1 | G87: =+VLOOKUP(B87,PRESUPUESTO!$A$1:$N$626,12,FALSE) -> #N/A
A88: BUS JAC | G88: =+VLOOKUP(B88,PRESUPUESTO!$A$1:$N$626,12,FALSE) -> #N/A
A89: 85 | B89: RETENEDOR RUEDA DELANTERA | C89: 1 | D89: UN | E89: 479706 | F89: 326200.08 | G89: =+VLOOKUP(B89,PRESUPUESTO!$A$1:$N$626,12,FALSE) -> #N/A
A90: 86 | B90: RETENEDOR RUEDA TRASERA | C90: 1 | D90: UN | E90: 594398 | F90: 404190.64 | G90: =+VLOOKUP(B90,PRESUPUESTO!$A$1:$N$626,12,FALSE) -> #N/A
A91: 87 | B91: VIDRIO PANORAMICO | C91: 1 | D91: UN | E91: 4119047 | F91: 2800952 | G91: =+VLOOKUP(B91,PRESUPUESTO!$A$1:$N$626,12,FALSE) -> #N/A
A92: 88 | B92: RETROVISOR DERECHO / IZQUIERDO | C92: 1 | D92: UN | E92: 1994356 | F92: 1356162.1 | G92: =+VLOOKUP(B92,PRESUPUESTO!$A$1:$N$626,12,FALSE) -> #N/A
A93: 89 | B93: FILTRO ACEITE | C93: 1 | D93: UN | E93: 338148 | F93: 229940.64 | G93: =+VLOOKUP(B93,PRESUPUESTO!$A$1:$N$626,12,FALSE) -> #N/A
A94: 90 | B94: FILTRO AIRE PRIMARIO | C94: 1 | D94: UN | E94: 370911 | F94: 252219.48 | G94: =+VLOOKUP(B94,PRESUPUESTO!$A$1:$N$626,12,FALSE) -> #N/A
A95: 91 | B95: FILTRO AIRE SECUNDARIO | C95: 1 | D95: UN | E95: 399480 | F95: 271646.4 | G95: =+VLOOKUP(B95,PRESUPUESTO!$A$1:$N$626,12,FALSE) -> #N/A
A96: 92 | B96: FILTRO TRAMPA | C96: 1 | D96: UN | E96: 471636 | F96: 320712.48 | G96: =+VLOOKUP(B96,PRESUPUESTO!$A$1:$N$626,12,FALSE) -> #N/A
A97: 93 | B97: FILTRO COMBUSTIBLE | C97: 1 | D97: UN | E97: 642341 | F97: 436791.88 | G97: =+VLOOKUP(B97,PRESUPUESTO!$A$1:$N$626,12,FALSE) -> #N/A
A98: BUSETA NPR | G98: =+VLOOKUP(B98,PRESUPUESTO!$A$1:$N$626,12,FALSE) -> #N/A
A99: 94 | B99: RETENEDOR RUEDA DELANTERA | C99: 1 | D99: UN | E99: 469940 | F99: 319559.2 | G99: =+VLOOKUP(B99,PRESUPUESTO!$A$1:$N$626,12,FALSE) -> #N/A
A100: 95 | B100: RETENEDOR RUEDA TRASERA | C100: 1 | D100: UN | E100: 610502 | F100: 415141.36 | G100: =+VLOOKUP(B100,PRESUPUESTO!$A$1:$N$626,12,FALSE) -> #N/A
A101: 96 | B101: VIDRIO PANORAMICO | C101: 1 | D101: UN | E101: 4082527 | F101: 2776118.4 | G101: =+VLOOKUP(B101,PRESUPUESTO!$A$1:$N$626,12,FALSE) -> #N/A
A102: 97 | B102: RETROVISOR DERECHO / IZQUIERDO | C102: 1 | D102: UN | E102: 1866885 | F102: 1269481.8 | G102: =+VLOOKUP(B102,PRESUPUESTO!$A$1:$N$626,12,FALSE) -> #N/A
A103: 98 | B103: FILTRO ACEITE | C103: 1 | D103: UN | E103: 785443 | F103: 534101.24 | G103: =+VLOOKUP(B103,PRESUPUESTO!$A$1:$N$626,12,FALSE) -> #N/A
A104: 99 | B104: FILTRO AIRE PRIMARIO | C104: 1 | D104: UN | E104: 543035 | F104: 369263.8 | G104: =+VLOOKUP(B104,PRESUPUESTO!$A$1:$N$626,12,FALSE) -> #N/A
A105: 100 | B105: FILTRO AIRE SECUNDARIO | C105: 1 | D105: UN | E105: 531150 | F105: 361182 | G105: =+VLOOKUP(B105,PRESUPUESTO!$A$1:$N$626,12,FALSE) -> #N/A
A106: 101 | B106: FILTRO TRAMPA | C106: 1 | D106: UN | E106: 483416 | F106: 328722.88 | G106: =+VLOOKUP(B106,PRESUPUESTO!$A$1:$N$626,12,FALSE) -> #N/A
A107: 102 | B107: FILTRO COMBUSTIBLE | C107: 1 | D107: UN | E107: 467577 | F107: 317952.36 | G107: =+VLOOKUP(B107,PRESUPUESTO!$A$1:$N$626,12,FALSE) -> #N/A
A108: CHEVROLET CORSA | G108: =+VLOOKUP(B108,PRESUPUESTO!$A$1:$N$626,12,FALSE) -> #N/A
A109: 103 | B109: VALVULAS DE ADMISION | C109: 1 | D109: JUEGO | E109: 90795 | F109: 61740.6 | G109: =+VLOOKUP(B109,PRESUPUESTO!$A$1:$N$626,12,FALSE) -> #N/A
A110: 104 | B110: VALVULAS DE ESCAPE | C110: 1 | D110: JUEGO | E110: 87610 | F110: 59574.8 | G110: =+VLOOKUP(B110,PRESUPUESTO!$A$1:$N$626,12,FALSE) -> #N/A
A111: 105 | B111: GORROS CULATA | C111: 1 | D111: JUEGO | E111: 34055 | F111: 23157.4 | G111: =+VLOOKUP(B111,PRESUPUESTO!$A$1:$N$626,12,FALSE) -> #N/A
A112: 106 | B112: EMPAQUE CULATA | C112: 1 | D112: UN | E112: 638975 | F112: 434503 | G112: =+VLOOKUP(B112,PRESUPUESTO!$A$1:$N$626,12,FALSE) -> #N/A
...

Sheet FICHA TECNICA
A1: SERVICIOS
A2: ESCANEO ELECTRONICO
A3: CAMBIO DE ACEITE MOTOR
A4: ALINEACION Y BALANCEO
A5: MANO DE OBRA MECANICO DIESEL
A6: MANO DE OBRA MECANICO GASOLINA
A7: MANO DE OBRA MECANICO ELECTRICISTA
A8: MANO DE OBRA MECATRONICO
A9: MANO DE OBRA SISTEMA CONTRAINCENDIO
A10: CAMBIO DE ACEITE TRASMISION MECANICA O AUTOMATICA
A11: CAMBIO DE ACEITE MOTOR
A12: CAMBIO DE ACEITA CAJA TRASFERENCIA DE BOMBA
... A626: LIQUIDO PARA FRENOS

Sheet PRECIOS 2025 VS 2026
A3: PRESUPUESTO MANTENIMIENTO VEHÍCULOS BOMBEROS
A4: ÍTEM | B4: DESCRIPCIÓN | C4: CANT | D4: UNIDAD
A5: CAMIONETA NISSAN FRONTIER MOTOR 2500cc MODELO 2020 M-12
B6: MOTOR
B7: Lubricación | E7: PROMEDIO ENTIDAD | F7: PRECIOS CONTRATADOS 2025 | G7: MEDIA PRECIOS 2026
A8: 1 | B8: FILTRO DE ACEITE | C8: 1 | D8: UND | E8: 112258 | F8: 111135.42 | G8: =IF(F8="","",VLOOKUP(B8,PRESUPUESTO!$A$1:$O$626,12,FALSE)) -> 287000 | H8: =+VLOOKUP(B8,'GRUPO 1'!$A$3:$F$440,5,FALSE) -> #N/A
A9: 2 | B9: ACEITE 10W30 MOTOR CJ4 | C9: 1 | D9: CUARTO | E9: 122356 | F9: 121132.44 | G9: =IF(F9="","",VLOOKUP(B9,PRESUPUESTO!$A$1:$O$626,12,FALSE)) -> #N/A
A10: 3 | B10: ARANDELA CARTER | C10: 1 | D10: UND | E10: 78141 | F10: 77359.59 | G10: =IF(F10="","",VLOOKUP(B10,PRESUPUESTO!$A$1:$O$626,12,FALSE)) -> #N/A
B11: Refrigeración | G11: =IF(F11="","",VLOOKUP(B11,PRESUPUESTO!$A$1:$O$626,12,FALSE))
A12: 4 | B12: CORREA VENTILADOR | C12: 1 | D12: UND | E12: 113953 | F12: 112813.47 | G12: =IF(F12="","",VLOOKUP(B12,PRESUPUESTO!$A$1:$O$626,12,FALSE)) -> 342000
A13: 5 | B13: MANTENIMIENTO RADIADOR | C13: 1 | D13: UND | E13: 468647 | F13: 463960.53 | G13: =IF(F13="","",VLOOKUP(B13,PRESUPUESTO!$A$1:$O$626,12,FALSE)) -> 847500
A14: 6 | B14: MANGUERA DE RADIADOR | C14: 1 | D14: UND | E14: 239060 | F14: 236669.4 | G14: =IF(F14="","",VLOOKUP(B14,PRESUPUESTO!$A$1:$O$626,12,FALSE)) -> #N/A
A15: 7 | B15: ABRAZADERA | C15: 1 | D15: UND | E15: 4244 | F15: 4201.56 | G15: 6500
B16: Alimentación | G16: =IF(F16="","",VLOOKUP(B16,PRESUPUESTO!$A$1:$O$626,12,FALSE))
A17: 8 | B17: FILTRO DE COMBUSTIBLE | C17: 1 | D17: UND | E17: 170710 | F17: 169002.9 | G17: =IF(F17="","",VLOOKUP(B17,PRESUPUESTO!$A$1:$O$626,12,FALSE)) -> 730000
A18: 9 | B18: FILTRO SEPARADOR DE AGUA | C18: 1 | D18: UND | E18: 160895 | F18: 159286.05 | G18: =IF(F18="","",VLOOKUP(B18,PRESUPUESTO!$A$1:$O$626,12,FALSE)) -> 689000
A19: 10 | B19: FILTRO DE AIRE SECUNDARIO | C19: 1 | D19: UND | E19: 116560 | F19: 115394.4 | G19: =IF(F19="","",VLOOKUP(B19,PRESUPUESTO!$A$1:$O$626,12,FALSE)) -> 915000
A20: 11 | B20: FILTRO DE AIRE PRIMARIO | C20: 1 | D20: UND | E20: 116614 | F20: 115447.86 | G20: =IF(F20="","",VLOOKUP(B20,PRESUPUESTO!$A$1:$O$626,12,FALSE)) -> 1291500
A21: 12 | B21: COLADOR COMBUSTIBLE | C21: 1 | D21: UND | E21: 1647010 | F21: 1630539.9 | G21: =IF(F21="","",VLOOKUP(B21,PRESUPUESTO!$A$1:$O$626,12,FALSE)) -> #N/A
B22: Eléctrico motor , Encendido y Arranque | G22: =IF(F22="","",VLOOKUP(B22,PRESUPUESTO!$A$1:$O$626,12,FALSE))
A23: 13 | B23: CORREA DE ALTERNADOR | C23: 1 | D23: UND | E23: 141938 | F23: 140518.62 | G23: =IF(F23="","",VLOOKUP(B23,PRESUPUESTO!$A$1:$O$626,12,FALSE)) -> 441000
A24: 14 | B24: KIT REPARACION ALTERNADOR | C24: 1 | D24: UND | E24: 1579393 | F24: 1563599.1 | G24: =IF(F24="","",VLOOKUP(B24,PRESUPUESTO!$A$1:$O$626,12,FALSE)) -> 881500
A25: 15 | B25: KIT REPARACION DE ARRANQUE | C25: 1 | D25: UND | E25: 1728877 | F25: 1711588.2 | G25: =IF(F25="","",VLOOKUP(B25,PRESUPUESTO!$A$1:$O$626,12,FALSE)) -> #N/A
A26: 16 | B26: BATERIA 30H | C26: 1 | D26: UND | E26: 2057886 | F26: 2037307.1 | G26: =IF(F26="","",VLOOKUP(B26,PRESUPUESTO!$A$1:$O$626,12,FALSE)) -> #N/A
A27: 17 | B27: BORNE DE BATERIA | C27: 1 | D27: UND | E27: 32541 | F27: 32215.59 | G27: =IF(F27="","",VLOOKUP(B27,PRESUPUESTO!$A$1:$O$626,12,FALSE)) -> #N/A
B28: SISTEMA DE TRANSMISION | G28: =IF(F28="","",VLOOKUP(B28,PRESUPUESTO!$A$1:$O$626,12,FALSE))
A29: 18 | B29: CRUCETA CARDÁN | C29: 1 | D29: UND | E29: 1905885 | F29: 1886826.1 | G29: 611000
A30: 19 | B30: KIT DE EMBRAGUE | C30: 1 | D30: KIT | E30: 3973434 | F30: 3933699.7 | G30: =IF(F30="","",VLOOKUP(B30,PRESUPUESTO!$A$1:$O$626,12,FALSE)) -> #N/A
A31: 20 | B31: RODAMIENTO DELANTERO | C31: 1 | D31: UND | E31: 200813 | F31: 198804.87 | G31: 675500
A32: 21 | B32: RODAMIENTO TRASERO | C32: 1 | D32: UND | E32: 320739 | F32: 317531.61 | G32: 527000
B33: SISTEMA DE SUSPENSION | G33: =IF(F33="","",VLOOKUP(B33,PRESUPUESTO!$A$1:$O$626,12,FALSE))
A34: 22 | B34: HOJA RESORTE | C34: 1 | D34: UND | E34: 608956 | F34: 602866.44 | G34: =IF(F34="","",VLOOKUP(B34,PRESUPUESTO!$A$1:$O$626,12,FALSE)) -> #N/A
A35: 23 | B35: PASADOR CENTRAL | C35: 1 | D35: UND | E35: 52308 | F35: 51784.92 | G35: 35500
A36: 24 | B36: GRAPA DE MUELLE | C36: 1 | D36: UND | E36: 72604 | F36: 71877.96 | G36: =IF(F36="","",VLOOKUP(B36,PRESUPUESTO!$A$1:$O$626,12,FALSE)) -> 110500
A37: 25 | B37: AMORTIGUADOR DELANTERO | C37: 1 | D37: UND | E37: 502895 | F37: 497866.05 | G37: =IF(F37="","",VLOOKUP(B37,PRESUPUESTO!$A$1:$O$626,12,FALSE)) -> #N/A
A38: 26 | B38: AMORTIGUADOR TRASERO | C38: 1 | D38: UND | E38: 306623 | F38: 303556.77 | G38: =IF(F38="","",VLOOKUP(B38,PRESUPUESTO!$A$1:$O$626,12,FALSE)) -> #N/A
B39: SISTEMA DE FRENOS | G39: =IF(F39="","",VLOOKUP(B39,PRESUPUESTO!$A$1:$O$626,12,FALSE))
A40: 27 | B40: PASTILLAS DE FRENOS DELANTERA | C40: 1 | D40: JGO | E40: 528540 | F40: 523254.6 | G40: =IF(F40="","",VLOOKUP(B40,PRESUPUESTO!$A$1:$O$626,12,FALSE)) -> #N/A
A41: 28 | B41: BANDAS DE FRENOS TRASERAS | C41: 1 | D41: JGO | E41: 491408 | F41: 486493.92 | G41: =IF(F41="","",VLOOKUP(B41,PRESUPUESTO!$A$1:$O$626,12,FALSE)) -> 962500
A42: 29 | B42: DISCO DE FRENO | C42: 1 | D42: UND | E42: 730235 | F42: 722932.65 | G42: =IF(F42="","",VLOOKUP(B42,PRESUPUESTO!$A$1:$O$626,12,FALSE)) -> #N/A
...

Sheet PRESUPUESTO
A1: SERVICIOS | B1: TRACTO DIESEL BOMBEROS | E1: CATERCOL | H1: COMERCIALIZADORA ARTEAGA | L1: MEDIANA | M1: PROMEDIO | N1: DESVIACION ESTANDAR | O1: COEFICIENTE DE VARIACIÓN | Q1: PRECIO CONTRATADO 2025 | R1: INCREMENTO PORCENTUAL RESPECTO A LA MEDIANA | S1: PRECIO TECHO ESTABLECIDO | U1: CRUCE 1 | V1: CRUCE 2
A2: ESCANEO ELECTRONICO | B2: 331513 | C2: 62987 | D2: 394500 | E2: 311765 | F2: 59235 | G2: 371000 | H2: 313025 | I2: 59475 | J2: 372500 | L2: =IF(D2="","",MEDIAN(D2,G2,J2)) -> 372500 | M2: =IF(D2="","",AVERAGE(D2,G2,J2)) -> 379333.33 | N2: =IF(D2="","",_xlfn.STDEV.S(D2,G2,J2)) -> 13156.114 | O2: =IF(D2="","",N2/M2) -> 0.034682198 | P2: =+MAX(O2:O626) -> 0.27728051 | Q2: =+VLOOKUP(A2,'PRECIOS 2025 VS 2026'!$B$7:$G$1477,5,FALSE) -> 369748.17 | R2: =+(L2-Q2)/Q2 -> 0.0074424439 | S2: =IF(ISNA(R2),MIN(D2,G2,J2),IF(R2<=5.1%,L2,Q2*1.051)) -> 372500 | U2: =+VLOOKUP(A2,'GRUPO 1'!$A$3:$F$440,5,FALSE) -> #N/A | V2: =+VLOOKUP(A2,'GRUPO 3'!$B$3:$F$1178,5,FALSE) -> #N/A | W2: =+ROUND((B2*1.19)-D2,0) -> 0 | X2: =ROUND((E2*1.19)-G2,0) -> 0 | Y2: =ROUND((H2*1.19)-J2,0) -> 0
A3: CAMBIO DE ACEITE MOTOR | B3: 1403361 | C3: 266639 | D3: 1670000 | E3: 1256303 | F3: 238697 | G3: 1495000 | H3: 1401261 | I3: 266239 | J3: 1667500 | L3: =IF(D3="","",MEDIAN(D3,G3,J3)) -> 1667500 | M3: =IF(D3="","",AVERAGE(D3,G3,J3)) -> 1610833.3 | N3: =IF(D3="","",_xlfn.STDEV.S(D3,G3,J3)) -> 100322.4 | O3: =IF(D3="","",N3/M3) -> 0.062279812 | Q3: =+VLOOKUP(A3,'PRECIOS 2025 VS 2026'!$B$7:$G$1477,5,FALSE) -> #N/A | R3: =+(L3-Q3)/Q3 -> #N/A | S3: =IF(ISNA(R3),MIN(D3,G3,J3),IF(R3<=5.1%,L3,Q3*1.051)) -> 1495000 | U3: =+VLOOKUP(A3,'GRUPO 1'!$A$3:$F$440,5,FALSE) -> #N/A | V3: =+VLOOKUP(A3,'GRUPO 3'!$B$3:$F$1178,5,FALSE) -> #N/A | W3: =+ROUND((B3*1.19)-D3,0) -> 0 | X3: =ROUND((E3*1.19)-G3,0) -> 1 | Y3: =ROUND((H3*1.19)-J3,0) -> 1
A4: ALINEACION Y BALANCEO | B4: 335294 | C4: 63706 | D4: 399000 | E4: 311765 | F4: 59235 | G4: 371000 | H4: 300000 | I4: 57000 | J4: 357000 | L4: =IF(D4="","",MEDIAN(D4,G4,J4)) -> 371000 | M4: =IF(D4="","",AVERAGE(D4,G4,J4)) -> 375666.67 | N4: =IF(D4="","",_xlfn.STDEV.S(D4,G4,J4)) -> 21385.353 | O4: =IF(D4="","",N4/M4) -> 0.056926406 | Q4: =+VLOOKUP(A4,'PRECIOS 2025 VS 2026'!$B$7:$G$1477,5,FALSE) -> 356067.36 | R4: =+(L4-Q4)/Q4 -> 0.041937683 | S4: =IF(ISNA(R4),MIN(D4,G4,J4),IF(R4<=5.1%,L4,Q4*1.051)) -> 371000 | U4: =+VLOOKUP(A4,'GRUPO 1'!$A$3:$F$440,5,FALSE) -> #N/A | V4: =+VLOOKUP(A4,'GRUPO 3'!$B$3:$F$1178,5,FALSE) -> #N/A | W4: =+ROUND((B4*1.19)-D4,0) -> 0 | X4: =ROUND((E4*1.19)-G4,0) -> 0 | Y4: =ROUND((H4*1.19)-J4,0) -> 0
A5: MANO DE OBRA MECANICO DIESEL | B5: 439916 | C5: 83584 | D5: 523500 | E5: 389916 | F5: 74084 | G5: 464000 | H5: 431513 | I5: 81987 | J5: 513500 | L5: =IF(D5="","",MEDIAN(D5,G5,J5)) -> 513500 | M5: =IF(D5="","",AVERAGE(D5,G5,J5)) -> 500333.33 | N5: =IF(D5="","",_xlfn.STDEV.S(D5,G5,J5)) -> 31860.372 | O5: =IF(D5="","",N5/M5) -> 0.063678293 | Q5: =+VLOOKUP(A5,'PRECIOS 2025 VS 2026'!$B$7:$G$1477,5,FALSE) -> 339902.64 | R5: =+(L5-Q5)/Q5 -> 0.51072672 | S5: =IF(ISNA(R5),MIN(D5,G5,J5),IF(R5<=5.1%,L5,Q5*1.051)) -> 357237.67 | U5: =+VLOOKUP(A5,'GRUPO 1'!$A$3:$F$440,5,FALSE) -> #N/A | V5: =+VLOOKUP(A5,'GRUPO 3'!$B$3:$F$1178,5,FALSE) -> #N/A | W5: =+ROUND((B5*1.19)-D5,0) -> 0 | X5: =ROUND((E5*1.19)-G5,0) -> 0 | Y5: =ROUND((H5*1.19)-J5,0) -> 0
A6: MANO DE OBRA MECANICO GASOLINA | B6: 351261 | C6: 66739 | D6: 418000 | E6: 298319 | F6: 56681 | G6: 355000 | H6: 325210 | I6: 61790 | J6: 387000 | L6: =IF(D6="","",MEDIAN(D6,G6,J6)) -> 387000 | M6: =IF(D6="","",AVERAGE(D6,G6,J6)) -> 386666.67 | N6: =IF(D6="","",_xlfn.STDEV.S(D6,G6,J6)) -> 31501.323 | O6: =IF(D6="","",N6/M6) -> 0.081468938 | Q6: =+VLOOKUP(A6,'PRECIOS 2025 VS 2026'!$B$7:$G$1477,5,FALSE) -> 285745.68 | R6: =+(L6-Q6)/Q6 -> 0.35435118 | S6: =IF(ISNA(R6),MIN(D6,G6,J6),IF(R6<=5.1%,L6,Q6*1.051)) -> 300318.71 | U6: =+VLOOKUP(A6,'GRUPO 1'!$A$3:$F$440,5,FALSE) -> #N/A | V6: =+VLOOKUP(A6,'GRUPO 3'!$B$3:$F$1178,5,FALSE) -> #N/A | W6: =+ROUND((B6*1.19)-D6,0) -> 1 | X6: =ROUND((E6*1.19)-G6,0) -> 0 | Y6: =ROUND((H6*1.19)-J6,0) -> 0
A7: MANO DE OBRA MECANICO ELECTRICISTA | B7: 314286 | C7: 59714 | D7: 374000 | E7: 309244 | F7: 58756 | G7: 368000 | H7: 305042 | I7: 57958 | J7: 363000 | L7: =IF(D7="","",MEDIAN(D7,G7,J7)) -> 368000 | M7: =IF(D7="","",AVERAGE(D7,G7,J7)) -> 368333.33 | N7: =IF(D7="","",_xlfn.STDEV.S(D7,G7,J7)) -> 5507.5705 | O7: =IF(D7="","",N7/M7) -> 0.01495268 | Q7: =+VLOOKUP(A7,'PRECIOS 2025 VS 2026'!$B$7:$G$1477,5,FALSE) -> 268486.02 | R7: =+(L7-Q7)/Q7 -> 0.37064865 | S7: =IF(ISNA(R7),MIN(D7,G7,J7),IF(R7<=5.1%,L7,Q7*1.051)) -> 282178.81 | U7: =+VLOOKUP(A7,'GRUPO 1'!$A$3:$F$440,5,FALSE) -> #N/A | V7: =+VLOOKUP(A7,'GRUPO 3'!$B$3:$F$1178,5,FALSE) -> #N/A | W7: =+ROUND((B7*1.19)-D7,0) -> 0 | X7: =ROUND((E7*1.19)-G7,0) -> 0 | Y7: =ROUND((H7*1.19)-J7,0) -> 0
A8: MANO DE OBRA MECATRONICO | B8: 383613 | C8: 72887 | D8: 456500 | E8: 347059 | F8: 65941 | G8: 413000 | H8: 369328 | I8: 70172 | J8: 439500 | L8: =IF(D8="","",MEDIAN(D8,G8,J8)) -> 439500 | M8: =IF(D8="","",AVERAGE(D8,G8,J8)) -> 436333.33 | N8: =IF(D8="","",_xlfn.STDEV.S(D8,G8,J8)) -> 21922.211 | O8: =IF(D8="","",N8/M8) -> 0.050241889 | Q8: =+VLOOKUP(A8,'PRECIOS 2025 VS 2026'!$B$7:$G$1477,5,FALSE) -> 316119.87 | R8: =+(L8-Q8)/Q8 -> 0.3902954 | S8: =IF(ISNA(R8),MIN(D8,G8,J8),IF(R8<=5.1%,L8,Q8*1.051)) -> 332241.98 | U8: =+VLOOKUP(A8,'GRUPO 1'!$A$3:$F$440,5,FALSE) -> #N/A | V8: =+VLOOKUP(A8,'GRUPO 3'!$B$3:$F$1178,5,FALSE) -> #N/A | W8: =+ROUND((B8*1.19)-D8,0) -> -1 | X8: =ROUND((E8*1.19)-G8,0) -> 0 | Y8: =ROUND((H8*1.19)-J8,0) -> 0
A9: MANO DE OBRA SISTEMA CONTRAINCENDIO | B9: 702941 | C9: 133559 | D9: 836500 | E9: 626050 | F9: 118950 | G9: 745000 | H9: 686134 | I9: 130366 | J9: 816500 | L9: =IF(D9="","",MEDIAN(D9,G9,J9)) -> 816500 | M9: =IF(D9="","",AVERAGE(D9,G9,J9)) -> 799333.33 | N9: =IF(D9="","",_xlfn.STDEV.S(D9,G9,J9)) -> 48104.92 | O9: =IF(D9="","",N9/M9) -> 0.060181301 | Q9: =+VLOOKUP(A9,'PRECIOS 2025 VS 2026'!$B$7:$G$1477,5,FALSE) -> 541539.9 | R9: =+(L9-Q9)/Q9 -> 0.50773747 | S9: =IF(ISNA(R9),MIN(D9,G9,J9),IF(R9<=5.1%,L9,Q9*1.051)) -> 569158.43 | U9: =+VLOOKUP(A9,'GRUPO 1'!$A$3:$F$440,5,FALSE) -> #N/A | V9: =+VLOOKUP(A9,'GRUPO 3'!$B$3:$F$1178,5,FALSE) -> #N/A | W9: =+ROUND((B9*1.19)-D9,0) -> 0 | X9: =ROUND((E9*1.19)-G9,0) -> -1 | Y9: =ROUND((H9*1.19)-J9,0) -> -1
A10: CAMBIO DE ACEITE TRASMISION MECANICA O AUTOMATICA | B10: 1662605 | C10: 315895 | D10: 1978500 | E10: 1264706 | F10: 240294 | G10: 1505000 | H10: 1537815 | I10: 292185 | J10: 1830000 | L10: =IF(D10="","",MEDIAN(D10,G10,J10)) -> 1830000 | M10: =IF(D10="","",AVERAGE(D10,G10,J10)) -> 1771166.7 | N10: =IF(D10="","",_xlfn.STDEV.S(D10,G10,J10)) -> 242170.57 | O10: =IF(D10="","",N10/M10) -> 0.13672941 | Q10: =+VLOOKUP(A10,'PRECIOS 2025 VS 2026'!$B$7:$G$1477,5,FALSE) -> #N/A | R10: =+(L10-Q10)/Q10 -> #N/A | S10: =IF(ISNA(R10),MIN(D10,G10,J10),IF(R10<=5.1%,L10,Q10*1.051)) -> 1505000 | U10: =+VLOOKUP(A10,'GRUPO 1'!$A$3:$F$440,5,FALSE) -> #N/A | V10: =+VLOOKUP(A10,'GRUPO 3'!$B$3:$F$1178,5,FALSE) -> #N/A | W10: =+ROUND((B10*1.19)-D10,0) -> 0 | X10: =ROUND((E10*1.19)-G10,0) -> 0 | Y10: =ROUND((H10*1.19)-J10,0) -> 0
A11: CAMBIO DE ACEITE MOTOR | E11: 1256303 | F11: 238697 | G11: 1495000 | L11: =IF(D11="","",MEDIAN(D11,G11,J11)) | M11: =IF(D11="","",AVERAGE(D11,G11,J11)) | N11: =IF(D11="","",_xlfn.STDEV.S(D11,G11,J11)) | O11: =IF(D11="","",N11/M11) | Q11: =+VLOOKUP(A11,'PRECIOS 2025 VS 2026'!$B$7:$G$1477,5,FALSE) -> #N/A | R11: =+(L11-Q11)/Q11 -> #VALUE! | U11: =+VLOOKUP(A11,'GRUPO 1'!$A$3:$F$440,5,FALSE) -> #N/A | V11: =+VLOOKUP(A11,'GRUPO 3'!$B$3:$F$1178,5,FALSE) -> #N/A | W11: =+ROUND((B11*1.19)-D11,0) -> 0 | X11: =ROUND((E11*1.19)-G11,0) -> 1 | Y11: =ROUND((H11*1.19)-J11,0) -> 0
A12: CAMBIO DE ACEITA CAJA TRASFERENCIA DE BOMBA | B12: 1474370 | C12: 280130 | D12: 1754500 | E12: 1264706 | F12: 240294 | G12: 1505000 | H12: 1565966 | I12: 297534 | J12: 1863500 | L12: =IF(D12="","",MEDIAN(D12,G12,J12)) -> 1754500 | M12: =IF(D12="","",AVERAGE(D12,G12,J12)) -> 1707666.7 | N12: =IF(D12="","",_xlfn.STDEV.S(D12,G12,J12)) -> 183781.35 | O12: =IF(D12="","",N12/M12) -> 0.10762132 | Q12: =+VLOOKUP(A12,'PRECIOS 2025 VS 2026'!$B$7:$G$1477,5,FALSE) -> #N/A | R12: =+(L12-Q12)/Q12 -> #N/A | S12: =IF(ISNA(R12),MIN(D12,G12,J12),IF(R12<=5.1%,L12,Q12*1.051)) -> 1505000 | U12: =+VLOOKUP(A12,'GRUPO 1'!$A$3:$F$440,5,FALSE) -> #N/A | V12: =+VLOOKUP(A12,'GRUPO 3'!$B$3:$F$1178,5,FALSE) -> #N/A | W12: =+ROUND((B12*1.19)-D12,0) -> 0 | X12: =ROUND((E12*1.19)-G12,0) -> 0 | Y12: =ROUND((H12*1.19)-J12,0) -> 0
A13: CAMBIO DE ACEITE DE DIFERENCIAL | B13: 1476050 | C13: 280450 | D13: 1756500 | E13: 1264706 | F13: 240294 | G13: 1505000 | H13: 1539496 | I13: 292504 | J13: 1832000 | L13: =IF(D13="","",MEDIAN(D13,G13,J13)) -> 1756500 | M13: =IF(D13="","",AVERAGE(D13,G13,J13)) -> 1697833.3 | N13: =IF(D13="","",_xlfn.STDEV.S(D13,G13,J13)) -> 171212.1 | O13: =IF(D13="","",N13/M13) -> 0.10084152 | Q13: =+VLOOKUP(A13,'PRECIOS 2025 VS 2026'!$B$7:$G$1477,5,FALSE) -> #N/A | R13: =+(L13-Q13)/Q13 -> #N/A | S13: =IF(ISNA(R13),MIN(D13,G13,J13),IF(R13<=5.1%,L13,Q13*1.051)) -> 1505000 | U13: =+VLOOKUP(A13,'GRUPO 1'!$A$3:$F$440,5,FALSE) -> #N/A | V13: =+VLOOKUP(A13,'GRUPO 3'!$B$3:$F$1178,5,FALSE) -> #N/A | W13: =+ROUND((B13*1.19)-D13,0) -> -1 | X13: =ROUND((E13*1.19)-G13,0) -> 0 | Y13: =ROUND((H13*1.19)-J13,0) -> 0
A14: ENGRASE GENERAL | B14: 175630 | C14: 33370 | D14: 209000 | E14: 184034 | F14: 34966 | G14: 219000 | H14: 172689 | I14: 32811 | J14: 205500 | L14: =IF(D14="","",MEDIAN(D14,G14,J14)) -> 209000 | M14: =IF(D14="","",AVERAGE(D14,G14,J14)) -> 211166.67 | N14: =IF(D14="","",_xlfn.STDEV.S(D14,G14,J14)) -> 7005.9499 | O14: =IF(D14="","",N14/M14) -> 0.033177347 | Q14: =+VLOOKUP(A14,'PRECIOS 2025 VS 2026'!$B$7:$G$1477,5,FALSE) -> #N/A | R14: =+(L14-Q14)/Q14 -> #N/A | S14: =IF(ISNA(R14),MIN(D14,G14,J14),IF(R14<=5.1%,L14,Q14*1.051)) -> 205500 | U14: =+VLOOKUP(A14,'GRUPO 1'!$A$3:$F$440,5,FALSE) -> #N/A | V14: =+VLOOKUP(A14,'GRUPO 3'!$B$3:$F$1178,5,FALSE) -> #N/A | W14: =+ROUND((B14*1.19)-D14,0) -> 0 | X14: =ROUND((E14*1.19)-G14,0) -> 0 | Y14: =ROUND((H14*1.19)-J14,0) -> 0
A15: CAMBIO Y ROTACION DE LLANTAS | B15: 226471 | C15: 43029 | D15: 269500 | E15: 217647 | F15: 41353 | G15: 259000 | H15: 226471 | I15: 43029 | J15: 269500 | L15: =IF(D15="","",MEDIAN(D15,G15,J15)) -> 269500 | M15: =IF(D15="","",AVERAGE(D15,G15,J15)) -> 266000 | N15: =IF(D15="","",_xlfn.STDEV.S(D15,G15,J15)) -> 6062.1778 | O15: =IF(D15="","",N15/M15) -> 0.022790142 | Q15: =+VLOOKUP(A15,'PRECIOS 2025 VS 2026'!$B$7:$G$1477,5,FALSE) -> #N/A | R15: =+(L15-Q15)/Q15 -> #N/A | S15: =IF(ISNA(R15),MIN(D15,G15,J15),IF(R15<=5.1%,L15,Q15*1.051)) -> 259000 | U15: =+VLOOKUP(A15,'GRUPO 1'!$A$3:$F$440,5,FALSE) -> #N/A | V15: =+VLOOKUP(A15,'GRUPO 3'!$B$3:$F$1178,5,FALSE) -> #N/A | W15: =+ROUND((B15*1.19)-D15,0) -> 0 | X15: =ROUND((E15*1.19)-G15,0) -> 0 | Y15: =ROUND((H15*1.19)-J15,0) -> 0
A16: REGRABAR LLANTAS | B16: 690756 | C16: 131244 | D16: 822000 | E16: 714286 | F16: 135714 | G16: 850000 | H16: 750420 | I16: 142580 | J16: 893000 | L16: =IF(D16="","",MEDIAN(D16,G16,J16)) -> 850000 | M16: =IF(D16="","",AVERAGE(D16,G16,J16)) -> 855000 | N16: =IF(D16="","",_xlfn.STDEV.S(D16,G16,J16)) -> 35763.109 | O16: =IF(D16="","",N16/M16) -> 0.041828198 | Q16: =+VLOOKUP(A16,'PRECIOS 2025 VS 2026'!$B$7:$G$1477,5,FALSE) -> #N/A | R16: =+(L16-Q16)/Q16 -> #N/A | S16: =IF(ISNA(R16),MIN(D16,G16,J16),IF(R16<=5.1%,L16,Q16*1.051)) -> 822000 | U16: =+VLOOKUP(A16,'GRUPO 1'!$A$3:$F$440,5,FALSE) -> #N/A | V16: =+VLOOKUP(A16,'GRUPO 3'!$B$3:$F$1178,5,FALSE) -> #N/A | W16: =+ROUND((B16*1.19)-D16,0) -> 0 | X16: =ROUND((E16*1.19)-G16,0) -> 0 | Y16: =ROUND((H16*1.19)-J16,0) -> 0
A17: CARGA DE AIRE ACONDICIONADO | B17: 1560504 | C17: 296496 | D17: 1857000 | E17: 1512605 | F17: 287395 | G17: 1800000 | H17: 1752101 | I17: 332899 | J17: 2085000 | L17: =IF(D17="","",MEDIAN(D17,G17,J17)) -> 1857000 | M17: =IF(D17="","",AVERAGE(D17,G17,J17)) -> 1914000 | N17: =IF(D17="","",_xlfn.STDEV.S(D17,G17,J17)) -> 150807.82 | O17: =IF(D17="","",N17/M17) -> 0.078791967 | Q17: =+VLOOKUP(A17,'PRECIOS 2025 VS 2026'!$B$7:$G$1477,5,FALSE) -> 478387.8 | R17: =+(L17-Q17)/Q17 -> 2.881788 | S17: =IF(ISNA(R17),MIN(D17,G17,J17),IF(R17<=5.1%,L17,Q17*1.051)) -> 502785.58 | U17: =+VLOOKUP(A17,'GRUPO 1'!$A$3:$F$440,5,FALSE) -> #N/A | V17: =+VLOOKUP(A17,'GRUPO 3'!$B$3:$F$1178,5,FALSE) -> #N/A | W17: =+ROUND((B17*1.19)-D17,0) -> 0 | X17: =ROUND((E17*1.19)-G17,0) -> 0 | Y17: =ROUND((H17*1.19)-J17,0) -> 0
A18: VULCANIZADA DE LLANTAS | B18: 110084 | C18: 20916 | D18: 131000 | E18: 105882 | F18: 20118 | G18: 126000 | H18: 102101 | I18: 19399 | J18: 121500 | L18: =IF(D18="","",MEDIAN(D18,G18,J18)) -> 126000 | M18: =IF(D18="","",AVERAGE(D18,G18,J18)) -> 126166.67 | N18: =IF(D18="","",_xlfn.STDEV.S(D18,G18,J18)) -> 4752.1925 | O18: =IF(D18="","",N18/M18) -> 0.037665991 | Q18: =+VLOOKUP(A18,'PRECIOS 2025 VS 2026'!$B$7:$G$1477,5,FALSE) -> #N/A | R18: =+(L18-Q18)/Q18 -> #N/A | S18: =IF(ISNA(R18),MIN(D18,G18,J18),IF(R18<=5.1%,L18,Q18*1.051)) -> 121500 | U18: =+VLOOKUP(A18,'GRUPO 1'!$A$3:$F$440,5,FALSE) -> #N/A | V18: =+VLOOKUP(A18,'GRUPO 3'!$B$3:$F$1178,5,FALSE) -> #N/A | W18: =+ROUND((B18*1.19)-D18,0) -> 0 | X18: =ROUND((E18*1.19)-G18,0) -> 0 | Y18: =ROUND((H18*1.19)-J18,0) -> 0
A19: SERVICIO DE LATONERIA Y PINTURA | B19: 10204622 | C19: 1938878 | D19: 12143500 | E19: 11424370 | F19: 2170630 | G19: 13595000 | H19: 10151261 | I19: 1928739 | J19: 12080000 | L19: =IF(D19="","",MEDIAN(D19,G19,J19)) -> 12143500 | M19: =IF(D19="","",AVERAGE(D19,G19,J19)) -> 12606167 | N19: =IF(D19="","",_xlfn.STDEV.S(D19,G19,J19)) -> 856943.16 | O19: =IF(D19="","",N19/M19) -> 0.067978092 | Q19: =+VLOOKUP(A19,'PRECIOS 2025 VS 2026'!$B$7:$G$1477,5,FALSE) -> #N/A | R19: =+(L19-Q19)/Q19 -> #N/A | S19: =IF(ISNA(R19),MIN(D19,G19,J19),IF(R19<=5.1%,L19,Q19*1.051)) -> 12080000 | U19: =+VLOOKUP(A19,'GRUPO 1'!$A$3:$F$440,5,FALSE) -> #N/A | V19: =+VLOOKUP(A19,'GRUPO 3'!$B$3:$F$1178,5,FALSE) -> #N/A | W19: =+ROUND((B19*1.19)-D19,0) -> 0 | X19: =ROUND((E19*1.19)-G19,0) -> 0 | Y19: =ROUND((H19*1.19)-J19,0) -> 1
A20: FABRICACION E INSTALACION DE LOGOS PUERTA | B20: 1591176 | C20: 302324 | D20: 1893500 | E20: 1512605 | F20: 287395 | G20: 1800000 | H20: 1628571 | I20: 309429 | J20: 1938000 | L20: =IF(D20="","",MEDIAN(D20,G20,J20)) -> 1893500 | M20: =IF(D20="","",AVERAGE(D20,G20,J20)) -> 1877166.7 | N20: =IF(D20="","",_xlfn.STDEV.S(D20,G20,J20)) -> 70434.958 | O20: =IF(D20="","",N20/M20) -> 0.037521952 | Q20: =+VLOOKUP(A20,'PRECIOS 2025 VS 2026'!$B$7:$G$1477,5,FALSE) -> 1312906.3 | R20: =+(L20-Q20)/Q20 -> 0.44222019 | S20: =IF(ISNA(R20),MIN(D20,G20,J20),IF(R20<=5.1%,L20,Q20*1.051)) -> 1379864.5 | U20: =+VLOOKUP(A20,'GRUPO 1'!$A$3:$F$440,5,FALSE) -> #N/A | V20: =+VLOOKUP(A20,'GRUPO 3'!$B$3:$F$1178,5,FALSE) -> #N/A | W20: =+ROUND((B20*1.19)-D20,0) -> -1 | X20: =ROUND((E20*1.19)-G20,0) -> 0 | Y20: =ROUND((H20*1.19)-J20,0) -> -1
A21: CAMBIO DE PASTILLAS | B21: 725630 | C21: 137870 | D21: 863500 | E21: 714286 | F21: 135714 | G21: 850000 | H21: 712605 | I21: 135395 | J21: 848000 | L21: =IF(D21="","",MEDIAN(D21,G21,J21)) -> 850000 | M21: =IF(D21="","",AVERAGE(D21,G21,J21)) -> 853833.33 | N21: =IF(D21="","",_xlfn.STDEV.S(D21,G21,J21)) -> 8431.0932 | O21: =IF(D21="","",N21/M21) -> 0.0098744016 | Q21: =+VLOOKUP(A21,'PRECIOS 2025 VS 2026'!$B$7:$G$1477,5,FALSE) -> #N/A | R21: =+(L21-Q21)/Q21 -> #N/A | S21: =IF(ISNA(R21),MIN(D21,G21,J21),IF(R21<=5.1%,L21,Q21*1.051)) -> 848000 | U21: =+VLOOKUP(A21,'GRUPO 1'!$A$3:$F$440,5,FALSE) -> #N/A | V21: =+VLOOKUP(A21,'GRUPO 3'!$B$3:$F$1178,5,FALSE) -> #N/A | W21: =+ROUND((B21*1.19)-D21,0) -> 0 | X21: =ROUND((E21*1.19)-G21,0) -> 0 | Y21: =ROUND((H21*1.19)-J21,0) -> 0
A22: CAMBIO DE BANDAS | B22: 559244 | C22: 106256 | D22: 665500 | E22: 584034 | F22: 110966 | G22: 695000 | H22: 608824 | I22: 115676 | J22: 724500 | L22: =IF(D22="","",MEDIAN(D22,G22,J22)) -> 695000 | M22: =IF(D22="","",AVERAGE(D22,G22,J22)) -> 695000 | N22: =IF(D22="","",_xlfn.STDEV.S(D22,G22,J22)) -> 29500 | O22: =IF(D22="","",N22/M22) -> 0.042446043 | Q22: =+VLOOKUP(A22,'PRECIOS 2025 VS 2026'!$B$7:$G$1477,5,FALSE) -> #N/A | R22: =+(L22-Q22)/Q22 -> #N/A | S22: =IF(ISNA(R22),MIN(D22,G22,J22),IF(R22<=5.1%,L22,Q22*1.051)) -> 665500 | U22: =+VLOOKUP(A22,'GRUPO 1'!$A$3:$F$440,5,FALSE) -> #N/A | V22: =+VLOOKUP(A22,'GRUPO 3'!$B$3:$F$1178,5,FALSE) -> #N/A | W22: =+ROUND((B22*1.19)-D22,0) -> 0 | X22: =ROUND((E22*1.19)-G22,0) -> 0 | Y22: =ROUND((H22*1.19)-J22,0) -> 1
A23: CAMBIO SISTEMA DE EMBRAGUE | B23: 5865126 | C23: 1114374 | D23: 6979500 | E23: 6084034 | F23: 1155966 | G23: 7240000 | H23: 5276471 | I23: 1002529 | J23: 6279000 | L23: =IF(D23="","",MEDIAN(D23,G23,J23)) -> 6979500 | M23: =IF(D23="","",AVERAGE(D23,G23,J23)) -> 6832833.3 | N23: =IF(D23="","",_xlfn.STDEV.S(D23,G23,J23)) -> 497004.61 | O23: =IF(D23="","",N23/M23) -> 0.072737704 | Q23: =+VLOOKUP(A23,'PRECIOS 2025 VS 2026'!$B$7:$G$1477,5,FALSE) -> #N/A | R23: =+(L23-Q23)/Q23 -> #N/A | S23: =IF(ISNA(R23),MIN(D23,G23,J23),IF(R23<=5.1%,L23,Q23*1.051)) -> 6279000 | U23: =+VLOOKUP(A23,'GRUPO 1'!$A$3:$F$440,5,FALSE) -> #N/A | V23: =+VLOOKUP(A23,'GRUPO 3'!$B$3:$F$1178,5,FALSE) -> #N/A | W23: =+ROUND((B23*1.19)-D23,0) -> 0 | X23: =ROUND((E23*1.19)-G23,0) -> 0 | Y23: =ROUND((H23*1.19)-J23,0) -> 0
... A26: ATENCION DE EMERGENCIAS MECANICAS 24/7 | B26: 1659664 | C26: 315336 | D26: 1975000 | E26: 1512605 | F26: 287395 | G26: 1800000 | H26: 1752521 | I26: 332979 | J26: 2085500 | L26: =IF(D26="","",MEDIAN(D26,G26,J26)) -> 1975000 | M26: =IF(D26="","",AVERAGE(D26,G26,J26)) -> 1953500 | N26: =IF(D26="","",_xlfn.STDEV.S(D26,G26,J26)) -> 143959.2 | O26: =IF(D26="","",N26/M26) -> 0.073692959 | Q26: =+VLOOKUP(A26,'PRECIOS 2025 VS 2026'!$B$7:$G$1477,5,FALSE) -> #N/A | R26: =+(L26-Q26)/Q26 -> #N/A | S26: =IF(ISNA(R26),MIN(D26,G26,J26),IF(R26<=5.1%,L26,Q26*1.051)) -> 1800000 | U26: =+VLOOKUP(A26,'GRUPO 1'!$A$3:$F$440,5,FALSE) -> #N/A | V26: =+VLOOKUP(A26,'GRUPO 3'!$B$3:$F$1178,5,FALSE) -> #N/A | W26: =+ROUND((B26*1.19)-D26,0) -> 0 | X26: =ROUND((E26*1.19)-G26,0) -> 0 | Y26: =ROUND((H26*1.19)-J26,0) -> 0
A27: DESCRIPCION | L27: =IF(D27="","",MEDIAN(D27,G27,J27)) | M27: =IF(D27="","",AVERAGE(D27,G27,J27)) | N27: =IF(D27="","",_xlfn.STDEV.S(D27,G27,J27)) | O27: =IF(D27="","",N27/M27) | Q27: =+VLOOKUP(A27,'PRECIOS 2025 VS 2026'!$B$7:$G$1477,5,FALSE) -> #N/A | R27: =+(L27-Q27)/Q27 -> #VALUE! | U27: =+VLOOKUP(A27,'GRUPO 1'!$A$3:$F$440,5,FALSE) -> #N/A | V27: =+VLOOKUP(A27,'GRUPO 3'!$B$3:$F$1178,5,FALSE) -> OFERTA ECONOMICA PROPONENTE | W27: =+ROUND((B27*1.19)-D27,0) -> 0 | X27: =ROUND((E27*1.19)-G27,0) -> 0 | Y27: =ROUND((H27*1.19)-J27,0) -> 0
A28: MANTENIMIENTO PREVENTIVO Y CORRECTIVO BOMBA CONTRA INCENDIO DE 2 ETAPAS MARCA HALE - MODELO QTW0125-21X | B28: 9040336 | C28: =+D28-B28 -> 1717664 | D28: 10758000 | E28: 8411765 | F28: 1598235 | G28: 10010000 | H28: 9242857 | I28: 1756143 | J28: 10999000 | L28: =IF(D28="","",MEDIAN(D28,G28,J28)) -> 10758000 | M28: =IF(D28="","",AVERAGE(D28,G28,J28)) -> 10589000 | N28: =IF(D28="","",_xlfn.STDEV.S(D28,G28,J28)) -> 515704.37 | O28: =IF(D28="","",N28/M28) -> 0.048701896 | Q28: =+VLOOKUP(A28,'PRECIOS 2025 VS 2026'!$B$7:$G$1477,5,FALSE) -> 0 | R28: =+(L28-Q28)/Q28 -> #DIV/0! | U28: =+VLOOKUP(A28,'GRUPO 1'!$A$3:$F$440,5,FALSE) -> #N/A | V28: =+VLOOKUP(A28,'GRUPO 3'!$B$3:$F$1178,5,FALSE) -> #N/A | W28: =+ROUND((B28*1.19)-D28,0) -> 0 | X28: =ROUND((E28*1.19)-G28,0) -> 0 | Y28: =ROUND((H28*1.19)-J28,0) -> 0
A29: MANTENIMIENTO PREVENTIVO Y CORRECTIVO BOMBA CONTRA INCENDIO DE 2 ETAPAS MARCA WATEROUS - REFERENCIA CMC20C 1000 GPM | B29: 8678992 | C29: =+D29-B29 -> 1649008 | D29: 10328000 | E29: 8621849 | F29: 1638151 | G29: 10260000 | H29: 8320168 | I29: 1580832 | J29: 9901000 | L29: =IF(D29="","",MEDIAN(D29,G29,J29)) -> 10260000 | M29: =IF(D29="","",AVERAGE(D29,G29,J29)) -> 10163000 | N29: =IF(D29="","",_xlfn.STDEV.S(D29,G29,J29)) -> 229431.91 | O29: =IF(D29="","",N29/M29) -> 0.022575215 | Q29: =+VLOOKUP(A29,'PRECIOS 2025 VS 2026'!$B$7:$G$1477,5,FALSE) -> 0 | R29: =+(L29-Q29)/Q29 -> #DIV/0! | U29: =+VLOOKUP(A29,'GRUPO 1'!$A$3:$F$440,5,FALSE) -> #N/A | V29: =+VLOOKUP(A29,'GRUPO 3'!$B$3:$F$1178,5,FALSE) -> #N/A | W29: =+ROUND((B29*1.19)-D29,0) -> 0 | X29: =ROUND((E29*1.19)-G29,0) -> 0 | Y29: =ROUND((H29*1.19)-J29,0) -> 0
A30: MANTENIMIENTO PREVENTIVO Y CORRECTIVO BOMBA CONTRA INCENDIO DE 2 ETAPAS MARCA HALE - MODELO QTW0100-25X | B30: 9814706 | C30: =+D30-B30 -> 1864794 | D30: 11679500 | E30: 9512605 | F30: 1807395 | G30: 11320000 | H30: 10342437 | I30: 1965063 | J30: 12307500 | L30: =IF(D30="","",MEDIAN(D30,G30,J30)) -> 11679500 | M30: =IF(D30="","",AVERAGE(D30,G30,J30)) -> 11769000 | N30: =IF(D30="","",_xlfn.STDEV.S(D30,G30,J30)) -> 499796.71 | O30: =IF(D30="","",N30/M30) -> 0.04246722 | Q30: =+VLOOKUP(A30,'PRECIOS 2025 VS 2026'!$B$7:$G$1477,5,FALSE) -> 0 | R30: =+(L30-Q30)/Q30 -> #DIV/0! | U30: =+VLOOKUP(A30,'GRUPO 1'!$A$3:$F$440,5,FALSE) -> #N/A | V30: =+VLOOKUP(A30,'GRUPO 3'!$B$3:$F$1178,5,FALSE) -> #N/A | W30: =+ROUND((B30*1.19)-D30,0) -> 0 | X30: =ROUND((E30*1.19)-G30,0) -> 0 | Y30: =ROUND((H30*1.19)-J30,0) -> 0
A31: MANTENIMIENTO PREVENTIVO Y CORRECTIVO BOMBA CONTRA INCENDIO WATEROUS - REFERENCIA CGVC20C 500 GPM | B31: 7874790 | C31: =+D31-B31 -> 1496210 | D31: 9371000 | E31: 8621849 | F31: 1638151 | G31: 10260000 | H31: 8481933 | I31: 1611567 | J31: 10093500 | L31: =IF(D31="","",MEDIAN(D31,G31,J31)) -> 10093500 | M31: =IF(D31="","",AVERAGE(D31,G31,J31)) -> 9908166.7 | N31: =IF(D31="","",_xlfn.STDEV.S(D31,G31,J31)) -> 472590.29 | O31: =IF(D31="","",N31/M31) -> 0.047697047 | Q31: =+VLOOKUP(A31,'PRECIOS 2025 VS 2026'!$B$7:$G$1477,5,FALSE) -> #N/A | R31: =+(L31-Q31)/Q31 -> #N/A | S31: =IF(ISNA(R31),MIN(D31,G31,J31),IF(R31<=5.1%,L31,Q31*1.051)) -> 9371000 | U31: =+VLOOKUP(A31,'GRUPO 1'!$A$3:$F$440,5,FALSE) -> #N/A | V31: =+VLOOKUP(A31,'GRUPO 3'!$B$3:$F$1178,5,FALSE) -> #N/A | W31: =+ROUND((B31*1.19)-D31,0) -> 0 | X31: =ROUND((E31*1.19)-G31,0) -> 0 | Y31: =ROUND((H31*1.19)-J31,0) -> 0
A32: PRUEBA TECNICA DE DESPEÑO DE LAS BOMBAS | B32: 7665126 | C32: =+D32-B32 -> 1456374 | D32: 9121500 | E32: 7382353 | F32: 1402647 | G32: 8785000 | H32: 7194118 | I32: 1366882 | J32: 8561000 | L32: =IF(D32="","",MEDIAN(D32,G32,J32)) -> 8785000 | M32: =IF(D32="","",AVERAGE(D32,G32,J32)) -> 8822500 | N32: =IF(D32="","",_xlfn.STDEV.S(D32,G32,J32)) -> 282125.42 | O32: =IF(D32="","",N32/M32) -> 0.031977945 | Q32: =+VLOOKUP(A32,'PRECIOS 2025 VS 2026'!$B$7:$G$1477,5,FALSE) -> #N/A | R32: =+(L32-Q32)/Q32 -> #N/A | S32: =IF(ISNA(R32),MIN(D32,G32,J32),IF(R32<=5.1%,L32,Q32*1.051)) -> 8561000 | U32: =+VLOOKUP(A32,'GRUPO 1'!$A$3:$F$440,5,FALSE) -> #N/A | V32: =+VLOOKUP(A32,'GRUPO 3'!$B$3:$F$1178,5,FALSE) -> #N/A | W32: =+ROUND((B32*1.19)-D32,0) -> 0 | X32: =ROUND((E32*1.19)-G32,0) -> 0 | Y32: =ROUND((H32*1.19)-J32,0) -> 0
A33: MANTENIMIENTO DE PANEL DE CONTROL DEL SISTEMA CONTRAINCENDIO | B33: 7480252 | C33: =+D33-B33 -> 1421248 | D33: 8901500 | E33: 7021008 | F33: 1333992 | G33: 8355000 | H33: 7346639 | I33: 1395861 | J33: 8742500 | L33: =IF(D33="","",MEDIAN(D33,G33,J33)) -> 8742500 | M33: =IF(D33="","",AVERAGE(D33,G33,J33)) -> 8666333.3 | N33: =IF(D33="","",_xlfn.STDEV.S(D33,G33,J33)) -> 281098.89 | O33: =IF(D33="","",N33/M33) -> 0.032435734 | Q33: =+VLOOKUP(A33,'PRECIOS 2025 VS 2026'!$B$7:$G$1477,5,FALSE) -> 6883828.4 | R33: =+(L33-Q33)/Q33 -> 0.27000551 | S33: =IF(ISNA(R33),MIN(D33,G33,J33),IF(R33<=5.1%,L33,Q33*1.051)) -> 7234903.6 | U33: =+VLOOKUP(A33,'GRUPO 1'!$A$3:$F$440,5,FALSE) -> #N/A | V33: =+VLOOKUP(A33,'GRUPO 3'!$B$3:$F$1178,5,FALSE) -> #N/A | W33: =+ROUND((B33*1.19)-D33,0) -> 0 | X33: =ROUND((E33*1.19)-G33,0) -> 0 | Y33: =ROUND((H33*1.19)-J33,0) -> 0
A34: MANTENIMIENTO CORRECTIVO Y/O IMPREVISTOS | B34: 4887815 | C34: =+D34-B34 -> 928685 | D34: 5816500 | E34: 4697479 | F34: 892521 | G34: 5590000 | H34: 4689076 | I34: 890924 | J34: 5580000 | L34: =IF(D34="","",MEDIAN(D34,G34,J34)) -> 5590000 | M34: =IF(D34="","",AVERAGE(D34,G34,J34)) -> 5662166.7 | N34: =IF(D34="","",_xlfn.STDEV.S(D34,G34,J34)) -> 133750.08 | O34: =IF(D34="","",N34/M34) -> 0.023621713 | Q34: =+VLOOKUP(A34,'PRECIOS 2025 VS 2026'!$B$7:$G$1477,5,FALSE) -> 2538585.7 | R34: =+(L34-Q34)/Q34 -> 1.2020135 | S34: =IF(ISNA(R34),MIN(D34,G34,J34),IF(R34<=5.1%,L34,Q34*1.051)) -> 2668053.6 | U34: =+VLOOKUP(A34,'GRUPO 1'!$A$3:$F$440,5,FALSE) -> #N/A | V34: =+VLOOKUP(A34,'GRUPO 3'!$B$3:$F$1178,5,FALSE) -> #N/A | W34: =+ROUND((B34*1.19)-D34,0) -> 0 | X34: =ROUND((E34*1.19)-G34,0) -> 0 | Y34: =ROUND((H34*1.19)-J34,0) -> 0
A35: MANOMETROS DE PRESION DE LA BOMBA | B35: 2861765 | C35: =+D35-B35 -> 543735 | D35: 3405500 | E35: 2529412 | F35: 480588 | G35: 3010000 | H35: 2725630 | I35: 517870 | J35: 3243500 | L35: =IF(D35="","",MEDIAN(D35,G35,J35)) -> 3243500 | M35: =IF(D35="","",AVERAGE(D35,G35,J35)) -> 3219666.7 | N35: =IF(D35="","",_xlfn.STDEV.S(D35,G35,J35)) -> 198824.25 | O35: =IF(D35="","",N35/M35) -> 0.061753055 | Q35: =+VLOOKUP(A35,'PRECIOS 2025 VS 2026'!$B$7:$G$1477,5,FALSE) -> #N/A | R35: =+(L35-Q35)/Q35 -> #N/A | S35: =IF(ISNA(R35),MIN(D35,G35,J35),IF(R35<=5.1%,L35,Q35*1.051)) -> 3010000 | U35: =+VLOOKUP(A35,'GRUPO 1'!$A$3:$F$440,5,FALSE) -> #N/A | V35: =+VLOOKUP(A35,'GRUPO 3'!$B$3:$F$1178,5,FALSE) -> #N/A | W35: =+ROUND((B35*1.19)-D35,0) -> 0 | X35: =ROUND((E35*1.19)-G35,0) -> 0 | Y35: =ROUND((H35*1.19)-J35,0) -> 0
A36: VALVULAS DE SUCCION Y DESCARGA SISTEMA CONTRAINCENCIO | B36: 3614286 | C36: =+D36-B36 -> 686714 | D36: 4301000 | E36: 4126050 | F36: 783950 | G36: 4910000 | H36: 4013445 | I36: 762555 | J36: 4776000 | L36: =IF(D36="","",MEDIAN(D36,G36,J36)) -> 4776000 | M36: =IF(D36="","",AVERAGE(D36,G36,J36)) -> 4662333.3 | N36: =IF(D36="","",_xlfn.STDEV.S(D36,G36,J36)) -> 320016.15 | O36: =IF(D36="","",N36/M36) -> 0.068638624 | Q36: =+VLOOKUP(A36,'PRECIOS 2025 VS 2026'!$B$7:$G$1477,5,FALSE) -> #N/A | R36: =+(L36-Q36)/Q36 -> #N/A | S36: =IF(ISNA(R36),MIN(D36,G36,J36),IF(R36<=5.1%,L36,Q36*1.051)) -> 4301000 | U36: =+VLOOKUP(A36,'GRUPO 1'!$A$3:$F$440,5,FALSE) -> #N/A | V36: =+VLOOKUP(A36,'GRUPO 3'!$B$3:$F$1178,5,FALSE) -> #N/A | W36: =+ROUND((B36*1.19)-D36,0) -> 0 | X36: =ROUND((E36*1.19)-G36,0) -> -1 | Y36: =ROUND((H36*1.19)-J36,0) -> 0
A37: TPG CLASS1 | B37: 5488655 | C37: =+D37-B37 -> 1042845 | D37: 6531500 | E37: 6084034 | F37: 1155966 | G37: 7240000 | H37: 5972689 | I37: 1134811 | J37: 7107500 | L37: =IF(D37="","",MEDIAN(D37,G37,J37)) -> 7107500 | M37: =IF(D37="","",AVERAGE(D37,G37,J37)) -> 6959666.7 | N37: =IF(D37="","",_xlfn.STDEV.S(D37,G37,J37)) -> 376675.04 | O37: =IF(D37="","",N37/M37) -> 0.054122569 | Q37: =+VLOOKUP(A37,'PRECIOS 2025 VS 2026'!$B$7:$G$1477,5,FALSE) -> #N/A | R37: =+(L37-Q37)/Q37 -> #N/A | S37: =IF(ISNA(R37),MIN(D37,G37,J37),IF(R37<=5.1%,L37,Q37*1.051)) -> 6531500 | U37: =+VLOOKUP(A37,'GRUPO 1'!$A$3:$F$440,5,FALSE) -> #N/A | V37: =+VLOOKUP(A37,'GRUPO 3'!$B$3:$F$1178,5,FALSE) -> #N/A | W37: =+ROUND((B37*1.19)-D37,0) -> -1 | X37: =ROUND((E37*1.19)-G37,0) -> 0 | Y37: =ROUND((H37*1.19)-J37,0) -> 0
A38: MANTENIMIENTO Y REPARACION DE TPG CLASS1 | B38: 1963025 | C38: =+D38-B38 -> 372975 | D38: 2336000 | E38: 2037815 | F38: 387185 | G38: 2425000 | H38: 2053782 | I38: 390218 | J38: 2444000 | L38: =IF(D38="","",MEDIAN(D38,G38,J38)) -> 2425000 | M38: =IF(D38="","",AVERAGE(D38,G38,J38)) -> 2401666.7 | N38: =IF(D38="","",_xlfn.STDEV.S(D38,G38,J38)) -> 57657.032 | O38: =IF(D38="","",N38/M38) -> 0.024007092 | Q38: =+VLOOKUP(A38,'PRECIOS 2025 VS 2026'!$B$7:$G$1477,5,FALSE) -> #N/A | R38: =+(L38-Q38)/Q38 -> #N/A | S38: =IF(ISNA(R38),MIN(D38,G38,J38),IF(R38<=5.1%,L38,Q38*1.051)) -> 2336000 | U38: =+VLOOKUP(A38,'GRUPO 1'!$A$3:$F$440,5,FALSE) -> #N/A | V38: =+VLOOKUP(A38,'GRUPO 3'!$B$3:$F$1178,5,FALSE) -> #N/A | W38: =+ROUND((B38*1.19)-D38,0) -> 0 | X38: =ROUND((E38*1.19)-G38,0) -> 0 | Y38: =ROUND((H38*1.19)-J38,0) -> 1
A39: MANTENIMIENTO Y REPARACION DE SISTEMA DE ESPUMA | B39: 2975210 | C39: =+D39-B39 -> 565290 | D39: 3540500 | E39: 2336134 | F39: 443866 | G39: 2780000 | H39: 2914706 | I39: 553794 | J39: 3468500 | L39: =IF(D39="","",MEDIAN(D39,G39,J39)) -> 3468500 | M39: =IF(D39="","",AVERAGE(D39,G39,J39)) -> 3263000 | N39: =IF(D39="","",_xlfn.STDEV.S(D39,G39,J39)) -> 419836.58 | O39: =IF(D39="","",N39/M39) -> 0.12866582 | Q39: =+VLOOKUP(A39,'PRECIOS 2025 VS 2026'!$B$7:$G$1477,5,FALSE) -> #N/A | R39: =+(L39-Q39)/Q39 -> #N/A | S39: =IF(ISNA(R39),MIN(D39,G39,J39),IF(R39<=5.1%,L39,Q39*1.051)) -> 2780000 | U39: =+VLOOKUP(A39,'GRUPO 1'!$A$3:$F$440,5,FALSE) -> #N/A | V39: =+VLOOKUP(A39,'GRUPO 3'!$B$3:$F$1178,5,FALSE) -> #N/A | W39: =+ROUND((B39*1.19)-D39,0) -> 0 | X39: =ROUND((E39*1.19)-G39,0) -> -1 | Y39: =ROUND((H39*1.19)-J39,0) -> 0
A40: MANTENIMIENTO Y REPARACION DE SISTEMA NEUMATICO DE LA BOMBA | B40: 1957563 | C40: =+D40-B40 -> 371937 | D40: 2329500 | E40: 2197479 | F40: 417521 | G40: 2615000 | H40: 2119328 | I40: 402672 | J40: 2522000 | L40: =IF(D40="","",MEDIAN(D40,G40,J40)) -> 2522000 | M40: =IF(D40="","",AVERAGE(D40,G40,J40)) -> 2488833.3 | N40: =IF(D40="","",_xlfn.STDEV.S(D40,G40,J40)) -> 145611.07 | O40: =IF(D40="","",N40/M40) -> 0.058505753 | Q40: =+VLOOKUP(A40,'PRECIOS 2025 VS 2026'!$B$7:$G$1477,5,FALSE) -> #N/A | R40: =+(L40-Q40)/Q40 -> #N/A | S40: =IF(ISNA(R40),MIN(D40,G40,J40),IF(R40<=5.1%,L40,Q40*1.051)) -> 2329500 | U40: =+VLOOKUP(A40,'GRUPO 1'!$A$3:$F$440,5,FALSE) -> #N/A | V40: =+VLOOKUP(A40,'GRUPO 3'!$B$3:$F$1178,5,FALSE) -> #N/A | W40: =+ROUND((B40*1.19)-D40,0) -> 0 | X40: =ROUND((E40*1.19)-G40,0) -> 0 | Y40: =ROUND((H40*1.19)-J40,0) -> 0
A41: REEMPLAZO DE PACKING | B41: 677311 | C41: =+D41-B41 -> 128689 | D41: 806000 | E41: 714286 | F41: 135714 | G41: 850000 | H41: 749160 | I41: 142340 | J41: 891500 | L41: =IF(D41="","",MEDIAN(D41,G41,J41)) -> 850000 | M41: =IF(D41="","",AVERAGE(D41,G41,J41)) -> 849166.67 | N41: =IF(D41="","",_xlfn.STDEV.S(D41,G41,J41)) -> 42756.091 | O41: =IF(D41="","",N41/M41) -> 0.050350647 | Q41: =+VLOOKUP(A41,'PRECIOS 2025 VS 2026'!$B$7:$G$1477,5,FALSE) -> #N/A | R41: =+(L41-Q41)/Q41 -> #N/A | S41: =IF(ISNA(R41),MIN(D41,G41,J41),IF(R41<=5.1%,L41,Q41*1.051)) -> 806000 | U41: =+VLOOKUP(A41,'GRUPO 1'!$A$3:$F$440,5,FALSE) -> #N/A | V41: =+VLOOKUP(A41,'GRUPO 3'!$B$3:$F$1178,5,FALSE) -> #N/A | W41: =+ROUND((B41*1.19)-D41,0) -> 0 | X41: =ROUND((E41*1.19)-G41,0) -> 0 | Y41: =ROUND((H41*1.19)-J41,0) -> 0
A42: CORRECION DE FUGAS DE AGUA DE LA BOMBA | B42: 792437 | C42: =+D42-B42 -> 150563 | D42: 943000 | E42: 773109 | F42: 146891 | G42: 920000 | H42: 786975 | I42: 149525 | J42: 936500 | L42: =IF(D42="","",MEDIAN(D42,G42,J42)) -> 936500 | M42: =IF(D42="","",AVERAGE(D42,G42,J42)) -> 933166.67 | N42: =IF(D42="","",_xlfn.STDEV.S(D42,G42,J42)) -> 11856.784 | O42: =IF(D42="","",N42/M42) -> 0.012705966 | Q42: =+VLOOKUP(A42,'PRECIOS 2025 VS 2026'!$B$7:$G$1477,5,FALSE) -> #N/A | R42: =+(L42-Q42)/Q42 -> #N/A | S42: =IF(ISNA(R42),MIN(D42,G42,J42),IF(R42<=5.1%,L42,Q42*1.051)) -> 920000 | U42: =+VLOOKUP(A42,'GRUPO 1'!$A$3:$F$440,5,FALSE) -> #N/A | V42: =+VLOOKUP(A42,'GRUPO 3'!$B$3:$F$1178,5,FALSE) -> #N/A | W42: =+ROUND((B42*1.19)-D42,0) -> 0 | X42: =ROUND((E42*1.19)-G42,0) -> 0 | Y42: =ROUND((H42*1.19)-J42,0) -> 0
...

Sheet OFERTA ECONOMICA
A1: SERVICIOS | B1: PRECIO TOTAL INCLUIDO IVA
A2: ESCANEO ELECTRONICO
A3: CAMBIO DE ACEITE MOTOR
A4: ALINEACION Y BALANCEO
A5: MANO DE OBRA MECANICO DIESEL
A6: MANO DE OBRA MECANICO GASOLINA
A7: MANO DE OBRA MECANICO ELECTRICISTA
A8: MANO DE OBRA MECATRONICO
A9: MANO DE OBRA SISTEMA CONTRAINCENDIO
A10: CAMBIO DE ACEITE TRASMISION MECANICA O AUTOMATICA
A11: CAMBIO DE ACEITE MOTOR
A12: CAMBIO DE ACEITA CAJA TRASFERENCIA DE BOMBA
A13: CAMBIO DE ACEITE DE DIFERENCIAL
... A626: LIQUIDO PARA FRENOS

Sheet SERVICIOS
A1: SERVICIOS
A2: ESCANEO ELECTRONICO
A3: CAMBIO DE ACEITE MOTOR
A4: ALINEACION Y BALANCEO
A5: MANO DE OBRA MECANICO DIESEL
A6: MANO DE OBRA MECANICO GASOLINA
A7: MANO DE OBRA MECANICO ELECTRICISTA
A8: MANO DE OBRA MECATRONICO
A9: MANO DE OBRA SISTEMA CONTRAINCENDIO
A10: CAMBIO DE ACEITE TRASMISION MECANICA O AUTOMATICA
A11: CAMBIO DE ACEITE MOTOR
A12: CAMBIO DE ACEITA CAJA TRASFERENCIA DE BOMBA
... A26: ATENCION DE EMERGENCIAS MECANICAS 24/7

Sheet BOMBAS 
A1: DESCRIPCION | B1: Columna1
A2: MANTENIMIENTO PREVENTIVO Y CORRECTIVO BOMBA CONTRA INCENDIO DE 2 ETAPAS MARCA HALE - MODELO QTW0125-21X
A3: MANTENIMIENTO PREVENTIVO Y CORRECTIVO BOMBA CONTRA INCENDIO DE 2 ETAPAS MARCA WATEROUS - REFERENCIA CMC20C 1000 GPM
A4: MANTENIMIENTO PREVENTIVO Y CORRECTIVO BOMBA CONTRA INCENDIO DE 2 ETAPAS MARCA HALE - MODELO QTW0100-25X
A5: MANTENIMIENTO PREVENTIVO Y CORRECTIVO BOMBA CONTRA INCENDIO WATEROUS - REFERENCIA CGVC20C 500 GPM
A6: PRUEBA TECNICA DE DESPEÑO DE LAS BOMBAS
A7: MANTENIMIENTO DE PANEL DE CONTROL DEL SISTEMA CONTRAINCENDIO
A8: MANTENIMIENTO CORRECTIVO Y/O IMPREVISTOS
A9: MANOMETROS DE PRESION DE LA BOMBA
A10: VALVULAS DE SUCCION Y DESCARGA SISTEMA CONTRAINCENCIO
A11: TPG CLASS1
A12: MANTENIMIENTO Y REPARACION DE TPG CLASS1
A13: MANTENIMIENTO Y REPARACION DE SISTEMA DE ESPUMA
... A20: REPARACION SISTEMA DE ENGANCHE PPS

Sheet M8-M9
A1: DESCRIPCION
A2: TRES (3) CAMIONES : HINO-XZU710l- QKFMP3 HINO-FC9JJ7A PLACAS: OVE272- OVE516- OVE492
A3: MECANICOS DEL MOTOR
A4: SOPORTE DE MOTOR
A5: KIT EMPAQUETADURA DEL MOTOR
A6: BLOQUE DE MOTOR
A7: BIELAS DEL MOTOR
A8: CIEGUEÑAL DEL MOTOR
A9: SENSORES DEL MOTOR
A10: ARBOL DE LEVAS MOTOR
A11: VALVULAS DEL MOTOR COMPLETLAS
A12: CAQUETES DEL MOTOR
... A188: CORNETA DE AIRE PARA BOMBEROS

Sheet M2
A1: UN (1) CAMION INTERNATIONAL 7400-SBA PLACA OVE-403
A2: MECANICOS DEL MOTOR
A3: SOPORTE DE MOTOR
A4: KIT EMPAQUETADURA DEL MOTOR
A5: BLOQUE DE MOTOR
A6: BIELAS DEL MOTOR
A7: CIEGUEÑAL DEL MOTOR
A8: BOMBA DE ACEITE
A9: SENSORES DEL MOTOR
A10: ARBOL DE LEVAS MOTOR
A11: VALVULAS DEL MOTOR COMPLETAS
A12: CAQUETES DEL MOTOR
... A185: CARDAN COMPLETO

Sheet M4-M5-M6
A1: DESCRIPCION
A2: TRES (3) CAMIONES : INTERNATIONAL HV-607 SBA 4x2 M4-M5-M6 PLACAS :OVE495 -OVE496 - OVE497
A3: MECANICOS DEL MOTOR
A4: SOPORTE DE MOTOR
A5: KIT EMPAQUETADURA DEL MOTOR
A6: BLOQUE DE MOTOR
A7: BIELAS DEL MOTOR
A8: CIEGUEÑAL DEL MOTOR
A9: SENSORES DEL MOTOR
A10: ARBOL DE LEVAS MOTOR
A11: VALVULAS DEL MOTOR COMPLETLAS
A12: CAQUETES DEL MOTOR
... A190: CORNETA DE AIRE PARA BOMBEROS

Sheet INSUMOS TALLER
A1: DESCRIPCION
A2: DESENGRASANTE INDUSTRIAL
A3: DESENGRASANTE DIESEL
A4: DESENGRASANTE PARA MOTORES
A5: LIMPIADOR MULTIUSOS INDUSTRIAL
A6: LIMPIADOR DE FRENOS
A7: LIMPIADOR DE CARBURADOR / INYECTORES
A8: LIMPIADOR DE CONTACTOS ELÉCTRICOS
A9: LIMPIADOR DE RADIADOR
A10: LIMPIADOR DE PARTES METÁLICAS
A11: CERA PROTECTORA PARA CARROCERÍA
A12: SILICONA EN SPRAY
... A17: LIQUIDO PARA FRENOS
