Workbook
Name \0: #REF!
Name \c: #REF!
Name \p: #REF!
Name \PX: [1]!ERR
Name \PX: [1]!ERR
Name \PX: [1]!ERR
Name \PX: [1]!ERR
Name \PX: [1]!ERR
Name \PX: [1]!ERR
Name \PX: [1]!ERR
Name \PX: [1]!ERR
Name \PX: [1]!ERR
Name \PX: [1]!ERR
Name \PX: [1]!ERR
Name \PX: [1]!ERR
Name \PX: [1]!ERR
Name \PX: [1]!ERR
Name \X: [0]!ERR
Name \y: [0]!ERR
Name \Z: [0]!ERR
Name _: #REF!
Name __________________________________________________________FS01: [2]!ERR
Name __________________________________________________________FS01: [2]!ERR
Name __________________________________________________________FS01: [2]!ERR
Name __________________________________________________________FS01: [2]!ERR
Name __________________________________________________________FS01: [2]!ERR
Name __________________________________________________________FS01: [2]!ERR
Name __________________________________________________________FS01: [2]!ERR
Name __________________________________________________________FS01: [2]!ERR
Name __________________________________________________________FS01: [2]!ERR
Name __________________________________________________________FS01: [2]!ERR
Name __________________________________________________________FS01: [2]!ERR
Name __________________________________________________________FS01: [2]!ERR
Name __________________________________________________________FS01: [2]!ERR
Name __________________________________________________________FS01: [2]!ERR
Name ________________________________________________________FS01: [2]!ERR
Name ________________________________________________________FS01: [2]!ERR
Name ________________________________________________________FS01: [2]!ERR
Name ________________________________________________________FS01: [2]!ERR
Name ________________________________________________________FS01: [2]!ERR
Name ________________________________________________________FS01: [2]!ERR
Name ________________________________________________________FS01: [2]!ERR
Name ________________________________________________________FS01: [2]!ERR
Name ________________________________________________________FS01: [2]!ERR
Name ________________________________________________________FS01: [2]!ERR
Name ________________________________________________________FS01: [2]!ERR
Name ________________________________________________________FS01: [2]!ERR
Name ________________________________________________________FS01: [2]!ERR
Name ________________________________________________________FS01: [2]!ERR
Name _______________________________________________________FS01: [2]!ERR
Name _______________________________________________________FS01: [2]!ERR
Name _______________________________________________________FS01: [2]!ERR
Name _______________________________________________________FS01: [2]!ERR
Name _______________________________________________________FS01: [2]!ERR
Name _______________________________________________________FS01: [2]!ERR
Name _______________________________________________________FS01: [2]!ERR
Name _______________________________________________________FS01: [2]!ERR
Name _______________________________________________________FS01: [2]!ERR
Name _______________________________________________________FS01: [2]!ERR
Name _______________________________________________________FS01: [2]!ERR

Sheet PRESUPUESTO OFICIAL 
A1: MANTENIMIENTO CORRECTIVO DEL TRANSFORMADOR DE MEDIA TENSION DE LA CENTRAL DE ABASTOS DE YOPAL CASANARE
A2: PRESUPUESTO OFICIAL DE OBRA
A5: ÍTEM | B5: ESPECIFICACIÓN | D5: ACTIVIDADES | H5: UND | I5: CANT | J5: Valor Unitario | K5: Sub-Total
B6: GR. | C6: PART.
A7: 1 | D7: ARBOLIZACION Y ORNAMENTALES
A8: 1.1 | B8: 7795 | C8: 1.1 | D8: Poda de arbol 0.10 m > Ø < 0.25 m; incluye apeo, desramado, apilado y disposición final 2 km | H8: UND | I8: 2 | J8: 79838 | K8: =ROUND(I8*J8,2) -> 159676
A9: 2 | D9: INSTALACIONES ELECTRICAS
A10: 2.1 | C10: 2.1 | D10: Maniobra desconexión y conexión red de MT. con grua línea viva, trámites y permisos ante el OR, personal y herra. especiales, e ingeniería de detalle al nodo conexión existente y proyectado | H10: HR | I10: 2 | J10: 2808602 | K10: =ROUND(I10*J10,2) -> 5617204
A11: 2.2 | C11: 2.2 | D11: Suminis. e insta. De estructura bandera completa de afloramiento, subterráneo de 3 cortacircuitos más 3 pararrayos para red de 13,2kV, con puentes semiaislados, grapas, desmonte de la estructura | H11: UND | I11: 1 | J11: 5224123 | K11: =ROUND(I11*J11,2) -> 5224123
A12: 2.3 | C12: 2.3 | D12: Alquiler de un transformador de potencia de media tensión incluye (alquiler, grúa hidráulica, transportes, conexiones con maniobras). -g | H12: DIA | I12: 15 | J12: 523224 | K12: =ROUND(I12*J12,2) -> 7848360
A13: 2.4 | C13: 2.4 | D13: Suminis. e insta. de aceite dielectrico, sellos y válvulas para transformador de 300 KVA de MT. -g | H13: UND | I13: 1 | J13: 10942850 | K13: =ROUND(I13*J13,2) -> 10942850
A14: 2.5 | C14: 2.5 | D14: Mantenimiento correctivo del transformador de 300 KVA de MT. Incluye:( grua hidráulica, reparación base metálica, pintura general, barnisado secado en horno, servicio de taller especializado, pruebas con corte de media tensión en un tiempo record). -g | H14: UND | I14: 1 | J14: 6754612 | K14: =ROUND(I14*J14,2) -> 6754612
A15: COSTO DIRECTO | K15: =K8+K10+K11+K12+K13+K14 -> 36546825
A16: ADMINISTRACIÓN | J16: 0.27 | K16: =ROUND($K$15*J16,0) -> 9867643
A17: IMPREVISTOS | J17: 0.02 | K17: =ROUND($K$15*J17,0) -> 730937
A18: UTILIDAD | J18: 0.05 | K18: =ROUND($K$15*J18,0) -> 1827341
A19: COSTO TOTAL OBRA CIVIL | K19: =SUM(K15:K18) -> 48972746 | N19: 48972745
B23: EDGAR PEREZ CAMARGO | G23: ROCIO QUINTANILLA GALVIS
B24: PROFESIONAL DE APOYO CPSP 036 DE 2026 | G24: SUBGERENTE ADMINISTRATIVA Y FINANCIERA
G25: INDEV
B26: Vo.Bo

Sheet analisis 
A5: ITEM | B5: ACTIVIDADES | C5: Requerimientos Tecnicos | D5: Transporte de materiales | E5: Equipo/ Herramientas | F5: Materiales | G5: Mano de obra
A8: 1 | B8: ARBOLIZACION Y ORNAMENTALES
A9: 1.1 | B9: Poda de arbol 0.10 m > Ø < 0.25 m | C9: Apeo, desramado, apilado y disposicion final a 2 KM | D9: N/A | E9: Volqueta 6 m3, herramienta menor 10% M.0 AA | F9: Residuos vegetales | G9: Cuadrilla AA-3: Cuadrilla de albañilería conformada por un oficial y un ayudante quienes ejecutan actividades de excavación, rellenos, demoliciones, cimentación, formaletería, estructuras en concreto, mampostería, enchapes, fachadas y pisos entre otros.
A10: 2 | B10: INSTALACIONES ELECTRICAS
A11: 2.1 | B11: Esmalte sobre lamina llena (incluye anticorrosivo) GABINETES | C11: suministro y aplicación de pintura anticorrosiva y acabado en esmalte sobre superficies metálicas en lamina llena, incluyendo la preparación previa de la superficie mediante la limpieza, lijado y retiro de oxido, pintura deteriorada, grasas o cualquier material que afecte la adherencia y calidad del acabado final. | D11: N/A | E11: herramienta menor 10% M.0 AA | F11: Anticorrosivo gris/blanco/rojo, Esmalte brillante tipo pintulux de o pintuco o similar, lija pliego No 120 de 9" x 11" (230 x 280 mm) , Thinner | G11: Cuadrilla CC-1 (Pintura) Conformada por un oficial, un estucador y un ayudante, esta cuadrilla ejecuta las actividades de pintura interior y exterior, en las que se incluye la preparación de las superficies, resanes, filos, remates y acabado final.
A12: 2.2 | B12: Pintura en esmalte para estructura metalica existente tipo: correas, cerchas, laminas y angulos, alto 100 - 250 mm y ancho 50 - 200 mm, 2 manos | C12: este ítem consiste en la aplicación de dos manos de esmalte sobre elementos metálicos (correas, cerchas, laminas y ángulos) incluye limpieza mecánica y anticorrosivo. | D12: N/A | E12: herramienta menor 10% M.0 AA, Andamio tubular estándar , Equipo de pintura con compresor | F12: Esmalte brillante tipo pintulux de o pintuco o similar Thinner | G12: Cuadrilla CC-1 (Pintura) Conformada por un oficial, un estucador y un ayudante, esta cuadrilla ejecuta las actividades de pintura interior y exterior, en las que se incluye la preparación de las superficies, resanes, filos, remates y acabado final.
A13: 3 | B13: PAÑETES
A14: 3.1 | B14: Pañete liso (allanado) muros 1:4, incluye filos y dilataciones | C14: : Se trabajará los filos, dilataciones y mortero de 1:3 con desperdició del 5%, se tendrá en cuenta el agua y la arena lavada que no esté contaminada. Antes de iniciar la actividad se verificará los planos y las especificaciones según A.P.U, la Interventoría verificará la calidad del pañete que los materiales no presente contaminación, el nivel y la plomada de la actividad, tendrá en cuenta las muestras de laboratorio, los remates, los desplomes, pruebas de una buena adherencia del mortero; mediante golpe, verificación de escuadra en uniones verticales y plomo en las aristas de unión. Trascurrido tres (3) días de instalación del pañete no debe presentar grietas ni fisuras, si se presenta se debe retirarse y ejecutarlas nuevamente por parte del ejecutor, entregar limpio | D14: N/A | E14: herramienta menor 10% M.0 AA, Andamio tubular estándar | F14: Tabla de madera de 3 x 0.25 x 0.05 (alquilar), mortero 1:4 , Filos y dilataciones 1:4 | G14: Cuadrilla AA-1 (Albañileria ) Conformada por un oficial y un ayudante, equipo que ejecuta las tareas más comunes en obra entre las que incluyen excavación, rellenos, demoliciones, cimentación, formaletería, estructuras en concreto, mampostería, enchapes, cubiertas, fachadas y pisos.
A15: 4 | B15: ENCHAPES
A16: 4.1 | B16: Enchape de piso en cerámica antideslizante 45 X 45 | C16: Las zonas de baños y cocina demarcadas en planos con altura de piso y lo indique el presupuesto, serán enchapadas en baldosa de porcelana de primera calidad, según detalle en especificaciones, incluye muros y pisos. Todos los pisos en cerámica serán de primera calidad y previamente aprobados por el supervisor de obra, los cuales deben estar de acuerdo a las especificaciones de los planos y demás documentos que complementan este proyecto. Se utilizarán paños con fichas de las dimensiones mostradas en los planos, seleccionando previamente con el Interventor los colores, tonos y fábrica, observando cuidado especial en la selección del fabricante. Se limpiará por partes la superficie del entresuelo o base de concreto que se vaya a ejecutar cada día y sobre ella se colocará una capa de pegante pegacor blanco adhesivo cerámico recomendado por el fabricante específicamente para cada enchape orientando las pendientes hacia los desagües y dejando la superficie bien pareja y alisada. | D16: N/A | E16: herramienta menor 10% M.0 AA | F16: Agua para obra, Ceramica piso antideslizante 45 x 45 cm C2, Boquilla lista junta normal, Pegacor blanco adhesivo ceramico | G16: Cuadrilla AA-1 (Albañileria ) Conformada por un oficial y un ayudante, equipo que ejecuta las tareas más comunes en obra entre las que incluyen excavación, rellenos, demoliciones, cimentación, formaletería, estructuras en concreto, mampostería, enchapes, cubiertas, fachadas y pisos.
A17: 4.2 | B17: Alistado de pisos e= 0.04 m, en mortero 1:3 similar | C17: El Contratista garantizará la horizontalidad del piso sobre el que se va a instalar el acabado, alistándolo con mortero en proporción 1:3 (cemento Portland tipo 1: arena lavada pozo) amasada con agua, y si fuera el caso y es exigido por el supervisor, el amasado se hará con una mezcla de agua y aditivo líquido, para mejorar la adherencia y aumentar la resistencia del mortero que cumpla con la norma ASTM C-1059 del 86 o similar en proporción 3:1 respectivamente, en volumen. La superficie resanada o realizada debe estar sana estructuralmente y completamente libre de polvo, mugre, grasa o elementos extraños; por lo que antes del vaciado del mortero se hará la limpieza de toda la superficie con la herramienta exigida por el supervisor, para retirar residuos de otros morteros, suciedad, tierra, etc. Posteriormente se humedecerá la superficie sin dejar empozamientos. Por el supervisor, a su juicio podrá exigir una lechada de adherencia donde lo estime necesario; ésta se hará con una mezcla de cemento y aditivo líquido, para mejorar la adherencia y aumentar la resistencia del mortero que cumpla con la norma ASTM C-1059 del 86 o similar, hasta alcanzar una consistencia delgada para su aplicación sobre la superficie previamente humedecida. | D17: Transporte de materiales - 1, Transporte de materiales (arena, piedra, comun, tierra) - m³ | E17: herramienta menor 10% M.0 AA | F17: Agua para obra, arena lavada de rio, cemento gris | G17: Cuadrilla AA-1 (Albañileria ) Conformada por un oficial y un ayudante, equipo que ejecuta las tareas más comunes en obra entre las que incluyen excavación, rellenos, demoliciones, cimentación, formaletería, estructuras en concreto, mampostería, enchapes, cubiertas, fachadas y pisos.
A18: 2 | B18: INSTALACIONES ELECTRICAS
A19: 2.1 | B19: Maniobra desconexión y conexión red de MT. | C19: Grua línea viva, trámites y permisos ante el OR, ingeniería de detalle al nodo conexión existente y proyectado | D19: N/A | E19: Grúa dieléctrica linea viva con transformador, Herramienta menor 10% M.O AA, herramienta tensionado de linea, campero 2000 cc a 2999 cc | F19: Transporte de materiales -electricos | G19: Cuadrilla FF-1 electrica especializada: Cuadrilla de instalaciones eléctricas conformada por un oficial, un ayudante y un encargado de obra con una dedicación del 30% los cuales ejecutan la instalación, entubado y alambrado de las instalaciones eléctricas + profesinal 1 Ingeniero
A20: 2.2 | B20: Suminis. e insta. De estructura bandera completa de afloramiento, subterráneo de 3 cortacircuitos más 3 pararrayos para red de 13,2kV, con puentes semiaislados, grapas, desmonte de la estructura | C20: subterráneo de 3 cortacircuitos más 3 pararrayos para red de 13,2kV, con puentes semiaislados, grapas, desmonte de la estructura | D20: Transporte de materiales - electricos y otros: se refiere al capitulo 314 -transporte cod 5212: transpprte de materiales (electrico y otros ) el cual esta compuesto por transporte por peso en via t.km , transporte por peso en via ( sin pavimentar) t-km, transporte por peso en via (sin pav- montaña) | E20: Herramienta menor 10% M.O FF-1 elect esp, herramienta tensionado de línea, escalera expandible de 40 pasos dielectrica certificada g; transporte de materiales | F20: Collarin de 8" a 10" por 2 salida en platina galvanizada de 1/4",; Cruceta metálica galva. de 2 1/2" x 2 1/2 x 3/16" x 2,5 m. -g; Diagonal recta en angulo de 1 1/2" x 1 1/2" x 3/16" x 1.10 m; Perno de maquina de 5/8" x 8"; Esparrago galvanizado de 5/8" x 10" con 4 tuercas y 4 arandelas; Arandela de presión de 1/2"; Arandela galvanizada redonda de 1/2"; Arandela de presion de 5/8; Arandela redonda plana de 5/8; Cortacircuito de cañuela para 15 KV 100 A;Fusible hilo de 15 KV, 8 - 15 A, tipo H; Pararrayos polimerico de 12 KV, 10 KA; Grapa de operar en caliente bimetálica.-g; Cable Nº 2 AWG ACSR semiaislado XLPE-TK 15KV;Aislador de porcelana tipo disco 6" ANSI 52-1; Espigo para extremo de poste 13.2 KV; Estribo para ACSR Nº 2 - Nº 1/0. -g; Cable de cobre desnudo AWG Nº 4; Cable de aluminio ACSR No 2; Marquillas de identificacion | G20: Cuadrilla FF-1 electrica especializada: Cuadrilla de instalaciones eléctricas conformada por un oficial, un ayudante y un encargado de obra con una dedicación del 30% los cuales ejecutan la instalación, entubado y alambrado de las instalaciones eléctricas
A21: 2.3 | B21: Alquiler de un transformador de potencia de media tensión incluye (alquiler, grúa hidráulica, transportes, conexiones con maniobras). -g | C21: Alquiler, Transporte, grúa hidráulica, maniobras de conexión | D21: N/A | E21: Grúa 5 Tn, Camión, herramienta menor 10% M.O. AA, herramienta tensión de línea, Alquiler Transformador similar a la carga de 300 KVA MT | F21: Transformador alquilado | G21: Cuadrilla FF-1 electrica especializada: Cuadrilla de instalaciones eléctricas conformada por un oficial, un ayudante y un encargado de obra con una dedicación del 30% los cuales ejecutan la instalación, entubado y alambrado de las instalaciones eléctricas
A22: 2.4 | B22: Suminis. e insta. de aceite dielectrico, sellos y válvulas para transformador de 300 KVA de MT. -g | C22: Instalación de insumos certificados, transporte de materiales electricos y otros | D22: Transporte de materiales - electricos y otros: se refiere al capitulo 314 -transporte cod 5212: transpprte de materiales (electrico y otros ) el cual esta compuesto por transporte por peso en via t.km , transporte por peso en via ( sin pavimentar) t-km, transporte por peso en via (sin pav- montaña) | E22: Herramienta menor 10% M.O. AA, herramienta tensión de línea | F22: Aceite mineral para transformador dieléctrico, empaques, bornes, válvulas para transformador de 300 kv de MT | G22: Cuadrilla FF-1 electrica especializada: Cuadrilla de instalaciones eléctricas conformada por un oficial, un ayudante y un encargado de obra con una dedicación del 30% los cuales ejecutan la instalación, entubado y alambrado de las instalaciones eléctricas
A23: 2.5 | B23: Mantenimiento correctivo del transformador de 300 KVA de MT. Incluye:( grua hidráulica, reparación base metálica, pintura general, barnisado secado en horno, servicio de taller especializado, pruebas con corte de media tensión en un tiempo record). -g | C23: grua hidráulica, reparación base metálica, pintura general, barnisado secado en horno, servicio de taller especializado, pruebas con corte de media tensión en un tiempo record, transporte de materiales electricos y otros | D23: Transporte de materiales - electricos y otros: se refiere al capitulo 314 -transporte cod 5212: transpprte de materiales (electrico y otros ) el cual esta compuesto por transporte por peso en via t.km , transporte por peso en via ( sin pavimentar) t-km, transporte por peso en via (sin pav- montaña) | E23: Herramienta menor 10% M.O. AA, FF-1 elect esp; herramienta tensión de línea, Grúa 5.0 Tn, Camión | F23: Pintura esmalte poliuretano secado rápido, wash primer B Catalizador 1/4 GL | G23: Cuadrilla FF-1 electrica especializada: Cuadrilla de instalaciones eléctricas conformada por un oficial, un ayudante y un encargado de obra con una dedicación del 30% los cuales ejecutan la instalación, entubado y alambrado de las instalaciones eléctricas

Sheet COTIZACIONES
G4: ='PRESUPUESTO OFICIAL '!A1 -> MANTENIMIENTO CORRECTIVO DEL TRANSFORMADOR DE MEDIA TENSION DE LA CENTRAL DE ABASTOS DE YOPAL CASANARE
C6: ESTUDIO DE MERCADO
C9: No. | D9: DESCRIPCIÓN | H9: UND | I9: DATOS COTIZACIÓN | J9: COTIZACIÓN No. 1 | L9: COTIZACIÓN No. 2 | N9: COTIZACIÓN No. 3 | P9: MENOR VALOR COTIZADO | Q9: VALOR PROMEDIO
C11: 1 | D11: Escalera expandible de 40 pasos dielectrica certificada. | H11: DIA | I11: FECHA | J11: 46127 | L11: 46128 | N11: 46129 | P11: =+J13 -> 168000 | Q11: =(J13+L13+N13)/3 -> 177866.67
I12: NOMBRE | J12: CIIIEM S.A.S | L12: DINAMO DE COLOMBIA LTDA | N12: INDISCON INGENIERIA S.A.S
I13: VALOR | J13: 168000 | L13: 195600 | N13: 170000
C14: No. | D14: DESCRIPCIÓN | H14: UND | I14: DATOS COTIZACIÓN | J14: COTIZACIÓN No. 1 | L14: COTIZACIÓN No. 2 | N14: COTIZACIÓN No. 3 | P14: MENOR VALOR COTIZADO | Q14: VALOR PROMEDIO
C16: 2 | D16: Cruceta metálica galva. de 2 1/2" x 2 1/2 x 3/16" x 2,5 m. | H16: UND | I16: FECHA | J16: 46127 | L16: 46128 | N16: 46129 | P16: =L18 -> 164710 | Q16: =(J18+L18+N18)/3 -> 170401
I17: NOMBRE | J17: CIIIEM S.A.S | L17: DINAMO DE COLOMBIA LTDA | N17: INDISCON INGENIERIA S.A.S
I18: VALOR | J18: 171353 | L18: 164710 | N18: 175140
C19: No. | D19: DESCRIPCIÓN | H19: UND | I19: DATOS COTIZACIÓN | J19: COTIZACIÓN No. 1 | L19: COTIZACIÓN No. 2 | N19: COTIZACIÓN No. 3 | P19: MENOR VALOR COTIZADO | Q19: VALOR PROMEDIO
C21: 3 | D21: Arandela galvanizada redonda de 1/2". | H21: UND | I21: FECHA | J21: 46127 | L21: 46128 | N21: 46129 | P21: =+L23 -> 359 | Q21: =(J23+L23+N23)/2 -> 554.5
I22: NOMBRE | J22: CIIIEM S.A.S | L22: DINAMO DE COLOMBIA LTDA | N22: INDISCON INGENIERIA S.A.S
I23: VALOR | J23: 380 | L23: 359 | N23: 370
C24: No. | D24: DESCRIPCIÓN | H24: UND | I24: DATOS COTIZACIÓN | J24: COTIZACIÓN No. 1 | L24: COTIZACIÓN No. 2 | N24: COTIZACIÓN No. 3 | P24: MENOR VALOR COTIZADO | Q24: VALOR PROMEDIO
C26: 4 | D26: Grapa de operar en caliente bimetálica. | H26: UND | I26: FECHA | J26: 46127 | L26: 46128 | N26: 46129 | P26: =+N28 -> 48944 | Q26: =(J28+L28+N28)/3 -> 50981.333
I27: NOMBRE | J27: CIIIEM S.A.S | L27: DINAMO DE COLOMBIA LTDA | N27: INDISCON INGENIERIA S.A.S
I28: VALOR | J28: 49000 | L28: 55000 | N28: 48944
C29: No. | D29: DESCRIPCIÓN | H29: UND | I29: DATOS COTIZACIÓN | J29: COTIZACIÓN No. 1 | L29: COTIZACIÓN No. 2 | N29: COTIZACIÓN No. 3 | P29: MENOR VALOR COTIZADO | Q29: VALOR PROMEDIO
C31: 5 | D31: Estribo para ACSR Nº 2 - Nº 1/0. | H31: UND | I31: FECHA | J31: 46127 | L31: 46128 | N31: 46129 | P31: =+L33 -> 58030 | Q31: =(J33+L33+N33)/2 -> 95525.4
I32: NOMBRE | J32: CIIIEM S.A.S | L32: DINAMO DE COLOMBIA LTDA | N32: INDISCON INGENIERIA S.A.S
I33: VALOR | J33: 65520 | L33: 58030 | N33: 67500.8
C34: No. | D34: DESCRIPCIÓN | H34: UND | I34: DATOS COTIZACIÓN | J34: COTIZACIÓN No. 1 | L34: COTIZACIÓN No. 2 | N34: COTIZACIÓN No. 3 | P34: MENOR VALOR COTIZADO | Q34: VALOR PROMEDIO
C36: 6 | D36: Grua dieléctrica línea viva con transporte y elementos aislantes | H36: H | I36: FECHA | J36: 46127 | L36: 46128 | N36: 46129 | P36: =+J38 -> 1050000 | Q36: =(J38+L38+N38)/3 -> 1209000
I37: NOMBRE | J37: CIIIEM S.A.S | L37: DINAMO DE COLOMBIA LTDA | N37: INDISCON INGENIERIA S.A.S
I38: VALOR | J38: 1050000 | L38: 1299000 | N38: 1278000
C39: No. | D39: DESCRIPCIÓN | H39: UND | I39: DATOS COTIZACIÓN | J39: COTIZACIÓN No. 1 | L39: COTIZACIÓN No. 2 | N39: COTIZACIÓN No. 3 | P39: MENOR VALOR COTIZADO | Q39: VALOR PROMEDIO
C41: 7 | D41: Alqui. Transfor. Similar a la acarga del de 300kVA MT. | H41: DIA | I41: FECHA | J41: 46127 | L41: 46128 | N41: 46129 | P41: =+J43 -> 280000 | Q41: =(J43+L43+N43)/2 -> 433465
I42: NOMBRE | J42: CIIIEM S.A.S | L42: DINAMO DE COLOMBIA LTDA | N42: INDISCON INGENIERIA S.A.S
I43: VALOR | J43: 280000 | L43: 292052 | N43: 294878
C44: No. | D44: DESCRIPCIÓN | H44: UND | I44: DATOS COTIZACIÓN | J44: COTIZACIÓN No. 1 | L44: COTIZACIÓN No. 2 | N44: COTIZACIÓN No. 3 | P44: MENOR VALOR COTIZADO | Q44: VALOR PROMEDIO
C46: 8 | D46: Pintura esmalte poliuretano secado rápido. | H46: GAL | I46: FECHA | J46: 46127 | L46: 46128 | N46: XX/0X/2026 | P46: =+N48 -> 542500 | Q46: =(J48+L48+N48)/2 -> 842499.5
I47: NOMBRE | J47: CIIIEM S.A.S | L47: DINAMO DE COLOMBIA LTDA | N47: INDISCON INGENIERIA S.A.S
I48: VALOR | J48: 555120 | L48: 587379 | N48: 542500
C49: No. | D49: DESCRIPCIÓN | H49: UND | I49: DATOS COTIZACIÓN | J49: COTIZACIÓN No. 1 | L49: COTIZACIÓN No. 2 | N49: COTIZACIÓN No. 3 | P49: MENOR VALOR COTIZADO | Q49: VALOR PROMEDIO
C51: 9 | D51: Aceite mineral para transformador direléctrico. | H51: G | I51: FECHA | J51: 46127 | L51: 46128 | N51: 46129 | P51: =+N53 -> 145320 | Q51: =(J53+L53+N53)/1 -> 500294
I52: NOMBRE | J52: CIIIEM S.A.S | L52: DINAMO DE COLOMBIA LTDA | N52: INDISCON INGENIERIA S.A.S
I53: VALOR | J53: 189000 | L53: 165974 | N53: 145320
C54: No. | D54: DESCRIPCIÓN | H54: UND | I54: DATOS COTIZACIÓN | J54: COTIZACIÓN No. 1 | L54: COTIZACIÓN No. 2 | N54: COTIZACIÓN No. 3 | P54: MENOR VALOR COTIZADO | Q54: VALOR PROMEDIO
C56: 10 | D56: Empaques, bornes, válvulas para transformador de 300kV de MT. | H56: UND | I56: FECHA | J56: 46127 | L56: 46128 | N56: 46129 | P56: =+N58 -> 840000 | Q56: =(J58+L58+N58)/2 -> 1321100
...

Sheet PRESUPUESTO OFICIAL  opcion 2
A1: MANTENIMIENTO CORRECTIVO DE LAS INSTALACIONES Y LA SUBESTACION ELÉCTRICA DE LA CENTRAL DE ABASTOS DEL MUNICIPIO DE YOPAL – CASANARE
A2: PRESUPUESTO OFICIAL DE OBRA
A5: ÍTEM | B5: ESPECIFICACIÓN | D5: ACTIVIDADES | H5: UND | I5: CANT | J5: Valor Unitario | K5: Sub-Total
B6: COD | C6: PART.
A7: 1 | D7: ARBOLIZACION Y ORNAMENTALES | K7: =K8 -> 159676
A8: 1.1 | B8: 7795 | C8: 1.1 | D8: Poda de arbol 0.10 m > Ø < 0.25 m; incluye apeo, desramado, apilado y disposición final 2 km | H8: UND | I8: 2 | J8: 79838 | K8: =ROUND(I8*J8,2) -> 159676
A9: 2 | D9: PINTURAS | K9: =K10+K11 -> 1224950.6
A10: 2.1 | B10: 1038 | C10: 2.1 | D10: Esmalte sobre lamina llena (incluye anticorrosivo) GABINETES | H10: m2 | I10: 24.65 | J10: 25684 | K10: =ROUND(I10*J10,2) -> 633110.6
A11: 2.2 | B11: 6552 | C11: 2.2 | D11: Pintura en esmalte para estructura metalica existente tipo: correas, cerchas, laminas y angulos, alto 100 - 250 mm y ancho 50 - 200 mm, 2 manos | H11: ml | I11: 36 | J11: 16440 | K11: =ROUND(I11*J11,2) -> 591840
A12: 3 | D12: PAÑETES | K12: =K13 -> 82684
A13: 3.1 | B13: 121 | C13: 3.1 | D13: Pañete liso (allanado) muros 1:4, incluye filos y dilataciones | H13: m2 | I13: 2.8 | J13: 29530 | K13: =ROUND(I13*J13,2) -> 82684
A14: 4 | D14: ENCHAPES | K14: =K15+K16 -> 1328310.6
A15: 4.1 | B15: 317 | C15: 4.1 | D15: Enchape de piso en cerámica antideslizante 45 X 45 | H15: m2 | I15: =(12.74) -> 12.74 | J15: 75347 | K15: =ROUND(I15*J15,2) -> 959920.78
A16: 4.2 | B16: 550 | C16: 4.2 | D16: Alistado de pisos e= 0.04 m, en mortero 1:3 similar | H16: m2 | I16: =(12.74) -> 12.74 | J16: 28916 | K16: =ROUND(I16*J16,2) -> 368389.84
A17: 5 | D17: INSTALACIONES ELECTRICAS | K17: =K18+K19+K20+K21+K22 -> 33771029
A18: 5.1 | B18: NUEVO | C18: 5.1 | D18: Maniobra desconexión y conexión red de MT. con grua línea viva, trámites y permisos ante el OR, personal y herra. especiales, e ingeniería de detalle al nodo conexión existente y proyectado | H18: HR | I18: 2 | J18: 2808602 | K18: =ROUND(I18*J18,2) -> 5617204
A19: 5.2 | B19: NUEVO | C19: 5.2 | D19: Suminis. e insta. De estructura bandera completa de afloramiento, subterráneo de 3 cortacircuitos más 3 pararrayos para red de 13,2kV, con puentes semiaislados, grapas, desmonte de la estructura | H19: UND | I19: 1 | J19: 5224123 | K19: =ROUND(I19*J19,2) -> 5224123
A20: 5.3 | B20: NUEVO | C20: 5.3 | D20: Alquiler de un transformador de potencia de media tensión incluye (alquiler, grúa hidráulica, transportes, conexiones con maniobras). -g | H20: DIA | I20: 10 | J20: 523224 | K20: =ROUND(I20*J20,2) -> 5232240
A21: 5.4 | B21: NUEVO | C21: 5.4 | D21: Suminis. e insta. de aceite dielectrico, sellos y válvulas para transformador de 300 KVA de MT. -g | H21: UND | I21: 1 | J21: 10942850 | K21: =ROUND(I21*J21,2) -> 10942850
A22: 5.5 | B22: NUEVO | C22: 5.5 | D22: Mantenimiento correctivo del transformador de 300 KVA de MT. Incluye:( grua hidráulica, reparación base metálica, pintura general, barnisado secado en horno, servicio de taller especializado, pruebas con corte de media tensión en un tiempo record). -g | H22: UND | I22: 1 | J22: 6754612 | K22: =ROUND(I22*J22,2) -> 6754612
A23: COSTO DIRECTO | K23: =K7+K9+K14+K17+K12 -> 36566650
A24: ADMINISTRACIÓN | J24: 0.27 | K24: =ROUND($K$23*J24,0) -> 9872996
A25: IMPREVISTOS | J25: 0.02 | K25: =ROUND($K$23*J25,0) -> 731333
A26: UTILIDAD | J26: 0.05 | K26: =ROUND($K$23*J26,0) -> 1828333
A27: COSTO TOTAL OBRA CIVIL | K27: =SUM(K23:K26) -> 48999312 | N27: 49000000
N29: =N27-K27 -> 687.78
B31: EDGAR PEREZ CAMARGO | G31: ROCIO QUINTANILLA GALVIS
B32: PROFESIONAL DE APOYO CPSP 036 DE 2026 | G32: SUBGERENTE ADMINISTRATIVA Y FINANCIERA
G33: INDEV
B34: Vo.Bo

Sheet ITEM 1.1
B1: ANALISIS DE PRECIOS UNITARIOS DE ITEMS O ACTIVIDADES NO PREVISTAS 2020-11-26 Vs.1.0
B4: HOJA 1 de 1 | C4: Fecha | D4: DD | E4: MM | F4: AA | G4: ='PRESUPUESTO OFICIAL opcion 2'!A1 -> MANTENIMIENTO CORRECTIVO DE LAS INSTALACIONES Y LA SUBESTACION ELÉCTRICA DE LA CENTRAL DE ABASTOS DEL MUNICIPIO DE YOPAL – CASANARE
D5: 14 | E5: 7 | F5: 2026
B6: ÁREA DE INFRAESTRUCTURA
B8: ANALISIS UNITARIO DE PRECIOS (APU)
B10: DATOS ESPECÍFICOS
B12: ITEM | C12: DESCRIPCIÓN | M12: UNIDAD
B13: =+'PRESUPUESTO OFICIAL '!A8 -> 1.1 | C13: =+'PRESUPUESTO OFICIAL '!D8 -> Poda de arbol 0.10 m > Ø < 0.25 m; incluye apeo, desramado, apilado y disposición final 2 km | M13: UND
B15: I. EQUIPO
B17: DESCRIPCIÓN | G17: UNIDAD | I17: CANTIDAD | K17: VALOR UNITARIO | M17: VR. PARCIAL
B18: Herramienta menor 10% M.O AA | G18: HR | I18: 1 | K18: =K41*10% -> 5733.3 | M18: =ROUND(I18*K18,0) -> 5733
B19: Volqueta (6 m3) | G19: HR | I19: 0.18 | K19: 93178 | M19: =ROUND(I19*K19,0) -> 16772
M20: =ROUND(I20*K20,0) -> 0
B21: SUBTOTAL $ | M21: =+SUM(M18:M20) -> 22505
B23: II. MATERIALES
B25: DESCRIPCIÓN | G25: UNIDAD | I25: CANTIDAD | K25: VALOR UNITARIO | M25: VR. PARCIAL
M26: =ROUND(I26*K26,0) -> 0
M27: =ROUND(I27*K27,0) -> 0
M28: =ROUND(I28*K28,0) -> 0
B29: SUBTOTAL $ | M29: =SUM(M26:M28) -> 0
B31: III. TRANSPORTES
B33: MATERIAL | G33: UNIDAD | I33: CANTIDAD | K33: VALOR UNITARIO | M33: VR. PARCIAL
M34: =ROUND(I34*K34,0) -> 0
M35: =ROUND(I35*K35,0) -> 0
B36: SUBTOTAL $ | M36: =SUM(M34:M35) -> 0
B38: IV. MANO DE OBRA
B40: TRABAJADOR | G40: UNIDAD | I40: CANTIDAD | K40: VALOR UNITARIO | M40: VR. PARCIAL
B41: Cuadrilla AA -3 | G41: HR | I41: 1 | K41: 57333 | M41: =ROUND(I41*K41,0) -> 57333
M42: =ROUND(I42*K42,0) -> 0
B43: SUBTOTAL $ | M43: =SUM(M41:M42) -> 57333
B45: TOTAL COSTO DIRECTO $ | M45: =+ROUND(M21+M29+M36+M43,2) -> 79838
D49: EDGAR PEREZ CAMARGO
B50: PROFESIONAL DE APOYO CPSP 036 DE 2026
B51: ELABORÓ
B54: Original:Oficina Juridica
B55: Copias: Contratista, Supervisor, Interventor y Dependencia Responsable

Sheet ITEM 2.1
A1: ANALISIS DE PRECIOS UNITARIOS DE ITEMS O ACTIVIDADES NO PREVISTAS 2020-11-26 Vs.1.0
A4: HOJA 1 de 1 | B4: Fecha | C4: DD | D4: MM | E4: AA | F4: ='PRESUPUESTO OFICIAL opcion 2'!A1 -> MANTENIMIENTO CORRECTIVO DE LAS INSTALACIONES Y LA SUBESTACION ELÉCTRICA DE LA CENTRAL DE ABASTOS DEL MUNICIPIO DE YOPAL – CASANARE
C5: 14 | D5: 7 | E5: 2026
A6: ÁREA DE INFRAESTRUCTURA
A8: ANALISIS UNITARIO DE PRECIOS (APU)
A10: DATOS ESPECÍFICOS
A12: ITEM | B12: DESCRIPCIÓN | L12: UNIDAD
A13: 2.1 | B13: ='PRESUPUESTO OFICIAL opcion 2'!D10 -> Esmalte sobre lamina llena (incluye anticorrosivo) GABINETES | L13: M2
A15: I. EQUIPO
A17: DESCRIPCIÓN | F17: UNIDAD | H17: CANTIDAD | J17: VALOR UNITARIO | L17: VR. PARCIAL
A18: Herramienta menor 10% M.O. | F18: HR | H18: 0.33 | J18: 4352 | L18: =ROUND(H18*J18,0) -> 1436
A19: SUBTOTAL $ | L19: =+SUM(L18:L18) -> 1436
A21: II. MATERIALES
A23: DESCRIPCIÓN | F23: UNIDAD | H23: CANTIDAD | J23: VALOR UNITARIO | L23: VR. PARCIAL
A24: Anticorrosivo gris/blanco/rojo | F24: gal | H24: 0.02 | J24: 72820 | L24: =ROUND(H24*J24,0) -> 1456
A25: Esmalte brillante tipo pintulux de Pintuco o similar | F25: gal | H25: 0.04 | J25: 92850 | L25: =ROUND(H25*J25,0) -> 3714
A26: Lija pliego No 120 de 9" x 11" (230 x 280 mm) | F26: und | H26: 1.05 | J26: 3130 | L26: =ROUND(H26*J26,0) -> 3287
A27: Thinner | F27: gal | H27: 0.03 | J27: 47630 | L27: =ROUND(H27*J27,0) -> 1429
A28: SUBTOTAL $ | L28: =SUM(L24:L27) -> 9886
A30: III. TRANSPORTES
A32: MATERIAL | F32: UNIDAD | H32: CANTIDAD | J32: VALOR UNITARIO | L32: VR. PARCIAL
A33: Transporte de materiales - 1 | F33: t | H33: 0.0001 | J33: 3360 | L33: =ROUND(H33*J33,0) -> 0
L34: =ROUND(H34*J34,0) -> 0
A35: SUBTOTAL $ | L35: =SUM(L33:L34) -> 0
A37: IV. MANO DE OBRA
A39: TRABAJADOR | F39: UNIDAD | H39: CANTIDAD | J39: VALOR UNITARIO | L39: VR. PARCIAL
A40: Cuadrilla CC - 1 (Pintura) | F40: HR | H40: 0.33 | J40: 43521 | L40: =ROUND(H40*J40,0) -> 14362
A41: SUBTOTAL $ | L41: =SUM(L40:L40) -> 14362
A43: TOTAL COSTO DIRECTO $ | L43: =+ROUND(L19+L28+L35+L41,0) -> 25684
C47: EDGAR PEREZ CAMARGO
A48: PROFESIONAL DE APOYO CPSP 036 DE 2026
A49: ELABORÓ
A52: Original:Oficina Juridica
A53: Copias: Contratista, Supervisor, Interventor y Dependencia Responsable

Sheet ITEM 2.2
A1: ANALISIS DE PRECIOS UNITARIOS DE ITEMS O ACTIVIDADES NO PREVISTAS 2020-11-26 Vs.1.0
A4: HOJA 1 de 1 | B4: Fecha | C4: DD | D4: MM | E4: AA | F4: ='PRESUPUESTO OFICIAL opcion 2'!A1 -> MANTENIMIENTO CORRECTIVO DE LAS INSTALACIONES Y LA SUBESTACION ELÉCTRICA DE LA CENTRAL DE ABASTOS DEL MUNICIPIO DE YOPAL – CASANARE
C5: 14 | D5: 7 | E5: 2026
A6: ÁREA DE INFRAESTRUCTURA
A8: ANALISIS UNITARIO DE PRECIOS (APU)
A10: DATOS ESPECÍFICOS
A12: ITEM | B12: DESCRIPCIÓN | L12: UNIDAD
A13: 2.2 | B13: ='PRESUPUESTO OFICIAL opcion 2'!D11 -> Pintura en esmalte para estructura metalica existente tipo: correas, cerchas, laminas y angulos, alto 100 - 250 mm y ancho 50 - 200 mm, 2 manos | L13: ml
A15: I. EQUIPO
A17: DESCRIPCIÓN | F17: UNIDAD | H17: CANTIDAD | J17: VALOR UNITARIO | L17: VR. PARCIAL
A18: Herramienta menor 10% M.O. | F18: HR | H18: 0.25 | J18: 4352 | L18: =ROUND(H18*J18,0) -> 1088
A19: Andamio tubular stand. (inc. tijeras) | F19: HR | H19: 2.5 | J19: 248 | L19: =ROUND(H19*J19,0) -> 620
A20: Equipo de pintura con compresor | F20: HR | H20: 0.2 | J20: 7406 | L20: =ROUND(H20*J20,0) -> 1481
A21: SUBTOTAL $ | L21: =+SUM(L18:L20) -> 3189
A23: II. MATERIALES
A25: DESCRIPCIÓN | F25: UNIDAD | H25: CANTIDAD | J25: VALOR UNITARIO | L25: VR. PARCIAL
A26: Esmalte brillante tipo pintulux de Pintuco o similar | F26: gal | H26: 0.024 | J26: 92850 | L26: =ROUND(H26*J26,0) -> 2228
A27: Thinner | F27: gal | H27: 0.003 | J27: 47630 | L27: =ROUND(H27*J27,0) -> 143
A28: SUBTOTAL $ | L28: =SUM(L26:L27) -> 2371
A30: III. TRANSPORTES
A32: MATERIAL | F32: UNIDAD | H32: CANTIDAD | J32: VALOR UNITARIO | L32: VR. PARCIAL
A33: Transporte de materiales - 1 | F33: t | H33: 0 | J33: 0 | L33: =ROUND(H33*J33,0) -> 0
L34: =ROUND(H34*J34,0) -> 0
A35: SUBTOTAL $ | L35: =SUM(L33:L34) -> 0
A37: IV. MANO DE OBRA
A39: TRABAJADOR | F39: UNIDAD | H39: CANTIDAD | J39: VALOR UNITARIO | L39: VR. PARCIAL
A40: Cuadrilla CC - 1 (Pintura) | F40: HR | H40: 0.25 | J40: 43521 | L40: =ROUND(H40*J40,0) -> 10880
A41: SUBTOTAL $ | L41: =SUM(L40:L40) -> 10880
A43: TOTAL COSTO DIRECTO $ | L43: =+ROUND(L21+L28+L35+L41,0) -> 16440
C47: EDGAR PEREZ CAMARGO
A48: PROFESIONAL DE APOYO CPSP 036 DE 2026
A49: ELABORÓ
A52: Original:Oficina Juridica
A53: Copias: Contratista, Supervisor, Interventor y Dependencia Responsable

Sheet ITEM 3.1
A1: ANALISIS DE PRECIOS UNITARIOS DE ITEMS O ACTIVIDADES NO PREVISTAS 2020-11-26 Vs.1.0
A4: HOJA 1 de 1 | B4: Fecha | C4: DD | D4: MM | E4: AA | F4: ='PRESUPUESTO OFICIAL opcion 2'!A1 -> MANTENIMIENTO CORRECTIVO DE LAS INSTALACIONES Y LA SUBESTACION ELÉCTRICA DE LA CENTRAL DE ABASTOS DEL MUNICIPIO DE YOPAL – CASANARE
C5: 14 | D5: 7 | E5: 2026
A6: ÁREA DE INFRAESTRUCTURA
A8: ANALISIS UNITARIO DE PRECIOS (APU)
A10: DATOS ESPECÍFICOS
A12: ITEM | B12: DESCRIPCIÓN | L12: UNIDAD
A13: 3.1 | B13: ='PRESUPUESTO OFICIAL opcion 2'!D13 -> Pañete liso (allanado) muros 1:4, incluye filos y dilataciones | L13: m2
A15: I. EQUIPO
A17: DESCRIPCIÓN | F17: UNIDAD | H17: CANTIDAD | J17: VALOR UNITARIO | L17: VR. PARCIAL
A18: Herramienta menor 10% M.O. | F18: HR | H18: 0.49 | J18: 3147 | L18: =ROUND(H18*J18,0) -> 1542
A19: Andamio tubular stand. (inc. tijeras) | F19: mes | H19: 0.0012 | J19: 39700 | L19: =ROUND(H19*J19,0) -> 48
L20: =ROUND(H20*J20,0) -> 0
A21: SUBTOTAL $ | L21: =+SUM(L18:L20) -> 1590
A23: II. MATERIALES
A25: DESCRIPCIÓN | F25: UNIDAD | H25: CANTIDAD | J25: VALOR UNITARIO | L25: VR. PARCIAL
A26: Tablon de madera de 3 x 0.25 x 0.05 (alquiler) | F26: sm | H26: 0.0123 | J26: 7118 | L26: =ROUND(H26*J26,0) -> 88
A27: Mortero 1:4 (desperdicio 5%) | F27: m2 | H27: 0.022 | J27: 376489 | L27: =ROUND(H27*J27,0) -> 8283
A28: Filos y dilataciones 1:4 | F28: m2 | H28: 0.5 | J28: 8294 | L28: =ROUND(H28*J28,0) -> 4147
A29: SUBTOTAL $ | L29: =SUM(L26:L28) -> 12518
A31: III. TRANSPORTES
A33: MATERIAL | F33: UNIDAD | H33: CANTIDAD | J33: VALOR UNITARIO | L33: VR. PARCIAL
A34: Transporte de materiales - 1 | F34: t | H34: 0 | J34: 0 | L34: =ROUND(H34*J34,0) -> 0
L35: =ROUND(H35*J35,0) -> 0
A36: SUBTOTAL $ | L36: =SUM(L34:L35) -> 0
A38: IV. MANO DE OBRA
A40: TRABAJADOR | F40: UNIDAD | H40: 0.49 | J40: VALOR UNITARIO | L40: VR. PARCIAL
A41: Cuadrilla AA - 1 (Albañilera) | F41: HR | H41: 0.49 | J41: 31473 | L41: =ROUND(H41*J41,0) -> 15422
A42: SUBTOTAL $ | L42: =SUM(L41:L41) -> 15422
A44: TOTAL COSTO DIRECTO $ | L44: =+ROUND(L21+L29+L36+L42,0) -> 29530
C48: EDGAR PEREZ CAMARGO
A49: PROFESIONAL DE APOYO CPSP 036 DE 2026
A50: ELABORÓ
A53: Original:Oficina Juridica
A54: Copias: Contratista, Supervisor, Interventor y Dependencia Responsable

Sheet ITEM 4.1
A1: ANALISIS DE PRECIOS UNITARIOS DE ITEMS O ACTIVIDADES NO PREVISTAS 2020-11-26 Vs.1.0
A4: HOJA 1 de 1 | B4: Fecha | C4: DD | D4: MM | E4: AA | F4: ='PRESUPUESTO OFICIAL opcion 2'!A1 -> MANTENIMIENTO CORRECTIVO DE LAS INSTALACIONES Y LA SUBESTACION ELÉCTRICA DE LA CENTRAL DE ABASTOS DEL MUNICIPIO DE YOPAL – CASANARE
C5: 14 | D5: 7 | E5: 2026
A6: ÁREA DE INFRAESTRUCTURA
A8: ANALISIS UNITARIO DE PRECIOS (APU)
A10: DATOS ESPECÍFICOS
A12: ITEM | B12: DESCRIPCIÓN | L12: UNIDAD
A13: 4.1 | B13: ='PRESUPUESTO OFICIAL opcion 2'!D15 -> Enchape de piso en cerámica antideslizante 45 X 45 | L13: m2
A15: I. EQUIPO
A17: DESCRIPCIÓN | F17: UNIDAD | H17: CANTIDAD | J17: VALOR UNITARIO | L17: VR. PARCIAL
A18: Herramienta menor 10% M.O. | F18: HR | H18: 0.6667 | J18: 3147 | L18: =ROUND(H18*J18,0) -> 2098
L19: =ROUND(H19*J19,0) -> 0
A20: SUBTOTAL $ | L20: =+SUM(L18:L19) -> 2098
A22: II. MATERIALES
A24: DESCRIPCIÓN | F24: UNIDAD | H24: CANTIDAD | J24: VALOR UNITARIO | L24: VR. PARCIAL
A25: Agua para obra | F25: l | H25: 2 | J25: 100 | L25: =ROUND(H25*J25,0) -> 200
A26: Ceramica piso antideslizante 45 x 45 cm C2 | F26: m2 | H26: 1.05 | J26: 40933 | L26: =ROUND(H26*J26,0) -> 42980
A27: Boquilla lista junta normal | F27: kg | H27: 0.25 | J27: 6911 | L27: =ROUND(H27*J27,0) -> 1728
A28: Pegacor blanco adhesivo cerámico | F28: kg | H28: 3.6 | J28: 2044 | L28: =ROUND(H28*J28,0) -> 7358
A29: SUBTOTAL $ | L29: =SUM(L25:L28) -> 52266
A31: III. TRANSPORTES
A33: MATERIAL | F33: UNIDAD | H33: CANTIDAD | J33: VALOR UNITARIO | L33: VR. PARCIAL
A34: Transporte de materiales - 1 | F34: t | H34: 0 | J34: 0 | L34: =ROUND(H34*J34,0) -> 0
L35: =ROUND(H35*J35,0) -> 0
A36: SUBTOTAL $ | L36: =SUM(L34:L35) -> 0
A38: IV. MANO DE OBRA
A40: TRABAJADOR | F40: UNIDAD | H40: 0.49 | J40: VALOR UNITARIO | L40: VR. PARCIAL
A41: Cuadrilla AA - 1 (Albañilera) | F41: HR | H41: 0.6667 | J41: 31473 | L41: =ROUND(H41*J41,0) -> 20983
A42: SUBTOTAL $ | L42: =SUM(L41:L41) -> 20983
A44: TOTAL COSTO DIRECTO $ | L44: =+ROUND(L20+L29+L36+L42,0) -> 75347
C48: EDGAR PEREZ CAMARGO
A49: PROFESIONAL DE APOYO CPSP 036 DE 2026
A50: ELABORÓ
A53: Original:Oficina Juridica
A54: Copias: Contratista, Supervisor, Interventor y Dependencia Responsable

Sheet ITEM 4.2
A1: ANALISIS DE PRECIOS UNITARIOS DE ITEMS O ACTIVIDADES NO PREVISTAS 2020-11-26 Vs.1.0
A4: HOJA 1 de 1 | B4: Fecha | C4: DD | D4: MM | E4: AA | F4: ='PRESUPUESTO OFICIAL opcion 2'!A1 -> MANTENIMIENTO CORRECTIVO DE LAS INSTALACIONES Y LA SUBESTACION ELÉCTRICA DE LA CENTRAL DE ABASTOS DEL MUNICIPIO DE YOPAL – CASANARE
C5: 14 | D5: 7 | E5: 2026
A6: ÁREA DE INFRAESTRUCTURA
A8: ANALISIS UNITARIO DE PRECIOS (APU)
A10: DATOS ESPECÍFICOS
A12: ITEM | B12: DESCRIPCIÓN | L12: UNIDAD
A13: 4.2 | B13: ='PRESUPUESTO OFICIAL opcion 2'!D16 -> Alistado de pisos e= 0.04 m, en mortero 1:3 similar | L13: m2
A15: I. EQUIPO
A17: DESCRIPCIÓN | F17: UNIDAD | H17: CANTIDAD | J17: VALOR UNITARIO | L17: VR. PARCIAL
A18: Herramienta menor 10% M.O. | F18: HR | H18: 0.4 | J18: 3147 | L18: =ROUND(H18*J18,0) -> 1259
L19: =ROUND(H19*J19,0) -> 0
A20: SUBTOTAL $ | L20: =+SUM(L18:L19) -> 1259
A22: II. MATERIALES
A24: DESCRIPCIÓN | F24: UNIDAD | H24: CANTIDAD | J24: VALOR UNITARIO | L24: VR. PARCIAL
A25: Agua para obra | F25: l | H25: 10 | J25: 100 | L25: =ROUND(H25*J25,0) -> 1000
A26: arena lavada de rio | F26: m2 | H26: 0.048 | J26: 36811 | L26: =ROUND(H26*J26,0) -> 1767
A27: cemento gris | F27: kg | H27: 19 | J27: 614 | L27: =ROUND(H27*J27,0) -> 11666
L28: =ROUND(H28*J28,0) -> 0
A29: SUBTOTAL $ | L29: =SUM(L25:L28) -> 14433
A31: III. TRANSPORTES
A33: MATERIAL | F33: UNIDAD | H33: CANTIDAD | J33: VALOR UNITARIO | L33: VR. PARCIAL
A34: Transporte de materiales - 1 | F34: t | H34: 0.019 | J34: 3366 | L34: =ROUND(H34*J34,0) -> 64
A35: Transporte de materiales (arena, piedra, comun, tierra) - m³ | F35: m2 | H35: 0.048 | J35: 11898 | L35: =ROUND(H35*J35,0) -> 571
A36: SUBTOTAL $ | L36: =SUM(L34:L35) -> 635
A38: IV. MANO DE OBRA
A40: TRABAJADOR | F40: UNIDAD | H40: 0.49 | J40: VALOR UNITARIO | L40: VR. PARCIAL
A41: Cuadrilla AA - 1 (Albañilera) | F41: HR | H41: 0.4 | J41: 31473 | L41: =ROUND(H41*J41,0) -> 12589
A42: SUBTOTAL $ | L42: =SUM(L41:L41) -> 12589
A44: TOTAL COSTO DIRECTO $ | L44: =+ROUND(L20+L29+L36+L42,0) -> 28916
C48: EDGAR PEREZ CAMARGO
A49: PROFESIONAL DE APOYO CPSP 036 DE 2026
A50: ELABORÓ
A53: Original:Oficina Juridica
A54: Copias: Contratista, Supervisor, Interventor y Dependencia Responsable

Sheet ITEM 5.1
A1: ANALISIS DE PRECIOS UNITARIOS DE ITEMS O ACTIVIDADES NO PREVISTAS 2020-11-26 Vs.1.0
A4: HOJA 1 de 1 | B4: Fecha | C4: DD | D4: MM | E4: AA | F4: ='PRESUPUESTO OFICIAL opcion 2'!A1 -> MANTENIMIENTO CORRECTIVO DE LAS INSTALACIONES Y LA SUBESTACION ELÉCTRICA DE LA CENTRAL DE ABASTOS DEL MUNICIPIO DE YOPAL – CASANARE
C5: 14 | D5: 7 | E5: 2026
A6: ÁREA DE INFRAESTRUCTURA
A8: ANALISIS UNITARIO DE PRECIOS (APU)
A10: DATOS ESPECÍFICOS
A12: ITEM | B12: DESCRIPCIÓN | L12: UNIDAD
A13: 5.1 | B13: ='PRESUPUESTO OFICIAL '!D10 -> Maniobra desconexión y conexión red de MT. con grua línea viva, trámites y permisos ante el OR, personal y herra. especiales, e ingeniería de detalle al nodo conexión existente y proyectado | L13: HR
A15: I. EQUIPO
A17: DESCRIPCIÓN | F17: UNIDAD | H17: CANTIDAD | J17: VALOR UNITARIO | L17: VR. PARCIAL
A18: Herramienta menor 10% M.O AA | F18: HR | H18: 2 | J18: =ROUND(J42*10%,0) -> 9561 | L18: =ROUND(H18*J18,0) -> 19122
A19: Herramienta tensionado de linea | F19: HR | H19: 2 | J19: 5550 | L19: =ROUND(H19*J19,0) -> 11100
A20: Grua dielectrica linea viva con transformador | F20: HR | H20: 1.65 | J20: 1050000 | L20: =ROUND(H20*J20,0) -> 1732500
A21: Campero 2000 cc a 2999 cc | H21: 8 | J21: 49167 | L21: =ROUND(H21*J21,0) -> 393336
A22: SUBTOTAL $ | L22: =+SUM(L18:L21) -> 2156058
A24: II. MATERIALES
A26: DESCRIPCIÓN | F26: UNIDAD | H26: CANTIDAD | J26: VALOR UNITARIO | L26: VR. PARCIAL
L27: =ROUND(H27*J27,0) -> 0
L28: =ROUND(H28*J28,0) -> 0
L29: =ROUND(H29*J29,0) -> 0
A30: SUBTOTAL $ | L30: =SUM(L27:L29) -> 0
A32: III. TRANSPORTES
A34: MATERIAL | F34: UNIDAD | H34: CANTIDAD | J34: VALOR UNITARIO | L34: VR. PARCIAL
A35: Transporte de materiales - electricos y otros | F35: t | L35: =ROUND(H35*J35,0) -> 0
L36: =ROUND(H36*J36,0) -> 0
A37: SUBTOTAL $ | L37: =SUM(L35:L36) -> 0
A39: IV. MANO DE OBRA
A41: TRABAJADOR | F41: UNIDAD | H41: CANTIDAD | J41: VALOR UNITARIO | L41: VR. PARCIAL
A42: Cuadrilla FF-1 (electrica especializada) | F42: HR | H42: 2 | J42: 95608 | L42: =ROUND(H42*J42,2) -> 191216
A43: profesional 1 | F43: HR | H43: 16 | J43: 28833 | L43: =ROUND(H43*J43,0) -> 461328
A44: SUBTOTAL $ | L44: =SUM(L42:L43) -> 652544
A46: TOTAL COSTO DIRECTO $ | L46: =+ROUND(L22+L30+L37+L44,2) -> 2808602
C50: EDGAR PEREZ CAMARGO
A51: PROFESIONAL DE APOYO CPSP 036 DE 2026
A52: ELABORÓ
A55: Original:Oficina Juridica
A56: Copias: Contratista, Supervisor, Interventor y Dependencia Responsable

Sheet ITEM 5.2
A1: ANALISIS DE PRECIOS UNITARIOS DE ITEMS O ACTIVIDADES NO PREVISTAS 2020-11-26 Vs.1.0
A4: HOJA 1 de 1 | B4: Fecha | C4: DD | D4: MM | E4: AA | F4: ='PRESUPUESTO OFICIAL opcion 2'!A1 -> MANTENIMIENTO CORRECTIVO DE LAS INSTALACIONES Y LA SUBESTACION ELÉCTRICA DE LA CENTRAL DE ABASTOS DEL MUNICIPIO DE YOPAL – CASANARE
C5: 14 | D5: 7 | E5: 2026
A6: ÁREA DE INFRAESTRUCTURA
A8: ANALISIS UNITARIO DE PRECIOS (APU)
A10: DATOS ESPECÍFICOS
A12: ITEM | B12: DESCRIPCIÓN | L12: UNIDAD
A13: 5.2 | B13: ='PRESUPUESTO OFICIAL '!D11 -> Suminis. e insta. De estructura bandera completa de afloramiento, subterráneo de 3 cortacircuitos más 3 pararrayos para red de 13,2kV, con puentes semiaislados, grapas, desmonte de la estructura | L13: =+'PRESUPUESTO OFICIAL '!H14 -> UND
A15: I. EQUIPO
A17: DESCRIPCIÓN | F17: UNIDAD | H17: CANTIDAD | J17: VALOR UNITARIO | L17: VR. PARCIAL
A18: Herramienta menor 10% M.O. FF-1 elect esp | F18: HR | H18: 8 | J18: 9561 | L18: =ROUND(H18*J18,0) -> 76488
A19: Herramienta menor 10% M.O. FF-1 elect esp | F19: HR | H19: 8 | J19: 9561 | L19: =ROUND(H19*J19,0) -> 76488
A20: Herramienta tensionado de linea | F20: HR | H20: 8 | J20: 5550 | L20: =ROUND(H20*J20,0) -> 44400
A21: Herramienta tensionado de linea | F21: HR | H21: 8 | J21: 5550 | L21: =ROUND(H21*J21,0) -> 44400
A22: Escalera expandible de 40 pasos dielectrica certificada g | F22: D | H22: 1 | J22: 168000 | L22: =ROUND(H22*J22,0) -> 168000
A23: Escalera expandible de 40 pasos dielectrica certificada g | F23: D | H23: 1 | J23: 168000 | L23: =ROUND(H23*J23,0) -> 168000
A24: SUBTOTAL $ | L24: =+SUM(L18:L23) -> 577776
A26: II. MATERIALES
A28: DESCRIPCIÓN | F28: UNIDAD | H28: CANTIDAD | J28: VALOR UNITARIO | L28: VR. PARCIAL
A29: Collarin de 8" a 10" por 2 salida en platina galvanizada de 1/4" | F29: und | H29: 4 | J29: 21613 | L29: =ROUND(H29*J29,0) -> 86452
A30: Cruceta metálica galva. de 2 1/2" x 2 1/2 x 3/16" x 2,5 m. -g | F30: und | H30: 4 | J30: 164710 | L30: =ROUND(H30*J30,0) -> 658840
A31: Diagonal recta en angulo de 1 1/2" x 1 1/2" x 3/16" x 1.10 m | F31: und | H31: 4 | J31: 29562 | L31: =ROUND(H31*J31,0) -> 118248
A32: Perno de maquina de 5/8" x 8" | F32: und | H32: 2 | J32: 5065 | L32: =ROUND(H32*J32,0) -> 10130
A33: Esparrago galvanizado de 5/8" x 10" con 4 tuercas y 4 arandelas | F33: und | H33: 8 | J33: 6373 | L33: =ROUND(H33*J33,0) -> 50984
A34: Arandela de presión de 1/2" | F34: und | H34: 20 | J34: 120 | L34: =ROUND(H34*J34,0) -> 2400
A35: Arandela galvanizada redonda de 1/2".- | F35: und | H35: 20 | J35: 359 | L35: =ROUND(H35*J35,0) -> 7180
A36: Arandela de presion de 5/8 | F36: und | H36: 38 | J36: 246 | L36: =ROUND(H36*J36,0) -> 9348
A37: Arandela redonda plana de 5/8 | F37: und | H37: 38 | J37: 592 | L37: =ROUND(H37*J37,0) -> 22496
A38: Cortacircuito de cañuela para 15 KV 100 A | F38: und | H38: 3 | J38: 180792 | L38: =ROUND(H38*J38,0) -> 542376
A39: Fusible hilo de 15 KV, 8 - 15 A, tipo H. | F39: und | H39: 3 | J39: 3921 | L39: =ROUND(H39*J39,0) -> 11763
A40: Pararrayos polimerico de 12 KV, 10 KA | F40: und | H40: 3 | J40: 118839 | L40: =ROUND(H40*J40,0) -> 356517
... A48: Marquillas de identificacion | F48: und | H48: 18 | J48: 1200 | L48: =ROUND(H48*J48,0) -> 21600
L49: =ROUND(H49*J49,0) -> 0
L50: =ROUND(H50*J50,0) -> 0
A51: SUBTOTAL $ | L51: =SUM(L29:L50) -> 2967786
A53: III. TRANSPORTES
A55: MATERIAL | F55: UNIDAD | H55: CANTIDAD | J55: VALOR UNITARIO | L55: VR. PARCIAL
A56: Transporte de materiales - electricos y otros | F56: t | H56: 0.7 | J56: 212619 | L56: =ROUND(H56*J56,0) -> 148833
L57: =ROUND(H57*J57,0) -> 0
A58: SUBTOTAL $ | L58: =SUM(L56:L57) -> 148833
...

Sheet ITEM 5.3
A1: ANALISIS DE PRECIOS UNITARIOS DE ITEMS O ACTIVIDADES NO PREVISTAS 2020-11-26 Vs.1.0
A4: HOJA 1 de 1 | B4: Fecha | C4: DD | D4: MM | E4: AA | F4: ='PRESUPUESTO OFICIAL opcion 2'!A1 -> MANTENIMIENTO CORRECTIVO DE LAS INSTALACIONES Y LA SUBESTACION ELÉCTRICA DE LA CENTRAL DE ABASTOS DEL MUNICIPIO DE YOPAL – CASANARE
C5: 14 | D5: 7 | E5: 2026
A6: ÁREA DE INFRAESTRUCTURA
A8: ANALISIS UNITARIO DE PRECIOS (APU)
A10: DATOS ESPECÍFICOS
A12: ITEM | B12: DESCRIPCIÓN | L12: UNIDAD
A13: 5.3 | B13: ='PRESUPUESTO OFICIAL '!D12 -> Alquiler de un transformador de potencia de media tensión incluye (alquiler, grúa hidráulica, transportes, conexiones con maniobras). -g | L13: DIA
A15: I. EQUIPO
A17: DESCRIPCIÓN | F17: UNIDAD | H17: CANTIDAD | J17: VALOR UNITARIO | L17: VR. PARCIAL
A18: Herramienta menor 10% M.O AA | F18: HR | H18: 1.067 | J18: 9561 | L18: =ROUND(H18*J18,0) -> 10202
A19: Herramienta tension de linea | F19: HR | H19: 1.067 | J19: 5550 | L19: =ROUND(H19*J19,0) -> 5922
A20: Grua 5.0 Tn - Camion | F20: HR | H20: 0.67 | J20: 186696 | L20: =ROUND(H20*J20,0) -> 125086
A21: Alqui. Transfor. Similiar a la carga del de 300 KVA MT - g | F21: D | H21: 1 | J21: 280000 | L21: =ROUND(H21*J21,0) -> 280000
A22: SUBTOTAL $ | L22: =+SUM(L18:L21) -> 421210
A24: II. MATERIALES
A26: DESCRIPCIÓN | F26: UNIDAD | H26: CANTIDAD | J26: VALOR UNITARIO | L26: VR. PARCIAL
L27: =ROUND(H27*J27,0) -> 0
L28: =ROUND(H28*J28,0) -> 0
L29: =ROUND(H29*J29,0) -> 0
A30: SUBTOTAL $ | L30: =SUM(L27:L29) -> 0
A32: III. TRANSPORTES
A34: MATERIAL | F34: UNIDAD | H34: CANTIDAD | J34: VALOR UNITARIO | L34: VR. PARCIAL
L35: =ROUND(H35*J35,0) -> 0
L36: =ROUND(H36*J36,0) -> 0
A37: SUBTOTAL $ | L37: =SUM(L35:L36) -> 0
A39: IV. MANO DE OBRA
A41: TRABAJADOR | F41: UNIDAD | H41: CANTIDAD | J41: VALOR UNITARIO | L41: VR. PARCIAL
A42: Cuadrilla FF-1 (electrica especializada) | F42: HR | H42: 1.067 | J42: 95608 | L42: =ROUND(H42*J42,0) -> 102014
L43: =ROUND(H43*J43,0) -> 0
A44: SUBTOTAL $ | L44: =SUM(L42:L43) -> 102014
A46: TOTAL COSTO DIRECTO $ | L46: =+ROUND(L22+L30+L37+L44,2) -> 523224
C50: EDGAR PEREZ CAMARGO
A51: PROFESIONAL DE APOYO CPSP 036 DE 2026
A52: ELABORÓ
A55: Original:Oficina Juridica
A56: Copias: Contratista, Supervisor, Interventor y Dependencia Responsable

Sheet ITEM 5.4
A1: ANALISIS DE PRECIOS UNITARIOS DE ITEMS O ACTIVIDADES NO PREVISTAS 2020-11-26 Vs.1.0
A4: HOJA 1 de 1 | B4: Fecha | C4: DD | D4: MM | E4: AA | F4: ='PRESUPUESTO OFICIAL opcion 2'!A1 -> MANTENIMIENTO CORRECTIVO DE LAS INSTALACIONES Y LA SUBESTACION ELÉCTRICA DE LA CENTRAL DE ABASTOS DEL MUNICIPIO DE YOPAL – CASANARE
C5: 14 | D5: 7 | E5: 2026
A6: ÁREA DE INFRAESTRUCTURA
A8: ANALISIS UNITARIO DE PRECIOS (APU)
A10: DATOS ESPECÍFICOS
A12: ITEM | B12: DESCRIPCIÓN | L12: UNIDAD
A13: 5.4 | B13: ='PRESUPUESTO OFICIAL '!D13 -> Suminis. e insta. de aceite dielectrico, sellos y válvulas para transformador de 300 KVA de MT. -g | L13: =+'PRESUPUESTO OFICIAL '!H14 -> UND
A15: I. EQUIPO
A17: DESCRIPCIÓN | F17: UNIDAD | H17: CANTIDAD | J17: VALOR UNITARIO | L17: VR. PARCIAL
A18: Herramienta menor 10% M.O AA | F18: HR | H18: 8 | J18: 9561 | L18: =ROUND(H18*J18,0) -> 76488
A19: Herramienta tension de linea | F19: HR | H19: 8 | J19: 5550 | L19: =ROUND(H19*J19,0) -> 44400
L20: =ROUND(H20*J20,0) -> 0
A21: SUBTOTAL $ | L21: =+SUM(L18:L20) -> 120888
A23: II. MATERIALES
A25: DESCRIPCIÓN | F25: UNIDAD | H25: CANTIDAD | J25: VALOR UNITARIO | L25: VR. PARCIAL
A26: Aceite mineral para transformador direléctrico.-g | F26: GL | H26: 60.5 | J26: 145320 | L26: =ROUND(H26*J26,0) -> 8791860
A27: Empaques, bornes, válvulas para transformador de 300kV de MT.-g | F27: UND | H27: 1 | J27: 840000 | L27: =ROUND(H27*J27,0) -> 840000
L28: =ROUND(H28*J28,0) -> 0
A29: SUBTOTAL $ | L29: =SUM(L26:L28) -> 9631860
A31: III. TRANSPORTES
A33: MATERIAL | F33: UNIDAD | H33: CANTIDAD | J33: VALOR UNITARIO | L33: VR. PARCIAL
A34: Transporte de materiales - (electricos y otros) | F34: t | H34: 2 | J34: 212619 | L34: =ROUND(H34*J34,0) -> 425238
L35: =ROUND(H35*J35,0) -> 0
A36: SUBTOTAL $ | L36: =SUM(L34:L35) -> 425238
A38: IV. MANO DE OBRA
A40: TRABAJADOR | F40: UNIDAD | H40: CANTIDAD | J40: VALOR UNITARIO | L40: VR. PARCIAL
A41: Cuadrilla FF-1 (electrica especializada) | F41: HR | H41: 8 | J41: 95608 | L41: =ROUND(H41*J41,0) -> 764864
L42: =ROUND(H42*J42,0) -> 0
A43: SUBTOTAL $ | L43: =SUM(L41:L42) -> 764864
A45: TOTAL COSTO DIRECTO $ | L45: =+ROUND(L21+L29+L36+L43,2) -> 10942850
C49: EDGAR PEREZ CAMARGO
A50: PROFESIONAL DE APOYO CPSP 036 DE 2026
A51: ELABORÓ
A54: Original:Oficina Juridica
A55: Copias: Contratista, Supervisor, Interventor y Dependencia Responsable

Sheet ITEM 5.5
A1: ANALISIS DE PRECIOS UNITARIOS DE ITEMS O ACTIVIDADES NO PREVISTAS 2020-11-26 Vs.1.0
A4: HOJA 1 de 1 | B4: Fecha | C4: DD | D4: MM | E4: AA | F4: ='PRESUPUESTO OFICIAL opcion 2'!A1 -> MANTENIMIENTO CORRECTIVO DE LAS INSTALACIONES Y LA SUBESTACION ELÉCTRICA DE LA CENTRAL DE ABASTOS DEL MUNICIPIO DE YOPAL – CASANARE
C5: 14 | D5: 7 | E5: 2026
A6: ÁREA DE INFRAESTRUCTURA
A8: ANALISIS UNITARIO DE PRECIOS (APU)
A10: DATOS ESPECÍFICOS
A12: ITEM | B12: DESCRIPCIÓN | L12: UNIDAD
A13: 5.5 | B13: ='PRESUPUESTO OFICIAL '!D14 -> Mantenimiento correctivo del transformador de 300 KVA de MT. Incluye:( grua hidráulica, reparación base metálica, pintura general, barnisado secado en horno, servicio de taller especializado, pruebas con corte de media tensión en un tiempo record). -g | L13: UND
A15: I. EQUIPO
A17: DESCRIPCIÓN | F17: UNIDAD | H17: CANTIDAD | J17: VALOR UNITARIO | L17: VR. PARCIAL
A18: Herramienta menor 10% M.O. FF-1 elect esp | F18: HR | H18: 8 | J18: 9561 | L18: =ROUND(H18*J18,0) -> 76488
A19: Herramienta menor 10% M.O. FF-1 elect esp | F19: HR | H19: 30 | J19: 9561 | L19: =ROUND(H19*J19,0) -> 286830
A20: Herramienta tension de linea | F20: HR | H20: 8 | J20: 5550 | L20: =ROUND(H20*J20,0) -> 44400
A21: Herramienta tension de linea | F21: HR | H21: 30 | J21: 5550 | L21: =ROUND(H21*J21,0) -> 166500
A22: Grua 5.0 Tn - camion | H22: 10 | J22: 186696 | L22: =ROUND(H22*J22,0) -> 1866960
A23: SUBTOTAL $ | L23: =+SUM(L18:L22) -> 2441178
A25: II. MATERIALES
A27: DESCRIPCIÓN | F27: UNIDAD | H27: CANTIDAD | J27: VALOR UNITARIO | L27: VR. PARCIAL
A28: Pintura esmalte poliuretano secado rapido g | F28: gl | H28: 1 | J28: 542500 | L28: =ROUND(H28*J28,0) -> 542500
A29: Wash primer B Catalizador 1/4 GL | F29: und | H29: 4 | J29: 29142 | L29: =ROUND(H29*J29,0) -> 116568
L30: =ROUND(H30*J30,0) -> 0
A31: SUBTOTAL $ | L31: =SUM(L28:L30) -> 659068
A33: III. TRANSPORTES
A35: MATERIAL | F35: UNIDAD | H35: CANTIDAD | J35: VALOR UNITARIO | L35: VR. PARCIAL
A36: Transporte de materiales - (electricos y otros) | F36: t | H36: 0.1 | J36: 212619 | L36: =ROUND(H36*J36,0) -> 21262
L37: =ROUND(H37*J37,0) -> 0
A38: SUBTOTAL $ | L38: =SUM(L36:L37) -> 21262
A40: IV. MANO DE OBRA
A42: TRABAJADOR | F42: UNIDAD | H42: CANTIDAD | J42: VALOR UNITARIO | L42: VR. PARCIAL
A43: Cuadrilla FF-1 (Electrica Especializada | F43: HR | H43: 8 | J43: 95608 | L43: =ROUND(H43*J43,0) -> 764864
A44: Cuadrilla FF-1 (Electrica Especializada | F44: HR | H44: 30 | J44: 95608 | L44: =ROUND(H44*J44,0) -> 2868240
A45: SUBTOTAL $ | L45: =SUM(L43:L44) -> 3633104
A47: TOTAL COSTO DIRECTO $ | L47: =+ROUND(L23+L31+L38+L45,0) -> 6754612
C51: EDGAR PEREZ CAMARGO
A52: PROFESIONAL DE APOYO CPSP 036 DE 2026
A53: ELABORÓ
A56: Original:Oficina Juridica
A57: Copias: Contratista, Supervisor, Interventor y Dependencia Responsable
