Workbook
Name Adm: [2]PRESUPUESTO!$F$237
Name Adm: #REF!
Name base: [3]BaseDatos!$A$2:$F$505
Name base: #REF!
Name CAP.1: PPTO!#REF!
Name CAP.1: ITEMS!#REF!
Name CAP.1: PPTO!#REF!
Name CAP.2: PPTO!#REF!
Name CAP.2: ITEMS!#REF!
Name CAP.2: PPTO!#REF!
Name CAP.3: PPTO!#REF!
Name CAP.3: ITEMS!#REF!
Name CAP.3: PPTO!#REF!
Name CAP.4: [4]PPTO!$C$37
Name CAP.4: #REF!
Name CAP.5: [4]PPTO!$C$44
Name CAP.5: #REF!
Name CAP.6: [4]PPTO!$C$50
Name CAP.6: #REF!
Name CAP.7: [4]PPTO!$C$60
Name CAP.7: #REF!
Name CAP.8: [4]PPTO!$C$73
Name CAP.8: #REF!
Name CAP.9: [4]PPTO!$C$79
Name CAP.9: #REF!
Name equipo: [5]Equipo!$A$7:$A$65536
Name equipo: #REF!
Name EQUIPO_2: [6]Equipo!$A$7:$A$65536
Name EQUIPO_2: #REF!
Name Imprev: [2]PRESUPUESTO!$F$238
Name Imprev: #REF!
Name inf: #REF!
Name inf: #REF!
Name item: #REF!
Name IvaSUtl: [2]PRESUPUESTO!#REF!
Name IvaSUtl: #REF!
Name materiales: [5]materiales!$A$7:$A$1317
Name materiales: #REF!
Name MATERIALES_2: [6]materiales!$A$7:$A$1317
Name MATERIALES_2: #REF!
Name otros: [5]otros!$A$6:$A$1235
Name otros: #REF!
Name OTROS_2: [6]otros!$A$6:$A$1235
Name OTROS_2: #REF!
Name Utilidad: [2]PRESUPUESTO!$F$239
Name Utilidad: #REF!

Sheet INFORMACION
A2: PROYECTO:
A3: "CONSULTORIA PARA EL ANALISIS Y DIAGNOSITCO DEL ESTADO ESTRUCTURAL Y DE LAS REDES HIDROSANITARIAS DE LA EDIFICACION INCLUYENDO LA EVALUACION DEL SISTEMA HIDRAULICO DEL SOTANO DEL PALACIO DE JUSTICIA NUEVO DE ARAUCA, UBICADO EN LA CALLE 21, Y LA ELABORACION DE UNA PROPUESTA TECNICA PARA LA OPTIMIZACION Y/O REPARACIONES NECESARIAS"
A5: LOCALIZACIÓN:
A6: ARAUCA, ARAUCA
A8: FECHA:
A9: MARZO DE 2025
A11: CLIENTE:
C16: =+A6 -> ARAUCA, ARAUCA
A21: DURACION:
A22: 3 | C22: meses
A25: ELABORO: | C25: ING. EDGAR VILLEGAS PALLARES
C26: MP 54202136467 NTS

Sheet RENDIMIENTO
B3: ITEM | C3: DESCRIPCIÓN | D3: UND | E3: CANTIDAD | F3: RENDIMIENTO | H3: TOTAL
F4: X CUADRILLA | G4: # CUARILLAS | H4: DIAS | I4: MESES
B6: =PPTO!C8 -> ARAUCA, ARAUCA
B7: CAP.1 | C7: =VLOOKUP(B7,PPTO!$C$6:$H$60,2,0) -> PRELIMINARES Y REPARACIONES | L7: =CONCATENATE(B7," ","-"," ",C7) -> CAP.1 - PRELIMINARES Y REPARACIONES
B8: 1.1 | C8: =VLOOKUP(B8,PPTO!$C$6:$H$60,2,0) -> #N/A | D8: =VLOOKUP(B8,PPTO!$C$6:$H$60,3,0) -> #N/A | E8: =VLOOKUP(B8,PPTO!$C$6:$H$60,4,0) -> #N/A | F8: =ROUND(VLOOKUP(B8,APUS!$J$140:$Z$231,8,0),2) -> #N/A | G8: 2 | H8: =ROUNDUP(E8/(F8*G8),0) -> #N/A | I8: =ROUND(H8/30,2) -> #N/A | L8: =CONCATENATE(B8," ","-"," ",C8) -> #N/A
B9: 1.2 | C9: =VLOOKUP(B9,PPTO!$C$6:$H$60,2,0) -> #N/A | D9: =VLOOKUP(B9,PPTO!$C$6:$H$60,3,0) -> #N/A | E9: =VLOOKUP(B9,PPTO!$C$6:$H$60,4,0) -> #N/A | F9: =ROUND(VLOOKUP(B9,APUS!$J$140:$Z$231,8,0),2) -> #N/A | G9: 4 | H9: =ROUNDUP(E9/(F9*G9),0) -> #N/A | I9: =ROUND(H9/30,2) -> #N/A | L9: =CONCATENATE(B9," ","-"," ",C9) -> #N/A
B10: 1.3 | C10: =VLOOKUP(B10,PPTO!$C$6:$H$60,2,0) -> #N/A | D10: =VLOOKUP(B10,PPTO!$C$6:$H$60,3,0) -> #N/A | E10: =VLOOKUP(B10,PPTO!$C$6:$H$60,4,0) -> #N/A | F10: =ROUND(VLOOKUP(B10,APUS!$J$140:$Z$231,8,0),2) -> #N/A | G10: 2 | H10: =ROUNDUP(E10/(F10*G10),0) -> #N/A | I10: =ROUND(H10/30,2) -> #N/A | L10: =CONCATENATE(B10," ","-"," ",C10) -> #N/A
B11: 1.4 | C11: =VLOOKUP(B11,PPTO!$C$6:$H$60,2,0) -> #N/A | D11: =VLOOKUP(B11,PPTO!$C$6:$H$60,3,0) -> #N/A | E11: =VLOOKUP(B11,PPTO!$C$6:$H$60,4,0) -> #N/A | F11: =ROUND(VLOOKUP(B11,APUS!$J$140:$Z$231,8,0),2) -> #N/A | G11: 1 | H11: =ROUNDUP(E11/(F11*G11),0) -> #N/A | I11: =ROUND(H11/30,2) -> #N/A | L11: =CONCATENATE(B11," ","-"," ",C11) -> #N/A
B12: 1.5 | C12: =VLOOKUP(B12,PPTO!$C$6:$H$60,2,0) -> #N/A | D12: =VLOOKUP(B12,PPTO!$C$6:$H$60,3,0) -> #N/A | E12: =VLOOKUP(B12,PPTO!$C$6:$H$60,4,0) -> #N/A | F12: =ROUND(VLOOKUP(B12,APUS!$J$140:$Z$231,8,0),2) -> #N/A | G12: 1 | H12: =ROUNDUP(E12/(F12*G12),0) -> #N/A | I12: =ROUND(H12/30,2) -> #N/A | L12: =CONCATENATE(B12," ","-"," ",C12) -> #N/A
B13: 1.6 | C13: =VLOOKUP(B13,PPTO!$C$6:$H$60,2,0) -> #N/A | D13: =VLOOKUP(B13,PPTO!$C$6:$H$60,3,0) -> #N/A | E13: =VLOOKUP(B13,PPTO!$C$6:$H$60,4,0) -> #N/A | F13: =ROUND(VLOOKUP(B13,APUS!$J$140:$Z$231,8,0),2) -> #N/A | G13: 4 | H13: =ROUNDUP(E13/(F13*G13),0) -> #N/A | I13: =ROUND(H13/30,2) -> #N/A | L13: =CONCATENATE(B13," ","-"," ",C13) -> #N/A
B14: 1.7 | C14: =VLOOKUP(B14,PPTO!$C$6:$H$60,2,0) -> #N/A | D14: =VLOOKUP(B14,PPTO!$C$6:$H$60,3,0) -> #N/A | E14: =VLOOKUP(B14,PPTO!$C$6:$H$60,4,0) -> #N/A | F14: =ROUND(VLOOKUP(B14,APUS!$J$140:$Z$231,8,0),2) -> #N/A | G14: 1 | H14: =ROUNDUP(E14/(F14*G14),0) -> #N/A | I14: =ROUND(H14/30,2) -> #N/A | L14: =CONCATENATE(B14," ","-"," ",C14) -> #N/A
B15: 1.8 | C15: =VLOOKUP(B15,PPTO!$C$6:$H$60,2,0) -> #N/A | D15: =VLOOKUP(B15,PPTO!$C$6:$H$60,3,0) -> #N/A | E15: =VLOOKUP(B15,PPTO!$C$6:$H$60,4,0) -> #N/A | F15: =ROUND(VLOOKUP(B15,APUS!$J$140:$Z$231,8,0),2) -> #N/A | G15: 1 | H15: =ROUNDUP(E15/(F15*G15),0) -> #N/A | I15: =ROUND(H15/30,2) -> #N/A | L15: =CONCATENATE(B15," ","-"," ",C15) -> #N/A
B16: 1.9 | C16: =VLOOKUP(B16,PPTO!$C$6:$H$60,2,0) -> #N/A | D16: =VLOOKUP(B16,PPTO!$C$6:$H$60,3,0) -> #N/A | E16: =VLOOKUP(B16,PPTO!$C$6:$H$60,4,0) -> #N/A | F16: =ROUND(VLOOKUP(B16,APUS!$J$140:$Z$231,8,0),2) -> #N/A | G16: 2 | H16: =ROUNDUP(E16/(F16*G16),0) -> #N/A | I16: =ROUND(H16/30,2) -> #N/A | L16: =CONCATENATE(B16," ","-"," ",C16) -> #N/A
B17: CAP.2 | C17: =VLOOKUP(B17,PPTO!$C$6:$H$60,2,0) -> RED HIDRAULICA | L17: =CONCATENATE(B17," ","-"," ",C17) -> CAP.2 - RED HIDRAULICA
B18: 2.1 | C18: =VLOOKUP(B18,PPTO!$C$6:$H$60,2,0) -> #N/A | D18: =VLOOKUP(B18,PPTO!$C$6:$H$60,3,0) -> #N/A | E18: =VLOOKUP(B18,PPTO!$C$6:$H$60,4,0) -> #N/A | F18: =ROUND(VLOOKUP(B18,APUS!$J$140:$Z$231,8,0),2) -> #N/A | G18: 8 | H18: =ROUNDUP(E18/(F18*G18),0) -> #N/A | I18: =ROUND(H18/30,2) -> #N/A | L18: =CONCATENATE(B18," ","-"," ",C18) -> #N/A
B19: 2.2 | C19: =VLOOKUP(B19,PPTO!$C$6:$H$60,2,0) -> #N/A | D19: =VLOOKUP(B19,PPTO!$C$6:$H$60,3,0) -> #N/A | E19: =VLOOKUP(B19,PPTO!$C$6:$H$60,4,0) -> #N/A | F19: =ROUND(VLOOKUP(B19,APUS!$J$140:$Z$231,8,0),2) -> #N/A | G19: 2 | H19: =ROUNDUP(E19/(F19*G19),0) -> #N/A | I19: =ROUND(H19/30,2) -> #N/A | L19: =CONCATENATE(B19," ","-"," ",C19) -> #N/A
B20: 2.3 | C20: =VLOOKUP(B20,PPTO!$C$6:$H$60,2,0) -> #N/A | D20: =VLOOKUP(B20,PPTO!$C$6:$H$60,3,0) -> #N/A | E20: =VLOOKUP(B20,PPTO!$C$6:$H$60,4,0) -> #N/A | F20: =ROUND(VLOOKUP(B20,APUS!$J$140:$Z$231,8,0),2) -> #N/A | G20: 8 | H20: =ROUNDUP(E20/(F20*G20),0) -> #N/A | I20: =ROUND(H20/30,2) -> #N/A | L20: =CONCATENATE(B20," ","-"," ",C20) -> #N/A
B21: 2.4 | C21: =VLOOKUP(B21,PPTO!$C$6:$H$60,2,0) -> #N/A | D21: =VLOOKUP(B21,PPTO!$C$6:$H$60,3,0) -> #N/A | E21: =VLOOKUP(B21,PPTO!$C$6:$H$60,4,0) -> #N/A | F21: =ROUND(VLOOKUP(B21,APUS!$J$140:$Z$231,8,0),2) -> #N/A | G21: 10 | H21: =ROUNDUP(E21/(F21*G21),0) -> #N/A | I21: =ROUND(H21/30,2) -> #N/A | L21: =CONCATENATE(B21," ","-"," ",C21) -> #N/A
B22: 2.5 | C22: =VLOOKUP(B22,PPTO!$C$6:$H$60,2,0) -> #N/A | D22: =VLOOKUP(B22,PPTO!$C$6:$H$60,3,0) -> #N/A | E22: =VLOOKUP(B22,PPTO!$C$6:$H$60,4,0) -> #N/A | F22: =ROUND(VLOOKUP(B22,APUS!$J$140:$Z$231,8,0),2) -> #N/A | G22: 15 | H22: =ROUNDUP(E22/(F22*G22),0) -> #N/A | I22: =ROUND(H22/30,2) -> #N/A | L22: =CONCATENATE(B22," ","-"," ",C22) -> #N/A
B23: 2.6 | C23: =VLOOKUP(B23,PPTO!$C$6:$H$60,2,0) -> #N/A | D23: =VLOOKUP(B23,PPTO!$C$6:$H$60,3,0) -> #N/A | E23: =VLOOKUP(B23,PPTO!$C$6:$H$60,4,0) -> #N/A | F23: =ROUND(VLOOKUP(B23,APUS!$J$140:$Z$231,8,0),2) -> #N/A | G23: 2 | H23: =ROUNDUP(E23/(F23*G23),0) -> #N/A | I23: =ROUND(H23/30,2) -> #N/A | L23: =CONCATENATE(B23," ","-"," ",C23) -> #N/A
B24: CAP.3 | C24: =VLOOKUP(B24,PPTO!$C$6:$H$60,2,0) -> RED CONTRAINCENDIOS | L24: =CONCATENATE(B24," ","-"," ",C24) -> CAP.3 - RED CONTRAINCENDIOS
B25: 3.1 | C25: =VLOOKUP(B25,PPTO!$C$6:$H$60,2,0) -> #N/A | D25: =VLOOKUP(B25,PPTO!$C$6:$H$60,3,0) -> #N/A | E25: =VLOOKUP(B25,PPTO!$C$6:$H$60,4,0) -> #N/A | F25: =ROUND(VLOOKUP(B25,APUS!$J$140:$Z$231,8,0),2) -> #N/A | G25: 3 | H25: =ROUNDUP(E25/(F25*G25),0) -> #N/A | I25: =ROUND(H25/30,2) -> #N/A | L25: =CONCATENATE(B25," ","-"," ",C25) -> #N/A
B26: 3.2 | C26: =VLOOKUP(B26,PPTO!$C$6:$H$60,2,0) -> #N/A | D26: =VLOOKUP(B26,PPTO!$C$6:$H$60,3,0) -> #N/A | E26: =VLOOKUP(B26,PPTO!$C$6:$H$60,4,0) -> #N/A | F26: =ROUND(VLOOKUP(B26,APUS!$J$140:$Z$231,8,0),2) -> #N/A | G26: 3 | H26: =ROUNDUP(E26/(F26*G26),0) -> #N/A | I26: =ROUND(H26/30,2) -> #N/A | L26: =CONCATENATE(B26," ","-"," ",C26) -> #N/A
B27: 3.3 | C27: =VLOOKUP(B27,PPTO!$C$6:$H$60,2,0) -> #N/A | D27: =VLOOKUP(B27,PPTO!$C$6:$H$60,3,0) -> #N/A | E27: =VLOOKUP(B27,PPTO!$C$6:$H$60,4,0) -> #N/A | F27: =ROUND(VLOOKUP(B27,APUS!$J$140:$Z$231,8,0),2) -> #N/A | G27: 2 | H27: =ROUNDUP(E27/(F27*G27),0) -> #N/A | I27: =ROUND(H27/30,2) -> #N/A | L27: =CONCATENATE(B27," ","-"," ",C27) -> #N/A
B28: 3.4 | C28: =VLOOKUP(B28,PPTO!$C$6:$H$60,2,0) -> #N/A | D28: =VLOOKUP(B28,PPTO!$C$6:$H$60,3,0) -> #N/A | E28: =VLOOKUP(B28,PPTO!$C$6:$H$60,4,0) -> #N/A | F28: =ROUND(VLOOKUP(B28,APUS!$J$140:$Z$231,8,0),2) -> #N/A | G28: 8 | H28: =ROUNDUP(E28/(F28*G28),0) -> #N/A | I28: =ROUND(H28/30,2) -> #N/A | L28: =CONCATENATE(B28," ","-"," ",C28) -> #N/A
B29: 3.5 | C29: =VLOOKUP(B29,PPTO!$C$6:$H$60,2,0) -> #N/A | D29: =VLOOKUP(B29,PPTO!$C$6:$H$60,3,0) -> #N/A | E29: =VLOOKUP(B29,PPTO!$C$6:$H$60,4,0) -> #N/A | F29: =ROUND(VLOOKUP(B29,APUS!$J$140:$Z$231,8,0),2) -> #N/A | G29: 2 | H29: =ROUNDUP(E29/(F29*G29),0) -> #N/A | I29: =ROUND(H29/30,2) -> #N/A | L29: =CONCATENATE(B29," ","-"," ",C29) -> #N/A
B30: 3.6 | C30: =VLOOKUP(B30,PPTO!$C$6:$H$60,2,0) -> #N/A | D30: =VLOOKUP(B30,PPTO!$C$6:$H$60,3,0) -> #N/A | E30: =VLOOKUP(B30,PPTO!$C$6:$H$60,4,0) -> #N/A | F30: =ROUND(VLOOKUP(B30,APUS!$J$140:$Z$231,8,0),2) -> #N/A | G30: 2 | H30: =ROUNDUP(E30/(F30*G30),0) -> #N/A | I30: =ROUND(H30/30,2) -> #N/A | L30: =CONCATENATE(B30," ","-"," ",C30) -> #N/A
B31: 3.7 | C31: =VLOOKUP(B31,PPTO!$C$6:$H$60,2,0) -> #N/A | D31: =VLOOKUP(B31,PPTO!$C$6:$H$60,3,0) -> #N/A | E31: =VLOOKUP(B31,PPTO!$C$6:$H$60,4,0) -> #N/A | F31: =ROUND(VLOOKUP(B31,APUS!$J$140:$Z$231,8,0),2) -> #N/A | G31: 3 | H31: =ROUNDUP(E31/(F31*G31),0) -> #N/A | I31: =ROUND(H31/30,2) -> #N/A | L31: =CONCATENATE(B31," ","-"," ",C31) -> #N/A
B32: 3.8 | C32: =VLOOKUP(B32,PPTO!$C$6:$H$60,2,0) -> #N/A | D32: =VLOOKUP(B32,PPTO!$C$6:$H$60,3,0) -> #N/A | E32: =VLOOKUP(B32,PPTO!$C$6:$H$60,4,0) -> #N/A | F32: =ROUND(VLOOKUP(B32,APUS!$J$140:$Z$231,8,0),2) -> #N/A | G32: 2 | H32: =ROUNDUP(E32/(F32*G32),0) -> #N/A | I32: =ROUND(H32/30,2) -> #N/A | L32: =CONCATENATE(B32," ","-"," ",C32) -> #N/A
B33: 3.9 | C33: =VLOOKUP(B33,PPTO!$C$6:$H$60,2,0) -> #N/A | D33: =VLOOKUP(B33,PPTO!$C$6:$H$60,3,0) -> #N/A | E33: =VLOOKUP(B33,PPTO!$C$6:$H$60,4,0) -> #N/A | F33: =ROUND(VLOOKUP(B33,APUS!$J$140:$Z$231,8,0),2) -> #N/A | G33: 2 | H33: =ROUNDUP(E33/(F33*G33),0) -> #N/A | I33: =ROUND(H33/30,2) -> #N/A | L33: =CONCATENATE(B33," ","-"," ",C33) -> #N/A
B34: 3.10 | C34: =VLOOKUP(B34,PPTO!$C$6:$H$60,2,0) -> #N/A | D34: =VLOOKUP(B34,PPTO!$C$6:$H$60,3,0) -> #N/A | E34: =VLOOKUP(B34,PPTO!$C$6:$H$60,4,0) -> #N/A | F34: =ROUND(VLOOKUP(B34,APUS!$J$140:$Z$231,8,0),2) -> #N/A | G34: 2 | H34: =ROUNDUP(E34/(F34*G34),0) -> #N/A | I34: =ROUND(H34/30,2) -> #N/A | L34: =CONCATENATE(B34," ","-"," ",C34) -> #N/A
B35: 3.11 | C35: =VLOOKUP(B35,PPTO!$C$6:$H$60,2,0) -> #N/A | D35: =VLOOKUP(B35,PPTO!$C$6:$H$60,3,0) -> #N/A | E35: =VLOOKUP(B35,PPTO!$C$6:$H$60,4,0) -> #N/A | F35: =ROUND(VLOOKUP(B35,APUS!$J$140:$Z$231,8,0),2) -> #N/A | G35: 2 | H35: =ROUNDUP(E35/(F35*G35),0) -> #N/A | I35: =ROUND(H35/30,2) -> #N/A | L35: =CONCATENATE(B35," ","-"," ",C35) -> #N/A
B36: 3.12 | C36: =VLOOKUP(B36,PPTO!$C$6:$H$60,2,0) -> #N/A | D36: =VLOOKUP(B36,PPTO!$C$6:$H$60,3,0) -> #N/A | E36: =VLOOKUP(B36,PPTO!$C$6:$H$60,4,0) -> #N/A | F36: =ROUND(VLOOKUP(B36,APUS!$J$140:$Z$231,8,0),2) -> #N/A | G36: 2 | H36: =ROUNDUP(E36/(F36*G36),0) -> #N/A | I36: =ROUND(H36/30,2) -> #N/A | L36: =CONCATENATE(B36," ","-"," ",C36) -> #N/A
... B38: 3.14 | C38: =VLOOKUP(B38,PPTO!$C$6:$H$60,2,0) -> #N/A | D38: =VLOOKUP(B38,PPTO!$C$6:$H$60,3,0) -> #N/A | E38: =VLOOKUP(B38,PPTO!$C$6:$H$60,4,0) -> #N/A | F38: =ROUND(VLOOKUP(B38,APUS!$J$140:$Z$231,8,0),2) -> #N/A | G38: 2 | H38: =ROUNDUP(E38/(F38*G38),0) -> #N/A | I38: =ROUND(H38/30,2) -> #N/A | L38: =CONCATENATE(B38," ","-"," ",C38) -> #N/A
B39: CAP.4 | C39: =VLOOKUP(B39,PPTO!$C$6:$H$60,2,0) -> #N/A | L39: =CONCATENATE(B39," ","-"," ",C39) -> #N/A
B40: 4.1 | C40: =VLOOKUP(B40,PPTO!$C$6:$H$60,2,0) -> #N/A | D40: =VLOOKUP(B40,PPTO!$C$6:$H$60,3,0) -> #N/A | E40: =VLOOKUP(B40,PPTO!$C$6:$H$60,4,0) -> #N/A | F40: =ROUND(VLOOKUP(B40,APUS!$J$140:$Z$231,8,0),2) -> #N/A | G40: 2 | H40: =ROUNDUP(E40/(F40*G40),0) -> #N/A | I40: =ROUND(H40/30,2) -> #N/A | L40: =CONCATENATE(B40," ","-"," ",C40) -> #N/A
B41: 4.2 | C41: =VLOOKUP(B41,PPTO!$C$6:$H$60,2,0) -> #N/A | D41: =VLOOKUP(B41,PPTO!$C$6:$H$60,3,0) -> #N/A | E41: =VLOOKUP(B41,PPTO!$C$6:$H$60,4,0) -> #N/A | F41: =ROUND(VLOOKUP(B41,APUS!$J$140:$Z$231,8,0),2) -> #N/A | G41: 2 | H41: =ROUNDUP(E41/(F41*G41),0) -> #N/A | I41: =ROUND(H41/30,2) -> #N/A | L41: =CONCATENATE(B41," ","-"," ",C41) -> #N/A
B42: 4.3 | C42: =VLOOKUP(B42,PPTO!$C$6:$H$60,2,0) -> #N/A | D42: =VLOOKUP(B42,PPTO!$C$6:$H$60,3,0) -> #N/A | E42: =VLOOKUP(B42,PPTO!$C$6:$H$60,4,0) -> #N/A | F42: =ROUND(VLOOKUP(B42,APUS!$J$140:$Z$231,8,0),2) -> #N/A | G42: 2 | H42: =ROUNDUP(E42/(F42*G42),0) -> #N/A | I42: =ROUND(H42/30,2) -> #N/A | L42: =CONCATENATE(B42," ","-"," ",C42) -> #N/A
B43: 4.4 | C43: =VLOOKUP(B43,PPTO!$C$6:$H$60,2,0) -> #N/A | D43: =VLOOKUP(B43,PPTO!$C$6:$H$60,3,0) -> #N/A | E43: =VLOOKUP(B43,PPTO!$C$6:$H$60,4,0) -> #N/A | F43: =ROUND(VLOOKUP(B43,APUS!$J$140:$Z$231,8,0),2) -> #N/A | G43: 2 | H43: =ROUNDUP(E43/(F43*G43),0) -> #N/A | I43: =ROUND(H43/30,2) -> #N/A | L43: =CONCATENATE(B43," ","-"," ",C43) -> #N/A
B44: 4.5 | C44: =VLOOKUP(B44,PPTO!$C$6:$H$60,2,0) -> #N/A | D44: =VLOOKUP(B44,PPTO!$C$6:$H$60,3,0) -> #N/A | E44: =VLOOKUP(B44,PPTO!$C$6:$H$60,4,0) -> #N/A | F44: =ROUND(VLOOKUP(B44,APUS!$J$140:$Z$231,8,0),2) -> #N/A | G44: 2 | H44: =ROUNDUP(E44/(F44*G44),0) -> #N/A | I44: =ROUND(H44/30,2) -> #N/A | L44: =CONCATENATE(B44," ","-"," ",C44) -> #N/A
...

Sheet ITEMS
P2: UNITARIOS O TOTALES | Q2: UNITARIOS | S2: UNITARIOS
C3: PRESUPUESTO GENERAL DE OBRA | P3: Decimales | Q3: 0 | S3: TOTALES
C4: OBRA: | D4: =#REF! -> #REF!
C5: =CONCATENATE(INFORMACION!A5,INFORMACION!A6) -> LOCALIZACIÓN:ARAUCA, ARAUCA | F5: FECHA: | H5: =#REF! -> #REF!
C7: ITEM | D7: DESCRIPCIÓN | E7: UND | F7: CANTIDAD | G7: VR. UNIT. | H7: VR. TOTAL | K7: COSTO DIRECTO | L7: COSTO INDIRECTO | M7: COSTO UNIT. | N7: COSTO TOTAL | O7: I. HERR | P7: II. MAT. | Q7: III. TRANSP. | R7: IV. MO | S7: TOTAL
C9: CAP.1 | D9: =VLOOKUP(C9,PPTO!$C$6:$H$60,2,0) -> PRELIMINARES Y REPARACIONES
C10: 1.1 | D10: =VLOOKUP(C10,PPTO!$C$6:$H$60,2,0) -> #N/A | E10: =VLOOKUP(C10,PPTO!$C$6:$H$60,3,0) -> #N/A | F10: =IFERROR(SUMIFS(PPTO!$F$6:$F$60,PPTO!$C$6:$C$60,ITEMS!C10),0) -> 0 | G10: =VLOOKUP(C10,PPTO!$C$6:$H$60,5,0) -> #N/A | H10: =+ROUND(F10*G10,$Q$3) -> #N/A | K10: =ROUND(F10*M10,$Q$3) -> #N/A | L10: =ROUND(F10*N10,$Q$3) -> #N/A | M10: =ROUND(VLOOKUP(C10,APUS!$H$140:$V$231,14,0),2) -> #N/A | N10: =ROUND(VLOOKUP(C10,APUS!$I$140:$V$231,13,0),2) -> #N/A | O10: =ROUND(VLOOKUP(C10,APUS!$D$140:$Z$231,23,0),2) -> #N/A | P10: =ROUND(VLOOKUP(C10,APUS!$E$140:$Z$231,22,0),2) -> #N/A | Q10: =ROUND(VLOOKUP(C10,APUS!$F$140:$Z$231,21,0),2) -> #N/A | R10: =ROUND(VLOOKUP(C10,APUS!$G$140:$Z$231,20,0),2) -> #N/A | S10: =ROUND(SUM(O10:R10),$Q$3) -> #N/A
C11: 1.2 | D11: =VLOOKUP(C11,PPTO!$C$6:$H$60,2,0) -> #N/A | E11: =VLOOKUP(C11,PPTO!$C$6:$H$60,3,0) -> #N/A | F11: =IFERROR(SUMIFS(PPTO!$F$6:$F$60,PPTO!$C$6:$C$60,ITEMS!C11),0) -> 0 | G11: =VLOOKUP(C11,PPTO!$C$6:$H$60,5,0) -> #N/A | H11: =+ROUND(F11*G11,$Q$3) -> #N/A | K11: =ROUND(F11*M11,$Q$3) -> #N/A | L11: =ROUND(F11*N11,$Q$3) -> #N/A | M11: =ROUND(VLOOKUP(C11,APUS!$H$140:$V$231,14,0),2) -> #N/A | N11: =ROUND(VLOOKUP(C11,APUS!$I$140:$V$231,13,0),2) -> #N/A | O11: =ROUND(VLOOKUP(C11,APUS!$D$140:$Z$231,23,0),2) -> #N/A | P11: =ROUND(VLOOKUP(C11,APUS!$E$140:$Z$231,22,0),2) -> #N/A | Q11: =ROUND(VLOOKUP(C11,APUS!$F$140:$Z$231,21,0),2) -> #N/A | R11: =ROUND(VLOOKUP(C11,APUS!$G$140:$Z$231,20,0),2) -> #N/A | S11: =ROUND(SUM(O11:R11),$Q$3) -> #N/A
C12: 1.3 | D12: =VLOOKUP(C12,PPTO!$C$6:$H$60,2,0) -> #N/A | E12: =VLOOKUP(C12,PPTO!$C$6:$H$60,3,0) -> #N/A | F12: =IFERROR(SUMIFS(PPTO!$F$6:$F$60,PPTO!$C$6:$C$60,ITEMS!C12),0) -> 0 | G12: =VLOOKUP(C12,PPTO!$C$6:$H$60,5,0) -> #N/A | H12: =+ROUND(F12*G12,$Q$3) -> #N/A | K12: =ROUND(F12*M12,$Q$3) -> #N/A | L12: =ROUND(F12*N12,$Q$3) -> #N/A | M12: =ROUND(VLOOKUP(C12,APUS!$H$140:$V$231,14,0),2) -> #N/A | N12: =ROUND(VLOOKUP(C12,APUS!$I$140:$V$231,13,0),2) -> #N/A | O12: =ROUND(VLOOKUP(C12,APUS!$D$140:$Z$231,23,0),2) -> #N/A | P12: =ROUND(VLOOKUP(C12,APUS!$E$140:$Z$231,22,0),2) -> #N/A | Q12: =ROUND(VLOOKUP(C12,APUS!$F$140:$Z$231,21,0),2) -> #N/A | R12: =ROUND(VLOOKUP(C12,APUS!$G$140:$Z$231,20,0),2) -> #N/A | S12: =ROUND(SUM(O12:R12),$Q$3) -> #N/A
C13: 1.4 | D13: =VLOOKUP(C13,PPTO!$C$6:$H$60,2,0) -> #N/A | E13: =VLOOKUP(C13,PPTO!$C$6:$H$60,3,0) -> #N/A | F13: =IFERROR(SUMIFS(PPTO!$F$6:$F$60,PPTO!$C$6:$C$60,ITEMS!C13),0) -> 0 | G13: =VLOOKUP(C13,PPTO!$C$6:$H$60,5,0) -> #N/A | H13: =+ROUND(F13*G13,$Q$3) -> #N/A | K13: =ROUND(F13*M13,$Q$3) -> #N/A | L13: =ROUND(F13*N13,$Q$3) -> #N/A | M13: =ROUND(VLOOKUP(C13,APUS!$H$140:$V$231,14,0),2) -> #N/A | N13: =ROUND(VLOOKUP(C13,APUS!$I$140:$V$231,13,0),2) -> #N/A | O13: =ROUND(VLOOKUP(C13,APUS!$D$140:$Z$231,23,0),2) -> #N/A | P13: =ROUND(VLOOKUP(C13,APUS!$E$140:$Z$231,22,0),2) -> #N/A | Q13: =ROUND(VLOOKUP(C13,APUS!$F$140:$Z$231,21,0),2) -> #N/A | R13: =ROUND(VLOOKUP(C13,APUS!$G$140:$Z$231,20,0),2) -> #N/A | S13: =ROUND(SUM(O13:R13),$Q$3) -> #N/A
C14: 1.5 | D14: =VLOOKUP(C14,PPTO!$C$6:$H$60,2,0) -> #N/A | E14: =VLOOKUP(C14,PPTO!$C$6:$H$60,3,0) -> #N/A | F14: =IFERROR(SUMIFS(PPTO!$F$6:$F$60,PPTO!$C$6:$C$60,ITEMS!C14),0) -> 0 | G14: =VLOOKUP(C14,PPTO!$C$6:$H$60,5,0) -> #N/A | H14: =+ROUND(F14*G14,$Q$3) -> #N/A | K14: =ROUND(F14*M14,$Q$3) -> #N/A | L14: =ROUND(F14*N14,$Q$3) -> #N/A | M14: =ROUND(VLOOKUP(C14,APUS!$H$140:$V$231,14,0),2) -> #N/A | N14: =ROUND(VLOOKUP(C14,APUS!$I$140:$V$231,13,0),2) -> #N/A | O14: =ROUND(VLOOKUP(C14,APUS!$D$140:$Z$231,23,0),2) -> #N/A | P14: =ROUND(VLOOKUP(C14,APUS!$E$140:$Z$231,22,0),2) -> #N/A | Q14: =ROUND(VLOOKUP(C14,APUS!$F$140:$Z$231,21,0),2) -> #N/A | R14: =ROUND(VLOOKUP(C14,APUS!$G$140:$Z$231,20,0),2) -> #N/A | S14: =ROUND(SUM(O14:R14),$Q$3) -> #N/A
C15: 1.6 | D15: =VLOOKUP(C15,PPTO!$C$6:$H$60,2,0) -> #N/A | E15: =VLOOKUP(C15,PPTO!$C$6:$H$60,3,0) -> #N/A | F15: =IFERROR(SUMIFS(PPTO!$F$6:$F$60,PPTO!$C$6:$C$60,ITEMS!C15),0) -> 0 | G15: =VLOOKUP(C15,PPTO!$C$6:$H$60,5,0) -> #N/A | H15: =+ROUND(F15*G15,$Q$3) -> #N/A | K15: =ROUND(F15*M15,$Q$3) -> #N/A | L15: =ROUND(F15*N15,$Q$3) -> #N/A | M15: =ROUND(VLOOKUP(C15,APUS!$H$140:$V$231,14,0),2) -> #N/A | N15: =ROUND(VLOOKUP(C15,APUS!$I$140:$V$231,13,0),2) -> #N/A | O15: =ROUND(VLOOKUP(C15,APUS!$D$140:$Z$231,23,0),2) -> #N/A | P15: =ROUND(VLOOKUP(C15,APUS!$E$140:$Z$231,22,0),2) -> #N/A | Q15: =ROUND(VLOOKUP(C15,APUS!$F$140:$Z$231,21,0),2) -> #N/A | R15: =ROUND(VLOOKUP(C15,APUS!$G$140:$Z$231,20,0),2) -> #N/A | S15: =ROUND(SUM(O15:R15),$Q$3) -> #N/A
C16: 1.7 | D16: =VLOOKUP(C16,PPTO!$C$6:$H$60,2,0) -> #N/A | E16: =VLOOKUP(C16,PPTO!$C$6:$H$60,3,0) -> #N/A | F16: =IFERROR(SUMIFS(PPTO!$F$6:$F$60,PPTO!$C$6:$C$60,ITEMS!C16),0) -> 0 | G16: =VLOOKUP(C16,PPTO!$C$6:$H$60,5,0) -> #N/A | H16: =+ROUND(F16*G16,$Q$3) -> #N/A | K16: =ROUND(F16*M16,$Q$3) -> #N/A | L16: =ROUND(F16*N16,$Q$3) -> #N/A | M16: =ROUND(VLOOKUP(C16,APUS!$H$140:$V$231,14,0),2) -> #N/A | N16: =ROUND(VLOOKUP(C16,APUS!$I$140:$V$231,13,0),2) -> #N/A | O16: =ROUND(VLOOKUP(C16,APUS!$D$140:$Z$231,23,0),2) -> #N/A | P16: =ROUND(VLOOKUP(C16,APUS!$E$140:$Z$231,22,0),2) -> #N/A | Q16: =ROUND(VLOOKUP(C16,APUS!$F$140:$Z$231,21,0),2) -> #N/A | R16: =ROUND(VLOOKUP(C16,APUS!$G$140:$Z$231,20,0),2) -> #N/A | S16: =ROUND(SUM(O16:R16),$Q$3) -> #N/A
C17: 1.8 | D17: =VLOOKUP(C17,PPTO!$C$6:$H$60,2,0) -> #N/A | E17: =VLOOKUP(C17,PPTO!$C$6:$H$60,3,0) -> #N/A | F17: =IFERROR(SUMIFS(PPTO!$F$6:$F$60,PPTO!$C$6:$C$60,ITEMS!C17),0) -> 0 | G17: =VLOOKUP(C17,PPTO!$C$6:$H$60,5,0) -> #N/A | H17: =+ROUND(F17*G17,$Q$3) -> #N/A | K17: =ROUND(F17*M17,$Q$3) -> #N/A | L17: =ROUND(F17*N17,$Q$3) -> #N/A | M17: =ROUND(VLOOKUP(C17,APUS!$H$140:$V$231,14,0),2) -> #N/A | N17: =ROUND(VLOOKUP(C17,APUS!$I$140:$V$231,13,0),2) -> #N/A | O17: =ROUND(VLOOKUP(C17,APUS!$D$140:$Z$231,23,0),2) -> #N/A | P17: =ROUND(VLOOKUP(C17,APUS!$E$140:$Z$231,22,0),2) -> #N/A | Q17: =ROUND(VLOOKUP(C17,APUS!$F$140:$Z$231,21,0),2) -> #N/A | R17: =ROUND(VLOOKUP(C17,APUS!$G$140:$Z$231,20,0),2) -> #N/A | S17: =ROUND(SUM(O17:R17),$Q$3) -> #N/A
C18: 1.9 | D18: =VLOOKUP(C18,PPTO!$C$6:$H$60,2,0) -> #N/A | E18: =VLOOKUP(C18,PPTO!$C$6:$H$60,3,0) -> #N/A | F18: =IFERROR(SUMIFS(PPTO!$F$6:$F$60,PPTO!$C$6:$C$60,ITEMS!C18),0) -> 0 | G18: =VLOOKUP(C18,PPTO!$C$6:$H$60,5,0) -> #N/A | H18: =+ROUND(F18*G18,$Q$3) -> #N/A | K18: =ROUND(F18*M18,$Q$3) -> #N/A | L18: =ROUND(F18*N18,$Q$3) -> #N/A | M18: =ROUND(VLOOKUP(C18,APUS!$H$140:$V$231,14,0),2) -> #N/A | N18: =ROUND(VLOOKUP(C18,APUS!$I$140:$V$231,13,0),2) -> #N/A | O18: =ROUND(VLOOKUP(C18,APUS!$D$140:$Z$231,23,0),2) -> #N/A | P18: =ROUND(VLOOKUP(C18,APUS!$E$140:$Z$231,22,0),2) -> #N/A | Q18: =ROUND(VLOOKUP(C18,APUS!$F$140:$Z$231,21,0),2) -> #N/A | R18: =ROUND(VLOOKUP(C18,APUS!$G$140:$Z$231,20,0),2) -> #N/A | S18: =ROUND(SUM(O18:R18),$Q$3) -> #N/A
C20: =+CONCATENATE("Subtotal ",D9) -> Subtotal PRELIMINARES Y REPARACIONES | H20: =+SUM(H9:H19) -> #N/A | K20: =+SUM(K9:K19) -> #N/A | L20: =+SUM(L9:L19) -> #N/A | M20: =+SUM(M9:M19) -> #N/A | N20: =+SUM(N9:N19) -> #N/A | O20: =+SUM(O9:O19) -> #N/A | P20: =+SUM(P9:P19) -> #N/A | Q20: =+SUM(Q9:Q19) -> #N/A | R20: =+SUM(R9:R19) -> #N/A | S20: =+SUM(S9:S19) -> #N/A
C21: CAP.2 | D21: =VLOOKUP(C21,PPTO!$C$6:$H$60,2,0) -> RED HIDRAULICA
C22: 2.1 | D22: =VLOOKUP(C22,PPTO!$C$6:$H$60,2,0) -> #N/A | E22: =VLOOKUP(C22,PPTO!$C$6:$H$60,3,0) -> #N/A | F22: =IFERROR(SUMIFS(PPTO!$F$6:$F$60,PPTO!$C$6:$C$60,ITEMS!C22),0) -> 29 | G22: =VLOOKUP(C22,PPTO!$C$6:$H$60,5,0) -> #N/A | H22: =+ROUND(F22*G22,$Q$3) -> #N/A | K22: =ROUND(F22*M22,$Q$3) -> #N/A | L22: =ROUND(F22*N22,$Q$3) -> #N/A | M22: =ROUND(VLOOKUP(C22,APUS!$H$140:$V$231,14,0),2) -> #N/A | N22: =ROUND(VLOOKUP(C22,APUS!$I$140:$V$231,13,0),2) -> #N/A | O22: =ROUND(VLOOKUP(C22,APUS!$D$140:$Z$231,23,0),2) -> #N/A | P22: =ROUND(VLOOKUP(C22,APUS!$E$140:$Z$231,22,0),2) -> #N/A | Q22: =ROUND(VLOOKUP(C22,APUS!$F$140:$Z$231,21,0),2) -> #N/A | R22: =ROUND(VLOOKUP(C22,APUS!$G$140:$Z$231,20,0),2) -> #N/A | S22: =ROUND(SUM(O22:R22),$Q$3) -> #N/A
C23: 2.2 | D23: =VLOOKUP(C23,PPTO!$C$6:$H$60,2,0) -> #N/A | E23: =VLOOKUP(C23,PPTO!$C$6:$H$60,3,0) -> #N/A | F23: =IFERROR(SUMIFS(PPTO!$F$6:$F$60,PPTO!$C$6:$C$60,ITEMS!C23),0) -> 3 | G23: =VLOOKUP(C23,PPTO!$C$6:$H$60,5,0) -> #N/A | H23: =+ROUND(F23*G23,$Q$3) -> #N/A | K23: =ROUND(F23*M23,$Q$3) -> #N/A | L23: =ROUND(F23*N23,$Q$3) -> #N/A | M23: =ROUND(VLOOKUP(C23,APUS!$H$140:$V$231,14,0),2) -> #N/A | N23: =ROUND(VLOOKUP(C23,APUS!$I$140:$V$231,13,0),2) -> #N/A | O23: =ROUND(VLOOKUP(C23,APUS!$D$140:$Z$231,23,0),2) -> #N/A | P23: =ROUND(VLOOKUP(C23,APUS!$E$140:$Z$231,22,0),2) -> #N/A | Q23: =ROUND(VLOOKUP(C23,APUS!$F$140:$Z$231,21,0),2) -> #N/A | R23: =ROUND(VLOOKUP(C23,APUS!$G$140:$Z$231,20,0),2) -> #N/A | S23: =ROUND(SUM(O23:R23),$Q$3) -> #N/A
C24: 2.3 | D24: =VLOOKUP(C24,PPTO!$C$6:$H$60,2,0) -> #N/A | E24: =VLOOKUP(C24,PPTO!$C$6:$H$60,3,0) -> #N/A | F24: =IFERROR(SUMIFS(PPTO!$F$6:$F$60,PPTO!$C$6:$C$60,ITEMS!C24),0) -> 1 | G24: =VLOOKUP(C24,PPTO!$C$6:$H$60,5,0) -> #N/A | H24: =+ROUND(F24*G24,$Q$3) -> #N/A | K24: =ROUND(F24*M24,$Q$3) -> #N/A | L24: =ROUND(F24*N24,$Q$3) -> #N/A | M24: =ROUND(VLOOKUP(C24,APUS!$H$140:$V$231,14,0),2) -> #N/A | N24: =ROUND(VLOOKUP(C24,APUS!$I$140:$V$231,13,0),2) -> #N/A | O24: =ROUND(VLOOKUP(C24,APUS!$D$140:$Z$231,23,0),2) -> #N/A | P24: =ROUND(VLOOKUP(C24,APUS!$E$140:$Z$231,22,0),2) -> #N/A | Q24: =ROUND(VLOOKUP(C24,APUS!$F$140:$Z$231,21,0),2) -> #N/A | R24: =ROUND(VLOOKUP(C24,APUS!$G$140:$Z$231,20,0),2) -> #N/A | S24: =ROUND(SUM(O24:R24),$Q$3) -> #N/A
C25: 2.4 | D25: =VLOOKUP(C25,PPTO!$C$6:$H$60,2,0) -> #N/A | E25: =VLOOKUP(C25,PPTO!$C$6:$H$60,3,0) -> #N/A | F25: =IFERROR(SUMIFS(PPTO!$F$6:$F$60,PPTO!$C$6:$C$60,ITEMS!C25),0) -> 0 | G25: =VLOOKUP(C25,PPTO!$C$6:$H$60,5,0) -> #N/A | H25: =+ROUND(F25*G25,$Q$3) -> #N/A | K25: =ROUND(F25*M25,$Q$3) -> #N/A | L25: =ROUND(F25*N25,$Q$3) -> #N/A | M25: =ROUND(VLOOKUP(C25,APUS!$H$140:$V$231,14,0),2) -> #N/A | N25: =ROUND(VLOOKUP(C25,APUS!$I$140:$V$231,13,0),2) -> #N/A | O25: =ROUND(VLOOKUP(C25,APUS!$D$140:$Z$231,23,0),2) -> #N/A | P25: =ROUND(VLOOKUP(C25,APUS!$E$140:$Z$231,22,0),2) -> #N/A | Q25: =ROUND(VLOOKUP(C25,APUS!$F$140:$Z$231,21,0),2) -> #N/A | R25: =ROUND(VLOOKUP(C25,APUS!$G$140:$Z$231,20,0),2) -> #N/A | S25: =ROUND(SUM(O25:R25),$Q$3) -> #N/A
C26: 2.5 | D26: =VLOOKUP(C26,PPTO!$C$6:$H$60,2,0) -> #N/A | E26: =VLOOKUP(C26,PPTO!$C$6:$H$60,3,0) -> #N/A | F26: =IFERROR(SUMIFS(PPTO!$F$6:$F$60,PPTO!$C$6:$C$60,ITEMS!C26),0) -> 0 | G26: =VLOOKUP(C26,PPTO!$C$6:$H$60,5,0) -> #N/A | H26: =+ROUND(F26*G26,$Q$3) -> #N/A | K26: =ROUND(F26*M26,$Q$3) -> #N/A | L26: =ROUND(F26*N26,$Q$3) -> #N/A | M26: =ROUND(VLOOKUP(C26,APUS!$H$140:$V$231,14,0),2) -> #N/A | N26: =ROUND(VLOOKUP(C26,APUS!$I$140:$V$231,13,0),2) -> #N/A | O26: =ROUND(VLOOKUP(C26,APUS!$D$140:$Z$231,23,0),2) -> #N/A | P26: =ROUND(VLOOKUP(C26,APUS!$E$140:$Z$231,22,0),2) -> #N/A | Q26: =ROUND(VLOOKUP(C26,APUS!$F$140:$Z$231,21,0),2) -> #N/A | R26: =ROUND(VLOOKUP(C26,APUS!$G$140:$Z$231,20,0),2) -> #N/A | S26: =ROUND(SUM(O26:R26),$Q$3) -> #N/A
C27: 2.6 | D27: =VLOOKUP(C27,PPTO!$C$6:$H$60,2,0) -> #N/A | E27: =VLOOKUP(C27,PPTO!$C$6:$H$60,3,0) -> #N/A | F27: =IFERROR(SUMIFS(PPTO!$F$6:$F$60,PPTO!$C$6:$C$60,ITEMS!C27),0) -> 0 | G27: =VLOOKUP(C27,PPTO!$C$6:$H$60,5,0) -> #N/A | H27: =+ROUND(F27*G27,$Q$3) -> #N/A | K27: =ROUND(F27*M27,$Q$3) -> #N/A | L27: =ROUND(F27*N27,$Q$3) -> #N/A | M27: =ROUND(VLOOKUP(C27,APUS!$H$140:$V$231,14,0),2) -> #N/A | N27: =ROUND(VLOOKUP(C27,APUS!$I$140:$V$231,13,0),2) -> #N/A | O27: =ROUND(VLOOKUP(C27,APUS!$D$140:$Z$231,23,0),2) -> #N/A | P27: =ROUND(VLOOKUP(C27,APUS!$E$140:$Z$231,22,0),2) -> #N/A | Q27: =ROUND(VLOOKUP(C27,APUS!$F$140:$Z$231,21,0),2) -> #N/A | R27: =ROUND(VLOOKUP(C27,APUS!$G$140:$Z$231,20,0),2) -> #N/A | S27: =ROUND(SUM(O27:R27),$Q$3) -> #N/A
C29: =+CONCATENATE("Subtotal ",D21) -> Subtotal RED HIDRAULICA | H29: =+SUM(H21:H28) -> #N/A | K29: =+SUM(K21:K28) -> #N/A | L29: =+SUM(L21:L28) -> #N/A | M29: =+SUM(M21:M28) -> #N/A | N29: =+SUM(N21:N28) -> #N/A | O29: =+SUM(O21:O28) -> #N/A | P29: =+SUM(P21:P28) -> #N/A | Q29: =+SUM(Q21:Q28) -> #N/A | R29: =+SUM(R21:R28) -> #N/A | S29: =+SUM(S21:S28) -> #N/A
C30: CAP.3 | D30: =VLOOKUP(C30,PPTO!$C$6:$H$60,2,0) -> RED CONTRAINCENDIOS
C31: 3.1 | D31: =VLOOKUP(C31,PPTO!$C$6:$H$60,2,0) -> #N/A | E31: =VLOOKUP(C31,PPTO!$C$6:$H$60,3,0) -> #N/A | F31: =IFERROR(SUMIFS(PPTO!$F$6:$F$60,PPTO!$C$6:$C$60,ITEMS!C31),0) -> 0 | G31: =VLOOKUP(C31,PPTO!$C$6:$H$60,5,0) -> #N/A | H31: =+ROUND(F31*G31,$Q$3) -> #N/A | K31: =ROUND(F31*M31,$Q$3) -> #N/A | L31: =ROUND(F31*N31,$Q$3) -> #N/A | M31: =ROUND(VLOOKUP(C31,APUS!$H$140:$V$231,14,0),2) -> #N/A | N31: =ROUND(VLOOKUP(C31,APUS!$I$140:$V$231,13,0),2) -> #N/A | O31: =ROUND(VLOOKUP(C31,APUS!$D$140:$Z$231,23,0),2) -> #N/A | P31: =ROUND(VLOOKUP(C31,APUS!$E$140:$Z$231,22,0),2) -> #N/A | Q31: =ROUND(VLOOKUP(C31,APUS!$F$140:$Z$231,21,0),2) -> #N/A | R31: =ROUND(VLOOKUP(C31,APUS!$G$140:$Z$231,20,0),2) -> #N/A | S31: =ROUND(SUM(O31:R31),$Q$3) -> #N/A
C32: 3.2 | D32: =VLOOKUP(C32,PPTO!$C$6:$H$60,2,0) -> #N/A | E32: =VLOOKUP(C32,PPTO!$C$6:$H$60,3,0) -> #N/A | F32: =IFERROR(SUMIFS(PPTO!$F$6:$F$60,PPTO!$C$6:$C$60,ITEMS!C32),0) -> 0 | G32: =VLOOKUP(C32,PPTO!$C$6:$H$60,5,0) -> #N/A | H32: =+ROUND(F32*G32,$Q$3) -> #N/A | K32: =ROUND(F32*M32,$Q$3) -> #N/A | L32: =ROUND(F32*N32,$Q$3) -> #N/A | M32: =ROUND(VLOOKUP(C32,APUS!$H$140:$V$231,14,0),2) -> #N/A | N32: =ROUND(VLOOKUP(C32,APUS!$I$140:$V$231,13,0),2) -> #N/A | O32: =ROUND(VLOOKUP(C32,APUS!$D$140:$Z$231,23,0),2) -> #N/A | P32: =ROUND(VLOOKUP(C32,APUS!$E$140:$Z$231,22,0),2) -> #N/A | Q32: =ROUND(VLOOKUP(C32,APUS!$F$140:$Z$231,21,0),2) -> #N/A | R32: =ROUND(VLOOKUP(C32,APUS!$G$140:$Z$231,20,0),2) -> #N/A | S32: =ROUND(SUM(O32:R32),$Q$3) -> #N/A
C33: 3.3 | D33: =VLOOKUP(C33,PPTO!$C$6:$H$60,2,0) -> #N/A | E33: =VLOOKUP(C33,PPTO!$C$6:$H$60,3,0) -> #N/A | F33: =IFERROR(SUMIFS(PPTO!$F$6:$F$60,PPTO!$C$6:$C$60,ITEMS!C33),0) -> 0 | G33: =VLOOKUP(C33,PPTO!$C$6:$H$60,5,0) -> #N/A | H33: =+ROUND(F33*G33,$Q$3) -> #N/A | K33: =ROUND(F33*M33,$Q$3) -> #N/A | L33: =ROUND(F33*N33,$Q$3) -> #N/A | M33: =ROUND(VLOOKUP(C33,APUS!$H$140:$V$231,14,0),2) -> #N/A | N33: =ROUND(VLOOKUP(C33,APUS!$I$140:$V$231,13,0),2) -> #N/A | O33: =ROUND(VLOOKUP(C33,APUS!$D$140:$Z$231,23,0),2) -> #N/A | P33: =ROUND(VLOOKUP(C33,APUS!$E$140:$Z$231,22,0),2) -> #N/A | Q33: =ROUND(VLOOKUP(C33,APUS!$F$140:$Z$231,21,0),2) -> #N/A | R33: =ROUND(VLOOKUP(C33,APUS!$G$140:$Z$231,20,0),2) -> #N/A | S33: =ROUND(SUM(O33:R33),$Q$3) -> #N/A
C34: 3.4 | D34: =VLOOKUP(C34,PPTO!$C$6:$H$60,2,0) -> #N/A | E34: =VLOOKUP(C34,PPTO!$C$6:$H$60,3,0) -> #N/A | F34: =IFERROR(SUMIFS(PPTO!$F$6:$F$60,PPTO!$C$6:$C$60,ITEMS!C34),0) -> 0 | G34: =VLOOKUP(C34,PPTO!$C$6:$H$60,5,0) -> #N/A | H34: =+ROUND(F34*G34,$Q$3) -> #N/A | K34: =ROUND(F34*M34,$Q$3) -> #N/A | L34: =ROUND(F34*N34,$Q$3) -> #N/A | M34: =ROUND(VLOOKUP(C34,APUS!$H$140:$V$231,14,0),2) -> #N/A | N34: =ROUND(VLOOKUP(C34,APUS!$I$140:$V$231,13,0),2) -> #N/A | O34: =ROUND(VLOOKUP(C34,APUS!$D$140:$Z$231,23,0),2) -> #N/A | P34: =ROUND(VLOOKUP(C34,APUS!$E$140:$Z$231,22,0),2) -> #N/A | Q34: =ROUND(VLOOKUP(C34,APUS!$F$140:$Z$231,21,0),2) -> #N/A | R34: =ROUND(VLOOKUP(C34,APUS!$G$140:$Z$231,20,0),2) -> #N/A | S34: =ROUND(SUM(O34:R34),$Q$3) -> #N/A
C35: 3.5 | D35: =VLOOKUP(C35,PPTO!$C$6:$H$60,2,0) -> #N/A | E35: =VLOOKUP(C35,PPTO!$C$6:$H$60,3,0) -> #N/A | F35: =IFERROR(SUMIFS(PPTO!$F$6:$F$60,PPTO!$C$6:$C$60,ITEMS!C35),0) -> 0 | G35: =VLOOKUP(C35,PPTO!$C$6:$H$60,5,0) -> #N/A | H35: =+ROUND(F35*G35,$Q$3) -> #N/A | K35: =ROUND(F35*M35,$Q$3) -> #N/A | L35: =ROUND(F35*N35,$Q$3) -> #N/A | M35: =ROUND(VLOOKUP(C35,APUS!$H$140:$V$231,14,0),2) -> #N/A | N35: =ROUND(VLOOKUP(C35,APUS!$I$140:$V$231,13,0),2) -> #N/A | O35: =ROUND(VLOOKUP(C35,APUS!$D$140:$Z$231,23,0),2) -> #N/A | P35: =ROUND(VLOOKUP(C35,APUS!$E$140:$Z$231,22,0),2) -> #N/A | Q35: =ROUND(VLOOKUP(C35,APUS!$F$140:$Z$231,21,0),2) -> #N/A | R35: =ROUND(VLOOKUP(C35,APUS!$G$140:$Z$231,20,0),2) -> #N/A | S35: =ROUND(SUM(O35:R35),$Q$3) -> #N/A
C36: 3.6 | D36: =VLOOKUP(C36,PPTO!$C$6:$H$60,2,0) -> #N/A | E36: =VLOOKUP(C36,PPTO!$C$6:$H$60,3,0) -> #N/A | F36: =IFERROR(SUMIFS(PPTO!$F$6:$F$60,PPTO!$C$6:$C$60,ITEMS!C36),0) -> 0 | G36: =VLOOKUP(C36,PPTO!$C$6:$H$60,5,0) -> #N/A | H36: =+ROUND(F36*G36,$Q$3) -> #N/A | K36: =ROUND(F36*M36,$Q$3) -> #N/A | L36: =ROUND(F36*N36,$Q$3) -> #N/A | M36: =ROUND(VLOOKUP(C36,APUS!$H$140:$V$231,14,0),2) -> #N/A | N36: =ROUND(VLOOKUP(C36,APUS!$I$140:$V$231,13,0),2) -> #N/A | O36: =ROUND(VLOOKUP(C36,APUS!$D$140:$Z$231,23,0),2) -> #N/A | P36: =ROUND(VLOOKUP(C36,APUS!$E$140:$Z$231,22,0),2) -> #N/A | Q36: =ROUND(VLOOKUP(C36,APUS!$F$140:$Z$231,21,0),2) -> #N/A | R36: =ROUND(VLOOKUP(C36,APUS!$G$140:$Z$231,20,0),2) -> #N/A | S36: =ROUND(SUM(O36:R36),$Q$3) -> #N/A
C37: 3.7 | D37: =VLOOKUP(C37,PPTO!$C$6:$H$60,2,0) -> #N/A | E37: =VLOOKUP(C37,PPTO!$C$6:$H$60,3,0) -> #N/A | F37: =IFERROR(SUMIFS(PPTO!$F$6:$F$60,PPTO!$C$6:$C$60,ITEMS!C37),0) -> 0 | G37: =VLOOKUP(C37,PPTO!$C$6:$H$60,5,0) -> #N/A | H37: =+ROUND(F37*G37,$Q$3) -> #N/A | K37: =ROUND(F37*M37,$Q$3) -> #N/A | L37: =ROUND(F37*N37,$Q$3) -> #N/A | M37: =ROUND(VLOOKUP(C37,APUS!$H$140:$V$231,14,0),2) -> #N/A | N37: =ROUND(VLOOKUP(C37,APUS!$I$140:$V$231,13,0),2) -> #N/A | O37: =ROUND(VLOOKUP(C37,APUS!$D$140:$Z$231,23,0),2) -> #N/A | P37: =ROUND(VLOOKUP(C37,APUS!$E$140:$Z$231,22,0),2) -> #N/A | Q37: =ROUND(VLOOKUP(C37,APUS!$F$140:$Z$231,21,0),2) -> #N/A | R37: =ROUND(VLOOKUP(C37,APUS!$G$140:$Z$231,20,0),2) -> #N/A | S37: =ROUND(SUM(O37:R37),$Q$3) -> #N/A
C38: 3.8 | D38: =VLOOKUP(C38,PPTO!$C$6:$H$60,2,0) -> #N/A | E38: =VLOOKUP(C38,PPTO!$C$6:$H$60,3,0) -> #N/A | F38: =IFERROR(SUMIFS(PPTO!$F$6:$F$60,PPTO!$C$6:$C$60,ITEMS!C38),0) -> 0 | G38: =VLOOKUP(C38,PPTO!$C$6:$H$60,5,0) -> #N/A | H38: =+ROUND(F38*G38,$Q$3) -> #N/A | K38: =ROUND(F38*M38,$Q$3) -> #N/A | L38: =ROUND(F38*N38,$Q$3) -> #N/A | M38: =ROUND(VLOOKUP(C38,APUS!$H$140:$V$231,14,0),2) -> #N/A | N38: =ROUND(VLOOKUP(C38,APUS!$I$140:$V$231,13,0),2) -> #N/A | O38: =ROUND(VLOOKUP(C38,APUS!$D$140:$Z$231,23,0),2) -> #N/A | P38: =ROUND(VLOOKUP(C38,APUS!$E$140:$Z$231,22,0),2) -> #N/A | Q38: =ROUND(VLOOKUP(C38,APUS!$F$140:$Z$231,21,0),2) -> #N/A | R38: =ROUND(VLOOKUP(C38,APUS!$G$140:$Z$231,20,0),2) -> #N/A | S38: =ROUND(SUM(O38:R38),$Q$3) -> #N/A
C39: 3.9 | D39: =VLOOKUP(C39,PPTO!$C$6:$H$60,2,0) -> #N/A | E39: =VLOOKUP(C39,PPTO!$C$6:$H$60,3,0) -> #N/A | F39: =IFERROR(SUMIFS(PPTO!$F$6:$F$60,PPTO!$C$6:$C$60,ITEMS!C39),0) -> 0 | G39: =VLOOKUP(C39,PPTO!$C$6:$H$60,5,0) -> #N/A | H39: =+ROUND(F39*G39,$Q$3) -> #N/A | K39: =ROUND(F39*M39,$Q$3) -> #N/A | L39: =ROUND(F39*N39,$Q$3) -> #N/A | M39: =ROUND(VLOOKUP(C39,APUS!$H$140:$V$231,14,0),2) -> #N/A | N39: =ROUND(VLOOKUP(C39,APUS!$I$140:$V$231,13,0),2) -> #N/A | O39: =ROUND(VLOOKUP(C39,APUS!$D$140:$Z$231,23,0),2) -> #N/A | P39: =ROUND(VLOOKUP(C39,APUS!$E$140:$Z$231,22,0),2) -> #N/A | Q39: =ROUND(VLOOKUP(C39,APUS!$F$140:$Z$231,21,0),2) -> #N/A | R39: =ROUND(VLOOKUP(C39,APUS!$G$140:$Z$231,20,0),2) -> #N/A | S39: =ROUND(SUM(O39:R39),$Q$3) -> #N/A
C40: 3.10 | D40: =VLOOKUP(C40,PPTO!$C$6:$H$60,2,0) -> #N/A | E40: =VLOOKUP(C40,PPTO!$C$6:$H$60,3,0) -> #N/A | F40: =IFERROR(SUMIFS(PPTO!$F$6:$F$60,PPTO!$C$6:$C$60,ITEMS!C40),0) -> 0 | G40: =VLOOKUP(C40,PPTO!$C$6:$H$60,5,0) -> #N/A | H40: =+ROUND(F40*G40,$Q$3) -> #N/A | K40: =ROUND(F40*M40,$Q$3) -> #N/A | L40: =ROUND(F40*N40,$Q$3) -> #N/A | M40: =ROUND(VLOOKUP(C40,APUS!$H$140:$V$231,14,0),2) -> #N/A | N40: =ROUND(VLOOKUP(C40,APUS!$I$140:$V$231,13,0),2) -> #N/A | O40: =ROUND(VLOOKUP(C40,APUS!$D$140:$Z$231,23,0),2) -> #N/A | P40: =ROUND(VLOOKUP(C40,APUS!$E$140:$Z$231,22,0),2) -> #N/A | Q40: =ROUND(VLOOKUP(C40,APUS!$F$140:$Z$231,21,0),2) -> #N/A | R40: =ROUND(VLOOKUP(C40,APUS!$G$140:$Z$231,20,0),2) -> #N/A | S40: =ROUND(SUM(O40:R40),$Q$3) -> #N/A
C41: 3.11 | D41: =VLOOKUP(C41,PPTO!$C$6:$H$60,2,0) -> #N/A | E41: =VLOOKUP(C41,PPTO!$C$6:$H$60,3,0) -> #N/A | F41: =IFERROR(SUMIFS(PPTO!$F$6:$F$60,PPTO!$C$6:$C$60,ITEMS!C41),0) -> 0 | G41: =VLOOKUP(C41,PPTO!$C$6:$H$60,5,0) -> #N/A | H41: =+ROUND(F41*G41,$Q$3) -> #N/A | K41: =ROUND(F41*M41,$Q$3) -> #N/A | L41: =ROUND(F41*N41,$Q$3) -> #N/A | M41: =ROUND(VLOOKUP(C41,APUS!$H$140:$V$231,14,0),2) -> #N/A | N41: =ROUND(VLOOKUP(C41,APUS!$I$140:$V$231,13,0),2) -> #N/A | O41: =ROUND(VLOOKUP(C41,APUS!$D$140:$Z$231,23,0),2) -> #N/A | P41: =ROUND(VLOOKUP(C41,APUS!$E$140:$Z$231,22,0),2) -> #N/A | Q41: =ROUND(VLOOKUP(C41,APUS!$F$140:$Z$231,21,0),2) -> #N/A | R41: =ROUND(VLOOKUP(C41,APUS!$G$140:$Z$231,20,0),2) -> #N/A | S41: =ROUND(SUM(O41:R41),$Q$3) -> #N/A
C42: 3.12 | D42: =VLOOKUP(C42,PPTO!$C$6:$H$60,2,0) -> #N/A | E42: =VLOOKUP(C42,PPTO!$C$6:$H$60,3,0) -> #N/A | F42: =IFERROR(SUMIFS(PPTO!$F$6:$F$60,PPTO!$C$6:$C$60,ITEMS!C42),0) -> 0 | G42: =VLOOKUP(C42,PPTO!$C$6:$H$60,5,0) -> #N/A | H42: =+ROUND(F42*G42,$Q$3) -> #N/A | K42: =ROUND(F42*M42,$Q$3) -> #N/A | L42: =ROUND(F42*N42,$Q$3) -> #N/A | M42: =ROUND(VLOOKUP(C42,APUS!$H$140:$V$231,14,0),2) -> #N/A | N42: =ROUND(VLOOKUP(C42,APUS!$I$140:$V$231,13,0),2) -> #N/A | O42: =ROUND(VLOOKUP(C42,APUS!$D$140:$Z$231,23,0),2) -> #N/A | P42: =ROUND(VLOOKUP(C42,APUS!$E$140:$Z$231,22,0),2) -> #N/A | Q42: =ROUND(VLOOKUP(C42,APUS!$F$140:$Z$231,21,0),2) -> #N/A | R42: =ROUND(VLOOKUP(C42,APUS!$G$140:$Z$231,20,0),2) -> #N/A | S42: =ROUND(SUM(O42:R42),$Q$3) -> #N/A
... C44: 3.14 | D44: =VLOOKUP(C44,PPTO!$C$6:$H$60,2,0) -> #N/A | E44: =VLOOKUP(C44,PPTO!$C$6:$H$60,3,0) -> #N/A | F44: =IFERROR(SUMIFS(PPTO!$F$6:$F$60,PPTO!$C$6:$C$60,ITEMS!C44),0) -> 0 | G44: =VLOOKUP(C44,PPTO!$C$6:$H$60,5,0) -> #N/A | H44: =+ROUND(F44*G44,$Q$3) -> #N/A | K44: =ROUND(F44*M44,$Q$3) -> #N/A | L44: =ROUND(F44*N44,$Q$3) -> #N/A | M44: =ROUND(VLOOKUP(C44,APUS!$H$140:$V$231,14,0),2) -> #N/A | N44: =ROUND(VLOOKUP(C44,APUS!$I$140:$V$231,13,0),2) -> #N/A | O44: =ROUND(VLOOKUP(C44,APUS!$D$140:$Z$231,23,0),2) -> #N/A | P44: =ROUND(VLOOKUP(C44,APUS!$E$140:$Z$231,22,0),2) -> #N/A | Q44: =ROUND(VLOOKUP(C44,APUS!$F$140:$Z$231,21,0),2) -> #N/A | R44: =ROUND(VLOOKUP(C44,APUS!$G$140:$Z$231,20,0),2) -> #N/A | S44: =ROUND(SUM(O44:R44),$Q$3) -> #N/A
C46: =+CONCATENATE("Subtotal ",D30) -> Subtotal RED CONTRAINCENDIOS | H46: =+SUM(H30:H45) -> #N/A | K46: =+SUM(K30:K45) -> #N/A | L46: =+SUM(L30:L45) -> #N/A | M46: =+SUM(M30:M45) -> #N/A | N46: =+SUM(N30:N45) -> #N/A | O46: =+SUM(O30:O45) -> #N/A | P46: =+SUM(P30:P45) -> #N/A | Q46: =+SUM(Q30:Q45) -> #N/A | R46: =+SUM(R30:R45) -> #N/A | S46: =+SUM(S30:S45) -> #N/A
C47: CAP.4 | D47: =VLOOKUP(C47,PPTO!$C$6:$H$60,2,0) -> #N/A
...

Sheet PPTO
P1: UNITARIOS O TOTALES | Q1: UNITARIOS | S1: UNITARIOS
C2: PRESUPUESTO GENERAL DE OBRA | P2: Decimales | Q2: 0 | S2: TOTALES
C3: OBRA: | D3: =+INFORMACION!A3 -> "CONSULTORIA PARA EL ANALISIS Y DIAGNOSITCO DEL ESTADO ESTRUCTURAL Y DE LAS REDES HIDROSANITARIAS DE LA EDIFICACION INCLUYENDO LA EVALUACION DEL SISTEMA HIDRAULICO DEL SOTANO DEL PALACIO DE JUSTICIA NUEVO DE ARAUCA, UBICADO EN LA CALLE 21, Y LA ELABORACION DE UNA PROPUESTA TECNICA PARA LA OPTIMIZACION Y/O REPARACIONES NECESARIAS"
C4: =+CONCATENATE("LOCALIZACION:"," ",INFORMACION!$C$16) -> LOCALIZACION: ARAUCA, ARAUCA | F4: FECHA: | H4: =+INFORMACION!A9 -> MARZO DE 2025
C6: ITEM | D6: DESCRIPCIÓN | E6: UND | F6: CANTIDAD | G6: VR. UNIT. | H6: VR. TOTAL | K6: COSTO DIRECTO | L6: COSTO INDIRECTO | M6: COSTO UNIT. | N6: COSTO TOTAL | O6: I. HERR | P6: II. MAT. | Q6: III. TRANSP. | R6: IV. MO | S6: TOTAL
C8: =+INFORMACION!A6 -> ARAUCA, ARAUCA
B9: 1 | C9: =+CONCATENATE("CAP.",B9) -> CAP.1 | D9: =+VLOOKUP(B9,'[7]CANTIDADES DE OBRA'!$B:$E,2,FALSE) -> PRELIMINARES Y REPARACIONES | H9: =+SUM(H10:H17) -> 41180890 | K9: =+SUM(K10:K17) -> 41180890 | L9: =+SUM(L10:L17) -> 43239930 | O9: =+SUM(O10:O17) -> 2058306.3 | P9: =+SUM(P10:P17) -> 18273955 | Q9: =+SUM(Q10:Q17) -> 0 | R9: =+SUM(R10:R17) -> 20848627 | S9: =+SUM(S10:S17) -> 41180888 | V9: =CONCATENATE(C9," ","-"," ",D9) -> CAP.1 - PRELIMINARES Y REPARACIONES
C10: =+B9+0.01 -> 1.01 | D10: =+VLOOKUP(C10,'[7]CANTIDADES DE OBRA'!$B:$E,2,FALSE) -> Desmonte de redes hidraulicas existentes (incluye manipulacion de cielo raso) | E10: =+VLOOKUP(C10,'[7]CANTIDADES DE OBRA'!$B:$E,3,FALSE) -> ML | F10: =+VLOOKUP(C10,'[7]CANTIDADES DE OBRA'!$B:$E,4,FALSE) -> 303.93 | G10: =+IFERROR(IF($Q$1="UNITARIOS",VLOOKUP(C10,C:Y,11,FALSE),VLOOKUP(C10,C:Y,12,FALSE)),0) -> 26726.63 | H10: =+ROUND(F10*G10,$Q$2) -> 8123025 | K10: =ROUND(F10*M10,$Q$2) -> 8123025 | L10: =ROUND(F10*N10,$Q$2) -> 8529175 | M10: =ROUND(VLOOKUP(C10,APUS!H:V,14,0),2) -> 26726.63 | N10: =ROUND(VLOOKUP(C10,APUS!I:V,13,0),2) -> 28062.96 | O10: =ROUND(VLOOKUP(C10,APUS!D:Z,23,0),2) -> 386810.65 | P10: =ROUND(VLOOKUP(C10,APUS!E:Z,22,0),2) -> 0 | Q10: =ROUND(VLOOKUP(C10,APUS!F:Z,21,0),2) -> 0 | R10: =ROUND(VLOOKUP(C10,APUS!G:Z,20,0),2) -> 7736214 | S10: =SUM(O10:R10) -> 8123024.6 | V10: =CONCATENATE(C10," ","-"," ",D10) -> 1.01 - Desmonte de redes hidraulicas existentes (incluye manipulacion de cielo raso)
C11: =+ROUNDUP(C10+0.01,2) -> 1.02 | D11: =+VLOOKUP(C11,'[7]CANTIDADES DE OBRA'!$B:$E,2,FALSE) -> Desmonte de redes sanitarias existentes (incluye manipulacion de cielo raso) | E11: =+VLOOKUP(C11,'[7]CANTIDADES DE OBRA'!$B:$E,3,FALSE) -> ML | F11: =+VLOOKUP(C11,'[7]CANTIDADES DE OBRA'!$B:$E,4,FALSE) -> 212.3 | G11: =+IFERROR(IF($Q$1="UNITARIOS",VLOOKUP(C11,C:Y,11,FALSE),VLOOKUP(C11,C:Y,12,FALSE)),0) -> 33408.29 | H11: =+ROUND(F11*G11,$Q$2) -> 7092580 | K11: =ROUND(F11*M11,$Q$2) -> 7092580 | L11: =ROUND(F11*N11,$Q$2) -> 7447208 | M11: =ROUND(VLOOKUP(C11,APUS!H:V,14,0),2) -> 33408.29 | N11: =ROUND(VLOOKUP(C11,APUS!I:V,13,0),2) -> 35078.7 | O11: =ROUND(VLOOKUP(C11,APUS!D:Z,23,0),2) -> 337741.91 | P11: =ROUND(VLOOKUP(C11,APUS!E:Z,22,0),2) -> 0 | Q11: =ROUND(VLOOKUP(C11,APUS!F:Z,21,0),2) -> 0 | R11: =ROUND(VLOOKUP(C11,APUS!G:Z,20,0),2) -> 6754837.6 | S11: =SUM(O11:R11) -> 7092579.5 | V11: =CONCATENATE(C11," ","-"," ",D11) -> 1.02 - Desmonte de redes sanitarias existentes (incluye manipulacion de cielo raso)
C12: =+ROUNDUP(C11+0.01,2) -> 1.03 | D12: =+VLOOKUP(C12,'[7]CANTIDADES DE OBRA'!$B:$E,2,FALSE) -> Demolicion de piso para instalacion de redes sanitarias y drenaje | E12: =+VLOOKUP(C12,'[7]CANTIDADES DE OBRA'!$B:$E,3,FALSE) -> M2 | F12: =+VLOOKUP(C12,'[7]CANTIDADES DE OBRA'!$B:$E,4,FALSE) -> 108.36 | G12: =+IFERROR(IF($Q$1="UNITARIOS",VLOOKUP(C12,C:Y,11,FALSE),VLOOKUP(C12,C:Y,12,FALSE)),0) -> 34431.21 | H12: =+ROUND(F12*G12,$Q$2) -> 3730966 | K12: =ROUND(F12*M12,$Q$2) -> 3730966 | L12: =ROUND(F12*N12,$Q$2) -> 3917514 | M12: =ROUND(VLOOKUP(C12,APUS!H:V,14,0),2) -> 34431.21 | N12: =ROUND(VLOOKUP(C12,APUS!I:V,13,0),2) -> 36152.77 | O12: =ROUND(VLOOKUP(C12,APUS!D:Z,23,0),2) -> 1145165.1 | P12: =ROUND(VLOOKUP(C12,APUS!E:Z,22,0),2) -> 0 | Q12: =ROUND(VLOOKUP(C12,APUS!F:Z,21,0),2) -> 0 | R12: =ROUND(VLOOKUP(C12,APUS!G:Z,20,0),2) -> 2585801.5 | S12: =SUM(O12:R12) -> 3730966.5 | V12: =CONCATENATE(C12," ","-"," ",D12) -> 1.03 - Demolicion de piso para instalacion de redes sanitarias y drenaje
C13: =+ROUNDUP(C12+0.01,2) -> 1.04 | D13: =+VLOOKUP(C13,'[7]CANTIDADES DE OBRA'!$B:$E,2,FALSE) -> Reparacion de piso para instalacion de redes sanitarias y drenaje | E13: =+VLOOKUP(C13,'[7]CANTIDADES DE OBRA'!$B:$E,3,FALSE) -> M2 | F13: =+VLOOKUP(C13,'[7]CANTIDADES DE OBRA'!$B:$E,4,FALSE) -> 88.98 | G13: =+IFERROR(IF($Q$1="UNITARIOS",VLOOKUP(C13,C:Y,11,FALSE),VLOOKUP(C13,C:Y,12,FALSE)),0) -> 167954.25 | H13: =+ROUND(F13*G13,$Q$2) -> 14944569 | K13: =ROUND(F13*M13,$Q$2) -> 14944569 | L13: =ROUND(F13*N13,$Q$2) -> 15691797 | M13: =ROUND(VLOOKUP(C13,APUS!H:V,14,0),2) -> 167954.25 | N13: =ROUND(VLOOKUP(C13,APUS!I:V,13,0),2) -> 176351.96 | O13: =ROUND(VLOOKUP(C13,APUS!D:Z,23,0),2) -> 79348.49 | P13: =ROUND(VLOOKUP(C13,APUS!E:Z,22,0),2) -> 13278251 | Q13: =ROUND(VLOOKUP(C13,APUS!F:Z,21,0),2) -> 0 | R13: =ROUND(VLOOKUP(C13,APUS!G:Z,20,0),2) -> 1586970.2 | S13: =SUM(O13:R13) -> 14944569 | V13: =CONCATENATE(C13," ","-"," ",D13) -> 1.04 - Reparacion de piso para instalacion de redes sanitarias y drenaje
C14: =+ROUNDUP(C13+0.01,2) -> 1.05 | D14: =+VLOOKUP(C14,'[7]CANTIDADES DE OBRA'!$B:$E,2,FALSE) -> Reparacion de regatas existentes | E14: =+VLOOKUP(C14,'[7]CANTIDADES DE OBRA'!$B:$E,3,FALSE) -> ML | F14: =+VLOOKUP(C14,'[7]CANTIDADES DE OBRA'!$B:$E,4,FALSE) -> 177.3 | G14: =+IFERROR(IF($Q$1="UNITARIOS",VLOOKUP(C14,C:Y,11,FALSE),VLOOKUP(C14,C:Y,12,FALSE)),0) -> 20358.03 | H14: =+ROUND(F14*G14,$Q$2) -> 3609479 | K14: =ROUND(F14*M14,$Q$2) -> 3609479 | L14: =ROUND(F14*N14,$Q$2) -> 3789952 | M14: =ROUND(VLOOKUP(C14,APUS!H:V,14,0),2) -> 20358.03 | N14: =ROUND(VLOOKUP(C14,APUS!I:V,13,0),2) -> 21375.93 | O14: =ROUND(VLOOKUP(C14,APUS!D:Z,23,0),2) -> 79054.26 | P14: =ROUND(VLOOKUP(C14,APUS!E:Z,22,0),2) -> 1949339 | Q14: =ROUND(VLOOKUP(C14,APUS!F:Z,21,0),2) -> 0 | R14: =ROUND(VLOOKUP(C14,APUS!G:Z,20,0),2) -> 1581084.6 | S14: =SUM(O14:R14) -> 3609477.9 | V14: =CONCATENATE(C14," ","-"," ",D14) -> 1.05 - Reparacion de regatas existentes
C15: =+ROUNDUP(C14+0.01,2) -> 1.06 | D15: =+VLOOKUP(C15,'[7]CANTIDADES DE OBRA'!$B:$E,2,FALSE) -> regatas para nuevas redes hidraulicas | E15: =+VLOOKUP(C15,'[7]CANTIDADES DE OBRA'!$B:$E,3,FALSE) -> ML | F15: =+VLOOKUP(C15,'[7]CANTIDADES DE OBRA'!$B:$E,4,FALSE) -> 67.7 | G15: =+IFERROR(IF($Q$1="UNITARIOS",VLOOKUP(C15,C:Y,11,FALSE),VLOOKUP(C15,C:Y,12,FALSE)),0) -> 15956.73 | H15: =+ROUND(F15*G15,$Q$2) -> 1080271 | K15: =ROUND(F15*M15,$Q$2) -> 1080271 | L15: =ROUND(F15*N15,$Q$2) -> 1134284 | M15: =ROUND(VLOOKUP(C15,APUS!H:V,14,0),2) -> 15956.73 | N15: =ROUND(VLOOKUP(C15,APUS!I:V,13,0),2) -> 16754.57 | O15: =ROUND(VLOOKUP(C15,APUS!D:Z,23,0),2) -> 30185.97 | P15: =ROUND(VLOOKUP(C15,APUS!E:Z,22,0),2) -> 446365.06 | Q15: =ROUND(VLOOKUP(C15,APUS!F:Z,21,0),2) -> 0 | R15: =ROUND(VLOOKUP(C15,APUS!G:Z,20,0),2) -> 603719.26 | S15: =SUM(O15:R15) -> 1080270.3 | V15: =CONCATENATE(C15," ","-"," ",D15) -> 1.06 - regatas para nuevas redes hidraulicas
C16: =+ROUNDUP(C15+0.01,2) -> 1.07 | D16: =+VLOOKUP(C16,'[7]CANTIDADES DE OBRA'!$B:$E,2,FALSE) -> Retiro de tuberias y materiales de desperdicio | E16: =+VLOOKUP(C16,'[7]CANTIDADES DE OBRA'!$B:$E,3,FALSE) -> GLB | F16: =+VLOOKUP(C16,'[7]CANTIDADES DE OBRA'!$B:$E,4,FALSE) -> 2 | G16: =+IFERROR(IF($Q$1="UNITARIOS",VLOOKUP(C16,C:Y,11,FALSE),VLOOKUP(C16,C:Y,12,FALSE)),0) -> 1300000 | H16: =+ROUND(F16*G16,$Q$2) -> 2600000 | K16: =ROUND(F16*M16,$Q$2) -> 2600000 | L16: =ROUND(F16*N16,$Q$2) -> 2730000 | M16: =ROUND(VLOOKUP(C16,APUS!H:V,14,0),2) -> 1300000 | N16: =ROUND(VLOOKUP(C16,APUS!I:V,13,0),2) -> 1365000 | O16: =ROUND(VLOOKUP(C16,APUS!D:Z,23,0),2) -> 0 | P16: =ROUND(VLOOKUP(C16,APUS!E:Z,22,0),2) -> 2600000 | Q16: =ROUND(VLOOKUP(C16,APUS!F:Z,21,0),2) -> 0 | R16: =ROUND(VLOOKUP(C16,APUS!G:Z,20,0),2) -> 0 | S16: =SUM(O16:R16) -> 2600000 | V16: =CONCATENATE(C16," ","-"," ",D16) -> 1.07 - Retiro de tuberias y materiales de desperdicio
B18: =+ROUNDUP(C16,0) -> 2 | C18: =+CONCATENATE("CAP.",B18) -> CAP.2 | D18: =+VLOOKUP(B18,'[7]CANTIDADES DE OBRA'!$B:$E,2,FALSE) -> RED HIDRAULICA | H18: =+SUM(H19:H58) -> 80133133 | K18: =+SUM(K19:K58) -> 80133133 | L18: =+SUM(L19:L58) -> 84139787 | O18: =+SUM(O19:O58) -> 433217.38 | P18: =+SUM(P19:P58) -> 70728302 | Q18: =+SUM(Q19:Q58) -> 307266.93 | R18: =+SUM(R19:R58) -> 8664346 | S18: =+SUM(S19:S58) -> 80133132 | V18: =CONCATENATE(C18," ","-"," ",D18) -> CAP.2 - RED HIDRAULICA
C19: =+B18+0.01 -> 2.01 | D19: =+VLOOKUP(C19,'[7]CANTIDADES DE OBRA'!$B:$E,2,FALSE) -> Tuberia PVC Ø1/2" | E19: =+VLOOKUP(C19,'[7]CANTIDADES DE OBRA'!$B:$E,3,FALSE) -> ML | F19: =+VLOOKUP(C19,'[7]CANTIDADES DE OBRA'!$B:$E,4,FALSE) -> 49.03 | G19: =+IFERROR(IF($Q$1="UNITARIOS",VLOOKUP(C19,C:Y,11,FALSE),VLOOKUP(C19,C:Y,12,FALSE)),0) -> 20082.18 | H19: =+ROUND(F19*G19,$Q$2) -> 984629 | K19: =ROUND(F19*M19,$Q$2) -> 984629 | L19: =ROUND(F19*N19,$Q$2) -> 1033861 | M19: =ROUND(VLOOKUP(C19,APUS!H:V,14,0),2) -> 20082.18 | N19: =ROUND(VLOOKUP(C19,APUS!I:V,13,0),2) -> 21086.29 | O19: =ROUND(VLOOKUP(C19,APUS!D:Z,23,0),2) -> 28621.56 | P19: =ROUND(VLOOKUP(C19,APUS!E:Z,22,0),2) -> 366552.03 | Q19: =ROUND(VLOOKUP(C19,APUS!F:Z,21,0),2) -> 17024.28 | R19: =ROUND(VLOOKUP(C19,APUS!G:Z,20,0),2) -> 572431.13 | S19: =SUM(O19:R19) -> 984629 | V19: =CONCATENATE(C19," ","-"," ",D19) -> 2.01 - Tuberia PVC Ø1/2"
C20: =+ROUNDUP(C19+0.01,2) -> 2.02 | D20: =+VLOOKUP(C20,'[7]CANTIDADES DE OBRA'!$B:$E,2,FALSE) -> Tuberia PVC Ø3/4" | E20: =+VLOOKUP(C20,'[7]CANTIDADES DE OBRA'!$B:$E,3,FALSE) -> ML | F20: =+VLOOKUP(C20,'[7]CANTIDADES DE OBRA'!$B:$E,4,FALSE) -> 92.9 | G20: =+IFERROR(IF($Q$1="UNITARIOS",VLOOKUP(C20,C:Y,11,FALSE),VLOOKUP(C20,C:Y,12,FALSE)),0) -> 21841.85 | H20: =+ROUND(F20*G20,$Q$2) -> 2029108 | K20: =ROUND(F20*M20,$Q$2) -> 2029108 | L20: =ROUND(F20*N20,$Q$2) -> 2130563 | M20: =ROUND(VLOOKUP(C20,APUS!H:V,14,0),2) -> 21841.85 | N20: =ROUND(VLOOKUP(C20,APUS!I:V,13,0),2) -> 22933.94 | O20: =ROUND(VLOOKUP(C20,APUS!D:Z,23,0),2) -> 54230.93 | P20: =ROUND(VLOOKUP(C20,APUS!E:Z,22,0),2) -> 858000.84 | Q20: =ROUND(VLOOKUP(C20,APUS!F:Z,21,0),2) -> 32256.9 | R20: =ROUND(VLOOKUP(C20,APUS!G:Z,20,0),2) -> 1084618.6 | S20: =SUM(O20:R20) -> 2029107.3 | V20: =CONCATENATE(C20," ","-"," ",D20) -> 2.02 - Tuberia PVC Ø3/4"
C21: =+ROUNDUP(C20+0.01,2) -> 2.03 | D21: =+VLOOKUP(C21,'[7]CANTIDADES DE OBRA'!$B:$E,2,FALSE) -> Tuberia PVC Ø1" | E21: =+VLOOKUP(C21,'[7]CANTIDADES DE OBRA'!$B:$E,3,FALSE) -> ML | F21: =+VLOOKUP(C21,'[7]CANTIDADES DE OBRA'!$B:$E,4,FALSE) -> 28.6 | G21: =+IFERROR(IF($Q$1="UNITARIOS",VLOOKUP(C21,C:Y,11,FALSE),VLOOKUP(C21,C:Y,12,FALSE)),0) -> 26477.9 | H21: =+ROUND(F21*G21,$Q$2) -> 757268 | K21: =ROUND(F21*M21,$Q$2) -> 757268 | L21: =ROUND(F21*N21,$Q$2) -> 795131 | M21: =ROUND(VLOOKUP(C21,APUS!H:V,14,0),2) -> 26477.9 | N21: =ROUND(VLOOKUP(C21,APUS!I:V,13,0),2) -> 27801.8 | O21: =ROUND(VLOOKUP(C21,APUS!D:Z,23,0),2) -> 16695.42 | P21: =ROUND(VLOOKUP(C21,APUS!E:Z,22,0),2) -> 396733.56 | Q21: =ROUND(VLOOKUP(C21,APUS!F:Z,21,0),2) -> 9930.54 | R21: =ROUND(VLOOKUP(C21,APUS!G:Z,20,0),2) -> 333908.43 | S21: =SUM(O21:R21) -> 757267.95 | V21: =CONCATENATE(C21," ","-"," ",D21) -> 2.03 - Tuberia PVC Ø1"
C22: =+ROUNDUP(C21+0.01,2) -> 2.04 | D22: =+VLOOKUP(C22,'[7]CANTIDADES DE OBRA'!$B:$E,2,FALSE) -> Tuberia PVC Ø1_1/4" | E22: =+VLOOKUP(C22,'[7]CANTIDADES DE OBRA'!$B:$E,3,FALSE) -> ML | F22: =+VLOOKUP(C22,'[7]CANTIDADES DE OBRA'!$B:$E,4,FALSE) -> 58.65 | G22: =+IFERROR(IF($Q$1="UNITARIOS",VLOOKUP(C22,C:Y,11,FALSE),VLOOKUP(C22,C:Y,12,FALSE)),0) -> 29315.98 | H22: =+ROUND(F22*G22,$Q$2) -> 1719382 | K22: =ROUND(F22*M22,$Q$2) -> 1719382 | L22: =ROUND(F22*N22,$Q$2) -> 1805351 | M22: =ROUND(VLOOKUP(C22,APUS!H:V,14,0),2) -> 29315.98 | N22: =ROUND(VLOOKUP(C22,APUS!I:V,13,0),2) -> 30781.78 | O22: =ROUND(VLOOKUP(C22,APUS!D:Z,23,0),2) -> 35663.83 | P22: =ROUND(VLOOKUP(C22,APUS!E:Z,22,0),2) -> 950077.38 | Q22: =ROUND(VLOOKUP(C22,APUS!F:Z,21,0),2) -> 20364.56 | R22: =ROUND(VLOOKUP(C22,APUS!G:Z,20,0),2) -> 713276.86 | S22: =SUM(O22:R22) -> 1719382.6 | V22: =CONCATENATE(C22," ","-"," ",D22) -> 2.04 - Tuberia PVC Ø1_1/4"
C23: =+ROUNDUP(C22+0.01,2) -> 2.05 | D23: =+VLOOKUP(C23,'[7]CANTIDADES DE OBRA'!$B:$E,2,FALSE) -> Tuberia PVC Ø1_1/2" | E23: =+VLOOKUP(C23,'[7]CANTIDADES DE OBRA'!$B:$E,3,FALSE) -> ML | F23: =+VLOOKUP(C23,'[7]CANTIDADES DE OBRA'!$B:$E,4,FALSE) -> 52 | G23: =+IFERROR(IF($Q$1="UNITARIOS",VLOOKUP(C23,C:Y,11,FALSE),VLOOKUP(C23,C:Y,12,FALSE)),0) -> 33498.31 | H23: =+ROUND(F23*G23,$Q$2) -> 1741912 | K23: =ROUND(F23*M23,$Q$2) -> 1741912 | L23: =ROUND(F23*N23,$Q$2) -> 1829008 | M23: =ROUND(VLOOKUP(C23,APUS!H:V,14,0),2) -> 33498.31 | N23: =ROUND(VLOOKUP(C23,APUS!I:V,13,0),2) -> 35173.23 | O23: =ROUND(VLOOKUP(C23,APUS!D:Z,23,0),2) -> 32994.91 | P23: =ROUND(VLOOKUP(C23,APUS!E:Z,22,0),2) -> 1030963.6 | Q23: =ROUND(VLOOKUP(C23,APUS!F:Z,21,0),2) -> 18055.53 | R23: =ROUND(VLOOKUP(C23,APUS!G:Z,20,0),2) -> 659898.09 | S23: =SUM(O23:R23) -> 1741912.1 | V23: =CONCATENATE(C23," ","-"," ",D23) -> 2.05 - Tuberia PVC Ø1_1/2"
C24: =+ROUNDUP(C23+0.01,2) -> 2.06 | D24: =+VLOOKUP(C24,'[7]CANTIDADES DE OBRA'!$B:$E,2,FALSE) -> Tuberia PVC Ø2" | E24: =+VLOOKUP(C24,'[7]CANTIDADES DE OBRA'!$B:$E,3,FALSE) -> ML | F24: =+VLOOKUP(C24,'[7]CANTIDADES DE OBRA'!$B:$E,4,FALSE) -> 10.5 | G24: =+IFERROR(IF($Q$1="UNITARIOS",VLOOKUP(C24,C:Y,11,FALSE),VLOOKUP(C24,C:Y,12,FALSE)),0) -> 43451.51 | H24: =+ROUND(F24*G24,$Q$2) -> 456241 | K24: =ROUND(F24*M24,$Q$2) -> 456241 | L24: =ROUND(F24*N24,$Q$2) -> 479053 | M24: =ROUND(VLOOKUP(C24,APUS!H:V,14,0),2) -> 43451.51 | N24: =ROUND(VLOOKUP(C24,APUS!I:V,13,0),2) -> 45624.09 | O24: =ROUND(VLOOKUP(C24,APUS!D:Z,23,0),2) -> 6965.27 | P24: =ROUND(VLOOKUP(C24,APUS!E:Z,22,0),2) -> 306324.39 | Q24: =ROUND(VLOOKUP(C24,APUS!F:Z,21,0),2) -> 3645.83 | R24: =ROUND(VLOOKUP(C24,APUS!G:Z,20,0),2) -> 139305.41 | S24: =SUM(O24:R24) -> 456240.9 | V24: =CONCATENATE(C24," ","-"," ",D24) -> 2.06 - Tuberia PVC Ø2"
C25: =+ROUNDUP(C24+0.01,2) -> 2.07 | D25: =+VLOOKUP(C25,'[7]CANTIDADES DE OBRA'!$B:$E,2,FALSE) -> Tuberia PVC Ø2_1/2" | E25: =+VLOOKUP(C25,'[7]CANTIDADES DE OBRA'!$B:$E,3,FALSE) -> ML | F25: =+VLOOKUP(C25,'[7]CANTIDADES DE OBRA'!$B:$E,4,FALSE) -> 7 | G25: =+IFERROR(IF($Q$1="UNITARIOS",VLOOKUP(C25,C:Y,11,FALSE),VLOOKUP(C25,C:Y,12,FALSE)),0) -> 67672.93 | H25: =+ROUND(F25*G25,$Q$2) -> 473711 | K25: =ROUND(F25*M25,$Q$2) -> 473711 | L25: =ROUND(F25*N25,$Q$2) -> 497396 | M25: =ROUND(VLOOKUP(C25,APUS!H:V,14,0),2) -> 67672.93 | N25: =ROUND(VLOOKUP(C25,APUS!I:V,13,0),2) -> 71056.58 | O25: =ROUND(VLOOKUP(C25,APUS!D:Z,23,0),2) -> 5107.87 | P25: =ROUND(VLOOKUP(C25,APUS!E:Z,22,0),2) -> 364014.76 | Q25: =ROUND(VLOOKUP(C25,APUS!F:Z,21,0),2) -> 2430.55 | R25: =ROUND(VLOOKUP(C25,APUS!G:Z,20,0),2) -> 102157.3 | S25: =SUM(O25:R25) -> 473710.48 | V25: =CONCATENATE(C25," ","-"," ",D25) -> 2.07 - Tuberia PVC Ø2_1/2"
C26: =+ROUNDUP(C25+0.01,2) -> 2.08 | D26: =+VLOOKUP(C26,'[7]CANTIDADES DE OBRA'!$B:$E,2,FALSE) -> Tuberia PVC Ø3" | E26: =+VLOOKUP(C26,'[7]CANTIDADES DE OBRA'!$B:$E,3,FALSE) -> ML | F26: =+VLOOKUP(C26,'[7]CANTIDADES DE OBRA'!$B:$E,4,FALSE) -> 5.25 | G26: =+IFERROR(IF($Q$1="UNITARIOS",VLOOKUP(C26,C:Y,11,FALSE),VLOOKUP(C26,C:Y,12,FALSE)),0) -> 75615.5 | H26: =+ROUND(F26*G26,$Q$2) -> 396981 | K26: =ROUND(F26*M26,$Q$2) -> 396981 | L26: =ROUND(F26*N26,$Q$2) -> 416830 | M26: =ROUND(VLOOKUP(C26,APUS!H:V,14,0),2) -> 75615.5 | N26: =ROUND(VLOOKUP(C26,APUS!I:V,13,0),2) -> 79396.28 | O26: =ROUND(VLOOKUP(C26,APUS!D:Z,23,0),2) -> 3830.9 | P26: =ROUND(VLOOKUP(C26,APUS!E:Z,22,0),2) -> 314709.57 | Q26: =ROUND(VLOOKUP(C26,APUS!F:Z,21,0),2) -> 1822.91 | R26: =ROUND(VLOOKUP(C26,APUS!G:Z,20,0),2) -> 76617.98 | S26: =SUM(O26:R26) -> 396981.36 | V26: =CONCATENATE(C26," ","-"," ",D26) -> 2.08 - Tuberia PVC Ø3"
C27: =+ROUNDUP(C26+0.01,2) -> 2.09 | D27: =+VLOOKUP(C27,'[7]CANTIDADES DE OBRA'!$B:$E,2,FALSE) -> Codo 90° PVC Ø1/2" | E27: =+VLOOKUP(C27,'[7]CANTIDADES DE OBRA'!$B:$E,3,FALSE) -> UND | F27: =+VLOOKUP(C27,'[7]CANTIDADES DE OBRA'!$B:$E,4,FALSE) -> 50 | G27: =+IFERROR(IF($Q$1="UNITARIOS",VLOOKUP(C27,C:Y,11,FALSE),VLOOKUP(C27,C:Y,12,FALSE)),0) -> 8151.8 | H27: =+ROUND(F27*G27,$Q$2) -> 407590 | K27: =ROUND(F27*M27,$Q$2) -> 407590 | L27: =ROUND(F27*N27,$Q$2) -> 427970 | M27: =ROUND(VLOOKUP(C27,APUS!H:V,14,0),2) -> 8151.8 | N27: =ROUND(VLOOKUP(C27,APUS!I:V,13,0),2) -> 8559.39 | O27: =ROUND(VLOOKUP(C27,APUS!D:Z,23,0),2) -> 13947.43 | P27: =ROUND(VLOOKUP(C27,APUS!E:Z,22,0),2) -> 97332.91 | Q27: =ROUND(VLOOKUP(C27,APUS!F:Z,21,0),2) -> 17361.09 | R27: =ROUND(VLOOKUP(C27,APUS!G:Z,20,0),2) -> 278948.33 | S27: =SUM(O27:R27) -> 407589.76 | V27: =CONCATENATE(C27," ","-"," ",D27) -> 2.09 - Codo 90° PVC Ø1/2"
C28: =+ROUNDUP(C27+0.01,2) -> 2.1 | D28: =+VLOOKUP(C28,'[7]CANTIDADES DE OBRA'!$B:$E,2,FALSE) -> Codo 90° PVC Ø3/4" | E28: =+VLOOKUP(C28,'[7]CANTIDADES DE OBRA'!$B:$E,3,FALSE) -> UND | F28: =+VLOOKUP(C28,'[7]CANTIDADES DE OBRA'!$B:$E,4,FALSE) -> 29 | G28: =+IFERROR(IF($Q$1="UNITARIOS",VLOOKUP(C28,C:Y,11,FALSE),VLOOKUP(C28,C:Y,12,FALSE)),0) -> 8669.8 | H28: =+ROUND(F28*G28,$Q$2) -> 251424 | K28: =ROUND(F28*M28,$Q$2) -> 251424 | L28: =ROUND(F28*N28,$Q$2) -> 263995 | M28: =ROUND(VLOOKUP(C28,APUS!H:V,14,0),2) -> 8669.8 | N28: =ROUND(VLOOKUP(C28,APUS!I:V,13,0),2) -> 9103.29 | O28: =ROUND(VLOOKUP(C28,APUS!D:Z,23,0),2) -> 8089.51 | P28: =ROUND(VLOOKUP(C28,APUS!E:Z,22,0),2) -> 71475.09 | Q28: =ROUND(VLOOKUP(C28,APUS!F:Z,21,0),2) -> 10069.43 | R28: =ROUND(VLOOKUP(C28,APUS!G:Z,20,0),2) -> 161790.03 | S28: =SUM(O28:R28) -> 251424.06 | V28: =CONCATENATE(C28," ","-"," ",D28) -> 2.1 - Codo 90° PVC Ø3/4"
C29: =+ROUNDUP(C28+0.01,2) -> 2.11 | D29: =+VLOOKUP(C29,'[7]CANTIDADES DE OBRA'!$B:$E,2,FALSE) -> Tee PVC Ø3/4" | E29: =+VLOOKUP(C29,'[7]CANTIDADES DE OBRA'!$B:$E,3,FALSE) -> UND | F29: =+VLOOKUP(C29,'[7]CANTIDADES DE OBRA'!$B:$E,4,FALSE) -> 24 | G29: =+IFERROR(IF($Q$1="UNITARIOS",VLOOKUP(C29,C:Y,11,FALSE),VLOOKUP(C29,C:Y,12,FALSE)),0) -> 9210.8 | H29: =+ROUND(F29*G29,$Q$2) -> 221059 | K29: =ROUND(F29*M29,$Q$2) -> 221059 | L29: =ROUND(F29*N29,$Q$2) -> 232112 | M29: =ROUND(VLOOKUP(C29,APUS!H:V,14,0),2) -> 9210.8 | N29: =ROUND(VLOOKUP(C29,APUS!I:V,13,0),2) -> 9671.34 | O29: =ROUND(VLOOKUP(C29,APUS!D:Z,23,0),2) -> 6694.76 | P29: =ROUND(VLOOKUP(C29,APUS!E:Z,22,0),2) -> 72135.8 | Q29: =ROUND(VLOOKUP(C29,APUS!F:Z,21,0),2) -> 8333.32 | R29: =ROUND(VLOOKUP(C29,APUS!G:Z,20,0),2) -> 133895.2 | S29: =SUM(O29:R29) -> 221059.08 | V29: =CONCATENATE(C29," ","-"," ",D29) -> 2.11 - Tee PVC Ø3/4"
C30: =+ROUNDUP(C29+0.01,2) -> 2.12 | D30: =+VLOOKUP(C30,'[7]CANTIDADES DE OBRA'!$B:$E,2,FALSE) -> Codo 90° PVC Ø1" | E30: =+VLOOKUP(C30,'[7]CANTIDADES DE OBRA'!$B:$E,3,FALSE) -> UND | F30: =+VLOOKUP(C30,'[7]CANTIDADES DE OBRA'!$B:$E,4,FALSE) -> 27 | G30: =+IFERROR(IF($Q$1="UNITARIOS",VLOOKUP(C30,C:Y,11,FALSE),VLOOKUP(C30,C:Y,12,FALSE)),0) -> 9987.8 | H30: =+ROUND(F30*G30,$Q$2) -> 269671 | K30: =ROUND(F30*M30,$Q$2) -> 269671 | L30: =ROUND(F30*N30,$Q$2) -> 283154 | M30: =ROUND(VLOOKUP(C30,APUS!H:V,14,0),2) -> 9987.8 | N30: =ROUND(VLOOKUP(C30,APUS!I:V,13,0),2) -> 10487.19 | O30: =ROUND(VLOOKUP(C30,APUS!D:Z,23,0),2) -> 7531.61 | P30: =ROUND(VLOOKUP(C30,APUS!E:Z,22,0),2) -> 102131.77 | Q30: =ROUND(VLOOKUP(C30,APUS!F:Z,21,0),2) -> 9374.99 | R30: =ROUND(VLOOKUP(C30,APUS!G:Z,20,0),2) -> 150632.1 | S30: =SUM(O30:R30) -> 269670.47 | V30: =CONCATENATE(C30," ","-"," ",D30) -> 2.12 - Codo 90° PVC Ø1"
C31: =+ROUNDUP(C30+0.01,2) -> 2.13 | D31: =+VLOOKUP(C31,'[7]CANTIDADES DE OBRA'!$B:$E,2,FALSE) -> Codo 90° PVC Ø1_1/4" | E31: =+VLOOKUP(C31,'[7]CANTIDADES DE OBRA'!$B:$E,3,FALSE) -> UND | F31: =+VLOOKUP(C31,'[7]CANTIDADES DE OBRA'!$B:$E,4,FALSE) -> 28 | G31: =+IFERROR(IF($Q$1="UNITARIOS",VLOOKUP(C31,C:Y,11,FALSE),VLOOKUP(C31,C:Y,12,FALSE)),0) -> 12472.8 | H31: =+ROUND(F31*G31,$Q$2) -> 349238 | K31: =ROUND(F31*M31,$Q$2) -> 349238 | L31: =ROUND(F31*N31,$Q$2) -> 366700 | M31: =ROUND(VLOOKUP(C31,APUS!H:V,14,0),2) -> 12472.8 | N31: =ROUND(VLOOKUP(C31,APUS!I:V,13,0),2) -> 13096.44 | O31: =ROUND(VLOOKUP(C31,APUS!D:Z,23,0),2) -> 7810.56 | P31: =ROUND(VLOOKUP(C31,APUS!E:Z,22,0),2) -> 175494.43 | Q31: =ROUND(VLOOKUP(C31,APUS!F:Z,21,0),2) -> 9722.21 | R31: =ROUND(VLOOKUP(C31,APUS!G:Z,20,0),2) -> 156211.07 | S31: =SUM(O31:R31) -> 349238.27 | V31: =CONCATENATE(C31," ","-"," ",D31) -> 2.13 - Codo 90° PVC Ø1_1/4"
... C57: =+ROUNDUP(C56+0.01,2) -> 2.39 | D57: =+VLOOKUP(C57,'[7]CANTIDADES DE OBRA'!$B:$E,2,FALSE) -> Suministro e instalacion de equipo de bombeo (bombas de alta presión con motor eléctrico 7,5 HP y hidroacumulador HI PRESS 750 Litros) | E57: =+VLOOKUP(C57,'[7]CANTIDADES DE OBRA'!$B:$E,3,FALSE) -> UND | F57: =+VLOOKUP(C57,'[7]CANTIDADES DE OBRA'!$B:$E,4,FALSE) -> 1 | G57: =+IFERROR(IF($Q$1="UNITARIOS",VLOOKUP(C57,C:Y,11,FALSE),VLOOKUP(C57,C:Y,12,FALSE)),0) -> 32278889 | H57: =+ROUND(F57*G57,$Q$2) -> 32278889 | K57: =ROUND(F57*M57,$Q$2) -> 32278889 | L57: =ROUND(F57*N57,$Q$2) -> 33892833 | M57: =ROUND(VLOOKUP(C57,APUS!H:V,14,0),2) -> 32278889 | N57: =ROUND(VLOOKUP(C57,APUS!I:V,13,0),2) -> 33892833 | O57: =ROUND(VLOOKUP(C57,APUS!D:Z,23,0),2) -> 43786.08 | P57: =ROUND(VLOOKUP(C57,APUS!E:Z,22,0),2) -> 31355909 | Q57: =ROUND(VLOOKUP(C57,APUS!F:Z,21,0),2) -> 3472.22 | R57: =ROUND(VLOOKUP(C57,APUS!G:Z,20,0),2) -> 875721.57 | S57: =SUM(O57:R57) -> 32278889 | V57: =CONCATENATE(C57," ","-"," ",D57) -> 2.39 - Suministro e instalacion de equipo de bombeo (bombas de alta presión con motor eléctrico 7,5 HP y hidroacumulador HI PRESS 750 Litros)
B59: =+ROUNDUP(C57,0) -> 3 | C59: =+CONCATENATE("CAP.",B59) -> CAP.3 | D59: =+VLOOKUP(B59,'[7]CANTIDADES DE OBRA'!$B:$E,2,FALSE) -> RED CONTRAINCENDIOS | H59: =+SUM(H60:H88) -> 419020032 | K59: =+SUM(K60:K88) -> 419020032 | L59: =+SUM(L60:L88) -> 439971022 | O59: =+SUM(O60:O88) -> 2833946.1 | P59: =+SUM(P60:P88) -> 3.5771651e+08 | Q59: =+SUM(Q60:Q88) -> 1790650.3 | R59: =+SUM(R60:R88) -> 56678921 | S59: =+SUM(S60:S88) -> 4.1902003e+08 | V59: =CONCATENATE(C59," ","-"," ",D59) -> CAP.3 - RED CONTRAINCENDIOS
