Workbook

Sheet hoja1
A1: ITEM | B1: CONCEPTO DE REPUESTOS | C1: CANTIDAD | D1: CAMIONETA CHEVROLET LUV DIMAX 3.5 MODELO 2009 | E1: CAMIONETA TOYOTA HILUX 2.7 MODELO 2015 | F1: CAMIONETA TOYOTA 4RUNNER | G1: AUTOMOVIL HIUNDAY ACCENT MODELO 2000 | H1: CAMPERO CHEVROLET VITARA 1.4 MODELO 1997 | I1: CHEVROLET SUPER CARRY PICKU 1000 MODELO 2007 | J1: CAMIONETA PANEL ELECTRICA BYD 1,6 MODELO 2022
A2: LUBRICANTES Y FILTROS
A3: 1 | B3: Aceite de motor 20W50 1/4 | C3: 1 | D3: 98000 | E3: 98000 | F3: 98000 | G3: 98000 | H3: 98000 | I3: 98000 | J3: N/A
A4: 2 | B4: Aceite hidraulico ATFDVl 1/4 | C4: 1 | D4: 78000 | E4: 78000 | F4: 78000 | G4: 78000 | H4: 78000 | I4: 78000 | J4: N/A
A5: 3 | B5: Aceite hidraulico ATFDlll 1/4 | C5: 1 | D5: 92000 | E5: 92000 | F5: 92000 | G5: 92000 | H5: 92000 | I5: 92000 | J5: N/A
A6: 4 | B6: Filtro de aceite | C6: 1 | D6: 78000 | E6: 92000 | F6: 103000 | G6: 59000 | H6: 65000 | I6: 52000 | J6: N/A
A7: 5 | B7: Filtro de aire de motor | C7: 1 | D7: 103000 | E7: 117000 | F7: 156000 | G7: 76000 | H7: 76000 | I7: 76000 | J7: N/A
A8: 6 | B8: Filtro de aire antipolen A/A | C8: 1 | D8: 72000 | E8: 78000 | F8: 92000 | G8: 65000 | H8: 65000 | I8: N/A | J8: 95000
A9: 7 | B9: Filtro de gasolina externo | C9: 1 | D9: 92000 | E9: 103000 | F9: 123000 | G9: 77000 | H9: 78000 | I9: 72000 | J9: N/A
A10: 8 | B10: Filtro de gasolina interno | C10: 1 | D10: 78000 | E10: 92000 | F10: 103000 | G10: 78000 | H10: 85000 | I10: 72000 | J10: N/A
A11: 9 | B11: Galon de refrigerante | C11: 1 | D11: 182000 | E11: 182000 | F11: 182000 | G11: 182000 | H11: 182000 | I11: 182000 | J11: N/A
A12: 10 | B12: Grasa de alta temperatura 370gr | C12: 1 | D12: 117000 | E12: 117000 | F12: 117000 | G12: 117000 | H12: 117000 | I12: 117000 | J12: N/A
A13: 11 | B13: Liquido de frenos DOT4 240gr | C13: 1 | D13: 72000 | E13: 72000 | F13: 72000 | G13: 72000 | H13: 72000 | I13: 72000 | J13: 70000
A14: 12 | B14: Refrigerante 1/4 | C14: 1 | D14: 34000 | E14: 34000 | F14: 34000 | G14: 34000 | H14: 34000 | I14: 34000 | J14: 50000
A15: 13 | B15: Silicona gris de alta temperatura 85gr | C15: 1 | D15: 40000 | E15: 40000 | F15: 40000 | G15: 40000 | H15: 40000 | I15: 40000 | J15: 41000
A16: 14 | B16: Valvulina 80W90 1/4 | C16: 1 | D16: 103000 | E16: 103000 | F16: 103000 | G16: 103000 | H16: 103000 | I16: 103000 | J16: N/A
A17: 15 | B17: Valvulina 85W140 1/4 | C17: 1 | D17: 78000 | E17: 78000 | F17: 78000 | G17: 78000 | H17: 78000 | I17: 78000 | J17: N/A
A18: SISTEMA ELECTRICO
A19: 16 | B19: Arranque | C19: 1 | D19: 1468000 | E19: 1814000 | F19: 1814000 | G19: 1247000 | H19: 1247000 | I19: 1247000 | J19: N/A
A20: 17 | B20: Alternador | C20: 1 | D20: 1649000 | E20: 2200000 | F20: 2200000 | G20: 1449000 | H20: 1449000 | I20: 1449000 | J20: 3900000
A21: 18 | B21: Amarre plastico | C21: 1 | D21: 7000 | E21: 7000 | F21: 7000 | G21: 7000 | H21: 7000 | I21: 7000 | J21: 4000
A22: 19 | B22: Abrazadera metalica | C22: 1 | D22: 9000 | E22: 9000 | F22: 9000 | G22: 9000 | H22: 9000 | I22: 9000 | J22: 6000
A23: 20 | B23: Automatico de alternador | C23: 1 | D23: 309000 | E23: 377000 | F23: 377000 | G23: 206000 | H23: 206000 | I23: 206000 | J23: 440000
A24: 21 | B24: Alarma | C24: 1 | D24: 1369000 | E24: 1881000 | F24: N/A | G24: N/A | H24: N/A | I24: N/A | J24: 1900000
A25: 22 | B25: Antena radial | C25: 1 | D25: 481000 | E25: 668000 | F25: 668000 | G25: 309000 | H25: 309000 | I25: 309000 | J25: 475000
A26: 23 | B26: Bombillo H4 halogeno 60/55 12V | C26: 1 | D26: 52000 | E26: 52000 | F26: 52000 | G26: 52000 | H26: 52000 | I26: 52000 | J26: 310000
A27: 24 | B27: Bombillo H4 halogeno 100/90 12V | C27: 1 | D27: 70000 | E27: 70000 | F27: 70000 | G27: 70000 | H27: 70000 | I27: 70000 | J27: 360000
A28: 25 | B28: Bombillo de 1 contactos | C28: 1 | D28: 18000 | E28: 18000 | F28: 18000 | G28: 18000 | H28: 18000 | I28: 18000 | J28: 145000
A29: 26 | B29: Bombillo de 2 contactos | C29: 1 | D29: 27000 | E29: 27000 | F29: 27000 | G29: 27000 | H29: 27000 | I29: 27000 | J29: 145000
A30: 27 | B30: Bombillo garrapata | C30: 1 | D30: 16000 | E30: 16000 | F30: 16000 | G30: 16000 | H30: 16000 | I30: 16000 | J30: 138000
A31: 28 | B31: Bombillo de techo | C31: 1 | D31: 17000 | E31: 17000 | F31: 17000 | G31: 17000 | H31: 17000 | I31: 17000 | J31: 135000
A32: 29 | B32: Buje de arranque | C32: 1 | D32: 138000 | E32: 138000 | F32: 138000 | G32: 138000 | H32: 138000 | I32: 138000 | J32: N/A
A33: 30 | B33: Bendix de arranque | C33: 1 | D33: 288000 | E33: 335000 | F33: 335000 | G33: 176000 | H33: 176000 | I33: 176000 | J33: N/A
A34: 31 | B34: Carbonera del arranque | C34: 1 | D34: 275000 | E34: 325000 | F34: 325000 | G34: 138000 | H34: 138000 | I34: 138000 | J34: N/A
A35: 32 | B35: Cintilla Airbag | C35: 1 | D35: 1369000 | E35: 2052000 | F35: 2052000 | G35: 856000 | H35: N/A | I35: N/A | J35: 2720000
A36: 33 | B36: Control de alarma | C36: 1 | D36: 206000 | E36: 309000 | F36: N/A | G36: N/A | H36: N/A | I36: N/A | J36: 510000
A37: 34 | B37: Electroventilador Completo | C37: 1 | D37: 2430000 | E37: 2800000 | F37: 2800000 | G37: 1800000 | H37: 1800000 | I37: 1800000 | J37: 4200000
A38: 35 | B38: Fusible | C38: 1 | D38: 27000 | E38: 27000 | F38: 27000 | G38: 27000 | H38: 27000 | I38: 27000 | J38: 155000
A39: 36 | B39: Horquilla del arranque | C39: 1 | D39: 103000 | E39: 156000 | F39: 156000 | G39: 78000 | H39: 78000 | I39: 78000 | J39: N/A
A40: 37 | B40: Indicador de parqueo | C40: 1 | D40: 377000 | E40: 531000 | F40: 531000 | G40: 309000 | H40: 309000 | I40: 309000 | J40: 665000
...

Sheet hoja2
A1: ITEM | B1: CONCEPTO DE REPUESTOS | C1: CANTIDAD | D1: CAMIONETA CHEVROLET LUV DIMAX 3.5 MODELO 2009 | E1: CAMIONETA TOYOTA HILUX 2.7 MODELO 2015 | F1: CAMIONETA TOYOTA 4RUNNER | G1: AUTOMOVIL HIUNDAY ACCENT MODELO 2000 | H1: CAMPERO CHEVROLET VITARA 1.4 MODELO 1997 | I1: CHEVROLET SUPER CARRY PICKU 1000 MODELO 2007 | J1: CAMIONETA PANEL ELECTRICA BYD 1,6 MODELO 2022
A2: LUBRICANTES Y FILTROS
A3: 1 | B3: Aceite de motor 20W50 1/4 | C3: 1 | D3: 106000 | E3: 106000 | F3: 106000 | G3: 106000 | H3: 106000 | I3: 106000
A4: 2 | B4: Aceite hidraulico ATFDVl 1/4 | C4: 1 | D4: 85000 | E4: 85000 | F4: 85000 | G4: 85000 | H4: 85000 | I4: 85000
A5: 3 | B5: Aceite hidraulico ATFDlll 1/4 | C5: 1 | D5: 100000 | E5: 100000 | F5: 100000 | G5: 100000 | H5: 100000 | I5: 100000
A6: 4 | B6: Filtro de aceite | C6: 1 | D6: 85000 | E6: 100000 | F6: 112000 | G6: 64000 | H6: 71000 | I6: 57000
A7: 5 | B7: Filtro de aire de motor | C7: 1 | D7: 112000 | E7: 127000 | F7: 169000 | G7: 83000 | H7: 83000 | I7: 83000
A8: 6 | B8: Filtro de aire antipolen A/A | C8: 1 | D8: 78000 | E8: 85000 | F8: 100000 | G8: 71000 | H8: 71000 | I8: N/A | J8: 90000
A9: 7 | B9: Filtro de gasolina externo | C9: 1 | D9: 100000 | E9: 112000 | F9: 133000 | G9: 84000 | H9: 85000 | I9: 78000
A10: 8 | B10: Filtro de gasolina interno | C10: 1 | D10: 85000 | E10: 100000 | F10: 112000 | G10: 85000 | H10: 92000 | I10: 78000
A11: 9 | B11: Galon de refrigerante | C11: 1 | D11: 197000 | E11: 197000 | F11: 197000 | G11: 197000 | H11: 197000 | I11: 197000
A12: 10 | B12: Grasa de alta temperatura 370gr | C12: 1 | D12: 127000 | E12: 127000 | F12: 127000 | G12: 127000 | H12: 127000 | I12: 127000
A13: 11 | B13: Liquido de frenos DOT4 240gr | C13: 1 | D13: 78000 | E13: 78000 | F13: 78000 | G13: 78000 | H13: 78000 | I13: 78000 | J13: 75000
A14: 12 | B14: Refrigerante 1/4 | C14: 1 | D14: 37000 | E14: 37000 | F14: 37000 | G14: 37000 | H14: 37000 | I14: 37000 | J14: 50000
A15: 13 | B15: Silicona gris de alta temperatura 85gr | C15: 1 | D15: 44000 | E15: 44000 | F15: 44000 | G15: 44000 | H15: 44000 | I15: 44000 | J15: 40000
A16: 14 | B16: Valvulina 80W90 1/4 | C16: 1 | D16: 112000 | E16: 112000 | F16: 112000 | G16: 112000 | H16: 112000 | I16: 112000
A17: 15 | B17: Valvulina 85W140 1/4 | C17: 1 | D17: 85000 | E17: 85000 | F17: 85000 | G17: 85000 | H17: 85000 | I17: 85000
A18: SISTEMA ELECTRICO
A19: 16 | B19: Arranque | C19: 1 | D19: 1587000 | E19: 1961000 | F19: 1961000 | G19: 1349000 | H19: 1349000 | I19: 1349000
A20: 17 | B20: Alternador | C20: 1 | D20: 1783000 | E20: 2379000 | F20: 2379000 | G20: 1567000 | H20: 1567000 | I20: 1567000 | J20: 3950000
A21: 18 | B21: Amarre plastico | C21: 1 | D21: 8000 | E21: 8000 | F21: 8000 | G21: 8000 | H21: 8000 | I21: 8000 | J21: 4500
A22: 19 | B22: Abrazadera metalica | C22: 1 | D22: 10000 | E22: 10000 | F22: 10000 | G22: 10000 | H22: 10000 | I22: 10000 | J22: 5500
A23: 20 | B23: Automatico de alternador | C23: 1 | D23: 335000 | E23: 408000 | F23: 408000 | G23: 223000 | H23: 223000 | I23: 223000 | J23: 515000
A24: 21 | B24: Alarma | C24: 1 | D24: 1480000 | E24: 2034000 | J24: 1975000
A25: 22 | B25: Antena radial | C25: 1 | D25: 520000 | E25: 723000 | F25: 723000 | G25: 335000 | H25: 335000 | I25: 335000 | J25: 550000
A26: 23 | B26: Bombillo H4 halogeno 60/55 12V | C26: 1 | D26: 57000 | E26: 57000 | F26: 57000 | G26: 57000 | H26: 57000 | I26: 57000 | J26: 385000
A27: 24 | B27: Bombillo H4 halogeno 100/90 12V | C27: 1 | D27: 76000 | E27: 76000 | F27: 76000 | G27: 76000 | H27: 76000 | I27: 76000 | J27: 435000
A28: 25 | B28: Bombillo de 1 contactos | C28: 1 | D28: 20000 | E28: 20000 | F28: 20000 | G28: 20000 | H28: 20000 | I28: 20000 | J28: 220000
A29: 26 | B29: Bombillo de 2 contactos | C29: 1 | D29: 30000 | E29: 30000 | F29: 30000 | G29: 30000 | H29: 30000 | I29: 30000 | J29: 220000
A30: 27 | B30: Bombillo garrapata | C30: 1 | D30: 18000 | E30: 18000 | F30: 18000 | G30: 18000 | H30: 18000 | I30: 18000 | J30: 213000
A31: 28 | B31: Bombillo de techo | C31: 1 | D31: 19000 | E31: 19000 | F31: 19000 | G31: 19000 | H31: 19000 | I31: 19000 | J31: 210000
A32: 29 | B32: Buje de arranque | C32: 1 | D32: 150000 | E32: 150000 | F32: 150000 | G32: 150000 | H32: 150000 | I32: 150000 | J32: N/A
A33: 30 | B33: Bendix de arranque | C33: 1 | D33: 312000 | E33: 363000 | F33: 363000 | G33: 191000 | H33: 191000 | I33: 191000 | J33: N/A
A34: 31 | B34: Carbonera del arranque | C34: 1 | D34: 298000 | E34: 352000 | F34: 352000 | G34: 150000 | H34: 150000 | I34: 150000 | J34: N/A
A35: 32 | B35: Cintilla Airbag | C35: 1 | D35: 1480000 | E35: 2219000 | F35: 2219000 | G35: 926000 | H35: N/A | I35: N/A | J35: 2795000
A36: 33 | B36: Control de alarma | C36: 1 | D36: 223000 | E36: 335000 | F36: N/A | G36: N/A | H36: N/A | I36: N/A | J36: 585000
A37: 34 | B37: Electroventilador Completo | C37: 1 | D37: 2430000 | E37: 2800000 | F37: 2800000 | G37: 1800000 | H37: 1800000 | I37: 1800000 | J37: 4200000
A38: 35 | B38: Fusible | C38: 1 | D38: 30000 | E38: 30000 | F38: 30000 | G38: 30000 | H38: 30000 | I38: 30000 | J38: 230000
A39: 36 | B39: Horquilla del arranque | C39: 1 | D39: 112000 | E39: 169000 | F39: 169000 | G39: 85000 | H39: 85000 | I39: 85000 | J39: N/A
A40: 37 | B40: Indicador de parqueo | C40: 1 | D40: 408000 | E40: 575000 | F40: 575000 | G40: 335000 | H40: 335000 | I40: 335000 | J40: 740000
...

Sheet hoja3
A1: ITEM | B1: CONCEPTO DE REPUESTOS | C1: CANTIDAD | D1: CAMIONETA CHEVROLET LUV DIMAX 3.5 MODELO 2009 | E1: CAMIONETA TOYOTA HILUX 2.7 MODELO 2015 | F1: CAMIONETA TOYOTA 4RUNNER | G1: AUTOMOVIL HIUNDAY ACCENT MODELO 2000 | H1: CAMPERO CHEVROLET VITARA 1.4 MODELO 1997 | I1: CHEVROLET SUPER CARRY PICKU 1000 MODELO 2007 | J1: CAMIONETA PANEL ELECTRICA BYD 1,6 MODELO 2022
A2: LUBRICANTES Y FILTROS
A3: 1 | B3: Aceite de motor 20W50 1/4 | C3: 1 | D3: 91000 | E3: 91000 | F3: 91000 | G3: 91000 | H3: 91000 | I3: 91000 | J3: N/A
A4: 2 | B4: Aceite hidraulico ATFDVl 1/4 | C4: 1 | D4: 72000 | E4: 72000 | F4: 72000 | G4: 72000 | H4: 72000 | I4: 72000 | J4: N/A
A5: 3 | B5: Aceite hidraulico ATFDlll 1/4 | C5: 1 | D5: 85000 | E5: 85000 | F5: 85000 | G5: 85000 | H5: 85000 | I5: 85000 | J5: N/A
A6: 4 | B6: Filtro de aceite | C6: 1 | D6: 72000 | E6: 85000 | F6: 96000 | G6: 55000 | H6: 60000 | I6: 48000 | J6: N/A
A7: 5 | B7: Filtro de aire de motor | C7: 1 | D7: 96000 | E7: 109000 | F7: 145000 | G7: 70000 | H7: 70000 | I7: 70000 | J7: N/A
A8: 6 | B8: Filtro de aire antipolen A/A | C8: 1 | D8: 67000 | E8: 72000 | F8: 85000 | G8: 60000 | H8: 60000 | I8: N/A | J8: 85000
A9: 7 | B9: Filtro de gasolina externo | C9: 1 | D9: 85000 | E9: 96000 | F9: 114000 | G9: 71000 | H9: 72000 | I9: 67000 | J9: N/A
A10: 8 | B10: Filtro de gasolina interno | C10: 1 | D10: 72000 | E10: 85000 | F10: 96000 | G10: 72000 | H10: 79000 | I10: 67000 | J10: N/A | N10: =AVERAGE(hoja1!D3, hoja2!D3, '[1]HERLAN FORREO'!D3) -> #REF!
A11: 9 | B11: Galon de refrigerante | C11: 1 | D11: 169000 | E11: 169000 | F11: 169000 | G11: 169000 | H11: 169000 | I11: 169000 | J11: N/A
A12: 10 | B12: Grasa de alta temperatura 370gr | C12: 1 | D12: 109000 | E12: 109000 | F12: 109000 | G12: 109000 | H12: 109000 | I12: 109000 | J12: N/A
A13: 11 | B13: Liquido de frenos DOT4 240gr | C13: 1 | D13: 67000 | E13: 67000 | F13: 67000 | G13: 67000 | H13: 67000 | I13: 67000 | J13: 67000
A14: 12 | B14: Refrigerante 1/4 | C14: 1 | D14: 31000 | E14: 31000 | F14: 31000 | G14: 31000 | H14: 31000 | I14: 31000 | J14: 31000
A15: 13 | B15: Silicona gris de alta temperatura 85gr | C15: 1 | D15: 37000 | E15: 37000 | F15: 37000 | G15: 37000 | H15: 37000 | I15: 37000 | J15: 37000
A16: 14 | B16: Valvulina 80W90 1/4 | C16: 1 | D16: 96000 | E16: 96000 | F16: 96000 | G16: 96000 | H16: 96000 | I16: 96000 | J16: N/A
A17: 15 | B17: Valvulina 85W140 1/4 | C17: 1 | D17: 72000 | E17: 72000 | F17: 72000 | G17: 72000 | H17: 72000 | I17: 72000 | J17: N/A
A18: SISTEMA ELECTRICO
A19: 16 | B19: Arranque | C19: 1 | D19: 1277000 | E19: 1578000 | F19: 1578000 | G19: 1084000 | H19: 1084000 | I19: 1084000 | J19: N/A
A20: 17 | B20: Alternador | C20: 1 | D20: 1434000 | E20: 1914000 | F20: 1914000 | G20: 1260000 | H20: 1260000 | I20: 1260000 | J20: 3780000
A21: 18 | B21: Amarre plastico | C21: 1 | D21: 6000 | E21: 6000 | F21: 6000 | G21: 6000 | H21: 6000 | I21: 6000 | J21: 6000
A22: 19 | B22: Abrazadera metalica | C22: 1 | D22: 8000 | E22: 8000 | F22: 8000 | G22: 8000 | H22: 8000 | I22: 8000 | J22: 8000
A23: 20 | B23: Automatico de alternador | C23: 1 | D23: 288000 | E23: 351000 | F23: 351000 | G23: 192000 | H23: 192000 | I23: 192000 | J23: 320000
A24: 21 | B24: Alarma | C24: 1 | D24: 1277000 | E24: 1754000 | F24: N/A | G24: N/A | H24: N/A | I24: N/A | J24: 1780000
A25: 22 | B25: Antena radial | C25: 1 | D25: 448000 | E25: 623000 | F25: 623000 | G25: 288000 | H25: 288000 | I25: 288000 | J25: 355000
A26: 23 | B26: Bombillo H4 halogeno 60/55 12V | C26: 1 | D26: 48000 | E26: 48000 | F26: 48000 | G26: 48000 | H26: 48000 | I26: 48000 | J26: 190000
A27: 24 | B27: Bombillo H4 halogeno 100/90 12V | C27: 1 | D27: 65000 | E27: 65000 | F27: 65000 | G27: 65000 | H27: 65000 | I27: 65000 | J27: 240000
A28: 25 | B28: Bombillo de 1 contactos | C28: 1 | D28: 16000 | E28: 16000 | F28: 16000 | G28: 16000 | H28: 16000 | I28: 16000 | J28: 25000
A29: 26 | B29: Bombillo de 2 contactos | C29: 1 | D29: 25000 | E29: 25000 | F29: 25000 | G29: 25000 | H29: 25000 | I29: 25000 | J29: 25000
A30: 27 | B30: Bombillo garrapata | C30: 1 | D30: 14000 | E30: 14000 | F30: 14000 | G30: 14000 | H30: 14000 | I30: 14000 | J30: 18000
A31: 28 | B31: Bombillo de techo | C31: 1 | D31: 15000 | E31: 15000 | F31: 15000 | G31: 15000 | H31: 15000 | I31: 15000 | J31: 15000
A32: 29 | B32: Buje de arranque | C32: 1 | D32: 128000 | E32: 128000 | F32: 128000 | G32: 128000 | H32: 128000 | I32: 128000 | J32: N/A
A33: 30 | B33: Bendix de arranque | C33: 1 | D33: 268000 | E33: 312000 | F33: 312000 | G33: 164000 | H33: 164000 | I33: 164000 | J33: N/A
A34: 31 | B34: Carbonera del arranque | C34: 1 | D34: 256000 | E34: 303000 | F34: 303000 | G34: 128000 | H34: 128000 | I34: 128000 | J34: N/A
A35: 32 | B35: Cintilla Airbag | C35: 1 | D35: 1277000 | E35: 1914000 | F35: 1914000 | G35: 798000 | H35: N/A | I35: N/A | J35: 2600000
A36: 33 | B36: Control de alarma | C36: 1 | D36: 192000 | E36: 288000 | F36: N/A | G36: N/A | H36: N/A | I36: N/A | J36: 390000
A37: 34 | B37: Fusible | C37: 1 | D37: 25000 | E37: 25000 | F37: 25000 | G37: 25000 | H37: 25000 | I37: 25000 | J37: 35000
A38: 35 | B38: Electroventilador Completo | C38: 1 | D38: 1434000 | E38: 1914000 | F38: 1914000 | G38: 1260000 | H38: 1260000 | I38: 1260000 | J38: 3780000
A39: 36 | B39: Horquilla del arranque | C39: 1 | D39: 96000 | E39: 145000 | F39: 145000 | G39: 72000 | H39: 72000 | I39: 72000 | J39: N/A
A40: 37 | B40: Indicador de parqueo | C40: 1 | D40: 351000 | E40: 495000 | F40: 495000 | G40: 288000 | H40: 288000 | I40: 288000 | J40: 545000
...

Sheet MENOR
A1: ITEM | B1: CONCEPTO DE REPUESTOS | C1: CANTIDAD | D1: CAMIONETA CHEVROLET LUV DIMAX 3.5 MODELO 2009 | E1: CAMIONETA TOYOTA HILUX 2.7 MODELO 2015 | F1: CAMIONETA TOYOTA 4RUNNER | G1: AUTOMOVIL HIUNDAY ACCENT MODELO 2000 | H1: CAMPERO CHEVROLET VITARA 1.4 MODELO 1997 | I1: CHEVROLET SUPER CARRY PICKU 1000 MODELO 2007 | J1: CAMIONETA PANEL ELECTRICA BYD 1,6 MODELO 2022
A2: LUBRICANTES Y FILTROS
A3: 1 | B3: Aceite de motor 20W50 1/4 | C3: 1 | D3: =MIN(hoja1!D3,hoja2!D3,hoja3!D3) -> 91000 | E3: =MIN(hoja1!E3,hoja2!E3,hoja3!E3) -> 91000 | F3: =MIN(hoja1!F3,hoja2!F3,hoja3!F3) -> 91000 | G3: =MIN(hoja1!G3,hoja2!G3,hoja3!G3) -> 91000 | H3: =MIN(hoja1!H3,hoja2!H3,hoja3!H3) -> 91000 | I3: =MIN(hoja1!I3,hoja2!I3,hoja3!I3) -> 91000 | J3: =MIN(hoja1!J3,hoja2!J3,hoja3!J3) -> 0
A4: 2 | B4: Aceite hidraulico ATFDVl 1/4 | C4: 1 | D4: =MIN(hoja1!D4,hoja2!D4,hoja3!D4) -> 72000 | E4: =MIN(hoja1!E4,hoja2!E4,hoja3!E4) -> 72000 | F4: =MIN(hoja1!F4,hoja2!F4,hoja3!F4) -> 72000 | G4: =MIN(hoja1!G4,hoja2!G4,hoja3!G4) -> 72000 | H4: =MIN(hoja1!H4,hoja2!H4,hoja3!H4) -> 72000 | I4: =MIN(hoja1!I4,hoja2!I4,hoja3!I4) -> 72000 | J4: =MIN(hoja1!J4,hoja2!J4,hoja3!J4) -> 0
A5: 3 | B5: Aceite hidraulico ATFDlll 1/4 | C5: 1 | D5: =MIN(hoja1!D5,hoja2!D5,hoja3!D5) -> 85000 | E5: =MIN(hoja1!E5,hoja2!E5,hoja3!E5) -> 85000 | F5: =MIN(hoja1!F5,hoja2!F5,hoja3!F5) -> 85000 | G5: =MIN(hoja1!G5,hoja2!G5,hoja3!G5) -> 85000 | H5: =MIN(hoja1!H5,hoja2!H5,hoja3!H5) -> 85000 | I5: =MIN(hoja1!I5,hoja2!I5,hoja3!I5) -> 85000 | J5: =MIN(hoja1!J5,hoja2!J5,hoja3!J5) -> 0
A6: 4 | B6: Filtro de aceite | C6: 1 | D6: =MIN(hoja1!D6,hoja2!D6,hoja3!D6) -> 72000 | E6: =MIN(hoja1!E6,hoja2!E6,hoja3!E6) -> 85000 | F6: =MIN(hoja1!F6,hoja2!F6,hoja3!F6) -> 96000 | G6: =MIN(hoja1!G6,hoja2!G6,hoja3!G6) -> 55000 | H6: =MIN(hoja1!H6,hoja2!H6,hoja3!H6) -> 60000 | I6: =MIN(hoja1!I6,hoja2!I6,hoja3!I6) -> 48000 | J6: =MIN(hoja1!J6,hoja2!J6,hoja3!J6) -> 0
A7: 5 | B7: Filtro de aire de motor | C7: 1 | D7: =MIN(hoja1!D7,hoja2!D7,hoja3!D7) -> 96000 | E7: =MIN(hoja1!E7,hoja2!E7,hoja3!E7) -> 109000 | F7: =MIN(hoja1!F7,hoja2!F7,hoja3!F7) -> 145000 | G7: =MIN(hoja1!G7,hoja2!G7,hoja3!G7) -> 70000 | H7: =MIN(hoja1!H7,hoja2!H7,hoja3!H7) -> 70000 | I7: =MIN(hoja1!I7,hoja2!I7,hoja3!I7) -> 70000 | J7: =MIN(hoja1!J7,hoja2!J7,hoja3!J7) -> 0
A8: 6 | B8: Filtro de aire antipolen A/A | C8: 1 | D8: =MIN(hoja1!D8,hoja2!D8,hoja3!D8) -> 67000 | E8: =MIN(hoja1!E8,hoja2!E8,hoja3!E8) -> 72000 | F8: =MIN(hoja1!F8,hoja2!F8,hoja3!F8) -> 85000 | G8: =MIN(hoja1!G8,hoja2!G8,hoja3!G8) -> 60000 | H8: =MIN(hoja1!H8,hoja2!H8,hoja3!H8) -> 60000 | I8: =MIN(hoja1!I8,hoja2!I8,hoja3!I8) -> 0 | J8: =MIN(hoja1!J8,hoja2!J8,hoja3!J8) -> 85000
A9: 7 | B9: Filtro de gasolina externo | C9: 1 | D9: =MIN(hoja1!D9,hoja2!D9,hoja3!D9) -> 85000 | E9: =MIN(hoja1!E9,hoja2!E9,hoja3!E9) -> 96000 | F9: =MIN(hoja1!F9,hoja2!F9,hoja3!F9) -> 114000 | G9: =MIN(hoja1!G9,hoja2!G9,hoja3!G9) -> 71000 | H9: =MIN(hoja1!H9,hoja2!H9,hoja3!H9) -> 72000 | I9: =MIN(hoja1!I9,hoja2!I9,hoja3!I9) -> 67000 | J9: =MIN(hoja1!J9,hoja2!J9,hoja3!J9) -> 0
A10: 8 | B10: Filtro de gasolina interno | C10: 1 | D10: =MIN(hoja1!D10,hoja2!D10,hoja3!D10) -> 72000 | E10: =MIN(hoja1!E10,hoja2!E10,hoja3!E10) -> 85000 | F10: =MIN(hoja1!F10,hoja2!F10,hoja3!F10) -> 96000 | G10: =MIN(hoja1!G10,hoja2!G10,hoja3!G10) -> 72000 | H10: =MIN(hoja1!H10,hoja2!H10,hoja3!H10) -> 79000 | I10: =MIN(hoja1!I10,hoja2!I10,hoja3!I10) -> 67000 | J10: =MIN(hoja1!J10,hoja2!J10,hoja3!J10) -> 0
A11: 9 | B11: Galon de refrigerante | C11: 1 | D11: =MIN(hoja1!D11,hoja2!D11,hoja3!D11) -> 169000 | E11: =MIN(hoja1!E11,hoja2!E11,hoja3!E11) -> 169000 | F11: =MIN(hoja1!F11,hoja2!F11,hoja3!F11) -> 169000 | G11: =MIN(hoja1!G11,hoja2!G11,hoja3!G11) -> 169000 | H11: =MIN(hoja1!H11,hoja2!H11,hoja3!H11) -> 169000 | I11: =MIN(hoja1!I11,hoja2!I11,hoja3!I11) -> 169000 | J11: =MIN(hoja1!J11,hoja2!J11,hoja3!J11) -> 0
A12: 10 | B12: Grasa de alta temperatura 370gr | C12: 1 | D12: =MIN(hoja1!D12,hoja2!D12,hoja3!D12) -> 109000 | E12: =MIN(hoja1!E12,hoja2!E12,hoja3!E12) -> 109000 | F12: =MIN(hoja1!F12,hoja2!F12,hoja3!F12) -> 109000 | G12: =MIN(hoja1!G12,hoja2!G12,hoja3!G12) -> 109000 | H12: =MIN(hoja1!H12,hoja2!H12,hoja3!H12) -> 109000 | I12: =MIN(hoja1!I12,hoja2!I12,hoja3!I12) -> 109000 | J12: =MIN(hoja1!J12,hoja2!J12,hoja3!J12) -> 0
A13: 11 | B13: Liquido de frenos DOT4 240gr | C13: 1 | D13: =MIN(hoja1!D13,hoja2!D13,hoja3!D13) -> 67000 | E13: =MIN(hoja1!E13,hoja2!E13,hoja3!E13) -> 67000 | F13: =MIN(hoja1!F13,hoja2!F13,hoja3!F13) -> 67000 | G13: =MIN(hoja1!G13,hoja2!G13,hoja3!G13) -> 67000 | H13: =MIN(hoja1!H13,hoja2!H13,hoja3!H13) -> 67000 | I13: =MIN(hoja1!I13,hoja2!I13,hoja3!I13) -> 67000 | J13: =MIN(hoja1!J13,hoja2!J13,hoja3!J13) -> 67000
A14: 12 | B14: Refrigerante 1/4 | C14: 1 | D14: =MIN(hoja1!D14,hoja2!D14,hoja3!D14) -> 31000 | E14: =MIN(hoja1!E14,hoja2!E14,hoja3!E14) -> 31000 | F14: =MIN(hoja1!F14,hoja2!F14,hoja3!F14) -> 31000 | G14: =MIN(hoja1!G14,hoja2!G14,hoja3!G14) -> 31000 | H14: =MIN(hoja1!H14,hoja2!H14,hoja3!H14) -> 31000 | I14: =MIN(hoja1!I14,hoja2!I14,hoja3!I14) -> 31000 | J14: =MIN(hoja1!J14,hoja2!J14,hoja3!J14) -> 31000
... A17: 15 | B17: Valvulina 85W140 1/4 | C17: 1 | D17: =MIN(hoja1!D17,hoja2!D17,hoja3!D17) -> 72000 | E17: =MIN(hoja1!E17,hoja2!E17,hoja3!E17) -> 72000 | F17: =MIN(hoja1!F17,hoja2!F17,hoja3!F17) -> 72000 | G17: =MIN(hoja1!G17,hoja2!G17,hoja3!G17) -> 72000 | H17: =MIN(hoja1!H17,hoja2!H17,hoja3!H17) -> 72000 | I17: =MIN(hoja1!I17,hoja2!I17,hoja3!I17) -> 72000 | J17: =MIN(hoja1!J17,hoja2!J17,hoja3!J17) -> 0
A18: SISTEMA ELECTRICO | D18: =MIN(hoja1!D18,hoja2!D18,hoja3!D18) -> 0 | E18: =MIN(hoja1!E18,hoja2!E18,hoja3!E18) -> 0 | F18: =MIN(hoja1!F18,hoja2!F18,hoja3!F18) -> 0 | G18: =MIN(hoja1!G18,hoja2!G18,hoja3!G18) -> 0 | H18: =MIN(hoja1!H18,hoja2!H18,hoja3!H18) -> 0 | I18: =MIN(hoja1!I18,hoja2!I18,hoja3!I18) -> 0 | J18: =MIN(hoja1!J18,hoja2!J18,hoja3!J18) -> 0
A19: 16 | B19: Arranque | C19: 1 | D19: =MIN(hoja1!D19,hoja2!D19,hoja3!D19) -> 1277000 | E19: =MIN(hoja1!E19,hoja2!E19,hoja3!E19) -> 1578000 | F19: =MIN(hoja1!F19,hoja2!F19,hoja3!F19) -> 1578000 | G19: =MIN(hoja1!G19,hoja2!G19,hoja3!G19) -> 1084000 | H19: =MIN(hoja1!H19,hoja2!H19,hoja3!H19) -> 1084000 | I19: =MIN(hoja1!I19,hoja2!I19,hoja3!I19) -> 1084000 | J19: =MIN(hoja1!J19,hoja2!J19,hoja3!J19) -> 0
A20: 17 | B20: Alternador | C20: 1 | D20: =MIN(hoja1!D20,hoja2!D20,hoja3!D20) -> 1434000 | E20: =MIN(hoja1!E20,hoja2!E20,hoja3!E20) -> 1914000 | F20: =MIN(hoja1!F20,hoja2!F20,hoja3!F20) -> 1914000 | G20: =MIN(hoja1!G20,hoja2!G20,hoja3!G20) -> 1260000 | H20: =MIN(hoja1!H20,hoja2!H20,hoja3!H20) -> 1260000 | I20: =MIN(hoja1!I20,hoja2!I20,hoja3!I20) -> 1260000 | J20: =MIN(hoja1!J20,hoja2!J20,hoja3!J20) -> 3780000
A21: 18 | B21: Amarre plastico | C21: 1 | D21: =MIN(hoja1!D21,hoja2!D21,hoja3!D21) -> 6000 | E21: =MIN(hoja1!E21,hoja2!E21,hoja3!E21) -> 6000 | F21: =MIN(hoja1!F21,hoja2!F21,hoja3!F21) -> 6000 | G21: =MIN(hoja1!G21,hoja2!G21,hoja3!G21) -> 6000 | H21: =MIN(hoja1!H21,hoja2!H21,hoja3!H21) -> 6000 | I21: =MIN(hoja1!I21,hoja2!I21,hoja3!I21) -> 6000 | J21: =MIN(hoja1!J21,hoja2!J21,hoja3!J21) -> 4000
A22: 19 | B22: Abrazadera metalica | C22: 1 | D22: =MIN(hoja1!D22,hoja2!D22,hoja3!D22) -> 8000 | E22: =MIN(hoja1!E22,hoja2!E22,hoja3!E22) -> 8000 | F22: =MIN(hoja1!F22,hoja2!F22,hoja3!F22) -> 8000 | G22: =MIN(hoja1!G22,hoja2!G22,hoja3!G22) -> 8000 | H22: =MIN(hoja1!H22,hoja2!H22,hoja3!H22) -> 8000 | I22: =MIN(hoja1!I22,hoja2!I22,hoja3!I22) -> 8000 | J22: =MIN(hoja1!J22,hoja2!J22,hoja3!J22) -> 5500
A23: 20 | B23: Automatico de alternador | C23: 1 | D23: =MIN(hoja1!D23,hoja2!D23,hoja3!D23) -> 288000 | E23: =MIN(hoja1!E23,hoja2!E23,hoja3!E23) -> 351000 | F23: =MIN(hoja1!F23,hoja2!F23,hoja3!F23) -> 351000 | G23: =MIN(hoja1!G23,hoja2!G23,hoja3!G23) -> 192000 | H23: =MIN(hoja1!H23,hoja2!H23,hoja3!H23) -> 192000 | I23: =MIN(hoja1!I23,hoja2!I23,hoja3!I23) -> 192000 | J23: =MIN(hoja1!J23,hoja2!J23,hoja3!J23) -> 320000
A24: 21 | B24: Alarma | C24: 1 | D24: =MIN(hoja1!D24,hoja2!D24,hoja3!D24) -> 1277000 | E24: =MIN(hoja1!E24,hoja2!E24,hoja3!E24) -> 1754000 | F24: =MIN(hoja1!F24,hoja2!F24,hoja3!F24) -> 0 | G24: =MIN(hoja1!G24,hoja2!G24,hoja3!G24) -> 0 | H24: =MIN(hoja1!H24,hoja2!H24,hoja3!H24) -> 0 | I24: =MIN(hoja1!I24,hoja2!I24,hoja3!I24) -> 0 | J24: =MIN(hoja1!J24,hoja2!J24,hoja3!J24) -> 1780000
A25: 22 | B25: Antena radial | C25: 1 | D25: =MIN(hoja1!D25,hoja2!D25,hoja3!D25) -> 448000 | E25: =MIN(hoja1!E25,hoja2!E25,hoja3!E25) -> 623000 | F25: =MIN(hoja1!F25,hoja2!F25,hoja3!F25) -> 623000 | G25: =MIN(hoja1!G25,hoja2!G25,hoja3!G25) -> 288000 | H25: =MIN(hoja1!H25,hoja2!H25,hoja3!H25) -> 288000 | I25: =MIN(hoja1!I25,hoja2!I25,hoja3!I25) -> 288000 | J25: =MIN(hoja1!J25,hoja2!J25,hoja3!J25) -> 355000
A26: 23 | B26: Bombillo H4 halogeno 60/55 12V | C26: 1 | D26: =MIN(hoja1!D26,hoja2!D26,hoja3!D26) -> 48000 | E26: =MIN(hoja1!E26,hoja2!E26,hoja3!E26) -> 48000 | F26: =MIN(hoja1!F26,hoja2!F26,hoja3!F26) -> 48000 | G26: =MIN(hoja1!G26,hoja2!G26,hoja3!G26) -> 48000 | H26: =MIN(hoja1!H26,hoja2!H26,hoja3!H26) -> 48000 | I26: =MIN(hoja1!I26,hoja2!I26,hoja3!I26) -> 48000 | J26: =MIN(hoja1!J26,hoja2!J26,hoja3!J26) -> 190000
A27: 24 | B27: Bombillo H4 halogeno 100/90 12V | C27: 1 | D27: =MIN(hoja1!D27,hoja2!D27,hoja3!D27) -> 65000 | E27: =MIN(hoja1!E27,hoja2!E27,hoja3!E27) -> 65000 | F27: =MIN(hoja1!F27,hoja2!F27,hoja3!F27) -> 65000 | G27: =MIN(hoja1!G27,hoja2!G27,hoja3!G27) -> 65000 | H27: =MIN(hoja1!H27,hoja2!H27,hoja3!H27) -> 65000 | I27: =MIN(hoja1!I27,hoja2!I27,hoja3!I27) -> 65000 | J27: =MIN(hoja1!J27,hoja2!J27,hoja3!J27) -> 240000
A28: 25 | B28: Bombillo de 1 contactos | C28: 1 | D28: =MIN(hoja1!D28,hoja2!D28,hoja3!D28) -> 16000 | E28: =MIN(hoja1!E28,hoja2!E28,hoja3!E28) -> 16000 | F28: =MIN(hoja1!F28,hoja2!F28,hoja3!F28) -> 16000 | G28: =MIN(hoja1!G28,hoja2!G28,hoja3!G28) -> 16000 | H28: =MIN(hoja1!H28,hoja2!H28,hoja3!H28) -> 16000 | I28: =MIN(hoja1!I28,hoja2!I28,hoja3!I28) -> 16000 | J28: =MIN(hoja1!J28,hoja2!J28,hoja3!J28) -> 25000
A29: 26 | B29: Bombillo de 2 contactos | C29: 1 | D29: =MIN(hoja1!D29,hoja2!D29,hoja3!D29) -> 25000 | E29: =MIN(hoja1!E29,hoja2!E29,hoja3!E29) -> 25000 | F29: =MIN(hoja1!F29,hoja2!F29,hoja3!F29) -> 25000 | G29: =MIN(hoja1!G29,hoja2!G29,hoja3!G29) -> 25000 | H29: =MIN(hoja1!H29,hoja2!H29,hoja3!H29) -> 25000 | I29: =MIN(hoja1!I29,hoja2!I29,hoja3!I29) -> 25000 | J29: =MIN(hoja1!J29,hoja2!J29,hoja3!J29) -> 25000
A30: 27 | B30: Bombillo garrapata | C30: 1 | D30: =MIN(hoja1!D30,hoja2!D30,hoja3!D30) -> 14000 | E30: =MIN(hoja1!E30,hoja2!E30,hoja3!E30) -> 14000 | F30: =MIN(hoja1!F30,hoja2!F30,hoja3!F30) -> 14000 | G30: =MIN(hoja1!G30,hoja2!G30,hoja3!G30) -> 14000 | H30: =MIN(hoja1!H30,hoja2!H30,hoja3!H30) -> 14000 | I30: =MIN(hoja1!I30,hoja2!I30,hoja3!I30) -> 14000 | J30: =MIN(hoja1!J30,hoja2!J30,hoja3!J30) -> 18000
... A55: 52 | B55: Tapa de distribuidor | C55: 1 | D55: =MIN(hoja1!D55,hoja2!D55,hoja3!D55) -> 0 | E55: =MIN(hoja1!E55,hoja2!E55,hoja3!E55) -> 0 | F55: =MIN(hoja1!F55,hoja2!F55,hoja3!F55) -> 0 | G55: =MIN(hoja1!G55,hoja2!G55,hoja3!G55) -> 0 | H55: =MIN(hoja1!H55,hoja2!H55,hoja3!H55) -> 145000 | I55: =MIN(hoja1!I55,hoja2!I55,hoja3!I55) -> 145000 | J55: =MIN(hoja1!J55,hoja2!J55,hoja3!J55) -> 140000
A56: SISTEMA DE SUSPENSIÓN | D56: =MIN(hoja1!D56,hoja2!D56,hoja3!D56) -> 0 | E56: =MIN(hoja1!E56,hoja2!E56,hoja3!E56) -> 0 | F56: =MIN(hoja1!F56,hoja2!F56,hoja3!F56) -> 0 | G56: =MIN(hoja1!G56,hoja2!G56,hoja3!G56) -> 0 | H56: =MIN(hoja1!H56,hoja2!H56,hoja3!H56) -> 0 | I56: =MIN(hoja1!I56,hoja2!I56,hoja3!I56) -> 0 | J56: =MIN(hoja1!J56,hoja2!J56,hoja3!J56) -> 0
A57: 53 | B57: Amortiguador delantero | C57: 1 | D57: =MIN(hoja1!D57,hoja2!D57,hoja3!D57) -> 605000 | E57: =MIN(hoja1!E57,hoja2!E57,hoja3!E57) -> 735000 | F57: =MIN(hoja1!F57,hoja2!F57,hoja3!F57) -> 735000 | G57: =MIN(hoja1!G57,hoja2!G57,hoja3!G57) -> 448000 | H57: =MIN(hoja1!H57,hoja2!H57,hoja3!H57) -> 462000 | I57: =MIN(hoja1!I57,hoja2!I57,hoja3!I57) -> 448000 | J57: =MIN(hoja1!J57,hoja2!J57,hoja3!J57) -> 710000
A58: 54 | B58: Amortiguador trasero | C58: 1 | D58: =MIN(hoja1!D58,hoja2!D58,hoja3!D58) -> 605000 | E58: =MIN(hoja1!E58,hoja2!E58,hoja3!E58) -> 735000 | F58: =MIN(hoja1!F58,hoja2!F58,hoja3!F58) -> 735000 | G58: =MIN(hoja1!G58,hoja2!G58,hoja3!G58) -> 448000 | H58: =MIN(hoja1!H58,hoja2!H58,hoja3!H58) -> 462000 | I58: =MIN(hoja1!I58,hoja2!I58,hoja3!I58) -> 448000 | J58: =MIN(hoja1!J58,hoja2!J58,hoja3!J58) -> 710000
A59: 55 | B59: Axial de direcciòn | C59: 1 | D59: =MIN(hoja1!D59,hoja2!D59,hoja3!D59) -> 588000 | E59: =MIN(hoja1!E59,hoja2!E59,hoja3!E59) -> 671000 | F59: =MIN(hoja1!F59,hoja2!F59,hoja3!F59) -> 671000 | G59: =MIN(hoja1!G59,hoja2!G59,hoja3!G59) -> 192000 | H59: =MIN(hoja1!H59,hoja2!H59,hoja3!H59) -> 256000 | I59: =MIN(hoja1!I59,hoja2!I59,hoja3!I59) -> 192000 | J59: =MIN(hoja1!J59,hoja2!J59,hoja3!J59) -> 693000
A60: 56 | B60: Buje de tijera superior | C60: 1 | D60: =MIN(hoja1!D60,hoja2!D60,hoja3!D60) -> 331000 | E60: =MIN(hoja1!E60,hoja2!E60,hoja3!E60) -> 351000 | F60: =MIN(hoja1!F60,hoja2!F60,hoja3!F60) -> 351000 | G60: =MIN(hoja1!G60,hoja2!G60,hoja3!G60) -> 145000 | H60: =MIN(hoja1!H60,hoja2!H60,hoja3!H60) -> 159000 | I60: =MIN(hoja1!I60,hoja2!I60,hoja3!I60) -> 145000 | J60: =MIN(hoja1!J60,hoja2!J60,hoja3!J60) -> 436000
A61: 57 | B61: Buje de tijera inferior | C61: 1 | D61: =MIN(hoja1!D61,hoja2!D61,hoja3!D61) -> 331000 | E61: =MIN(hoja1!E61,hoja2!E61,hoja3!E61) -> 351000 | F61: =MIN(hoja1!F61,hoja2!F61,hoja3!F61) -> 351000 | G61: =MIN(hoja1!G61,hoja2!G61,hoja3!G61) -> 0 | H61: =MIN(hoja1!H61,hoja2!H61,hoja3!H61) -> 159000 | I61: =MIN(hoja1!I61,hoja2!I61,hoja3!I61) -> 145000 | J61: =MIN(hoja1!J61,hoja2!J61,hoja3!J61) -> 436000
A62: 58 | B62: Buje de templete inferior | C62: 1 | D62: =MIN(hoja1!D62,hoja2!D62,hoja3!D62) -> 257000 | E62: =MIN(hoja1!E62,hoja2!E62,hoja3!E62) -> 288000 | F62: =MIN(hoja1!F62,hoja2!F62,hoja3!F62) -> 288000 | G62: =MIN(hoja1!G62,hoja2!G62,hoja3!G62) -> 0 | H62: =MIN(hoja1!H62,hoja2!H62,hoja3!H62) -> 145000 | I62: =MIN(hoja1!I62,hoja2!I62,hoja3!I62) -> 128000 | J62: =MIN(hoja1!J62,hoja2!J62,hoja3!J62) -> 362000
A63: 59 | B63: Buje de templete superior | C63: 1 | D63: =MIN(hoja1!D63,hoja2!D63,hoja3!D63) -> 257000 | E63: =MIN(hoja1!E63,hoja2!E63,hoja3!E63) -> 288000 | F63: =MIN(hoja1!F63,hoja2!F63,hoja3!F63) -> 288000 | G63: =MIN(hoja1!G63,hoja2!G63,hoja3!G63) -> 0 | H63: =MIN(hoja1!H63,hoja2!H63,hoja3!H63) -> 145000 | I63: =MIN(hoja1!I63,hoja2!I63,hoja3!I63) -> 128000 | J63: =MIN(hoja1!J63,hoja2!J63,hoja3!J63) -> 362000
A64: 60 | B64: Buje de biela de direccion | C64: 1 | D64: =MIN(hoja1!D64,hoja2!D64,hoja3!D64) -> 532000 | E64: =MIN(hoja1!E64,hoja2!E64,hoja3!E64) -> 606000 | F64: =MIN(hoja1!F64,hoja2!F64,hoja3!F64) -> 606000 | G64: =MIN(hoja1!G64,hoja2!G64,hoja3!G64) -> 0 | H64: =MIN(hoja1!H64,hoja2!H64,hoja3!H64) -> 303000 | I64: =MIN(hoja1!I64,hoja2!I64,hoja3!I64) -> 256000 | J64: =MIN(hoja1!J64,hoja2!J64,hoja3!J64) -> 637000
A65: 61 | B65: Buje de muelle | C65: 1 | D65: =MIN(hoja1!D65,hoja2!D65,hoja3!D65) -> 219000 | E65: =MIN(hoja1!E65,hoja2!E65,hoja3!E65) -> 256000 | F65: =MIN(hoja1!F65,hoja2!F65,hoja3!F65) -> 0 | G65: =MIN(hoja1!G65,hoja2!G65,hoja3!G65) -> 0 | H65: =MIN(hoja1!H65,hoja2!H65,hoja3!H65) -> 159000 | I65: =MIN(hoja1!I65,hoja2!I65,hoja3!I65) -> 145000 | J65: =MIN(hoja1!J65,hoja2!J65,hoja3!J65) -> 324000
A66: 62 | B66: Bocin de rueda delantera | C66: 1 | D66: =MIN(hoja1!D66,hoja2!D66,hoja3!D66) -> 1064000 | E66: =MIN(hoja1!E66,hoja2!E66,hoja3!E66) -> 1021000 | F66: =MIN(hoja1!F66,hoja2!F66,hoja3!F66) -> 1021000 | G66: =MIN(hoja1!G66,hoja2!G66,hoja3!G66) -> 606000 | H66: =MIN(hoja1!H66,hoja2!H66,hoja3!H66) -> 766000 | I66: =MIN(hoja1!I66,hoja2!I66,hoja3!I66) -> 606000 | J66: =MIN(hoja1!J66,hoja2!J66,hoja3!J66) -> 1169000
...

Sheet PROMEDIO
A1: ITEM | B1: CONCEPTO DE REPUESTOS | C1: CANTIDAD | D1: CAMIONETA CHEVROLET LUV DIMAX 3.5 MODELO 2009 | E1: CAMIONETA TOYOTA HILUX 2.7 MODELO 2015 | F1: CAMIONETA TOYOTA 4RUNNER | G1: AUTOMOVIL HIUNDAY ACCENT MODELO 2000 | H1: CAMPERO CHEVROLET VITARA 1.4 MODELO 1997 | I1: CHEVROLET SUPER CARRY PICKU 1000 MODELO 2007 | J1: CAMIONETA PANEL ELECTRICA BYD 1,6 MODELO 2022
A2: LUBRICANTES Y FILTROS
A3: 1 | B3: Aceite de motor 20W50 1/4 | C3: 1 | D3: =AVERAGE(hoja1!D3,hoja2!D3,hoja3!D3) -> 98333.333 | E3: =AVERAGE(hoja1!E3,hoja2!E3,hoja3!E3) -> 98333.333 | F3: =AVERAGE(hoja1!F3,hoja2!F3,hoja3!F3) -> 98333.333 | G3: =AVERAGE(hoja1!G3,hoja2!G3,hoja3!G3) -> 98333.333 | H3: =AVERAGE(hoja1!H3,hoja2!H3,hoja3!H3) -> 98333.333 | I3: =AVERAGE(hoja1!I3,hoja2!I3,hoja3!I3) -> 98333.333
A4: 2 | B4: Aceite hidraulico ATFDVl 1/4 | C4: 1 | D4: =AVERAGE(hoja1!D4,hoja2!D4,hoja3!D4) -> 78333.333 | E4: =AVERAGE(hoja1!E4,hoja2!E4,hoja3!E4) -> 78333.333 | F4: =AVERAGE(hoja1!F4,hoja2!F4,hoja3!F4) -> 78333.333 | G4: =AVERAGE(hoja1!G4,hoja2!G4,hoja3!G4) -> 78333.333 | H4: =AVERAGE(hoja1!H4,hoja2!H4,hoja3!H4) -> 78333.333 | I4: =AVERAGE(hoja1!I4,hoja2!I4,hoja3!I4) -> 78333.333
A5: 3 | B5: Aceite hidraulico ATFDlll 1/4 | C5: 1 | D5: =AVERAGE(hoja1!D5,hoja2!D5,hoja3!D5) -> 92333.333 | E5: =AVERAGE(hoja1!E5,hoja2!E5,hoja3!E5) -> 92333.333 | F5: =AVERAGE(hoja1!F5,hoja2!F5,hoja3!F5) -> 92333.333 | G5: =AVERAGE(hoja1!G5,hoja2!G5,hoja3!G5) -> 92333.333 | H5: =AVERAGE(hoja1!H5,hoja2!H5,hoja3!H5) -> 92333.333 | I5: =AVERAGE(hoja1!I5,hoja2!I5,hoja3!I5) -> 92333.333
A6: 4 | B6: Filtro de aceite | C6: 1 | D6: =AVERAGE(hoja1!D6,hoja2!D6,hoja3!D6) -> 78333.333 | E6: =AVERAGE(hoja1!E6,hoja2!E6,hoja3!E6) -> 92333.333 | F6: =AVERAGE(hoja1!F6,hoja2!F6,hoja3!F6) -> 103666.67 | G6: =AVERAGE(hoja1!G6,hoja2!G6,hoja3!G6) -> 59333.333 | H6: =AVERAGE(hoja1!H6,hoja2!H6,hoja3!H6) -> 65333.333 | I6: =AVERAGE(hoja1!I6,hoja2!I6,hoja3!I6) -> 52333.333
A7: 5 | B7: Filtro de aire de motor | C7: 1 | D7: =AVERAGE(hoja1!D7,hoja2!D7,hoja3!D7) -> 103666.67 | E7: =AVERAGE(hoja1!E7,hoja2!E7,hoja3!E7) -> 117666.67 | F7: =AVERAGE(hoja1!F7,hoja2!F7,hoja3!F7) -> 156666.67 | G7: =AVERAGE(hoja1!G7,hoja2!G7,hoja3!G7) -> 76333.333 | H7: =AVERAGE(hoja1!H7,hoja2!H7,hoja3!H7) -> 76333.333 | I7: =AVERAGE(hoja1!I7,hoja2!I7,hoja3!I7) -> 76333.333
A8: 6 | B8: Filtro de aire antipolen A/A | C8: 1 | D8: =AVERAGE(hoja1!D8,hoja2!D8,hoja3!D8) -> 72333.333 | E8: =AVERAGE(hoja1!E8,hoja2!E8,hoja3!E8) -> 78333.333 | F8: =AVERAGE(hoja1!F8,hoja2!F8,hoja3!F8) -> 92333.333 | G8: =AVERAGE(hoja1!G8,hoja2!G8,hoja3!G8) -> 65333.333 | H8: =AVERAGE(hoja1!H8,hoja2!H8,hoja3!H8) -> 65333.333 | J8: =AVERAGE(hoja1!J8,hoja2!J8,hoja3!J8) -> 90000
A9: 7 | B9: Filtro de gasolina externo | C9: 1 | D9: =AVERAGE(hoja1!D9,hoja2!D9,hoja3!D9) -> 92333.333 | E9: =AVERAGE(hoja1!E9,hoja2!E9,hoja3!E9) -> 103666.67 | F9: =AVERAGE(hoja1!F9,hoja2!F9,hoja3!F9) -> 123333.33 | G9: =AVERAGE(hoja1!G9,hoja2!G9,hoja3!G9) -> 77333.333 | H9: =AVERAGE(hoja1!H9,hoja2!H9,hoja3!H9) -> 78333.333 | I9: =AVERAGE(hoja1!I9,hoja2!I9,hoja3!I9) -> 72333.333
A10: 8 | B10: Filtro de gasolina interno | C10: 1 | D10: =AVERAGE(hoja1!D10,hoja2!D10,hoja3!D10) -> 78333.333 | E10: =AVERAGE(hoja1!E10,hoja2!E10,hoja3!E10) -> 92333.333 | F10: =AVERAGE(hoja1!F10,hoja2!F10,hoja3!F10) -> 103666.67 | G10: =AVERAGE(hoja1!G10,hoja2!G10,hoja3!G10) -> 78333.333 | H10: =AVERAGE(hoja1!H10,hoja2!H10,hoja3!H10) -> 85333.333 | I10: =AVERAGE(hoja1!I10,hoja2!I10,hoja3!I10) -> 72333.333
A11: 9 | B11: Galon de refrigerante | C11: 1 | D11: =AVERAGE(hoja1!D11,hoja2!D11,hoja3!D11) -> 182666.67 | E11: =AVERAGE(hoja1!E11,hoja2!E11,hoja3!E11) -> 182666.67 | F11: =AVERAGE(hoja1!F11,hoja2!F11,hoja3!F11) -> 182666.67 | G11: =AVERAGE(hoja1!G11,hoja2!G11,hoja3!G11) -> 182666.67 | H11: =AVERAGE(hoja1!H11,hoja2!H11,hoja3!H11) -> 182666.67 | I11: =AVERAGE(hoja1!I11,hoja2!I11,hoja3!I11) -> 182666.67
A12: 10 | B12: Grasa de alta temperatura 370gr | C12: 1 | D12: =AVERAGE(hoja1!D12,hoja2!D12,hoja3!D12) -> 117666.67 | E12: =AVERAGE(hoja1!E12,hoja2!E12,hoja3!E12) -> 117666.67 | F12: =AVERAGE(hoja1!F12,hoja2!F12,hoja3!F12) -> 117666.67 | G12: =AVERAGE(hoja1!G12,hoja2!G12,hoja3!G12) -> 117666.67 | H12: =AVERAGE(hoja1!H12,hoja2!H12,hoja3!H12) -> 117666.67 | I12: =AVERAGE(hoja1!I12,hoja2!I12,hoja3!I12) -> 117666.67
A13: 11 | B13: Liquido de frenos DOT4 240gr | C13: 1 | D13: =AVERAGE(hoja1!D13,hoja2!D13,hoja3!D13) -> 72333.333 | E13: =AVERAGE(hoja1!E13,hoja2!E13,hoja3!E13) -> 72333.333 | F13: =AVERAGE(hoja1!F13,hoja2!F13,hoja3!F13) -> 72333.333 | G13: =AVERAGE(hoja1!G13,hoja2!G13,hoja3!G13) -> 72333.333 | H13: =AVERAGE(hoja1!H13,hoja2!H13,hoja3!H13) -> 72333.333 | I13: =AVERAGE(hoja1!I13,hoja2!I13,hoja3!I13) -> 72333.333 | J13: =AVERAGE(hoja1!J13,hoja2!J13,hoja3!J13) -> 70666.667
A14: 12 | B14: Refrigerante 1/4 | C14: 1 | D14: =AVERAGE(hoja1!D14,hoja2!D14,hoja3!D14) -> 34000 | E14: =AVERAGE(hoja1!E14,hoja2!E14,hoja3!E14) -> 34000 | F14: =AVERAGE(hoja1!F14,hoja2!F14,hoja3!F14) -> 34000 | G14: =AVERAGE(hoja1!G14,hoja2!G14,hoja3!G14) -> 34000 | H14: =AVERAGE(hoja1!H14,hoja2!H14,hoja3!H14) -> 34000 | I14: =AVERAGE(hoja1!I14,hoja2!I14,hoja3!I14) -> 34000 | J14: =AVERAGE(hoja1!J14,hoja2!J14,hoja3!J14) -> 43666.667
A15: 13 | B15: Silicona gris de alta temperatura 85gr | C15: 1 | D15: =AVERAGE(hoja1!D15,hoja2!D15,hoja3!D15) -> 40333.333 | E15: =AVERAGE(hoja1!E15,hoja2!E15,hoja3!E15) -> 40333.333 | F15: =AVERAGE(hoja1!F15,hoja2!F15,hoja3!F15) -> 40333.333 | G15: =AVERAGE(hoja1!G15,hoja2!G15,hoja3!G15) -> 40333.333 | H15: =AVERAGE(hoja1!H15,hoja2!H15,hoja3!H15) -> 40333.333 | I15: =AVERAGE(hoja1!I15,hoja2!I15,hoja3!I15) -> 40333.333 | J15: =AVERAGE(hoja1!J15,hoja2!J15,hoja3!J15) -> 39333.333
A16: 14 | B16: Valvulina 80W90 1/4 | C16: 1 | D16: =AVERAGE(hoja1!D16,hoja2!D16,hoja3!D16) -> 103666.67 | E16: =AVERAGE(hoja1!E16,hoja2!E16,hoja3!E16) -> 103666.67 | F16: =AVERAGE(hoja1!F16,hoja2!F16,hoja3!F16) -> 103666.67 | G16: =AVERAGE(hoja1!G16,hoja2!G16,hoja3!G16) -> 103666.67 | H16: =AVERAGE(hoja1!H16,hoja2!H16,hoja3!H16) -> 103666.67 | I16: =AVERAGE(hoja1!I16,hoja2!I16,hoja3!I16) -> 103666.67
A17: 15 | B17: Valvulina 85W140 1/4 | C17: 1 | D17: =AVERAGE(hoja1!D17,hoja2!D17,hoja3!D17) -> 78333.333 | E17: =AVERAGE(hoja1!E17,hoja2!E17,hoja3!E17) -> 78333.333 | F17: =AVERAGE(hoja1!F17,hoja2!F17,hoja3!F17) -> 78333.333 | G17: =AVERAGE(hoja1!G17,hoja2!G17,hoja3!G17) -> 78333.333 | H17: =AVERAGE(hoja1!H17,hoja2!H17,hoja3!H17) -> 78333.333 | I17: =AVERAGE(hoja1!I17,hoja2!I17,hoja3!I17) -> 78333.333
A18: SISTEMA ELECTRICO
A19: 16 | B19: Arranque | C19: 1 | D19: =AVERAGE(hoja1!D19,hoja2!D19,hoja3!D19) -> 1444000 | E19: =AVERAGE(hoja1!E19,hoja2!E19,hoja3!E19) -> 1784333.3 | F19: =AVERAGE(hoja1!F19,hoja2!F19,hoja3!F19) -> 1784333.3 | G19: =AVERAGE(hoja1!G19,hoja2!G19,hoja3!G19) -> 1226666.7 | H19: =AVERAGE(hoja1!H19,hoja2!H19,hoja3!H19) -> 1226666.7 | I19: =AVERAGE(hoja1!I19,hoja2!I19,hoja3!I19) -> 1226666.7
A20: 17 | B20: Alternador | C20: 1 | D20: =AVERAGE(hoja1!D20,hoja2!D20,hoja3!D20) -> 1622000 | E20: =AVERAGE(hoja1!E20,hoja2!E20,hoja3!E20) -> 2164333.3 | F20: =AVERAGE(hoja1!F20,hoja2!F20,hoja3!F20) -> 2164333.3 | G20: =AVERAGE(hoja1!G20,hoja2!G20,hoja3!G20) -> 1425333.3 | H20: =AVERAGE(hoja1!H20,hoja2!H20,hoja3!H20) -> 1425333.3 | I20: =AVERAGE(hoja1!I20,hoja2!I20,hoja3!I20) -> 1425333.3 | J20: =AVERAGE(hoja1!J20,hoja2!J20,hoja3!J20) -> 3876666.7
A21: 18 | B21: Amarre plastico | C21: 1 | D21: =AVERAGE(hoja1!D21,hoja2!D21,hoja3!D21) -> 7000 | E21: =AVERAGE(hoja1!E21,hoja2!E21,hoja3!E21) -> 7000 | F21: =AVERAGE(hoja1!F21,hoja2!F21,hoja3!F21) -> 7000 | G21: =AVERAGE(hoja1!G21,hoja2!G21,hoja3!G21) -> 7000 | H21: =AVERAGE(hoja1!H21,hoja2!H21,hoja3!H21) -> 7000 | I21: =AVERAGE(hoja1!I21,hoja2!I21,hoja3!I21) -> 7000 | J21: =AVERAGE(hoja1!J21,hoja2!J21,hoja3!J21) -> 4833.3333
A22: 19 | B22: Abrazadera metalica | C22: 1 | D22: =AVERAGE(hoja1!D22,hoja2!D22,hoja3!D22) -> 9000 | E22: =AVERAGE(hoja1!E22,hoja2!E22,hoja3!E22) -> 9000 | F22: =AVERAGE(hoja1!F22,hoja2!F22,hoja3!F22) -> 9000 | G22: =AVERAGE(hoja1!G22,hoja2!G22,hoja3!G22) -> 9000 | H22: =AVERAGE(hoja1!H22,hoja2!H22,hoja3!H22) -> 9000 | I22: =AVERAGE(hoja1!I22,hoja2!I22,hoja3!I22) -> 9000 | J22: =AVERAGE(hoja1!J22,hoja2!J22,hoja3!J22) -> 6500
A23: 20 | B23: Automatico de alternador | C23: 1 | D23: =AVERAGE(hoja1!D23,hoja2!D23,hoja3!D23) -> 310666.67 | E23: =AVERAGE(hoja1!E23,hoja2!E23,hoja3!E23) -> 378666.67 | F23: =AVERAGE(hoja1!F23,hoja2!F23,hoja3!F23) -> 378666.67 | G23: =AVERAGE(hoja1!G23,hoja2!G23,hoja3!G23) -> 207000 | H23: =AVERAGE(hoja1!H23,hoja2!H23,hoja3!H23) -> 207000 | I23: =AVERAGE(hoja1!I23,hoja2!I23,hoja3!I23) -> 207000 | J23: =AVERAGE(hoja1!J23,hoja2!J23,hoja3!J23) -> 425000
A24: 21 | B24: Alarma | C24: 1 | D24: =AVERAGE(hoja1!D24,hoja2!D24,hoja3!D24) -> 1375333.3 | E24: =AVERAGE(hoja1!E24,hoja2!E24,hoja3!E24) -> 1889666.7 | J24: =AVERAGE(hoja1!J24,hoja2!J24,hoja3!J24) -> 1885000
A25: 22 | B25: Antena radial | C25: 1 | D25: =AVERAGE(hoja1!D25,hoja2!D25,hoja3!D25) -> 483000 | E25: =AVERAGE(hoja1!E25,hoja2!E25,hoja3!E25) -> 671333.33 | F25: =AVERAGE(hoja1!F25,hoja2!F25,hoja3!F25) -> 671333.33 | G25: =AVERAGE(hoja1!G25,hoja2!G25,hoja3!G25) -> 310666.67 | H25: =AVERAGE(hoja1!H25,hoja2!H25,hoja3!H25) -> 310666.67 | I25: =AVERAGE(hoja1!I25,hoja2!I25,hoja3!I25) -> 310666.67 | J25: =AVERAGE(hoja1!J25,hoja2!J25,hoja3!J25) -> 460000
A26: 23 | B26: Bombillo H4 halogeno 60/55 12V | C26: 1 | D26: =AVERAGE(hoja1!D26,hoja2!D26,hoja3!D26) -> 52333.333 | E26: =AVERAGE(hoja1!E26,hoja2!E26,hoja3!E26) -> 52333.333 | F26: =AVERAGE(hoja1!F26,hoja2!F26,hoja3!F26) -> 52333.333 | G26: =AVERAGE(hoja1!G26,hoja2!G26,hoja3!G26) -> 52333.333 | H26: =AVERAGE(hoja1!H26,hoja2!H26,hoja3!H26) -> 52333.333 | I26: =AVERAGE(hoja1!I26,hoja2!I26,hoja3!I26) -> 52333.333 | J26: =AVERAGE(hoja1!J26,hoja2!J26,hoja3!J26) -> 295000
A27: 24 | B27: Bombillo H4 halogeno 100/90 12V | C27: 1 | D27: =AVERAGE(hoja1!D27,hoja2!D27,hoja3!D27) -> 70333.333 | E27: =AVERAGE(hoja1!E27,hoja2!E27,hoja3!E27) -> 70333.333 | F27: =AVERAGE(hoja1!F27,hoja2!F27,hoja3!F27) -> 70333.333 | G27: =AVERAGE(hoja1!G27,hoja2!G27,hoja3!G27) -> 70333.333 | H27: =AVERAGE(hoja1!H27,hoja2!H27,hoja3!H27) -> 70333.333 | I27: =AVERAGE(hoja1!I27,hoja2!I27,hoja3!I27) -> 70333.333 | J27: =AVERAGE(hoja1!J27,hoja2!J27,hoja3!J27) -> 345000
A28: 25 | B28: Bombillo de 1 contactos | C28: 1 | D28: =AVERAGE(hoja1!D28,hoja2!D28,hoja3!D28) -> 18000 | E28: =AVERAGE(hoja1!E28,hoja2!E28,hoja3!E28) -> 18000 | F28: =AVERAGE(hoja1!F28,hoja2!F28,hoja3!F28) -> 18000 | G28: =AVERAGE(hoja1!G28,hoja2!G28,hoja3!G28) -> 18000 | H28: =AVERAGE(hoja1!H28,hoja2!H28,hoja3!H28) -> 18000 | I28: =AVERAGE(hoja1!I28,hoja2!I28,hoja3!I28) -> 18000 | J28: =AVERAGE(hoja1!J28,hoja2!J28,hoja3!J28) -> 130000
A29: 26 | B29: Bombillo de 2 contactos | C29: 1 | D29: =AVERAGE(hoja1!D29,hoja2!D29,hoja3!D29) -> 27333.333 | E29: =AVERAGE(hoja1!E29,hoja2!E29,hoja3!E29) -> 27333.333 | F29: =AVERAGE(hoja1!F29,hoja2!F29,hoja3!F29) -> 27333.333 | G29: =AVERAGE(hoja1!G29,hoja2!G29,hoja3!G29) -> 27333.333 | H29: =AVERAGE(hoja1!H29,hoja2!H29,hoja3!H29) -> 27333.333 | I29: =AVERAGE(hoja1!I29,hoja2!I29,hoja3!I29) -> 27333.333 | J29: =AVERAGE(hoja1!J29,hoja2!J29,hoja3!J29) -> 130000
A30: 27 | B30: Bombillo garrapata | C30: 1 | D30: =AVERAGE(hoja1!D30,hoja2!D30,hoja3!D30) -> 16000 | E30: =AVERAGE(hoja1!E30,hoja2!E30,hoja3!E30) -> 16000 | F30: =AVERAGE(hoja1!F30,hoja2!F30,hoja3!F30) -> 16000 | G30: =AVERAGE(hoja1!G30,hoja2!G30,hoja3!G30) -> 16000 | H30: =AVERAGE(hoja1!H30,hoja2!H30,hoja3!H30) -> 16000 | I30: =AVERAGE(hoja1!I30,hoja2!I30,hoja3!I30) -> 16000 | J30: =AVERAGE(hoja1!J30,hoja2!J30,hoja3!J30) -> 123000
A31: 28 | B31: Bombillo de techo | C31: 1 | D31: =AVERAGE(hoja1!D31,hoja2!D31,hoja3!D31) -> 17000 | E31: =AVERAGE(hoja1!E31,hoja2!E31,hoja3!E31) -> 17000 | F31: =AVERAGE(hoja1!F31,hoja2!F31,hoja3!F31) -> 17000 | G31: =AVERAGE(hoja1!G31,hoja2!G31,hoja3!G31) -> 17000 | H31: =AVERAGE(hoja1!H31,hoja2!H31,hoja3!H31) -> 17000 | I31: =AVERAGE(hoja1!I31,hoja2!I31,hoja3!I31) -> 17000 | J31: =AVERAGE(hoja1!J31,hoja2!J31,hoja3!J31) -> 120000
A32: 29 | B32: Buje de arranque | C32: 1 | D32: =AVERAGE(hoja1!D32,hoja2!D32,hoja3!D32) -> 138666.67 | E32: =AVERAGE(hoja1!E32,hoja2!E32,hoja3!E32) -> 138666.67 | F32: =AVERAGE(hoja1!F32,hoja2!F32,hoja3!F32) -> 138666.67 | G32: =AVERAGE(hoja1!G32,hoja2!G32,hoja3!G32) -> 138666.67 | H32: =AVERAGE(hoja1!H32,hoja2!H32,hoja3!H32) -> 138666.67 | I32: =AVERAGE(hoja1!I32,hoja2!I32,hoja3!I32) -> 138666.67
A33: 30 | B33: Bendix de arranque | C33: 1 | D33: =AVERAGE(hoja1!D33,hoja2!D33,hoja3!D33) -> 289333.33 | E33: =AVERAGE(hoja1!E33,hoja2!E33,hoja3!E33) -> 336666.67 | F33: =AVERAGE(hoja1!F33,hoja2!F33,hoja3!F33) -> 336666.67 | G33: =AVERAGE(hoja1!G33,hoja2!G33,hoja3!G33) -> 177000 | H33: =AVERAGE(hoja1!H33,hoja2!H33,hoja3!H33) -> 177000 | I33: =AVERAGE(hoja1!I33,hoja2!I33,hoja3!I33) -> 177000
A34: 31 | B34: Carbonera del arranque | C34: 1 | D34: =AVERAGE(hoja1!D34,hoja2!D34,hoja3!D34) -> 276333.33 | E34: =AVERAGE(hoja1!E34,hoja2!E34,hoja3!E34) -> 326666.67 | F34: =AVERAGE(hoja1!F34,hoja2!F34,hoja3!F34) -> 326666.67 | G34: =AVERAGE(hoja1!G34,hoja2!G34,hoja3!G34) -> 138666.67 | H34: =AVERAGE(hoja1!H34,hoja2!H34,hoja3!H34) -> 138666.67 | I34: =AVERAGE(hoja1!I34,hoja2!I34,hoja3!I34) -> 138666.67
A35: 32 | B35: Cintilla Airbag | C35: 1 | D35: =AVERAGE(hoja1!D35,hoja2!D35,hoja3!D35) -> 1375333.3 | E35: =AVERAGE(hoja1!E35,hoja2!E35,hoja3!E35) -> 2061666.7 | F35: =AVERAGE(hoja1!F35,hoja2!F35,hoja3!F35) -> 2061666.7 | G35: =AVERAGE(hoja1!G35,hoja2!G35,hoja3!G35) -> 860000 | J35: =AVERAGE(hoja1!J35,hoja2!J35,hoja3!J35) -> 2705000
A36: 33 | B36: Control de alarma | C36: 1 | D36: =AVERAGE(hoja1!D36,hoja2!D36,hoja3!D36) -> 207000 | E36: =AVERAGE(hoja1!E36,hoja2!E36,hoja3!E36) -> 310666.67 | J36: =AVERAGE(hoja1!J36,hoja2!J36,hoja3!J36) -> 495000
A37: 34 | B37: Fusible | C37: 1 | D37: =AVERAGE(hoja1!D37,hoja2!D37,hoja3!D37) -> 1628333.3 | E37: =AVERAGE(hoja1!E37,hoja2!E37,hoja3!E37) -> 1875000 | F37: =AVERAGE(hoja1!F37,hoja2!F37,hoja3!F37) -> 1875000 | G37: =AVERAGE(hoja1!G37,hoja2!G37,hoja3!G37) -> 1208333.3 | H37: =AVERAGE(hoja1!H37,hoja2!H37,hoja3!H37) -> 1208333.3 | I37: =AVERAGE(hoja1!I37,hoja2!I37,hoja3!I37) -> 1208333.3 | J37: =AVERAGE(hoja1!J37,hoja2!J37,hoja3!J37) -> 2811666.7
A38: 35 | B38: Electroventilador Completo | C38: 1 | D38: =AVERAGE(hoja1!D38,hoja2!D38,hoja3!D38) -> 497000 | E38: =AVERAGE(hoja1!E38,hoja2!E38,hoja3!E38) -> 657000 | F38: =AVERAGE(hoja1!F38,hoja2!F38,hoja3!F38) -> 657000 | G38: =AVERAGE(hoja1!G38,hoja2!G38,hoja3!G38) -> 439000 | H38: =AVERAGE(hoja1!H38,hoja2!H38,hoja3!H38) -> 439000 | I38: =AVERAGE(hoja1!I38,hoja2!I38,hoja3!I38) -> 439000 | J38: =AVERAGE(hoja1!J38,hoja2!J38,hoja3!J38) -> 1388333.3
A39: 36 | B39: Horquilla del arranque | C39: 1 | D39: =AVERAGE(hoja1!D39,hoja2!D39,hoja3!D39) -> 103666.67 | E39: =AVERAGE(hoja1!E39,hoja2!E39,hoja3!E39) -> 156666.67 | F39: =AVERAGE(hoja1!F39,hoja2!F39,hoja3!F39) -> 156666.67 | G39: =AVERAGE(hoja1!G39,hoja2!G39,hoja3!G39) -> 78333.333 | H39: =AVERAGE(hoja1!H39,hoja2!H39,hoja3!H39) -> 78333.333 | I39: =AVERAGE(hoja1!I39,hoja2!I39,hoja3!I39) -> 78333.333
A40: 37 | B40: Indicador de parqueo | C40: 1 | D40: =AVERAGE(hoja1!D40,hoja2!D40,hoja3!D40) -> 378666.67 | E40: =AVERAGE(hoja1!E40,hoja2!E40,hoja3!E40) -> 533666.67 | F40: =AVERAGE(hoja1!F40,hoja2!F40,hoja3!F40) -> 533666.67 | G40: =AVERAGE(hoja1!G40,hoja2!G40,hoja3!G40) -> 310666.67 | H40: =AVERAGE(hoja1!H40,hoja2!H40,hoja3!H40) -> 310666.67 | I40: =AVERAGE(hoja1!I40,hoja2!I40,hoja3!I40) -> 310666.67 | J40: =AVERAGE(hoja1!J40,hoja2!J40,hoja3!J40) -> 650000
...
