Workbook

Sheet hoja1
A1: ITEM | B1: CONCEPTO DE REPUESTOS | C1: CANTIDAD | D1: CAMIONETA CHEVROLET LUV DIMAX 3.5 MODELO 2009 | E1: CAMIONETA TOYOTA HILUX 2.7 MODELO 2015 | F1: CAMIONETA TOYOTA 4RUNNER | G1: AUTOMOVIL HIUNDAY ACCENT MODELO 2000 | H1: CAMPERO CHEVROLET VITARA 1.4 MODELO 1997 | I1: CHEVROLET SUPER CARRY PICKU 1000 MODELO 2007 | J1: CAMIONETA PANEL ELECTRICA BYD 1,6 MODELO 2022
A2: LUBRICANTES Y FILTROS
A3: 1 | B3: Aceite de motor 20W50 1/4 | C3: 1 | D3: 98000 | E3: 98000 | F3: 98000 | G3: 98000 | H3: 98000 | I3: 98000 | J3: N/A
A4: 2 | B4: Aceite hidraulico ATFDVl 1/4 | C4: 1 | D4: 78000 | E4: 78000 | F4: 78000 | G4: 78000 | H4: 78000 | I4: 78000 | J4: N/A
A5: 3 | B5: Aceite hidraulico ATFDlll 1/4 | C5: 1 | D5: 92000 | E5: 92000 | F5: 92000 | G5: 92000 | H5: 92000 | I5: 92000 | J5: N/A
A6: 4 | B6: Filtro de aceite | C6: 1 | D6: 78000 | E6: 92000 | F6: 103000 | G6: 59000 | H6: 65000 | I6: 52000 | J6: N/A
A7: 5 | B7: Filtro de aire de motor | C7: 1 | D7: 103000 | E7: 117000 | F7: 156000 | G7: 76000 | H7: 76000 | I7: 76000 | J7: N/A
A8: 6 | B8: Filtro de aire antipolen A/A | C8: 1 | D8: 72000 | E8: 78000 | F8: 92000 | G8: 65000 | H8: 65000 | I8: N/A | J8: 95000
A9: 7 | B9: Filtro de gasolina externo | C9: 1 | D9: 92000 | E9: 103000 | F9: 123000 | G9: 77000 | H9: 78000 | I9: 72000 | J9: N/A
A10: 8 | B10: Filtro de gasolina interno | C10: 1 | D10: 78000 | E10: 92000 | F10: 103000 | G10: 78000 | H10: 85000 | I10: 72000 | J10: N/A
A11: 9 | B11: Galon de refrigerante | C11: 1 | D11: 182000 | E11: 182000 | F11: 182000 | G11: 182000 | H11: 182000 | I11: 182000 | J11: N/A
A12: 10 | B12: Grasa de alta temperatura 370gr | C12: 1 | D12: 117000 | E12: 117000 | F12: 117000 | G12: 117000 | H12: 117000 | I12: 117000 | J12: N/A
A13: 11 | B13: Liquido de frenos DOT4 240gr | C13: 1 | D13: 72000 | E13: 72000 | F13: 72000 | G13: 72000 | H13: 72000 | I13: 72000 | J13: 70000
A14: 12 | B14: Refrigerante 1/4 | C14: 1 | D14: 34000 | E14: 34000 | F14: 34000 | G14: 34000 | H14: 34000 | I14: 34000 | J14: 50000
A15: 13 | B15: Silicona gris de alta temperatura 85gr | C15: 1 | D15: 40000 | E15: 40000 | F15: 40000 | G15: 40000 | H15: 40000 | I15: 40000 | J15: 41000
A16: 14 | B16: Valvulina 80W90 1/4 | C16: 1 | D16: 103000 | E16: 103000 | F16: 103000 | G16: 103000 | H16: 103000 | I16: 103000 | J16: N/A
A17: 15 | B17: Valvulina 85W140 1/4 | C17: 1 | D17: 78000 | E17: 78000 | F17: 78000 | G17: 78000 | H17: 78000 | I17: 78000 | J17: N/A
A18: SISTEMA ELECTRICO
A19: 16 | B19: Arranque | C19: 1 | D19: 1468000 | E19: 1814000 | F19: 1814000 | G19: 1247000 | H19: 1247000 | I19: 1247000 | J19: N/A
A20: 17 | B20: Alternador | C20: 1 | D20: 1649000 | E20: 2200000 | F20: 2200000 | G20: 1449000 | H20: 1449000 | I20: 1449000 | J20: 3900000
A21: 18 | B21: Amarre plastico | C21: 1 | D21: 7000 | E21: 7000 | F21: 7000 | G21: 7000 | H21: 7000 | I21: 7000 | J21: 4000
A22: 19 | B22: Abrazadera metalica | C22: 1 | D22: 9000 | E22: 9000 | F22: 9000 | G22: 9000 | H22: 9000 | I22: 9000 | J22: 6000
A23: 20 | B23: Automatico de alternador | C23: 1 | D23: 309000 | E23: 377000 | F23: 377000 | G23: 206000 | H23: 206000 | I23: 206000 | J23: 440000
A24: 21 | B24: Alarma | C24: 1 | D24: 1369000 | E24: 1881000 | F24: N/A | G24: N/A | H24: N/A | I24: N/A | J24: 1900000
A25: 22 | B25: Antena radial | C25: 1 | D25: 481000 | E25: 668000 | F25: 668000 | G25: 309000 | H25: 309000 | I25: 309000 | J25: 475000
A26: 23 | B26: Bombillo H4 halogeno 60/55 12V | C26: 1 | D26: 52000 | E26: 52000 | F26: 52000 | G26: 52000 | H26: 52000 | I26: 52000 | J26: 310000
A27: 24 | B27: Bombillo H4 halogeno 100/90 12V | C27: 1 | D27: 70000 | E27: 70000 | F27: 70000 | G27: 70000 | H27: 70000 | I27: 70000 | J27: 360000
A28: 25 | B28: Bombillo de 1 contactos | C28: 1 | D28: 18000 | E28: 18000 | F28: 18000 | G28: 18000 | H28: 18000 | I28: 18000 | J28: 145000
A29: 26 | B29: Bombillo de 2 contactos | C29: 1 | D29: 27000 | E29: 27000 | F29: 27000 | G29: 27000 | H29: 27000 | I29: 27000 | J29: 145000
A30: 27 | B30: Bombillo garrapata | C30: 1 | D30: 16000 | E30: 16000 | F30: 16000 | G30: 16000 | H30: 16000 | I30: 16000 | J30: 138000
A31: 28 | B31: Bombillo de techo | C31: 1 | D31: 17000 | E31: 17000 | F31: 17000 | G31: 17000 | H31: 17000 | I31: 17000 | J31: 135000
A32: 29 | B32: Buje de arranque | C32: 1 | D32: 138000 | E32: 138000 | F32: 138000 | G32: 138000 | H32: 138000 | I32: 138000 | J32: N/A
A33: 30 | B33: Bendix de arranque | C33: 1 | D33: 288000 | E33: 335000 | F33: 335000 | G33: 176000 | H33: 176000 | I33: 176000 | J33: N/A
A34: 31 | B34: Carbonera del arranque | C34: 1 | D34: 275000 | E34: 325000 | F34: 325000 | G34: 138000 | H34: 138000 | I34: 138000 | J34: N/A
A35: 32 | B35: Cintilla Airbag | C35: 1 | D35: 1369000 | E35: 2052000 | F35: 2052000 | G35: 856000 | H35: N/A | I35: N/A | J35: 2720000
A36: 33 | B36: Control de alarma | C36: 1 | D36: 206000 | E36: 309000 | F36: N/A | G36: N/A | H36: N/A | I36: N/A | J36: 510000
A37: 34 | B37: Electroventilador Completo | C37: 1 | D37: 2430000 | E37: 2800000 | F37: 2800000 | G37: 1800000 | H37: 1800000 | I37: 1800000 | J37: 4200000
A38: 35 | B38: Fusible | C38: 1 | D38: 27000 | E38: 27000 | F38: 27000 | G38: 27000 | H38: 27000 | I38: 27000 | J38: 155000
A39: 36 | B39: Horquilla del arranque | C39: 1 | D39: 103000 | E39: 156000 | F39: 156000 | G39: 78000 | H39: 78000 | I39: 78000 | J39: N/A
A40: 37 | B40: Indicador de parqueo | C40: 1 | D40: 377000 | E40: 531000 | F40: 531000 | G40: 309000 | H40: 309000 | I40: 309000 | J40: 665000
A41: 38 | B41: Juego de pitos | C41: 1 | D41: 377000 | E41: 377000 | F41: 377000 | G41: 377000 | H41: 377000 | I41: 377000 | J41: 578000
A42: 39 | B42: Juego de escobillas del alternador | C42: 1 | D42: 156000 | E42: 189000 | F42: 189000 | G42: 138000 | H42: 138000 | I42: 138000 | J42: 315000
A43: 40 | B43: Juego de escobillas del arranque | C43: 1 | D43: 138000 | E43: 171000 | F43: 171000 | G43: 138000 | H43: 138000 | I43: 138000 | J43: N/A
A44: 41 | B44: Motor Electroventilador | C44: 1 | D44: 920000 | E44: 1200000 | F44: 1200000 | G44: 790000 | H44: 790000 | I44: 790000 | J44: 1800000
A45: 42 | B45: Memoria - computador | C45: 1 | D45: 4787000 | E45: 6666000 | F45: 6666000 | G45: 3420000 | H45: N/A | I45: N/A | J45: 7370000
A46: 43 | B46: Motor limpiaparabrizas | C46: 1 | D46: 1062000 | E46: 1523000 | F46: 1523000 | G46: 992000 | H46: 992000 | I46: 992000 | J46: 1600000
A47: 44 | B47: Porta diodos del alternador | C47: 1 | D47: 257000 | E47: 309000 | F47: 309000 | G47: 206000 | H47: 206000 | I47: 206000 | J47: 395000
A48: 45 | B48: Ramal electrico del motor completo | C48: 1 | D48: 4787000 | E48: 6496000 | F48: 6496000 | G48: 3420000 | H48: 3420000 | I48: 3420000 | J48: 12520000
A49: 46 | B49: Pacha del computador | C49: 1 | D49: 3200000 | E49: 3400000 | F49: 3400000 | G49: 2500000 | H49: 2500000 | I49: 2500000 | J49: 4600000
A50: 47 | B50: Relay bosh | C50: 1 | D50: 35000 | E50: 35000 | F50: 35000 | G50: 35000 | H50: 35000 | I50: 35000 | J50: 175000
A51: 48 | B51: Rodamientos del alternador | C51: 1 | D51: 156000 | E51: 156000 | F51: 156000 | G51: 121000 | H51: 121000 | I51: 121000 | J51: 270000
A52: 49 | B52: Switchera | C52: 1 | D52: 3126000 | E52: 5626000 | F52: 5626000 | G52: 2750000 | H52: 2750000 | I52: 2750000 | J52: 4370000
A53: 50 | B53: Soque de relay | C53: 1 | D53: 35000 | E53: 35000 | F53: 35000 | G53: 35000 | H53: 35000 | I53: 35000 | J53: 190000
A54: 51 | B54: Tacomentro | C54: 1 | D54: 3249000 | E54: 4769000 | F54: 4769000 | G54: 3027000 | H54: 3027000 | I54: 3027000 | J54: 2720000
A55: 52 | B55: Tapa de distribuidor | C55: 1 | D55: N/A | E55: N/A | F55: N/A | G55: N/A | H55: 156000 | I55: 156000 | J55: 260000
A56: SISTEMA DE SUSPENSIÓN
A57: 53 | B57: Amortiguador delantero | C57: 1 | D57: 696000 | E57: 845000 | F57: 845000 | G57: 516000 | H57: 532000 | I57: 516000 | J57: 830000
A58: 54 | B58: Amortiguador trasero | C58: 1 | D58: 696000 | E58: 845000 | F58: 845000 | G58: 516000 | H58: 532000 | I58: 516000 | J58: 830000
A59: 55 | B59: Axial de direcciòn | C59: 1 | D59: 631000 | E59: 720000 | F59: 720000 | G59: 206000 | H59: 275000 | I59: 206000 | J59: 813000
A60: 56 | B60: Buje de tijera superior | C60: 1 | D60: 355000 | E60: 377000 | F60: 377000 | G60: 156000 | H60: 171000 | I60: 156000 | J60: 556000
A61: 57 | B61: Buje de tijera inferior | C61: 1 | D61: 355000 | E61: 377000 | F61: 377000 | G61: N/A | H61: 171000 | I61: 156000 | J61: 556000
A62: 58 | B62: Buje de templete inferior | C62: 1 | D62: 276000 | E62: 309000 | F62: 309000 | G62: N/A | H62: 156000 | I62: 138000 | J62: 482000
A63: 59 | B63: Buje de templete superior | C63: 1 | D63: 276000 | E63: 309000 | F63: 309000 | G63: N/A | H63: 156000 | I63: 138000 | J63: 482000
A64: 60 | B64: Buje de biela de direccion | C64: 1 | D64: 571000 | E64: 650000 | F64: 650000 | G64: N/A | H64: 325000 | I64: 275000 | J64: 757000
A65: 61 | B65: Buje de muelle | C65: 1 | D65: 235000 | E65: 275000 | F65: N/A | G65: N/A | H65: 171000 | I65: 156000 | J65: 444000
A66: 62 | B66: Bocin de rueda delantera | C66: 1 | D66: 1224000 | E66: 1174000 | F66: 1174000 | G66: 697000 | H66: 882000 | I66: 697000 | J66: 1289000
A67: 63 | B67: Bocin de rueda trasera | C67: 1 | D67: 1141000 | E67: 1095000 | F67: 1095000 | G67: 650000 | H67: 822000 | I67: 650000 | J67: 1289000
A68: 64 | B68: Cardan de direcciòn | C68: 1 | D68: 1533000 | E68: 1403000 | F68: 1403000 | G68: N/A | H68: 1180000 | I68: 1010000 | J68: 1655000
A69: 65 | B69: Cruceta del cardan | C69: 1 | D69: 355000 | E69: 377000 | F69: 377000 | G69: N/A | H69: 172000 | I69: 155000 | J69: 533000
A70: 66 | B70: Colgante | C70: 1 | D70: 591000 | E70: 684000 | F70: 684000 | G70: 171000 | H70: 241000 | I70: 171000 | J70: 776000
A71: 67 | B71: Doble 4x4 | C71: 1 | D71: 6940000 | E71: 6997000 | F71: N/A | G71: N/A | H71: 4186000 | I71: 3186000 | J71: 6698000
A72: 68 | B72: Esparrago | C72: 1 | D72: 79000 | E72: 70000 | F72: 70000 | G72: 70000 | H72: 70000 | I72: 70000 | J72: 298000
A73: 69 | B73: Grapa de muelle | C73: 1 | D73: 180000 | E73: 206000 | F73: N/A | G73: N/A | H73: 138000 | I73: 121000 | J73: 392000
A74: 70 | B74: Goma de muelle | C74: 1 | D74: 199000 | E74: 206000 | F74: N/A | G74: N/A | H74: 156000 | I74: 138000 | J74: 410000
A75: 71 | B75: Goma de barra estabilizadora | C75: 1 | D75: 235000 | E75: 275000 | F75: 275000 | G75: 156000 | H75: 171000 | I75: 156000 | J75: 444000
A76: 72 | B76: Guardapolvo de direcciòn | C76: 1 | D76: 158000 | E76: 156000 | F76: 156000 | G76: 103000 | H76: 121000 | I76: 103000 | J76: 372000
A77: 73 | B77: Guardapolvo de eje lado caja | C77: 1 | D77: 158000 | E77: 156000 | F77: 156000 | G77: 103000 | H77: 121000 | I77: 103000 | J77: 372000
A78: 74 | B78: Guardapolvo de eje lado rueda | C78: 1 | D78: 158000 | E78: 156000 | F78: 156000 | G78: 103000 | H78: 121000 | I78: 103000 | J78: 372000
A79: 75 | B79: Hoja de muelle | C79: 1 | D79: 631000 | E79: 703000 | F79: N/A | G79: N/A | H79: 481000 | I79: 325000 | J79: 813000
A80: 76 | B80: Motor 4x4 | C80: 1 | D80: 6940000 | E80: 6997000 | F80: N/A | G80: N/A | H80: 4186000 | I80: 3186000 | J80: 6698000
A81: 77 | B81: Modulo 4x4 | C81: 1 | D81: 3540000 | E81: 3590000 | F81: N/A | G81: N/A | H81: 2052000 | I81: 1692000 | J81: 3527000
A82: 78 | B82: Moñona superior | C82: 1 | D82: 749000 | E82: 788000 | F82: 788000 | G82: 206000 | H82: 361000 | I82: 206000 | J82: 923000
A83: 79 | B83: Moñona inferior | C83: 1 | D83: 749000 | E83: 788000 | F83: 788000 | G83: N/A | H83: 361000 | I83: 206000 | J83: 923000
A84: 80 | B84: Muelle trasero | C84: 1 | D84: 1024000 | E84: 1062000 | F84: N/A | G84: N/A | H84: 720000 | I84: 548000 | J84: 1180000
A85: 81 | B85: Punta de eje lado rueda | C85: 1 | D85: 945000 | E85: 1010000 | F85: 1010000 | G85: 481000 | H85: 548000 | I85: 481000 | J85: 1106000
A86: 82 | B86: Punta de eje lado caja | C86: 1 | D86: 945000 | E86: 1010000 | F86: 1010000 | G86: 481000 | H86: 548000 | I86: 481000 | J86: 1106000
A87: 83 | B87: Reten de rueda delantera | C87: 1 | D87: 180000 | E87: 206000 | F87: 206000 | G87: 103000 | H87: 121000 | I87: 103000 | J87: 392000
A88: 84 | B88: Reten de rueda trasera | C88: 1 | D88: 180000 | E88: 206000 | F88: 206000 | G88: 103000 | H88: 121000 | I88: 103000 | J88: 392000
A89: 85 | B89: Rodamiento trasero | C89: 1 | D89: 866000 | E89: 1163000 | F89: 1163000 | G89: 309000 | H89: 481000 | I89: 309000 | J89: 1032000
A90: 86 | B90: Rodamiento delantero | C90: 1 | D90: 905000 | E90: 1180000 | F90: 1180000 | G90: 325000 | H90: 496000 | I90: 325000 | J90: 1069000
A91: 87 | B91: Sensor 4x4 | C91: 1 | D91: 1789000 | E91: 1874000 | F91: N/A | G91: N/A | H91: 1267000 | I91: 1160000 | J91: 1893000
A92: 88 | B92: Soporte de amortiguador delantero | C92: 1 | D92: 749000 | E92: 752000 | F92: 752000 | G92: 241000 | H92: 361000 | I92: 241000 | J92: 923000
A93: 89 | B93: Soporte de amortiguador trasero | C93: 1 | D93: 749000 | E93: 752000 | F93: 752000 | G93: 241000 | H93: 361000 | I93: 241000 | J93: 923000
A94: 90 | B94: Soporte central del cardan | C94: 1 | D94: 433000 | E94: 531000 | F94: 531000 | G94: N/A | H94: 344000 | I94: 309000 | J94: 628000
A95: 91 | B95: Tijera superior | C95: 1 | D95: 1927000 | E95: 3077000 | F95: 3077000 | G95: 650000 | H95: 1163000 | I95: 1010000 | J95: 2022000
A96: 92 | B96: Tijera inferior | C96: 1 | D96: 1927000 | E96: 3077000 | F96: 3077000 | G96: N/A | H96: 1163000 | I96: 1010000 | J96: 2022000
A97: 93 | B97: Terminal de dirección | C97: 1 | D97: 552000 | E97: 720000 | F97: 720000 | G97: 325000 | H97: 377000 | I97: 325000 | J97: 739000
A98: SISTEMA DE FRENOS
A99: 94 | B99: Bomba de freno | C99: 1 | D99: 1062000 | E99: 1403000 | F99: 1403000 | G99: 736000 | H99: 839000 | I99: 736000 | J99: 1520000
A100: 95 | B100: Boster de freno | C100: 1 | D100: 1064000 | E100: 1339000 | F100: 1339000 | G100: 588000 | H100: 717000 | I100: 588000 | J100: 1720000
...

Sheet hoja2
A1: ITEM | B1: CONCEPTO DE REPUESTOS | C1: CANTIDAD | D1: CAMIONETA CHEVROLET LUV DIMAX 3.5 MODELO 2009 | E1: CAMIONETA TOYOTA HILUX 2.7 MODELO 2015 | F1: CAMIONETA TOYOTA 4RUNNER | G1: AUTOMOVIL HIUNDAY ACCENT MODELO 2000 | H1: CAMPERO CHEVROLET VITARA 1.4 MODELO 1997 | I1: CHEVROLET SUPER CARRY PICKU 1000 MODELO 2007 | J1: CAMIONETA PANEL ELECTRICA BYD 1,6 MODELO 2022
A2: LUBRICANTES Y FILTROS
A3: 1 | B3: Aceite de motor 20W50 1/4 | C3: 1 | D3: 106000 | E3: 106000 | F3: 106000 | G3: 106000 | H3: 106000 | I3: 106000
A4: 2 | B4: Aceite hidraulico ATFDVl 1/4 | C4: 1 | D4: 85000 | E4: 85000 | F4: 85000 | G4: 85000 | H4: 85000 | I4: 85000
A5: 3 | B5: Aceite hidraulico ATFDlll 1/4 | C5: 1 | D5: 100000 | E5: 100000 | F5: 100000 | G5: 100000 | H5: 100000 | I5: 100000
A6: 4 | B6: Filtro de aceite | C6: 1 | D6: 85000 | E6: 100000 | F6: 112000 | G6: 64000 | H6: 71000 | I6: 57000
A7: 5 | B7: Filtro de aire de motor | C7: 1 | D7: 112000 | E7: 127000 | F7: 169000 | G7: 83000 | H7: 83000 | I7: 83000
A8: 6 | B8: Filtro de aire antipolen A/A | C8: 1 | D8: 78000 | E8: 85000 | F8: 100000 | G8: 71000 | H8: 71000 | I8: N/A | J8: 90000
A9: 7 | B9: Filtro de gasolina externo | C9: 1 | D9: 100000 | E9: 112000 | F9: 133000 | G9: 84000 | H9: 85000 | I9: 78000
A10: 8 | B10: Filtro de gasolina interno | C10: 1 | D10: 85000 | E10: 100000 | F10: 112000 | G10: 85000 | H10: 92000 | I10: 78000
A11: 9 | B11: Galon de refrigerante | C11: 1 | D11: 197000 | E11: 197000 | F11: 197000 | G11: 197000 | H11: 197000 | I11: 197000
A12: 10 | B12: Grasa de alta temperatura 370gr | C12: 1 | D12: 127000 | E12: 127000 | F12: 127000 | G12: 127000 | H12: 127000 | I12: 127000
A13: 11 | B13: Liquido de frenos DOT4 240gr | C13: 1 | D13: 78000 | E13: 78000 | F13: 78000 | G13: 78000 | H13: 78000 | I13: 78000 | J13: 75000
A14: 12 | B14: Refrigerante 1/4 | C14: 1 | D14: 37000 | E14: 37000 | F14: 37000 | G14: 37000 | H14: 37000 | I14: 37000 | J14: 50000
A15: 13 | B15: Silicona gris de alta temperatura 85gr | C15: 1 | D15: 44000 | E15: 44000 | F15: 44000 | G15: 44000 | H15: 44000 | I15: 44000 | J15: 40000
A16: 14 | B16: Valvulina 80W90 1/4 | C16: 1 | D16: 112000 | E16: 112000 | F16: 112000 | G16: 112000 | H16: 112000 | I16: 112000
A17: 15 | B17: Valvulina 85W140 1/4 | C17: 1 | D17: 85000 | E17: 85000 | F17: 85000 | G17: 85000 | H17: 85000 | I17: 85000
A18: SISTEMA ELECTRICO
A19: 16 | B19: Arranque | C19: 1 | D19: 1587000 | E19: 1961000 | F19: 1961000 | G19: 1349000 | H19: 1349000 | I19: 1349000
A20: 17 | B20: Alternador | C20: 1 | D20: 1783000 | E20: 2379000 | F20: 2379000 | G20: 1567000 | H20: 1567000 | I20: 1567000 | J20: 3950000
A21: 18 | B21: Amarre plastico | C21: 1 | D21: 8000 | E21: 8000 | F21: 8000 | G21: 8000 | H21: 8000 | I21: 8000 | J21: 4500
A22: 19 | B22: Abrazadera metalica | C22: 1 | D22: 10000 | E22: 10000 | F22: 10000 | G22: 10000 | H22: 10000 | I22: 10000 | J22: 5500
A23: 20 | B23: Automatico de alternador | C23: 1 | D23: 335000 | E23: 408000 | F23: 408000 | G23: 223000 | H23: 223000 | I23: 223000 | J23: 515000
A24: 21 | B24: Alarma | C24: 1 | D24: 1480000 | E24: 2034000 | J24: 1975000
A25: 22 | B25: Antena radial | C25: 1 | D25: 520000 | E25: 723000 | F25: 723000 | G25: 335000 | H25: 335000 | I25: 335000 | J25: 550000
A26: 23 | B26: Bombillo H4 halogeno 60/55 12V | C26: 1 | D26: 57000 | E26: 57000 | F26: 57000 | G26: 57000 | H26: 57000 | I26: 57000 | J26: 385000
A27: 24 | B27: Bombillo H4 halogeno 100/90 12V | C27: 1 | D27: 76000 | E27: 76000 | F27: 76000 | G27: 76000 | H27: 76000 | I27: 76000 | J27: 435000
A28: 25 | B28: Bombillo de 1 contactos | C28: 1 | D28: 20000 | E28: 20000 | F28: 20000 | G28: 20000 | H28: 20000 | I28: 20000 | J28: 220000
A29: 26 | B29: Bombillo de 2 contactos | C29: 1 | D29: 30000 | E29: 30000 | F29: 30000 | G29: 30000 | H29: 30000 | I29: 30000 | J29: 220000
A30: 27 | B30: Bombillo garrapata | C30: 1 | D30: 18000 | E30: 18000 | F30: 18000 | G30: 18000 | H30: 18000 | I30: 18000 | J30: 213000
A31: 28 | B31: Bombillo de techo | C31: 1 | D31: 19000 | E31: 19000 | F31: 19000 | G31: 19000 | H31: 19000 | I31: 19000 | J31: 210000
A32: 29 | B32: Buje de arranque | C32: 1 | D32: 150000 | E32: 150000 | F32: 150000 | G32: 150000 | H32: 150000 | I32: 150000 | J32: N/A
A33: 30 | B33: Bendix de arranque | C33: 1 | D33: 312000 | E33: 363000 | F33: 363000 | G33: 191000 | H33: 191000 | I33: 191000 | J33: N/A
A34: 31 | B34: Carbonera del arranque | C34: 1 | D34: 298000 | E34: 352000 | F34: 352000 | G34: 150000 | H34: 150000 | I34: 150000 | J34: N/A
A35: 32 | B35: Cintilla Airbag | C35: 1 | D35: 1480000 | E35: 2219000 | F35: 2219000 | G35: 926000 | H35: N/A | I35: N/A | J35: 2795000
A36: 33 | B36: Control de alarma | C36: 1 | D36: 223000 | E36: 335000 | F36: N/A | G36: N/A | H36: N/A | I36: N/A | J36: 585000
A37: 34 | B37: Electroventilador Completo | C37: 1 | D37: 2430000 | E37: 2800000 | F37: 2800000 | G37: 1800000 | H37: 1800000 | I37: 1800000 | J37: 4200000
A38: 35 | B38: Fusible | C38: 1 | D38: 30000 | E38: 30000 | F38: 30000 | G38: 30000 | H38: 30000 | I38: 30000 | J38: 230000
A39: 36 | B39: Horquilla del arranque | C39: 1 | D39: 112000 | E39: 169000 | F39: 169000 | G39: 85000 | H39: 85000 | I39: 85000 | J39: N/A
A40: 37 | B40: Indicador de parqueo | C40: 1 | D40: 408000 | E40: 575000 | F40: 575000 | G40: 335000 | H40: 335000 | I40: 335000 | J40: 740000
A41: 38 | B41: Juego de pitos | C41: 1 | D41: 408000 | E41: 408000 | F41: 408000 | G41: 408000 | H41: 408000 | I41: 408000 | J41: 653000
A42: 39 | B42: Juego de escobillas del alternador | C42: 1 | D42: 169000 | E42: 205000 | F42: 205000 | G42: 150000 | H42: 150000 | I42: 150000 | J42: 390000
A43: 40 | B43: Juego de escobillas del arranque | C43: 1 | D43: 150000 | E43: 185000 | F43: 185000 | G43: 150000 | H43: 150000 | I43: 150000 | J43: N/A
A44: 41 | B44: Motor Electroventilador | C44: 1 | D44: 920000 | E44: 1200000 | F44: 1200000 | G44: 790000 | H44: 790000 | I44: 790000 | J44: 1800000
A45: 42 | B45: Memoria - computador | C45: 1 | D45: 5175000 | E45: 7206000 | F45: 7206000 | G45: 3698000 | H45: N/A | I45: N/A | J45: 7445000
A46: 43 | B46: Motor limpiaparabrizas | C46: 1 | D46: 1149000 | E46: 1647000 | F46: 1647000 | G46: 1073000 | H46: 1073000 | I46: 1073000 | J46: 1675000
A47: 44 | B47: Porta diodos del alternador | C47: 1 | D47: 278000 | E47: 335000 | F47: 335000 | G47: 223000 | H47: 223000 | I47: 223000 | J47: 470000
A48: 45 | B48: Ramal electrico del motor completo | C48: 1 | D48: 5175000 | E48: 7023000 | F48: 7023000 | G48: 3698000 | H48: 3698000 | I48: 3698000 | J48: 12595000
A49: 46 | B49: Pacha del computador | C49: 1 | D49: 3200000 | E49: 3400000 | F49: 3400000 | G49: 2500000 | H49: 2500000 | I49: 2500000 | J49: 4600000
A50: 47 | B50: Relay bosh | C50: 1 | D50: 38000 | E50: 38000 | F50: 38000 | G50: 38000 | H50: 38000 | I50: 38000 | J50: 250000
A51: 48 | B51: Rodamientos del alternador | C51: 1 | D51: 169000 | E51: 169000 | F51: 169000 | G51: 131000 | H51: 131000 | I51: 131000 | J51: 345000
A52: 49 | B52: Switchera | C52: 1 | D52: 3380000 | E52: 6082000 | F52: 6082000 | G52: 2973000 | H52: 2973000 | I52: 2973000 | J52: 4445000
A53: 50 | B53: Soque de relay | C53: 1 | D53: 38000 | E53: 38000 | F53: 38000 | G53: 38000 | H53: 38000 | I53: 38000 | J53: 265000
A54: 51 | B54: Tacomentro | C54: 1 | D54: 3513000 | E54: 5156000 | F54: 5156000 | G54: 3273000 | H54: 3273000 | I54: 3273000 | J54: 2795000
A55: 52 | B55: Tapa de distribuidor | C55: 1 | D55: N/A | E55: N/A | F55: N/A | G55: N/A | H55: 169000 | I55: 169000 | J55: 335000
A56: SISTEMA DE SUSPENSIÓN
A57: 53 | B57: Amortiguador delantero | C57: 1 | D57: 753000 | E57: 914000 | F57: 914000 | G57: 558000 | H57: 576000 | I57: 558000 | J57: 865000
A58: 54 | B58: Amortiguador trasero | C58: 1 | D58: 753000 | E58: 914000 | F58: 914000 | G58: 558000 | H58: 576000 | I58: 558000 | J58: 865000
A59: 55 | B59: Axial de direcciòn | C59: 1 | D59: 683000 | E59: 779000 | F59: 779000 | G59: 223000 | H59: 298000 | I59: 223000 | J59: 848000
A60: 56 | B60: Buje de tijera superior | C60: 1 | D60: 384000 | E60: 408000 | F60: 408000 | G60: 169000 | H60: 185000 | I60: 169000 | J60: 591000
A61: 57 | B61: Buje de tijera inferior | C61: 1 | D61: 384000 | E61: 408000 | F61: 408000 | G61: N/A | H61: 185000 | I61: 169000 | J61: 591000
A62: 58 | B62: Buje de templete inferior | C62: 1 | D62: 299000 | E62: 335000 | F62: 335000 | G62: N/A | H62: 169000 | I62: 150000 | J62: 517000
A63: 59 | B63: Buje de templete superior | C63: 1 | D63: 299000 | E63: 335000 | F63: 335000 | G63: N/A | H63: 169000 | I63: 150000 | J63: 517000
A64: 60 | B64: Buje de biela de direccion | C64: 1 | D64: 618000 | E64: 703000 | F64: 703000 | G64: N/A | H64: 352000 | I64: 298000 | J64: 792000
A65: 61 | B65: Buje de muelle | C65: 1 | D65: 255000 | E65: 298000 | F65: N/A | G65: N/A | H65: 185000 | I65: 169000 | J65: 479000
A66: 62 | B66: Bocin de rueda delantera | C66: 1 | D66: 1324000 | E66: 1270000 | F66: 1270000 | G66: 754000 | H66: 954000 | I66: 754000 | J66: 1324000
A67: 63 | B67: Bocin de rueda trasera | C67: 1 | D67: 1234000 | E67: 1184000 | F67: 1184000 | G67: 703000 | H67: 889000 | I67: 703000 | J67: 1324000
A68: 64 | B68: Cardan de direcciòn | C68: 1 | D68: 1658000 | E68: 1517000 | F68: 1517000 | G68: N/A | H68: 1276000 | I68: 1092000 | J68: 1690000
A69: 65 | B69: Cruceta del cardan | C69: 1 | D69: 384000 | E69: 408000 | F69: 408000 | G69: N/A | H69: 186000 | I69: 168000 | J69: 568000
A70: 66 | B70: Colgante | C70: 1 | D70: 639000 | E70: 740000 | F70: 740000 | G70: 185000 | H70: 261000 | I70: 185000 | J70: 811000
A71: 67 | B71: Doble 4x4 | C71: 1 | D71: 7503000 | E71: 7564000 | F71: N/A | G71: N/A | H71: 4526000 | I71: 3445000 | J71: 6733000
A72: 68 | B72: Esparrago | C72: 1 | D72: 86000 | E72: 76000 | F72: 76000 | G72: 76000 | H72: 76000 | I72: 76000 | J72: 333000
A73: 69 | B73: Grapa de muelle | C73: 1 | D73: 195000 | E73: 223000 | F73: N/A | G73: N/A | H73: 150000 | I73: 131000 | J73: 427000
A74: 70 | B74: Goma de muelle | C74: 1 | D74: 216000 | E74: 223000 | F74: N/A | G74: N/A | H74: 169000 | I74: 150000 | J74: 445000
A75: 71 | B75: Goma de barra estabilizadora | C75: 1 | D75: 255000 | E75: 298000 | F75: 298000 | G75: 169000 | H75: 185000 | I75: 169000 | J75: 479000
A76: 72 | B76: Guardapolvo de direcciòn | C76: 1 | D76: 171000 | E76: 169000 | F76: 169000 | G76: 112000 | H76: 131000 | I76: 112000 | J76: 407000
A77: 73 | B77: Guardapolvo de eje lado caja | C77: 1 | D77: 171000 | E77: 169000 | F77: 169000 | G77: 112000 | H77: 131000 | I77: 112000 | J77: 407000
A78: 74 | B78: Guardapolvo de eje lado rueda | C78: 1 | D78: 171000 | E78: 169000 | F78: 169000 | G78: 112000 | H78: 131000 | I78: 112000 | J78: 407000
A79: 75 | B79: Hoja de muelle | C79: 1 | D79: 683000 | E79: 760000 | F79: N/A | G79: N/A | H79: 520000 | I79: 352000 | J79: 848000
A80: 76 | B80: Motor 4x4 | C80: 1 | D80: 7503000 | E80: 7564000 | F80: N/A | G80: N/A | H80: 4526000 | I80: 3445000 | J80: 6733000
A81: 77 | B81: Modulo 4x4 | C81: 1 | D81: 3827000 | E81: 3881000 | F81: N/A | G81: N/A | H81: 2219000 | I81: 1830000 | J81: 3562000
A82: 78 | B82: Moñona superior | C82: 1 | D82: 810000 | E82: 852000 | F82: 852000 | G82: 223000 | H82: 391000 | I82: 223000 | J82: 958000
A83: 79 | B83: Moñona inferior | C83: 1 | D83: 810000 | E83: 852000 | F83: 852000 | G83: N/A | H83: 391000 | I83: 223000 | J83: 958000
A84: 80 | B84: Muelle trasero | C84: 1 | D84: 1107000 | E84: 1149000 | F84: N/A | G84: N/A | H84: 779000 | I84: 593000 | J84: 1215000
A85: 81 | B85: Punta de eje lado rueda | C85: 1 | D85: 1022000 | E85: 1092000 | F85: 1092000 | G85: 520000 | H85: 593000 | I85: 520000 | J85: 1141000
A86: 82 | B86: Punta de eje lado caja | C86: 1 | D86: 1022000 | E86: 1092000 | F86: 1092000 | G86: 520000 | H86: 593000 | I86: 520000 | J86: 1141000
A87: 83 | B87: Reten de rueda delantera | C87: 1 | D87: 195000 | E87: 223000 | F87: 223000 | G87: 112000 | H87: 131000 | I87: 112000 | J87: 427000
A88: 84 | B88: Reten de rueda trasera | C88: 1 | D88: 195000 | E88: 223000 | F88: 223000 | G88: 112000 | H88: 131000 | I88: 112000 | J88: 427000
A89: 85 | B89: Rodamiento trasero | C89: 1 | D89: 937000 | E89: 1258000 | F89: 1258000 | G89: 335000 | H89: 520000 | I89: 335000 | J89: 1067000
A90: 86 | B90: Rodamiento delantero | C90: 1 | D90: 979000 | E90: 1276000 | F90: 1276000 | G90: 352000 | H90: 537000 | I90: 352000 | J90: 1104000
A91: 87 | B91: Sensor 4x4 | C91: 1 | D91: 1934000 | E91: 2026000 | F91: N/A | G91: N/A | H91: 1370000 | I91: 1254000 | J91: 1928000
A92: 88 | B92: Soporte de amortiguador delantero | C92: 1 | D92: 810000 | E92: 813000 | F92: 813000 | G92: 261000 | H92: 391000 | I92: 261000 | J92: 958000
A93: 89 | B93: Soporte de amortiguador trasero | C93: 1 | D93: 810000 | E93: 813000 | F93: 813000 | G93: 261000 | H93: 391000 | I93: 261000 | J93: 958000
A94: 90 | B94: Soporte central del cardan | C94: 1 | D94: 469000 | E94: 575000 | F94: 575000 | G94: N/A | H94: 372000 | I94: 335000 | J94: 663000
A95: 91 | B95: Tijera superior | C95: 1 | D95: 2084000 | E95: 3327000 | F95: 3327000 | G95: 703000 | H95: 1258000 | I95: 1092000 | J95: 2057000
A96: 92 | B96: Tijera inferior | C96: 1 | D96: 2084000 | E96: 3327000 | F96: 3327000 | G96: N/A | H96: 1258000 | I96: 1092000 | J96: 2057000
A97: 93 | B97: Terminal de dirección | C97: 1 | D97: 597000 | E97: 779000 | F97: 779000 | G97: 352000 | H97: 408000 | I97: 352000 | J97: 774000
A98: SISTEMA DE FRENOS
A99: 94 | B99: Bomba de freno | C99: 1 | D99: 1149000 | E99: 1517000 | F99: 1517000 | G99: 796000 | H99: 907000 | I99: 796000 | J99: 1567000
A100: 95 | B100: Boster de freno | C100: 1 | D100: 1151000 | E100: 1448000 | F100: 1448000 | G100: 636000 | H100: 776000 | I100: 636000 | J100: 1767000
...

Sheet hoja3
A1: ITEM | B1: CONCEPTO DE REPUESTOS | C1: CANTIDAD | D1: CAMIONETA CHEVROLET LUV DIMAX 3.5 MODELO 2009 | E1: CAMIONETA TOYOTA HILUX 2.7 MODELO 2015 | F1: CAMIONETA TOYOTA 4RUNNER | G1: AUTOMOVIL HIUNDAY ACCENT MODELO 2000 | H1: CAMPERO CHEVROLET VITARA 1.4 MODELO 1997 | I1: CHEVROLET SUPER CARRY PICKU 1000 MODELO 2007 | J1: CAMIONETA PANEL ELECTRICA BYD 1,6 MODELO 2022
A2: LUBRICANTES Y FILTROS
A3: 1 | B3: Aceite de motor 20W50 1/4 | C3: 1 | D3: 91000 | E3: 91000 | F3: 91000 | G3: 91000 | H3: 91000 | I3: 91000 | J3: N/A
A4: 2 | B4: Aceite hidraulico ATFDVl 1/4 | C4: 1 | D4: 72000 | E4: 72000 | F4: 72000 | G4: 72000 | H4: 72000 | I4: 72000 | J4: N/A
A5: 3 | B5: Aceite hidraulico ATFDlll 1/4 | C5: 1 | D5: 85000 | E5: 85000 | F5: 85000 | G5: 85000 | H5: 85000 | I5: 85000 | J5: N/A
A6: 4 | B6: Filtro de aceite | C6: 1 | D6: 72000 | E6: 85000 | F6: 96000 | G6: 55000 | H6: 60000 | I6: 48000 | J6: N/A
A7: 5 | B7: Filtro de aire de motor | C7: 1 | D7: 96000 | E7: 109000 | F7: 145000 | G7: 70000 | H7: 70000 | I7: 70000 | J7: N/A
A8: 6 | B8: Filtro de aire antipolen A/A | C8: 1 | D8: 67000 | E8: 72000 | F8: 85000 | G8: 60000 | H8: 60000 | I8: N/A | J8: 85000
A9: 7 | B9: Filtro de gasolina externo | C9: 1 | D9: 85000 | E9: 96000 | F9: 114000 | G9: 71000 | H9: 72000 | I9: 67000 | J9: N/A
A10: 8 | B10: Filtro de gasolina interno | C10: 1 | D10: 72000 | E10: 85000 | F10: 96000 | G10: 72000 | H10: 79000 | I10: 67000 | J10: N/A | N10: =AVERAGE(hoja1!D3, hoja2!D3, '[1]HERLAN FORREO'!D3) -> #REF!
A11: 9 | B11: Galon de refrigerante | C11: 1 | D11: 169000 | E11: 169000 | F11: 169000 | G11: 169000 | H11: 169000 | I11: 169000 | J11: N/A
A12: 10 | B12: Grasa de alta temperatura 370gr | C12: 1 | D12: 109000 | E12: 109000 | F12: 109000 | G12: 109000 | H12: 109000 | I12: 109000 | J12: N/A
A13: 11 | B13: Liquido de frenos DOT4 240gr | C13: 1 | D13: 67000 | E13: 67000 | F13: 67000 | G13: 67000 | H13: 67000 | I13: 67000 | J13: 67000
A14: 12 | B14: Refrigerante 1/4 | C14: 1 | D14: 31000 | E14: 31000 | F14: 31000 | G14: 31000 | H14: 31000 | I14: 31000 | J14: 31000
A15: 13 | B15: Silicona gris de alta temperatura 85gr | C15: 1 | D15: 37000 | E15: 37000 | F15: 37000 | G15: 37000 | H15: 37000 | I15: 37000 | J15: 37000
A16: 14 | B16: Valvulina 80W90 1/4 | C16: 1 | D16: 96000 | E16: 96000 | F16: 96000 | G16: 96000 | H16: 96000 | I16: 96000 | J16: N/A
A17: 15 | B17: Valvulina 85W140 1/4 | C17: 1 | D17: 72000 | E17: 72000 | F17: 72000 | G17: 72000 | H17: 72000 | I17: 72000 | J17: N/A
A18: SISTEMA ELECTRICO
A19: 16 | B19: Arranque | C19: 1 | D19: 1277000 | E19: 1578000 | F19: 1578000 | G19: 1084000 | H19: 1084000 | I19: 1084000 | J19: N/A
A20: 17 | B20: Alternador | C20: 1 | D20: 1434000 | E20: 1914000 | F20: 1914000 | G20: 1260000 | H20: 1260000 | I20: 1260000 | J20: 3780000
A21: 18 | B21: Amarre plastico | C21: 1 | D21: 6000 | E21: 6000 | F21: 6000 | G21: 6000 | H21: 6000 | I21: 6000 | J21: 6000
A22: 19 | B22: Abrazadera metalica | C22: 1 | D22: 8000 | E22: 8000 | F22: 8000 | G22: 8000 | H22: 8000 | I22: 8000 | J22: 8000
A23: 20 | B23: Automatico de alternador | C23: 1 | D23: 288000 | E23: 351000 | F23: 351000 | G23: 192000 | H23: 192000 | I23: 192000 | J23: 320000
A24: 21 | B24: Alarma | C24: 1 | D24: 1277000 | E24: 1754000 | F24: N/A | G24: N/A | H24: N/A | I24: N/A | J24: 1780000
A25: 22 | B25: Antena radial | C25: 1 | D25: 448000 | E25: 623000 | F25: 623000 | G25: 288000 | H25: 288000 | I25: 288000 | J25: 355000
A26: 23 | B26: Bombillo H4 halogeno 60/55 12V | C26: 1 | D26: 48000 | E26: 48000 | F26: 48000 | G26: 48000 | H26: 48000 | I26: 48000 | J26: 190000
A27: 24 | B27: Bombillo H4 halogeno 100/90 12V | C27: 1 | D27: 65000 | E27: 65000 | F27: 65000 | G27: 65000 | H27: 65000 | I27: 65000 | J27: 240000
A28: 25 | B28: Bombillo de 1 contactos | C28: 1 | D28: 16000 | E28: 16000 | F28: 16000 | G28: 16000 | H28: 16000 | I28: 16000 | J28: 25000
A29: 26 | B29: Bombillo de 2 contactos | C29: 1 | D29: 25000 | E29: 25000 | F29: 25000 | G29: 25000 | H29: 25000 | I29: 25000 | J29: 25000
A30: 27 | B30: Bombillo garrapata | C30: 1 | D30: 14000 | E30: 14000 | F30: 14000 | G30: 14000 | H30: 14000 | I30: 14000 | J30: 18000
A31: 28 | B31: Bombillo de techo | C31: 1 | D31: 15000 | E31: 15000 | F31: 15000 | G31: 15000 | H31: 15000 | I31: 15000 | J31: 15000
A32: 29 | B32: Buje de arranque | C32: 1 | D32: 128000 | E32: 128000 | F32: 128000 | G32: 128000 | H32: 128000 | I32: 128000 | J32: N/A
A33: 30 | B33: Bendix de arranque | C33: 1 | D33: 268000 | E33: 312000 | F33: 312000 | G33: 164000 | H33: 164000 | I33: 164000 | J33: N/A
A34: 31 | B34: Carbonera del arranque | C34: 1 | D34: 256000 | E34: 303000 | F34: 303000 | G34: 128000 | H34: 128000 | I34: 128000 | J34: N/A
A35: 32 | B35: Cintilla Airbag | C35: 1 | D35: 1277000 | E35: 1914000 | F35: 1914000 | G35: 798000 | H35: N/A | I35: N/A | J35: 2600000
A36: 33 | B36: Control de alarma | C36: 1 | D36: 192000 | E36: 288000 | F36: N/A | G36: N/A | H36: N/A | I36: N/A | J36: 390000
A37: 34 | B37: Fusible | C37: 1 | D37: 25000 | E37: 25000 | F37: 25000 | G37: 25000 | H37: 25000 | I37: 25000 | J37: 35000
A38: 35 | B38: Electroventilador Completo | C38: 1 | D38: 1434000 | E38: 1914000 | F38: 1914000 | G38: 1260000 | H38: 1260000 | I38: 1260000 | J38: 3780000
A39: 36 | B39: Horquilla del arranque | C39: 1 | D39: 96000 | E39: 145000 | F39: 145000 | G39: 72000 | H39: 72000 | I39: 72000 | J39: N/A
A40: 37 | B40: Indicador de parqueo | C40: 1 | D40: 351000 | E40: 495000 | F40: 495000 | G40: 288000 | H40: 288000 | I40: 288000 | J40: 545000
A41: 38 | B41: Juego de pitos | C41: 1 | D41: 351000 | E41: 351000 | F41: 351000 | G41: 351000 | H41: 351000 | I41: 351000 | J41: 458000
A42: 39 | B42: Juego de escobillas del alternador | C42: 1 | D42: 145000 | E42: 176000 | F42: 176000 | G42: 128000 | H42: 128000 | I42: 128000 | J42: 195000
A43: 40 | B43: Juego de escobillas del arranque | C43: 1 | D43: 128000 | E43: 159000 | F43: 159000 | G43: 128000 | H43: 128000 | I43: 128000 | J43: N/A
A44: 41 | B44: Memoria - computador | C44: 1 | D44: 4465000 | E44: 6218000 | F44: 6218000 | G44: 3190000 | H44: N/A | I44: N/A | J44: 7250000
A45: 42 | B45: Motor Electroventilador | C45: 1 | D45: 750000 | E45: 930000 | F45: 930000 | G45: 650000 | H45: 650000 | I45: 650000 | J45: 1500000
A46: 43 | B46: Motor limpiaparabrizas | C46: 1 | D46: 990000 | E46: 1420000 | F46: 1420000 | G46: 925000 | H46: 925000 | I46: 925000 | J46: 1480000
A47: 44 | B47: Porta diodos del alternador | C47: 1 | D47: 239000 | E47: 288000 | F47: 288000 | G47: 192000 | H47: 192000 | I47: 192000 | J47: 275000
A48: 45 | B48: Ramal electrico del motor completo | C48: 1 | D48: 4465000 | E48: 6059000 | F48: 6059000 | G48: 3190000 | H48: 3190000 | I48: 3190000 | J48: 12000000
A49: 46 | B49: Pacha del computador | C49: 1 | D49: 2600000 | E49: 3600000 | F49: 3600000 | G49: 1900000 | H49: 1900000 | I49: 1900000 | J49: 4000000
A50: 47 | B50: Relay bosh | C50: 1 | D50: 32000 | E50: 32000 | F50: 32000 | G50: 32000 | H50: 32000 | I50: 32000 | J50: 55000
A51: 48 | B51: Rodamientos del alternador | C51: 1 | D51: 145000 | E51: 145000 | F51: 145000 | G51: 112000 | H51: 112000 | I51: 112000 | J51: 150000
A52: 49 | B52: Switchera | C52: 1 | D52: 2316000 | E52: 3248000 | F52: 3248000 | G52: 3248000 | H52: 1565000 | I52: 1565000 | J52: 4250000
A53: 50 | B53: Soque de relay | C53: 1 | D53: 32000 | E53: 32000 | F53: 32000 | G53: 32000 | H53: 32000 | I53: 32000 | J53: 70000
A54: 51 | B54: Tacomentro | C54: 1 | D54: 2030000 | E54: 2448000 | F54: 2448000 | G54: 1823000 | H54: 1823000 | I54: 1823000 | J54: 2600000
A55: 52 | B55: Tapa de distribuidor | C55: 1 | D55: N/A | E55: N/A | F55: N/A | G55: N/A | H55: 145000 | I55: 145000 | J55: 140000
A56: SISTEMA DE SUSPENSIÓN
A57: 53 | B57: Amortiguador delantero | C57: 1 | D57: 605000 | E57: 735000 | F57: 735000 | G57: 448000 | H57: 462000 | I57: 448000 | J57: 710000
A58: 54 | B58: Amortiguador trasero | C58: 1 | D58: 605000 | E58: 735000 | F58: 735000 | G58: 448000 | H58: 462000 | I58: 448000 | J58: 710000
A59: 55 | B59: Axial de direcciòn | C59: 1 | D59: 588000 | E59: 671000 | F59: 671000 | G59: 192000 | H59: 256000 | I59: 192000 | J59: 693000
A60: 56 | B60: Buje de tijera superior | C60: 1 | D60: 331000 | E60: 351000 | F60: 351000 | G60: 145000 | H60: 159000 | I60: 145000 | J60: 436000
A61: 57 | B61: Buje de tijera inferior | C61: 1 | D61: 331000 | E61: 351000 | F61: 351000 | G61: N/A | H61: 159000 | I61: 145000 | J61: 436000
A62: 58 | B62: Buje de templete inferior | C62: 1 | D62: 257000 | E62: 288000 | F62: 288000 | G62: N/A | H62: 145000 | I62: 128000 | J62: 362000
A63: 59 | B63: Buje de templete superior | C63: 1 | D63: 257000 | E63: 288000 | F63: 288000 | G63: N/A | H63: 145000 | I63: 128000 | J63: 362000
A64: 60 | B64: Buje de biela de direccion | C64: 1 | D64: 532000 | E64: 606000 | F64: 606000 | G64: N/A | H64: 303000 | I64: 256000 | J64: 637000
A65: 61 | B65: Buje de muelle | C65: 1 | D65: 219000 | E65: 256000 | F65: N/A | G65: N/A | H65: 159000 | I65: 145000 | J65: 324000
A66: 62 | B66: Bocin de rueda delantera | C66: 1 | D66: 1064000 | E66: 1021000 | F66: 1021000 | G66: 606000 | H66: 766000 | I66: 606000 | J66: 1169000
A67: 63 | B67: Bocin de rueda trasera | C67: 1 | D67: 1064000 | E67: 1021000 | F67: 1021000 | G67: 606000 | H67: 766000 | I67: 606000 | J67: 1169000
A68: 64 | B68: Cardan de direcciòn | C68: 1 | D68: 1430000 | E68: 1308000 | F68: 1308000 | G68: N/A | H68: 1100000 | I68: 942000 | J68: 1535000
A69: 65 | B69: Cruceta del cardan | C69: 1 | D69: 308000 | E69: 327000 | F69: 327000 | G69: N/A | H69: 149000 | I69: 134000 | J69: 413000
A70: 66 | B70: Colgante | C70: 1 | D70: 551000 | E70: 638000 | F70: 638000 | G70: 159000 | H70: 224000 | I70: 159000 | J70: 656000
A71: 67 | B71: Doble 4x4 | C71: 1 | D71: 6473000 | E71: 6527000 | F71: N/A | G71: N/A | H71: 3904000 | I71: 2972000 | J71: 6578000
A72: 68 | B72: Esparrago | C72: 1 | D72: 73000 | E72: 65000 | F72: 65000 | G72: 65000 | H72: 65000 | I72: 65000 | J72: 178000
A73: 69 | B73: Grapa de muelle | C73: 1 | D73: 167000 | E73: 192000 | F73: N/A | G73: N/A | H73: 128000 | I73: 112000 | J73: 272000
A74: 70 | B74: Goma de muelle | C74: 1 | D74: 185000 | E74: 192000 | F74: N/A | G74: N/A | H74: 145000 | I74: 128000 | J74: 290000
A75: 71 | B75: Goma de barra estabilizadora | C75: 1 | D75: 219000 | E75: 256000 | F75: 256000 | G75: 145000 | H75: 159000 | I75: 145000 | J75: 324000
A76: 72 | B76: Guardapolvo de direcciòn | C76: 1 | D76: 147000 | E76: 145000 | F76: 145000 | G76: 96000 | H76: 112000 | I76: 96000 | J76: 252000
A77: 73 | B77: Guardapolvo de eje lado caja | C77: 1 | D77: 147000 | E77: 145000 | F77: 145000 | G77: 96000 | H77: 112000 | I77: 96000 | J77: 252000
A78: 74 | B78: Guardapolvo de eje lado rueda | C78: 1 | D78: 147000 | E78: 145000 | F78: 145000 | G78: 96000 | H78: 112000 | I78: 96000 | J78: 252000
A79: 75 | B79: Hoja de muelle | C79: 1 | D79: 588000 | E79: 655000 | F79: N/A | G79: N/A | H79: 448000 | I79: 303000 | J79: 693000
A80: 76 | B80: Motor 4x4 | C80: 1 | D80: 6473000 | E80: 6527000 | F80: N/A | G80: N/A | H80: 3904000 | I80: 2972000 | J80: 6578000
A81: 77 | B81: Modulo 4x4 | C81: 1 | D81: 3302000 | E81: 3348000 | F81: N/A | G81: N/A | H81: 1914000 | I81: 1578000 | J81: 3407000
A82: 78 | B82: Moñona superior | C82: 1 | D82: 698000 | E82: 735000 | F82: 735000 | G82: 192000 | H82: 336000 | I82: 192000 | J82: 803000
A83: 79 | B83: Moñona inferior | C83: 1 | D83: 698000 | E83: 735000 | F83: 735000 | G83: N/A | H83: 336000 | I83: 192000 | J83: 803000
A84: 80 | B84: Muelle trasero | C84: 1 | D84: 955000 | E84: 990000 | F84: N/A | G84: N/A | H84: 671000 | I84: 511000 | J84: 1060000
A85: 81 | B85: Punta de eje lado rueda | C85: 1 | D85: 881000 | E85: 942000 | F85: 942000 | G85: 448000 | H85: 511000 | I85: 448000 | J85: 986000
A86: 82 | B86: Punta de eje lado caja | C86: 1 | D86: 881000 | E86: 942000 | F86: 942000 | G86: 448000 | H86: 511000 | I86: 448000 | J86: 986000
A87: 83 | B87: Reten de rueda delantera | C87: 1 | D87: 167000 | E87: 192000 | F87: 192000 | G87: 96000 | H87: 112000 | I87: 96000 | J87: 272000
A88: 84 | B88: Reten de rueda trasera | C88: 1 | D88: 167000 | E88: 192000 | F88: 192000 | G88: 96000 | H88: 112000 | I88: 96000 | J88: 272000
A89: 85 | B89: Rodamiento trasero | C89: 1 | D89: 807000 | E89: 1084000 | F89: 1084000 | G89: 288000 | H89: 448000 | I89: 288000 | J89: 912000
A90: 86 | B90: Rodamiento delantero | C90: 1 | D90: 844000 | E90: 1100000 | F90: 1100000 | G90: 303000 | H90: 462000 | I90: 303000 | J90: 949000
A91: 87 | B91: Sensor 4x4 | C91: 1 | D91: 1668000 | E91: 1748000 | F91: N/A | G91: N/A | H91: 1181000 | I91: 1082000 | J91: 1773000
A92: 88 | B92: Soporte de amortiguador delantero | C92: 1 | D92: 698000 | E92: 701000 | F92: 701000 | G92: 224000 | H92: 336000 | I92: 224000 | J92: 803000
A93: 89 | B93: Soporte de amortiguador trasero | C93: 1 | D93: 698000 | E93: 701000 | F93: 701000 | G93: 224000 | H93: 336000 | I93: 224000 | J93: 803000
A94: 90 | B94: Soporte central del cardan | C94: 1 | D94: 403000 | E94: 495000 | F94: 495000 | G94: N/A | H94: 320000 | I94: 288000 | J94: 508000
A95: 91 | B95: Tijera superior | C95: 1 | D95: 1797000 | E95: 2870000 | F95: 2870000 | G95: 606000 | H95: 1084000 | I95: 942000 | J95: 1902000
A96: 92 | B96: Tijera inferior | C96: 1 | D96: 1797000 | E96: 2870000 | F96: 2870000 | G96: N/A | H96: 1084000 | I96: 942000 | J96: 1902000
A97: 93 | B97: Terminal de dirección | C97: 1 | D97: 514000 | E97: 671000 | F97: 671000 | G97: 303000 | H97: 351000 | I97: 303000 | J97: 619000
A98: SISTEMA DE FRENOS
A99: 94 | B99: Bomba de freno | C99: 1 | D99: 990000 | E99: 1308000 | F99: 1308000 | G99: 686000 | H99: 782000 | I99: 686000 | J99: 1400000
A100: 95 | B100: Boster de freno | C100: 1 | D100: 925000 | E100: 1165000 | F100: 1165000 | G100: 511000 | H100: 623000 | I100: 511000 | J100: 1600000
...

Sheet MENOR
A1: ITEM | B1: CONCEPTO DE REPUESTOS | C1: CANTIDAD | D1: CAMIONETA CHEVROLET LUV DIMAX 3.5 MODELO 2009 | E1: CAMIONETA TOYOTA HILUX 2.7 MODELO 2015 | F1: CAMIONETA TOYOTA 4RUNNER | G1: AUTOMOVIL HIUNDAY ACCENT MODELO 2000 | H1: CAMPERO CHEVROLET VITARA 1.4 MODELO 1997 | I1: CHEVROLET SUPER CARRY PICKU 1000 MODELO 2007 | J1: CAMIONETA PANEL ELECTRICA BYD 1,6 MODELO 2022
A2: LUBRICANTES Y FILTROS
A3: 1 | B3: Aceite de motor 20W50 1/4 | C3: 1 | D3: =MIN(hoja1!D3,hoja2!D3,hoja3!D3) -> 91000 | E3: =MIN(hoja1!E3,hoja2!E3,hoja3!E3) -> 91000 | F3: =MIN(hoja1!F3,hoja2!F3,hoja3!F3) -> 91000 | G3: =MIN(hoja1!G3,hoja2!G3,hoja3!G3) -> 91000 | H3: =MIN(hoja1!H3,hoja2!H3,hoja3!H3) -> 91000 | I3: =MIN(hoja1!I3,hoja2!I3,hoja3!I3) -> 91000 | J3: =MIN(hoja1!J3,hoja2!J3,hoja3!J3) -> 0
A4: 2 | B4: Aceite hidraulico ATFDVl 1/4 | C4: 1 | D4: =MIN(hoja1!D4,hoja2!D4,hoja3!D4) -> 72000 | E4: =MIN(hoja1!E4,hoja2!E4,hoja3!E4) -> 72000 | F4: =MIN(hoja1!F4,hoja2!F4,hoja3!F4) -> 72000 | G4: =MIN(hoja1!G4,hoja2!G4,hoja3!G4) -> 72000 | H4: =MIN(hoja1!H4,hoja2!H4,hoja3!H4) -> 72000 | I4: =MIN(hoja1!I4,hoja2!I4,hoja3!I4) -> 72000 | J4: =MIN(hoja1!J4,hoja2!J4,hoja3!J4) -> 0
A5: 3 | B5: Aceite hidraulico ATFDlll 1/4 | C5: 1 | D5: =MIN(hoja1!D5,hoja2!D5,hoja3!D5) -> 85000 | E5: =MIN(hoja1!E5,hoja2!E5,hoja3!E5) -> 85000 | F5: =MIN(hoja1!F5,hoja2!F5,hoja3!F5) -> 85000 | G5: =MIN(hoja1!G5,hoja2!G5,hoja3!G5) -> 85000 | H5: =MIN(hoja1!H5,hoja2!H5,hoja3!H5) -> 85000 | I5: =MIN(hoja1!I5,hoja2!I5,hoja3!I5) -> 85000 | J5: =MIN(hoja1!J5,hoja2!J5,hoja3!J5) -> 0
A6: 4 | B6: Filtro de aceite | C6: 1 | D6: =MIN(hoja1!D6,hoja2!D6,hoja3!D6) -> 72000 | E6: =MIN(hoja1!E6,hoja2!E6,hoja3!E6) -> 85000 | F6: =MIN(hoja1!F6,hoja2!F6,hoja3!F6) -> 96000 | G6: =MIN(hoja1!G6,hoja2!G6,hoja3!G6) -> 55000 | H6: =MIN(hoja1!H6,hoja2!H6,hoja3!H6) -> 60000 | I6: =MIN(hoja1!I6,hoja2!I6,hoja3!I6) -> 48000 | J6: =MIN(hoja1!J6,hoja2!J6,hoja3!J6) -> 0
A7: 5 | B7: Filtro de aire de motor | C7: 1 | D7: =MIN(hoja1!D7,hoja2!D7,hoja3!D7) -> 96000 | E7: =MIN(hoja1!E7,hoja2!E7,hoja3!E7) -> 109000 | F7: =MIN(hoja1!F7,hoja2!F7,hoja3!F7) -> 145000 | G7: =MIN(hoja1!G7,hoja2!G7,hoja3!G7) -> 70000 | H7: =MIN(hoja1!H7,hoja2!H7,hoja3!H7) -> 70000 | I7: =MIN(hoja1!I7,hoja2!I7,hoja3!I7) -> 70000 | J7: =MIN(hoja1!J7,hoja2!J7,hoja3!J7) -> 0
A8: 6 | B8: Filtro de aire antipolen A/A | C8: 1 | D8: =MIN(hoja1!D8,hoja2!D8,hoja3!D8) -> 67000 | E8: =MIN(hoja1!E8,hoja2!E8,hoja3!E8) -> 72000 | F8: =MIN(hoja1!F8,hoja2!F8,hoja3!F8) -> 85000 | G8: =MIN(hoja1!G8,hoja2!G8,hoja3!G8) -> 60000 | H8: =MIN(hoja1!H8,hoja2!H8,hoja3!H8) -> 60000 | I8: =MIN(hoja1!I8,hoja2!I8,hoja3!I8) -> 0 | J8: =MIN(hoja1!J8,hoja2!J8,hoja3!J8) -> 85000
A9: 7 | B9: Filtro de gasolina externo | C9: 1 | D9: =MIN(hoja1!D9,hoja2!D9,hoja3!D9) -> 85000 | E9: =MIN(hoja1!E9,hoja2!E9,hoja3!E9) -> 96000 | F9: =MIN(hoja1!F9,hoja2!F9,hoja3!F9) -> 114000 | G9: =MIN(hoja1!G9,hoja2!G9,hoja3!G9) -> 71000 | H9: =MIN(hoja1!H9,hoja2!H9,hoja3!H9) -> 72000 | I9: =MIN(hoja1!I9,hoja2!I9,hoja3!I9) -> 67000 | J9: =MIN(hoja1!J9,hoja2!J9,hoja3!J9) -> 0
A10: 8 | B10: Filtro de gasolina interno | C10: 1 | D10: =MIN(hoja1!D10,hoja2!D10,hoja3!D10) -> 72000 | E10: =MIN(hoja1!E10,hoja2!E10,hoja3!E10) -> 85000 | F10: =MIN(hoja1!F10,hoja2!F10,hoja3!F10) -> 96000 | G10: =MIN(hoja1!G10,hoja2!G10,hoja3!G10) -> 72000 | H10: =MIN(hoja1!H10,hoja2!H10,hoja3!H10) -> 79000 | I10: =MIN(hoja1!I10,hoja2!I10,hoja3!I10) -> 67000 | J10: =MIN(hoja1!J10,hoja2!J10,hoja3!J10) -> 0
A11: 9 | B11: Galon de refrigerante | C11: 1 | D11: =MIN(hoja1!D11,hoja2!D11,hoja3!D11) -> 169000 | E11: =MIN(hoja1!E11,hoja2!E11,hoja3!E11) -> 169000 | F11: =MIN(hoja1!F11,hoja2!F11,hoja3!F11) -> 169000 | G11: =MIN(hoja1!G11,hoja2!G11,hoja3!G11) -> 169000 | H11: =MIN(hoja1!H11,hoja2!H11,hoja3!H11) -> 169000 | I11: =MIN(hoja1!I11,hoja2!I11,hoja3!I11) -> 169000 | J11: =MIN(hoja1!J11,hoja2!J11,hoja3!J11) -> 0
A12: 10 | B12: Grasa de alta temperatura 370gr | C12: 1 | D12: =MIN(hoja1!D12,hoja2!D12,hoja3!D12) -> 109000 | E12: =MIN(hoja1!E12,hoja2!E12,hoja3!E12) -> 109000 | F12: =MIN(hoja1!F12,hoja2!F12,hoja3!F12) -> 109000 | G12: =MIN(hoja1!G12,hoja2!G12,hoja3!G12) -> 109000 | H12: =MIN(hoja1!H12,hoja2!H12,hoja3!H12) -> 109000 | I12: =MIN(hoja1!I12,hoja2!I12,hoja3!I12) -> 109000 | J12: =MIN(hoja1!J12,hoja2!J12,hoja3!J12) -> 0
A13: 11 | B13: Liquido de frenos DOT4 240gr | C13: 1 | D13: =MIN(hoja1!D13,hoja2!D13,hoja3!D13) -> 67000 | E13: =MIN(hoja1!E13,hoja2!E13,hoja3!E13) -> 67000 | F13: =MIN(hoja1!F13,hoja2!F13,hoja3!F13) -> 67000 | G13: =MIN(hoja1!G13,hoja2!G13,hoja3!G13) -> 67000 | H13: =MIN(hoja1!H13,hoja2!H13,hoja3!H13) -> 67000 | I13: =MIN(hoja1!I13,hoja2!I13,hoja3!I13) -> 67000 | J13: =MIN(hoja1!J13,hoja2!J13,hoja3!J13) -> 67000
A14: 12 | B14: Refrigerante 1/4 | C14: 1 | D14: =MIN(hoja1!D14,hoja2!D14,hoja3!D14) -> 31000 | E14: =MIN(hoja1!E14,hoja2!E14,hoja3!E14) -> 31000 | F14: =MIN(hoja1!F14,hoja2!F14,hoja3!F14) -> 31000 | G14: =MIN(hoja1!G14,hoja2!G14,hoja3!G14) -> 31000 | H14: =MIN(hoja1!H14,hoja2!H14,hoja3!H14) -> 31000 | I14: =MIN(hoja1!I14,hoja2!I14,hoja3!I14) -> 31000 | J14: =MIN(hoja1!J14,hoja2!J14,hoja3!J14) -> 31000
... A17: 15 | B17: Valvulina 85W140 1/4 | C17: 1 | D17: =MIN(hoja1!D17,hoja2!D17,hoja3!D17) -> 72000 | E17: =MIN(hoja1!E17,hoja2!E17,hoja3!E17) -> 72000 | F17: =MIN(hoja1!F17,hoja2!F17,hoja3!F17) -> 72000 | G17: =MIN(hoja1!G17,hoja2!G17,hoja3!G17) -> 72000 | H17: =MIN(hoja1!H17,hoja2!H17,hoja3!H17) -> 72000 | I17: =MIN(hoja1!I17,hoja2!I17,hoja3!I17) -> 72000 | J17: =MIN(hoja1!J17,hoja2!J17,hoja3!J17) -> 0
A18: SISTEMA ELECTRICO | D18: =MIN(hoja1!D18,hoja2!D18,hoja3!D18) -> 0 | E18: =MIN(hoja1!E18,hoja2!E18,hoja3!E18) -> 0 | F18: =MIN(hoja1!F18,hoja2!F18,hoja3!F18) -> 0 | G18: =MIN(hoja1!G18,hoja2!G18,hoja3!G18) -> 0 | H18: =MIN(hoja1!H18,hoja2!H18,hoja3!H18) -> 0 | I18: =MIN(hoja1!I18,hoja2!I18,hoja3!I18) -> 0 | J18: =MIN(hoja1!J18,hoja2!J18,hoja3!J18) -> 0
A19: 16 | B19: Arranque | C19: 1 | D19: =MIN(hoja1!D19,hoja2!D19,hoja3!D19) -> 1277000 | E19: =MIN(hoja1!E19,hoja2!E19,hoja3!E19) -> 1578000 | F19: =MIN(hoja1!F19,hoja2!F19,hoja3!F19) -> 1578000 | G19: =MIN(hoja1!G19,hoja2!G19,hoja3!G19) -> 1084000 | H19: =MIN(hoja1!H19,hoja2!H19,hoja3!H19) -> 1084000 | I19: =MIN(hoja1!I19,hoja2!I19,hoja3!I19) -> 1084000 | J19: =MIN(hoja1!J19,hoja2!J19,hoja3!J19) -> 0
A20: 17 | B20: Alternador | C20: 1 | D20: =MIN(hoja1!D20,hoja2!D20,hoja3!D20) -> 1434000 | E20: =MIN(hoja1!E20,hoja2!E20,hoja3!E20) -> 1914000 | F20: =MIN(hoja1!F20,hoja2!F20,hoja3!F20) -> 1914000 | G20: =MIN(hoja1!G20,hoja2!G20,hoja3!G20) -> 1260000 | H20: =MIN(hoja1!H20,hoja2!H20,hoja3!H20) -> 1260000 | I20: =MIN(hoja1!I20,hoja2!I20,hoja3!I20) -> 1260000 | J20: =MIN(hoja1!J20,hoja2!J20,hoja3!J20) -> 3780000
A21: 18 | B21: Amarre plastico | C21: 1 | D21: =MIN(hoja1!D21,hoja2!D21,hoja3!D21) -> 6000 | E21: =MIN(hoja1!E21,hoja2!E21,hoja3!E21) -> 6000 | F21: =MIN(hoja1!F21,hoja2!F21,hoja3!F21) -> 6000 | G21: =MIN(hoja1!G21,hoja2!G21,hoja3!G21) -> 6000 | H21: =MIN(hoja1!H21,hoja2!H21,hoja3!H21) -> 6000 | I21: =MIN(hoja1!I21,hoja2!I21,hoja3!I21) -> 6000 | J21: =MIN(hoja1!J21,hoja2!J21,hoja3!J21) -> 4000
A22: 19 | B22: Abrazadera metalica | C22: 1 | D22: =MIN(hoja1!D22,hoja2!D22,hoja3!D22) -> 8000 | E22: =MIN(hoja1!E22,hoja2!E22,hoja3!E22) -> 8000 | F22: =MIN(hoja1!F22,hoja2!F22,hoja3!F22) -> 8000 | G22: =MIN(hoja1!G22,hoja2!G22,hoja3!G22) -> 8000 | H22: =MIN(hoja1!H22,hoja2!H22,hoja3!H22) -> 8000 | I22: =MIN(hoja1!I22,hoja2!I22,hoja3!I22) -> 8000 | J22: =MIN(hoja1!J22,hoja2!J22,hoja3!J22) -> 5500
A23: 20 | B23: Automatico de alternador | C23: 1 | D23: =MIN(hoja1!D23,hoja2!D23,hoja3!D23) -> 288000 | E23: =MIN(hoja1!E23,hoja2!E23,hoja3!E23) -> 351000 | F23: =MIN(hoja1!F23,hoja2!F23,hoja3!F23) -> 351000 | G23: =MIN(hoja1!G23,hoja2!G23,hoja3!G23) -> 192000 | H23: =MIN(hoja1!H23,hoja2!H23,hoja3!H23) -> 192000 | I23: =MIN(hoja1!I23,hoja2!I23,hoja3!I23) -> 192000 | J23: =MIN(hoja1!J23,hoja2!J23,hoja3!J23) -> 320000
A24: 21 | B24: Alarma | C24: 1 | D24: =MIN(hoja1!D24,hoja2!D24,hoja3!D24) -> 1277000 | E24: =MIN(hoja1!E24,hoja2!E24,hoja3!E24) -> 1754000 | F24: =MIN(hoja1!F24,hoja2!F24,hoja3!F24) -> 0 | G24: =MIN(hoja1!G24,hoja2!G24,hoja3!G24) -> 0 | H24: =MIN(hoja1!H24,hoja2!H24,hoja3!H24) -> 0 | I24: =MIN(hoja1!I24,hoja2!I24,hoja3!I24) -> 0 | J24: =MIN(hoja1!J24,hoja2!J24,hoja3!J24) -> 1780000
A25: 22 | B25: Antena radial | C25: 1 | D25: =MIN(hoja1!D25,hoja2!D25,hoja3!D25) -> 448000 | E25: =MIN(hoja1!E25,hoja2!E25,hoja3!E25) -> 623000 | F25: =MIN(hoja1!F25,hoja2!F25,hoja3!F25) -> 623000 | G25: =MIN(hoja1!G25,hoja2!G25,hoja3!G25) -> 288000 | H25: =MIN(hoja1!H25,hoja2!H25,hoja3!H25) -> 288000 | I25: =MIN(hoja1!I25,hoja2!I25,hoja3!I25) -> 288000 | J25: =MIN(hoja1!J25,hoja2!J25,hoja3!J25) -> 355000
A26: 23 | B26: Bombillo H4 halogeno 60/55 12V | C26: 1 | D26: =MIN(hoja1!D26,hoja2!D26,hoja3!D26) -> 48000 | E26: =MIN(hoja1!E26,hoja2!E26,hoja3!E26) -> 48000 | F26: =MIN(hoja1!F26,hoja2!F26,hoja3!F26) -> 48000 | G26: =MIN(hoja1!G26,hoja2!G26,hoja3!G26) -> 48000 | H26: =MIN(hoja1!H26,hoja2!H26,hoja3!H26) -> 48000 | I26: =MIN(hoja1!I26,hoja2!I26,hoja3!I26) -> 48000 | J26: =MIN(hoja1!J26,hoja2!J26,hoja3!J26) -> 190000
A27: 24 | B27: Bombillo H4 halogeno 100/90 12V | C27: 1 | D27: =MIN(hoja1!D27,hoja2!D27,hoja3!D27) -> 65000 | E27: =MIN(hoja1!E27,hoja2!E27,hoja3!E27) -> 65000 | F27: =MIN(hoja1!F27,hoja2!F27,hoja3!F27) -> 65000 | G27: =MIN(hoja1!G27,hoja2!G27,hoja3!G27) -> 65000 | H27: =MIN(hoja1!H27,hoja2!H27,hoja3!H27) -> 65000 | I27: =MIN(hoja1!I27,hoja2!I27,hoja3!I27) -> 65000 | J27: =MIN(hoja1!J27,hoja2!J27,hoja3!J27) -> 240000
A28: 25 | B28: Bombillo de 1 contactos | C28: 1 | D28: =MIN(hoja1!D28,hoja2!D28,hoja3!D28) -> 16000 | E28: =MIN(hoja1!E28,hoja2!E28,hoja3!E28) -> 16000 | F28: =MIN(hoja1!F28,hoja2!F28,hoja3!F28) -> 16000 | G28: =MIN(hoja1!G28,hoja2!G28,hoja3!G28) -> 16000 | H28: =MIN(hoja1!H28,hoja2!H28,hoja3!H28) -> 16000 | I28: =MIN(hoja1!I28,hoja2!I28,hoja3!I28) -> 16000 | J28: =MIN(hoja1!J28,hoja2!J28,hoja3!J28) -> 25000
A29: 26 | B29: Bombillo de 2 contactos | C29: 1 | D29: =MIN(hoja1!D29,hoja2!D29,hoja3!D29) -> 25000 | E29: =MIN(hoja1!E29,hoja2!E29,hoja3!E29) -> 25000 | F29: =MIN(hoja1!F29,hoja2!F29,hoja3!F29) -> 25000 | G29: =MIN(hoja1!G29,hoja2!G29,hoja3!G29) -> 25000 | H29: =MIN(hoja1!H29,hoja2!H29,hoja3!H29) -> 25000 | I29: =MIN(hoja1!I29,hoja2!I29,hoja3!I29) -> 25000 | J29: =MIN(hoja1!J29,hoja2!J29,hoja3!J29) -> 25000
A30: 27 | B30: Bombillo garrapata | C30: 1 | D30: =MIN(hoja1!D30,hoja2!D30,hoja3!D30) -> 14000 | E30: =MIN(hoja1!E30,hoja2!E30,hoja3!E30) -> 14000 | F30: =MIN(hoja1!F30,hoja2!F30,hoja3!F30) -> 14000 | G30: =MIN(hoja1!G30,hoja2!G30,hoja3!G30) -> 14000 | H30: =MIN(hoja1!H30,hoja2!H30,hoja3!H30) -> 14000 | I30: =MIN(hoja1!I30,hoja2!I30,hoja3!I30) -> 14000 | J30: =MIN(hoja1!J30,hoja2!J30,hoja3!J30) -> 18000
... A55: 52 | B55: Tapa de distribuidor | C55: 1 | D55: =MIN(hoja1!D55,hoja2!D55,hoja3!D55) -> 0 | E55: =MIN(hoja1!E55,hoja2!E55,hoja3!E55) -> 0 | F55: =MIN(hoja1!F55,hoja2!F55,hoja3!F55) -> 0 | G55: =MIN(hoja1!G55,hoja2!G55,hoja3!G55) -> 0 | H55: =MIN(hoja1!H55,hoja2!H55,hoja3!H55) -> 145000 | I55: =MIN(hoja1!I55,hoja2!I55,hoja3!I55) -> 145000 | J55: =MIN(hoja1!J55,hoja2!J55,hoja3!J55) -> 140000
A56: SISTEMA DE SUSPENSIÓN | D56: =MIN(hoja1!D56,hoja2!D56,hoja3!D56) -> 0 | E56: =MIN(hoja1!E56,hoja2!E56,hoja3!E56) -> 0 | F56: =MIN(hoja1!F56,hoja2!F56,hoja3!F56) -> 0 | G56: =MIN(hoja1!G56,hoja2!G56,hoja3!G56) -> 0 | H56: =MIN(hoja1!H56,hoja2!H56,hoja3!H56) -> 0 | I56: =MIN(hoja1!I56,hoja2!I56,hoja3!I56) -> 0 | J56: =MIN(hoja1!J56,hoja2!J56,hoja3!J56) -> 0
A57: 53 | B57: Amortiguador delantero | C57: 1 | D57: =MIN(hoja1!D57,hoja2!D57,hoja3!D57) -> 605000 | E57: =MIN(hoja1!E57,hoja2!E57,hoja3!E57) -> 735000 | F57: =MIN(hoja1!F57,hoja2!F57,hoja3!F57) -> 735000 | G57: =MIN(hoja1!G57,hoja2!G57,hoja3!G57) -> 448000 | H57: =MIN(hoja1!H57,hoja2!H57,hoja3!H57) -> 462000 | I57: =MIN(hoja1!I57,hoja2!I57,hoja3!I57) -> 448000 | J57: =MIN(hoja1!J57,hoja2!J57,hoja3!J57) -> 710000
A58: 54 | B58: Amortiguador trasero | C58: 1 | D58: =MIN(hoja1!D58,hoja2!D58,hoja3!D58) -> 605000 | E58: =MIN(hoja1!E58,hoja2!E58,hoja3!E58) -> 735000 | F58: =MIN(hoja1!F58,hoja2!F58,hoja3!F58) -> 735000 | G58: =MIN(hoja1!G58,hoja2!G58,hoja3!G58) -> 448000 | H58: =MIN(hoja1!H58,hoja2!H58,hoja3!H58) -> 462000 | I58: =MIN(hoja1!I58,hoja2!I58,hoja3!I58) -> 448000 | J58: =MIN(hoja1!J58,hoja2!J58,hoja3!J58) -> 710000
A59: 55 | B59: Axial de direcciòn | C59: 1 | D59: =MIN(hoja1!D59,hoja2!D59,hoja3!D59) -> 588000 | E59: =MIN(hoja1!E59,hoja2!E59,hoja3!E59) -> 671000 | F59: =MIN(hoja1!F59,hoja2!F59,hoja3!F59) -> 671000 | G59: =MIN(hoja1!G59,hoja2!G59,hoja3!G59) -> 192000 | H59: =MIN(hoja1!H59,hoja2!H59,hoja3!H59) -> 256000 | I59: =MIN(hoja1!I59,hoja2!I59,hoja3!I59) -> 192000 | J59: =MIN(hoja1!J59,hoja2!J59,hoja3!J59) -> 693000
A60: 56 | B60: Buje de tijera superior | C60: 1 | D60: =MIN(hoja1!D60,hoja2!D60,hoja3!D60) -> 331000 | E60: =MIN(hoja1!E60,hoja2!E60,hoja3!E60) -> 351000 | F60: =MIN(hoja1!F60,hoja2!F60,hoja3!F60) -> 351000 | G60: =MIN(hoja1!G60,hoja2!G60,hoja3!G60) -> 145000 | H60: =MIN(hoja1!H60,hoja2!H60,hoja3!H60) -> 159000 | I60: =MIN(hoja1!I60,hoja2!I60,hoja3!I60) -> 145000 | J60: =MIN(hoja1!J60,hoja2!J60,hoja3!J60) -> 436000
A61: 57 | B61: Buje de tijera inferior | C61: 1 | D61: =MIN(hoja1!D61,hoja2!D61,hoja3!D61) -> 331000 | E61: =MIN(hoja1!E61,hoja2!E61,hoja3!E61) -> 351000 | F61: =MIN(hoja1!F61,hoja2!F61,hoja3!F61) -> 351000 | G61: =MIN(hoja1!G61,hoja2!G61,hoja3!G61) -> 0 | H61: =MIN(hoja1!H61,hoja2!H61,hoja3!H61) -> 159000 | I61: =MIN(hoja1!I61,hoja2!I61,hoja3!I61) -> 145000 | J61: =MIN(hoja1!J61,hoja2!J61,hoja3!J61) -> 436000
A62: 58 | B62: Buje de templete inferior | C62: 1 | D62: =MIN(hoja1!D62,hoja2!D62,hoja3!D62) -> 257000 | E62: =MIN(hoja1!E62,hoja2!E62,hoja3!E62) -> 288000 | F62: =MIN(hoja1!F62,hoja2!F62,hoja3!F62) -> 288000 | G62: =MIN(hoja1!G62,hoja2!G62,hoja3!G62) -> 0 | H62: =MIN(hoja1!H62,hoja2!H62,hoja3!H62) -> 145000 | I62: =MIN(hoja1!I62,hoja2!I62,hoja3!I62) -> 128000 | J62: =MIN(hoja1!J62,hoja2!J62,hoja3!J62) -> 362000
A63: 59 | B63: Buje de templete superior | C63: 1 | D63: =MIN(hoja1!D63,hoja2!D63,hoja3!D63) -> 257000 | E63: =MIN(hoja1!E63,hoja2!E63,hoja3!E63) -> 288000 | F63: =MIN(hoja1!F63,hoja2!F63,hoja3!F63) -> 288000 | G63: =MIN(hoja1!G63,hoja2!G63,hoja3!G63) -> 0 | H63: =MIN(hoja1!H63,hoja2!H63,hoja3!H63) -> 145000 | I63: =MIN(hoja1!I63,hoja2!I63,hoja3!I63) -> 128000 | J63: =MIN(hoja1!J63,hoja2!J63,hoja3!J63) -> 362000
A64: 60 | B64: Buje de biela de direccion | C64: 1 | D64: =MIN(hoja1!D64,hoja2!D64,hoja3!D64) -> 532000 | E64: =MIN(hoja1!E64,hoja2!E64,hoja3!E64) -> 606000 | F64: =MIN(hoja1!F64,hoja2!F64,hoja3!F64) -> 606000 | G64: =MIN(hoja1!G64,hoja2!G64,hoja3!G64) -> 0 | H64: =MIN(hoja1!H64,hoja2!H64,hoja3!H64) -> 303000 | I64: =MIN(hoja1!I64,hoja2!I64,hoja3!I64) -> 256000 | J64: =MIN(hoja1!J64,hoja2!J64,hoja3!J64) -> 637000
A65: 61 | B65: Buje de muelle | C65: 1 | D65: =MIN(hoja1!D65,hoja2!D65,hoja3!D65) -> 219000 | E65: =MIN(hoja1!E65,hoja2!E65,hoja3!E65) -> 256000 | F65: =MIN(hoja1!F65,hoja2!F65,hoja3!F65) -> 0 | G65: =MIN(hoja1!G65,hoja2!G65,hoja3!G65) -> 0 | H65: =MIN(hoja1!H65,hoja2!H65,hoja3!H65) -> 159000 | I65: =MIN(hoja1!I65,hoja2!I65,hoja3!I65) -> 145000 | J65: =MIN(hoja1!J65,hoja2!J65,hoja3!J65) -> 324000
A66: 62 | B66: Bocin de rueda delantera | C66: 1 | D66: =MIN(hoja1!D66,hoja2!D66,hoja3!D66) -> 1064000 | E66: =MIN(hoja1!E66,hoja2!E66,hoja3!E66) -> 1021000 | F66: =MIN(hoja1!F66,hoja2!F66,hoja3!F66) -> 1021000 | G66: =MIN(hoja1!G66,hoja2!G66,hoja3!G66) -> 606000 | H66: =MIN(hoja1!H66,hoja2!H66,hoja3!H66) -> 766000 | I66: =MIN(hoja1!I66,hoja2!I66,hoja3!I66) -> 606000 | J66: =MIN(hoja1!J66,hoja2!J66,hoja3!J66) -> 1169000
A67: 63 | B67: Bocin de rueda trasera | C67: 1 | D67: =MIN(hoja1!D67,hoja2!D67,hoja3!D67) -> 1064000 | E67: =MIN(hoja1!E67,hoja2!E67,hoja3!E67) -> 1021000 | F67: =MIN(hoja1!F67,hoja2!F67,hoja3!F67) -> 1021000 | G67: =MIN(hoja1!G67,hoja2!G67,hoja3!G67) -> 606000 | H67: =MIN(hoja1!H67,hoja2!H67,hoja3!H67) -> 766000 | I67: =MIN(hoja1!I67,hoja2!I67,hoja3!I67) -> 606000 | J67: =MIN(hoja1!J67,hoja2!J67,hoja3!J67) -> 1169000
A68: 64 | B68: Cardan de direcciòn | C68: 1 | D68: =MIN(hoja1!D68,hoja2!D68,hoja3!D68) -> 1430000 | E68: =MIN(hoja1!E68,hoja2!E68,hoja3!E68) -> 1308000 | F68: =MIN(hoja1!F68,hoja2!F68,hoja3!F68) -> 1308000 | G68: =MIN(hoja1!G68,hoja2!G68,hoja3!G68) -> 0 | H68: =MIN(hoja1!H68,hoja2!H68,hoja3!H68) -> 1100000 | I68: =MIN(hoja1!I68,hoja2!I68,hoja3!I68) -> 942000 | J68: =MIN(hoja1!J68,hoja2!J68,hoja3!J68) -> 1535000
... A97: 93 | B97: Terminal de dirección | C97: 1 | D97: =MIN(hoja1!D97,hoja2!D97,hoja3!D97) -> 514000 | E97: =MIN(hoja1!E97,hoja2!E97,hoja3!E97) -> 671000 | F97: =MIN(hoja1!F97,hoja2!F97,hoja3!F97) -> 671000 | G97: =MIN(hoja1!G97,hoja2!G97,hoja3!G97) -> 303000 | H97: =MIN(hoja1!H97,hoja2!H97,hoja3!H97) -> 351000 | I97: =MIN(hoja1!I97,hoja2!I97,hoja3!I97) -> 303000 | J97: =MIN(hoja1!J97,hoja2!J97,hoja3!J97) -> 619000
A98: SISTEMA DE FRENOS | D98: =MIN(hoja1!D98,hoja2!D98,hoja3!D98) -> 0 | E98: =MIN(hoja1!E98,hoja2!E98,hoja3!E98) -> 0 | F98: =MIN(hoja1!F98,hoja2!F98,hoja3!F98) -> 0 | G98: =MIN(hoja1!G98,hoja2!G98,hoja3!G98) -> 0 | H98: =MIN(hoja1!H98,hoja2!H98,hoja3!H98) -> 0 | I98: =MIN(hoja1!I98,hoja2!I98,hoja3!I98) -> 0 | J98: =MIN(hoja1!J98,hoja2!J98,hoja3!J98) -> 0
A99: 94 | B99: Bomba de freno | C99: 1 | D99: =MIN(hoja1!D99,hoja2!D99,hoja3!D99) -> 990000 | E99: =MIN(hoja1!E99,hoja2!E99,hoja3!E99) -> 1308000 | F99: =MIN(hoja1!F99,hoja2!F99,hoja3!F99) -> 1308000 | G99: =MIN(hoja1!G99,hoja2!G99,hoja3!G99) -> 686000 | H99: =MIN(hoja1!H99,hoja2!H99,hoja3!H99) -> 782000 | I99: =MIN(hoja1!I99,hoja2!I99,hoja3!I99) -> 686000 | J99: =MIN(hoja1!J99,hoja2!J99,hoja3!J99) -> 1400000
A100: 95 | B100: Boster de freno | C100: 1 | D100: =MIN(hoja1!D100,hoja2!D100,hoja3!D100) -> 925000 | E100: =MIN(hoja1!E100,hoja2!E100,hoja3!E100) -> 1165000 | F100: =MIN(hoja1!F100,hoja2!F100,hoja3!F100) -> 1165000 | G100: =MIN(hoja1!G100,hoja2!G100,hoja3!G100) -> 511000 | H100: =MIN(hoja1!H100,hoja2!H100,hoja3!H100) -> 623000 | I100: =MIN(hoja1!I100,hoja2!I100,hoja3!I100) -> 511000 | J100: =MIN(hoja1!J100,hoja2!J100,hoja3!J100) -> 1600000
A101: 96 | B101: Buje de mordaza de freno | C101: 1 | D101: =MIN(hoja1!D101,hoja2!D101,hoja3!D101) -> 272000 | E101: =MIN(hoja1!E101,hoja2!E101,hoja3!E101) -> 351000 | F101: =MIN(hoja1!F101,hoja2!F101,hoja3!F101) -> 351000 | G101: =MIN(hoja1!G101,hoja2!G101,hoja3!G101) -> 192000 | H101: =MIN(hoja1!H101,hoja2!H101,hoja3!H101) -> 256000 | I101: =MIN(hoja1!I101,hoja2!I101,hoja3!I101) -> 192000 | J101: =MIN(hoja1!J101,hoja2!J101,hoja3!J101) -> 387000
A102: 97 | B102: Cilindro de freno trasero | C102: 1 | D102: =MIN(hoja1!D102,hoja2!D102,hoja3!D102) -> 406000 | E102: =MIN(hoja1!E102,hoja2!E102,hoja3!E102) -> 566000 | F102: =MIN(hoja1!F102,hoja2!F102,hoja3!F102) -> 56000 | G102: =MIN(hoja1!G102,hoja2!G102,hoja3!G102) -> 288000 | H102: =MIN(hoja1!H102,hoja2!H102,hoja3!H102) -> 351000 | I102: =MIN(hoja1!I102,hoja2!I102,hoja3!I102) -> 288000 | J102: =MIN(hoja1!J102,hoja2!J102,hoja3!J102) -> 721000
A103: 98 | B103: Campana de freno trasero | C103: 1 | D103: =MIN(hoja1!D103,hoja2!D103,hoja3!D103) -> 511000 | E103: =MIN(hoja1!E103,hoja2!E103,hoja3!E103) -> 671000 | F103: =MIN(hoja1!F103,hoja2!F103,hoja3!F103) -> 671000 | G103: =MIN(hoja1!G103,hoja2!G103,hoja3!G103) -> 351000 | H103: =MIN(hoja1!H103,hoja2!H103,hoja3!H103) -> 448000 | I103: =MIN(hoja1!I103,hoja2!I103,hoja3!I103) -> 351000 | J103: =MIN(hoja1!J103,hoja2!J103,hoja3!J103) -> 0
A104: 99 | B104: Disco de freno delantero | C104: 1 | D104: =MIN(hoja1!D104,hoja2!D104,hoja3!D104) -> 606000 | E104: =MIN(hoja1!E104,hoja2!E104,hoja3!E104) -> 766000 | F104: =MIN(hoja1!F104,hoja2!F104,hoja3!F104) -> 766000 | G104: =MIN(hoja1!G104,hoja2!G104,hoja3!G104) -> 448000 | H104: =MIN(hoja1!H104,hoja2!H104,hoja3!H104) -> 511000 | I104: =MIN(hoja1!I104,hoja2!I104,hoja3!I104) -> 448000 | J104: =MIN(hoja1!J104,hoja2!J104,hoja3!J104) -> 721000
A105: 100 | B105: Guaya de freno de mano | C105: 1 | D105: =MIN(hoja1!D105,hoja2!D105,hoja3!D105) -> 448000 | E105: =MIN(hoja1!E105,hoja2!E105,hoja3!E105) -> 543000 | F105: =MIN(hoja1!F105,hoja2!F105,hoja3!F105) -> 543000 | G105: =MIN(hoja1!G105,hoja2!G105,hoja3!G105) -> 256000 | H105: =MIN(hoja1!H105,hoja2!H105,hoja3!H105) -> 320000 | I105: =MIN(hoja1!I105,hoja2!I105,hoja3!I105) -> 256000 | J105: =MIN(hoja1!J105,hoja2!J105,hoja3!J105) -> 563000
A106: 101 | B106: Juego de pastilla de freno delantero | C106: 1 | D106: =MIN(hoja1!D106,hoja2!D106,hoja3!D106) -> 490000 | E106: =MIN(hoja1!E106,hoja2!E106,hoja3!E106) -> 540000 | F106: =MIN(hoja1!F106,hoja2!F106,hoja3!F106) -> 540000 | G106: =MIN(hoja1!G106,hoja2!G106,hoja3!G106) -> 351000 | H106: =MIN(hoja1!H106,hoja2!H106,hoja3!H106) -> 310000 | I106: =MIN(hoja1!I106,hoja2!I106,hoja3!I106) -> 351000 | J106: =MIN(hoja1!J106,hoja2!J106,hoja3!J106) -> 705000
A107: 102 | B107: Juego de pastilla de freno trasero | C107: 1 | D107: =MIN(hoja1!D107,hoja2!D107,hoja3!D107) -> 0 | E107: =MIN(hoja1!E107,hoja2!E107,hoja3!E107) -> 0 | F107: =MIN(hoja1!F107,hoja2!F107,hoja3!F107) -> 671000 | G107: =MIN(hoja1!G107,hoja2!G107,hoja3!G107) -> 0 | H107: =MIN(hoja1!H107,hoja2!H107,hoja3!H107) -> 0 | I107: =MIN(hoja1!I107,hoja2!I107,hoja3!I107) -> 0 | J107: =MIN(hoja1!J107,hoja2!J107,hoja3!J107) -> 115000
A108: 103 | B108: Juego de banda de freno trasero | C108: 1 | D108: =MIN(hoja1!D108,hoja2!D108,hoja3!D108) -> 291000 | E108: =MIN(hoja1!E108,hoja2!E108,hoja3!E108) -> 291000 | F108: =MIN(hoja1!F108,hoja2!F108,hoja3!F108) -> 0 | G108: =MIN(hoja1!G108,hoja2!G108,hoja3!G108) -> 288000 | H108: =MIN(hoja1!H108,hoja2!H108,hoja3!H108) -> 320000 | I108: =MIN(hoja1!I108,hoja2!I108,hoja3!I108) -> 288000 | J108: =MIN(hoja1!J108,hoja2!J108,hoja3!J108) -> 0
A109: 104 | B109: Juego de banda de freno de mano | C109: 1 | D109: =MIN(hoja1!D109,hoja2!D109,hoja3!D109) -> 351000 | E109: =MIN(hoja1!E109,hoja2!E109,hoja3!E109) -> 448000 | F109: =MIN(hoja1!F109,hoja2!F109,hoja3!F109) -> 448000 | G109: =MIN(hoja1!G109,hoja2!G109,hoja3!G109) -> 192000 | H109: =MIN(hoja1!H109,hoja2!H109,hoja3!H109) -> 224000 | I109: =MIN(hoja1!I109,hoja2!I109,hoja3!I109) -> 192000 | J109: =MIN(hoja1!J109,hoja2!J109,hoja3!J109) -> 0
A110: 105 | B110: Juego de chupa de freno | C110: 1 | D110: =MIN(hoja1!D110,hoja2!D110,hoja3!D110) -> 145000 | E110: =MIN(hoja1!E110,hoja2!E110,hoja3!E110) -> 176000 | F110: =MIN(hoja1!F110,hoja2!F110,hoja3!F110) -> 176000 | G110: =MIN(hoja1!G110,hoja2!G110,hoja3!G110) -> 96000 | H110: =MIN(hoja1!H110,hoja2!H110,hoja3!H110) -> 112000 | I110: =MIN(hoja1!I110,hoja2!I110,hoja3!I110) -> 96000 | J110: =MIN(hoja1!J110,hoja2!J110,hoja3!J110) -> 260000
... A118: 113 | B118: Pistón de mordaza de freno | C118: 1 | D118: =MIN(hoja1!D118,hoja2!D118,hoja3!D118) -> 351000 | E118: =MIN(hoja1!E118,hoja2!E118,hoja3!E118) -> 448000 | F118: =MIN(hoja1!F118,hoja2!F118,hoja3!F118) -> 389000 | G118: =MIN(hoja1!G118,hoja2!G118,hoja3!G118) -> 176000 | H118: =MIN(hoja1!H118,hoja2!H118,hoja3!H118) -> 288000 | I118: =MIN(hoja1!I118,hoja2!I118,hoja3!I118) -> 176000 | J118: =MIN(hoja1!J118,hoja2!J118,hoja3!J118) -> 466000
A119: SISTEMA DE EMBRAGUE | D119: =MIN(hoja1!D119,hoja2!D119,hoja3!D119) -> 0 | E119: =MIN(hoja1!E119,hoja2!E119,hoja3!E119) -> 0 | F119: =MIN(hoja1!F119,hoja2!F119,hoja3!F119) -> 0 | G119: =MIN(hoja1!G119,hoja2!G119,hoja3!G119) -> 0 | H119: =MIN(hoja1!H119,hoja2!H119,hoja3!H119) -> 0 | I119: =MIN(hoja1!I119,hoja2!I119,hoja3!I119) -> 0 | J119: =MIN(hoja1!J119,hoja2!J119,hoja3!J119) -> 0
A120: 114 | B120: Balinera de embrague | C120: 1 | D120: =MIN(hoja1!D120,hoja2!D120,hoja3!D120) -> 495000 | E120: =MIN(hoja1!E120,hoja2!E120,hoja3!E120) -> 782000 | F120: =MIN(hoja1!F120,hoja2!F120,hoja3!F120) -> 782000 | G120: =MIN(hoja1!G120,hoja2!G120,hoja3!G120) -> 415000 | H120: =MIN(hoja1!H120,hoja2!H120,hoja3!H120) -> 415000 | I120: =MIN(hoja1!I120,hoja2!I120,hoja3!I120) -> 415000 | J120: =MIN(hoja1!J120,hoja2!J120,hoja3!J120) -> 0
A121: 115 | B121: Balinera piloto | C121: 1 | D121: =MIN(hoja1!D121,hoja2!D121,hoja3!D121) -> 128000 | E121: =MIN(hoja1!E121,hoja2!E121,hoja3!E121) -> 192000 | F121: =MIN(hoja1!F121,hoja2!F121,hoja3!F121) -> 192000 | G121: =MIN(hoja1!G121,hoja2!G121,hoja3!G121) -> 96000 | H121: =MIN(hoja1!H121,hoja2!H121,hoja3!H121) -> 96000 | I121: =MIN(hoja1!I121,hoja2!I121,hoja3!I121) -> 96000 | J121: =MIN(hoja1!J121,hoja2!J121,hoja3!J121) -> 0
A122: 116 | B122: Bomba principal del embrague | C122: 1 | D122: =MIN(hoja1!D122,hoja2!D122,hoja3!D122) -> 925000 | E122: =MIN(hoja1!E122,hoja2!E122,hoja3!E122) -> 1244000 | F122: =MIN(hoja1!F122,hoja2!F122,hoja3!F122) -> 1244000 | G122: =MIN(hoja1!G122,hoja2!G122,hoja3!G122) -> 766000 | H122: =MIN(hoja1!H122,hoja2!H122,hoja3!H122) -> 766000 | I122: =MIN(hoja1!I122,hoja2!I122,hoja3!I122) -> 766000 | J122: =MIN(hoja1!J122,hoja2!J122,hoja3!J122) -> 0
A123: 117 | B123: Bomba auxiliar del embrague | C123: 1 | D123: =MIN(hoja1!D123,hoja2!D123,hoja3!D123) -> 766000 | E123: =MIN(hoja1!E123,hoja2!E123,hoja3!E123) -> 1084000 | F123: =MIN(hoja1!F123,hoja2!F123,hoja3!F123) -> 1084000 | G123: =MIN(hoja1!G123,hoja2!G123,hoja3!G123) -> 606000 | H123: =MIN(hoja1!H123,hoja2!H123,hoja3!H123) -> 606000 | I123: =MIN(hoja1!I123,hoja2!I123,hoja3!I123) -> 606000 | J123: =MIN(hoja1!J123,hoja2!J123,hoja3!J123) -> 0
A124: 118 | B124: Guaya de embrague | C124: 1 | D124: =MIN(hoja1!D124,hoja2!D124,hoja3!D124) -> 448000 | E124: =MIN(hoja1!E124,hoja2!E124,hoja3!E124) -> 655000 | F124: =MIN(hoja1!F124,hoja2!F124,hoja3!F124) -> 655000 | G124: =MIN(hoja1!G124,hoja2!G124,hoja3!G124) -> 288000 | H124: =MIN(hoja1!H124,hoja2!H124,hoja3!H124) -> 288000 | I124: =MIN(hoja1!I124,hoja2!I124,hoja3!I124) -> 288000 | J124: =MIN(hoja1!J124,hoja2!J124,hoja3!J124) -> 0
A125: 119 | B125: Horquilla de embrague | C125: 1 | D125: =MIN(hoja1!D125,hoja2!D125,hoja3!D125) -> 526000 | E125: =MIN(hoja1!E125,hoja2!E125,hoja3!E125) -> 942000 | F125: =MIN(hoja1!F125,hoja2!F125,hoja3!F125) -> 942000 | G125: =MIN(hoja1!G125,hoja2!G125,hoja3!G125) -> 448000 | H125: =MIN(hoja1!H125,hoja2!H125,hoja3!H125) -> 448000 | I125: =MIN(hoja1!I125,hoja2!I125,hoja3!I125) -> 448000 | J125: =MIN(hoja1!J125,hoja2!J125,hoja3!J125) -> 0
A126: 120 | B126: Kit de embrague | C126: 1 | D126: =MIN(hoja1!D126,hoja2!D126,hoja3!D126) -> 4071000 | E126: =MIN(hoja1!E126,hoja2!E126,hoja3!E126) -> 4548000 | F126: =MIN(hoja1!F126,hoja2!F126,hoja3!F126) -> 2619000 | G126: =MIN(hoja1!G126,hoja2!G126,hoja3!G126) -> 1454000 | H126: =MIN(hoja1!H126,hoja2!H126,hoja3!H126) -> 1454000 | I126: =MIN(hoja1!I126,hoja2!I126,hoja3!I126) -> 1454000 | J126: =MIN(hoja1!J126,hoja2!J126,hoja3!J126) -> 0
A127: 121 | B127: Pibote de embrague | C127: 1 | D127: =MIN(hoja1!D127,hoja2!D127,hoja3!D127) -> 383000 | E127: =MIN(hoja1!E127,hoja2!E127,hoja3!E127) -> 623000 | F127: =MIN(hoja1!F127,hoja2!F127,hoja3!F127) -> 623000 | G127: =MIN(hoja1!G127,hoja2!G127,hoja3!G127) -> 303000 | H127: =MIN(hoja1!H127,hoja2!H127,hoja3!H127) -> 303000 | I127: =MIN(hoja1!I127,hoja2!I127,hoja3!I127) -> 303000 | J127: =MIN(hoja1!J127,hoja2!J127,hoja3!J127) -> 0
A128: SISTEMA DE MOTOR | D128: =MIN(hoja1!D128,hoja2!D128,hoja3!D128) -> 0 | E128: =MIN(hoja1!E128,hoja2!E128,hoja3!E128) -> 0 | F128: =MIN(hoja1!F128,hoja2!F128,hoja3!F128) -> 0 | G128: =MIN(hoja1!G128,hoja2!G128,hoja3!G128) -> 0 | H128: =MIN(hoja1!H128,hoja2!H128,hoja3!H128) -> 0 | I128: =MIN(hoja1!I128,hoja2!I128,hoja3!I128) -> 0 | J128: =MIN(hoja1!J128,hoja2!J128,hoja3!J128) -> 0
A129: 122 | B129: Bujía | C129: 1 | D129: =MIN(hoja1!D129,hoja2!D129,hoja3!D129) -> 53000 | E129: =MIN(hoja1!E129,hoja2!E129,hoja3!E129) -> 53000 | F129: =MIN(hoja1!F129,hoja2!F129,hoja3!F129) -> 53000 | G129: =MIN(hoja1!G129,hoja2!G129,hoja3!G129) -> 53000 | H129: =MIN(hoja1!H129,hoja2!H129,hoja3!H129) -> 53000 | I129: =MIN(hoja1!I129,hoja2!I129,hoja3!I129) -> 53000 | J129: =MIN(hoja1!J129,hoja2!J129,hoja3!J129) -> 0
A130: 123 | B130: Base bloque | C130: 1 | D130: =MIN(hoja1!D130,hoja2!D130,hoja3!D130) -> 360000 | E130: =MIN(hoja1!E130,hoja2!E130,hoja3!E130) -> 420000 | F130: =MIN(hoja1!F130,hoja2!F130,hoja3!F130) -> 420000 | G130: =MIN(hoja1!G130,hoja2!G130,hoja3!G130) -> 250000 | H130: =MIN(hoja1!H130,hoja2!H130,hoja3!H130) -> 250000 | I130: =MIN(hoja1!I130,hoja2!I130,hoja3!I130) -> 250000 | J130: =MIN(hoja1!J130,hoja2!J130,hoja3!J130) -> 0
A131: 124 | B131: Bomba de aceite | C131: 1 | D131: =MIN(hoja1!D131,hoja2!D131,hoja3!D131) -> 1563000 | E131: =MIN(hoja1!E131,hoja2!E131,hoja3!E131) -> 1754000 | F131: =MIN(hoja1!F131,hoja2!F131,hoja3!F131) -> 1754000 | G131: =MIN(hoja1!G131,hoja2!G131,hoja3!G131) -> 925000 | H131: =MIN(hoja1!H131,hoja2!H131,hoja3!H131) -> 1084000 | I131: =MIN(hoja1!I131,hoja2!I131,hoja3!I131) -> 1005000 | J131: =MIN(hoja1!J131,hoja2!J131,hoja3!J131) -> 0
A132: 125 | B132: Bomba de agua | C132: 1 | D132: =MIN(hoja1!D132,hoja2!D132,hoja3!D132) -> 1371000 | E132: =MIN(hoja1!E132,hoja2!E132,hoja3!E132) -> 1578000 | F132: =MIN(hoja1!F132,hoja2!F132,hoja3!F132) -> 1578000 | G132: =MIN(hoja1!G132,hoja2!G132,hoja3!G132) -> 782000 | H132: =MIN(hoja1!H132,hoja2!H132,hoja3!H132) -> 925000 | I132: =MIN(hoja1!I132,hoja2!I132,hoja3!I132) -> 942000 | J132: =MIN(hoja1!J132,hoja2!J132,hoja3!J132) -> 0
A133: 126 | B133: Bomba de combustible | C133: 1 | D133: =MIN(hoja1!D133,hoja2!D133,hoja3!D133) -> 2233000 | E133: =MIN(hoja1!E133,hoja2!E133,hoja3!E133) -> 2870000 | F133: =MIN(hoja1!F133,hoja2!F133,hoja3!F133) -> 2870000 | G133: =MIN(hoja1!G133,hoja2!G133,hoja3!G133) -> 1563000 | H133: =MIN(hoja1!H133,hoja2!H133,hoja3!H133) -> 1563000 | I133: =MIN(hoja1!I133,hoja2!I133,hoja3!I133) -> 1563000 | J133: =MIN(hoja1!J133,hoja2!J133,hoja3!J133) -> 0
A134: 127 | B134: Bobina de encendido | C134: 1 | D134: =MIN(hoja1!D134,hoja2!D134,hoja3!D134) -> 782000 | E134: =MIN(hoja1!E134,hoja2!E134,hoja3!E134) -> 942000 | F134: =MIN(hoja1!F134,hoja2!F134,hoja3!F134) -> 942000 | G134: =MIN(hoja1!G134,hoja2!G134,hoja3!G134) -> 351000 | H134: =MIN(hoja1!H134,hoja2!H134,hoja3!H134) -> 383000 | I134: =MIN(hoja1!I134,hoja2!I134,hoja3!I134) -> 351000 | J134: =MIN(hoja1!J134,hoja2!J134,hoja3!J134) -> 0
A135: 128 | B135: Carburador | C135: 1 | D135: =MIN(hoja1!D135,hoja2!D135,hoja3!D135) -> 0 | E135: =MIN(hoja1!E135,hoja2!E135,hoja3!E135) -> 0 | F135: =MIN(hoja1!F135,hoja2!F135,hoja3!F135) -> 0 | G135: =MIN(hoja1!G135,hoja2!G135,hoja3!G135) -> 0 | H135: =MIN(hoja1!H135,hoja2!H135,hoja3!H135) -> 3100000 | I135: =MIN(hoja1!I135,hoja2!I135,hoja3!I135) -> 3100000 | J135: =MIN(hoja1!J135,hoja2!J135,hoja3!J135) -> 0
A136: 129 | B136: Correa del alternador | C136: 1 | D136: =MIN(hoja1!D136,hoja2!D136,hoja3!D136) -> 145000 | E136: =MIN(hoja1!E136,hoja2!E136,hoja3!E136) -> 192000 | F136: =MIN(hoja1!F136,hoja2!F136,hoja3!F136) -> 192000 | G136: =MIN(hoja1!G136,hoja2!G136,hoja3!G136) -> 112000 | H136: =MIN(hoja1!H136,hoja2!H136,hoja3!H136) -> 112000 | I136: =MIN(hoja1!I136,hoja2!I136,hoja3!I136) -> 112000 | J136: =MIN(hoja1!J136,hoja2!J136,hoja3!J136) -> 0
A137: 130 | B137: Correa de accesorios | C137: 1 | D137: =MIN(hoja1!D137,hoja2!D137,hoja3!D137) -> 145000 | E137: =MIN(hoja1!E137,hoja2!E137,hoja3!E137) -> 192000 | F137: =MIN(hoja1!F137,hoja2!F137,hoja3!F137) -> 192000 | G137: =MIN(hoja1!G137,hoja2!G137,hoja3!G137) -> 112000 | H137: =MIN(hoja1!H137,hoja2!H137,hoja3!H137) -> 112000 | I137: =MIN(hoja1!I137,hoja2!I137,hoja3!I137) -> 112000 | J137: =MIN(hoja1!J137,hoja2!J137,hoja3!J137) -> 0
A138: 131 | B138: Correa de ventilador | C138: 1 | D138: =MIN(hoja1!D138,hoja2!D138,hoja3!D138) -> 145000 | E138: =MIN(hoja1!E138,hoja2!E138,hoja3!E138) -> 192000 | F138: =MIN(hoja1!F138,hoja2!F138,hoja3!F138) -> 192000 | G138: =MIN(hoja1!G138,hoja2!G138,hoja3!G138) -> 112000 | H138: =MIN(hoja1!H138,hoja2!H138,hoja3!H138) -> 112000 | I138: =MIN(hoja1!I138,hoja2!I138,hoja3!I138) -> 112000 | J138: =MIN(hoja1!J138,hoja2!J138,hoja3!J138) -> 0
A139: 132 | B139: Cuerpo de Aceleracion | C139: 1 | D139: =MIN(hoja1!D139,hoja2!D139,hoja3!D139) -> 4198000 | E139: =MIN(hoja1!E139,hoja2!E139,hoja3!E139) -> 4721000 | F139: =MIN(hoja1!F139,hoja2!F139,hoja3!F139) -> 4721000 | G139: =MIN(hoja1!G139,hoja2!G139,hoja3!G139) -> 2449000 | H139: =MIN(hoja1!H139,hoja2!H139,hoja3!H139) -> 0 | I139: =MIN(hoja1!I139,hoja2!I139,hoja3!I139) -> 0 | J139: =MIN(hoja1!J139,hoja2!J139,hoja3!J139) -> 0
A140: 133 | B140: Empaquetadura de motor | C140: 1 | D140: =MIN(hoja1!D140,hoja2!D140,hoja3!D140) -> 4036000 | E140: =MIN(hoja1!E140,hoja2!E140,hoja3!E140) -> 4317000 | F140: =MIN(hoja1!F140,hoja2!F140,hoja3!F140) -> 4317000 | G140: =MIN(hoja1!G140,hoja2!G140,hoja3!G140) -> 1563000 | H140: =MIN(hoja1!H140,hoja2!H140,hoja3!H140) -> 1754000 | I140: =MIN(hoja1!I140,hoja2!I140,hoja3!I140) -> 1563000 | J140: =MIN(hoja1!J140,hoja2!J140,hoja3!J140) -> 0
... A186: 179 | B186: Valvula PCV | C186: 1 | D186: =MIN(hoja1!D186,hoja2!D186,hoja3!D186) -> 778000 | E186: =MIN(hoja1!E186,hoja2!E186,hoja3!E186) -> 1000000 | F186: =MIN(hoja1!F186,hoja2!F186,hoja3!F186) -> 1000000 | G186: =MIN(hoja1!G186,hoja2!G186,hoja3!G186) -> 754000 | H186: =MIN(hoja1!H186,hoja2!H186,hoja3!H186) -> 754000 | I186: =MIN(hoja1!I186,hoja2!I186,hoja3!I186) -> 754000 | J186: =MIN(hoja1!J186,hoja2!J186,hoja3!J186) -> 0
A187: SISTEMA DE REFRIGERACIÓN | D187: =MIN(hoja1!D187,hoja2!D187,hoja3!D187) -> 0 | E187: =MIN(hoja1!E187,hoja2!E187,hoja3!E187) -> 0 | F187: =MIN(hoja1!F187,hoja2!F187,hoja3!F187) -> 0 | G187: =MIN(hoja1!G187,hoja2!G187,hoja3!G187) -> 0 | H187: =MIN(hoja1!H187,hoja2!H187,hoja3!H187) -> 0 | I187: =MIN(hoja1!I187,hoja2!I187,hoja3!I187) -> 0 | J187: =MIN(hoja1!J187,hoja2!J187,hoja3!J187) -> 0
A188: 180 | B188: Deposito recuperador de refrigerante | C188: 1 | D188: =MIN(hoja1!D188,hoja2!D188,hoja3!D188) -> 782000 | E188: =MIN(hoja1!E188,hoja2!E188,hoja3!E188) -> 1084000 | F188: =MIN(hoja1!F188,hoja2!F188,hoja3!F188) -> 1084000 | G188: =MIN(hoja1!G188,hoja2!G188,hoja3!G188) -> 448000 | H188: =MIN(hoja1!H188,hoja2!H188,hoja3!H188) -> 448000 | I188: =MIN(hoja1!I188,hoja2!I188,hoja3!I188) -> 448000 | J188: =MIN(hoja1!J188,hoja2!J188,hoja3!J188) -> 910000
A189: 181 | B189: Empaque de termostato | C189: 1 | D189: =MIN(hoja1!D189,hoja2!D189,hoja3!D189) -> 48000 | E189: =MIN(hoja1!E189,hoja2!E189,hoja3!E189) -> 48000 | F189: =MIN(hoja1!F189,hoja2!F189,hoja3!F189) -> 48000 | G189: =MIN(hoja1!G189,hoja2!G189,hoja3!G189) -> 48000 | H189: =MIN(hoja1!H189,hoja2!H189,hoja3!H189) -> 48000 | I189: =MIN(hoja1!I189,hoja2!I189,hoja3!I189) -> 48000 | J189: =MIN(hoja1!J189,hoja2!J189,hoja3!J189) -> 176000
A190: 182 | B190: Manguera superior del radiador | C190: 1 | D190: =MIN(hoja1!D190,hoja2!D190,hoja3!D190) -> 224000 | E190: =MIN(hoja1!E190,hoja2!E190,hoja3!E190) -> 256000 | F190: =MIN(hoja1!F190,hoja2!F190,hoja3!F190) -> 256000 | G190: =MIN(hoja1!G190,hoja2!G190,hoja3!G190) -> 159000 | H190: =MIN(hoja1!H190,hoja2!H190,hoja3!H190) -> 159000 | I190: =MIN(hoja1!I190,hoja2!I190,hoja3!I190) -> 159000 | J190: =MIN(hoja1!J190,hoja2!J190,hoja3!J190) -> 352000
A191: 183 | B191: Manguera inferior del radiador | C191: 1 | D191: =MIN(hoja1!D191,hoja2!D191,hoja3!D191) -> 224000 | E191: =MIN(hoja1!E191,hoja2!E191,hoja3!E191) -> 256000 | F191: =MIN(hoja1!F191,hoja2!F191,hoja3!F191) -> 256000 | G191: =MIN(hoja1!G191,hoja2!G191,hoja3!G191) -> 159000 | H191: =MIN(hoja1!H191,hoja2!H191,hoja3!H191) -> 159000 | I191: =MIN(hoja1!I191,hoja2!I191,hoja3!I191) -> 159000 | J191: =MIN(hoja1!J191,hoja2!J191,hoja3!J191) -> 352000
A192: 184 | B192: Radiador | C192: 1 | D192: =MIN(hoja1!D192,hoja2!D192,hoja3!D192) -> 1434000 | E192: =MIN(hoja1!E192,hoja2!E192,hoja3!E192) -> 1914000 | F192: =MIN(hoja1!F192,hoja2!F192,hoja3!F192) -> 1914000 | G192: =MIN(hoja1!G192,hoja2!G192,hoja3!G192) -> 766000 | H192: =MIN(hoja1!H192,hoja2!H192,hoja3!H192) -> 766000 | I192: =MIN(hoja1!I192,hoja2!I192,hoja3!I192) -> 766000 | J192: =MIN(hoja1!J192,hoja2!J192,hoja3!J192) -> 1562000
A193: 185 | B193: Tanque superior del radiador | C193: 1 | D193: =MIN(hoja1!D193,hoja2!D193,hoja3!D193) -> 256000 | E193: =MIN(hoja1!E193,hoja2!E193,hoja3!E193) -> 336000 | F193: =MIN(hoja1!F193,hoja2!F193,hoja3!F193) -> 336000 | G193: =MIN(hoja1!G193,hoja2!G193,hoja3!G193) -> 176000 | H193: =MIN(hoja1!H193,hoja2!H193,hoja3!H193) -> 176000 | I193: =MIN(hoja1!I193,hoja2!I193,hoja3!I193) -> 176000 | J193: =MIN(hoja1!J193,hoja2!J193,hoja3!J193) -> 384000
A194: 186 | B194: Tanque inferior del radiador | C194: 1 | D194: =MIN(hoja1!D194,hoja2!D194,hoja3!D194) -> 256000 | E194: =MIN(hoja1!E194,hoja2!E194,hoja3!E194) -> 336000 | F194: =MIN(hoja1!F194,hoja2!F194,hoja3!F194) -> 336000 | G194: =MIN(hoja1!G194,hoja2!G194,hoja3!G194) -> 176000 | H194: =MIN(hoja1!H194,hoja2!H194,hoja3!H194) -> 176000 | I194: =MIN(hoja1!I194,hoja2!I194,hoja3!I194) -> 176000 | J194: =MIN(hoja1!J194,hoja2!J194,hoja3!J194) -> 384000
A195: 187 | B195: Base de aluminio del termostato | C195: 1 | D195: =MIN(hoja1!D195,hoja2!D195,hoja3!D195) -> 448000 | E195: =MIN(hoja1!E195,hoja2!E195,hoja3!E195) -> 606000 | F195: =MIN(hoja1!F195,hoja2!F195,hoja3!F195) -> 606000 | G195: =MIN(hoja1!G195,hoja2!G195,hoja3!G195) -> 270000 | H195: =MIN(hoja1!H195,hoja2!H195,hoja3!H195) -> 270000 | I195: =MIN(hoja1!I195,hoja2!I195,hoja3!I195) -> 270000 | J195: =MIN(hoja1!J195,hoja2!J195,hoja3!J195) -> 0
A196: 188 | B196: Tapa de radiador | C196: 1 | D196: =MIN(hoja1!D196,hoja2!D196,hoja3!D196) -> 128000 | E196: =MIN(hoja1!E196,hoja2!E196,hoja3!E196) -> 128000 | F196: =MIN(hoja1!F196,hoja2!F196,hoja3!F196) -> 128000 | G196: =MIN(hoja1!G196,hoja2!G196,hoja3!G196) -> 128000 | H196: =MIN(hoja1!H196,hoja2!H196,hoja3!H196) -> 128000 | I196: =MIN(hoja1!I196,hoja2!I196,hoja3!I196) -> 128000 | J196: =MIN(hoja1!J196,hoja2!J196,hoja3!J196) -> 256000
A197: 189 | B197: Termostato | C197: 1 | D197: =MIN(hoja1!D197,hoja2!D197,hoja3!D197) -> 766000 | E197: =MIN(hoja1!E197,hoja2!E197,hoja3!E197) -> 1084000 | F197: =MIN(hoja1!F197,hoja2!F197,hoja3!F197) -> 1084000 | G197: =MIN(hoja1!G197,hoja2!G197,hoja3!G197) -> 336000 | H197: =MIN(hoja1!H197,hoja2!H197,hoja3!H197) -> 336000 | I197: =MIN(hoja1!I197,hoja2!I197,hoja3!I197) -> 336000 | J197: =MIN(hoja1!J197,hoja2!J197,hoja3!J197) -> 894000
A198: SISTEMA DE AIRE ACONDICIONADO | D198: =MIN(hoja1!D198,hoja2!D198,hoja3!D198) -> 0 | E198: =MIN(hoja1!E198,hoja2!E198,hoja3!E198) -> 0 | F198: =MIN(hoja1!F198,hoja2!F198,hoja3!F198) -> 0 | G198: =MIN(hoja1!G198,hoja2!G198,hoja3!G198) -> 0 | H198: =MIN(hoja1!H198,hoja2!H198,hoja3!H198) -> 0 | I198: =MIN(hoja1!I198,hoja2!I198,hoja3!I198) -> 0 | J198: =MIN(hoja1!J198,hoja2!J198,hoja3!J198) -> 0
A199: 190 | B199: Aceite PGA150UV 1000ml | C199: 1 | D199: =MIN(hoja1!D199,hoja2!D199,hoja3!D199) -> 128000 | E199: =MIN(hoja1!E199,hoja2!E199,hoja3!E199) -> 128000 | F199: =MIN(hoja1!F199,hoja2!F199,hoja3!F199) -> 128000 | G199: =MIN(hoja1!G199,hoja2!G199,hoja3!G199) -> 128000 | H199: =MIN(hoja1!H199,hoja2!H199,hoja3!H199) -> 128000 | I199: =MIN(hoja1!I199,hoja2!I199,hoja3!I199) -> 0 | J199: =MIN(hoja1!J199,hoja2!J199,hoja3!J199) -> 150000
A200: 191 | B200: Compresor | C200: 1 | D200: =MIN(hoja1!D200,hoja2!D200,hoja3!D200) -> 3508000 | E200: =MIN(hoja1!E200,hoja2!E200,hoja3!E200) -> 4465000 | F200: =MIN(hoja1!F200,hoja2!F200,hoja3!F200) -> 4465000 | G200: =MIN(hoja1!G200,hoja2!G200,hoja3!G200) -> 2870000 | H200: =MIN(hoja1!H200,hoja2!H200,hoja3!H200) -> 2870000 | I200: =MIN(hoja1!I200,hoja2!I200,hoja3!I200) -> 0 | J200: =MIN(hoja1!J200,hoja2!J200,hoja3!J200) -> 5220000
A201: 192 | B201: Condensador | C201: 1 | D201: =MIN(hoja1!D201,hoja2!D201,hoja3!D201) -> 1754000 | E201: =MIN(hoja1!E201,hoja2!E201,hoja3!E201) -> 2870000 | F201: =MIN(hoja1!F201,hoja2!F201,hoja3!F201) -> 2870000 | G201: =MIN(hoja1!G201,hoja2!G201,hoja3!G201) -> 1578000 | H201: =MIN(hoja1!H201,hoja2!H201,hoja3!H201) -> 1578000 | I201: =MIN(hoja1!I201,hoja2!I201,hoja3!I201) -> 0 | J201: =MIN(hoja1!J201,hoja2!J201,hoja3!J201) -> 3625000
A202: 193 | B202: Correa del compresor | C202: 1 | D202: =MIN(hoja1!D202,hoja2!D202,hoja3!D202) -> 145000 | E202: =MIN(hoja1!E202,hoja2!E202,hoja3!E202) -> 192000 | F202: =MIN(hoja1!F202,hoja2!F202,hoja3!F202) -> 192000 | G202: =MIN(hoja1!G202,hoja2!G202,hoja3!G202) -> 96000 | H202: =MIN(hoja1!H202,hoja2!H202,hoja3!H202) -> 96000 | I202: =MIN(hoja1!I202,hoja2!I202,hoja3!I202) -> 0 | J202: =MIN(hoja1!J202,hoja2!J202,hoja3!J202) -> 250000
A203: 194 | B203: Evaporador | C203: 1 | D203: =MIN(hoja1!D203,hoja2!D203,hoja3!D203) -> 1914000 | E203: =MIN(hoja1!E203,hoja2!E203,hoja3!E203) -> 3030000 | F203: =MIN(hoja1!F203,hoja2!F203,hoja3!F203) -> 3030000 | G203: =MIN(hoja1!G203,hoja2!G203,hoja3!G203) -> 1420000 | H203: =MIN(hoja1!H203,hoja2!H203,hoja3!H203) -> 1420000 | I203: =MIN(hoja1!I203,hoja2!I203,hoja3!I203) -> 0 | J203: =MIN(hoja1!J203,hoja2!J203,hoja3!J203) -> 3455000
A204: 195 | B204: Empaquetadura del compresor | C204: 1 | D204: =MIN(hoja1!D204,hoja2!D204,hoja3!D204) -> 766000 | E204: =MIN(hoja1!E204,hoja2!E204,hoja3!E204) -> 766000 | F204: =MIN(hoja1!F204,hoja2!F204,hoja3!F204) -> 766000 | G204: =MIN(hoja1!G204,hoja2!G204,hoja3!G204) -> 766000 | H204: =MIN(hoja1!H204,hoja2!H204,hoja3!H204) -> 766000 | I204: =MIN(hoja1!I204,hoja2!I204,hoja3!I204) -> 0 | J204: =MIN(hoja1!J204,hoja2!J204,hoja3!J204) -> 835000
A205: 196 | B205: Gas R-134 | C205: 1 | D205: =MIN(hoja1!D205,hoja2!D205,hoja3!D205) -> 80000 | E205: =MIN(hoja1!E205,hoja2!E205,hoja3!E205) -> 80000 | F205: =MIN(hoja1!F205,hoja2!F205,hoja3!F205) -> 80000 | G205: =MIN(hoja1!G205,hoja2!G205,hoja3!G205) -> 80000 | H205: =MIN(hoja1!H205,hoja2!H205,hoja3!H205) -> 80000 | I205: =MIN(hoja1!I205,hoja2!I205,hoja3!I205) -> 0 | J205: =MIN(hoja1!J205,hoja2!J205,hoja3!J205) -> 125000
A206: 197 | B206: Manguera de alta del aire acondicionado | C206: 1 | D206: =MIN(hoja1!D206,hoja2!D206,hoja3!D206) -> 383000 | E206: =MIN(hoja1!E206,hoja2!E206,hoja3!E206) -> 383000 | F206: =MIN(hoja1!F206,hoja2!F206,hoja3!F206) -> 383000 | G206: =MIN(hoja1!G206,hoja2!G206,hoja3!G206) -> 383000 | H206: =MIN(hoja1!H206,hoja2!H206,hoja3!H206) -> 383000 | I206: =MIN(hoja1!I206,hoja2!I206,hoja3!I206) -> 0 | J206: =MIN(hoja1!J206,hoja2!J206,hoja3!J206) -> 510000
...

Sheet PROMEDIO
A1: ITEM | B1: CONCEPTO DE REPUESTOS | C1: CANTIDAD | D1: CAMIONETA CHEVROLET LUV DIMAX 3.5 MODELO 2009 | E1: CAMIONETA TOYOTA HILUX 2.7 MODELO 2015 | F1: CAMIONETA TOYOTA 4RUNNER | G1: AUTOMOVIL HIUNDAY ACCENT MODELO 2000 | H1: CAMPERO CHEVROLET VITARA 1.4 MODELO 1997 | I1: CHEVROLET SUPER CARRY PICKU 1000 MODELO 2007 | J1: CAMIONETA PANEL ELECTRICA BYD 1,6 MODELO 2022
A2: LUBRICANTES Y FILTROS
A3: 1 | B3: Aceite de motor 20W50 1/4 | C3: 1 | D3: =AVERAGE(hoja1!D3,hoja2!D3,hoja3!D3) -> 98333.333 | E3: =AVERAGE(hoja1!E3,hoja2!E3,hoja3!E3) -> 98333.333 | F3: =AVERAGE(hoja1!F3,hoja2!F3,hoja3!F3) -> 98333.333 | G3: =AVERAGE(hoja1!G3,hoja2!G3,hoja3!G3) -> 98333.333 | H3: =AVERAGE(hoja1!H3,hoja2!H3,hoja3!H3) -> 98333.333 | I3: =AVERAGE(hoja1!I3,hoja2!I3,hoja3!I3) -> 98333.333
A4: 2 | B4: Aceite hidraulico ATFDVl 1/4 | C4: 1 | D4: =AVERAGE(hoja1!D4,hoja2!D4,hoja3!D4) -> 78333.333 | E4: =AVERAGE(hoja1!E4,hoja2!E4,hoja3!E4) -> 78333.333 | F4: =AVERAGE(hoja1!F4,hoja2!F4,hoja3!F4) -> 78333.333 | G4: =AVERAGE(hoja1!G4,hoja2!G4,hoja3!G4) -> 78333.333 | H4: =AVERAGE(hoja1!H4,hoja2!H4,hoja3!H4) -> 78333.333 | I4: =AVERAGE(hoja1!I4,hoja2!I4,hoja3!I4) -> 78333.333
A5: 3 | B5: Aceite hidraulico ATFDlll 1/4 | C5: 1 | D5: =AVERAGE(hoja1!D5,hoja2!D5,hoja3!D5) -> 92333.333 | E5: =AVERAGE(hoja1!E5,hoja2!E5,hoja3!E5) -> 92333.333 | F5: =AVERAGE(hoja1!F5,hoja2!F5,hoja3!F5) -> 92333.333 | G5: =AVERAGE(hoja1!G5,hoja2!G5,hoja3!G5) -> 92333.333 | H5: =AVERAGE(hoja1!H5,hoja2!H5,hoja3!H5) -> 92333.333 | I5: =AVERAGE(hoja1!I5,hoja2!I5,hoja3!I5) -> 92333.333
A6: 4 | B6: Filtro de aceite | C6: 1 | D6: =AVERAGE(hoja1!D6,hoja2!D6,hoja3!D6) -> 78333.333 | E6: =AVERAGE(hoja1!E6,hoja2!E6,hoja3!E6) -> 92333.333 | F6: =AVERAGE(hoja1!F6,hoja2!F6,hoja3!F6) -> 103666.67 | G6: =AVERAGE(hoja1!G6,hoja2!G6,hoja3!G6) -> 59333.333 | H6: =AVERAGE(hoja1!H6,hoja2!H6,hoja3!H6) -> 65333.333 | I6: =AVERAGE(hoja1!I6,hoja2!I6,hoja3!I6) -> 52333.333
A7: 5 | B7: Filtro de aire de motor | C7: 1 | D7: =AVERAGE(hoja1!D7,hoja2!D7,hoja3!D7) -> 103666.67 | E7: =AVERAGE(hoja1!E7,hoja2!E7,hoja3!E7) -> 117666.67 | F7: =AVERAGE(hoja1!F7,hoja2!F7,hoja3!F7) -> 156666.67 | G7: =AVERAGE(hoja1!G7,hoja2!G7,hoja3!G7) -> 76333.333 | H7: =AVERAGE(hoja1!H7,hoja2!H7,hoja3!H7) -> 76333.333 | I7: =AVERAGE(hoja1!I7,hoja2!I7,hoja3!I7) -> 76333.333
A8: 6 | B8: Filtro de aire antipolen A/A | C8: 1 | D8: =AVERAGE(hoja1!D8,hoja2!D8,hoja3!D8) -> 72333.333 | E8: =AVERAGE(hoja1!E8,hoja2!E8,hoja3!E8) -> 78333.333 | F8: =AVERAGE(hoja1!F8,hoja2!F8,hoja3!F8) -> 92333.333 | G8: =AVERAGE(hoja1!G8,hoja2!G8,hoja3!G8) -> 65333.333 | H8: =AVERAGE(hoja1!H8,hoja2!H8,hoja3!H8) -> 65333.333 | J8: =AVERAGE(hoja1!J8,hoja2!J8,hoja3!J8) -> 90000
A9: 7 | B9: Filtro de gasolina externo | C9: 1 | D9: =AVERAGE(hoja1!D9,hoja2!D9,hoja3!D9) -> 92333.333 | E9: =AVERAGE(hoja1!E9,hoja2!E9,hoja3!E9) -> 103666.67 | F9: =AVERAGE(hoja1!F9,hoja2!F9,hoja3!F9) -> 123333.33 | G9: =AVERAGE(hoja1!G9,hoja2!G9,hoja3!G9) -> 77333.333 | H9: =AVERAGE(hoja1!H9,hoja2!H9,hoja3!H9) -> 78333.333 | I9: =AVERAGE(hoja1!I9,hoja2!I9,hoja3!I9) -> 72333.333
A10: 8 | B10: Filtro de gasolina interno | C10: 1 | D10: =AVERAGE(hoja1!D10,hoja2!D10,hoja3!D10) -> 78333.333 | E10: =AVERAGE(hoja1!E10,hoja2!E10,hoja3!E10) -> 92333.333 | F10: =AVERAGE(hoja1!F10,hoja2!F10,hoja3!F10) -> 103666.67 | G10: =AVERAGE(hoja1!G10,hoja2!G10,hoja3!G10) -> 78333.333 | H10: =AVERAGE(hoja1!H10,hoja2!H10,hoja3!H10) -> 85333.333 | I10: =AVERAGE(hoja1!I10,hoja2!I10,hoja3!I10) -> 72333.333
A11: 9 | B11: Galon de refrigerante | C11: 1 | D11: =AVERAGE(hoja1!D11,hoja2!D11,hoja3!D11) -> 182666.67 | E11: =AVERAGE(hoja1!E11,hoja2!E11,hoja3!E11) -> 182666.67 | F11: =AVERAGE(hoja1!F11,hoja2!F11,hoja3!F11) -> 182666.67 | G11: =AVERAGE(hoja1!G11,hoja2!G11,hoja3!G11) -> 182666.67 | H11: =AVERAGE(hoja1!H11,hoja2!H11,hoja3!H11) -> 182666.67 | I11: =AVERAGE(hoja1!I11,hoja2!I11,hoja3!I11) -> 182666.67
A12: 10 | B12: Grasa de alta temperatura 370gr | C12: 1 | D12: =AVERAGE(hoja1!D12,hoja2!D12,hoja3!D12) -> 117666.67 | E12: =AVERAGE(hoja1!E12,hoja2!E12,hoja3!E12) -> 117666.67 | F12: =AVERAGE(hoja1!F12,hoja2!F12,hoja3!F12) -> 117666.67 | G12: =AVERAGE(hoja1!G12,hoja2!G12,hoja3!G12) -> 117666.67 | H12: =AVERAGE(hoja1!H12,hoja2!H12,hoja3!H12) -> 117666.67 | I12: =AVERAGE(hoja1!I12,hoja2!I12,hoja3!I12) -> 117666.67
A13: 11 | B13: Liquido de frenos DOT4 240gr | C13: 1 | D13: =AVERAGE(hoja1!D13,hoja2!D13,hoja3!D13) -> 72333.333 | E13: =AVERAGE(hoja1!E13,hoja2!E13,hoja3!E13) -> 72333.333 | F13: =AVERAGE(hoja1!F13,hoja2!F13,hoja3!F13) -> 72333.333 | G13: =AVERAGE(hoja1!G13,hoja2!G13,hoja3!G13) -> 72333.333 | H13: =AVERAGE(hoja1!H13,hoja2!H13,hoja3!H13) -> 72333.333 | I13: =AVERAGE(hoja1!I13,hoja2!I13,hoja3!I13) -> 72333.333 | J13: =AVERAGE(hoja1!J13,hoja2!J13,hoja3!J13) -> 70666.667
A14: 12 | B14: Refrigerante 1/4 | C14: 1 | D14: =AVERAGE(hoja1!D14,hoja2!D14,hoja3!D14) -> 34000 | E14: =AVERAGE(hoja1!E14,hoja2!E14,hoja3!E14) -> 34000 | F14: =AVERAGE(hoja1!F14,hoja2!F14,hoja3!F14) -> 34000 | G14: =AVERAGE(hoja1!G14,hoja2!G14,hoja3!G14) -> 34000 | H14: =AVERAGE(hoja1!H14,hoja2!H14,hoja3!H14) -> 34000 | I14: =AVERAGE(hoja1!I14,hoja2!I14,hoja3!I14) -> 34000 | J14: =AVERAGE(hoja1!J14,hoja2!J14,hoja3!J14) -> 43666.667
A15: 13 | B15: Silicona gris de alta temperatura 85gr | C15: 1 | D15: =AVERAGE(hoja1!D15,hoja2!D15,hoja3!D15) -> 40333.333 | E15: =AVERAGE(hoja1!E15,hoja2!E15,hoja3!E15) -> 40333.333 | F15: =AVERAGE(hoja1!F15,hoja2!F15,hoja3!F15) -> 40333.333 | G15: =AVERAGE(hoja1!G15,hoja2!G15,hoja3!G15) -> 40333.333 | H15: =AVERAGE(hoja1!H15,hoja2!H15,hoja3!H15) -> 40333.333 | I15: =AVERAGE(hoja1!I15,hoja2!I15,hoja3!I15) -> 40333.333 | J15: =AVERAGE(hoja1!J15,hoja2!J15,hoja3!J15) -> 39333.333
A16: 14 | B16: Valvulina 80W90 1/4 | C16: 1 | D16: =AVERAGE(hoja1!D16,hoja2!D16,hoja3!D16) -> 103666.67 | E16: =AVERAGE(hoja1!E16,hoja2!E16,hoja3!E16) -> 103666.67 | F16: =AVERAGE(hoja1!F16,hoja2!F16,hoja3!F16) -> 103666.67 | G16: =AVERAGE(hoja1!G16,hoja2!G16,hoja3!G16) -> 103666.67 | H16: =AVERAGE(hoja1!H16,hoja2!H16,hoja3!H16) -> 103666.67 | I16: =AVERAGE(hoja1!I16,hoja2!I16,hoja3!I16) -> 103666.67
A17: 15 | B17: Valvulina 85W140 1/4 | C17: 1 | D17: =AVERAGE(hoja1!D17,hoja2!D17,hoja3!D17) -> 78333.333 | E17: =AVERAGE(hoja1!E17,hoja2!E17,hoja3!E17) -> 78333.333 | F17: =AVERAGE(hoja1!F17,hoja2!F17,hoja3!F17) -> 78333.333 | G17: =AVERAGE(hoja1!G17,hoja2!G17,hoja3!G17) -> 78333.333 | H17: =AVERAGE(hoja1!H17,hoja2!H17,hoja3!H17) -> 78333.333 | I17: =AVERAGE(hoja1!I17,hoja2!I17,hoja3!I17) -> 78333.333
A18: SISTEMA ELECTRICO
A19: 16 | B19: Arranque | C19: 1 | D19: =AVERAGE(hoja1!D19,hoja2!D19,hoja3!D19) -> 1444000 | E19: =AVERAGE(hoja1!E19,hoja2!E19,hoja3!E19) -> 1784333.3 | F19: =AVERAGE(hoja1!F19,hoja2!F19,hoja3!F19) -> 1784333.3 | G19: =AVERAGE(hoja1!G19,hoja2!G19,hoja3!G19) -> 1226666.7 | H19: =AVERAGE(hoja1!H19,hoja2!H19,hoja3!H19) -> 1226666.7 | I19: =AVERAGE(hoja1!I19,hoja2!I19,hoja3!I19) -> 1226666.7
A20: 17 | B20: Alternador | C20: 1 | D20: =AVERAGE(hoja1!D20,hoja2!D20,hoja3!D20) -> 1622000 | E20: =AVERAGE(hoja1!E20,hoja2!E20,hoja3!E20) -> 2164333.3 | F20: =AVERAGE(hoja1!F20,hoja2!F20,hoja3!F20) -> 2164333.3 | G20: =AVERAGE(hoja1!G20,hoja2!G20,hoja3!G20) -> 1425333.3 | H20: =AVERAGE(hoja1!H20,hoja2!H20,hoja3!H20) -> 1425333.3 | I20: =AVERAGE(hoja1!I20,hoja2!I20,hoja3!I20) -> 1425333.3 | J20: =AVERAGE(hoja1!J20,hoja2!J20,hoja3!J20) -> 3876666.7
A21: 18 | B21: Amarre plastico | C21: 1 | D21: =AVERAGE(hoja1!D21,hoja2!D21,hoja3!D21) -> 7000 | E21: =AVERAGE(hoja1!E21,hoja2!E21,hoja3!E21) -> 7000 | F21: =AVERAGE(hoja1!F21,hoja2!F21,hoja3!F21) -> 7000 | G21: =AVERAGE(hoja1!G21,hoja2!G21,hoja3!G21) -> 7000 | H21: =AVERAGE(hoja1!H21,hoja2!H21,hoja3!H21) -> 7000 | I21: =AVERAGE(hoja1!I21,hoja2!I21,hoja3!I21) -> 7000 | J21: =AVERAGE(hoja1!J21,hoja2!J21,hoja3!J21) -> 4833.3333
A22: 19 | B22: Abrazadera metalica | C22: 1 | D22: =AVERAGE(hoja1!D22,hoja2!D22,hoja3!D22) -> 9000 | E22: =AVERAGE(hoja1!E22,hoja2!E22,hoja3!E22) -> 9000 | F22: =AVERAGE(hoja1!F22,hoja2!F22,hoja3!F22) -> 9000 | G22: =AVERAGE(hoja1!G22,hoja2!G22,hoja3!G22) -> 9000 | H22: =AVERAGE(hoja1!H22,hoja2!H22,hoja3!H22) -> 9000 | I22: =AVERAGE(hoja1!I22,hoja2!I22,hoja3!I22) -> 9000 | J22: =AVERAGE(hoja1!J22,hoja2!J22,hoja3!J22) -> 6500
A23: 20 | B23: Automatico de alternador | C23: 1 | D23: =AVERAGE(hoja1!D23,hoja2!D23,hoja3!D23) -> 310666.67 | E23: =AVERAGE(hoja1!E23,hoja2!E23,hoja3!E23) -> 378666.67 | F23: =AVERAGE(hoja1!F23,hoja2!F23,hoja3!F23) -> 378666.67 | G23: =AVERAGE(hoja1!G23,hoja2!G23,hoja3!G23) -> 207000 | H23: =AVERAGE(hoja1!H23,hoja2!H23,hoja3!H23) -> 207000 | I23: =AVERAGE(hoja1!I23,hoja2!I23,hoja3!I23) -> 207000 | J23: =AVERAGE(hoja1!J23,hoja2!J23,hoja3!J23) -> 425000
A24: 21 | B24: Alarma | C24: 1 | D24: =AVERAGE(hoja1!D24,hoja2!D24,hoja3!D24) -> 1375333.3 | E24: =AVERAGE(hoja1!E24,hoja2!E24,hoja3!E24) -> 1889666.7 | J24: =AVERAGE(hoja1!J24,hoja2!J24,hoja3!J24) -> 1885000
A25: 22 | B25: Antena radial | C25: 1 | D25: =AVERAGE(hoja1!D25,hoja2!D25,hoja3!D25) -> 483000 | E25: =AVERAGE(hoja1!E25,hoja2!E25,hoja3!E25) -> 671333.33 | F25: =AVERAGE(hoja1!F25,hoja2!F25,hoja3!F25) -> 671333.33 | G25: =AVERAGE(hoja1!G25,hoja2!G25,hoja3!G25) -> 310666.67 | H25: =AVERAGE(hoja1!H25,hoja2!H25,hoja3!H25) -> 310666.67 | I25: =AVERAGE(hoja1!I25,hoja2!I25,hoja3!I25) -> 310666.67 | J25: =AVERAGE(hoja1!J25,hoja2!J25,hoja3!J25) -> 460000
A26: 23 | B26: Bombillo H4 halogeno 60/55 12V | C26: 1 | D26: =AVERAGE(hoja1!D26,hoja2!D26,hoja3!D26) -> 52333.333 | E26: =AVERAGE(hoja1!E26,hoja2!E26,hoja3!E26) -> 52333.333 | F26: =AVERAGE(hoja1!F26,hoja2!F26,hoja3!F26) -> 52333.333 | G26: =AVERAGE(hoja1!G26,hoja2!G26,hoja3!G26) -> 52333.333 | H26: =AVERAGE(hoja1!H26,hoja2!H26,hoja3!H26) -> 52333.333 | I26: =AVERAGE(hoja1!I26,hoja2!I26,hoja3!I26) -> 52333.333 | J26: =AVERAGE(hoja1!J26,hoja2!J26,hoja3!J26) -> 295000
A27: 24 | B27: Bombillo H4 halogeno 100/90 12V | C27: 1 | D27: =AVERAGE(hoja1!D27,hoja2!D27,hoja3!D27) -> 70333.333 | E27: =AVERAGE(hoja1!E27,hoja2!E27,hoja3!E27) -> 70333.333 | F27: =AVERAGE(hoja1!F27,hoja2!F27,hoja3!F27) -> 70333.333 | G27: =AVERAGE(hoja1!G27,hoja2!G27,hoja3!G27) -> 70333.333 | H27: =AVERAGE(hoja1!H27,hoja2!H27,hoja3!H27) -> 70333.333 | I27: =AVERAGE(hoja1!I27,hoja2!I27,hoja3!I27) -> 70333.333 | J27: =AVERAGE(hoja1!J27,hoja2!J27,hoja3!J27) -> 345000
A28: 25 | B28: Bombillo de 1 contactos | C28: 1 | D28: =AVERAGE(hoja1!D28,hoja2!D28,hoja3!D28) -> 18000 | E28: =AVERAGE(hoja1!E28,hoja2!E28,hoja3!E28) -> 18000 | F28: =AVERAGE(hoja1!F28,hoja2!F28,hoja3!F28) -> 18000 | G28: =AVERAGE(hoja1!G28,hoja2!G28,hoja3!G28) -> 18000 | H28: =AVERAGE(hoja1!H28,hoja2!H28,hoja3!H28) -> 18000 | I28: =AVERAGE(hoja1!I28,hoja2!I28,hoja3!I28) -> 18000 | J28: =AVERAGE(hoja1!J28,hoja2!J28,hoja3!J28) -> 130000
A29: 26 | B29: Bombillo de 2 contactos | C29: 1 | D29: =AVERAGE(hoja1!D29,hoja2!D29,hoja3!D29) -> 27333.333 | E29: =AVERAGE(hoja1!E29,hoja2!E29,hoja3!E29) -> 27333.333 | F29: =AVERAGE(hoja1!F29,hoja2!F29,hoja3!F29) -> 27333.333 | G29: =AVERAGE(hoja1!G29,hoja2!G29,hoja3!G29) -> 27333.333 | H29: =AVERAGE(hoja1!H29,hoja2!H29,hoja3!H29) -> 27333.333 | I29: =AVERAGE(hoja1!I29,hoja2!I29,hoja3!I29) -> 27333.333 | J29: =AVERAGE(hoja1!J29,hoja2!J29,hoja3!J29) -> 130000
A30: 27 | B30: Bombillo garrapata | C30: 1 | D30: =AVERAGE(hoja1!D30,hoja2!D30,hoja3!D30) -> 16000 | E30: =AVERAGE(hoja1!E30,hoja2!E30,hoja3!E30) -> 16000 | F30: =AVERAGE(hoja1!F30,hoja2!F30,hoja3!F30) -> 16000 | G30: =AVERAGE(hoja1!G30,hoja2!G30,hoja3!G30) -> 16000 | H30: =AVERAGE(hoja1!H30,hoja2!H30,hoja3!H30) -> 16000 | I30: =AVERAGE(hoja1!I30,hoja2!I30,hoja3!I30) -> 16000 | J30: =AVERAGE(hoja1!J30,hoja2!J30,hoja3!J30) -> 123000
A31: 28 | B31: Bombillo de techo | C31: 1 | D31: =AVERAGE(hoja1!D31,hoja2!D31,hoja3!D31) -> 17000 | E31: =AVERAGE(hoja1!E31,hoja2!E31,hoja3!E31) -> 17000 | F31: =AVERAGE(hoja1!F31,hoja2!F31,hoja3!F31) -> 17000 | G31: =AVERAGE(hoja1!G31,hoja2!G31,hoja3!G31) -> 17000 | H31: =AVERAGE(hoja1!H31,hoja2!H31,hoja3!H31) -> 17000 | I31: =AVERAGE(hoja1!I31,hoja2!I31,hoja3!I31) -> 17000 | J31: =AVERAGE(hoja1!J31,hoja2!J31,hoja3!J31) -> 120000
A32: 29 | B32: Buje de arranque | C32: 1 | D32: =AVERAGE(hoja1!D32,hoja2!D32,hoja3!D32) -> 138666.67 | E32: =AVERAGE(hoja1!E32,hoja2!E32,hoja3!E32) -> 138666.67 | F32: =AVERAGE(hoja1!F32,hoja2!F32,hoja3!F32) -> 138666.67 | G32: =AVERAGE(hoja1!G32,hoja2!G32,hoja3!G32) -> 138666.67 | H32: =AVERAGE(hoja1!H32,hoja2!H32,hoja3!H32) -> 138666.67 | I32: =AVERAGE(hoja1!I32,hoja2!I32,hoja3!I32) -> 138666.67
A33: 30 | B33: Bendix de arranque | C33: 1 | D33: =AVERAGE(hoja1!D33,hoja2!D33,hoja3!D33) -> 289333.33 | E33: =AVERAGE(hoja1!E33,hoja2!E33,hoja3!E33) -> 336666.67 | F33: =AVERAGE(hoja1!F33,hoja2!F33,hoja3!F33) -> 336666.67 | G33: =AVERAGE(hoja1!G33,hoja2!G33,hoja3!G33) -> 177000 | H33: =AVERAGE(hoja1!H33,hoja2!H33,hoja3!H33) -> 177000 | I33: =AVERAGE(hoja1!I33,hoja2!I33,hoja3!I33) -> 177000
A34: 31 | B34: Carbonera del arranque | C34: 1 | D34: =AVERAGE(hoja1!D34,hoja2!D34,hoja3!D34) -> 276333.33 | E34: =AVERAGE(hoja1!E34,hoja2!E34,hoja3!E34) -> 326666.67 | F34: =AVERAGE(hoja1!F34,hoja2!F34,hoja3!F34) -> 326666.67 | G34: =AVERAGE(hoja1!G34,hoja2!G34,hoja3!G34) -> 138666.67 | H34: =AVERAGE(hoja1!H34,hoja2!H34,hoja3!H34) -> 138666.67 | I34: =AVERAGE(hoja1!I34,hoja2!I34,hoja3!I34) -> 138666.67
A35: 32 | B35: Cintilla Airbag | C35: 1 | D35: =AVERAGE(hoja1!D35,hoja2!D35,hoja3!D35) -> 1375333.3 | E35: =AVERAGE(hoja1!E35,hoja2!E35,hoja3!E35) -> 2061666.7 | F35: =AVERAGE(hoja1!F35,hoja2!F35,hoja3!F35) -> 2061666.7 | G35: =AVERAGE(hoja1!G35,hoja2!G35,hoja3!G35) -> 860000 | J35: =AVERAGE(hoja1!J35,hoja2!J35,hoja3!J35) -> 2705000
A36: 33 | B36: Control de alarma | C36: 1 | D36: =AVERAGE(hoja1!D36,hoja2!D36,hoja3!D36) -> 207000 | E36: =AVERAGE(hoja1!E36,hoja2!E36,hoja3!E36) -> 310666.67 | J36: =AVERAGE(hoja1!J36,hoja2!J36,hoja3!J36) -> 495000
A37: 34 | B37: Fusible | C37: 1 | D37: =AVERAGE(hoja1!D37,hoja2!D37,hoja3!D37) -> 1628333.3 | E37: =AVERAGE(hoja1!E37,hoja2!E37,hoja3!E37) -> 1875000 | F37: =AVERAGE(hoja1!F37,hoja2!F37,hoja3!F37) -> 1875000 | G37: =AVERAGE(hoja1!G37,hoja2!G37,hoja3!G37) -> 1208333.3 | H37: =AVERAGE(hoja1!H37,hoja2!H37,hoja3!H37) -> 1208333.3 | I37: =AVERAGE(hoja1!I37,hoja2!I37,hoja3!I37) -> 1208333.3 | J37: =AVERAGE(hoja1!J37,hoja2!J37,hoja3!J37) -> 2811666.7
A38: 35 | B38: Electroventilador Completo | C38: 1 | D38: =AVERAGE(hoja1!D38,hoja2!D38,hoja3!D38) -> 497000 | E38: =AVERAGE(hoja1!E38,hoja2!E38,hoja3!E38) -> 657000 | F38: =AVERAGE(hoja1!F38,hoja2!F38,hoja3!F38) -> 657000 | G38: =AVERAGE(hoja1!G38,hoja2!G38,hoja3!G38) -> 439000 | H38: =AVERAGE(hoja1!H38,hoja2!H38,hoja3!H38) -> 439000 | I38: =AVERAGE(hoja1!I38,hoja2!I38,hoja3!I38) -> 439000 | J38: =AVERAGE(hoja1!J38,hoja2!J38,hoja3!J38) -> 1388333.3
A39: 36 | B39: Horquilla del arranque | C39: 1 | D39: =AVERAGE(hoja1!D39,hoja2!D39,hoja3!D39) -> 103666.67 | E39: =AVERAGE(hoja1!E39,hoja2!E39,hoja3!E39) -> 156666.67 | F39: =AVERAGE(hoja1!F39,hoja2!F39,hoja3!F39) -> 156666.67 | G39: =AVERAGE(hoja1!G39,hoja2!G39,hoja3!G39) -> 78333.333 | H39: =AVERAGE(hoja1!H39,hoja2!H39,hoja3!H39) -> 78333.333 | I39: =AVERAGE(hoja1!I39,hoja2!I39,hoja3!I39) -> 78333.333
A40: 37 | B40: Indicador de parqueo | C40: 1 | D40: =AVERAGE(hoja1!D40,hoja2!D40,hoja3!D40) -> 378666.67 | E40: =AVERAGE(hoja1!E40,hoja2!E40,hoja3!E40) -> 533666.67 | F40: =AVERAGE(hoja1!F40,hoja2!F40,hoja3!F40) -> 533666.67 | G40: =AVERAGE(hoja1!G40,hoja2!G40,hoja3!G40) -> 310666.67 | H40: =AVERAGE(hoja1!H40,hoja2!H40,hoja3!H40) -> 310666.67 | I40: =AVERAGE(hoja1!I40,hoja2!I40,hoja3!I40) -> 310666.67 | J40: =AVERAGE(hoja1!J40,hoja2!J40,hoja3!J40) -> 650000
A41: 38 | B41: Juego de pitos | C41: 1 | D41: =AVERAGE(hoja1!D41,hoja2!D41,hoja3!D41) -> 378666.67 | E41: =AVERAGE(hoja1!E41,hoja2!E41,hoja3!E41) -> 378666.67 | F41: =AVERAGE(hoja1!F41,hoja2!F41,hoja3!F41) -> 378666.67 | G41: =AVERAGE(hoja1!G41,hoja2!G41,hoja3!G41) -> 378666.67 | H41: =AVERAGE(hoja1!H41,hoja2!H41,hoja3!H41) -> 378666.67 | I41: =AVERAGE(hoja1!I41,hoja2!I41,hoja3!I41) -> 378666.67 | J41: =AVERAGE(hoja1!J41,hoja2!J41,hoja3!J41) -> 563000
A42: 39 | B42: Juego de escobillas del alternador | C42: 1 | D42: =AVERAGE(hoja1!D42,hoja2!D42,hoja3!D42) -> 156666.67 | E42: =AVERAGE(hoja1!E42,hoja2!E42,hoja3!E42) -> 190000 | F42: =AVERAGE(hoja1!F42,hoja2!F42,hoja3!F42) -> 190000 | G42: =AVERAGE(hoja1!G42,hoja2!G42,hoja3!G42) -> 138666.67 | H42: =AVERAGE(hoja1!H42,hoja2!H42,hoja3!H42) -> 138666.67 | I42: =AVERAGE(hoja1!I42,hoja2!I42,hoja3!I42) -> 138666.67 | J42: =AVERAGE(hoja1!J42,hoja2!J42,hoja3!J42) -> 300000
A43: 40 | B43: Juego de escobillas del arranque | C43: 1 | D43: =AVERAGE(hoja1!D43,hoja2!D43,hoja3!D43) -> 138666.67 | E43: =AVERAGE(hoja1!E43,hoja2!E43,hoja3!E43) -> 171666.67 | F43: =AVERAGE(hoja1!F43,hoja2!F43,hoja3!F43) -> 171666.67 | G43: =AVERAGE(hoja1!G43,hoja2!G43,hoja3!G43) -> 138666.67 | H43: =AVERAGE(hoja1!H43,hoja2!H43,hoja3!H43) -> 138666.67 | I43: =AVERAGE(hoja1!I43,hoja2!I43,hoja3!I43) -> 138666.67
A44: 41 | B44: Memoria - computador | C44: 1 | D44: =AVERAGE(hoja1!D44,hoja2!D44,hoja3!D44) -> 2101666.7 | E44: =AVERAGE(hoja1!E44,hoja2!E44,hoja3!E44) -> 2872666.7 | F44: =AVERAGE(hoja1!F44,hoja2!F44,hoja3!F44) -> 2872666.7 | G44: =AVERAGE(hoja1!G44,hoja2!G44,hoja3!G44) -> 1590000 | H44: =AVERAGE(hoja1!H44,hoja2!H44,hoja3!H44) -> 790000 | I44: =AVERAGE(hoja1!I44,hoja2!I44,hoja3!I44) -> 790000 | J44: =AVERAGE(hoja1!J44,hoja2!J44,hoja3!J44) -> 3616666.7
A45: 42 | B45: Motor Electroventilador | C45: 1 | D45: =AVERAGE(hoja1!D45,hoja2!D45,hoja3!D45) -> 3570666.7 | E45: =AVERAGE(hoja1!E45,hoja2!E45,hoja3!E45) -> 4934000 | F45: =AVERAGE(hoja1!F45,hoja2!F45,hoja3!F45) -> 4934000 | G45: =AVERAGE(hoja1!G45,hoja2!G45,hoja3!G45) -> 2589333.3 | H45: =AVERAGE(hoja1!H45,hoja2!H45,hoja3!H45) -> 650000 | I45: =AVERAGE(hoja1!I45,hoja2!I45,hoja3!I45) -> 650000 | J45: =AVERAGE(hoja1!J45,hoja2!J45,hoja3!J45) -> 5438333.3
A46: 43 | B46: Motor limpiaparabrizas | C46: 1 | D46: =AVERAGE(hoja1!D46,hoja2!D46,hoja3!D46) -> 1067000 | E46: =AVERAGE(hoja1!E46,hoja2!E46,hoja3!E46) -> 1530000 | F46: =AVERAGE(hoja1!F46,hoja2!F46,hoja3!F46) -> 1530000 | G46: =AVERAGE(hoja1!G46,hoja2!G46,hoja3!G46) -> 996666.67 | H46: =AVERAGE(hoja1!H46,hoja2!H46,hoja3!H46) -> 996666.67 | I46: =AVERAGE(hoja1!I46,hoja2!I46,hoja3!I46) -> 996666.67 | J46: =AVERAGE(hoja1!J46,hoja2!J46,hoja3!J46) -> 1585000
A47: 44 | B47: Porta diodos del alternador | C47: 1 | D47: =AVERAGE(hoja1!D47,hoja2!D47,hoja3!D47) -> 258000 | E47: =AVERAGE(hoja1!E47,hoja2!E47,hoja3!E47) -> 310666.67 | F47: =AVERAGE(hoja1!F47,hoja2!F47,hoja3!F47) -> 310666.67 | G47: =AVERAGE(hoja1!G47,hoja2!G47,hoja3!G47) -> 207000 | H47: =AVERAGE(hoja1!H47,hoja2!H47,hoja3!H47) -> 207000 | I47: =AVERAGE(hoja1!I47,hoja2!I47,hoja3!I47) -> 207000 | J47: =AVERAGE(hoja1!J47,hoja2!J47,hoja3!J47) -> 380000
A48: 45 | B48: Ramal electrico del motor completo | C48: 1 | D48: =AVERAGE(hoja1!D48,hoja2!D48,hoja3!D48) -> 4809000 | E48: =AVERAGE(hoja1!E48,hoja2!E48,hoja3!E48) -> 6526000 | F48: =AVERAGE(hoja1!F48,hoja2!F48,hoja3!F48) -> 6526000 | G48: =AVERAGE(hoja1!G48,hoja2!G48,hoja3!G48) -> 3436000 | H48: =AVERAGE(hoja1!H48,hoja2!H48,hoja3!H48) -> 3436000 | I48: =AVERAGE(hoja1!I48,hoja2!I48,hoja3!I48) -> 3436000 | J48: =AVERAGE(hoja1!J48,hoja2!J48,hoja3!J48) -> 12371667
A49: 46 | B49: Pacha del computador | C49: 1 | D49: =AVERAGE(hoja1!D49,hoja2!D49,hoja3!D49) -> 3000000 | E49: =AVERAGE(hoja1!E49,hoja2!E49,hoja3!E49) -> 3466666.7 | F49: =AVERAGE(hoja1!F49,hoja2!F49,hoja3!F49) -> 3466666.7 | G49: =AVERAGE(hoja1!G49,hoja2!G49,hoja3!G49) -> 2300000 | H49: =AVERAGE(hoja1!H49,hoja2!H49,hoja3!H49) -> 2300000 | I49: =AVERAGE(hoja1!I49,hoja2!I49,hoja3!I49) -> 2300000 | J49: =AVERAGE(hoja1!J49,hoja2!J49,hoja3!J49) -> 4400000
A50: 47 | B50: Relay bosh | C50: 1 | D50: =AVERAGE(hoja1!D50,hoja2!D50,hoja3!D50) -> 35000 | E50: =AVERAGE(hoja1!E50,hoja2!E50,hoja3!E50) -> 35000 | F50: =AVERAGE(hoja1!F50,hoja2!F50,hoja3!F50) -> 35000 | G50: =AVERAGE(hoja1!G50,hoja2!G50,hoja3!G50) -> 35000 | H50: =AVERAGE(hoja1!H50,hoja2!H50,hoja3!H50) -> 35000 | I50: =AVERAGE(hoja1!I50,hoja2!I50,hoja3!I50) -> 35000 | J50: =AVERAGE(hoja1!J50,hoja2!J50,hoja3!J50) -> 160000
A51: 48 | B51: Rodamientos del alternador | C51: 1 | D51: =AVERAGE(hoja1!D51,hoja2!D51,hoja3!D51) -> 156666.67 | E51: =AVERAGE(hoja1!E51,hoja2!E51,hoja3!E51) -> 156666.67 | F51: =AVERAGE(hoja1!F51,hoja2!F51,hoja3!F51) -> 156666.67 | G51: =AVERAGE(hoja1!G51,hoja2!G51,hoja3!G51) -> 121333.33 | H51: =AVERAGE(hoja1!H51,hoja2!H51,hoja3!H51) -> 121333.33 | I51: =AVERAGE(hoja1!I51,hoja2!I51,hoja3!I51) -> 121333.33 | J51: =AVERAGE(hoja1!J51,hoja2!J51,hoja3!J51) -> 255000
A52: 49 | B52: Switchera | C52: 1 | D52: =AVERAGE(hoja1!D52,hoja2!D52,hoja3!D52) -> 2940666.7 | E52: =AVERAGE(hoja1!E52,hoja2!E52,hoja3!E52) -> 4985333.3 | F52: =AVERAGE(hoja1!F52,hoja2!F52,hoja3!F52) -> 4985333.3 | G52: =AVERAGE(hoja1!G52,hoja2!G52,hoja3!G52) -> 2990333.3 | H52: =AVERAGE(hoja1!H52,hoja2!H52,hoja3!H52) -> 2429333.3 | I52: =AVERAGE(hoja1!I52,hoja2!I52,hoja3!I52) -> 2429333.3 | J52: =AVERAGE(hoja1!J52,hoja2!J52,hoja3!J52) -> 4355000
A53: 50 | B53: Soque de relay | C53: 1 | D53: =AVERAGE(hoja1!D53,hoja2!D53,hoja3!D53) -> 35000 | E53: =AVERAGE(hoja1!E53,hoja2!E53,hoja3!E53) -> 35000 | F53: =AVERAGE(hoja1!F53,hoja2!F53,hoja3!F53) -> 35000 | G53: =AVERAGE(hoja1!G53,hoja2!G53,hoja3!G53) -> 35000 | H53: =AVERAGE(hoja1!H53,hoja2!H53,hoja3!H53) -> 35000 | I53: =AVERAGE(hoja1!I53,hoja2!I53,hoja3!I53) -> 35000 | J53: =AVERAGE(hoja1!J53,hoja2!J53,hoja3!J53) -> 175000
A54: 51 | B54: Tacomentro | C54: 1 | D54: =AVERAGE(hoja1!D54,hoja2!D54,hoja3!D54) -> 2930666.7 | E54: =AVERAGE(hoja1!E54,hoja2!E54,hoja3!E54) -> 4124333.3 | F54: =AVERAGE(hoja1!F54,hoja2!F54,hoja3!F54) -> 4124333.3 | G54: =AVERAGE(hoja1!G54,hoja2!G54,hoja3!G54) -> 2707666.7 | H54: =AVERAGE(hoja1!H54,hoja2!H54,hoja3!H54) -> 2707666.7 | I54: =AVERAGE(hoja1!I54,hoja2!I54,hoja3!I54) -> 2707666.7 | J54: =AVERAGE(hoja1!J54,hoja2!J54,hoja3!J54) -> 2705000
A55: 52 | B55: Tapa de distribuidor | C55: 1 | H55: =AVERAGE(hoja1!H55,hoja2!H55,hoja3!H55) -> 156666.67 | I55: =AVERAGE(hoja1!I55,hoja2!I55,hoja3!I55) -> 156666.67 | J55: =AVERAGE(hoja1!J55,hoja2!J55,hoja3!J55) -> 245000
A56: SISTEMA DE SUSPENSIÓN
A57: 53 | B57: Amortiguador delantero | C57: 1 | D57: =AVERAGE(hoja1!D57,hoja2!D57,hoja3!D57) -> 684666.67 | E57: =AVERAGE(hoja1!E57,hoja2!E57,hoja3!E57) -> 831333.33 | F57: =AVERAGE(hoja1!F57,hoja2!F57,hoja3!F57) -> 831333.33 | G57: =AVERAGE(hoja1!G57,hoja2!G57,hoja3!G57) -> 507333.33 | H57: =AVERAGE(hoja1!H57,hoja2!H57,hoja3!H57) -> 523333.33 | I57: =AVERAGE(hoja1!I57,hoja2!I57,hoja3!I57) -> 507333.33 | J57: =AVERAGE(hoja1!J57,hoja2!J57,hoja3!J57) -> 801666.67
A58: 54 | B58: Amortiguador trasero | C58: 1 | D58: =AVERAGE(hoja1!D58,hoja2!D58,hoja3!D58) -> 684666.67 | E58: =AVERAGE(hoja1!E58,hoja2!E58,hoja3!E58) -> 831333.33 | F58: =AVERAGE(hoja1!F58,hoja2!F58,hoja3!F58) -> 831333.33 | G58: =AVERAGE(hoja1!G58,hoja2!G58,hoja3!G58) -> 507333.33 | H58: =AVERAGE(hoja1!H58,hoja2!H58,hoja3!H58) -> 523333.33 | I58: =AVERAGE(hoja1!I58,hoja2!I58,hoja3!I58) -> 507333.33 | J58: =AVERAGE(hoja1!J58,hoja2!J58,hoja3!J58) -> 801666.67
A59: 55 | B59: Axial de direcciòn | C59: 1 | D59: =AVERAGE(hoja1!D59,hoja2!D59,hoja3!D59) -> 634000 | E59: =AVERAGE(hoja1!E59,hoja2!E59,hoja3!E59) -> 723333.33 | F59: =AVERAGE(hoja1!F59,hoja2!F59,hoja3!F59) -> 723333.33 | G59: =AVERAGE(hoja1!G59,hoja2!G59,hoja3!G59) -> 207000 | H59: =AVERAGE(hoja1!H59,hoja2!H59,hoja3!H59) -> 276333.33 | I59: =AVERAGE(hoja1!I59,hoja2!I59,hoja3!I59) -> 207000 | J59: =AVERAGE(hoja1!J59,hoja2!J59,hoja3!J59) -> 784666.67
A60: 56 | B60: Buje de tijera superior | C60: 1 | D60: =AVERAGE(hoja1!D60,hoja2!D60,hoja3!D60) -> 356666.67 | E60: =AVERAGE(hoja1!E60,hoja2!E60,hoja3!E60) -> 378666.67 | F60: =AVERAGE(hoja1!F60,hoja2!F60,hoja3!F60) -> 378666.67 | G60: =AVERAGE(hoja1!G60,hoja2!G60,hoja3!G60) -> 156666.67 | H60: =AVERAGE(hoja1!H60,hoja2!H60,hoja3!H60) -> 171666.67 | I60: =AVERAGE(hoja1!I60,hoja2!I60,hoja3!I60) -> 156666.67 | J60: =AVERAGE(hoja1!J60,hoja2!J60,hoja3!J60) -> 527666.67
A61: 57 | B61: Buje de tijera inferior | C61: 1 | D61: =AVERAGE(hoja1!D61,hoja2!D61,hoja3!D61) -> 356666.67 | E61: =AVERAGE(hoja1!E61,hoja2!E61,hoja3!E61) -> 378666.67 | F61: =AVERAGE(hoja1!F61,hoja2!F61,hoja3!F61) -> 378666.67 | H61: =AVERAGE(hoja1!H61,hoja2!H61,hoja3!H61) -> 171666.67 | I61: =AVERAGE(hoja1!I61,hoja2!I61,hoja3!I61) -> 156666.67 | J61: =AVERAGE(hoja1!J61,hoja2!J61,hoja3!J61) -> 527666.67
A62: 58 | B62: Buje de templete inferior | C62: 1 | D62: =AVERAGE(hoja1!D62,hoja2!D62,hoja3!D62) -> 277333.33 | E62: =AVERAGE(hoja1!E62,hoja2!E62,hoja3!E62) -> 310666.67 | F62: =AVERAGE(hoja1!F62,hoja2!F62,hoja3!F62) -> 310666.67 | H62: =AVERAGE(hoja1!H62,hoja2!H62,hoja3!H62) -> 156666.67 | I62: =AVERAGE(hoja1!I62,hoja2!I62,hoja3!I62) -> 138666.67 | J62: =AVERAGE(hoja1!J62,hoja2!J62,hoja3!J62) -> 453666.67
A63: 59 | B63: Buje de templete superior | C63: 1 | D63: =AVERAGE(hoja1!D63,hoja2!D63,hoja3!D63) -> 277333.33 | E63: =AVERAGE(hoja1!E63,hoja2!E63,hoja3!E63) -> 310666.67 | F63: =AVERAGE(hoja1!F63,hoja2!F63,hoja3!F63) -> 310666.67 | H63: =AVERAGE(hoja1!H63,hoja2!H63,hoja3!H63) -> 156666.67 | I63: =AVERAGE(hoja1!I63,hoja2!I63,hoja3!I63) -> 138666.67 | J63: =AVERAGE(hoja1!J63,hoja2!J63,hoja3!J63) -> 453666.67
A64: 60 | B64: Buje de biela de direccion | C64: 1 | D64: =AVERAGE(hoja1!D64,hoja2!D64,hoja3!D64) -> 573666.67 | E64: =AVERAGE(hoja1!E64,hoja2!E64,hoja3!E64) -> 653000 | F64: =AVERAGE(hoja1!F64,hoja2!F64,hoja3!F64) -> 653000 | H64: =AVERAGE(hoja1!H64,hoja2!H64,hoja3!H64) -> 326666.67 | I64: =AVERAGE(hoja1!I64,hoja2!I64,hoja3!I64) -> 276333.33 | J64: =AVERAGE(hoja1!J64,hoja2!J64,hoja3!J64) -> 728666.67
A65: 61 | B65: Buje de muelle | C65: 1 | D65: =AVERAGE(hoja1!D65,hoja2!D65,hoja3!D65) -> 236333.33 | E65: =AVERAGE(hoja1!E65,hoja2!E65,hoja3!E65) -> 276333.33 | H65: =AVERAGE(hoja1!H65,hoja2!H65,hoja3!H65) -> 171666.67 | I65: =AVERAGE(hoja1!I65,hoja2!I65,hoja3!I65) -> 156666.67 | J65: =AVERAGE(hoja1!J65,hoja2!J65,hoja3!J65) -> 415666.67
A66: 62 | B66: Bocin de rueda delantera | C66: 1 | D66: =AVERAGE(hoja1!D66,hoja2!D66,hoja3!D66) -> 1204000 | E66: =AVERAGE(hoja1!E66,hoja2!E66,hoja3!E66) -> 1155000 | F66: =AVERAGE(hoja1!F66,hoja2!F66,hoja3!F66) -> 1155000 | G66: =AVERAGE(hoja1!G66,hoja2!G66,hoja3!G66) -> 685666.67 | H66: =AVERAGE(hoja1!H66,hoja2!H66,hoja3!H66) -> 867333.33 | I66: =AVERAGE(hoja1!I66,hoja2!I66,hoja3!I66) -> 685666.67 | J66: =AVERAGE(hoja1!J66,hoja2!J66,hoja3!J66) -> 1260666.7
A67: 63 | B67: Bocin de rueda trasera | C67: 1 | D67: =AVERAGE(hoja1!D67,hoja2!D67,hoja3!D67) -> 1146333.3 | E67: =AVERAGE(hoja1!E67,hoja2!E67,hoja3!E67) -> 1100000 | F67: =AVERAGE(hoja1!F67,hoja2!F67,hoja3!F67) -> 1100000 | G67: =AVERAGE(hoja1!G67,hoja2!G67,hoja3!G67) -> 653000 | H67: =AVERAGE(hoja1!H67,hoja2!H67,hoja3!H67) -> 825666.67 | I67: =AVERAGE(hoja1!I67,hoja2!I67,hoja3!I67) -> 653000 | J67: =AVERAGE(hoja1!J67,hoja2!J67,hoja3!J67) -> 1260666.7
A68: 64 | B68: Cardan de direcciòn | C68: 1 | D68: =AVERAGE(hoja1!D68,hoja2!D68,hoja3!D68) -> 1540333.3 | E68: =AVERAGE(hoja1!E68,hoja2!E68,hoja3!E68) -> 1409333.3 | F68: =AVERAGE(hoja1!F68,hoja2!F68,hoja3!F68) -> 1409333.3 | H68: =AVERAGE(hoja1!H68,hoja2!H68,hoja3!H68) -> 1185333.3 | I68: =AVERAGE(hoja1!I68,hoja2!I68,hoja3!I68) -> 1014666.7 | J68: =AVERAGE(hoja1!J68,hoja2!J68,hoja3!J68) -> 1626666.7
A69: 65 | B69: Cruceta del cardan | C69: 1 | D69: =AVERAGE(hoja1!D69,hoja2!D69,hoja3!D69) -> 349000 | E69: =AVERAGE(hoja1!E69,hoja2!E69,hoja3!E69) -> 370666.67 | F69: =AVERAGE(hoja1!F69,hoja2!F69,hoja3!F69) -> 370666.67 | H69: =AVERAGE(hoja1!H69,hoja2!H69,hoja3!H69) -> 169000 | I69: =AVERAGE(hoja1!I69,hoja2!I69,hoja3!I69) -> 152333.33 | J69: =AVERAGE(hoja1!J69,hoja2!J69,hoja3!J69) -> 504666.67
A70: 66 | B70: Colgante | C70: 1 | D70: =AVERAGE(hoja1!D70,hoja2!D70,hoja3!D70) -> 593666.67 | E70: =AVERAGE(hoja1!E70,hoja2!E70,hoja3!E70) -> 687333.33 | F70: =AVERAGE(hoja1!F70,hoja2!F70,hoja3!F70) -> 687333.33 | G70: =AVERAGE(hoja1!G70,hoja2!G70,hoja3!G70) -> 171666.67 | H70: =AVERAGE(hoja1!H70,hoja2!H70,hoja3!H70) -> 242000 | I70: =AVERAGE(hoja1!I70,hoja2!I70,hoja3!I70) -> 171666.67 | J70: =AVERAGE(hoja1!J70,hoja2!J70,hoja3!J70) -> 747666.67
A71: 67 | B71: Doble 4x4 | C71: 1 | D71: =AVERAGE(hoja1!D71,hoja2!D71,hoja3!D71) -> 6972000 | E71: =AVERAGE(hoja1!E71,hoja2!E71,hoja3!E71) -> 7029333.3 | H71: =AVERAGE(hoja1!H71,hoja2!H71,hoja3!H71) -> 4205333.3 | I71: =AVERAGE(hoja1!I71,hoja2!I71,hoja3!I71) -> 3201000 | J71: =AVERAGE(hoja1!J71,hoja2!J71,hoja3!J71) -> 6669666.7
A72: 68 | B72: Esparrago | C72: 1 | D72: =AVERAGE(hoja1!D72,hoja2!D72,hoja3!D72) -> 79333.333 | E72: =AVERAGE(hoja1!E72,hoja2!E72,hoja3!E72) -> 70333.333 | F72: =AVERAGE(hoja1!F72,hoja2!F72,hoja3!F72) -> 70333.333 | G72: =AVERAGE(hoja1!G72,hoja2!G72,hoja3!G72) -> 70333.333 | H72: =AVERAGE(hoja1!H72,hoja2!H72,hoja3!H72) -> 70333.333 | I72: =AVERAGE(hoja1!I72,hoja2!I72,hoja3!I72) -> 70333.333 | J72: =AVERAGE(hoja1!J72,hoja2!J72,hoja3!J72) -> 269666.67
A73: 69 | B73: Grapa de muelle | C73: 1 | D73: =AVERAGE(hoja1!D73,hoja2!D73,hoja3!D73) -> 180666.67 | E73: =AVERAGE(hoja1!E73,hoja2!E73,hoja3!E73) -> 207000 | H73: =AVERAGE(hoja1!H73,hoja2!H73,hoja3!H73) -> 138666.67 | I73: =AVERAGE(hoja1!I73,hoja2!I73,hoja3!I73) -> 121333.33 | J73: =AVERAGE(hoja1!J73,hoja2!J73,hoja3!J73) -> 363666.67
A74: 70 | B74: Goma de muelle | C74: 1 | D74: =AVERAGE(hoja1!D74,hoja2!D74,hoja3!D74) -> 200000 | E74: =AVERAGE(hoja1!E74,hoja2!E74,hoja3!E74) -> 207000 | H74: =AVERAGE(hoja1!H74,hoja2!H74,hoja3!H74) -> 156666.67 | I74: =AVERAGE(hoja1!I74,hoja2!I74,hoja3!I74) -> 138666.67 | J74: =AVERAGE(hoja1!J74,hoja2!J74,hoja3!J74) -> 381666.67
A75: 71 | B75: Goma de barra estabilizadora | C75: 1 | D75: =AVERAGE(hoja1!D75,hoja2!D75,hoja3!D75) -> 236333.33 | E75: =AVERAGE(hoja1!E75,hoja2!E75,hoja3!E75) -> 276333.33 | F75: =AVERAGE(hoja1!F75,hoja2!F75,hoja3!F75) -> 276333.33 | G75: =AVERAGE(hoja1!G75,hoja2!G75,hoja3!G75) -> 156666.67 | H75: =AVERAGE(hoja1!H75,hoja2!H75,hoja3!H75) -> 171666.67 | I75: =AVERAGE(hoja1!I75,hoja2!I75,hoja3!I75) -> 156666.67 | J75: =AVERAGE(hoja1!J75,hoja2!J75,hoja3!J75) -> 415666.67
A76: 72 | B76: Guardapolvo de direcciòn | C76: 1 | D76: =AVERAGE(hoja1!D76,hoja2!D76,hoja3!D76) -> 158666.67 | E76: =AVERAGE(hoja1!E76,hoja2!E76,hoja3!E76) -> 156666.67 | F76: =AVERAGE(hoja1!F76,hoja2!F76,hoja3!F76) -> 156666.67 | G76: =AVERAGE(hoja1!G76,hoja2!G76,hoja3!G76) -> 103666.67 | H76: =AVERAGE(hoja1!H76,hoja2!H76,hoja3!H76) -> 121333.33 | I76: =AVERAGE(hoja1!I76,hoja2!I76,hoja3!I76) -> 103666.67 | J76: =AVERAGE(hoja1!J76,hoja2!J76,hoja3!J76) -> 343666.67
A77: 73 | B77: Guardapolvo de eje lado caja | C77: 1 | D77: =AVERAGE(hoja1!D77,hoja2!D77,hoja3!D77) -> 158666.67 | E77: =AVERAGE(hoja1!E77,hoja2!E77,hoja3!E77) -> 156666.67 | F77: =AVERAGE(hoja1!F77,hoja2!F77,hoja3!F77) -> 156666.67 | G77: =AVERAGE(hoja1!G77,hoja2!G77,hoja3!G77) -> 103666.67 | H77: =AVERAGE(hoja1!H77,hoja2!H77,hoja3!H77) -> 121333.33 | I77: =AVERAGE(hoja1!I77,hoja2!I77,hoja3!I77) -> 103666.67 | J77: =AVERAGE(hoja1!J77,hoja2!J77,hoja3!J77) -> 343666.67
A78: 74 | B78: Guardapolvo de eje lado rueda | C78: 1 | D78: =AVERAGE(hoja1!D78,hoja2!D78,hoja3!D78) -> 158666.67 | E78: =AVERAGE(hoja1!E78,hoja2!E78,hoja3!E78) -> 156666.67 | F78: =AVERAGE(hoja1!F78,hoja2!F78,hoja3!F78) -> 156666.67 | G78: =AVERAGE(hoja1!G78,hoja2!G78,hoja3!G78) -> 103666.67 | H78: =AVERAGE(hoja1!H78,hoja2!H78,hoja3!H78) -> 121333.33 | I78: =AVERAGE(hoja1!I78,hoja2!I78,hoja3!I78) -> 103666.67 | J78: =AVERAGE(hoja1!J78,hoja2!J78,hoja3!J78) -> 343666.67
A79: 75 | B79: Hoja de muelle | C79: 1 | D79: =AVERAGE(hoja1!D79,hoja2!D79,hoja3!D79) -> 634000 | E79: =AVERAGE(hoja1!E79,hoja2!E79,hoja3!E79) -> 706000 | H79: =AVERAGE(hoja1!H79,hoja2!H79,hoja3!H79) -> 483000 | I79: =AVERAGE(hoja1!I79,hoja2!I79,hoja3!I79) -> 326666.67 | J79: =AVERAGE(hoja1!J79,hoja2!J79,hoja3!J79) -> 784666.67
A80: 76 | B80: Motor 4x4 | C80: 1 | D80: =AVERAGE(hoja1!D80,hoja2!D80,hoja3!D80) -> 6972000 | E80: =AVERAGE(hoja1!E80,hoja2!E80,hoja3!E80) -> 7029333.3 | H80: =AVERAGE(hoja1!H80,hoja2!H80,hoja3!H80) -> 4205333.3 | I80: =AVERAGE(hoja1!I80,hoja2!I80,hoja3!I80) -> 3201000 | J80: =AVERAGE(hoja1!J80,hoja2!J80,hoja3!J80) -> 6669666.7
A81: 77 | B81: Modulo 4x4 | C81: 1 | D81: =AVERAGE(hoja1!D81,hoja2!D81,hoja3!D81) -> 3556333.3 | E81: =AVERAGE(hoja1!E81,hoja2!E81,hoja3!E81) -> 3606333.3 | H81: =AVERAGE(hoja1!H81,hoja2!H81,hoja3!H81) -> 2061666.7 | I81: =AVERAGE(hoja1!I81,hoja2!I81,hoja3!I81) -> 1700000 | J81: =AVERAGE(hoja1!J81,hoja2!J81,hoja3!J81) -> 3498666.7
A82: 78 | B82: Moñona superior | C82: 1 | D82: =AVERAGE(hoja1!D82,hoja2!D82,hoja3!D82) -> 752333.33 | E82: =AVERAGE(hoja1!E82,hoja2!E82,hoja3!E82) -> 791666.67 | F82: =AVERAGE(hoja1!F82,hoja2!F82,hoja3!F82) -> 791666.67 | G82: =AVERAGE(hoja1!G82,hoja2!G82,hoja3!G82) -> 207000 | H82: =AVERAGE(hoja1!H82,hoja2!H82,hoja3!H82) -> 362666.67 | I82: =AVERAGE(hoja1!I82,hoja2!I82,hoja3!I82) -> 207000 | J82: =AVERAGE(hoja1!J82,hoja2!J82,hoja3!J82) -> 894666.67
A83: 79 | B83: Moñona inferior | C83: 1 | D83: =AVERAGE(hoja1!D83,hoja2!D83,hoja3!D83) -> 752333.33 | E83: =AVERAGE(hoja1!E83,hoja2!E83,hoja3!E83) -> 791666.67 | F83: =AVERAGE(hoja1!F83,hoja2!F83,hoja3!F83) -> 791666.67 | H83: =AVERAGE(hoja1!H83,hoja2!H83,hoja3!H83) -> 362666.67 | I83: =AVERAGE(hoja1!I83,hoja2!I83,hoja3!I83) -> 207000 | J83: =AVERAGE(hoja1!J83,hoja2!J83,hoja3!J83) -> 894666.67
A84: 80 | B84: Muelle trasero | C84: 1 | D84: =AVERAGE(hoja1!D84,hoja2!D84,hoja3!D84) -> 1028666.7 | E84: =AVERAGE(hoja1!E84,hoja2!E84,hoja3!E84) -> 1067000 | H84: =AVERAGE(hoja1!H84,hoja2!H84,hoja3!H84) -> 723333.33 | I84: =AVERAGE(hoja1!I84,hoja2!I84,hoja3!I84) -> 550666.67 | J84: =AVERAGE(hoja1!J84,hoja2!J84,hoja3!J84) -> 1151666.7
A85: 81 | B85: Punta de eje lado rueda | C85: 1 | D85: =AVERAGE(hoja1!D85,hoja2!D85,hoja3!D85) -> 949333.33 | E85: =AVERAGE(hoja1!E85,hoja2!E85,hoja3!E85) -> 1014666.7 | F85: =AVERAGE(hoja1!F85,hoja2!F85,hoja3!F85) -> 1014666.7 | G85: =AVERAGE(hoja1!G85,hoja2!G85,hoja3!G85) -> 483000 | H85: =AVERAGE(hoja1!H85,hoja2!H85,hoja3!H85) -> 550666.67 | I85: =AVERAGE(hoja1!I85,hoja2!I85,hoja3!I85) -> 483000 | J85: =AVERAGE(hoja1!J85,hoja2!J85,hoja3!J85) -> 1077666.7
A86: 82 | B86: Punta de eje lado caja | C86: 1 | D86: =AVERAGE(hoja1!D86,hoja2!D86,hoja3!D86) -> 949333.33 | E86: =AVERAGE(hoja1!E86,hoja2!E86,hoja3!E86) -> 1014666.7 | F86: =AVERAGE(hoja1!F86,hoja2!F86,hoja3!F86) -> 1014666.7 | G86: =AVERAGE(hoja1!G86,hoja2!G86,hoja3!G86) -> 483000 | H86: =AVERAGE(hoja1!H86,hoja2!H86,hoja3!H86) -> 550666.67 | I86: =AVERAGE(hoja1!I86,hoja2!I86,hoja3!I86) -> 483000 | J86: =AVERAGE(hoja1!J86,hoja2!J86,hoja3!J86) -> 1077666.7
A87: 83 | B87: Reten de rueda delantera | C87: 1 | D87: =AVERAGE(hoja1!D87,hoja2!D87,hoja3!D87) -> 180666.67 | E87: =AVERAGE(hoja1!E87,hoja2!E87,hoja3!E87) -> 207000 | F87: =AVERAGE(hoja1!F87,hoja2!F87,hoja3!F87) -> 207000 | G87: =AVERAGE(hoja1!G87,hoja2!G87,hoja3!G87) -> 103666.67 | H87: =AVERAGE(hoja1!H87,hoja2!H87,hoja3!H87) -> 121333.33 | I87: =AVERAGE(hoja1!I87,hoja2!I87,hoja3!I87) -> 103666.67 | J87: =AVERAGE(hoja1!J87,hoja2!J87,hoja3!J87) -> 363666.67
A88: 84 | B88: Reten de rueda trasera | C88: 1 | D88: =AVERAGE(hoja1!D88,hoja2!D88,hoja3!D88) -> 180666.67 | E88: =AVERAGE(hoja1!E88,hoja2!E88,hoja3!E88) -> 207000 | F88: =AVERAGE(hoja1!F88,hoja2!F88,hoja3!F88) -> 207000 | G88: =AVERAGE(hoja1!G88,hoja2!G88,hoja3!G88) -> 103666.67 | H88: =AVERAGE(hoja1!H88,hoja2!H88,hoja3!H88) -> 121333.33 | I88: =AVERAGE(hoja1!I88,hoja2!I88,hoja3!I88) -> 103666.67 | J88: =AVERAGE(hoja1!J88,hoja2!J88,hoja3!J88) -> 363666.67
A89: 85 | B89: Rodamiento trasero | C89: 1 | D89: =AVERAGE(hoja1!D89,hoja2!D89,hoja3!D89) -> 870000 | E89: =AVERAGE(hoja1!E89,hoja2!E89,hoja3!E89) -> 1168333.3 | F89: =AVERAGE(hoja1!F89,hoja2!F89,hoja3!F89) -> 1168333.3 | G89: =AVERAGE(hoja1!G89,hoja2!G89,hoja3!G89) -> 310666.67 | H89: =AVERAGE(hoja1!H89,hoja2!H89,hoja3!H89) -> 483000 | I89: =AVERAGE(hoja1!I89,hoja2!I89,hoja3!I89) -> 310666.67 | J89: =AVERAGE(hoja1!J89,hoja2!J89,hoja3!J89) -> 1003666.7
A90: 86 | B90: Rodamiento delantero | C90: 1 | D90: =AVERAGE(hoja1!D90,hoja2!D90,hoja3!D90) -> 909333.33 | E90: =AVERAGE(hoja1!E90,hoja2!E90,hoja3!E90) -> 1185333.3 | F90: =AVERAGE(hoja1!F90,hoja2!F90,hoja3!F90) -> 1185333.3 | G90: =AVERAGE(hoja1!G90,hoja2!G90,hoja3!G90) -> 326666.67 | H90: =AVERAGE(hoja1!H90,hoja2!H90,hoja3!H90) -> 498333.33 | I90: =AVERAGE(hoja1!I90,hoja2!I90,hoja3!I90) -> 326666.67 | J90: =AVERAGE(hoja1!J90,hoja2!J90,hoja3!J90) -> 1040666.7
A91: 87 | B91: Sensor 4x4 | C91: 1 | D91: =AVERAGE(hoja1!D91,hoja2!D91,hoja3!D91) -> 1797000 | E91: =AVERAGE(hoja1!E91,hoja2!E91,hoja3!E91) -> 1882666.7 | H91: =AVERAGE(hoja1!H91,hoja2!H91,hoja3!H91) -> 1272666.7 | I91: =AVERAGE(hoja1!I91,hoja2!I91,hoja3!I91) -> 1165333.3 | J91: =AVERAGE(hoja1!J91,hoja2!J91,hoja3!J91) -> 1864666.7
A92: 88 | B92: Soporte de amortiguador delantero | C92: 1 | D92: =AVERAGE(hoja1!D92,hoja2!D92,hoja3!D92) -> 752333.33 | E92: =AVERAGE(hoja1!E92,hoja2!E92,hoja3!E92) -> 755333.33 | F92: =AVERAGE(hoja1!F92,hoja2!F92,hoja3!F92) -> 755333.33 | G92: =AVERAGE(hoja1!G92,hoja2!G92,hoja3!G92) -> 242000 | H92: =AVERAGE(hoja1!H92,hoja2!H92,hoja3!H92) -> 362666.67 | I92: =AVERAGE(hoja1!I92,hoja2!I92,hoja3!I92) -> 242000 | J92: =AVERAGE(hoja1!J92,hoja2!J92,hoja3!J92) -> 894666.67
A93: 89 | B93: Soporte de amortiguador trasero | C93: 1 | D93: =AVERAGE(hoja1!D93,hoja2!D93,hoja3!D93) -> 752333.33 | E93: =AVERAGE(hoja1!E93,hoja2!E93,hoja3!E93) -> 755333.33 | F93: =AVERAGE(hoja1!F93,hoja2!F93,hoja3!F93) -> 755333.33 | G93: =AVERAGE(hoja1!G93,hoja2!G93,hoja3!G93) -> 242000 | H93: =AVERAGE(hoja1!H93,hoja2!H93,hoja3!H93) -> 362666.67 | I93: =AVERAGE(hoja1!I93,hoja2!I93,hoja3!I93) -> 242000 | J93: =AVERAGE(hoja1!J93,hoja2!J93,hoja3!J93) -> 894666.67
A94: 90 | B94: Soporte central del cardan | C94: 1 | D94: =AVERAGE(hoja1!D94,hoja2!D94,hoja3!D94) -> 435000 | E94: =AVERAGE(hoja1!E94,hoja2!E94,hoja3!E94) -> 533666.67 | F94: =AVERAGE(hoja1!F94,hoja2!F94,hoja3!F94) -> 533666.67 | H94: =AVERAGE(hoja1!H94,hoja2!H94,hoja3!H94) -> 345333.33 | I94: =AVERAGE(hoja1!I94,hoja2!I94,hoja3!I94) -> 310666.67 | J94: =AVERAGE(hoja1!J94,hoja2!J94,hoja3!J94) -> 599666.67
A95: 91 | B95: Tijera superior | C95: 1 | D95: =AVERAGE(hoja1!D95,hoja2!D95,hoja3!D95) -> 1936000 | E95: =AVERAGE(hoja1!E95,hoja2!E95,hoja3!E95) -> 3091333.3 | F95: =AVERAGE(hoja1!F95,hoja2!F95,hoja3!F95) -> 3091333.3 | G95: =AVERAGE(hoja1!G95,hoja2!G95,hoja3!G95) -> 653000 | H95: =AVERAGE(hoja1!H95,hoja2!H95,hoja3!H95) -> 1168333.3 | I95: =AVERAGE(hoja1!I95,hoja2!I95,hoja3!I95) -> 1014666.7 | J95: =AVERAGE(hoja1!J95,hoja2!J95,hoja3!J95) -> 1993666.7
A96: 92 | B96: Tijera inferior | C96: 1 | D96: =AVERAGE(hoja1!D96,hoja2!D96,hoja3!D96) -> 1936000 | E96: =AVERAGE(hoja1!E96,hoja2!E96,hoja3!E96) -> 3091333.3 | F96: =AVERAGE(hoja1!F96,hoja2!F96,hoja3!F96) -> 3091333.3 | H96: =AVERAGE(hoja1!H96,hoja2!H96,hoja3!H96) -> 1168333.3 | I96: =AVERAGE(hoja1!I96,hoja2!I96,hoja3!I96) -> 1014666.7 | J96: =AVERAGE(hoja1!J96,hoja2!J96,hoja3!J96) -> 1993666.7
A97: 93 | B97: Terminal de dirección | C97: 1 | D97: =AVERAGE(hoja1!D97,hoja2!D97,hoja3!D97) -> 554333.33 | E97: =AVERAGE(hoja1!E97,hoja2!E97,hoja3!E97) -> 723333.33 | F97: =AVERAGE(hoja1!F97,hoja2!F97,hoja3!F97) -> 723333.33 | G97: =AVERAGE(hoja1!G97,hoja2!G97,hoja3!G97) -> 326666.67 | H97: =AVERAGE(hoja1!H97,hoja2!H97,hoja3!H97) -> 378666.67 | I97: =AVERAGE(hoja1!I97,hoja2!I97,hoja3!I97) -> 326666.67 | J97: =AVERAGE(hoja1!J97,hoja2!J97,hoja3!J97) -> 710666.67
A98: SISTEMA DE FRENOS
A99: 94 | B99: Bomba de freno | C99: 1 | D99: =AVERAGE(hoja1!D99,hoja2!D99,hoja3!D99) -> 1067000 | E99: =AVERAGE(hoja1!E99,hoja2!E99,hoja3!E99) -> 1409333.3 | F99: =AVERAGE(hoja1!F99,hoja2!F99,hoja3!F99) -> 1409333.3 | G99: =AVERAGE(hoja1!G99,hoja2!G99,hoja3!G99) -> 739333.33 | H99: =AVERAGE(hoja1!H99,hoja2!H99,hoja3!H99) -> 842666.67 | I99: =AVERAGE(hoja1!I99,hoja2!I99,hoja3!I99) -> 739333.33 | J99: =AVERAGE(hoja1!J99,hoja2!J99,hoja3!J99) -> 1495666.7
A100: 95 | B100: Boster de freno | C100: 1 | D100: =AVERAGE(hoja1!D100,hoja2!D100,hoja3!D100) -> 1046666.7 | E100: =AVERAGE(hoja1!E100,hoja2!E100,hoja3!E100) -> 1317333.3 | F100: =AVERAGE(hoja1!F100,hoja2!F100,hoja3!F100) -> 1317333.3 | G100: =AVERAGE(hoja1!G100,hoja2!G100,hoja3!G100) -> 578333.33 | H100: =AVERAGE(hoja1!H100,hoja2!H100,hoja3!H100) -> 705333.33 | I100: =AVERAGE(hoja1!I100,hoja2!I100,hoja3!I100) -> 578333.33 | J100: =AVERAGE(hoja1!J100,hoja2!J100,hoja3!J100) -> 1695666.7
...
