Workbook

Sheet Costos Personal
B2: Resumen
B3: Division Tecnica | C3: =C22 -> 73625000
B4: Division Comercial | C4: =C38 -> 58822500 | D4: Total Costos Personal | F4: =SUM(C3:C5) -> 197935000
B5: Division Administrativa y Gerencial | C5: =C62 -> 65487500 | D5: Total Personal | F5: =E21+E37+E61 -> 90
B8: Cargo | C8: Salario Basico | D8: Salario fact. Ley 50 y Ley 100 | E8: Nº | F8: Total
B9: Ing. Jefe Division Tecnica | C9: 4000000 | D9: =C9*G9 -> 6200000 | E9: 1 | F9: =D9*E9 -> 6200000 | G9: 1.55
B10: Ing. Asistente Division Tecnica | C10: 1500000 | D10: =C10*G10 -> 2325000 | E10: 1 | F10: =D10*E10 -> 2325000 | G10: 1.55
B11: Ing. Distribucoin y Redes | C11: 2500000 | D11: =C11*G11 -> 3875000 | E11: 1 | F11: =D11*E11 -> 3875000 | G11: 1.55
B12: Ing. Proyectos, Control y Medida | C12: 2500000 | D12: =C12*G12 -> 3875000 | E12: 1 | F12: =D12*E12 -> 3875000 | G12: 1.55
B13: Coordinador Providencia | C13: 2000000 | D13: =C13*G13 -> 3100000 | E13: 1 | F13: =D13*E13 -> 3100000 | G13: 1.55
B14: Secretaria | C14: 750000 | D14: =C14*G14 -> 1162500 | E14: 1 | F14: =D14*E14 -> 1162500 | G14: 1.55
B15: Tecnico en Sub. Estaciones | C15: 900000 | D15: =C15*G15 -> 1395000 | E15: 1 | F15: =D15*E15 -> 1395000 | G15: 1.55
B16: Supervisor de Redes | C16: 1500000 | D16: =C16*G16 -> 2325000 | E16: 1 | F16: =D16*E16 -> 2325000 | G16: 1.55
B17: Electricistas/Linieros | C17: 1200000 | D17: =C17*G17 -> 1860000 | E17: 17 | F17: =D17*E17 -> 31620000 | G17: 1.55
B18: Ayudantes Electricista | C18: 750000 | D18: =C18*G18 -> 1162500 | E18: 7 | F18: =D18*E18 -> 8137500 | G18: 1.55
B19: Operarios Sub. Estacion/Grua | C19: 1000000 | D19: =C19*G19 -> 1550000 | E19: 5 | F19: =D19*E19 -> 7750000 | G19: 1.55
B20: Analista Informatica | C20: 1200000 | D20: =C20*G20 -> 1860000 | E20: 1 | F20: =D20*E20 -> 1860000 | G20: 1.55
E21: =SUM(E9:E20) -> 38 | F21: =SUM(F9:F20) -> 73625000 | G21: 1.55
B22: Costo Total Personal Técnica | C22: =F21 -> 73625000 | G22: 1.55
G23: 1.55
G24: 1.55
B25: Cargo | C25: Salario Basico | D25: Salario fact. Ley 50 y Ley 100 | E25: Nº | F25: Total | G25: 1.55
B26: Ing. Jefe Division Comercial | C26: 4000000 | D26: =C26*G26 -> 6200000 | E26: 1 | F26: =D26*E26 -> 6200000 | G26: 1.55
B27: Coordinador ATC | C27: 2500000 | D27: =C27*G27 -> 3875000 | E27: 1 | F27: =D27*E27 -> 3875000 | G27: 1.55
B28: Coordinador Comercial | C28: 2500000 | D28: =C28*G28 -> 3875000 | E28: 1 | F28: =D28*E28 -> 3875000 | G28: 1.55
B29: Funcionario Atencion al Cliente | C29: 900000 | D29: =C29*G29 -> 1395000 | E29: 7 | F29: =D29*E29 -> 9765000 | G29: 1.55 | H29: cuatro personas adicionales para minicades
B30: Funcionario Revision y Analisis Back | C30: 1200000 | D30: =C30*G30 -> 1860000 | E30: 3 | F30: =D30*E30 -> 5580000 | G30: 1.55
B31: Ing. Soporte Sistemas | C31: 2000000 | D31: =C31*G31 -> 3100000 | E31: 1 | F31: =D31*E31 -> 3100000 | G31: 1.55
B32: Secretaria | C32: 750000 | D32: =C32*G32 -> 1162500 | E32: 1 | F32: =D32*E32 -> 1162500 | G32: 1.55
B33: Analista Informacion | C33: 1500000 | D33: =C33*G33 -> 2325000 | E33: 3 | F33: =D33*E33 -> 6975000 | G33: 1.55
B34: Jefe Facturacion | C34: 2500000 | D34: =C34*G34 -> 3875000 | E34: 1 | F34: =D34*E34 -> 3875000 | G34: 1.55
B35: Electricistas | C35: 900000 | D35: =C35*G35 -> 1395000 | E35: 6 | F35: =D35*E35 -> 8370000 | G35: 1.55
B36: Ayudantes Electricista | C36: 650000 | D36: =C36*G36 -> 1007500 | E36: 6 | F36: =D36*E36 -> 6045000 | G36: 1.55
E37: =SUM(E26:E36) -> 31 | F37: =SUM(F26:F36) -> 58822500 | G37: 1.55
B38: Costo Total Personal Comercial | C38: =F37 -> 58822500 | G38: 1.55
G39: 1.55
G40: 1.55
B41: Cargo | C41: Salario Basico | D41: Salario fact. Ley 50 y Ley 100 | E41: Nº | F41: Total | G41: 1.55
B42: Gerente | C42: 6000000 | D42: =C42*G42 -> 9300000 | E42: 1 | F42: =D42*E42 -> 9300000 | G42: 1.55
B43: Jefe Division Administrativa y Financiera | C43: 4000000 | D43: =C43*G43 -> 6200000 | E43: 1 | F43: =D43*E43 -> 6200000 | G43: 1.55
...

Sheet COSTOS-PERSONAL
B1: MINISTERIO DE MINAS Y ENERGÍA
B2: LOTE N° 2
B3: PUERTO CAICEDO
B4: 0BJETO: Realizar interventoría integral al contrato de obra derivado del Convenio GGC-1554-2025 del proyecto: Instalación de soluciones solares fotovoltaicas para escuelas ubicadas en zonas rurales del Municipio de Puerto Caicedo, Departamento de Putumayo
B5: VALOR DEL CONTRATO INSTALACION: | C5: 12149743567 | E5: NUMERO DE BENEFICIARIOS | G5: 362
B6: PLAZO TOTAL CONTRATO INTERVENTORIA EN MESES | E6: =E9+E21+E33 -> 13
B7: 1.- RECURSO HUMANO
B8: ETAPA INICIAL DEL PROYECTO A PARTIR DEL ACTA DE INICIO
B9: PLAZO TOTAL CONTRATO INTERVENTORIA EN MESES | E9: 1.5
B10: Cargo | C10: Cant | D10: Asignación Mensual | E10: Meses | F10: Dedicación | G10: Valor Total COP$
B11: Director de Interventoría | C11: 1 | E11: =$E$9 -> 1.5 | F11: 0.2 | G11: =IFERROR(F23*E23*D23*C23,0) -> 0
B12: Ingeniero Residente de Interventoría | C12: 1 | E12: =$E$9 -> 1.5 | F12: 1 | G12: =IFERROR(F24*E24*D24*C24,0) -> 0
B13: Ingeniero civil | C13: 0 | D13: N/A | E13: =$E$9 -> 1.5 | F13: 0 | G13: =IFERROR(F25*E25*D25*C25,0) -> 0
B14: Profesional en gestión social | C14: 1 | E14: =$E$9 -> 1.5 | F14: 0.5 | G14: =IFERROR(F26*E26*D26*C26,0) -> 0
B15: Profesional ambiental | C15: 0 | D15: N/A | E15: =$E$9 -> 1.5 | F15: 0 | G15: =IFERROR(F27*E27*D27*C27,0) -> 0
B16: Profesional SGSST | C16: 1 | E16: 1 | F16: 0.4 | G16: =IFERROR(F28*E28*D28*C28,0) -> 0
B17: Técnico electricista | C17: 2 | E17: 1 | F17: 0.4 | G17: =IFERROR(F29*E29*D29*C29,0) -> 0
B18: TOTAL RECURSO HUMANO ETAPA INICIAL | G18: =SUM(G11:G17) -> 0
B19: 2.- RECURSO HUMANO
B20: ETAPA DE EJECUCIÓN DEL PROYECTO
B21: PLAZO TOTAL DE LA ETAPA DE EJECUCIÓN DEL PROYECTO: | E21: 9.5
B22: Cargo | C22: Cant | D22: Asignación Mensual | E22: Meses | F22: Dedicación | G22: Valor Total COP$
B23: Director de Interventoría | C23: 1 | E23: =$E$21 -> 9.5 | F23: 0.2 | G23: =IFERROR(F23*E23*D23*C23,0) -> 0
B24: Ingeniero Residente de Interventoría | C24: 1 | E24: =$E$21 -> 9.5 | F24: 1 | G24: =IFERROR(F24*E24*D24*C24,0) -> 0
B25: Ingeniero civil | C25: 1 | E25: 6 | F25: 0.2 | G25: =IFERROR(F25*E25*D25*C25,0) -> 0
B26: Profesional en gestión social | C26: 1 | E26: 6 | F26: 0.5 | G26: =IFERROR(F26*E26*D26*C26,0) -> 0
B27: Profesional ambiental | C27: 1 | E27: 4 | F27: 0.3 | G27: =IFERROR(F27*E27*D27*C27,0) -> 0
B28: Profesional SGSST | C28: 1 | E28: 6 | F28: 0.4 | G28: =IFERROR(F28*E28*D28*C28,0) -> 0
B29: Técnico electricista | C29: 4 | E29: 6 | F29: 1 | G29: =IFERROR(F29*E29*D29*C29,0) -> 0
B30: TOTAL RECURSO HUMANO ETAPA DE EJECUCIÓN | G30: =+SUM(G23:G29) -> 0
B31: 3.- RECURSO HUMANO
B32: ETAPA DE LIQUIDACIÓN DEL PROYECTO
B33: PLAZO ETAPA DE LIQUIDACIÓN DEL PROYECTO EN MESES: | E33: 2
B34: Cargo | C34: Cant | D34: Asignación Mensual | E34: Meses | F34: Dedicación | G34: Valor Total COP$
B35: Director de Interventoría | C35: 1 | E35: =+$E$33 -> 2 | F35: 0.2 | G35: =IFERROR(F35*E35*D35*C35,0) -> 0
B36: Ingeniero Residente de Interventoría | C36: 1 | E36: =+$E$33 -> 2 | F36: 1 | G36: =IFERROR(F36*E36*D36*C36,0) -> 0
B37: Ingeniero civil | D37: NA | E37: =+$E$33 -> 2 | F37: N/A | G37: =IFERROR(F37*E37*D37*C37,0) -> 0
B38: Profesional en gestión social | E38: =+$E$33 -> 2 | F38: N/A | G38: =IFERROR(F38*E38*D38*C38,0) -> 0
B39: Profesional ambiental | D39: NA | E39: =+$E$33 -> 2 | F39: N/A | G39: =IFERROR(F39*E39*D39*C39,0) -> 0
B40: Profesional SGSST | D40: NA | E40: =+$E$33 -> 2 | F40: N/A | G40: =IFERROR(F40*E40*D40*C40,0) -> 0
...

Sheet PERSONAL-DEDICACION
B1: MINISTERIO DE MINAS Y ENERGÍA
B2: ='COSTOS-PERSONAL'!B3 -> PUERTO CAICEDO
B3: ='COSTOS-PERSONAL'!B4 -> 0BJETO: Realizar interventoría integral al contrato de obra derivado del Convenio GGC-1554-2025 del proyecto: Instalación de soluciones solares fotovoltaicas para escuelas ubicadas en zonas rurales del Municipio de Puerto Caicedo, Departamento de Putumayo
B4: 1.- RECURSO HUMANO ETAPA INICIAL DEL PROYECTO
B5: PERSONAL | C5: NUMERO DE | D5: DEDICACION
C6: PERSONAS
B7: Director de Interventoría | C7: ='COSTOS-PERSONAL'!C11 -> 1 | D7: ='COSTOS-PERSONAL'!F11 -> 0.2
B8: Ingeniero Residente de Interventoría | C8: ='COSTOS-PERSONAL'!C12 -> 1 | D8: ='COSTOS-PERSONAL'!F12 -> 1
B9: Ingeniero civil | C9: ='COSTOS-PERSONAL'!C13 -> 0 | D9: ='COSTOS-PERSONAL'!F13 -> 0
B10: Profesional en gestión social | C10: ='COSTOS-PERSONAL'!C14 -> 1 | D10: ='COSTOS-PERSONAL'!F14 -> 0.5
B11: Profesional ambiental | C11: ='COSTOS-PERSONAL'!C15 -> 0 | D11: ='COSTOS-PERSONAL'!F15 -> 0
B12: Profesional SGSST | C12: ='COSTOS-PERSONAL'!C16 -> 1 | D12: ='COSTOS-PERSONAL'!F16 -> 0.4
B13: Técnico electricista | C13: ='COSTOS-PERSONAL'!C17 -> 2 | D13: ='COSTOS-PERSONAL'!F17 -> 0.4
B15: 2.- RECURSO HUMANO ETAPA DE EJECUCIÓN DEL PROYECTO
B16: PERSONAL | C16: NUMERO DE | D16: DEDICACION
C17: PERSONAS
B18: Director de Interventoría | C18: ='COSTOS-PERSONAL'!C23 -> 1 | D18: ='COSTOS-PERSONAL'!F23 -> 0.2
B19: Ingeniero Residente de Interventoría | C19: ='COSTOS-PERSONAL'!C24 -> 1 | D19: ='COSTOS-PERSONAL'!F24 -> 1
B20: Ingeniero civil | C20: ='COSTOS-PERSONAL'!C25 -> 1 | D20: ='COSTOS-PERSONAL'!F25 -> 0.2
B21: Profesional en gestión social | C21: ='COSTOS-PERSONAL'!C26 -> 1 | D21: ='COSTOS-PERSONAL'!F26 -> 0.5
B22: Profesional ambiental | C22: ='COSTOS-PERSONAL'!C27 -> 1 | D22: ='COSTOS-PERSONAL'!F27 -> 0.3
B23: Profesional SGSST | C23: ='COSTOS-PERSONAL'!C28 -> 1 | D23: ='COSTOS-PERSONAL'!F28 -> 0.4
B24: Técnico electricista | C24: ='COSTOS-PERSONAL'!C29 -> 4 | D24: ='COSTOS-PERSONAL'!F29 -> 1
B26: 3.- RECURSO HUMANO ETAPA DE LIQUIDACIÓN DEL PROYECTO
B27: PERSONAL | C27: NUMERO DE | D27: DEDICACION
C28: PERSONAS
B29: Director de Interventoría | C29: ='COSTOS-PERSONAL'!C35 -> 1 | D29: ='COSTOS-PERSONAL'!F35 -> 0.2
B30: Ingeniero Residente de Interventoría | C30: ='COSTOS-PERSONAL'!C36 -> 1 | D30: ='COSTOS-PERSONAL'!F36 -> 1
B31: Ingeniero civil | C31: ='COSTOS-PERSONAL'!C37 -> 0 | D31: ='COSTOS-PERSONAL'!F37 -> N/A
B32: Profesional en gestión social | C32: ='COSTOS-PERSONAL'!C38 -> 0 | D32: ='COSTOS-PERSONAL'!F38 -> N/A
B33: Profesional ambiental | C33: ='COSTOS-PERSONAL'!C39 -> 0 | D33: ='COSTOS-PERSONAL'!F39 -> N/A
B34: Profesional SGSST | C34: ='COSTOS-PERSONAL'!C40 -> 0 | D34: ='COSTOS-PERSONAL'!F40 -> N/A
B35: Técnico electricista | C35: ='COSTOS-PERSONAL'!C41 -> 0 | D35: ='COSTOS-PERSONAL'!F41 -> N/A

Sheet COSTOS-DIRECTOS
B1: MINISTERIO DE MINAS Y ENERGÍA
B2: ='COSTOS-PERSONAL'!B3 -> PUERTO CAICEDO
B3: ='COSTOS-PERSONAL'!B4 -> 0BJETO: Realizar interventoría integral al contrato de obra derivado del Convenio GGC-1554-2025 del proyecto: Instalación de soluciones solares fotovoltaicas para escuelas ubicadas en zonas rurales del Municipio de Puerto Caicedo, Departamento de Putumayo
B4: COSTOS DIRECTOS DE LA INTERVENTORÍA-ETAPA INICIAL DEL PROYECTO
B5: Concepto | C5: Valor Mensual COP$ | D5: Meses | E5: Valor Total COP$ | F5: Nota
B6: Alquiler de camioneta 4x4 c.c., incluye combustible, mantenimiento | D6: 1 | E6: =D6*C6 -> 0 | F6: Dilgenciar
B7: Oficina y campamento | D7: 1 | E7: =D7*C7 -> 0 | F7: Dilgenciar
B8: TOTAL COSTOS DIRECTOS ETAPA INICIAL | E8: =SUM(E6:E7) -> 0
B10: COSTOS DIRECTOS DE LA INTERVENTORÍA-ETAPA DE EJECUCIÓN DEL PROYECTO
B11: Concepto | C11: Valor Mensual COP$ | D11: Meses | E11: Valor Total COP$ | F11: Nota
B12: Alquiler de camioneta 4x4 c.c., incluye combustible, mantenimiento | D12: 7 | E12: =D12*C12 -> 0 | F12: Dilgenciar
B13: Oficina y campamento | D13: 7 | E13: =D13*C13 -> 0 | F13: Dilgenciar
B14: TOTAL COSTOS DIRECTOS ETAPA DE EJECUCIÓN | E14: =SUM(E12:E13) -> 0
B16: COSTOS DIRECTOS DE LA INTERVENTORÍA-ETAPA DE LIQUIDACIÓN DEL PROYECTO
B17: CONCEPTO | C17: VALOR MENSUAL COP$ | D17: MESES | E17: VALOR TOTAL COP$ | F17: Nota
B18: Alquiler de camioneta 4x4 c.c., incluye combustible, mantenimiento | D18: 1 | E18: =D18*C18 -> 0 | F18: Dilgenciar
B19: Oficina y campamento | D19: 1 | E19: =D19*C19 -> 0 | F19: Dilgenciar
B20: TOTAL COSTOS DIRECTOS ETAPA DE LIQUIDACIÓN | E20: =SUM(E18:E19) -> 0
B22: DILIGENCIAR CELDAS EN AMARILLO
B23: Los Costos Directos incluyen todas las erogaciones diferentes a Costo de Personal, Administración, Imprevistos y Utilidad, para desarrollar la interventoría.
B24: Para realizar la cotización favor tener en cuenta el "Formato de Información a Proveedores para presentar Cotizaciones".
B25: INDICAR TAMAÑO DE LA EMPRESA | D25: MICROEMPRESA | E25: PEQUEÑA EMPRESA | F25: MEDIANA EMPRESA | G25: GRAN EMPRESA
B26: Indicar con una X según corresponda.
B27: Señalar si es Empresa de Mujeres o de EmprendimIEnto de Mujeres
B28: EMPRESA COTIZANTE
B29: NIT

Sheet PRESUPUESTO INTERVENTORIA
A1: MINISTERIO DE MINAS Y ENERGÍA
A2: ='COSTOS-PERSONAL'!B3 -> PUERTO CAICEDO
A3: ='COSTOS-PERSONAL'!B4 -> 0BJETO: Realizar interventoría integral al contrato de obra derivado del Convenio GGC-1554-2025 del proyecto: Instalación de soluciones solares fotovoltaicas para escuelas ubicadas en zonas rurales del Municipio de Puerto Caicedo, Departamento de Putumayo
A4: PRESUPUESTO TOTAL DEL PROYECTO CIFRAS EN COP$
A5: CONCEPTO | B5: % | C5: VALOR TOTAL INICIAL
A6: A. COSTOS DE PERSONAL ETAPA INICIAL DEL PROYECTO | C6: =+'COSTOS-PERSONAL'!G18 -> 0
A7: B. COSTOS DE PERSONAL ETAPA DE EJECUCIÓN DEL PROYECTO | C7: =+'COSTOS-PERSONAL'!G30 -> 0
A8: C. COSTOS DE PERSONAL ETAPA DE LIQUIDACIÓN DEL PROYECTO | C8: ='COSTOS-PERSONAL'!G42 -> 0
A9: D. COSTOS DIRECTOS ETAPA INICIAL DEL PROYECTO | C9: =+'COSTOS-DIRECTOS'!E8 -> 0
A10: E. COSTOS DIRECTOS ETAPA DE EJECUCIÓN DEL PROYECTO | C10: =+'COSTOS-DIRECTOS'!E14 -> 0
A11: F. COSTOS DIRECTOS ETAPA DE LIQUIDACIÓN DEL PROYECTO | C11: =+'COSTOS-DIRECTOS'!E20 -> 0
A12: G. TOTAL COSTO DE PERSONAL Y COSTOS DIRECTOS | C12: =SUM(C6:C11) -> 0
A13: H. ADMINISTRACION | C13: =B13*C12 -> 0
A14: I. IMPREVISTOS | C14: =B14*C12 -> 0
A15: J. UTILIDAD | C15: =B15*C12 -> 0
A16: K. TOTAL ANTES DE IVA (G+H+I+J) | C16: =C15+C14+C13+C12 -> 0
A17: L. IVA (19%) | B17: 0.19 | C17: =+C16*B17 -> 0
A18: COSTO TOTAL INTERVENTORÍA | C18: =+C16+C17 -> 0
A20: DILIGENCIAR CELDAS EN AMARILLO
A21: **Administración, Imprevisto y Utilidad diligenciar en porcentaje. El porcentaje que corresponda a la Administración (A) debe cubrir todos los GASTOS administrativos que son diferentes a los costos de personal y costos directos. El IVA se calcula sobre el valor total resultante antes del IVA, el cual corresponde en el formato de cotización Excel a la columna C fila 16.
A22: **Si el cotizante no es responsable del IVA en la celda B17 diligenciar con porcentaje 0.
A23: **Si el cotizante tiene un regimen tributario especial favor indicarlo y en la celda B17 colocar el porcentaje del IVA correspondiente.
A24: INDICAR TAMAÑO DE LA EMPRESA | C24: MICROEMPRESA | D24: PEQUEÑA EMPRESA | E24: MEDIANA EMPRESA | F24: GRAN EMPRESA
A25: Indicar con una X según corresponda.
A26: Señalar si es Empresa de Mujeres o de EmprendimIEnto de Mujeres
A27: EMPRESA COTIZANTE
A28: NIT
