Workbook
Name _Hlk40285583: 'Matriz de Riesgo-Combustible'!$A$8

Sheet Matriz de Riesgo-Combustible
F1: PROCEDIMIENTO DE GESTIÓN PRECONTRACTUAL | Y1: CÓDIGO: | AA1: GC-PR-05-FO-09
F3: ANÁLISIS DEL RIESGO Y MITIGACIÓN | Y3: VERSIÓN: | AA3: 02
Y4: FECHA: | AA4: 45261
A6: DESCRIPCIÓN | F6: De acuerdo con el artículo 2.2.1.1.1.3.1 del Decreto 1082 de 2015, se entiende por riesgo el "Evento que puede generar efectos adversos y de distinta magnitud en el logro de los objetivos del proceso de contratación o en la ejecución de un contrato". El Instituto Colombiano de Antropología e Historia, identifica los siguientes riesgos asociados al proceso de contratación: Para el análisis del riesgo, se recomienda hacer uso del Manual para la Identificación y Cobertura del Riesgo en los Procesos de Contratación de la Agencia Nacional de Contratación Pública, que podrá ser consultado en el siguiente enlace: https://www.colombiacompra.gov.co/sites/cce_public/files/cce_documents/cce_manual_cobertura_riesgo.pdf
A7: OBJETO CONTRACTUAL | F7: Suministro a monto agotable de combustibles, aceites y lubricantes para el Parque Arqueológico Santa María La Antigua del Darien, ubicado en ubicado en la vereda de Santuario, corregimiento de Tanela, municipio de Unguía en el departamento de Chocó
A8: No. | B8: Clase | C8: Fuente | D8: Etapa | E8: Tipo | F8: Descripción (Qué puede pasar y, cómo puede ocurrir) | G8: Consecuencia de la ocurrencia del evento | H8: Probabilidad | I8: Valoración | J8: Impacto | K8: Valoración | L8: Calificación total | M8: Categoría | N8: ¿A quién se le asigna? | O8: Tratamiento/Controles a ser implementados | P8: Impacto después del tratamiento | V8: ¿Afecta el equilibrio económico del contrato | W8: Persona responsable de atender e implementar el tratamiento | X8: Fecha estimada en que se inicia el tratamiento | Y8: Fecha estimada en que se completa el tratamiento | Z8: Monitoreo y revisión
P9: Probabilidad | Q9: Valoración | R9: Impacto | S9: Valoración | T9: Calificación | U9: Calificación total | Z9: ¿Cómo se realiza el monitoreo? | AA9: Periodicidad ¿Cuándo?
A10: 1 | B10: General | C10: Externo | D10: Ejecución | E10: Riesgos Económicos | F10: Fluctuación de los precios del mercado. | G10: Afecta el equilibrio económico del contrato | H10: Probable | I10: =+IFERROR(VLOOKUP(H10,'V1'!$C$2:$D$7,2,FALSE),"") -> 4 | J10: Mayor | K10: =+IFERROR(VLOOKUP(J10,'V1'!$E$2:$F$7,2,FALSE),"") -> 4 | L10: =+IFERROR((I10+K10),"") -> 8 | M10: =+IF(L10="","",IF(L10>=8,'V1'!$G$3,IF(L10>=6,'V1'!$G$4,IF(L10>=5,'V1'!$G$5,IF(L10>=2,'V1'!$G$6,"revisar"))))) -> Riesgo Extremo | N10: Externos y ajenos al contrato | O10: el supervisor del contaro deberá verificar si existe aumento o descenso de los precios del mercado. | P10: Improbable | Q10: 2 | R10: Menor | S10: 2 | T10: 4 | U10: =+IF(T10="","",IF(T10>=8,'V1'!$G$3,IF(T10>=6,'V1'!$G$4,IF(T10>=5,'V1'!$G$5,IF(T10>=2,'V1'!$G$6,"revisar"))))) -> Riesgo Bajo | V10: Si | W10: Supervisión del Contrato | X10: Durante la Ejecución del contrato | Y10: Al finalizar el contrato | Z10: mediante el seguimiento del contrato | AA10: Cada vez que se presente la situación.
A11: 2 | B11: General | C11: Externo | D11: Ejecución | E11: Riesgos Operacionales | F11: Retraso en la entrega de los lubricantes y combustible por malas condiciones en la vía hacia el Parque Arqueológico. | G11: Afectar y retrasan la ejecución de las actividades de mantenimiento que requieren como insumo los lubricantes y el combustible | H11: Posible | I11: =+IFERROR(VLOOKUP(H11,'V1'!$C$2:$D$7,2,FALSE),"") -> 3 | J11: Moderado | K11: =+IFERROR(VLOOKUP(J11,'V1'!$E$2:$F$7,2,FALSE),"") -> 3 | L11: =+IFERROR((I11+K11),"") -> 6 | M11: =+IF(L11="","",IF(L11>=8,'V1'!$G$3,IF(L11>=6,'V1'!$G$4,IF(L11>=5,'V1'!$G$5,IF(L11>=2,'V1'!$G$6,"revisar"))))) -> Riesgo alto | N11: Contratista | O11: El supervisor del contrato apoyado con el administrador del parque realizan seguimiento continuo al contratista en el suministro de los lubricantes y combustibles. | P11: Improbable | Q11: =+IFERROR(VLOOKUP(P11,'V1'!$C$2:$D$7,2,FALSE),"") -> 2 | R11: Menor | S11: =+IFERROR(VLOOKUP(R11,'V1'!$E$2:$F$7,2,FALSE),"") -> 2 | T11: =+IFERROR((Q11+S11),"") -> 4 | U11: =+IF(T11="","",IF(T11>=8,'V1'!$G$3,IF(T11>=6,'V1'!$G$4,IF(T11>=5,'V1'!$G$5,IF(T11>=2,'V1'!$G$6,"revisar"))))) -> Riesgo Bajo | V11: Si | W11: Supervisión del Contrato | X11: Durante la Ejecución del contrato | Y11: Al finalizar el contrato | Z11: Revisando el documento de Estudio Previo | AA11: Una sola vez/Llegada del estudio previo
A12: 3 | B12: Específico | C12: Externo | D12: Ejecución | E12: Riesgos Operacionales | F12: Entrega de los lubricantes en envases en mal estado (golpeados, rallados, con fisuras, etc) | G12: Contaminación del producto que afectan sus caracteristicas físicas y quimicas y el rendimiento del mismo. | H12: Improbable | I12: =+IFERROR(VLOOKUP(H12,'V1'!$C$2:$D$7,2,FALSE),"") -> 2 | J12: Mayor | K12: =+IFERROR(VLOOKUP(J12,'V1'!$E$2:$F$7,2,FALSE),"") -> 4 | L12: =+IFERROR((I12+K12),"") -> 6 | M12: =+IF(L12="","",IF(L12>=8,'V1'!$G$3,IF(L12>=6,'V1'!$G$4,IF(L12>=5,'V1'!$G$5,IF(L12>=2,'V1'!$G$6,"revisar"))))) -> Riesgo alto | N12: Contratista | O12: En la reunión inicial con el contratista se establecen las condiciones mínimas de recibimiento y aceptación del producto y el procedimiento para su devolución y entrega y subsanación. | P12: Improbable | Q12: =+IFERROR(VLOOKUP(P12,'V1'!$C$2:$D$7,2,FALSE),"") -> 2 | R12: Menor | S12: =+IFERROR(VLOOKUP(R12,'V1'!$E$2:$F$7,2,FALSE),"") -> 2 | T12: =+IFERROR((Q12+S12),"") -> 4 | U12: =+IF(T12="","",IF(T12>=8,'V1'!$G$3,IF(T12>=6,'V1'!$G$4,IF(T12>=5,'V1'!$G$5,IF(T12>=2,'V1'!$G$6,"revisar"))))) -> Riesgo Bajo | V12: Si | W12: Profesional asignado - Área funcional de Contratios y Jurídica | X12: Durante la Ejecución del contrato | Y12: Al finalizar el contrato | Z12: Verificando el clausulado de la minita previoo a la firma de las partes | AA12: Una sola vez/en la eleboración de la minuta por parte del área funcional encargada
A13: 4 | B13: General | C13: Externo | D13: Ejecución | E13: Riesgos Sociales o Políticos | F13: Desabastecimiento de gasolina y lubricantes en la región por factores externos al contratista. | G13: Afectación en la ejecución contractual | H13: Posible | I13: =+IFERROR(VLOOKUP(H13,'V1'!$C$2:$D$7,2,FALSE),"") -> 3 | J13: Mayor | K13: =+IFERROR(VLOOKUP(J13,'V1'!$E$2:$F$7,2,FALSE),"") -> 4 | L13: =+IFERROR((I13+K13),"") -> 7 | M13: =+IF(L13="","",IF(L13>=8,'V1'!$G$3,IF(L13>=6,'V1'!$G$4,IF(L13>=5,'V1'!$G$5,IF(L13>=2,'V1'!$G$6,"revisar"))))) -> Riesgo alto | N13: Externos y ajenos al contrato | O13: El contratista establece un plan de contingencia que prevee estas situaciones, | P13: Improbable | Q13: =+IFERROR(VLOOKUP(P13,'V1'!$C$2:$D$7,2,FALSE),"") -> 2 | R13: Menor | S13: =+IFERROR(VLOOKUP(R13,'V1'!$E$2:$F$7,2,FALSE),"") -> 2 | T13: =+IFERROR((Q13+S13),"") -> 4 | U13: =+IF(T13="","",IF(T13>=8,'V1'!$G$3,IF(T13>=6,'V1'!$G$4,IF(T13>=5,'V1'!$G$5,IF(T13>=2,'V1'!$G$6,"revisar"))))) -> Riesgo Bajo | V13: Si | W13: Profesional asignado - Área funcional de Contratios y Jurídica | X13: Durante la Ejecución del contrato | Y13: Al finalizar el contrato | Z13: Verificando el clausulado de la minita previoo a la firma de las partes | AA13: Una sola vez/en la eleboración de la minuta por parte del área funcional encargada
A14: 5 | B14: Específico | C14: Externo | D14: Ejecución | E14: Riesgos Operacionales | F14: Gasolina rendida con agua por parte del contratista | G14: Limitación del rendimiento del combustible y posibilidad de afectación a los equipos y herramientas en las cuales se use el combustible | H14: Improbable | I14: =+IFERROR(VLOOKUP(H14,'V1'!$C$2:$D$7,2,FALSE),"") -> 2 | J14: Mayor | K14: =+IFERROR(VLOOKUP(J14,'V1'!$E$2:$F$7,2,FALSE),"") -> 4 | L14: =+IFERROR((I14+K14),"") -> 6 | M14: =+IF(L14="","",IF(L14>=8,'V1'!$G$3,IF(L14>=6,'V1'!$G$4,IF(L14>=5,'V1'!$G$5,IF(L14>=2,'V1'!$G$6,"revisar"))))) -> Riesgo alto | N14: Contratista | O14: El contratista mediante certificación asegura que el producto entregado esta conforme a la reglamentación normativa y | P14: Improbable | Q14: =+IFERROR(VLOOKUP(P14,'V1'!$C$2:$D$7,2,FALSE),"") -> 2 | R14: Menor | S14: =+IFERROR(VLOOKUP(R14,'V1'!$E$2:$F$7,2,FALSE),"") -> 2 | T14: =+IFERROR((Q14+S14),"") -> 4 | U14: =+IF(T14="","",IF(T14>=8,'V1'!$G$3,IF(T14>=6,'V1'!$G$4,IF(T14>=5,'V1'!$G$5,IF(T14>=2,'V1'!$G$6,"revisar"))))) -> Riesgo Bajo | V14: Si | W14: Profesional asignado - Área funcional de Contratios y Jurídica | X14: Durante la Ejecución del contrato | Y14: Al finalizar el contrato | Z14: Verificando el clausulado de la minita previoo a la firma de las partes | AA14: Una sola vez/en la eleboración de la minuta por parte del área funcional encargada
A15: 6 | B15: General | C15: Externo | D15: Contratación | E15: Riesgos Operacionales | F15: Menos cantida de combustible entregado por parte del proveedor | G15: Solicitud de mayor cantidad mensual de combustible lo genera afectación económica de contrato. | H15: Improbable | I15: =+IFERROR(VLOOKUP(H15,'V1'!$C$2:$D$7,2,FALSE),"") -> 2 | J15: Mayor | K15: =+IFERROR(VLOOKUP(J15,'V1'!$E$2:$F$7,2,FALSE),"") -> 4 | L15: =+IFERROR((I15+K15),"") -> 6 | M15: =+IF(L15="","",IF(L15>=8,'V1'!$G$3,IF(L15>=6,'V1'!$G$4,IF(L15>=5,'V1'!$G$5,IF(L15>=2,'V1'!$G$6,"revisar"))))) -> Riesgo alto | N15: Contratista | O15: El administrador del parque realiza el control de la cantidad del producto entregado, estableciendo el peso inicial de combustible. | P15: Posible | Q15: =+IFERROR(VLOOKUP(P15,'V1'!$C$2:$D$7,2,FALSE),"") -> 3 | R15: Moderado | S15: =+IFERROR(VLOOKUP(R15,'V1'!$E$2:$F$7,2,FALSE),"") -> 3 | T15: =+IFERROR((Q15+S15),"") -> 6 | U15: =+IF(T15="","",IF(T15>=8,'V1'!$G$3,IF(T15>=6,'V1'!$G$4,IF(T15>=5,'V1'!$G$5,IF(T15>=2,'V1'!$G$6,"revisar"))))) -> Riesgo alto | V15: Si | W15: Equipo asignado por las áreas funcionales a la estructuración de la ficha técnica y el estuidio previo | X15: Durante la Ejecución del contrato | Y15: Al finalizar el contrato | Z15: mediante el seguimiento del contrato | AA15: Trimestral
A16: 7 | B16: General | C16: Interno | D16: Ejecución | E16: Riesgos Operacionales | F16: Expedición de nueva normatividad relacionada al servicio contratado, que puede afectar las condiciones económicas y operativas pactadas inicialmente | G16: cambio enlas condiciones contractuales | H16: Posible | I16: =+IFERROR(VLOOKUP(H16,'V1'!$C$2:$D$7,2,FALSE),"") -> 3 | J16: Moderado | K16: =+IFERROR(VLOOKUP(J16,'V1'!$E$2:$F$7,2,FALSE),"") -> 3 | L16: =+IFERROR((I16+K16),"") -> 6 | M16: =+IF(L16="","",IF(L16>=8,'V1'!$G$3,IF(L16>=6,'V1'!$G$4,IF(L16>=5,'V1'!$G$5,IF(L16>=2,'V1'!$G$6,"revisar"))))) -> Riesgo alto | N16: Gobierno Nacional | O16: El contratista deberá informar la ocurrencia del cambio que le afecta | P16: Posible | Q16: =+IFERROR(VLOOKUP(P16,'V1'!$C$2:$D$7,2,FALSE),"") -> 3 | R16: Mayor | S16: =+IFERROR(VLOOKUP(R16,'V1'!$E$2:$F$7,2,FALSE),"") -> 4 | T16: =+IFERROR((Q16+S16),"") -> 7 | U16: =+IF(T16="","",IF(T16>=8,'V1'!$G$3,IF(T16>=6,'V1'!$G$4,IF(T16>=5,'V1'!$G$5,IF(T16>=2,'V1'!$G$6,"revisar"))))) -> Riesgo alto | V16: SI | W16: Supervisor del contrato | X16: Durante la Ejecución del contrato | Y16: Finalización de la ejecución del contrato | Z16: mediante el seguimiento del contrato | AA16: Trimestral
A17: 8 | B17: General | C17: Interno | D17: Ejecución | E17: Riesgos Regulatorios | F17: No firma del contrato por parte del contratista por desacuerdo en el clausulado | G17: Retaso de la ejecución contractual. | H17: Improbable | I17: =+IFERROR(VLOOKUP(H17,'V1'!$C$2:$D$7,2,FALSE),"") -> 2 | J17: Mayor | K17: =+IFERROR(VLOOKUP(J17,'V1'!$E$2:$F$7,2,FALSE),"") -> 4 | L17: =+IFERROR((I17+K17),"") -> 6 | M17: =+IF(L17="","",IF(L17>=8,'V1'!$G$3,IF(L17>=6,'V1'!$G$4,IF(L17>=5,'V1'!$G$5,IF(L17>=2,'V1'!$G$6,"revisar"))))) -> Riesgo alto | N17: Contratista | O17: El responsable de las clausulas juridicas y contractuales valida la pertinencia de las mismnas antes de remitir documento para firma | P17: Improbable | Q17: =+IFERROR(VLOOKUP(P17,'V1'!$C$2:$D$7,2,FALSE),"") -> 2 | R17: Mayor | S17: =+IFERROR(VLOOKUP(R17,'V1'!$E$2:$F$7,2,FALSE),"") -> 4 | T17: =+IFERROR((Q17+S17),"") -> 6 | U17: =+IF(T17="","",IF(T17>=8,'V1'!$G$3,IF(T17>=6,'V1'!$G$4,IF(T17>=5,'V1'!$G$5,IF(T17>=2,'V1'!$G$6,"revisar"))))) -> Riesgo alto | V17: Si | W17: Supervisor del contrato | X17: Elaboración de la minuta | Y17: Finalización de la ejecución del contrato | Z17: mediante el seguimiento del contrato | AA17: Trimestral
A18: 9 | B18: Específico | C18: Interno | D18: Ejecución | E18: Riesgos Operacionales | F18: Incumplimiento de los requisitos de ejecución del contrato que generan dilaciones en su inicio | G18: Afectación del suministro de combustible y lubricantes. | H18: Improbable | I18: =+IFERROR(VLOOKUP(H18,'V1'!$C$2:$D$7,2,FALSE),"") -> 2 | J18: Mayor | K18: =+IFERROR(VLOOKUP(J18,'V1'!$E$2:$F$7,2,FALSE),"") -> 4 | L18: =+IFERROR((I18+K18),"") -> 6 | M18: =+IF(L18="","",IF(L18>=8,'V1'!$G$3,IF(L18>=6,'V1'!$G$4,IF(L18>=5,'V1'!$G$5,IF(L18>=2,'V1'!$G$6,"revisar"))))) -> Riesgo alto | N18: Contratista | O18: Gestión oportuna para agilizar los trámites administrativos internos que permitan inicio oportuno de la ejecución del contrato e impidan variación de precios del producto ofertado | P18: Improbable | Q18: =+IFERROR(VLOOKUP(P18,'V1'!$C$2:$D$7,2,FALSE),"") -> 2 | R18: Moderado | S18: =+IFERROR(VLOOKUP(R18,'V1'!$E$2:$F$7,2,FALSE),"") -> 3 | T18: =+IFERROR((Q18+S18),"") -> 5 | U18: =+IF(T18="","",IF(T18>=8,'V1'!$G$3,IF(T18>=6,'V1'!$G$4,IF(T18>=5,'V1'!$G$5,IF(T18>=2,'V1'!$G$6,"revisar"))))) -> Riesgo Medio | V18: Si | W18: Equipo de profesionales del área funcional de contratos | X18: Durante la Ejecución del contrato | Y18: Finalización de la etapa de estructuración | Z18: mediante el seguimiento del contrato | AA18: Trimestral
C23: Elaboró: Leidy Paola Jimenez Zabala - Profesional Universitario de la Secretaria General

Sheet V1
A2: Clase | B2: Tipo | C2: Probabilidad | E2: Impacto | G2: Categoría
A3: General | B3: Riesgos Económicos | C3: Raro | D3: 1 | E3: Insignificante | F3: 1 | G3: Riesgo Extremo | H3: 8_10
A4: Específico | B4: Riesgos Sociales o Políticos | C4: Improbable | D4: 2 | E4: Menor | F4: 2 | G4: Riesgo alto | H4: 6_7
B5: Riesgos Operacionales | C5: Posible | D5: 3 | E5: Moderado | F5: 3 | G5: Riesgo Medio | H5: 5
B6: Riesgos Financieros | C6: Probable | D6: 4 | E6: Mayor | F6: 4 | G6: Riesgo Bajo | H6: 2_4
A7: Fuente | B7: Riesgos Regulatorios | C7: Casi cierto | D7: 5 | E7: Catastrófico | F7: 5
A8: Interno | B8: Riesgos de la Naturaleza
A9: Externo | B9: Riesgos Ambientales
B10: Riesgos Tecnológicos
A11: Etapa
A12: Planeación
A13: Selección
A14: Contratación
A15: Ejecución
