Workbook
Name matrizitems: Referencias!$B$2:$N$33

Sheet Analisis Economico Choco
A2: ANALISIS DE MERCADO - COMBUSTIBLE Y ACEITES CHOCO
A4: IPC FEBRERO-2026 | B4: 5.84
C6: REGULACIÓN MIN MINAS | F6: SICOM (PowerBI) | I6: Cotización 2026 | J6: ICANH | K6: 1 | L6: 2 | M6: 3 | N6: 4 | P6: ANALISIS DE TENDENCIA CENTRAL
A7: No. | B7: Item | C7: Barranquilla | D7: Cartagena | E7: Montería | F7: Unguia Zona Frontera | G7: Choco (Sin ZF) | H7: Choco Zona Frontera | I7: ZAVEL S.A.S | J7: Estudio de Mercado - 2025 + IPC FEB26 | K7: Referencia 1 | L7: Referencia 2 | M7: Referencia 3 | N7: Referencia 4 | P7: Coeficiente de Variacion | Q7: Promedio | R7: Mediana | S7: Media Geometrica | T7: Media Armonica | U7: Proyección
C8: Precio Unitario Promedio Incluido Impuestos | D8: Precio Unitario Promedio Incluido Impuestos | E8: Precio Unitario Promedio Incluido Impuestos | F8: Precio Unitario Promedio Incluido Impuestos | G8: Precio Unitario Promedio Incluido Impuestos | H8: Precio Unitario Promedio Incluido Impuestos | I8: Precio Unitario Promedio Incluido Impuestos | J8: Precio Unitario Incluido Impuestos | K8: Precio Unitario Incluido Impuestos | L8: Precio Unitario Incluido Impuestos | M8: Precio Unitario Incluido Impuestos | N8: Precio Unitario Incluido Impuestos | P8: CV | Q8: Precio Unitario Incluido Impuestos | R8: Precio Unitario Incluido Impuestos | S8: Precio Unitario Incluido Impuestos | T8: Precio Unitario Incluido Impuestos | U8: Precio Unitario Incluido Impuestos | V8: CV Entre Metodos
A9: 1 | B9: Gasolina corriente | C9: 15924 | D9: 15881 | E9: 16131 | F9: 18000 | G9: 16923 | H9: 17508 | I9: 18360 | P9: =STDEV(C9:N9)/AVERAGE(C9:N9) -> 0.060261361 | Q9: =ROUND(AVERAGE(C9:N9),-2) -> 17000 | R9: =ROUND(MEDIAN(C9:N9),-2) -> 16900 | S9: =ROUND(GEOMEAN(C9:N9),-2) -> 16900 | T9: =ROUND(HARMEAN(C9:N9),-2) -> 16900 | U9: =MAX(C9:N9) -> 18360 | V9: =STDEVP(Q9:T9)/AVERAGE(Q9:T9) -> 0.0025584207 | X9: =I9/F9-1 -> 0.02
A10: 2 | B10: ACPM | C10: 11251 | D10: 11216 | E10: 11466 | F10: 16564 | G10: 16345 | H10: 16399 | I10: 13200 | P10: =STDEV(C10:N10)/AVERAGE(C10:N10) -> 0.18705721 | Q10: =ROUND(AVERAGE(C10:N10),-2) -> 13800 | R10: =ROUND(MEDIAN(C10:N10),-2) -> 13200 | S10: =ROUND(GEOMEAN(C10:N10),-2) -> 13600 | T10: =ROUND(HARMEAN(C10:N10),-2) -> 13400 | U10: =MAX(C10:N10) -> 16564 | V10: =STDEVP(Q10:T10)/AVERAGE(Q10:T10) -> 0.016563466 | X10: =I10/F10-1 -> -0.20309104
A11: 3 | B11: Aceite 2 tiempos | I11: 167500 | J11: ='Estudio De Mercado 2025'!K8*(1+($B$4/100)) -> 180975.82 | K11: =HLOOKUP("Valor "&K$6,Referencias!B2:$N$7,2,0) -> 186482.52 | L11: =HLOOKUP("Valor "&L$6,Referencias!C2:$N$7,2,0) -> 145000 | M11: =HLOOKUP("Valor "&M$6,Referencias!D2:$N$7,2,0) -> 142000 | N11: =HLOOKUP("Valor "&N$6,Referencias!E2:$N$7,2,0) -> 249900 | P11: =STDEV(C11:N11)/AVERAGE(C11:N11) -> 0.22028694 | Q11: =ROUND(AVERAGE(C11:N11),-2) -> 178600 | R11: =ROUND(MEDIAN(C11:N11),-2) -> 174200 | S11: =ROUND(GEOMEAN(C11:N11),-2) -> 175400 | T11: =ROUND(HARMEAN(C11:N11),-2) -> 172400 | U11: =S11 -> 175400 | V11: =STDEVP(Q11:T11)/AVERAGE(Q11:T11) -> 0.012903099
A12: 4 | B12: Aceite 4 tiempos | I12: 122200 | J12: ='Estudio De Mercado 2025'!K9*(1+($B$4/100)) -> 131982.48 | K12: =HLOOKUP("Valor "&K$6,Referencias!B2:$N$7,3,0) -> 89900 | L12: =HLOOKUP("Valor "&L$6,Referencias!C2:$N$7,3,0) -> 183600 | M12: =HLOOKUP("Valor "&M$6,Referencias!D2:$N$7,3,0) -> 199890 | N12: =HLOOKUP("Valor "&N$6,Referencias!E2:$N$7,3,0) -> 99000 | P12: =STDEV(C12:N12)/AVERAGE(C12:N12) -> 0.32511169 | Q12: =ROUND(AVERAGE(C12:N12),-2) -> 137800 | R12: =ROUND(MEDIAN(C12:N12),-2) -> 127100 | S12: =ROUND(GEOMEAN(C12:N12),-2) -> 131900 | T12: =ROUND(HARMEAN(C12:N12),-2) -> 126500 | U12: =S12 -> 131900 | V12: =STDEVP(Q12:T12)/AVERAGE(Q12:T12) -> 0.034690449
A13: 5 | B13: Transporte | I13: 154600 | J13: ='Estudio De Mercado 2025'!K10*(1+($B$4/100)) -> 167015.52 | P13: =IFERROR(STDEV(C13:N13)/AVERAGE(C13:N13),0) -> 0.054593748 | Q13: =ROUND(AVERAGE(C13:N13),-2) -> 160800 | R13: =ROUND(MEDIAN(C13:N13),-2) -> 160800 | S13: =ROUND(GEOMEAN(C13:N13),-2) -> 160700 | T13: =ROUND(HARMEAN(C13:N13),-2) -> 160600 | U13: =S13 -> 160700 | V13: =STDEVP(Q13:T13)/AVERAGE(Q13:T13) -> 0.00051588502
P14: TOTALES | Q14: =SUM(Q9:Q13) -> 508000 | R14: =SUM(R9:R13) -> 492200 | S14: =SUM(S9:S13) -> 498500 | T14: =SUM(T9:T13) -> 489800 | U14: =SUM(U9:U13) -> 502924 | V14: =STDEVP(Q14:T14)/AVERAGE(Q14:T14) -> 0.014155037
A15: SICOM POWER BI: https://app.powerbi.com/view?r=eyJrIjoiYmY4ODk2OGYtNmMwOC00ODQzLWEzM2MtNjM4ODg0Y2VmNWQ2IiwidCI6ImM5ODBlNDEwLTBiNWMtNDhiYy1iZDFhLThiOTFjYWJjODRiYyIsImMiOjR9
A17: VARIACIONES FRENTE A CONTRATO 2025
A18: No. | B18: Item | C18: CTO-275-2025 | D18: Promedio | E18: Mediana | F18: Media Geometrica | G18: Media Armonica
C19: Precio Unitario Incluido Impuestos | D19: Variación | E19: Variación | F19: Variación | G19: Variación
A20: 1 | B20: Gasolina corriente | C20: 18040 | D20: =Q9/'CTO-275-2025'!$D6-1 -> -0.057649667 | E20: =R9/'CTO-275-2025'!$D6-1 -> -0.063192905 | F20: =S9/'CTO-275-2025'!$D6-1 -> -0.063192905 | G20: =T9/'CTO-275-2025'!$D6-1 -> -0.063192905
A21: 2 | B21: ACPM | C21: 15875 | D21: =Q10/'CTO-275-2025'!$D7-1 -> -0.13070866 | E21: =R10/'CTO-275-2025'!$D7-1 -> -0.16850394 | F21: =S10/'CTO-275-2025'!$D7-1 -> -0.14330709 | G21: =T10/'CTO-275-2025'!$D7-1 -> -0.15590551
A22: 3 | B22: Aceite 2 tiempos | C22: 165860 | D22: =Q11/'CTO-275-2025'!$D8-1 -> 0.076811769 | E22: =R11/'CTO-275-2025'!$D8-1 -> 0.050283372 | F22: =S11/'CTO-275-2025'!$D8-1 -> 0.057518389 | G22: =T11/'CTO-275-2025'!$D8-1 -> 0.039430845
A23: 4 | B23: Aceite 4 tiempos | C23: 120959 | D23: =Q12/'CTO-275-2025'!$D9-1 -> 0.13922899 | E23: =R12/'CTO-275-2025'!$D9-1 -> 0.050769269 | F23: =S12/'CTO-275-2025'!$D9-1 -> 0.090452137 | G23: =T12/'CTO-275-2025'!$D9-1 -> 0.04580891
A24: 5 | B24: Transporte | C24: 153066 | D24: =Q13/'CTO-275-2025'!$D10-1 -> 0.050527224 | E24: =R13/'CTO-275-2025'!$D10-1 -> 0.050527224 | F24: =S13/'CTO-275-2025'!D10-1 -> 0.049873911 | G24: =T13/'CTO-275-2025'!$D10-1 -> 0.049220598
A27: PROYECCIÓN ESTIMADA CONSUMO POR PLAZO PAA
A29: No. | B29: Item | C29: Cantidad | D29: Precio Techo | E29: Estimación Mes
C30: Mensual Estimada | D30: Precio Unitario Incluido Impuestos
A31: 1 | B31: Gasolina corriente | C31: 25 | D31: =U9 -> 18360 | E31: =D31*C31 -> 459000
A32: 2 | B32: ACPM | C32: 10 | D32: =U10 -> 16564 | E32: =D32*C32 -> 165640
A33: 3 | B33: Aceite 2 tiempos | C33: 4 | D33: =U11 -> 175400 | E33: =D33*C33 -> 701600
A34: 4 | B34: Aceite 4 tiempos | C34: 3 | D34: =U12 -> 131900 | E34: =D34*C34 -> 395700
A35: 5 | B35: Transporte | C35: 1 | D35: =U13 -> 160700 | E35: =D35*C35 -> 160700
A36: Total | E36: =SUM(E31:E35) -> 1882640
B38: Proyeccion Diaria | C38: =E36/30 -> 62754.667 | D38: Dias Estimados | E38: 164
B39: Prorrateo | C39: =C38*E38 -> 10291765
B40: Margen Tecnico | C40: =C95-C39 -> 5308234.7 | K40: https://www.dane.gov.co/files/operaciones/IPC/feb2026/bol-IPC-feb2026.pdf
B41: Presupuesto | C41: =SUM(C39:C40) -> 15600000
A44: COMPARATIVO PRECIOS FEBRERO MARZO 2026 - MINISTERIO DE MINAS
A46: Ciudad | B46: Gasolina Feb-26 | C46: Gasolina Mar-26 | D46: Diferencia | E46: Diésel Feb-26 | F46: Diésel Mar-26 | G46: Dif. $
A47: Bogotá D.C. | B47: 15991 | C47: 15491 | D47: =C47-B47 -> -500 | E47: 11276 | F47: 11276 | G47: =F47-E47 -> 0
A48: Medellín | B48: 15912 | C48: 15411 | D48: =C48-B48 -> -501 | E48: 11301 | F48: 11301 | G48: =F48-E48 -> 0
A49: Cali | B49: 16002 | C49: 15500 | D49: =C49-B49 -> -502 | E49: 11424 | F49: 11424 | G49: =F49-E49 -> 0
A50: Barranquilla | B50: 15626 | C50: 15124 | D50: =C50-B50 -> -502 | E50: 10951 | F50: 10951 | G50: =F50-E50 -> 0
A51: Cartagena | B51: 15583 | C51: 15081 | D51: =C51-B51 -> -502 | E51: 10916 | F51: 10916 | G51: =F51-E51 -> 0
...

Sheet SICOM
B2: SICOM - Ministerio de Minas y Energia Colombia UNGUIA MES ACTUAL - JULIO
B29: Fuente: https://app.powerbi.com/view?r=eyJrIjoiYmY4ODk2OGYtNmMwOC00ODQzLWEzM2MtNjM4ODg0Y2VmNWQ2IiwidCI6ImM5ODBlNDEwLTBiNWMtNDhiYy1iZDFhLThiOTFjYWJjODRiYyIsImMiOjR9
B31: SICOM - Ministerio de Minas y Energia Colombia TODO CHOCO JULIO
B58: Fuente: https://app.powerbi.com/view?r=eyJrIjoiYmY4ODk2OGYtNmMwOC00ODQzLWEzM2MtNjM4ODg0Y2VmNWQ2IiwidCI6ImM5ODBlNDEwLTBiNWMtNDhiYy1iZDFhLThiOTFjYWJjODRiYyIsImMiOjR9

Sheet Referencias
E1: =MID(E3,SEARCH("//",E3)+2,SEARCH(".",E3,SEARCH("//",E3))-(SEARCH("//",E3)+2)) -> genticenter | H1: =MID(H3,SEARCH("//",H3)+2,SEARCH(".",H3,SEARCH("//",H3))-(SEARCH("//",H3)+2)) -> agroelectros | K1: =MID(K3,SEARCH("//",K3)+2,SEARCH(".",K3,SEARCH("//",K3))-(SEARCH("//",K3)+2)) -> ferricentro | N1: Homecenter
B2: Item | C2: Valor 1 | D2: Referencia Grafica 1 | E2: Enlace 1 (16/06/2026) | F2: Valor 2 | G2: Referencia Grafica 2 | H2: Enlace 2 (16/06/2026) | I2: Valor 3 | J2: Referencia Grafica 3 | K2: Enlace 3 (16/06/2026) | L2: Valor 4 | M2: Referencia Grafica 4 | N2: Enlace 4 (16/06/2026)
B3: ='Analisis Economico Choco'!B11 -> Aceite 2 tiempos | C3: =156708*1.19 -> 186482.52 | E3: https://genticenter.com/products/aceite-2t-low-smoke-fd-3-784-litros-1-galon-husqvarna?srsltid=AfmBOopdUN7-zyD5WjDMyffRM5tLsfXqxMHYoZdm6BPhqEIkbqchl3FK2rk | F3: 145000 | H3: https://agroelectros.com/producto/galon-aceite-para-motores-2t-husqvarna/?srsltid=AfmBOoqxxkVoSa-26s6TpyM5URjzmqlnbePi-jxO5EfLVTbubwv2XKaqj_M | I3: 142000 | K3: https://ferricentro.com/aceite-2t-galon-ff-0000008737?srsltid=AfmBOorBkbGp2FHo1V3rvvQbg5YZzmh5xo0HurnDsewOxlX36lhE8qvip9Y | L3: 249900 | N3: https://www.homecenter.com.co/homecenter-co/product/663236/aceite-para-motores-de-2-tiempos-galon/663236/
B4: ='Analisis Economico Choco'!B12 -> Aceite 4 tiempos | C4: 89900 | E4: https://bravoindustrial.com/es/inicio/4759-la10w30-1-emg-aceite-enermax-10w30-4t-x-galon.html?srsltid=AfmBOopEJ9zIfCvsJcWy3D_qUM2tfcUYPYCMUVyOsHYf9H4WRa2aqJhwYBA | F4: 183600 | H4: https://www.mercadolibre.com.co/aceite-10w40-full-sintetico-moto-4t-ecolube-galon-4-litros/up/MCOU2429859569?matt_tool=19390127&utm_source=google_shopping&utm_medium=organic&pdp_filters=item_id%3AMCO618741139&from=gshop | I4: 199890 | K4: https://casalopez.com.co/aceites-lubricantes/aceite-para-motor-total-quartz-7000-10w40-galon/?srsltid=AfmBOoq-bjGRKFEKPmvomrl6HMle4A1J_Wbu0D30xq28A_i10ASZ7wp5Z8M | L4: 99000 | N4: https://motoborda.com/inicio/343-galon-de-lubricante-4t-20w50-motoborda.html?srsltid=AfmBOoo3I58Tat9lX3K-duejVlgMAFMYNQHZDMLOvnvHy1o8-vcIlXd3tRI

Sheet Estudio De Mercado 2025
D1: GESTIÓN CONTRACTUAL | M1: 0.052 | N1: 2024
D2: ELABORACIÓN ESTUDIOS DE MERCADO - PROCESOS DE GESTIÓN CONTRACTUAL | M2: 0.0922 | N2: 2023
A4: DESCRIPCIÓN GENERAL | G4: NACIONAL DE COMBUSTIBLES DAVID BEDOYA SAS | I4: PRECIOS DE REFERENCIA | K4: =M4 -> PROMEDIO SIMPLE (INDEXACIÓN DE PRECIOS - PRECIOS DE REFERENCIA, ETC) | M4: PROMEDIO SIMPLE (INDEXACIÓN DE PRECIOS - PRECIOS DE REFERENCIA, ETC)
A5: No. Item | B5: Código UNSPSC | C5: Ref. Artículo | D5: Descripción | E5: Cantidad | F5: Unidad de Medida | G5: Precio unitario IVA incluido | H5: Precio total IVA incluido | I5: Precio unitario IVA incluido | J5: Precio total IVA incluido | K5: Precio unitario estimado IVA incluido | L5: Precio total estimado IVA incluido | M5: Precio unitario estimado IVA incluido | N5: Precio total estimado IVA incluido
A6: 1 | D6: Gasolina Corriente | E6: 1 | F6: GALON | G6: 18260 | H6: =$E$6*G6 -> 18260 | I6: =ROUND(18000*(1+$M$1),0) -> 18936 | J6: =$E$6*I6 -> 18936 | K6: =M6 -> 18598 | L6: =K6*E6 -> 18598 | M6: =+ROUND(AVERAGE($I6,$G6),0) -> 18598 | N6: =+M6*$E$6 -> 18598
A7: 2 | D7: ACPM | E7: 1 | F7: GALON | G7: 12050 | H7: =$E$6*G7 -> 12050 | I7: =ROUND((18000*(1+$M$1)*(1+$M$2)),0) -> 20682 | J7: =$E$6*I7 -> 20682 | K7: =M7 -> 16366 | L7: =K7*E7 -> 16366 | M7: =+ROUND(AVERAGE($I7,$G7),0) -> 16366 | N7: =+M7*$E$6 -> 16366
A8: 3 | D8: Aceite motores 2T | E8: 1 | F8: GALON | G8: 170000 | H8: =$E$6*G8 -> 170000 | I8: =+[1]Aceites!G41 -> 171980 | J8: =$E$6*I8 -> 171980 | K8: =M8 -> 170990 | L8: =K8*E8 -> 170990 | M8: =+ROUND(AVERAGE($I8,$G8),0) -> 170990 | N8: =+M8*$E$6 -> 170990
A9: 4 | D9: Aceite motos 4T | E9: 1 | F9: GALON | G9: 124000 | H9: =$E$6*G9 -> 124000 | I9: =+[1]Aceites!O27 -> 125400 | J9: =$E$6*I9 -> 125400 | K9: =M9 -> 124700 | L9: =K9*E9 -> 124700 | M9: =+ROUND(AVERAGE($I9,$G9),0) -> 124700 | N9: =+M9*$E$6 -> 124700
A10: 5 | D10: Entrega y suminsitro | E10: 1 | F10: UN | G10: 400000 | H10: =$E$6*G10 -> 400000 | I10: =ROUND(150000*(1+$M$1),0) -> 157800 | J10: =$E$6*I10 -> 157800 | K10: =M10 -> 157800 | L10: =K10*E10 -> 157800 | M10: =+ROUND(AVERAGE($I10),0) -> 157800 | N10: =+M10*$E$6 -> 157800
A11: VALOR TOTAL ESTUDIO DE MERCADO DE ACUERDO CON LA CANTIDAD SELECCIONADA | H11: =SUM(H6:H10) -> 724310 | J11: =SUM(J6:J10) -> 494798 | L11: =SUM(L6:L10) -> 488454 | N11: =SUM(N6:N10) -> 488454
A12: Para estimar el valor del presupuesto del presente proceso, se realizó un comparativo entre la empresa que presentó cotización y los históricos con los que cuenta la entidad de contratos que se han adjudicado con anterioridad, teniendo en cuenta que los valores presentados se encuentran indexados con el IPC con el que finalizó el año 2024 (5,20%). En este sentido, se contempló la media aritmética de los valores unitarios de la cotización recibida respecto los históricos, ya que esta medida de tendencia central refleja el precio más acertado y objetivo del mercado. No se tiene en cuenta el valor cotizado por Nacional de Combustibles en el item de transporte ya que esta por encima del valor de la oferta ganadora del contrato anterior en 253%
I27: 2
I28: 5 | J28: =I28*40% -> 2
I29: =I27*100% -> 2
I30: =I29/I28 -> 0.4

Sheet CTO-275-2025
A2: PROCESO | B2: MC-ICANH-006-2025
A3: CONTRATO | B3: 275-2025
A5: Descripción | B5: Cantidad | C5: Unidad de Medida | D5: Valor Oferta Ganadora
A6: Gasolina Corriente | B6: 1 | C6: GALON | D6: 18040
A7: ACPM | B7: 1 | C7: GALON | D7: 15875
A8: Aceite motores 2T | B8: 1 | C8: GALON | D8: 165860
A9: Aceite motos 4T | B9: 1 | C9: GALON | D9: 120959
A10: Entrega y suminsitro | B10: 1 | C10: UN | D10: 153066

Sheet Listado de unidades
A1: UNIDADES
A2: Nombre | B2: Descripción
A3: µA | B3: Microamperio
A4: µGL | B4: Microgramos/Litro
A5: µGQ | B5: Microgramos/ Metro cúbico
A6: µM | B6: Micrómetro
A7: 2IN | B7: Pulgada cuadrada
A8: A | B8: Amperio
A9: ACR | B9: Acre
A10: ANO | B10: Año
A11: ARR | B11: Arroba
A12: AT | B12: Hierro atado
A13: BDN | B13: Bidón
... A186: YD | B186: Yarda

Sheet Aceite
O2: 156900
G3: 199900
G9: 220000 | O9: 122900
O15: 119900
G16: 155000
O20: 101900
G24: 155000
O27: =+AVERAGE(O2:O20) -> 125400
G31: 130000
G41: =+AVERAGE(G1:G31) -> 171980
