Workbook

Sheet BD
A1: REMISION | B1: FECHA | C1: N° | D1: CANTIDAD | E1: REFERENCIA | F1: DESCRIPCIÓN | G1: V UNITARIO | H1: IVA | I1: NOTA | J1: MÁQUINA/PLACA | K1: SECRETARIA | L1: ACTA | M1: ITEM MENU | N1: PRECIO NC | O1: PRECIO MENU | P1: PRECIO UNITARIO SIN IVA | Q1: TOTAL SIN IVA | R1: VALOR IVA | S1: TOTAL CON IVA
A2: RM-3-2007 | B2: 45329 | C2: 1 | D2: 1 | E2: 15W40 | F2: GARRAFA ACEITE MOBIL MX | G2: 590500 | H2: 0 | I2: 473 | J2: BUSETA MARCA CHEVROLET FRR PLACA: ODT 306 MODELO: 2017 | K2: =VLOOKUP(J2,'MAQ COTA'!$D$1:$E$76,2,0) -> #N/A | L2: ACTA 01 AÑO 2024 - COTA | M2: 473 | N2: 590500 | O2: 0 | P2: 590500 | Q2: 590500 | R2: 0 | S2: 590500
A3: RM-3-2007 | B3: 45329 | C3: 2 | D3: 1 | E3: 98552913 | F3: FILTRO COMBUSTIBLE PRINCIPAL | G3: 95667 | H3: 0.19 | I3: 472 | J3: BUSETA MARCA CHEVROLET FRR PLACA: ODT 306 MODELO: 2017 | K3: =VLOOKUP(J3,'MAQ COTA'!$D$1:$E$76,2,0) -> #N/A | L3: ACTA 01 AÑO 2024 - COTA | M3: 472 | N3: 95667 | O3: 0 | P3: 95667 | Q3: 95667 | R3: 18176.73 | S3: 113843.73
A4: RM-3-2007 | B4: 45329 | C4: 3 | D4: 1 | E4: 98552913 | F4: FILTRO SECUNDARIO DE COMBUSTIBLE | G4: 86500 | H4: 0.19 | I4: 468 | J4: BUSETA MARCA CHEVROLET FRR PLACA: ODT 306 MODELO: 2017 | K4: =VLOOKUP(J4,'MAQ COTA'!$D$1:$E$76,2,0) -> #N/A | L4: ACTA 01 AÑO 2024 - COTA | M4: 468 | N4: 86500 | O4: 0 | P4: 86500 | Q4: 86500 | R4: 16435 | S4: 102935
A5: RM-3-2007 | B5: 45329 | C5: 4 | D5: 1 | E5: 98552913 | F5: FILTRO DE ACEITE MOTOR | G5: 96500 | H5: 0.19 | I5: 471 | J5: BUSETA MARCA CHEVROLET FRR PLACA: ODT 306 MODELO: 2017 | K5: =VLOOKUP(J5,'MAQ COTA'!$D$1:$E$76,2,0) -> #N/A | L5: ACTA 01 AÑO 2024 - COTA | M5: 471 | N5: 96500 | O5: 0 | P5: 96500 | Q5: 96500 | R5: 18335 | S5: 114835
A6: RM-3-2007 | B6: 45329 | C6: 5 | D6: 1 | E6: 98552913 | F6: FILTRO EXTERNO DE AIRE | G6: 120500 | H6: 0.19 | I6: 470 | J6: BUSETA MARCA CHEVROLET FRR PLACA: ODT 306 MODELO: 2017 | K6: =VLOOKUP(J6,'MAQ COTA'!$D$1:$E$76,2,0) -> #N/A | L6: ACTA 01 AÑO 2024 - COTA | M6: 470 | N6: 120500 | O6: 0 | P6: 120500 | Q6: 120500 | R6: 22895 | S6: 143395
A7: RM-3-2007 | B7: 45329 | C7: 6 | D7: 1 | E7: 98552913 | F7: FILTRO INTERNO DE AIRE | G7: 84667 | H7: 0.19 | I7: 469 | J7: BUSETA MARCA CHEVROLET FRR PLACA: ODT 306 MODELO: 2017 | K7: =VLOOKUP(J7,'MAQ COTA'!$D$1:$E$76,2,0) -> #N/A | L7: ACTA 01 AÑO 2024 - COTA | M7: 469 | N7: 84667 | O7: 0 | P7: 84667 | Q7: 84667 | R7: 16086.73 | S7: 100753.73
A8: RM-3-2007 | B8: 45329 | C8: 7 | D8: 1 | E8: MO00641 | F8: CAMBIO DE ACEITE Y FILTROS | G8: 70667 | H8: 0.19 | I8: 475 | J8: BUSETA MARCA CHEVROLET FRR PLACA: ODT 306 MODELO: 2017 | K8: =VLOOKUP(J8,'MAQ COTA'!$D$1:$E$76,2,0) -> #N/A | L8: ACTA 01 AÑO 2024 - COTA | M8: 475 | N8: 70667 | O8: 0 | P8: 70667 | Q8: 70667 | R8: 13426.73 | S8: 84093.73
A9: RM-3-2007 | B9: 45329 | C9: 8 | D9: 1 | E9: MO00641 | F9: REVISION, MANTENIMIENTO Y CALIBRACION DE FRENOS | G9: 119333 | H9: 0.19 | I9: 474 | J9: BUSETA MARCA CHEVROLET FRR PLACA: ODT 306 MODELO: 2017 | K9: =VLOOKUP(J9,'MAQ COTA'!$D$1:$E$76,2,0) -> #N/A | L9: ACTA 01 AÑO 2024 - COTA | M9: 474 | N9: 119333 | O9: 0 | P9: 119333 | Q9: 119333 | R9: 22673.27 | S9: 142006.27
A10: RM-3-2008 | B10: 45329 | C10: 1 | D10: 1 | E10: 15W40 | F10: GARRAFA ACEITE MOBIL MX | G10: 585833 | H10: 0 | I10: 454 | J10: BUSETA MARCA HINO PLACA: ODT 357 MODELO: 2018 | K10: =VLOOKUP(J10,'MAQ COTA'!$D$1:$E$76,2,0) -> #N/A | L10: ACTA 01 AÑO 2024 - COTA | M10: 454 | N10: 585833 | O10: 0 | P10: 585833 | Q10: 585833 | R10: 0 | S10: 585833
A11: RM-3-2008 | B11: 45329 | C11: 4 | D11: 1 | E11: HCX2051 | F11: FILTRO DE ACEITE MOTOR | G11: 95167 | H11: 0.19 | I11: 455 | J11: BUSETA MARCA HINO PLACA: ODT 357 MODELO: 2018 | K11: =VLOOKUP(J11,'MAQ COTA'!$D$1:$E$76,2,0) -> #N/A | L11: ACTA 01 AÑO 2024 - COTA | M11: 455 | N11: 95167 | O11: 0 | P11: 95167 | Q11: 95167 | R11: 18081.73 | S11: 113248.73
A12: RM-3-2008 | B12: 45329 | C12: 5 | D12: 1 | E12: SFA178013360 | F12: FILTRO EXTERNO DE AIRE | G12: 86167 | H12: 0.19 | I12: 459 | J12: BUSETA MARCA HINO PLACA: ODT 357 MODELO: 2018 | K12: =VLOOKUP(J12,'MAQ COTA'!$D$1:$E$76,2,0) -> #N/A | L12: ACTA 01 AÑO 2024 - COTA | M12: 459 | N12: 86167 | O12: 0 | P12: 86167 | Q12: 86167 | R12: 16371.73 | S12: 102538.73
A13: RM-3-2008 | B13: 45329 | C13: 6 | D13: 1 | E13: SFA-178013371 | F13: FILTRO INTERNO DE AIRE | G13: 118667 | H13: 0.19 | I13: 458 | J13: BUSETA MARCA HINO PLACA: ODT 357 MODELO: 2018 | K13: =VLOOKUP(J13,'MAQ COTA'!$D$1:$E$76,2,0) -> #N/A | L13: ACTA 01 AÑO 2024 - COTA | M13: 458 | N13: 118667 | O13: 0 | P13: 118667 | Q13: 118667 | R13: 22546.73 | S13: 141213.73
A14: RM-3-2008 | B14: 45329 | C14: 7 | D14: 1 | E14: MO00641 | F14: CAMBIO DE ACEITE Y FILTROS | G14: 70167 | H14: 0.19 | I14: 457 | J14: BUSETA MARCA HINO PLACA: ODT 357 MODELO: 2018 | K14: =VLOOKUP(J14,'MAQ COTA'!$D$1:$E$76,2,0) -> #N/A | L14: ACTA 01 AÑO 2024 - COTA | M14: 457 | N14: 70167 | O14: 0 | P14: 70167 | Q14: 70167 | R14: 13331.73 | S14: 83498.73
A15: RM-3-2016 | B15: 45335 | C15: 1 | D15: 1 | E15: 1-31240876-1 = 98408359 | F15: DISCO EMBRAGUE | G15: 2383000 | H15: 0.19 | I15: 278 | J15: BUS CHEVROLET ISUZO LV 150 PLACA: OSD 445 MODELO: 2012 | K15: =VLOOKUP(J15,'MAQ COTA'!$D$1:$E$76,2,0) -> #N/A | L15: ACTA 01 AÑO 2024 - COTA | M15: 278 | N15: 2383000 | O15: 0 | P15: 2383000 | Q15: 2383000 | R15: 452770 | S15: 2835770
A16: RM-3-2016 | B16: 45335 | C16: 2 | D16: 1 | E16: TK70B/CT70 | F16: BALINERA | G16: 284833 | H16: 0.19 | I16: 281 | J16: BUS CHEVROLET ISUZO LV 150 PLACA: OSD 445 MODELO: 2012 | K16: =VLOOKUP(J16,'MAQ COTA'!$D$1:$E$76,2,0) -> #N/A | L16: ACTA 01 AÑO 2024 - COTA | M16: 281 | N16: 284833 | O16: 0 | P16: 284833 | Q16: 284833 | R16: 54118.27 | S16: 338951.27
A17: RM-3-2016 | B17: 45335 | C17: 3 | D17: 1 | E17: MO00644 | F17: REPARACION PRENSA CALIBRACION RECTIFICADA Y PUESTA A PUNTO | G17: 890167 | H17: 0.19 | I17: 279 | J17: BUS CHEVROLET ISUZO LV 150 PLACA: OSD 445 MODELO: 2012 | K17: =VLOOKUP(J17,'MAQ COTA'!$D$1:$E$76,2,0) -> #N/A | L17: ACTA 01 AÑO 2024 - COTA | M17: 279 | N17: 890167 | O17: 0 | P17: 890167 | Q17: 890167 | R17: 169131.73 | S17: 1059298.7
A18: RM-3-2016 | B18: 45335 | C18: 4 | D18: 1 | E18: MO00644 | F18: DESMONTAJE Y MONTAJE EMBRAGUE Y PUESTA A PUNTO | G18: 885667 | H18: 0.19 | I18: 280 | J18: BUS CHEVROLET ISUZO LV 150 PLACA: OSD 445 MODELO: 2012 | K18: =VLOOKUP(J18,'MAQ COTA'!$D$1:$E$76,2,0) -> #N/A | L18: ACTA 01 AÑO 2024 - COTA | M18: 280 | N18: 885667 | O18: 0 | P18: 885667 | Q18: 885667 | R18: 168276.73 | S18: 1053943.7
A19: RM-3-2029 | B19: 45341 | C19: 1 | D19: 1 | E19: M.O. | F19: REVISION ELECTRICA SISTEMA DE APERTURA PUERTAS. CAMBIO DE BOMBILLOS INTERNOS E INSTALACION DE LICUADORA NUEVA | G19: 642833 | H19: 0.19 | I19: 463 | J19: BUSETA MARCA HINO PLACA: ODT 357 MODELO: 2018 | K19: =VLOOKUP(J19,'MAQ COTA'!$D$1:$E$76,2,0) -> #N/A | L19: ACTA 01 AÑO 2024 - COTA | M19: 463 | N19: 642833 | O19: 0 | P19: 642833 | Q19: 642833 | R19: 122138.27 | S19: 764971.27
A20: RM-3-2029 | B20: 45341 | C20: 2 | D20: 1 | E20: L570VIA | F20: LICUADORA NUEVA | G20: 198667 | H20: 0.19 | I20: 462 | J20: BUSETA MARCA HINO PLACA: ODT 357 MODELO: 2018 | K20: =VLOOKUP(J20,'MAQ COTA'!$D$1:$E$76,2,0) -> #N/A | L20: ACTA 01 AÑO 2024 - COTA | M20: 462 | N20: 198667 | O20: 0 | P20: 198667 | Q20: 198667 | R20: 37746.73 | S20: 236413.73
A21: RM-3-2035 | B21: 45343 | C21: 1 | D21: 1 | F21: M.O. REVISION MODULO ELECTRONICO PLATAFORMA DISCAPACIDAD | G21: 324000 | H21: 0.19 | I21: 477 | J21: BUSETA MARCA CHEVROLET FRR PLACA: ODT 306 MODELO: 2017 | K21: =VLOOKUP(J21,'MAQ COTA'!$D$1:$E$76,2,0) -> #N/A | L21: ACTA 01 AÑO 2024 - COTA | M21: 477 | N21: 324000 | O21: 0 | P21: 324000 | Q21: 324000 | R21: 61560 | S21: 385560
A22: RM-3-2035 | B22: 45343 | C22: 2 | D22: 1 | F22: SUSPENSION VIGIAS DE AIRE Y CORRECCION BONES BATERIA | G22: 76000 | H22: 0.19 | I22: 476 | J22: BUSETA MARCA CHEVROLET FRR PLACA: ODT 306 MODELO: 2017 | K22: =VLOOKUP(J22,'MAQ COTA'!$D$1:$E$76,2,0) -> #N/A | L22: ACTA 01 AÑO 2024 - COTA | M22: 476 | N22: 76000 | O22: 0 | P22: 76000 | Q22: 76000 | R22: 14440 | S22: 90440
A23: RM-3-2040 | B23: 45348 | C23: 1 | D23: 1 | E23: D0J101A / A-1 | F23: FILTRO ACEITE | G23: 75500 | H23: 0.19 | I23: 746 | J23: TRACTOR KUBOTA 9540 MODELO "NUEVO" MODELO : 2021 | K23: =VLOOKUP(J23,'MAQ COTA'!$D$1:$E$76,2,0) -> SECRETARIA SAMADE | L23: ACTA 01 AÑO 2024 - COTA | M23: 746 | N23: 75500 | O23: 0 | P23: 75500 | Q23: 75500 | R23: 14345 | S23: 89845
A24: RM-3-2040 | B24: 45348 | C24: 2 | D24: 1 | E24: HCX-9C | F24: FILTRO COMBUSTIBLE PRIMARIIO | G24: 73667 | H24: 0.19 | I24: 749 | J24: TRACTOR KUBOTA 9540 MODELO "NUEVO" MODELO : 2021 | K24: =VLOOKUP(J24,'MAQ COTA'!$D$1:$E$76,2,0) -> SECRETARIA SAMADE | L24: ACTA 01 AÑO 2024 - COTA | M24: 749 | N24: 73667 | O24: 0 | P24: 73667 | Q24: 73667 | R24: 13996.73 | S24: 87663.73
A25: RM-3-2040 | B25: 45348 | C25: 4 | D25: 1 | E25: A5541S | F25: KIT FILTROS DE AITE INTERNO Y EXTERNO | G25: 161833 | H25: 0.19 | I25: 748 | J25: TRACTOR KUBOTA 9540 MODELO "NUEVO" MODELO : 2021 | K25: =VLOOKUP(J25,'MAQ COTA'!$D$1:$E$76,2,0) -> SECRETARIA SAMADE | L25: ACTA 01 AÑO 2024 - COTA | M25: 748 | N25: 161833 | O25: 0 | P25: 161833 | Q25: 161833 | R25: 30748.27 | S25: 192581.27
A26: RM-3-2040 | B26: 45348 | C26: 5 | D26: 3 | E26: 15W40 | F26: GALON ACEITE MOBIL MX | G26: 143833 | H26: 0 | I26: 744 | J26: TRACTOR KUBOTA 9540 MODELO "NUEVO" MODELO : 2021 | K26: =VLOOKUP(J26,'MAQ COTA'!$D$1:$E$76,2,0) -> SECRETARIA SAMADE | L26: ACTA 01 AÑO 2024 - COTA | M26: 744 | N26: 143833 | O26: 0 | P26: 143833 | Q26: 431499 | R26: 0 | S26: 431499
A27: RM-3-2041 | B27: 45348 | C27: 1 | D27: 1 | E27: DF5209 / HCX-18A | F27: FILTRO COMBUSTIBLE SECUNDARIO | G27: 76500 | H27: 0.19 | I27: 672 | J27: TRACTOR KUBOTA 7040 MODELO: 2011 | K27: =VLOOKUP(J27,'MAQ COTA'!$D$1:$E$76,2,0) -> #N/A | L27: ACTA 01 AÑO 2024 - COTA | M27: 672 | N27: 76500 | O27: 0 | P27: 76500 | Q27: 76500 | R27: 14535 | S27: 91035
A28: RM-3-2041 | B28: 45348 | C28: 2 | D28: 1 | E28: HCX-9C | F28: FILTRO COMBUSTIBLE PRIMARIIO | G28: 64667 | H28: 0.19 | I28: 671 | J28: TRACTOR KUBOTA 7040 MODELO: 2011 | K28: =VLOOKUP(J28,'MAQ COTA'!$D$1:$E$76,2,0) -> #N/A | L28: ACTA 01 AÑO 2024 - COTA | M28: 671 | N28: 64667 | O28: 0 | P28: 64667 | Q28: 64667 | R28: 12286.73 | S28: 76953.73
A29: RM-3-2041 | B29: 45348 | C29: 3 | D29: 1 | E29: HCX-46 | F29: FILTRO DE ACEITE MOTOR | G29: 65500 | H29: 0.19 | I29: 668 | J29: TRACTOR KUBOTA 7040 MODELO: 2011 | K29: =VLOOKUP(J29,'MAQ COTA'!$D$1:$E$76,2,0) -> #N/A | L29: ACTA 01 AÑO 2024 - COTA | M29: 668 | N29: 65500 | O29: 0 | P29: 65500 | Q29: 65500 | R29: 12445 | S29: 77945
A30: RM-3-2041 | B30: 45348 | C30: 4 | D30: 1 | E30: SFA-RS3542 | F30: FILTRO EXTERNO DE AIRE | G30: 93333 | H30: 0.19 | I30: 683 | J30: TRACTOR KUBOTA 7040 MODELO: 2011 | K30: =VLOOKUP(J30,'MAQ COTA'!$D$1:$E$76,2,0) -> #N/A | L30: ACTA 01 AÑO 2024 - COTA | M30: 683 | N30: 93333 | O30: 0 | P30: 93333 | Q30: 93333 | R30: 17733.27 | S30: 111066.27
A31: RM-3-2041 | B31: 45348 | C31: 5 | D31: 1 | E31: SFA-RS3543 | F31: FILTRO INTERNO DE AIRE | G31: 65000 | H31: 0.19 | I31: 684 | J31: TRACTOR KUBOTA 7040 MODELO: 2011 | K31: =VLOOKUP(J31,'MAQ COTA'!$D$1:$E$76,2,0) -> #N/A | L31: ACTA 01 AÑO 2024 - COTA | M31: 684 | N31: 65000 | O31: 0 | P31: 65000 | Q31: 65000 | R31: 12350 | S31: 77350
A32: RM-3-2041 | B32: 45348 | C32: 6 | D32: 3 | E32: 15W40 | F32: GALON ACEITE MOBIL MX | G32: 147000 | H32: 0 | I32: 667 | J32: TRACTOR KUBOTA 7040 MODELO: 2011 | K32: =VLOOKUP(J32,'MAQ COTA'!$D$1:$E$76,2,0) -> #N/A | L32: ACTA 01 AÑO 2024 - COTA | M32: 667 | N32: 147000 | O32: 0 | P32: 147000 | Q32: 441000 | R32: 0 | S32: 441000
A33: RM-3-2041 | B33: 45348 | C33: 7 | D33: 3 | E33: ISO 68 | F33: GARRAFA ACEITE HIDRAULICO X5GL | G33: 473667 | H33: 0 | I33: 682 | J33: TRACTOR KUBOTA 7040 MODELO: 2011 | K33: =VLOOKUP(J33,'MAQ COTA'!$D$1:$E$76,2,0) -> #N/A | L33: ACTA 01 AÑO 2024 - COTA | M33: 682 | N33: 473667 | O33: 0 | P33: 473667 | Q33: 1421001 | R33: 0 | S33: 1421001
A34: RM-3-2041 | B34: 45348 | C34: 8 | D34: 3 | E34: 80W90 | F34: VALVULINA 5GL | G34: 582333 | H34: 0 | I34: 681 | J34: TRACTOR KUBOTA 7040 MODELO: 2011 | K34: =VLOOKUP(J34,'MAQ COTA'!$D$1:$E$76,2,0) -> #N/A | L34: ACTA 01 AÑO 2024 - COTA | M34: 681 | N34: 582333 | O34: 0 | P34: 582333 | Q34: 1746999 | R34: 0 | S34: 1746999
... A50: RM-3-2044 | B50: 45348 | C50: 8 | D50: 1 | E50: MO00647 | F50: SERVICIO DE MANTENIMIENTO DE FUGAS SISTEMA DE AIRE Y RACORES (4) | G50: 240167 | H50: 0.19 | I50: 230 | J50: VOLQUETA MERCEDES BENZ PLACA: ODT 343 MODELO: 2019 | K50: =VLOOKUP(J50,'MAQ COTA'!$D$1:$E$76,2,0) -> #N/A | L50: ACTA 01 AÑO 2024 - COTA | M50: 230 | N50: 240167 | O50: 0 | P50: 240167 | Q50: 240167 | R50: 45631.73 | S50: 285798.73
A51: RM-3-2051 | B51: 45348 | C51: 1 | D51: 20 | F51: UREA X LITROS | G51: 7000 | H51: 0 | I51: 234 | J51: VOLQUETA MERCEDES BENZ PLACA: ODT 343 MODELO: 2019 | K51: =VLOOKUP(J51,'MAQ COTA'!$D$1:$E$76,2,0) -> #N/A | L51: ACTA 01 AÑO 2024 - COTA | M51: 234 | N51: 7000 | O51: 0 | P51: 7000 | Q51: 140000 | R51: 0 | S51: 140000
A52: RM-3-2051 | B52: 45348 | C52: 2 | D52: 2 | E52: MO00651 | F52: SERVICIO DE GRUA COTA - BOGOTA Y RETORNO BOGOTA COTA | G52: 497000 | H52: 0 | I52: 250 | J52: VOLQUETA MERCEDES BENZ PLACA: ODT 343 MODELO: 2019 | K52: =VLOOKUP(J52,'MAQ COTA'!$D$1:$E$76,2,0) -> #N/A | L52: ACTA 01 AÑO 2024 - COTA | M52: 250 | N52: 497000 | O52: 0 | P52: 497000 | Q52: 994000 | R52: 0 | S52: 994000
A53: RM-3-2051 | B53: 45348 | C53: 4 | D53: 1 | E53: MO00650 | F53: SERVICIO DE ALISTAMIENTO Y PUESTA A PUNTO TECNOMECANICA | G53: 282167 | H53: 0 | I53: 249 | J53: VOLQUETA MERCEDES BENZ PLACA: ODT 343 MODELO: 2019 | K53: =VLOOKUP(J53,'MAQ COTA'!$D$1:$E$76,2,0) -> #N/A | L53: ACTA 01 AÑO 2024 - COTA | M53: 249 | N53: 282167 | O53: 0 | P53: 282167 | Q53: 282167 | R53: 0 | S53: 282167
A54: RM-3-2051 | B54: 45348 | C54: 5 | D54: 1 | E54: MO00653 | F54: MANTENIEMTENTODE CARPA, TERMOFUNDIDO, PESUTA PUNTO | G54: 453500 | H54: 0.19 | I54: 251 | J54: VOLQUETA MERCEDES BENZ PLACA: ODT 343 MODELO: 2019 | K54: =VLOOKUP(J54,'MAQ COTA'!$D$1:$E$76,2,0) -> #N/A | L54: ACTA 01 AÑO 2024 - COTA | M54: 251 | N54: 453500 | O54: 0 | P54: 453500 | Q54: 453500 | R54: 86165 | S54: 539665
A55: RM-3-2051 | B55: 45348 | C55: 6 | D55: 1 | E55: OLP037 | F55: FILTRO DE ACEITE MOTOR | G55: 83667 | H55: 0.19 | I55: 255 | J55: VOLQUETA MERCEDES BENZ PLACA: ODT 343 MODELO: 2019 | K55: =VLOOKUP(J55,'MAQ COTA'!$D$1:$E$76,2,0) -> #N/A | L55: ACTA 01 AÑO 2024 - COTA | M55: 255 | N55: 83667 | O55: 0 | P55: 83667 | Q55: 83667 | R55: 15896.73 | S55: 99563.73
...

Sheet MAQ COTA
A1: BUSETA MARCA CHEVROLET FRR PLACA:ODT306 MODELO:2017 | B1: =VLOOKUP(A1,D:D,1,0) -> BUSETA MARCA CHEVROLET FRR PLACA:ODT306 MODELO:2017 | D1: MENU
A2: BUSETA MARCA HINO PLACA :ODT357 MODELO :2018 | B2: =VLOOKUP(A2,D:D,1,0) -> BUSETA MARCA HINO PLACA :ODT357 MODELO :2018 | D2: CAMIONETA CHEVROLET LUV PLACA:OIL320 MODELO:1997 | E2: SECRETARIA DE GOBIERNO
A3: BUS CHEVROLET ISUZO LV 150 PLACA :OSD445 MODELO :2012 | B3: =VLOOKUP(A3,D:D,1,0) -> BUS CHEVROLET ISUZO LV 150 PLACA :OSD445 MODELO :2012 | D3: TOYOTA PRADO TXL PLACA:OSD494 MODELO :2013 | E3: SECRETARIA DE GOBIERNO
A4: VOLKSWAGEN AMAROW PLACA: OSD483 MODELO :2013 | B4: =VLOOKUP(A4,D:D,1,0) -> VOLKSWAGEN AMAROW PLACA: OSD483 MODELO :2013 | D4: TOYOTA FORTUNER PLACA :OSD380 MODELO:2009 | E4: SECRETARIA DE GOBIERNO
A5: TRACTOR KUBOTA 9540 MOD 2021 | B5: TRACTOR KUBOTA 9540 MODELO "NUEVO" MODELO : 2021 | D5: VOLKSWAGEN AMAROW PLACA: OSD482 MODELO :2013 | E5: SECRETARIA DE INFRAESTRUCTURA Y OBRAS PUBLICAS
A6: TRACTOR KUBOTA 7040 | B6: TRACTOR KUBOTA 7040 MODELO :2011 | D6: TOYOTA HILUX PLACA :OSD351 MODELO :2008 | E6: SECRETARIA DE INFRAESTRUCTURA Y OBRAS PUBLICAS
A7: TRACTOR JOHN DEERE 5090E | B7: TRACTOR JHON DEERE 5090E MODELO :2017 | D7: VOLQUETA MERCEDES BENZ PLACA:ODT343 MODELO:2019 | E7: SECRETARIA DE INFRAESTRUCTURA Y OBRAS PUBLICAS
A8: VOLQUETA MERCEDEZ ODT343 | B8: VOLQUETA MERCEDES BENZ PLACA:ODT343 MODELO:2019 | D8: BUSETA CHEVROLET NPR PLACA:CJD359 MODELO:1999 | E8: SECRETARIA DE INFRAESTRUCTURA Y OBRAS PUBLICAS
A9: CAMIONETA CHEVROLET LUV DMAX PLACA: OSD 456 MODELO:2013 | B9: =VLOOKUP(A9,D:D,1,0) -> CAMIONETA CHEVROLET LUV DMAX PLACA: OSD 456 MODELO:2013 | D9: BUS CHEVROLET ISUZO LV 150 PLACA :OSD445 MODELO :2012 | E9: SECRETARIA DE INFRAESTRUCTURA Y OBRAS PUBLICAS
A10: VOLKSWAGEN AMAROK PLACA:OSD484 MODELO:2013 | B10: =VLOOKUP(A10,D:D,1,0) -> VOLKSWAGEN AMAROK PLACA:OSD484 MODELO:2013 | D10: RETRO EXCABADORA NEW HOLLAND “PAJARITA” MODELO :2012 , LINEA:B95B | E10: SECRETARIA DE INFRAESTRUCTURA Y OBRAS PUBLICAS
A11: DFSK PLACA:ODT459 MODELO :2020 | B11: =VLOOKUP(A11,D:D,1,0) -> DFSK PLACA:ODT459 MODELO :2020 | D11: MOTONIVELADORA CATERPILLAR LINEA 120K MODELO:2013 | E11: SECRETARIA DE INFRAESTRUCTURA Y OBRAS PUBLICAS
A12: CAMIONETA TOYOTA OSD358 | B12: TOYOTA HILUX PLACA:OSD358 MODELO:2009 | D12: MINICARGADOR NEW HOLLAN LINEA:L223 MODELO:2013 | E12: SECRETARIA DE INFRAESTRUCTURA Y OBRAS PUBLICAS
A13: CAMIONETA CHEVROLET LUV DMAX PLACA: OSD434 MODELO:2010 | B13: =VLOOKUP(A13,D:D,1,0) -> CAMIONETA CHEVROLET LUV DMAX PLACA: OSD434 MODELO:2010 | D13: MOTOCICLETA HONDA XLR125 PLACA :JRV80A MODELO:2002 | E13: SECRETARIA DE INFRAESTRUCTURA Y OBRAS PUBLICAS
A14: TRACTOR KUBOTA 9540 MOD 2023 | B14: TRACTOR KUBOTA 9540 MODELO "NUEVO" MODELO : 2021 | D14: MOTOCICLETA SUZUKI VIVA 115 PLACA :QYX59A MODELO:2003 | E14: SECRETARIA DE INFRAESTRUCTURA Y OBRAS PUBLICAS
A15: CAMION FURGON HINO 300 PLACA:JUZ755 MODELO:2022 | B15: =VLOOKUP(A15,D:D,1,0) -> CAMION FURGON HINO 300 PLACA:JUZ755 MODELO:2022 | D15: VOLKSWAGEN AMAROW PLACA: OSD483 MODELO :2013 | E15: SECRETARIA DE DESARROLLO SOCIAL
A16: VOLKSWAGEN AMAROW PLACA: OSD482 MODELO :2013 | B16: =VLOOKUP(A16,D:D,1,0) -> VOLKSWAGEN AMAROW PLACA: OSD482 MODELO :2013 | D16: BUSETA MARCA HINO PLACA :ODT357 MODELO :2018 | E16: SECRETARIA DE DESARROLLO SOCIAL
A17: CAMIONETA CHEVROLET N300 PLACA:ODT 359 MODELO:2018 | B17: =VLOOKUP(A17,D:D,1,0) -> CAMIONETA CHEVROLET N300 PLACA:ODT 359 MODELO:2018 | D17: BUSETA MARCA CHEVROLET FRR PLACA:ODT306 MODELO:2017 | E17: SECRETARIA DE DESARROLLO SOCIAL
A18: BUS MERCEDES BENZ PLACAS: ODT685 MODELO:2023 | B18: =VLOOKUP(A18,D:D,1,0) -> BUS MERCEDES BENZ PLACAS: ODT685 MODELO:2023 | D18: VOLKSWAGEN AMAROK PLACA:OSD484 MODELO:2013 | E18: SECRETARIA DE CULTURA Y JUVENTUDES
A19: GUADAÑAS | B19: GUADAÑAS | D19: CAMION FURGON HINO 300 PLACA:JUZ755 MODELO:2022 | E19: SECRETARIA DE CULTURA Y JUVENTUDES
A20: CHIPIADORA DE MALEZA -AGRICOLA | B20: IMPLEMENTO AGRICOLA CHIPIADORA | D20: BUS MERCEDES BENZ PLACAS: ODT685 MODELO:2023 | E20: SECRETARIA DE CULTURA Y JUVENTUDES
A21: MOTOCICLETAS POLICIA COTA | B21: MOTOCICLETAS POLICIA COTA | D21: TOYOTA HILUX PLACA:OSD358 MODELO:2009 | E21: SECRETARIA SAMADE
A22: CAMIONETA TOYOTA PLACA OSD 351 | B22: TOYOTA HILUX PLACA :OSD351 MODELO :2008 | D22: DFSK PLACA:ODT459 MODELO :2020 | E22: SECRETARIA SAMADE
A23: CTR58C HONDA XR300 MODELO:2018 | B23: HONDA XR300 PLACAS: CTR58C MODELO:2018 | D23: MOTOCICLETA HONDA XR125 PLACA :PUJ45D MODELO:2015 | E23: SECRETARIA SAMADE
A24: CTR60C HONDA XR300 MODELO:201 | B24: HONDA XR300 PLACAS: CTR60C MODELO:2018 | D24: MOTOCICLETA YAMAHA XTZ125 PLACA: LCG07G MODELO :2023 | E24: SECRETARIA SAMADE
A25: CTR64C HONDA XR300 MODELO:2018 | B25: HONDA XR300 PLACAS: CTR64C MODELO:2018 | D25: TRACTOR KUBOTA 7040 MODELO :2011 | E25: SECRETARIA SAMADE
A26: MOTO POLICIA PLACA CTR67E | B26: SUZUKI DR650 PLACAS: CTR67C MODELO:2019 | D26: TRACTOR JHON DEERE 5090E MODELO :2017 | E26: SECRETARIA SAMADE
A27: MOTO POLICIA PLACA CTR68E | B27: SUZUKI DR650 PLACAS: CTR68C MODELO:2018 | D27: TRACTOR KUBOTA 9540 MODELO2015 | E27: SECRETARIA SAMADE
A28: MOTO POLICIA PLACA CTR69E | B28: SUZUKI DR650 PLACAS: CTR69C MODELO:2018 | D28: TRACTOR KUBOTA 9540 MODELO "NUEVO" MODELO : 2021 | E28: SECRETARIA SAMADE
A29: CAMIONETA LUV PLACA OIL320 | B29: CAMIONETA CHEVROLET LUV PLACA:OIL320 MODELO:1997 | D29: MOTO CARGUERO PLACA 240AAO MODELO 2023 | E29: SECRETARIA SAMADE
A30: CAMIONETA TOYOTA OSD353 | B30: TOYOTA HILUX PLACA :OSD351 MODELO :2008 | D30: MOTO CARGUERO PLACA 241AAO MODELO 2023 | E30: SECRETARIA SAMADE
... A68: TRACTOR KUBOTA 9540 MOD 2015 | B68: TRACTOR KUBOTA 9540 MODELO2015 | D68: VIBROCOMPACTADOR AMMANN PLACA:OSD494 | E68: SECRETARIA DE INFRAESTRUCTURA Y OBRAS PUBLICAS
A69: BUSETA CHEVROLET NPR PLACA:CJD359 MODELO:1999 | B69: BUSETA CHEVROLET NPR PLACA:CJD359 MODELO:1999 | D69: GUADAÑAS
A70: MINICOMPACTADOR MANUAL | B70: MINICOMPACTADOR MANUAL - NUEVO MENU | D70: MOTOCICLETAS POLICIA COTA
A71: PARSELADORA | B71: PARSELADORA - NUEVO MENU | D71: CAMIONETA DUSTER ODT-706 NUEVA MENU
A72: TRACTOR KUBOTA 9540 MODELO2015 | B72: TRACTOR KUBOTA 9540 MODELO2015 | D72: CAMIONETA DUSTER ODT-707 NUEVA MENU
A73: TOYOTA HILUX PLACA OSD 358 | B73: TOYOTA HILUX PLACA:OSD358 MODELO:2009 | D73: MINICOMPACTADOR MANUAL - NUEVO MENU
A74: VIBROCOMPACTADOR AMMANN ASC 70D | B74: VIBROCOMPACTADOR AMMANN PLACA:OSD494 | D74: PARSELADORA - NUEVO MENU
A75: IMPLEMENTO AGRICOLA RAYADORA DE MAIZ O ARADO DE VERTEDERA | B75: IMPLEMENTO AGRICOLA RAYADORA DE MAIZ O ARADO DE VERTEDERA | D75: EQUIPOS VARIOS SEGUN RELACION
A76: MOTONIVELADORA CATERPILLAR 120K | B76: MOTONIVELADORA CATERPILLAR LINEA 120K MODELO:2013 | D76: PLANTA ELECTRICA - NUEVO MENU
A77: CAMIONETA PRADO TXL PLACA OSD 494 MODELO 2013 | B77: TOYOTA PRADO TXL PLACA:OSD494 MODELO :2013
...

Sheet PRESUPUESTO 
B3: ALCALDIA DE COTA - CUNDINAMARCA | F3: PROPUESTA
A4: SECRETARIA | B4: ITEM | C4: DESCRIPCION | D4: UNIDAD DE MEDIDA | E4: CANTIDAD | F4: VALOR UNITARIO | G4: IVA % | H4: VALOR IVA | I4: VALOR TOTAL UNITARIO IVA INCLUIDO
A5: SECRETARIA DE CULTURA Y JUVENTUDES | B5: SECRETARIA DE CULTURA
A6: SECRETARIA DE CULTURA Y JUVENTUDES | B6: NN | C6: VOLKSWAGEN AMAROK
A7: SECRETARIA DE CULTURA Y JUVENTUDES | B7: NN | C7: PLACA:OSD484
A8: SECRETARIA DE CULTURA Y JUVENTUDES | B8: NN | C8: MODELO:2013
A9: SECRETARIA DE CULTURA Y JUVENTUDES | B9: NN | C9: MANTENIMIENTO
A10: SECRETARIA DE CULTURA Y JUVENTUDES | B10: 1 | C10: KIT DE REPARTICIÓN | D10: KIT | E10: 1 | G10: 0.19 | H10: =F10*G10 -> 0 | I10: =(F10+H10) -> 0
A11: SECRETARIA DE CULTURA Y JUVENTUDES | B11: 2 | C11: ACEITE CAJA X GLN | D11: GALON | E11: 1 | G11: 0 | H11: =F11*G11 -> 0 | I11: =(F11+H11) -> 0
A12: SECRETARIA DE CULTURA Y JUVENTUDES | B12: 3 | C12: CORREA DE ACCESORIOS | D12: UNIDAD | E12: 1 | G12: 0.19 | H12: =F12*G12 -> 0 | I12: =(F12+H12) -> 0
A13: SECRETARIA DE CULTURA Y JUVENTUDES | B13: 4 | C13: CAMBIO CORREA | D13: UNIDAD | E13: 1 | G13: 0.19 | H13: =F13*G13 -> 0 | I13: =(F13+H13) -> 0
A14: SECRETARIA DE CULTURA Y JUVENTUDES | B14: 5 | C14: TRANSFER 4X4 | D14: UNIDAD | E14: 1 | G14: 0.19 | H14: =F14*G14 -> 0 | I14: =(F14+H14) -> 0
A15: SECRETARIA DE CULTURA Y JUVENTUDES | B15: 6 | C15: SERVICIO TORNO | D15: UNIDAD | E15: 1 | G15: 0.19 | H15: =F15*G15 -> 0 | I15: =(F15+H15) -> 0
A16: SECRETARIA DE CULTURA Y JUVENTUDES | B16: 7 | C16: SERVICIO ESCÁNER | D16: UNIDAD | E16: 1 | G16: 0.19 | H16: =F16*G16 -> 0 | I16: =(F16+H16) -> 0
A17: SECRETARIA DE CULTURA Y JUVENTUDES | B17: 8 | C17: REPARACIÓN FUGA REFRIGERANTE MOTOR | D17: UNIDAD | E17: 1 | G17: 0.19 | H17: =F17*G17 -> 0 | I17: =(F17+H17) -> 0
A18: SECRETARIA DE CULTURA Y JUVENTUDES | B18: 9 | C18: REPARACIÓN FALLA SUSPENSIÓN DELANTERA | D18: UNIDAD | E18: 1 | G18: 0.19 | H18: =F18*G18 -> 0 | I18: =(F18+H18) -> 0
A19: SECRETARIA DE CULTURA Y JUVENTUDES | B19: 10 | C19: REPARACIÓN FALLA SISTEMA REFRIGERACIÓN | D19: UNIDAD | E19: 1 | G19: 0.19 | H19: =F19*G19 -> 0 | I19: =(F19+H19) -> 0
A20: SECRETARIA DE CULTURA Y JUVENTUDES | B20: 11 | C20: REPARACIÓN FALLA SISTEMA ELEVA VIDRIO | D20: UNIDAD | E20: 1 | G20: 0.19 | H20: =F20*G20 -> 0 | I20: =(F20+H20) -> 0
A21: SECRETARIA DE CULTURA Y JUVENTUDES | B21: 12 | C21: REPARACIÓN FALLA SISTEMA ABS | D21: UNIDAD | E21: 1 | G21: 0.19 | H21: =F21*G21 -> 0 | I21: =(F21+H21) -> 0
... A103: SECRETARIA DE CULTURA Y JUVENTUDES | B103: 94 | C103: VOLANTE CON MASA COMPLETA | D103: UNIDAD | E103: 1 | G103: 0.19 | H103: =F103*G103 -> 0 | I103: =(F103+H103) -> 0
C104: TOTAL
A105: SECRETARIA DE CULTURA Y JUVENTUDES | B105: NN | C105: CAMION FURGON HINO 300
A106: SECRETARIA DE CULTURA Y JUVENTUDES | B106: NN | C106: PLACA:JUZ755
A107: SECRETARIA DE CULTURA Y JUVENTUDES | B107: NN | C107: MODELO:2022
A108: SECRETARIA DE CULTURA Y JUVENTUDES | B108: NN | C108: MANTENIMIENTO
A109: SECRETARIA DE CULTURA Y JUVENTUDES | B109: 95 | C109: REVISIÓN Y MANTENIMIENTO DE INSTALACIÓN ELECTRICA | D109: UNIDAD | E109: 1 | G109: 0.19 | H109: =F109*G109 -> 0 | I109: =(F109+H109) -> 0
A110: SECRETARIA DE CULTURA Y JUVENTUDES | B110: 96 | C110: CAMBIO LUCES LATERALES | D110: UNIDAD | E110: 1 | G110: 0.19 | H110: =F110*G110 -> 0 | I110: =(F110+H110) -> 0
A111: SECRETARIA DE CULTURA Y JUVENTUDES | B111: 97 | C111: CAMBIO BOMBILLERIA LUCES TRASERAS | D111: UNIDAD | E111: 1 | G111: 0.19 | H111: =F111*G111 -> 0 | I111: =(F111+H111) -> 0
A112: SECRETARIA DE CULTURA Y JUVENTUDES | B112: 98 | C112: VIDRIO FIJO 100*33 | D112: UNIDAD | E112: 1 | G112: 0.19 | H112: =F112*G112 -> 0 | I112: =(F112+H112) -> 0
A113: SECRETARIA DE CULTURA Y JUVENTUDES | B113: 99 | C113: ACEITE MOTOR X 1/4 | D113: CUARTO | E113: 1 | G113: 0 | H113: =F113*G113 -> 0 | I113: =(F113+H113) -> 0
A114: SECRETARIA DE CULTURA Y JUVENTUDES | B114: 100 | C114: ACEITE MOTOR X GLN | D114: GALON | E114: 1 | G114: 0 | H114: =F114*G114 -> 0 | I114: =(F114+H114) -> 0
A115: SECRETARIA DE CULTURA Y JUVENTUDES | B115: 101 | C115: ACEITE DE TRANSMISION 1/4 | D115: CUARTO | E115: 1 | G115: 0 | H115: =F115*G115 -> 0 | I115: =(F115+H115) -> 0
A116: SECRETARIA DE CULTURA Y JUVENTUDES | B116: 102 | C116: ACEITE DE TRANSMISION X GLN | D116: GALON | E116: 1 | G116: 0 | H116: =F116*G116 -> 0 | I116: =(F116+H116) -> 0
A117: SECRETARIA DE CULTURA Y JUVENTUDES | B117: 103 | C117: ACEITE HIDRAULICO X 1/4 | D117: CUARTO | E117: 1 | G117: 0 | H117: =F117*G117 -> 0 | I117: =(F117+H117) -> 0
A118: SECRETARIA DE CULTURA Y JUVENTUDES | B118: 104 | C118: ACEITE HIDRAULICO X GLN | D118: GALON | E118: 1 | G118: 0 | H118: =F118*G118 -> 0 | I118: =(F118+H118) -> 0
A119: SECRETARIA DE CULTURA Y JUVENTUDES | B119: 105 | C119: FILTRO DE ACEITE | D119: UNIDAD | E119: 1 | G119: 0.19 | H119: =F119*G119 -> 0 | I119: =(F119+H119) -> 0
A120: SECRETARIA DE CULTURA Y JUVENTUDES | B120: 106 | C120: FILTRO DE AIRE | D120: UNIDAD | E120: 1 | G120: 0.19 | H120: =F120*G120 -> 0 | I120: =(F120+H120) -> 0
... A138: SECRETARIA DE CULTURA Y JUVENTUDES | B138: 124 | C138: REFRIGERANTE X GLN | D138: GALON | E138: 1 | G138: 0.19 | H138: =F138*G138 -> 0 | I138: =(F138+H138) -> 0
C139: TOTAL
A140: SECRETARIA DE CULTURA Y JUVENTUDES | B140: NN | C140: BUS MERCEDES BENZ
...

Sheet REMISIONES
A1: REMISION | B1: FECHA | C1: CIUDAD | D1: IDENTIFICACION CLIENTE | E1: CLIENTE | F1: DIRECCION | G1: CORREO | H1: TELÉFONO | I1: N° | J1: CANTIDAD | K1: REFERENCIA | L1: DESCRIPCIÓN | M1: V UNITARIO | N1: IVA | O1: NOTA | P1: MÁQUINA/PLACA | Q1: UNIDAD | R1: FACTURA DISMAQ | S1: ACTA | T1: ITEM MENU | U1: PRECIO NC | V1: PRECIO MENU | W1: PRECIO UNITARIO SIN IVA | X1: TOTAL SIN IVA | Y1: VALOR IVA | Z1: TOTAL CON IVA
A2: RM-3-2017 | B2: 45337 | C2: COTA | D2: 899999705 | E2: ALCALDIA DE COTA | F2: KR 4 12 63 | G2: contratacion@alcaldiacota.gov.co | H2: 3161800 | I2: 1 | J2: 1 | K2: MO00642 | L2: TECNOMECANICA CAMIONETA | M2: 510000 | N2: 0.19 | O2: NC | P2: EQUIPOS VARIOS TECNOMECANICA SEGUN RELACION - NUEVO | Q2: UNIDAD | S2: ACTA 03 AÑO 2025 - COTA | T2: NC | U2: 510000 | V2: 0 | W2: 510000 | X2: 510000 | Y2: 96900 | Z2: 606900
A3: RM-3-2017 | B3: 45337 | C3: COTA | D3: 899999705 | E3: ALCALDIA DE COTA | F3: KR 4 12 63 | G3: contratacion@alcaldiacota.gov.co | H3: 3161800 | I3: 2 | J3: 1 | K3: MO00642 | L3: TECNOMECANICA BUSETON HINO PLACA ODT 357 | M3: 620000 | N3: 0.19 | O3: NC | P3: EQUIPOS VARIOS TECNOMECANICA SEGUN RELACION - NUEVO | Q3: UNIDAD | S3: ACTA 03 AÑO 2025 - COTA | T3: NC | U3: 620000 | V3: 0 | W3: 620000 | X3: 620000 | Y3: 117800 | Z3: 737800
A4: RM-3-2051 | B4: 45348 | C4: COTA | D4: 899999705 | E4: ALCALDIA DE COTA | F4: KR 4 12 63 | G4: contratacion@alcaldiacota.gov.co | H4: 3161800 | I4: 3 | J4: 1 | K4: MO00650 | L4: TECNOMECANICA VOLQUETA | M4: 590000 | N4: 0.19 | O4: NC | P4: EQUIPOS VARIOS TECNOMECANICA SEGUN RELACION - NUEVO | Q4: UNIDAD | S4: ACTA 03 AÑO 2025 - COTA | T4: NC | U4: 590000 | V4: 0 | W4: 590000 | X4: 590000 | Y4: 112100 | Z4: 702100
A5: RM-3-2055 | B5: 45348 | C5: COTA | D5: 899999705 | E5: ALCALDIA DE COTA | F5: KR 4 12 63 | G5: contratacion@alcaldiacota.gov.co | H5: 3161800 | I5: 1 | J5: 1 | K5: MO00651 | L5: SERVICIO DE GRUA COTA - BOGOTA (ESTABA PAGA EN ACTA 1) | M5: 382333 | N5: 0 | O5: 838 | P5: CAMIONETA CHEVROLET LUV DMAX PLACA: OSD 456 MODELO: 2013 | S5: ACTA 03 AÑO 2025 - COTA | T5: 838 | U5: 382333 | V5: 0 | W5: 382333 | X5: 382333 | Y5: 0 | Z5: 382333
A6: RM-3-2055 | B6: 45348 | C6: COTA | D6: 899999705 | E6: ALCALDIA DE COTA | F6: KR 4 12 63 | G6: contratacion@alcaldiacota.gov.co | H6: 3161800 | I6: 2 | J6: 1 | K6: MO00651 | L6: SERVICIO DE GRUA COTA - BOGOTA (ESTABA PAGA EN ACTA 1) | M6: 382833 | N6: 0 | O6: 499 | P6: VOLKSWAGEN AMAROK PLACA: OSD 484 MODELO: 2013 | S6: ACTA 03 AÑO 2025 - COTA | T6: 499 | U6: 382833 | V6: 0 | W6: 382833 | X6: 382833 | Y6: 0 | Z6: 382833
A7: RM-3-2068 | B7: 45361 | C7: COTA | D7: 899999705 | E7: ALCALDIA DE COTA | F7: KR 4 12 63 | G7: contratacion@alcaldiacota.gov.co | H7: 3161800 | I7: 2 | J7: 1 | K7: 94R-1100 | L7: BATERIA WILLAND EXTREMA (ESTABA PAGA EN ACTA 1) | M7: 773333 | N7: 0.19 | O7: NC | P7: TRACTOR KUBOTA 7040 MODELO: 2011 | Q7: UNIDAD | S7: ACTA 03 AÑO 2025 - COTA | T7: NC | U7: 773333 | V7: 0 | W7: 773333 | X7: 773333 | Y7: 146933.27 | Z7: 920266.27
A8: RM-3-2069 | B8: 45361 | C8: COTA | D8: 899999705 | E8: ALCALDIA DE COTA | F8: KR 4 12 63 | G8: contratacion@alcaldiacota.gov.co | H8: 3161800 | I8: 1 | J8: 1 | K8: MO00655 | L8: REVISION TECNOMECANICA | M8: 470000 | N8: 0.19 | O8: NC | P8: EQUIPOS VARIOS TECNOMECANICA SEGUN RELACION - NUEVO | Q8: UNIDAD | S8: ACTA 03 AÑO 2025 - COTA | T8: NC | U8: 470000 | V8: 0 | W8: 470000 | X8: 470000 | Y8: 89300 | Z8: 559300
A9: RM-3-2106 | B9: 45372 | C9: COTA | D9: 899999705 | E9: ALCALDIA DE COTA | F9: KR 4 12 63 | G9: contratacion@alcaldiacota.gov.co | H9: 3161800 | I9: 1 | J9: 1 | K9: MO00685 | L9: SERVICIO DE TECNOMECANICA | M9: 396000 | N9: 0.19 | O9: NC | P9: EQUIPOS VARIOS TECNOMECANICA SEGUN RELACION - NUEVO | Q9: UNIDAD | S9: ACTA 03 AÑO 2025 - COTA | T9: NC | U9: 396000 | V9: 0 | W9: 396000 | X9: 396000 | Y9: 75240 | Z9: 471240
A10: RM-3-2128 | B10: 45379 | C10: COTA | D10: 899999705 | E10: ALCALDIA DE COTA | F10: KR 4 12 63 | G10: contratacion@alcaldiacota.gov.co | H10: 3161800 | I10: 4 | J10: 1 | K10: MO00677 | L10: SERVICIO DE GRUA X VARADA CAMIONETA AMAROK (ESTABA PAGA EN ACTA 1) | M10: 371167 | N10: 0.19 | O10: 419 | P10: VOLKSWAGEN AMAROW PLACA: OSD 483 MODELO: 2013 | S10: ACTA 03 AÑO 2025 - COTA | T10: 419 | U10: 371167 | V10: 0 | W10: 371167 | X10: 371167 | Y10: 70521.73 | Z10: 441688.73
A11: RM-3-2147 | B11: 45388 | C11: COTA | D11: 899999705 | E11: ALCALDIA DE COTA | F11: KR 4 12 63 | G11: contratacion@alcaldiacota.gov.co | H11: 3161800 | I11: 3 | J11: 1 | K11: MO00682 | L11: TECNOMECANICA | M11: 570000 | N11: 0.19 | O11: NC | P11: EQUIPOS VARIOS TECNOMECANICA SEGUN RELACION - NUEVO | Q11: UNIDAD | S11: ACTA 03 AÑO 2025 - COTA | T11: NC | U11: 570000 | V11: 0 | W11: 570000 | X11: 570000 | Y11: 108300 | Z11: 678300
A12: RM-3-2167 | B12: 45394 | C12: COTA | D12: 899999705 | E12: ALCALDIA DE COTA | F12: KR 4 12 63 | G12: contratacion@alcaldiacota.gov.co | H12: 3161800 | I12: 1 | J12: 1 | K12: MO00691 | L12: SERVICIO DE TECNOMECANICA | M12: 430000 | N12: 0.19 | O12: NC | P12: EQUIPOS VARIOS TECNOMECANICA SEGUN RELACION - NUEVO | Q12: UNIDAD | S12: ACTA 03 AÑO 2025 - COTA | T12: NC | U12: 430000 | V12: 0 | W12: 430000 | X12: 430000 | Y12: 81700 | Z12: 511700
A13: RM-3-2180 | B13: 45398 | C13: COTA | D13: 899999705 | E13: ALCALDIA DE COTA | F13: KR 4 12 63 | G13: contratacion@alcaldiacota.gov.co | H13: 3161800 | I13: 4 | J13: 24 | K13: LUAUM0602 | L13: CAJA DE ACEITE 2T * 24 CUATOS | M13: 24500 | N13: 0 | O13: NC | P13: GUADAÑAS NUEVO MENU | Q13: UNIDAD | S13: ACTA 03 AÑO 2025 - COTA | T13: NC | U13: 24500 | V13: 0 | W13: 24500 | X13: 588000 | Y13: 0 | Z13: 588000
A14: RM-3-2195 | B14: 45401 | C14: COTA | D14: 899999705 | E14: ALCALDIA DE COTA | F14: KR 4 12 63 | G14: contratacion@alcaldiacota.gov.co | H14: 3161800 | I14: 6 | J14: 1 | K14: H03024 | L14: Batería | M14: 183667 | N14: 0.19 | O14: NC | P14: HONDA XR300 PLACAS: CTR 65C MODELO: 2018 | Q14: UNIDAD | S14: ACTA 03 AÑO 2025 - COTA | T14: NC | U14: 183667 | V14: 0 | W14: 183667 | X14: 183667 | Y14: 34896.73 | Z14: 218563.73
A15: RM-3-2195 | B15: 45401 | C15: COTA | D15: 899999705 | E15: ALCALDIA DE COTA | F15: KR 4 12 63 | G15: contratacion@alcaldiacota.gov.co | H15: 3161800 | I15: 7 | J15: 1 | K15: H03024 | L15: Batería | M15: 183667 | N15: 0.19 | O15: NC | P15: HONDA XR300 PLACAS: CTR 59C MODELO: 2018 | Q15: UNIDAD | S15: ACTA 03 AÑO 2025 - COTA | T15: NC | U15: 183667 | V15: 0 | W15: 183667 | X15: 183667 | Y15: 34896.73 | Z15: 218563.73
A16: RM-3-2207 | B16: 45407 | C16: COTA | D16: 899999705 | E16: ALCALDIA DE COTA | F16: KR 4 12 63 | G16: contratacion@alcaldiacota.gov.co | H16: 3161800 | I16: 5 | J16: 1 | K16: MO00698 | L16: SINCRONIZAR MOTOR (YA ESTABA PAGA EN ACTA 1) | M16: 208833 | N16: 0.19 | O16: 622 | P16: DFSK PLACA: ODT 459 MODELO: 2020 | S16: ACTA 03 AÑO 2025 - COTA | T16: 622 | U16: 208833 | V16: 0 | W16: 208833 | X16: 208833 | Y16: 39678.27 | Z16: 248511.27
A17: RM-3-2207 | B17: 45407 | C17: COTA | D17: 899999705 | E17: ALCALDIA DE COTA | F17: KR 4 12 63 | G17: contratacion@alcaldiacota.gov.co | H17: 3161800 | I17: 7 | J17: 1 | K17: MO00698 | L17: INSTALACION ALTA (ESTABA PAGA EN ACTA 1) | M17: 132500 | N17: 0.19 | O17: 624 | P17: DFSK PLACA: ODT 459 MODELO: 2020 | S17: ACTA 03 AÑO 2025 - COTA | T17: 624 | U17: 132500 | V17: 0 | W17: 132500 | X17: 132500 | Y17: 25175 | Z17: 157675
A18: RM-3-2219 | B18: 45412 | C18: COTA | D18: 899999705 | E18: ALCALDIA DE COTA | F18: KR 4 12 63 | G18: contratacion@alcaldiacota.gov.co | H18: 3161800 | I18: 1 | J18: 1 | K18: MO00703 | L18: TECNOMECANICA MOTO POLICIA PLACA CTR58C | M18: 350000 | N18: 0.19 | O18: NC | P18: EQUIPOS VARIOS TECNOMECANICA SEGUN RELACION - NUEVO | Q18: UNIDAD | S18: ACTA 03 AÑO 2025 - COTA | T18: NC | U18: 350000 | V18: 0 | W18: 350000 | X18: 350000 | Y18: 66500 | Z18: 416500
A19: RM-3-2219 | B19: 45412 | C19: COTA | D19: 899999705 | E19: ALCALDIA DE COTA | F19: KR 4 12 63 | G19: contratacion@alcaldiacota.gov.co | H19: 3161800 | I19: 2 | J19: 1 | K19: MO00703 | L19: ALISTAMIENTO MOTO PARA TECNOMECANICA | M19: 80000 | N19: 0.19 | O19: NC | P19: EQUIPOS VARIOS TECNOMECANICA SEGUN RELACION - NUEVO | Q19: UNIDAD | S19: ACTA 03 AÑO 2025 - COTA | T19: NC | U19: 80000 | V19: 0 | W19: 80000 | X19: 80000 | Y19: 15200 | Z19: 95200
A20: RM-3-2219 | B20: 45412 | C20: COTA | D20: 899999705 | E20: ALCALDIA DE COTA | F20: KR 4 12 63 | G20: contratacion@alcaldiacota.gov.co | H20: 3161800 | I20: 3 | J20: 1 | K20: MO00703 | L20: TECNOMECANICA MOTO POLICIA PLACA CTR60C | M20: 350000 | N20: 0.19 | O20: NC | P20: EQUIPOS VARIOS TECNOMECANICA SEGUN RELACION - NUEVO | Q20: UNIDAD | S20: ACTA 03 AÑO 2025 - COTA | T20: NC | U20: 350000 | V20: 0 | W20: 350000 | X20: 350000 | Y20: 66500 | Z20: 416500
A21: RM-3-2219 | B21: 45412 | C21: COTA | D21: 899999705 | E21: ALCALDIA DE COTA | F21: KR 4 12 63 | G21: contratacion@alcaldiacota.gov.co | H21: 3161800 | I21: 4 | J21: 1 | K21: MO00703 | L21: ALISTAMIENTO MOTO PARA TECNOMECANICA | M21: 80000 | N21: 0.19 | O21: NC | P21: EQUIPOS VARIOS TECNOMECANICA SEGUN RELACION - NUEVO | Q21: UNIDAD | S21: ACTA 03 AÑO 2025 - COTA | T21: NC | U21: 80000 | V21: 0 | W21: 80000 | X21: 80000 | Y21: 15200 | Z21: 95200
A22: RM-3-2219 | B22: 45412 | C22: COTA | D22: 899999705 | E22: ALCALDIA DE COTA | F22: KR 4 12 63 | G22: contratacion@alcaldiacota.gov.co | H22: 3161800 | I22: 5 | J22: 1 | K22: MO00703 | L22: TECNOMECANICA MOTO POLICIA PLACA CTR64C | M22: 350000 | N22: 0.19 | O22: NC | P22: EQUIPOS VARIOS TECNOMECANICA SEGUN RELACION - NUEVO | Q22: UNIDAD | S22: ACTA 03 AÑO 2025 - COTA | T22: NC | U22: 350000 | V22: 0 | W22: 350000 | X22: 350000 | Y22: 66500 | Z22: 416500
A23: RM-3-2219 | B23: 45412 | C23: COTA | D23: 899999705 | E23: ALCALDIA DE COTA | F23: KR 4 12 63 | G23: contratacion@alcaldiacota.gov.co | H23: 3161800 | I23: 6 | J23: 1 | K23: MO00703 | L23: ALISTAMIENTO MOTO PARA TECNOMECANICA | M23: 80000 | N23: 0.19 | O23: NC | P23: EQUIPOS VARIOS TECNOMECANICA SEGUN RELACION - NUEVO | Q23: UNIDAD | S23: ACTA 03 AÑO 2025 - COTA | T23: NC | U23: 80000 | V23: 0 | W23: 80000 | X23: 80000 | Y23: 15200 | Z23: 95200
A24: RM-3-2219 | B24: 45412 | C24: COTA | D24: 899999705 | E24: ALCALDIA DE COTA | F24: KR 4 12 63 | G24: contratacion@alcaldiacota.gov.co | H24: 3161800 | I24: 7 | J24: 1 | K24: MO00703 | L24: TECNOMECANICA MOTO POLICIA PLACA CTR67E | M24: 350000 | N24: 0.19 | O24: NC | P24: EQUIPOS VARIOS TECNOMECANICA SEGUN RELACION - NUEVO | Q24: UNIDAD | S24: ACTA 03 AÑO 2025 - COTA | T24: NC | U24: 350000 | V24: 0 | W24: 350000 | X24: 350000 | Y24: 66500 | Z24: 416500
A25: RM-3-2219 | B25: 45412 | C25: COTA | D25: 899999705 | E25: ALCALDIA DE COTA | F25: KR 4 12 63 | G25: contratacion@alcaldiacota.gov.co | H25: 3161800 | I25: 8 | J25: 1 | K25: MO00703 | L25: ALISTAMIENTO MOTO PARA TECNOMECANICA | M25: 80000 | N25: 0.19 | O25: NC | P25: EQUIPOS VARIOS TECNOMECANICA SEGUN RELACION - NUEVO | Q25: UNIDAD | S25: ACTA 03 AÑO 2025 - COTA | T25: NC | U25: 80000 | V25: 0 | W25: 80000 | X25: 80000 | Y25: 15200 | Z25: 95200
A26: RM-3-2219 | B26: 45412 | C26: COTA | D26: 899999705 | E26: ALCALDIA DE COTA | F26: KR 4 12 63 | G26: contratacion@alcaldiacota.gov.co | H26: 3161800 | I26: 9 | J26: 1 | K26: MO00703 | L26: TECNOMECANICA MOTO POLICIA PLACA CTR68E | M26: 350000 | N26: 0.19 | O26: NC | P26: EQUIPOS VARIOS TECNOMECANICA SEGUN RELACION - NUEVO | Q26: UNIDAD | S26: ACTA 03 AÑO 2025 - COTA | T26: NC | U26: 350000 | V26: 0 | W26: 350000 | X26: 350000 | Y26: 66500 | Z26: 416500
A27: RM-3-2219 | B27: 45412 | C27: COTA | D27: 899999705 | E27: ALCALDIA DE COTA | F27: KR 4 12 63 | G27: contratacion@alcaldiacota.gov.co | H27: 3161800 | I27: 10 | J27: 1 | K27: MO00703 | L27: ALISTAMIENTO MOTO PARA TECNOMECANICA | M27: 80000 | N27: 0.19 | O27: NC | P27: EQUIPOS VARIOS TECNOMECANICA SEGUN RELACION - NUEVO | Q27: UNIDAD | S27: ACTA 03 AÑO 2025 - COTA | T27: NC | U27: 80000 | V27: 0 | W27: 80000 | X27: 80000 | Y27: 15200 | Z27: 95200
A28: RM-3-2219 | B28: 45412 | C28: COTA | D28: 899999705 | E28: ALCALDIA DE COTA | F28: KR 4 12 63 | G28: contratacion@alcaldiacota.gov.co | H28: 3161800 | I28: 11 | J28: 1 | K28: MO00703 | L28: TECNOMECANICA MOTO POLICIA PLACA CTR69E | M28: 350000 | N28: 0.19 | O28: NC | P28: EQUIPOS VARIOS TECNOMECANICA SEGUN RELACION - NUEVO | Q28: UNIDAD | S28: ACTA 03 AÑO 2025 - COTA | T28: NC | U28: 350000 | V28: 0 | W28: 350000 | X28: 350000 | Y28: 66500 | Z28: 416500
A29: RM-3-2219 | B29: 45412 | C29: COTA | D29: 899999705 | E29: ALCALDIA DE COTA | F29: KR 4 12 63 | G29: contratacion@alcaldiacota.gov.co | H29: 3161800 | I29: 12 | J29: 1 | K29: MO00703 | L29: ALISTAMIENTO MOTO PARA TECNOMECANICA | M29: 80000 | N29: 0.19 | O29: NC | P29: EQUIPOS VARIOS TECNOMECANICA SEGUN RELACION - NUEVO | Q29: UNIDAD | S29: ACTA 03 AÑO 2025 - COTA | T29: NC | U29: 80000 | V29: 0 | W29: 80000 | X29: 80000 | Y29: 15200 | Z29: 95200
A30: RM-3-2247 | B30: 45418 | C30: COTA | D30: 899999705 | E30: ALCALDIA DE COTA | F30: KR 4 12 63 | G30: contratacion@alcaldiacota.gov.co | H30: 3161800 | I30: 2 | J30: 1 | K30: MO00709 | L30: CAMBIO DE PASTILLAS FRENOS DELANTERAS Y TRASERAS | M30: 98000 | N30: 0.19 | O30: NC | P30: HONDA XR300 PLACAS: CTR 63C MODELO: 2018 | Q30: UNIDAD | S30: ACTA 03 AÑO 2025 - COTA | T30: NC | U30: 98000 | V30: 0 | W30: 98000 | X30: 98000 | Y30: 18620 | Z30: 116620
A31: RM-3-2309 | B31: 45426 | C31: COTA | D31: 899999705 | E31: ALCALDIA DE COTA | F31: KR 4 12 63 | G31: contratacion@alcaldiacota.gov.co | H31: 3161800 | I31: 30 | J31: 1 | K31: MO00723 | L31: REPARACION FALLA CAJA CAMBIOS (QUEDO PAGA EN ACTA 1, SE REMISIONA EN ACTA 3) | M31: 705500 | N31: 0.19 | O31: 198 | P31: TOYOTA HILUX PLACA: OSD 351 MODELO: 2008 | S31: ACTA 03 AÑO 2025 - COTA | T31: 198 | U31: 705500 | V31: 0 | W31: 705500 | X31: 705500 | Y31: 134045 | Z31: 839545
A32: RM-3-2309 | B32: 45426 | C32: COTA | D32: 899999705 | E32: ALCALDIA DE COTA | F32: KR 4 12 63 | G32: contratacion@alcaldiacota.gov.co | H32: 3161800 | I32: 34 | J32: 1 | K32: MO00723 | L32: REVISION TECNOMECANICA | M32: 375000 | N32: 0.19 | O32: NC | P32: EQUIPOS VARIOS TECNOMECANICA SEGUN RELACION - NUEVO | Q32: UNIDAD | S32: ACTA 03 AÑO 2025 - COTA | T32: NC | U32: 375000 | V32: 0 | W32: 375000 | X32: 375000 | Y32: 71250 | Z32: 446250
A33: RM-3-2477 | B33: 45408 | C33: COTA | D33: 899999705 | E33: ALCALDIA DE COTA | F33: KR 4 12 63 | G33: contratacion@alcaldiacota.gov.co | H33: 3161800 | I33: 5 | J33: 1 | K33: FOL010 | L33: 2 FILTRO DE COMBUSTIBLE ITEM 220 (SE REEMPLAZAN POR EL ITEM 225 EN ACTA 3, ESTABA PAGADO EN ACTA 1) | M33: 181000 | N33: 0.19 | O33: 225 | P33: TOYOTA HILUX PLACA: OSD 351 MODELO: 2008 | S33: ACTA 03 AÑO 2025 - COTA | T33: 225 | U33: 181000 | V33: 0 | W33: 181000 | X33: 181000 | Y33: 34390 | Z33: 215390
A34: RM-3-2477 | B34: 45408 | C34: COTA | D34: 899999705 | E34: ALCALDIA DE COTA | F34: KR 4 12 63 | G34: contratacion@alcaldiacota.gov.co | H34: 3161800 | I34: 6 | J34: 1 | K34: 02012T | L34: 2 FILTRO DE COMBUSTIBLE ITEM 220 (SE REEMPLAZAN POR EL ITEM 223 EN ACTA 3, YA PAGADO EN ACTA 1) | M34: 45167 | N34: 0.19 | O34: 223 | P34: TOYOTA HILUX PLACA: OSD 351 MODELO: 2008 | S34: ACTA 03 AÑO 2025 - COTA | T34: 223 | U34: 45167 | V34: 0 | W34: 45167 | X34: 45167 | Y34: 8581.73 | Z34: 53748.73
A35: RM-3-2517 | B35: 45506 | C35: COTA | D35: 899999705 | E35: ALCALDIA DE COTA | F35: KR 4 12 63 | G35: contratacion@alcaldiacota.gov.co | H35: 3161800 | I35: 17 | J35: 1 | K35: MO00748 | L35: SERVICIO DE TECNOMECANICA | M35: 430000 | N35: 0.19 | O35: NC | P35: EQUIPOS VARIOS TECNOMECANICA SEGUN RELACION - NUEVO | Q35: UNIDAD | S35: ACTA 03 AÑO 2025 - COTA | T35: NC | U35: 430000 | V35: 0 | W35: 430000 | X35: 430000 | Y35: 81700 | Z35: 511700
A36: RM-3-2662 | B36: 45554 | C36: COTA | D36: 899999705 | E36: ALCALDIA DE COTA | F36: KR 4 12 63 | G36: contratacion@alcaldiacota.gov.co | H36: 3161800 | I36: 1 | J36: 1 | K36: MO00777 | L36: SERVICIO CAMBIO ACEITE MOTOR (SE REEMPLAZA POR EL ITEM 482 pito de reversa) | M36: 117833 | N36: 0.19 | O36: 482 | P36: BUSETA MARCA CHEVROLET FRR PLACA: ODT 306 MODELO: 2017 | S36: ACTA 03 AÑO 2025 - COTA | T36: 482 | U36: 117833 | V36: 0 | W36: 117833 | X36: 117833 | Y36: 22388.27 | Z36: 140221.27
A37: RM-3-2746 | B37: 45582 | C37: COTA | D37: 899999705 | E37: ALCALDIA DE COTA | F37: KR 4 12 63 | G37: contratacion@alcaldiacota.gov.co | H37: 3161800 | I37: 1 | J37: 1 | K37: MO00786 | L37: CAMBIO DE CARBURADOR GUADAÑA ECHO, MANTENIEMIENTO ENGRASE | M37: 266000 | N37: 0.19 | O37: NC | P37: GUADAÑAS NUEVO MENU | Q37: UNIDAD | S37: ACTA 03 AÑO 2025 - COTA | T37: NC | U37: 266000 | V37: 0 | W37: 266000 | X37: 266000 | Y37: 50540 | Z37: 316540
A38: RM-3-2746 | B38: 45582 | C38: COTA | D38: 899999705 | E38: ALCALDIA DE COTA | F38: KR 4 12 63 | G38: contratacion@alcaldiacota.gov.co | H38: 3161800 | I38: 2 | J38: 2 | K38: MO00786 | L38: MANTENIMIENTO GUADAÑAS ECHO SINCRONIZACIÓN DESCARBONADO, ENGRASE, KIT CARBURADOR | M38: 133000 | N38: 0.19 | O38: NC | P38: GUADAÑAS NUEVO MENU | Q38: UNIDAD | S38: ACTA 03 AÑO 2025 - COTA | T38: NC | U38: 133000 | V38: 0 | W38: 133000 | X38: 266000 | Y38: 50540 | Z38: 316540
A39: RM-3-2746 | B39: 45582 | C39: COTA | D39: 899999705 | E39: ALCALDIA DE COTA | F39: KR 4 12 63 | G39: contratacion@alcaldiacota.gov.co | H39: 3161800 | I39: 3 | J39: 1 | K39: MO00786 | L39: MANTENIMEINTO MOTOSIERRA EINHELL | M39: 67000 | N39: 0.19 | O39: NC | P39: GUADAÑAS NUEVO MENU | Q39: UNIDAD | S39: ACTA 03 AÑO 2025 - COTA | T39: NC | U39: 67000 | V39: 0 | W39: 67000 | X39: 67000 | Y39: 12730 | Z39: 79730
A40: RM-3-2754 | B40: 45589 | C40: COTA | D40: 899999705 | E40: ALCALDIA DE COTA | F40: KR 4 12 63 | G40: contratacion@alcaldiacota.gov.co | H40: 3161800 | I40: 1 | J40: 1 | L40: BALIZA LUCES LED SUPERIOR CON SOPORTES EN ALUMINIO Y SERVICIO INSTALACION | M40: 2083500 | N40: 0.19 | O40: NC | P40: CAMIONETA RENAULT DUSTER ODT 706 NUEVA MENU | Q40: UNIDAD | S40: ACTA 03 AÑO 2025 - COTA | T40: NC | U40: 2083500 | V40: 0 | W40: 2083500 | X40: 2083500 | Y40: 395865 | Z40: 2479365
...

Sheet ESTADO DE CUENTA
G3: ACTA 1 | L3: ACTA 2
A5: ACTA | B5: MÁQUINA/PLACA | C5: ITEM MENU | D5: DESCRIPCIÓN | E5: CANTIDAD | F5: % IVA | G5: PRECIO UNITARIO SIN IVA | H5: TOTAL SIN IVA | I5: VALOR IVA | J5: TOTAL CON IVA
A6: ACTA 01 AÑO 2024 - COTA | B6: VOLQUETA MERCEDES BENZ PLACA: ODT 343 MODELO: 2019 | C6: 226 | D6: LAMPARAS LED LATERANES NARANJA | E6: 6 | F6: 0.19 | G6: 64167 | H6: 385002 | I6: 73150.38 | J6: 458152.38
A7: ACTA 01 AÑO 2024 - COTA | B7: VOLQUETA MERCEDES BENZ PLACA: ODT 343 MODELO: 2019 | C7: 227 | D7: METROS DE CABLE ENCAUCHETADO | E7: 13 | F7: 0.19 | G7: 10167 | H7: 132171 | I7: 25112.49 | J7: 157283.49
A8: ACTA 01 AÑO 2024 - COTA | B8: VOLQUETA MERCEDES BENZ PLACA: ODT 343 MODELO: 2019 | C8: 228 | D8: LAMPARA TRIPLE LED STOP | E8: 2 | F8: 0.19 | G8: 144333 | H8: 288666 | I8: 54846.54 | J8: 343512.54
A9: ACTA 01 AÑO 2024 - COTA | B9: VOLQUETA MERCEDES BENZ PLACA: ODT 343 MODELO: 2019 | C9: 229 | D9: SERVICIO DE REVISION FRENOS DELANTEROS, ENGRASE Y MANTENIMIENTOS | E9: 1 | F9: 0.19 | G9: 448000 | H9: 448000 | I9: 85120 | J9: 533120
A10: ACTA 01 AÑO 2024 - COTA | B10: VOLQUETA MERCEDES BENZ PLACA: ODT 343 MODELO: 2019 | C10: 230 | D10: SERVICIO DE MANTENIMIENTO DE FUGAS SISTEMA DE AIRE Y RACORES (4) | E10: 1 | F10: 0.19 | G10: 240167 | H10: 240167 | I10: 45631.73 | J10: 285798.73
A11: ACTA 01 AÑO 2024 - COTA | B11: VOLQUETA MERCEDES BENZ PLACA: ODT 343 MODELO: 2019 | C11: 231 | D11: SERVICIO DE MANTENIMEINTO DE FRENOS TRASEROS | E11: 1 | F11: 0.19 | G11: 450000 | H11: 450000 | I11: 85500 | J11: 535500
A12: ACTA 01 AÑO 2024 - COTA | B12: VOLQUETA MERCEDES BENZ PLACA: ODT 343 MODELO: 2019 | C12: 232 | D12: DESMONTE Y CAMBIO DE HOJA CUARTA DELANTERA DERECHA | E12: 1 | F12: 0.19 | G12: 315500 | H12: 315500 | I12: 59945 | J12: 375445
A13: ACTA 01 AÑO 2024 - COTA | B13: VOLQUETA MERCEDES BENZ PLACA: ODT 343 MODELO: 2019 | C13: 233 | D13: SOPORTES CROMADO LAMPARAS LED LATERALES | E13: 6 | F13: 0.19 | G13: 34500 | H13: 207000 | I13: 39330 | J13: 246330
A14: ACTA 01 AÑO 2024 - COTA | B14: VOLQUETA MERCEDES BENZ PLACA: ODT 343 MODELO: 2019 | C14: 234 | D14: UREA X LITROS | E14: 20 | F14: 0 | G14: 7000 | H14: 140000 | I14: 0 | J14: 140000
A15: ACTA 01 AÑO 2024 - COTA | B15: VOLQUETA MERCEDES BENZ PLACA: ODT 343 MODELO: 2019 | C15: 235 | D15: TORNILLO CENTRAL CON TUERCA | E15: 1 | F15: 0.19 | G15: 27833 | H15: 27833 | I15: 5288.27 | J15: 33121.27
A16: ACTA 01 AÑO 2024 - COTA | B16: VOLQUETA MERCEDES BENZ PLACA: ODT 343 MODELO: 2019 | C16: 236 | D16: SERVICIO DE LAVADO GENERAL | E16: 1 | F16: 0.19 | G16: 81833 | H16: 81833 | I16: 15548.27 | J16: 97381.27
A17: ACTA 01 AÑO 2024 - COTA | B17: VOLQUETA MERCEDES BENZ PLACA: ODT 343 MODELO: 2019 | C17: 236 | D17: LAVADO DE VEHICULO | E17: 1 | F17: 0.19 | G17: 81833 | H17: 81833 | I17: 15548.27 | J17: 97381.27
... A491: ACTA 01 AÑO 2024 - COTA | B491: MOTONIVELADORA CATERPILLAR LINEA 120K MODELO: 2013 | C491: 356 | D491: SUMINISTRO HOROMETRO | E491: 1 | F491: 0.19 | G491: 188333 | H491: 188333 | I491: 35783.27 | J491: 224116.27
A492: ACTA 01 AÑO 2024 - COTA | B492: MOTONIVELADORA CATERPILLAR LINEA 120K MODELO: 2013 | C492: VER ITEM 342 | D492: FILTRO COMBUSTIBLE PRIMARIO - ORGINAL CAT 120K INCLUYE ITEM ANTERIOR | E492: 0 | F492: 0.19 | G492: 0 | H492: 0 | I492: 0 | J492: 0
A493: ACTA 01 AÑO 2024 - COTA | B493: MOTO CARGUERO PLACA 241AAO MODELO 2023 | C493: 788 | D493: Arreglo modulo del moto ventilador | E493: 1 | F493: 0.19 | G493: 425333 | H493: 425333 | I493: 80813.27 | J493: 506146.27
A494: ACTA 01 AÑO 2024 - COTA | B494: MINICARGADOR NEW HOLLAN LINEA: L223 MODELO: 2013 | C494: 367 | D494: ACEITE MOTOR | E494: 3 | F494: 0 | G494: 146167 | H494: 438501 | I494: 0 | J494: 438501
A495: ACTA 01 AÑO 2024 - COTA | B495: MINICARGADOR NEW HOLLAN LINEA: L223 MODELO: 2013 | C495: 368 | D495: FILTRO DE ACEITE | E495: 1 | F495: 0.19 | G495: 141167 | H495: 141167 | I495: 26821.73 | J495: 167988.73
A496: ACTA 01 AÑO 2024 - COTA | B496: MINICARGADOR NEW HOLLAN LINEA: L223 MODELO: 2013 | C496: 369 | D496: FILTRO HIDRAULICO | E496: 1 | F496: 0.19 | G496: 494667 | H496: 494667 | I496: 93986.73 | J496: 588653.73
A497: ACTA 01 AÑO 2024 - COTA | B497: MINICARGADOR NEW HOLLAN LINEA: L223 MODELO: 2013 | C497: 370 | D497: filtro de aire ( juego inte y ext) | E497: 1 | F497: 0.19 | G497: 237833 | H497: 237833 | I497: 45188.27 | J497: 283021.27
A498: ACTA 01 AÑO 2024 - COTA | B498: MINICARGADOR NEW HOLLAN LINEA: L223 MODELO: 2013 | C498: 371 | D498: FILTRO DE COMBUSTIBLE | E498: 1 | F498: 0.19 | G498: 118833 | H498: 118833 | I498: 22578.27 | J498: 141411.27
A499: ACTA 01 AÑO 2024 - COTA | B499: MINICARGADOR NEW HOLLAN LINEA: L223 MODELO: 2013 | C499: 372 | D499: LAVADO DE VEHICULO | E499: 1 | F499: 0.19 | G499: 121667 | H499: 121667 | I499: 23116.73 | J499: 144783.73
A500: ACTA 01 AÑO 2024 - COTA | B500: MINICARGADOR NEW HOLLAN LINEA: L223 MODELO: 2013 | C500: 372 | D500: lavado | E500: 1 | F500: 0.19 | G500: 121667 | H500: 121667 | I500: 23116.73 | J500: 144783.73
A501: ACTA 01 AÑO 2024 - COTA | B501: MINICARGADOR NEW HOLLAN LINEA: L223 MODELO: 2013 | C501: 373 | D501: DESPINCHADA DE LLANTA BOBCAT CON DOMICILIO | E501: 2 | F501: 0.19 | G501: 79500 | H501: 159000 | I501: 30210 | J501: 189210
A502: ACTA 01 AÑO 2024 - COTA | B502: MINICARGADOR NEW HOLLAN LINEA: L223 MODELO: 2013 | C502: 374 | D502: Engrase general: chasis, suspensión, transmisión, cardan, sistema de dirección | E502: 1 | F502: 0.19 | G502: 120667 | H502: 120667 | I502: 22926.73 | J502: 143593.73
A503: ACTA 01 AÑO 2024 - COTA | B503: MINICARGADOR NEW HOLLAN LINEA: L223 MODELO: 2013 | C503: 376 | D503: MANTENIMIENTO GENERAL MOTOR | E503: 1 | F503: 0.19 | G503: 795333 | H503: 795333 | I503: 151113.27 | J503: 946446.27
A504: ACTA 01 AÑO 2024 - COTA | B504: MINICARGADOR NEW HOLLAN LINEA: L223 MODELO: 2013 | C504: 377 | D504: MANTENIMIENTO RADIADOR | E504: 1 | F504: 0.19 | G504: 763667 | H504: 763667 | I504: 145096.73 | J504: 908763.73
... A898: ACTA 01 AÑO 2024 - COTA | B898: BUS CHEVROLET ISUZO LV 150 PLACA: OSD 445 MODELO: 2012 | C898: 306 | D898: DESPINCHADA | E898: 1 | F898: 0.19 | G898: 61000 | H898: 61000 | I898: 11590 | J898: 72590
A899: Total ACTA 01 AÑO 2024 - COTA | E899: 1485 | F899: 0.17143322 | G899: 318165.08 | H899: 3.9533288e+08 | I899: 65863224 | J899: 4.611961e+08
A900: ACTA 02 AÑO 2025 - COTA | B900: VOLQUETA MERCEDES BENZ PLACA: ODT 343 MODELO: 2019 | C900: 262 | D900: LAVADO DE VEHICULO | E900: 2 | F900: 0.19 | G900: 175500 | H900: 351000 | I900: 66690 | J900: 417690
A901: ACTA 02 AÑO 2025 - COTA | B901: VOLQUETA MERCEDES BENZ PLACA: ODT 343 MODELO: 2019 | C901: NC | D901: TECNOMECANICA VOLQUETA | E901: 1 | F901: 0 | G901: 590000 | H901: 590000 | I901: 0 | J901: 590000
A902: ACTA 02 AÑO 2025 - COTA | B902: VOLQUETA MERCEDES BENZ PLACA: ODT 343 MODELO: 2019 | C902: NC | D902: GARRAFA DE ACEITE 15W40 MOBIL MX | E902: 1 | F902: 0 | G902: 580000 | H902: 580000 | I902: 0 | J902: 580000
A903: ACTA 02 AÑO 2025 - COTA | B903: VOLKSWAGEN AMAROW PLACA: OSD 483 MODELO: 2013 | C903: 450 | D903: LAVADO DE VEHICULO | E903: 3 | F903: 0.19 | G903: 80667 | H903: 242001 | I903: 45980.19 | J903: 287981.19
A904: ACTA 02 AÑO 2025 - COTA | B904: VOLKSWAGEN AMAROW PLACA: OSD 483 MODELO: 2013 | C904: NC | D904: VALVULINA POR GALON (12 CUARTOS) | E904: 3 | F904: 0 | G904: 165333 | H904: 495999 | I904: 0 | J904: 495999
A905: ACTA 02 AÑO 2025 - COTA | B905: VOLKSWAGEN AMAROW PLACA: OSD 483 MODELO: 2013 | C905: NC | D905: TECNOMECANICA CAMIONETA | E905: 1 | F905: 0 | G905: 510000 | H905: 510000 | I905: 0 | J905: 510000
A906: ACTA 02 AÑO 2025 - COTA | B906: VOLKSWAGEN AMAROW PLACA: OSD 483 MODELO: 2013 | C906: NC | D906: SERVICIO PRENSA | E906: 1 | F906: 0.19 | G906: 134000 | H906: 134000 | I906: 25460 | J906: 159460
A907: ACTA 02 AÑO 2025 - COTA | B907: VOLKSWAGEN AMAROW PLACA: OSD 483 MODELO: 2013 | C907: NC | D907: SERVICIO CAMBIO ACEITE/FILTROS/MANTENIMIENTO SISTEMA INYECCION | E907: 1 | F907: 0.19 | G907: 98000 | H907: 98000 | I907: 18620 | J907: 116620
A908: ACTA 02 AÑO 2025 - COTA | B908: VOLKSWAGEN AMAROW PLACA: OSD 483 MODELO: 2013 | C908: NC | D908: Rodamientos delanteros | E908: 2 | F908: 0.19 | G908: 32000 | H908: 64000 | I908: 12160 | J908: 76160
A909: ACTA 02 AÑO 2025 - COTA | B909: VOLKSWAGEN AMAROW PLACA: OSD 483 MODELO: 2013 | C909: NC | D909: REVISION SUSPENSION TRASERA / CAMBIO PIEZAS | E909: 1 | F909: 0.19 | G909: 235000 | H909: 235000 | I909: 44650 | J909: 279650
...

Sheet Hoja 14
A1: BUS HINO 500 PLACA OFK 635 | B1: 3
A2: CAMIONETA NISSAN PICKUP ODQ 860 | B2: 1
A3: CAMIONETA NISSAN X-TRAIL PLACA OQD 900 | B3: 1
A4: CAMIONETA SPORTERO PLACA OQD915 | B4: 1
A5: CAMIONETA TOYOTA FORTUNER PLACA ODT294 | B5: 1
A6: DESBROZADORA | B6: 2
A7: GUADAÑA | B7: 2
A8: MERCEDES RUTA SALUDABLE | B8: 3
A9: MOTOBOMBA | B9: 2
A10: MOTOCICLETA HONDA PUJ 04D | B10: 2
A11: MOTOCICLETA YAMAHA CHY-23A | B11: 2
A12: MOTOCICLETA YAMAHA KGZ-73 | B12: 2
... A16: TRACTOR KUBOTA M9540 | B16: 2

Sheet Datos3
B1: FECHA | C1: CIUDAD | D1: IDENTIFICACION CLIENTE | E1: CLIENTE | F1: DIRECCIÓN | G1: CORREO | H1: TELÉFONO | I1: N° | J1: CANTIDAD | K1: REFERENCIA | L1: DESCRIPCIÓN | M1: V UNITARIO | N1: IVA | O1: NOTA | P1: MÁQUINA/PLACA | Q1: ASESOR COMERCIAL | R1: FACTURA DISMAQ | S1: ACTA | T1: ITEM MENU | U1: PRECIO NC | V1: PRECIO MENU | W1: PRECIO UNITARIO SIN IVA | X1: TOTAL SIN IVA | Y1: VALOR IVA | Z1: TOTAL CON IVA
A2: RM-3-0065 | B2: 44753 | C2: BOGOTA | E2: ASOCENTRO | I2: 1 | J2: 1 | K2: M.O | L2: CAMBIO FILTROS, ESCANER VEHICILO,REEMPLAZO DE FLOTADOR Y SERVIO CONCESIONARIO PARA PUESTA A PUNTO TOYOTA FORTUNER | M2: 1180000 | N2: 0.19 | P2: TOYOTA FORTUNER | Q2: LINA PARDO | S2: ACTA 2 | T2: NC | U2: 1180000 | V2: 0 | W2: 1180000 | X2: 1180000 | Y2: 224200 | Z2: 1404200
A3: RM-3-0065 | B3: 44753 | C3: BOGOTA | E3: ASOCENTRO | I3: 2 | J3: 1 | K3: M.O | L3: LAVADO DE MOTOR | M3: 60000 | N3: 0.19 | P3: TOYOTA FORTUNER | Q3: LINA PARDO | S3: ACTA 2 | T3: NC | U3: 60000 | V3: 0 | W3: 60000 | X3: 60000 | Y3: 11400 | Z3: 71400
A4: RM-3-0065 | B4: 44753 | C4: BOGOTA | E4: ASOCENTRO | I4: 3 | J4: 1 | L4: ELEMENTO FILTRO COMBIATIBLE | M4: 185000 | N4: 0.19 | P4: TOYOTA FORTUNER | Q4: LINA PARDO | S4: ACTA 2 | T4: NC | U4: 185000 | V4: 0 | W4: 185000 | X4: 185000 | Y4: 35150 | Z4: 220150
A5: RM-3-0065 | B5: 44753 | C5: BOGOTA | E5: ASOCENTRO | I5: 4 | J5: 1 | L5: FLOTADOR TANQUE COMBISTIBLE | M5: 380000 | N5: 0.19 | P5: TOYOTA FORTUNER | Q5: LINA PARDO | S5: ACTA 2 | T5: NC | U5: 380000 | V5: 0 | W5: 380000 | X5: 380000 | Y5: 72200 | Z5: 452200
A6: RM-3-0065 | B6: 44753 | C6: BOGOTA | E6: ASOCENTRO | I6: 5 | J6: 1 | L6: FILTRO DE GASES DE COMBISTIBLE | M6: 165000 | N6: 0.19 | P6: TOYOTA FORTUNER | Q6: LINA PARDO | S6: ACTA 2 | T6: NC | U6: 165000 | V6: 0 | W6: 165000 | X6: 165000 | Y6: 31350 | Z6: 196350
A7: RM-3-0065 | B7: 44753 | C7: BOGOTA | E7: ASOCENTRO | I7: 6 | J7: 2 | L7: LIPIADOR DE FRENOS | M7: 69800 | N7: 0.19 | P7: TOYOTA FORTUNER | Q7: LINA PARDO | S7: ACTA 2 | T7: NC | U7: 69800 | V7: 0 | W7: 69800 | X7: 139600 | Y7: 26524 | Z7: 166124
A8: RM-3-0065 | B8: 44753 | C8: BOGOTA | E8: ASOCENTRO | I8: 7 | J8: 1 | K8: M.O | L8: MANTENIMIETO TABLERO MEDIDOR COMBISTIBLE | M8: 480000 | N8: 0.19 | P8: TOYOTA FORTUNER | Q8: LINA PARDO | S8: ACTA 2 | T8: NC | U8: 480000 | V8: 0 | W8: 480000 | X8: 480000 | Y8: 91200 | Z8: 571200
A9: RM-3-0065 | B9: 44753 | C9: BOGOTA | E9: ASOCENTRO | I9: 8 | J9: 1 | L9: PROGRAMACION EN LABORATIO TABLERO X INDICADOR COMBISTIBLE | M9: 750000 | N9: 0.19 | P9: TOYOTA FORTUNER | Q9: LINA PARDO | S9: ACTA 2 | T9: NC | U9: 750000 | V9: 0 | W9: 750000 | X9: 750000 | Y9: 142500 | Z9: 892500
A10: RM-3-0066 | B10: 44753 | C10: BOGOTA | E10: ASOCENTRO | I10: 1 | J10: 1 | L10: Pintura exterior | M10: 3560000 | N10: 0.19 | P10: TOYOTA FORTUNER | Q10: LINA PARDO | S10: ACTA 2 | T10: NC | U10: 3560000 | V10: 0 | W10: 3560000 | X10: 3560000 | Y10: 676400 | Z10: 4236400
A11: RM-3-0066 | B11: 44753 | C11: BOGOTA | E11: ASOCENTRO | I11: 2 | J11: 1 | L11: Cambio bocel lame vidrios puerta conductor | M11: 300000 | N11: 0.19 | P11: TOYOTA FORTUNER | Q11: LINA PARDO | S11: ACTA 2 | T11: NC | U11: 300000 | V11: 0 | W11: 300000 | X11: 300000 | Y11: 57000 | Z11: 357000
A12: RM-3-0066 | B12: 44753 | C12: BOGOTA | E12: ASOCENTRO | I12: 3 | J12: 1 | L12: Forrar timón | M12: 295000 | N12: 0.19 | P12: TOYOTA FORTUNER | Q12: LINA PARDO | S12: ACTA 2 | T12: NC | U12: 295000 | V12: 0 | W12: 295000 | X12: 295000 | Y12: 56050 | Z12: 351050
A13: RM-3-0066 | B13: 44753 | C13: BOGOTA | E13: ASOCENTRO | I13: 4 | J13: 1 | L13: Polarizado camioneta | M13: 495000 | N13: 0.19 | P13: TOYOTA FORTUNER | Q13: LINA PARDO | S13: ACTA 2 | T13: NC | U13: 495000 | V13: 0 | W13: 495000 | X13: 495000 | Y13: 94050 | Z13: 589050
A14: RM-3-0066 | B14: 44753 | C14: BOGOTA | E14: ASOCENTRO | I14: 5 | J14: 1 | L14: Cambio pomo barra cambios | M14: 170000 | N14: 0.19 | P14: TOYOTA FORTUNER | Q14: LINA PARDO | S14: ACTA 2 | T14: NC | U14: 170000 | V14: 0 | W14: 170000 | X14: 170000 | Y14: 32300 | Z14: 202300
A15: RM-3-0066 | B15: 44753 | C15: BOGOTA | E15: ASOCENTRO | I15: 6 | J15: 1 | L15: Lavado interior | M15: 450000 | N15: 0.19 | P15: TOYOTA FORTUNER | Q15: LINA PARDO | S15: ACTA 2 | T15: NC | U15: 450000 | V15: 0 | W15: 450000 | X15: 450000 | Y15: 85500 | Z15: 535500
A16: RM-3-0066 | B16: 44753 | C16: BOGOTA | E16: ASOCENTRO | I16: 7 | J16: 1 | L16: Ajuste Tapiceria | M16: 140000 | N16: 0.19 | P16: TOYOTA FORTUNER | Q16: LINA PARDO | S16: ACTA 2 | T16: NC | U16: 140000 | V16: 0 | W16: 140000 | X16: 140000 | Y16: 26600 | Z16: 166600
A17: RM-3-0066 | B17: 44753 | C17: BOGOTA | E17: ASOCENTRO | I17: 8 | J17: 1 | L17: Tintura siilla conductor | M17: 580000 | N17: 0.19 | P17: TOYOTA FORTUNER | Q17: LINA PARDO | S17: ACTA 2 | T17: NC | U17: 580000 | V17: 0 | W17: 580000 | X17: 580000 | Y17: 110200 | Z17: 690200
A18: RM-3-0070 | B18: 44753 | C18: BOGOTA | E18: ASOCENTRO | I18: 1 | J18: 1 | K18: 33583 WIX | L18: FILTRO COMBUSTIBLE PRIMARIO | M18: 75000 | N18: 0.19 | P18: VIBROCOMPACTADOR HAMM | Q18: LINA PARDO | S18: ACTA 2 | T18: 24,2 | V18: 75000 | W18: 75000 | X18: 75000 | Y18: 14250 | Z18: 89250
A19: RM-3-0070 | B19: 44753 | C19: BOGOTA | E19: ASOCENTRO | I19: 2 | J19: 1 | K19: BF-1257 | L19: FILTRO DE COMBUSTIBLE TRAMPA | M19: 170000 | N19: 0.19 | P19: VIBROCOMPACTADOR HAMM | Q19: LINA PARDO | S19: ACTA 2 | T19: 24,3 | V19: 170000 | W19: 170000 | X19: 170000 | Y19: 32300 | Z19: 202300
A20: RM-3-0071 | B20: 44754 | C20: BOGOTA | E20: ASOCENTRO | I20: 1 | J20: 1 | K20: MO | L20: SERVICIO DIAGNOSTOCO Y CAMBIO DE FILTROS | M20: 180000 | N20: 0.19 | P20: VIBROCOMPACTADOR HAMM | Q20: LINA PARDO | S20: ACTA 2 | T20: NC | U20: 180000 | V20: 0 | W20: 180000 | X20: 180000 | Y20: 34200 | Z20: 214200
A21: RM-3-0074 | B21: 44753 | C21: BOGOTA | E21: ASOCENTRO | I21: 1 | J21: 1 | L21: KIT EMBRAGUE ORIGINAL TOTOTA FORTUNER | M21: 1950000 | N21: 0.19 | P21: TOYOTA FORTUNER | Q21: LINA PARDO | S21: ACTA 2 | T21: NC | U21: 1950000 | V21: 0 | W21: 1950000 | X21: 1950000 | Y21: 370500 | Z21: 2320500
A22: RM-3-0074 | B22: 44753 | C22: BOGOTA | E22: ASOCENTRO | I22: 2 | J22: 1 | K22: MO | L22: MONTAJE KIT EMBRAGUE | M22: 520000 | N22: 0.19 | P22: TOYOTA FORTUNER | Q22: LINA PARDO | S22: ACTA 2 | T22: NC | U22: 520000 | V22: 0 | W22: 520000 | X22: 520000 | Y22: 98800 | Z22: 618800
