Workbook
Name Rubros: #REF!
Name Rubros: #REF!
Name Rubros: #REF!

Sheet COTIZACIONES
A1: ÍTEM | B1: CÓDIGO DANE | C1: DESCRIPCIÓN DEL BIEN Y/O SERVICIO | D1: UNIDAD MEDIDA | E1: CNT | F1: PROVEEDOR: AUTOPARTES AGRICOLAS JPM SAS | L1: COMERCIALIZADORA SEVERAL PARTS SAS | R1: M2 DISEÑO Y CONSTRUCCION SAS
F2: PRECIO UNITARIO | G2: ADMINISTRACIÓN 12% | H2: IMPREVISTOS 5% | I2: UTILIDAD 10% | J2: IVA SOBRE UTILIDAD | K2: VALOR TOTAL INCLUIDO AIU | L2: PRECIO UNITARIO | M2: ADMINISTRACIÓN 12% | N2: IMPREVISTOS 5% | O2: UTILIDAD 10% | P2: IVA SOBRE UTILIDAD | Q2: VALOR TOTAL INCLUIDO AIU | R2: PRECIO UNITARIO | S2: ADMINISTRACIÓN 18% | T2: IMPREVISTOS 3% | U2: UTILIDAD 5% | V2: IVA SOBRE UTILIDAD | W2: VALOR TOTAL INCLUIDO AIU
A3: 1 | B3: 72141510 | C3: DEMOLICIÓN ANDEN EN CONCRETO HASTA H=0,10 M, (INCLUYE EL SARDINEL CARGUE Y RETIRO DE ESCOMBROS) | D3: M² | E3: 1 | F3: 50025 | G3: 6003 | H3: 2501.25 | I3: 5002.5 | J3: 950.475 | K3: =SUM(F3:J3) -> 64482.225 | L3: 61910.94 | M3: 6243.12 | N3: 2601.3 | O3: 5202.6 | P3: =+O3*0.19 -> 988.494 | Q3: =SUM(L3:P3) -> 76946.454 | R3: 51765 | S3: 9317.7 | T3: 1552.95 | U3: 2588.25 | V3: 491.7675 | W3: =SUM(R3:V3) -> 65715.667
A4: 2 | B4: 72141510 | C4: DEMOLICIÓN PAÑETE DE ESPESOR DE 005M BAJO PLACA (INCLUYE CARGUE Y RETIRO DE ESCOMBROS) | D4: M² | E4: 1 | F4: 18400 | G4: 2208 | H4: 920 | I4: 1840 | J4: 349.6 | K4: =SUM(F4:J4) -> 23717.6 | L4: 22881.32 | M4: 2307.36 | N4: 961.4 | O4: 1922.8 | P4: =+O4*0.19 -> 365.332 | Q4: =SUM(L4:P4) -> 28438.212 | R4: 13090 | S4: 3427.2 | T4: 571.2 | U4: 952 | V4: 180.88 | W4: =SUM(R4:V4) -> 18221.28
A5: 3 | B5: 72141510 | C5: DEMOLICIÓN - RETIRO PAÑETE DETERIORADO (INCLUYE CARGUE Y RETIRO DE ESCOMBROS) | D5: M² | E5: 1 | F5: 13800 | G5: 1656 | H5: 690 | I5: 1380 | J5: 262.2 | K5: =SUM(F5:J5) -> 17788.2 | L5: 17407.32 | M5: 1755.36 | N5: 731.4 | O5: 1462.8 | P5: =+O5*0.19 -> 277.932 | Q5: =SUM(L5:P5) -> 21634.812 | R5: 14280 | S5: 2570.4 | T5: 428.4 | U5: 714 | V5: 135.66 | W5: =SUM(R5:V5) -> 18128.46
A6: 4 | B6: 72141510 | C6: DEMOLICIÓN Y RETIRO DE ENCHAPE EN PIEDRA MUÑECA (INCLUYE CARGUE Y RETIRO DE ESCOMBROS) | D6: M² | E6: 1 | F6: 13800 | G6: 1656 | H6: 690 | I6: 1380 | J6: 262.2 | K6: =SUM(F6:J6) -> 17788.2 | L6: 16914.66 | M6: 1705.68 | N6: 710.7 | O6: 1421.4 | P6: =+O6*0.19 -> 270.066 | Q6: =SUM(L6:P6) -> 21022.506 | R6: 14280 | S6: 2570.4 | T6: 428.4 | U6: 714 | V6: 135.66 | W6: =SUM(R6:V6) -> 18128.46
A7: 5 | B7: 72141510 | C7: DEMOLICIÓN ÁREA LIBRE PISO DURO (INCLUYE CARGUE Y RETIRO DE ESCOMBROS) | D7: M² | E7: 1 | F7: 43700 | G7: 5244 | H7: 2185 | I7: 4370 | J7: 830.3 | K7: =SUM(F7:J7) -> 56329.3 | L7: 53303.075 | M7: 5375.1 | N7: 2239.625 | O7: 4479.25 | P7: =+O7*0.19 -> 851.0575 | Q7: =SUM(L7:P7) -> 66248.107 | R7: 45220 | S7: 8139.6 | T7: 1356.6 | U7: 2261 | V7: 429.59 | W7: =SUM(R7:V7) -> 57406.79
A8: 6 | B8: 72141510 | C8: DEMOLICIÓN DE BANCAS A=0,35 M, (INCLUYE MURETES EN MAMPOSTERÍA Y PLACA CARGUE Y RETIRO DE ESCOMBROS), | D8: ML | E8: 1 | F8: 28750 | G8: 3450 | H8: 1437.5 | I8: 2875 | J8: 546.25 | K8: =SUM(F8:J8) -> 37058.75 | L8: 35409.938 | M8: 3570.75 | N8: 1487.8125 | O8: 2975.625 | P8: =+O8*0.19 -> 565.36875 | Q8: =SUM(L8:P8) -> 44009.494 | R8: 29750 | S8: 5355 | T8: 892.5 | U8: 1487.5 | V8: 282.625 | W8: =SUM(R8:V8) -> 37767.625
A9: 7 | B9: 72141510 | C9: DEMOLICIÓN DE ENCHAPE DE PARED (INCLUYE CARGUE Y RETIRO DE ESCOMBROS) | D9: M² | E9: 1 | F9: 20700 | G9: 2484 | H9: 1035 | I9: 2070 | J9: 393.3 | K9: =SUM(F9:J9) -> 26682.3 | L9: 27712.125 | M9: 2794.5 | N9: 1164.375 | O9: 2328.75 | P9: =+O9*0.19 -> 442.4625 | Q9: =SUM(L9:P9) -> 34442.213 | R9: 21420 | S9: 3855.6 | T9: 642.6 | U9: 1071 | V9: 203.49 | W9: =SUM(R9:V9) -> 27192.69
A10: 8 | B10: 72141510 | C10: DEMOLICIÓN DE ENCHAPE DE PISOS (INCLUYE CARGUE Y RETIRO DE ESCOMBROS) | D10: M² | E10: 1 | F10: 21850 | G10: 2622 | H10: 1092.5 | I10: 2185 | J10: 415.15 | K10: =SUM(F10:J10) -> 28164.65 | L10: 28991.673 | M10: 2923.53 | N10: 1218.1375 | O10: 2436.275 | P10: =+O10*0.19 -> 462.89225 | Q10: =SUM(L10:P10) -> 36032.507 | R10: 22610 | S10: 4069.8 | T10: 678.3 | U10: 1130.5 | V10: 214.795 | W10: =SUM(R10:V10) -> 28703.395
A11: 9 | B11: 72141510 | C11: DEMOLICIÓN MANUAL DE SARDINEL EXISTENTE (INCLUYE CARGUE Y RETIRO DE ESCOMBROS) | D11: ML | E11: 1 | F11: 17250 | G11: 2070 | H11: 862.5 | I11: 1725 | J11: 327.75 | K11: =SUM(F11:J11) -> 22235.25 | L11: 23503.987 | M11: 2370.15 | N11: 987.5625 | O11: 1975.125 | P11: =+O11*0.19 -> 375.27375 | Q11: =SUM(L11:P11) -> 29212.099 | R11: 17850 | S11: 3213 | T11: 535.5 | U11: 892.5 | V11: 169.575 | W11: =SUM(R11:V11) -> 22660.575
A12: 10 | B12: 72141510 | C12: DEMOLICIÓN MURO DE CEMENTO. | D12: M² | E12: 1 | F12: 11900 | G12: 2070 | H12: 862.5 | I12: 1725 | J12: 327.75 | K12: =SUM(F12:J12) -> 16885.25 | L12: 18409.3 | M12: 2152.8 | N12: 897 | O12: 1794 | P12: =+O12*0.19 -> 340.86 | Q12: =SUM(L12:P12) -> 23593.96 | R12: 17850 | S12: 3213 | T12: 535.5 | U12: 892.5 | V12: 169.575 | W12: =SUM(R12:V12) -> 22660.575
A13: 11 | B13: 72141510 | C13: DEMOLICIÓN MURO DE LADRILLO DE ESPESOR MENOR A 0.15 METROS. | D13: M² | E13: 1 | F13: 11900 | G13: 2484 | H13: 1035 | I13: 2070 | J13: 393.3 | K13: =SUM(F13:J13) -> 17882.3 | L13: 16993.2 | M13: 2595.78 | N13: 1081.575 | O13: 2163.15 | P13: =+O13*0.19 -> 410.9985 | Q13: =SUM(L13:P13) -> 23244.704 | R13: 21420 | S13: 3855.6 | T13: 642.6 | U13: 1071 | V13: 203.49 | W13: =SUM(R13:V13) -> 27192.69
A14: 12 | B14: 72141510 | C14: DEMOLICIÓN PLACA PISO. A TODO COSTO | D14: M² | E14: 1 | F14: 17250 | G14: 2070 | H14: 862.5 | I14: 1725 | J14: 327.75 | K14: =SUM(F14:J14) -> 22235.25 | L14: 21759.15 | M14: 2194.2 | N14: 914.25 | O14: 1828.5 | P14: =+O14*0.19 -> 347.415 | Q14: =SUM(L14:P14) -> 27043.515 | R14: 17850 | S14: 3213 | T14: 535.5 | U14: 892.5 | V14: 169.575 | W14: =SUM(R14:V14) -> 22660.575
... A89: 87 | B89: 72154013 | C89: DESMONTE DE REJAS (INCLUYE CARGUE Y RETIRO DE MATERIAL DESMONTADO) | D89: M² | E89: 1 | F89: 4370 | G89: 524.4 | H89: 218.5 | I89: 437 | J89: 83.03 | K89: =SUM(F89:J89) -> 5632.93 | L89: 5382.3105 | M89: 542.754 | N89: 226.1475 | O89: 452.295 | P89: =+O89*0.19 -> 85.93605 | Q89: =SUM(L89:P89) -> 6689.4431 | R89: 4522 | S89: 813.96 | T89: 135.66 | U89: 226.1 | V89: 42.959 | W89: =SUM(R89:V89) -> 5740.679
A90: 88 | B90: 72154056 | C90: DESMONTE DE TANQUES EN ASBESTO-CEMENTO DE 500 A 1000 LTS (INCLUYE CARGUE Y RETIRO DE MATERIAL DESMONTADO SEGÚN DISPONGA LA UNIDAD) | D90: UND | E90: 1 | F90: 5980 | G90: =+F90*0.12 -> 717.6 | H90: =+F90*0.05 -> 299 | I90: =+F90*0.1 -> 598 | J90: =+I90*0.19 -> 113.62 | K90: =SUM(F90:J90) -> 7708.22 | L90: 6366.5 | M90: =+L90*0.12 -> 763.98 | N90: =+L90*0.05 -> 318.325 | O90: =+L90*0.1 -> 636.65 | P90: =+O90*0.19 -> 120.9635 | Q90: =SUM(L90:P90) -> 8206.4185 | R90: 5950 | S90: 1071 | T90: 178.5 | U90: 297.5 | V90: 56.525 | W90: =SUM(R90:V90) -> 7553.525
A91: 89 | B91: 72154032 | C91: DESMONTE MATENIMIENTO Y REINSTALACION DE VENTANERIA INCLUYE LIMPIEZA LIJADADA PINTURA ESMALTE Y REINSTALACIÓN, | D91: M² | E91: 1 | F91: 200000 | G91: 420000 | H91: 175000 | I91: 350000 | J91: 66500 | K91: =SUM(F91:J91) -> 1211500 | L91: 261800 | M91: 468300 | N91: 195125 | O91: 390250 | P91: =+O91*0.19 -> 74147.5 | Q91: =SUM(L91:P91) -> 1389622.5 | R91: 238000 | S91: 749700 | T91: 124950 | U91: 208250 | V91: 39567.5 | W91: =SUM(R91:V91) -> 1360467.5
A92: 90 | B92: 72154032 | C92: DESMONTE DE VENTANERIA (INCLUYE CARGUE Y RETIRO DE MATERIAL DESMONTADO). | D92: M² | E92: 1 | F92: 26450 | G92: 3174 | H92: 1322.5 | I92: 2645 | J92: 502.55 | K92: =SUM(F92:J92) -> 34094.05 | L92: 36039.448 | M92: 3634.23 | N92: 1514.2625 | O92: 3028.525 | P92: =+O92*0.19 -> 575.41975 | Q92: =SUM(L92:P92) -> 44791.885 | R92: 27370 | S92: 4926.6 | T92: 821.1 | U92: 1368.5 | V92: 260.015 | W92: =SUM(R92:V92) -> 34746.215
A93: 91 | B93: 72152501 | C93: MANTENIMIENTO A TODO COSTO SUMINISTRO E INSTALACION GRAVILLA LAVADA N 2 INCLUYE DILATACIÓN EN BRONCE | D93: M² | E93: 1 | F93: 28750 | G93: 3450 | H93: 1437.5 | I93: 2875 | J93: 546.25 | K93: =SUM(F93:J93) -> 37058.75 | L93: 35581 | M93: 3588 | N93: 1495 | O93: 2990 | P93: =+O93*0.19 -> 568.1 | Q93: =SUM(L93:P93) -> 44222.1 | R93: 29750 | S93: 5355 | T93: 892.5 | U93: 1487.5 | V93: 282.625 | W93: =SUM(R93:V93) -> 37767.625
A94: 92 | B94: 72152501 | C94: INSTALACIÓN GRAVILLA LAVADA No. 2 (INCLUYE VARILLA PLÁTICA DE DILATACIÓN) | D94: M² | E94: 1 | F94: 80500 | G94: 9660 | H94: 4025 | I94: 8050 | J94: 1529.5 | K94: =SUM(F94:J94) -> 103764.5 | L94: 100105.77 | M94: 10094.7 | N94: 4206.125 | O94: 8412.25 | P94: =+O94*0.19 -> 1598.3275 | Q94: =SUM(L94:P94) -> 124417.18 | R94: 83300 | S94: 14994 | T94: 2499 | U94: 4165 | V94: 791.35 | W94: =SUM(R94:V94) -> 105749.35
A95: 93 | B95: 72152501 | C95: MANTENIMIENTO ANDEN CONCRETO 2,500 PSI REFORZADO E= 0,07M, ACABADO: ESCOBIADO, (INCLUYE MALLA ELECTRO SOLDADA M-084) | D95: M² | E95: 1 | F95: 23000 | G95: 2760 | H95: 1150 | I95: 2300 | J95: 437 | K95: =SUM(F95:J95) -> 29647 | L95: 29012.2 | M95: 2925.6 | N95: 1219 | O95: 2438 | P95: =+O95*0.19 -> 463.22 | Q95: =SUM(L95:P95) -> 36058.02 | R95: 23800 | S95: 4284 | T95: 714 | U95: 1190 | V95: 226.1 | W95: =SUM(R95:V95) -> 30214.1
A96: 94 | B96: 72101510 | C96: MANTENIMIENTO E INSTALACIÓN REJILLA ALUMINIO 6" X 4" CÚPULA TRADICIONAL CON SOSCO - REF, C-6"X4" TIPO COLREJILLAS O SIMILAR | D96: UND | E96: 1 | F96: 25300 | G96: 3036 | H96: 1265 | I96: 2530 | J96: 480.7 | K96: =SUM(F96:J96) -> 32611.7 | L96: 31010.21 | M96: 3127.08 | N96: 1302.95 | O96: 2605.9 | P96: =+O96*0.19 -> 495.121 | Q96: =SUM(L96:P96) -> 38541.261 | R96: 26180 | S96: 4712.4 | T96: 785.4 | U96: 1309 | V96: 248.71 | W96: =SUM(R96:V96) -> 33235.51
A97: 95 | B97: 72154013 | C97: MANTENIMIENTO CERRAMIENTO EN POLISOMBRA NEGRA 80% RETENCIÓN DE LA LUZ, H=2M, | D97: M² | E97: 1 | F97: 23000 | G97: 2760 | H97: 1150 | I97: 2300 | J97: 437 | K97: =SUM(F97:J97) -> 29647 | L97: 28054.25 | M97: 2829 | N97: 1178.75 | O97: 2357.5 | P97: =+O97*0.19 -> 447.925 | Q97: =SUM(L97:P97) -> 34867.425 | R97: 23800 | S97: 4284 | T97: 714 | U97: 1190 | V97: 226.1 | W97: =SUM(R97:V97) -> 30214.1
A98: 96 | B98: 72151302 | C98: MANTENIMIENTO RETIRO DE CAPAS DE PINTURA DETERIORADA POR HUMEDAD (RASPADO Y LIJADO) | D98: M² | E98: 1 | F98: 29750 | G98: 17250 | H98: 7187.5 | I98: 14375 | J98: 2731.25 | K98: =SUM(F98:J98) -> 71293.75 | L98: 28054.244 | M98: 17853.75 | N98: 7439.0625 | O98: 14878.125 | P98: =+O98*0.19 -> 2826.8438 | Q98: =SUM(L98:P98) -> 71052.025 | R98: 23800 | S98: 26775 | T98: 4462.5 | U98: 7437.5 | V98: 1413.125 | W98: =SUM(R98:V98) -> 63888.125
A99: 97 | B99: 72151903 | C99: MANTENIMIENTO RETIRO MANUAL DE ADOQUÍN SOBRE ARENA (INCLUYE CARGUE Y RETIRO DE ESCOMBROS) | D99: M² | E99: 1 | F99: 50600 | G99: 6072 | H99: 2530 | I99: 5060 | J99: 961.4 | K99: =SUM(F99:J99) -> 65223.4 | L99: 67740.75 | M99: 6831 | N99: 2846.25 | O99: 5692.5 | P99: =+O99*0.19 -> 1081.575 | Q99: =SUM(L99:P99) -> 84192.075 | R99: 52360 | S99: 9424.8 | T99: 1570.8 | U99: 2618 | V99: 497.42 | W99: =SUM(R99:V99) -> 66471.02
A100: 98 | B100: 72151501 | C100: MANTENIMIENTO Y REINSTALACIÓN DE LUMINARIA LIMPIEZA Y PUESTA EN FUNCIONAMIENTO | D100: Servicio | E100: 1 | F100: 20700 | G100: 2484 | H100: 1035 | I100: 2070 | J100: 393.3 | K100: =SUM(F100:J100) -> 26682.3 | L100: 27465.795 | M100: 2769.66 | N100: 1154.025 | O100: 2308.05 | P100: =+O100*0.19 -> 438.5295 | Q100: =SUM(L100:P100) -> 34136.059 | R100: 21420 | S100: 3855.6 | T100: 642.6 | U100: 1071 | V100: 203.49 | W100: =SUM(R100:V100) -> 27192.69
A101: 99 | B101: 72151402 | C101: DEMOLICIÓN - RETIRO PAÑETE DETERIORADO Y PAÑETADA (INCLUYE CARGUE Y RETIRO DE ESCOMBROS) | D101: M² | E101: 1 | F101: 5175 | G101: 621 | H101: 258.75 | I101: 517.5 | J101: 98.325 | K101: =SUM(F101:J101) -> 6670.575 | L101: 7051.1963 | M101: 711.045 | N101: 296.26875 | O101: 592.5375 | P101: =+O101*0.19 -> 112.58213 | Q101: =SUM(L101:P101) -> 8763.6296 | R101: 5355 | S101: 963.9 | T101: 160.65 | U101: 267.75 | V101: 50.8725 | W101: =SUM(R101:V101) -> 6798.1725
A102: 100 | B102: 72152101 | C102: DESMONTE, MONTE E INSTALACIÓN LAMINA PVC CIELO RAZO COLOR BLANCO BRILLANTE A TODO COSTO LAMINA PVC BLANCO BRILLANTE 7MM LARGO: 5,95 CM ANCHO: 25 CM | D102: Unidad | E102: 1 | F102: 13800 | G102: 1656 | H102: 690 | I102: 1380 | J102: 262.2 | K102: =SUM(F102:J102) -> 17788.2 | L102: 17078.88 | M102: 1722.24 | N102: 717.6 | O102: 1435.2 | P102: =+O102*0.19 -> 272.688 | Q102: =SUM(L102:P102) -> 21226.608 | R102: 14280 | S102: 2570.4 | T102: 428.4 | U102: 714 | V102: 135.66 | W102: =SUM(R102:V102) -> 18128.46
... A410: 408 | B410: 72154032 | C410: COLUMNAS Y VIGAS, EN CONCRETO DE RESISTENCIA 3000 PSI, 30X30 CM. A TODO COSTO | D410: M3 | E410: 1 | F410: 92000 | G410: 9600 | H410: 4000 | I410: 8000 | J410: 1520 | K410: =SUM(F410:J410) -> 115120 | L410: 116048.8 | M410: 9600 | N410: 4000 | O410: 8000 | P410: =+O410*0.19 -> 1520 | Q410: =SUM(L410:P410) -> 139168.8 | R410: 95200 | S410: 17136 | T410: 2856 | U410: 4760 | V410: 904.4 | W410: =SUM(R410:V410) -> 120856.4
L411: =SUM(L3:L410) -> 77204276 | Q411: =SUM(Q3:Q410) -> 1.5247516e+08

Sheet VALOR INDEXADO
A1: ÍTEM | B1: CODIGOS UNSPC | C1: DESCRIPCIÓN | D1: UNIDAD DE MEDIDA | E1: CANTIDAD | F1: UNSPSC (CCE) | G1: VALORES POR INTEM DEL CONTRATO 061 SIN AIU | H1: IPC 2025 | I1: VALOR INDEXADO SIN AIU | J1: AIU DEL PROCESO | K1: VALOR INDEXADO CON AIU
A2: 1 | B2: 72141510 | C2: DEMOLICIÓN ANDEN EN CONCRETO HASTA H=0,10 M, (INCLUYE EL SARDINEL CARGUE Y RETIRO DE ESCOMBROS) | D2: M² | E2: 1 | F2: 72141510 | G2: 41781.75 | H2: 1.051 | I2: =+G2*H2 -> 43912.619 | J2: 10424.547 | K2: =+I2+J2 -> 54337.166
A3: 2 | B3: 72141510 | C3: DEMOLICIÓN PAÑETE DE ESPESOR DE 005M BAJO PLACA (INCLUYE CARGUE Y RETIRO DE ESCOMBROS) | D3: M² | E3: 1 | F3: 72141510 | G3: 15368 | H3: =+H2 -> 1.051 | I3: =+G3*H3 -> 16151.768 | J3: 3834.316 | K3: =+I3+J3 -> 19986.084
A4: 3 | B4: 72141510 | C4: DEMOLICIÓN - RETIRO PAÑETE DETERIORADO (INCLUYE CARGUE Y RETIRO DE ESCOMBROS | D4: M² | E4: 1 | F4: 72141510 | G4: 11526 | H4: =+H3 -> 1.051 | I4: =+G4*H4 -> 12113.826 | J4: 2875.737 | K4: =+I4+J4 -> 14989.563
A5: 4 | B5: 72141510 | C5: DEMOLICIÓN Y RETIRO DE ENCHAPE EN PIEDRA MUÑECA (INCLUYE CARGUE Y RETIRO DE ESCOMBROS) | D5: M² | E5: 1 | F5: 72141510 | G5: 11526 | H5: =+H4 -> 1.051 | I5: =+G5*H5 -> 12113.826 | J5: 2875.737 | K5: =+I5+J5 -> 14989.563
A6: 5 | B6: 72141510 | C6: DEMOLICIÓN ÁREA LIBRE PISO DURO (INCLUYE CARGUE Y RETIRO DE ESCOMBROS) | D6: M² | E6: 1 | F6: 72141510 | G6: 36499 | H6: =+H5 -> 1.051 | I6: =+G6*H6 -> 38360.449 | J6: 9106.5005 | K6: =+I6+J6 -> 47466.95
A7: 6 | B7: 72141510 | C7: DEMOLICIÓN DE BANCAS A=0,35 M, (INCLUYE MURETES EN MAMPOSTERÍA Y PLACA CARGUE Y RETIRO DE ESCOMBROS), | D7: ML | E7: 1 | F7: 72141510 | G7: 24012.5 | H7: =+H6 -> 1.051 | I7: =+G7*H7 -> 25237.137 | J7: 5991.1187 | K7: =+I7+J7 -> 31228.256
A8: 7 | B8: 72141510 | C8: DEMOLICIÓN DE ENCHAPE DE PARED (INCLUYE CARGUE Y RETIRO DE ESCOMBROS) | D8: M² | E8: 1 | F8: 72141510 | G8: 17289 | H8: =+H7 -> 1.051 | I8: =+G8*H8 -> 18170.739 | J8: 4313.6055 | K8: =+I8+J8 -> 22484.344
A9: 8 | B9: 72141510 | C9: DEMOLICIÓN DE ENCHAPE DE PISOS (INCLUYE CARGUE Y RETIRO DE ESCOMBROS) | D9: M² | E9: 1 | F9: 72141510 | G9: 18249.5 | H9: =+H8 -> 1.051 | I9: =+G9*H9 -> 19180.225 | J9: 4553.2503 | K9: =+I9+J9 -> 23733.475
A10: 9 | B10: 72141510 | C10: DEMOLICIÓN MANUAL DE SARDINEL EXISTENTE (INCLUYE CARGUE Y RETIRO DE ESCOMBROS) | D10: ML | E10: 1 | F10: 72141510 | G10: 14407.5 | H10: =+H9 -> 1.051 | I10: =+G10*H10 -> 15142.282 | J10: 3594.6712 | K10: =+I10+J10 -> 18736.954
A11: 10 | B11: 72141510 | C11: DEMOLICIÓN MURO DE CEMENTO. | D11: M² | E11: 1 | F11: 72141510 | G11: 14407.5 | H11: =+H10 -> 1.051 | I11: =+G11*H11 -> 15142.282 | J11: 3594.6712 | K11: =+I11+J11 -> 18736.954
A12: 11 | B12: 72141510 | C12: DEMOLICIÓN MURO DE LADRILLO DE ESPESOR MENOR A 0.15 METROS. | D12: M² | E12: 1 | F12: 72141510 | G12: 17289 | H12: =+H11 -> 1.051 | I12: =+G12*H12 -> 18170.739 | J12: 4313.6055 | K12: =+I12+J12 -> 22484.344
A13: 12 | B13: 72141510 | C13: DEMOLICIÓN PLACA PISO. | D13: M² | E13: 1 | F13: 72141510 | G13: 14407.5 | H13: =+H12 -> 1.051 | I13: =+G13*H13 -> 15142.282 | J13: 3594.6712 | K13: =+I13+J13 -> 18736.954
A14: 13 | B14: 72141510 | C14: DEMOLICIÓN PLACAS MACIZAS DE ESPESOR MAYOR A 0.15 METROS. | D14: M² | E14: 1 | F14: 72141510 | G14: 19210 | H14: =+H13 -> 1.051 | I14: =+G14*H14 -> 20189.71 | J14: 4792.895 | K14: =+I14+J14 -> 24982.605
... A462: 461 | B462: 72102905 | C462: APLICACIÓN DE PLACA PARA PISO RIGIDO DE 7 X 8 MTS X 15 CMS DE ESPESOR | D462: M² | E462: 1 | F462: 72153605 | G462: 21131 | H462: =+H461 -> 1.051 | I462: =+G462*H462 -> 22208.681 | J462: 5272.1845 | K462: =+I462+J462 -> 27480.865
A463: 462 | B463: 72102900 | C463: MANTENIMIENTO A TODO COSTO CERRAMIENTO EN POLISOMBRA NEGRA 80 PORCIENTOS RETENCIÓN DE LA LUZ, H=2M, | D463: M2 | E463: 1 | F463: 72151501 | G463: 17289 | H463: =+H462 -> 1.051 | I463: =+G463*H463 -> 18170.739 | J463: 4313.6055 | K463: =+I463+J463 -> 22484.344
A464: 463 | B464: 72102905 | C464: MANTENIMIENTO A TODO COSTO DESMONTE DE ESTRUCTURA METALICA,INCLUYE EQUIPO DE OXIACETILENO CARGUE Y RETIRO DE MATERIAL DESMONTADO, | D464: KG | E464: 1 | F464: 72151502 | G464: 22091.5 | H464: =+H463 -> 1.051 | I464: =+G464*H464 -> 23218.166 | J464: 5511.8292 | K464: =+I464+J464 -> 28729.996
A465: 464 | B465: 72102905 | C465: MANTENIMIENTO A TODO COSTO DEMOLICIÓN AREA LIBRE PISO DURO INCLUYE CARGUE Y RETIRO DE ESCOMBROS, | D465: M2 | E465: 1 | F465: 72151501 | G465: 18249.5 | H465: =+H464 -> 1.051 | I465: =+G465*H465 -> 19180.225 | J465: 4553.2503 | K465: =+I465+J465 -> 23733.475
A466: 465 | B466: 72102905 | C466: MANTENIMIENTO A TODO COSTO DEMOLICIÓN ENCHAPE DE PISOS INCLUYE CARGUE Y RETIRO DE ESCOMBROS, | D466: M2 | E466: 1 | F466: 72151501 | G466: 17289 | H466: =+H465 -> 1.051 | I466: =+G466*H466 -> 18170.739 | J466: 4313.6055 | K466: =+I466+J466 -> 22484.344
A467: 466 | B467: 72102905 | C467: MANTENIMIENTO A TODO COSTO DEMOLICIÓN ENCHAPE DE MUROS INCLUYE CARGUE Y RETIRO DE ESCOMBROS | D467: M2 | E467: 1 | F467: 72151502 | G467: 24012.5 | H467: =+H466 -> 1.051 | I467: =+G467*H467 -> 25237.137 | J467: 5991.1187 | K467: =+I467+J467 -> 31228.256
A468: 467 | B468: 72102905 | C468: MANTENIMIENTO A TODO COSTO DEMOLICIÓN DE MESONES A=0,60 M, INCLUYE CARGUE Y RETIRO DE ESCOMBROS, | D468: ML | E468: 1 | F468: 72151502 | G468: 21131 | H468: =+H467 -> 1.051 | I468: =+G468*H468 -> 22208.681 | J468: 5272.1845 | K468: =+I468+J468 -> 27480.865
A469: 468 | B469: 72102905 | C469: MANTENIMIENTO A TODO COSTO DEMOLICIÓN DE IMPERMEABILIZACION EN PLACA DE CUBIERTA INCLUYE RETIRO DE MANTOS CARGUE Y RETIRO DE ESCOMBROS, | D469: M2 | E469: 1 | F469: 72151502 | G469: 17289 | H469: =+H468 -> 1.051 | I469: =+G469*H469 -> 18170.739 | J469: 4313.6055 | K469: =+I469+J469 -> 22484.344
A470: 469 | B470: 72102905 | C470: MANTENIMIENTO A TODO COSTO DEMOLICIÓN - RETIRO PAÑETE DETERIORADO INCLUYE CARGUE Y RETIRO DE ESCOMBROS | D470: M2 | E470: 1 | F470: 72151502 | G470: 15368 | H470: =+H469 -> 1.051 | I470: =+G470*H470 -> 16151.768 | J470: 3834.316 | K470: =+I470+J470 -> 19986.084
A471: 470 | B471: 72102905 | C471: MANTENIMIENTO A TODO COSTO DEMOLICIÓN MANUAL DE SARDINEL EXISTENTE INCLUYE CARGUE Y RETIRO DE ESCOMBROS, | D471: ML | E471: 1 | F471: 72151502 | G471: 14407.5 | H471: =+H470 -> 1.051 | I471: =+G471*H471 -> 15142.282 | J471: 3594.6712 | K471: =+I471+J471 -> 18736.954
A472: 471 | B472: 72102900 | C472: MANTENIMIENTO A TODO COSTO RETIRO MANUAL DE ADOQUIN SOBRE ARENA INCLUYE CARGUE Y RETIRO DE ESCOMBROS, | D472: M2 | E472: 1 | F472: 72153605 | G472: 11526 | H472: =+H471 -> 1.051 | I472: =+G472*H472 -> 12113.826 | J472: 2875.737 | K472: =+I472+J472 -> 14989.563
A473: 472 | B473: 72102905 | C473: MANTENIMIENTO A TODO COSTO DEMOLICIÓN Y RETIRO DE ENCHAPE EN PIEDRA MUÑECA INCLUYE CARGUE Y RETIRO DE ESCOMBROS, | D473: M2 | E473: 1 | F473: 72151502 | G473: 15368 | H473: =+H472 -> 1.051 | I473: =+G473*H473 -> 16151.768 | J473: 3834.316 | K473: =+I473+J473 -> 19986.084
A474: 473 | B474: 72102905 | C474: MANTENIMIENTO A TODO COSTO DEMOLICIÓN PAÑETE DE ESPESOR DE 005M BAJO PLACA INCLUYE CARGUE Y RETIRO DE ESCOMBROS | D474: M2 | E474: 1 | F474: 72151502 | G474: 11526 | H474: =+H473 -> 1.051 | I474: =+G474*H474 -> 12113.826 | J474: 2875.737 | K474: =+I474+J474 -> 14989.563
A475: 474 | B475: 72102905 | C475: MANTENIMIENTO A TODO COSTO DESMONTE APARATOS SANITARIOS INCLUYE CARGUE Y RETIRO DE MATERIAL DESMONTADO, | D475: UND | E475: 1 | F475: 72151501 | G475: 48025 | H475: =+H474 -> 1.051 | I475: =+G475*H475 -> 50474.275 | J475: 11982.237 | K475: =+I475+J475 -> 62456.512
... A801: 800 | B801: 72101501 | C801: MANTENIMIENTO A TODO COSTO CONSISTENTE EN REPARACION GRIFERÍA DE LAVAPLATOS MEZCLADOR 8, CIERRE CERÁMICO RESISTENTE A LA CORROSIÓN, PELADO Y DECOLORACIÓN POR AGUA RECUBRIMIENTOS NO TÓXICO CONDICIÓN DE SERVICIO RECOMENDADA, USO DOMÉSTICO PRESIÓN DE TRABAJO MÁXIMA RECOMENDADA 860 KPA 125 PSI) PRESIÓN MÍNIMA RECOMENDADA 138 KPA 20 PSI | D801: UNIDAD | E801: 1 | F801: 72154032 | G801: 115260 | H801: =+H800 -> 1.051 | I801: =+G801*H801 -> 121138.26 | J801: 28757.37 | K801: =+I801+J801 -> 149895.63
A802: 801 | B802: 72102900 | C802: MATENIMIENTO TEJA FIBROCEMENTO | D802: UNIDAD | E802: 1 | F802: 72153002 | G802: 14407.5 | H802: =+H801 -> 1.051 | I802: =+G802*H802 -> 15142.282 | J802: 3594.6712 | K802: =+I802+J802 -> 18736.954
A803: 759 | C803: SUB TOTAL | D803: ANEXO | E803: E PREV | G803: =SUM(G2:G802) -> 80520156 | H803: =+H802 -> 1.051 | I803: =+G803*H803 -> 84626684 | K803: 76623.53
A804: 760 | C804: ADMINISTRACION | D804: 0.18 | E804: 0.19 | G804: =+G803*E804 -> 15298830 | H804: =+H803 -> 1.051 | I804: =+G804*H804 -> 16079070 | K804: =+K803*E804 -> 14558.471
A805: 761 | C805: IMPREVISTO | D805: 0.01 | E805: 0.02 | G805: =+G803*E805 -> 1610403.1 | H805: =+H804 -> 1.051 | I805: =+G805*H805 -> 1692533.7 | K805: =+K803*E805 -> 1532.4706
A806: 762 | C806: UTILIDAD | D806: 0.05 | E806: 0.04 | G806: =+G803*D806 -> 4026007.8 | H806: =+H805 -> 1.051 | I806: =+G806*H806 -> 4231334.2 | K806: =+K803*E806 -> 3064.9412
A807: 763 | C807: IVA SOBRE UTILIDAD | D807: 0.19 | E807: 0.19 | G807: =+G806*D807 -> 764941.48 | H807: =+H806 -> 1.051 | I807: =+G807*H807 -> 803953.5 | K807: =+K806*19/100 -> 582.33883
A808: 764 | C808: VALOR TOTAL | G808: =SUM(G803:G807) -> 1.0222034e+08 | H808: =+H807 -> 1.051 | I808: =+G808*H808 -> 1.0743357e+08 | K808: =+K803+K804+K805+K806+K807 -> 96361.751
H809: =+H808 -> 1.051 | I809: =+G809*H809 -> 0
G810: OFERTA SECOP II | H810: =+H809 -> 1.051 | I810: =+G810*H810 -> #VALUE!

Sheet ANALISIS DE PRECIOS
A1: CALCULO CON USO DE METRICAS ESTADISTICAS | J1: ANALISIS ECONÓMICO
F2: =+'VALOR INDEXADO'!#REF! -> #REF! | G2: PROVEEDOR: AUTOPARTES AGRICOLAS JPM SAS NIT 900.940.380-1 | H2: PROVEEDOR: COMERCIALIZADORA SEVERAL PARTS SAS NIT 900.709.559-4 | I2: COMERCIALIZADORA SEVERAL PARTS SAS | J2: MENOR VALOR COTIZADO | K2: PROMEDIO | L2: MEDIA ARMONICA COTIZACIONES | M2: MEDIA GEOMETRICA | N2: DESVIACION | O2: DISPERSION % | P2: PRECIO DE REFERENCIA VALOR UNITARIO INCLUIDO IVA | Q2: METRICA UTILIZADA
A3: ITEM | B3: CODIGO | C3: DESCRIPCIÓN | D3: UNIDAD DE MEDIDA | E3: CANTIDAD
A4: =+COTIZACIONES!A3 -> 1 | B4: =+COTIZACIONES!C3 -> DEMOLICIÓN ANDEN EN CONCRETO HASTA H=0,10 M, (INCLUYE EL SARDINEL CARGUE Y RETIRO DE ESCOMBROS) | C4: =+COTIZACIONES!C3 -> DEMOLICIÓN ANDEN EN CONCRETO HASTA H=0,10 M, (INCLUYE EL SARDINEL CARGUE Y RETIRO DE ESCOMBROS) | D4: =+COTIZACIONES!D3 -> M² | E4: =+COTIZACIONES!E3 -> 1 | F4: =+#REF! -> #REF! | G4: =+COTIZACIONES!K3 -> 64482.225 | H4: =+COTIZACIONES!Q3 -> 76946.454 | I4: =+COTIZACIONES!W3 -> 65715.667 | J4: =MIN(G4:I4) -> 64482.225 | K4: =AVERAGE(G4:I4) -> 69048.115 | L4: =HARMEAN(G4:I4) -> 68616.486 | M4: =GEOMEAN(G4:I4) -> 68828.111 | N4: =_xlfn.STDEV.S(G4:I4) -> 6867.9079 | O4: =+N4/K4 -> 0.099465537 | P4: =ROUND(+IF(O4<=25%,J4,IF(O4<=60%,L4,IF(O4<=90%,M4,IF(O4<=100%,K4)))),0) -> 64482 | Q4: =+IF(P4<=26%,"MENOR VALOR",IF(P4<=60%,"MEDIA ARMONICA",IF(P4<=90%,"MEDIA GEOMETRICA","MENOR VALOR"))) -> MENOR VALOR
A5: =+COTIZACIONES!A4 -> 2 | B5: =+COTIZACIONES!C4 -> DEMOLICIÓN PAÑETE DE ESPESOR DE 005M BAJO PLACA (INCLUYE CARGUE Y RETIRO DE ESCOMBROS) | C5: =+COTIZACIONES!C4 -> DEMOLICIÓN PAÑETE DE ESPESOR DE 005M BAJO PLACA (INCLUYE CARGUE Y RETIRO DE ESCOMBROS) | D5: =+COTIZACIONES!D4 -> M² | E5: =+COTIZACIONES!E4 -> 1 | F5: =+#REF! -> #REF! | G5: =+COTIZACIONES!K4 -> 23717.6 | H5: =+COTIZACIONES!Q4 -> 28438.212 | I5: =+COTIZACIONES!W4 -> 18221.28 | J5: =MIN(G5:I5) -> 18221.28 | K5: =AVERAGE(G5:I5) -> 23459.031 | L5: =HARMEAN(G5:I5) -> 22691.581 | M5: =GEOMEAN(G5:I5) -> 23077.245 | N5: =_xlfn.STDEV.S(G5:I5) -> 5113.3715 | O5: =+N5/K5 -> 0.21797028 | P5: =ROUND(+IF(O5<=25%,J5,IF(O5<=60%,L5,IF(O5<=90%,M5,IF(O5<=100%,K5)))),0) -> 18221 | Q5: =+IF(P5<=26%,"MENOR VALOR",IF(P5<=60%,"MEDIA ARMONICA",IF(P5<=90%,"MEDIA GEOMETRICA","MENOR VALOR"))) -> MENOR VALOR
A6: =+COTIZACIONES!A5 -> 3 | B6: =+COTIZACIONES!C5 -> DEMOLICIÓN - RETIRO PAÑETE DETERIORADO (INCLUYE CARGUE Y RETIRO DE ESCOMBROS) | C6: =+COTIZACIONES!C5 -> DEMOLICIÓN - RETIRO PAÑETE DETERIORADO (INCLUYE CARGUE Y RETIRO DE ESCOMBROS) | D6: =+COTIZACIONES!D5 -> M² | E6: =+COTIZACIONES!E5 -> 1 | F6: =+#REF! -> #REF! | G6: =+COTIZACIONES!K5 -> 17788.2 | H6: =+COTIZACIONES!Q5 -> 21634.812 | I6: =+COTIZACIONES!W5 -> 18128.46 | J6: =MIN(G6:I6) -> 17788.2 | K6: =AVERAGE(G6:I6) -> 19183.824 | L6: =HARMEAN(G6:I6) -> 19035.445 | M6: =GEOMEAN(G6:I6) -> 19108.005 | N6: =_xlfn.STDEV.S(G6:I6) -> 2129.425 | O6: =+N6/K6 -> 0.11100107 | P6: =ROUND(+IF(O6<=25%,J6,IF(O6<=60%,L6,IF(O6<=90%,M6,IF(O6<=100%,K6)))),0) -> 17788 | Q6: =+IF(P6<=26%,"MENOR VALOR",IF(P6<=60%,"MEDIA ARMONICA",IF(P6<=90%,"MEDIA GEOMETRICA","MENOR VALOR"))) -> MENOR VALOR
A7: =+COTIZACIONES!A6 -> 4 | B7: =+COTIZACIONES!C6 -> DEMOLICIÓN Y RETIRO DE ENCHAPE EN PIEDRA MUÑECA (INCLUYE CARGUE Y RETIRO DE ESCOMBROS) | C7: =+COTIZACIONES!C6 -> DEMOLICIÓN Y RETIRO DE ENCHAPE EN PIEDRA MUÑECA (INCLUYE CARGUE Y RETIRO DE ESCOMBROS) | D7: =+COTIZACIONES!D6 -> M² | E7: =+COTIZACIONES!E6 -> 1 | F7: =+#REF! -> #REF! | G7: =+COTIZACIONES!K6 -> 17788.2 | H7: =+COTIZACIONES!Q6 -> 21022.506 | I7: =+COTIZACIONES!W6 -> 18128.46 | J7: =MIN(G7:I7) -> 17788.2 | K7: =AVERAGE(G7:I7) -> 18979.722 | L7: =HARMEAN(G7:I7) -> 18874.217 | M7: =GEOMEAN(G7:I7) -> 18926.013 | N7: =_xlfn.STDEV.S(G7:I7) -> 1777.2645 | O7: =+N7/K7 -> 0.093640175 | P7: =ROUND(+IF(O7<=25%,J7,IF(O7<=60%,L7,IF(O7<=90%,M7,IF(O7<=100%,K7)))),0) -> 17788 | Q7: =+IF(P7<=26%,"MENOR VALOR",IF(P7<=60%,"MEDIA ARMONICA",IF(P7<=90%,"MEDIA GEOMETRICA","MENOR VALOR"))) -> MENOR VALOR
A8: =+COTIZACIONES!A7 -> 5 | B8: =+COTIZACIONES!C7 -> DEMOLICIÓN ÁREA LIBRE PISO DURO (INCLUYE CARGUE Y RETIRO DE ESCOMBROS) | C8: =+COTIZACIONES!C7 -> DEMOLICIÓN ÁREA LIBRE PISO DURO (INCLUYE CARGUE Y RETIRO DE ESCOMBROS) | D8: =+COTIZACIONES!D7 -> M² | E8: =+COTIZACIONES!E7 -> 1 | F8: =+#REF! -> #REF! | G8: =+COTIZACIONES!K7 -> 56329.3 | H8: =+COTIZACIONES!Q7 -> 66248.107 | I8: =+COTIZACIONES!W7 -> 57406.79 | J8: =MIN(G8:I8) -> 56329.3 | K8: =AVERAGE(G8:I8) -> 59994.733 | L8: =HARMEAN(G8:I8) -> 59681.227 | M8: =GEOMEAN(G8:I8) -> 59835.239 | N8: =_xlfn.STDEV.S(G8:I8) -> 5442.313 | O8: =+N8/K8 -> 0.09071318 | P8: =ROUND(+IF(O8<=25%,J8,IF(O8<=60%,L8,IF(O8<=90%,M8,IF(O8<=100%,K8)))),0) -> 56329 | Q8: =+IF(P8<=26%,"MENOR VALOR",IF(P8<=60%,"MEDIA ARMONICA",IF(P8<=90%,"MEDIA GEOMETRICA","MENOR VALOR"))) -> MENOR VALOR
A9: =+COTIZACIONES!A8 -> 6 | B9: =+COTIZACIONES!C8 -> DEMOLICIÓN DE BANCAS A=0,35 M, (INCLUYE MURETES EN MAMPOSTERÍA Y PLACA CARGUE Y RETIRO DE ESCOMBROS), | C9: =+COTIZACIONES!C8 -> DEMOLICIÓN DE BANCAS A=0,35 M, (INCLUYE MURETES EN MAMPOSTERÍA Y PLACA CARGUE Y RETIRO DE ESCOMBROS), | D9: =+COTIZACIONES!D8 -> ML | E9: =+COTIZACIONES!E8 -> 1 | F9: =+#REF! -> #REF! | G9: =+COTIZACIONES!K8 -> 37058.75 | H9: =+COTIZACIONES!Q8 -> 44009.494 | I9: =+COTIZACIONES!W8 -> 37767.625 | J9: =MIN(G9:I9) -> 37058.75 | K9: =AVERAGE(G9:I9) -> 39611.956 | L9: =HARMEAN(G9:I9) -> 39378.216 | M9: =GEOMEAN(G9:I9) -> 39492.892 | N9: =_xlfn.STDEV.S(G9:I9) -> 3824.837 | O9: =+N9/K9 -> 0.096557639 | P9: =ROUND(+IF(O9<=25%,J9,IF(O9<=60%,L9,IF(O9<=90%,M9,IF(O9<=100%,K9)))),0) -> 37059 | Q9: =+IF(P9<=26%,"MENOR VALOR",IF(P9<=60%,"MEDIA ARMONICA",IF(P9<=90%,"MEDIA GEOMETRICA","MENOR VALOR"))) -> MENOR VALOR
A10: =+COTIZACIONES!A9 -> 7 | B10: =+COTIZACIONES!C9 -> DEMOLICIÓN DE ENCHAPE DE PARED (INCLUYE CARGUE Y RETIRO DE ESCOMBROS) | C10: =+COTIZACIONES!C9 -> DEMOLICIÓN DE ENCHAPE DE PARED (INCLUYE CARGUE Y RETIRO DE ESCOMBROS) | D10: =+COTIZACIONES!D9 -> M² | E10: =+COTIZACIONES!E9 -> 1 | F10: =+#REF! -> #REF! | G10: =+COTIZACIONES!K9 -> 26682.3 | H10: =+COTIZACIONES!Q9 -> 34442.213 | I10: =+COTIZACIONES!W9 -> 27192.69 | J10: =MIN(G10:I10) -> 26682.3 | K10: =AVERAGE(G10:I10) -> 29439.068 | L10: =HARMEAN(G10:I10) -> 29045.35 | M10: =GEOMEAN(G10:I10) -> 29236.283 | N10: =_xlfn.STDEV.S(G10:I10) -> 4340.3594 | O10: =+N10/K10 -> 0.14743535 | P10: =ROUND(+IF(O10<=25%,J10,IF(O10<=60%,L10,IF(O10<=90%,M10,IF(O10<=100%,K10)))),0) -> 26682 | Q10: =+IF(P10<=26%,"MENOR VALOR",IF(P10<=60%,"MEDIA ARMONICA",IF(P10<=90%,"MEDIA GEOMETRICA","MENOR VALOR"))) -> MENOR VALOR
A11: =+COTIZACIONES!A10 -> 8 | B11: =+COTIZACIONES!C10 -> DEMOLICIÓN DE ENCHAPE DE PISOS (INCLUYE CARGUE Y RETIRO DE ESCOMBROS) | C11: =+COTIZACIONES!C10 -> DEMOLICIÓN DE ENCHAPE DE PISOS (INCLUYE CARGUE Y RETIRO DE ESCOMBROS) | D11: =+COTIZACIONES!D10 -> M² | E11: =+COTIZACIONES!E10 -> 1 | F11: =+#REF! -> #REF! | G11: =+COTIZACIONES!K10 -> 28164.65 | H11: =+COTIZACIONES!Q10 -> 36032.507 | I11: =+COTIZACIONES!W10 -> 28703.395 | J11: =MIN(G11:I11) -> 28164.65 | K11: =AVERAGE(G11:I11) -> 30966.851 | L11: =HARMEAN(G11:I11) -> 30581.881 | M11: =GEOMEAN(G11:I11) -> 30768.81 | N11: =_xlfn.STDEV.S(G11:I11) -> 4395.2495 | O11: =+N11/K11 -> 0.14193402 | P11: =ROUND(+IF(O11<=25%,J11,IF(O11<=60%,L11,IF(O11<=90%,M11,IF(O11<=100%,K11)))),0) -> 28165 | Q11: =+IF(P11<=26%,"MENOR VALOR",IF(P11<=60%,"MEDIA ARMONICA",IF(P11<=90%,"MEDIA GEOMETRICA","MENOR VALOR"))) -> MENOR VALOR
A12: =+COTIZACIONES!A11 -> 9 | B12: =+COTIZACIONES!C11 -> DEMOLICIÓN MANUAL DE SARDINEL EXISTENTE (INCLUYE CARGUE Y RETIRO DE ESCOMBROS) | C12: =+COTIZACIONES!C11 -> DEMOLICIÓN MANUAL DE SARDINEL EXISTENTE (INCLUYE CARGUE Y RETIRO DE ESCOMBROS) | D12: =+COTIZACIONES!D11 -> ML | E12: =+COTIZACIONES!E11 -> 1 | F12: =+#REF! -> #REF! | G12: =+COTIZACIONES!K11 -> 22235.25 | H12: =+COTIZACIONES!Q11 -> 29212.099 | I12: =+COTIZACIONES!W11 -> 22660.575 | J12: =MIN(G12:I12) -> 22235.25 | K12: =AVERAGE(G12:I12) -> 24702.641 | L12: =HARMEAN(G12:I12) -> 24323.891 | M12: =GEOMEAN(G12:I12) -> 24507.099 | N12: =_xlfn.STDEV.S(G12:I12) -> 3911.0907 | O12: =+N12/K12 -> 0.15832682 | P12: =ROUND(+IF(O12<=25%,J12,IF(O12<=60%,L12,IF(O12<=90%,M12,IF(O12<=100%,K12)))),0) -> 22235 | Q12: =+IF(P12<=26%,"MENOR VALOR",IF(P12<=60%,"MEDIA ARMONICA",IF(P12<=90%,"MEDIA GEOMETRICA","MENOR VALOR"))) -> MENOR VALOR
A13: =+COTIZACIONES!A12 -> 10 | B13: =+COTIZACIONES!C12 -> DEMOLICIÓN MURO DE CEMENTO. | C13: =+COTIZACIONES!C12 -> DEMOLICIÓN MURO DE CEMENTO. | D13: =+COTIZACIONES!D12 -> M² | E13: =+COTIZACIONES!E12 -> 1 | F13: =+#REF! -> #REF! | G13: =+COTIZACIONES!K12 -> 16885.25 | H13: =+COTIZACIONES!Q12 -> 23593.96 | I13: =+COTIZACIONES!W12 -> 22660.575 | J13: =MIN(G13:I13) -> 16885.25 | K13: =AVERAGE(G13:I13) -> 21046.595 | L13: =HARMEAN(G13:I13) -> 20585.094 | M13: =GEOMEAN(G13:I13) -> 20822.191 | N13: =_xlfn.STDEV.S(G13:I13) -> 3633.923 | O13: =+N13/K13 -> 0.17266085 | P13: =ROUND(+IF(O13<=25%,J13,IF(O13<=60%,L13,IF(O13<=90%,M13,IF(O13<=100%,K13)))),0) -> 16885 | Q13: =+IF(P13<=26%,"MENOR VALOR",IF(P13<=60%,"MEDIA ARMONICA",IF(P13<=90%,"MEDIA GEOMETRICA","MENOR VALOR"))) -> MENOR VALOR
A14: =+COTIZACIONES!A13 -> 11 | B14: =+COTIZACIONES!C13 -> DEMOLICIÓN MURO DE LADRILLO DE ESPESOR MENOR A 0.15 METROS. | C14: =+COTIZACIONES!C13 -> DEMOLICIÓN MURO DE LADRILLO DE ESPESOR MENOR A 0.15 METROS. | D14: =+COTIZACIONES!D13 -> M² | E14: =+COTIZACIONES!E13 -> 1 | F14: =+#REF! -> #REF! | G14: =+COTIZACIONES!K13 -> 17882.3 | H14: =+COTIZACIONES!Q13 -> 23244.704 | I14: =+COTIZACIONES!W13 -> 27192.69 | J14: =MIN(G14:I14) -> 17882.3 | K14: =AVERAGE(G14:I14) -> 22773.231 | L14: =HARMEAN(G14:I14) -> 22104.925 | M14: =GEOMEAN(G14:I14) -> 22442.256 | N14: =_xlfn.STDEV.S(G14:I14) -> 4673.067 | O14: =+N14/K14 -> 0.2052 | P14: =ROUND(+IF(O14<=25%,J14,IF(O14<=60%,L14,IF(O14<=90%,M14,IF(O14<=100%,K14)))),0) -> 17882 | Q14: =+IF(P14<=26%,"MENOR VALOR",IF(P14<=60%,"MEDIA ARMONICA",IF(P14<=90%,"MEDIA GEOMETRICA","MENOR VALOR"))) -> MENOR VALOR
A15: =+COTIZACIONES!A14 -> 12 | B15: =+COTIZACIONES!C14 -> DEMOLICIÓN PLACA PISO. A TODO COSTO | C15: =+COTIZACIONES!C14 -> DEMOLICIÓN PLACA PISO. A TODO COSTO | D15: =+COTIZACIONES!D14 -> M² | E15: =+COTIZACIONES!E14 -> 1 | F15: =+#REF! -> #REF! | G15: =+COTIZACIONES!K14 -> 22235.25 | H15: =+COTIZACIONES!Q14 -> 27043.515 | I15: =+COTIZACIONES!W14 -> 22660.575 | J15: =MIN(G15:I15) -> 22235.25 | K15: =AVERAGE(G15:I15) -> 23979.78 | L15: =HARMEAN(G15:I15) -> 23794.306 | M15: =GEOMEAN(G15:I15) -> 23885.006 | N15: =_xlfn.STDEV.S(G15:I15) -> 2661.7813 | O15: =+N15/K15 -> 0.11100107 | P15: =ROUND(+IF(O15<=25%,J15,IF(O15<=60%,L15,IF(O15<=90%,M15,IF(O15<=100%,K15)))),0) -> 22235 | Q15: =+IF(P15<=26%,"MENOR VALOR",IF(P15<=60%,"MEDIA ARMONICA",IF(P15<=90%,"MEDIA GEOMETRICA","MENOR VALOR"))) -> MENOR VALOR
... A90: =+COTIZACIONES!A89 -> 87 | B90: =+COTIZACIONES!C89 -> DESMONTE DE REJAS (INCLUYE CARGUE Y RETIRO DE MATERIAL DESMONTADO) | C90: =+COTIZACIONES!C89 -> DESMONTE DE REJAS (INCLUYE CARGUE Y RETIRO DE MATERIAL DESMONTADO) | D90: =+COTIZACIONES!D89 -> M² | E90: =+COTIZACIONES!E89 -> 1 | F90: =+#REF! -> #REF! | G90: =+COTIZACIONES!K89 -> 5632.93 | H90: =+COTIZACIONES!Q89 -> 6689.4431 | I90: =+COTIZACIONES!W89 -> 5740.679 | J90: =MIN(G90:I90) -> 5632.93 | K90: =AVERAGE(G90:I90) -> 6021.0173 | L90: =HARMEAN(G90:I90) -> 5985.4888 | M90: =GEOMEAN(G90:I90) -> 6002.9196 | N90: =_xlfn.STDEV.S(G90:I90) -> 581.37522 | O90: =+N90/K90 -> 0.096557639 | P90: =ROUND(+IF(O90<=25%,J90,IF(O90<=60%,L90,IF(O90<=90%,M90,IF(O90<=100%,K90)))),0) -> 5633 | Q90: =+IF(P90<=26%,"MENOR VALOR",IF(P90<=60%,"MEDIA ARMONICA",IF(P90<=90%,"MEDIA GEOMETRICA","MENOR VALOR"))) -> MENOR VALOR
A91: =+COTIZACIONES!A90 -> 88 | B91: =+COTIZACIONES!C90 -> DESMONTE DE TANQUES EN ASBESTO-CEMENTO DE 500 A 1000 LTS (INCLUYE CARGUE Y RETIRO DE MATERIAL DESMONTADO SEGÚN DISPONGA LA UNIDAD) | C91: =+COTIZACIONES!C90 -> DESMONTE DE TANQUES EN ASBESTO-CEMENTO DE 500 A 1000 LTS (INCLUYE CARGUE Y RETIRO DE MATERIAL DESMONTADO SEGÚN DISPONGA LA UNIDAD) | D91: =+COTIZACIONES!D90 -> UND | E91: =+COTIZACIONES!E90 -> 1 | F91: =+'VALOR INDEXADO'!I55 -> 5047.4275 | G91: =+COTIZACIONES!K90 -> 7708.22 | H91: =+COTIZACIONES!Q90 -> 8206.4185 | I91: =+COTIZACIONES!W90 -> 7553.525 | J91: =MIN(G91:I91) -> 7553.525 | K91: =AVERAGE(G91:I91) -> 7822.7212 | L91: =HARMEAN(G91:I91) -> 7812.9884 | M91: =GEOMEAN(G91:I91) -> 7817.8226 | N91: =_xlfn.STDEV.S(G91:I91) -> 341.17498 | O91: =+N91/K91 -> 0.043613338 | P91: =ROUND(+IF(O91<=25%,J91,IF(O91<=60%,L91,IF(O91<=90%,M91,IF(O91<=100%,K91)))),0) -> 7554 | Q91: =+IF(P91<=26%,"MENOR VALOR",IF(P91<=60%,"MEDIA ARMONICA",IF(P91<=90%,"MEDIA GEOMETRICA","MENOR VALOR"))) -> MENOR VALOR
A92: =+COTIZACIONES!A91 -> 89 | B92: =+COTIZACIONES!C91 -> DESMONTE MATENIMIENTO Y REINSTALACION DE VENTANERIA INCLUYE LIMPIEZA LIJADADA PINTURA ESMALTE Y REINSTALACIÓN, | C92: =+COTIZACIONES!C91 -> DESMONTE MATENIMIENTO Y REINSTALACION DE VENTANERIA INCLUYE LIMPIEZA LIJADADA PINTURA ESMALTE Y REINSTALACIÓN, | D92: =+COTIZACIONES!D91 -> M² | E92: =+COTIZACIONES!E91 -> 1 | F92: =+#REF! -> #REF! | G92: =+COTIZACIONES!K91 -> 1211500 | H92: =+COTIZACIONES!Q91 -> 1389622.5 | I92: =+COTIZACIONES!W91 -> 1360467.5 | J92: =MIN(G92:I92) -> 1211500 | K92: =AVERAGE(G92:I92) -> 1320530 | L92: =HARMEAN(G92:I92) -> 1315740.8 | M92: =GEOMEAN(G92:I92) -> 1318164.1 | N92: =_xlfn.STDEV.S(G92:I92) -> 95541.4 | O92: =+N92/K92 -> 0.072350799 | P92: =ROUND(+IF(O92<=25%,J92,IF(O92<=60%,L92,IF(O92<=90%,M92,IF(O92<=100%,K92)))),0) -> 1211500 | Q92: =+IF(P92<=26%,"MENOR VALOR",IF(P92<=60%,"MEDIA ARMONICA",IF(P92<=90%,"MEDIA GEOMETRICA","MENOR VALOR"))) -> MENOR VALOR
A93: =+COTIZACIONES!A92 -> 90 | B93: =+COTIZACIONES!C92 -> DESMONTE DE VENTANERIA (INCLUYE CARGUE Y RETIRO DE MATERIAL DESMONTADO). | C93: =+COTIZACIONES!C92 -> DESMONTE DE VENTANERIA (INCLUYE CARGUE Y RETIRO DE MATERIAL DESMONTADO). | D93: =+COTIZACIONES!D92 -> M² | E93: =+COTIZACIONES!E92 -> 1 | F93: =+#REF! -> #REF! | G93: =+COTIZACIONES!K92 -> 34094.05 | H93: =+COTIZACIONES!Q92 -> 44791.885 | I93: =+COTIZACIONES!W92 -> 34746.215 | J93: =MIN(G93:I93) -> 34094.05 | K93: =AVERAGE(G93:I93) -> 37877.383 | L93: =HARMEAN(G93:I93) -> 37296.632 | M93: =GEOMEAN(G93:I93) -> 37577.551 | N93: =_xlfn.STDEV.S(G93:I93) -> 5997.0058 | O93: =+N93/K93 -> 0.15832682 | P93: =ROUND(+IF(O93<=25%,J93,IF(O93<=60%,L93,IF(O93<=90%,M93,IF(O93<=100%,K93)))),0) -> 34094 | Q93: =+IF(P93<=26%,"MENOR VALOR",IF(P93<=60%,"MEDIA ARMONICA",IF(P93<=90%,"MEDIA GEOMETRICA","MENOR VALOR"))) -> MENOR VALOR
A94: =+COTIZACIONES!A93 -> 91 | B94: =+COTIZACIONES!C93 -> MANTENIMIENTO A TODO COSTO SUMINISTRO E INSTALACION GRAVILLA LAVADA N 2 INCLUYE DILATACIÓN EN BRONCE | C94: =+COTIZACIONES!C93 -> MANTENIMIENTO A TODO COSTO SUMINISTRO E INSTALACION GRAVILLA LAVADA N 2 INCLUYE DILATACIÓN EN BRONCE | D94: =+COTIZACIONES!D93 -> M² | E94: =+COTIZACIONES!E93 -> 1 | F94: =+#REF! -> #REF! | G94: =+COTIZACIONES!K93 -> 37058.75 | H94: =+COTIZACIONES!Q93 -> 44222.1 | I94: =+COTIZACIONES!W93 -> 37767.625 | J94: =MIN(G94:I94) -> 37058.75 | K94: =AVERAGE(G94:I94) -> 39682.825 | L94: =HARMEAN(G94:I94) -> 39434.762 | M94: =GEOMEAN(G94:I94) -> 39556.386 | N94: =_xlfn.STDEV.S(G94:I94) -> 3947.0735 | O94: =+N94/K94 -> 0.099465537 | P94: =ROUND(+IF(O94<=25%,J94,IF(O94<=60%,L94,IF(O94<=90%,M94,IF(O94<=100%,K94)))),0) -> 37059 | Q94: =+IF(P94<=26%,"MENOR VALOR",IF(P94<=60%,"MEDIA ARMONICA",IF(P94<=90%,"MEDIA GEOMETRICA","MENOR VALOR"))) -> MENOR VALOR
A95: =+COTIZACIONES!A94 -> 92 | B95: =+COTIZACIONES!C94 -> INSTALACIÓN GRAVILLA LAVADA No. 2 (INCLUYE VARILLA PLÁTICA DE DILATACIÓN) | C95: =+COTIZACIONES!C94 -> INSTALACIÓN GRAVILLA LAVADA No. 2 (INCLUYE VARILLA PLÁTICA DE DILATACIÓN) | D95: =+COTIZACIONES!D94 -> M² | E95: =+COTIZACIONES!E94 -> 1 | F95: =+#REF! -> #REF! | G95: =+COTIZACIONES!K94 -> 103764.5 | H95: =+COTIZACIONES!Q94 -> 124417.18 | I95: =+COTIZACIONES!W94 -> 105749.35 | J95: =MIN(G95:I95) -> 103764.5 | K95: =AVERAGE(G95:I95) -> 111310.34 | L95: =HARMEAN(G95:I95) -> 110574.6 | M95: =GEOMEAN(G95:I95) -> 110935.09 | N95: =_xlfn.STDEV.S(G95:I95) -> 11394.154 | O95: =+N95/K95 -> 0.10236384 | P95: =ROUND(+IF(O95<=25%,J95,IF(O95<=60%,L95,IF(O95<=90%,M95,IF(O95<=100%,K95)))),0) -> 103765 | Q95: =+IF(P95<=26%,"MENOR VALOR",IF(P95<=60%,"MEDIA ARMONICA",IF(P95<=90%,"MEDIA GEOMETRICA","MENOR VALOR"))) -> MENOR VALOR
A96: =+COTIZACIONES!A95 -> 93 | B96: =+COTIZACIONES!C95 -> MANTENIMIENTO ANDEN CONCRETO 2,500 PSI REFORZADO E= 0,07M, ACABADO: ESCOBIADO, (INCLUYE MALLA ELECTRO SOLDADA M-084) | C96: =+COTIZACIONES!C95 -> MANTENIMIENTO ANDEN CONCRETO 2,500 PSI REFORZADO E= 0,07M, ACABADO: ESCOBIADO, (INCLUYE MALLA ELECTRO SOLDADA M-084) | D96: =+COTIZACIONES!D95 -> M² | E96: =+COTIZACIONES!E95 -> 1 | F96: =+#REF! -> #REF! | G96: =+COTIZACIONES!K95 -> 29647 | H96: =+COTIZACIONES!Q95 -> 36058.02 | I96: =+COTIZACIONES!W95 -> 30214.1 | J96: =MIN(G96:I96) -> 29647 | K96: =AVERAGE(G96:I96) -> 31973.04 | L96: =HARMEAN(G96:I96) -> 31725.742 | M96: =GEOMEAN(G96:I96) -> 31846.675 | N96: =_xlfn.STDEV.S(G96:I96) -> 3549.0417 | O96: =+N96/K96 -> 0.11100107 | P96: =ROUND(+IF(O96<=25%,J96,IF(O96<=60%,L96,IF(O96<=90%,M96,IF(O96<=100%,K96)))),0) -> 29647 | Q96: =+IF(P96<=26%,"MENOR VALOR",IF(P96<=60%,"MEDIA ARMONICA",IF(P96<=90%,"MEDIA GEOMETRICA","MENOR VALOR"))) -> MENOR VALOR
A97: =+COTIZACIONES!A96 -> 94 | B97: =+COTIZACIONES!C96 -> MANTENIMIENTO E INSTALACIÓN REJILLA ALUMINIO 6" X 4" CÚPULA TRADICIONAL CON SOSCO - REF, C-6"X4" TIPO COLREJILLAS O SIMILAR | C97: =+COTIZACIONES!C96 -> MANTENIMIENTO E INSTALACIÓN REJILLA ALUMINIO 6" X 4" CÚPULA TRADICIONAL CON SOSCO - REF, C-6"X4" TIPO COLREJILLAS O SIMILAR | D97: =+COTIZACIONES!D96 -> UND | E97: =+COTIZACIONES!E96 -> 1 | F97: =+#REF! -> #REF! | G97: =+COTIZACIONES!K96 -> 32611.7 | H97: =+COTIZACIONES!Q96 -> 38541.261 | I97: =+COTIZACIONES!W96 -> 33235.51 | J97: =MIN(G97:I97) -> 32611.7 | K97: =AVERAGE(G97:I97) -> 34796.157 | L97: =HARMEAN(G97:I97) -> 34602.73 | M97: =GEOMEAN(G97:I97) -> 34697.69 | N97: =_xlfn.STDEV.S(G97:I97) -> 3258.3182 | O97: =+N97/K97 -> 0.093640175 | P97: =ROUND(+IF(O97<=25%,J97,IF(O97<=60%,L97,IF(O97<=90%,M97,IF(O97<=100%,K97)))),0) -> 32612 | Q97: =+IF(P97<=26%,"MENOR VALOR",IF(P97<=60%,"MEDIA ARMONICA",IF(P97<=90%,"MEDIA GEOMETRICA","MENOR VALOR"))) -> MENOR VALOR
A98: =+COTIZACIONES!A97 -> 95 | B98: =+COTIZACIONES!C97 -> MANTENIMIENTO CERRAMIENTO EN POLISOMBRA NEGRA 80% RETENCIÓN DE LA LUZ, H=2M, | C98: =+COTIZACIONES!C97 -> MANTENIMIENTO CERRAMIENTO EN POLISOMBRA NEGRA 80% RETENCIÓN DE LA LUZ, H=2M, | D98: =+COTIZACIONES!D97 -> M² | E98: =+COTIZACIONES!E97 -> 1 | F98: =+#REF! -> #REF! | G98: =+COTIZACIONES!K97 -> 29647 | H98: =+COTIZACIONES!Q97 -> 34867.425 | I98: =+COTIZACIONES!W97 -> 30214.1 | J98: =MIN(G98:I98) -> 29647 | K98: =AVERAGE(G98:I98) -> 31576.175 | L98: =HARMEAN(G98:I98) -> 31411.172 | M98: =GEOMEAN(G98:I98) -> 31492.231 | N98: =_xlfn.STDEV.S(G98:I98) -> 2864.3752 | O98: =+N98/K98 -> 0.09071318 | P98: =ROUND(+IF(O98<=25%,J98,IF(O98<=60%,L98,IF(O98<=90%,M98,IF(O98<=100%,K98)))),0) -> 29647 | Q98: =+IF(P98<=26%,"MENOR VALOR",IF(P98<=60%,"MEDIA ARMONICA",IF(P98<=90%,"MEDIA GEOMETRICA","MENOR VALOR"))) -> MENOR VALOR
A99: =+COTIZACIONES!A98 -> 96 | B99: =+COTIZACIONES!C98 -> MANTENIMIENTO RETIRO DE CAPAS DE PINTURA DETERIORADA POR HUMEDAD (RASPADO Y LIJADO) | C99: =+COTIZACIONES!C98 -> MANTENIMIENTO RETIRO DE CAPAS DE PINTURA DETERIORADA POR HUMEDAD (RASPADO Y LIJADO) | D99: =+COTIZACIONES!D98 -> M² | E99: =+COTIZACIONES!E98 -> 1 | F99: =+#REF! -> #REF! | G99: =+COTIZACIONES!K98 -> 71293.75 | H99: =+COTIZACIONES!Q98 -> 71052.025 | I99: =+COTIZACIONES!W98 -> 63888.125 | J99: =MIN(G99:I99) -> 63888.125 | K99: =AVERAGE(G99:I99) -> 68744.633 | L99: =HARMEAN(G99:I99) -> 68566.679 | M99: =GEOMEAN(G99:I99) -> 68656.662 | N99: =_xlfn.STDEV.S(G99:I99) -> 4207.5958 | O99: =+N99/K99 -> 0.061206172 | P99: =ROUND(+IF(O99<=25%,J99,IF(O99<=60%,L99,IF(O99<=90%,M99,IF(O99<=100%,K99)))),0) -> 63888 | Q99: =+IF(P99<=26%,"MENOR VALOR",IF(P99<=60%,"MEDIA ARMONICA",IF(P99<=90%,"MEDIA GEOMETRICA","MENOR VALOR"))) -> MENOR VALOR
A100: =+COTIZACIONES!A99 -> 97 | B100: =+COTIZACIONES!C99 -> MANTENIMIENTO RETIRO MANUAL DE ADOQUÍN SOBRE ARENA (INCLUYE CARGUE Y RETIRO DE ESCOMBROS) | C100: =+COTIZACIONES!C99 -> MANTENIMIENTO RETIRO MANUAL DE ADOQUÍN SOBRE ARENA (INCLUYE CARGUE Y RETIRO DE ESCOMBROS) | D100: =+COTIZACIONES!D99 -> M² | E100: =+COTIZACIONES!E99 -> 1 | F100: =+#REF! -> #REF! | G100: =+COTIZACIONES!K99 -> 65223.4 | H100: =+COTIZACIONES!Q99 -> 84192.075 | I100: =+COTIZACIONES!W99 -> 66471.02 | J100: =MIN(G100:I100) -> 65223.4 | K100: =AVERAGE(G100:I100) -> 71962.165 | L100: =HARMEAN(G100:I100) -> 70999.744 | M100: =GEOMEAN(G100:I100) -> 71466.47 | N100: =_xlfn.STDEV.S(G100:I100) -> 10609.767 | O100: =+N100/K100 -> 0.14743535 | P100: =ROUND(+IF(O100<=25%,J100,IF(O100<=60%,L100,IF(O100<=90%,M100,IF(O100<=100%,K100)))),0) -> 65223 | Q100: =+IF(P100<=26%,"MENOR VALOR",IF(P100<=60%,"MEDIA ARMONICA",IF(P100<=90%,"MEDIA GEOMETRICA","MENOR VALOR"))) -> MENOR VALOR
A101: =+COTIZACIONES!A100 -> 98 | B101: =+COTIZACIONES!C100 -> MANTENIMIENTO Y REINSTALACIÓN DE LUMINARIA LIMPIEZA Y PUESTA EN FUNCIONAMIENTO | C101: =+COTIZACIONES!C100 -> MANTENIMIENTO Y REINSTALACIÓN DE LUMINARIA LIMPIEZA Y PUESTA EN FUNCIONAMIENTO | D101: =+COTIZACIONES!D100 -> Servicio | E101: =+COTIZACIONES!E100 -> 1 | F101: =+#REF! -> #REF! | G101: =+COTIZACIONES!K100 -> 26682.3 | H101: =+COTIZACIONES!Q100 -> 34136.059 | I101: =+COTIZACIONES!W100 -> 27192.69 | J101: =MIN(G101:I101) -> 26682.3 | K101: =AVERAGE(G101:I101) -> 29337.016 | L101: =HARMEAN(G101:I101) -> 28972.308 | M101: =GEOMEAN(G101:I101) -> 29149.399 | N101: =_xlfn.STDEV.S(G101:I101) -> 4163.9206 | O101: =+N101/K101 -> 0.14193402 | P101: =ROUND(+IF(O101<=25%,J101,IF(O101<=60%,L101,IF(O101<=90%,M101,IF(O101<=100%,K101)))),0) -> 26682 | Q101: =+IF(P101<=26%,"MENOR VALOR",IF(P101<=60%,"MEDIA ARMONICA",IF(P101<=90%,"MEDIA GEOMETRICA","MENOR VALOR"))) -> MENOR VALOR
A102: =+COTIZACIONES!A101 -> 99 | B102: =+COTIZACIONES!C101 -> DEMOLICIÓN - RETIRO PAÑETE DETERIORADO Y PAÑETADA (INCLUYE CARGUE Y RETIRO DE ESCOMBROS) | C102: =+COTIZACIONES!C101 -> DEMOLICIÓN - RETIRO PAÑETE DETERIORADO Y PAÑETADA (INCLUYE CARGUE Y RETIRO DE ESCOMBROS) | D102: =+COTIZACIONES!D101 -> M² | E102: =+COTIZACIONES!E101 -> 1 | F102: =+#REF! -> #REF! | G102: =+COTIZACIONES!K101 -> 6670.575 | H102: =+COTIZACIONES!Q101 -> 8763.6296 | I102: =+COTIZACIONES!W101 -> 6798.1725 | J102: =MIN(G102:I102) -> 6670.575 | K102: =AVERAGE(G102:I102) -> 7410.7924 | L102: =HARMEAN(G102:I102) -> 7297.1672 | M102: =GEOMEAN(G102:I102) -> 7352.1296 | N102: =_xlfn.STDEV.S(G102:I102) -> 1173.3272 | O102: =+N102/K102 -> 0.15832682 | P102: =ROUND(+IF(O102<=25%,J102,IF(O102<=60%,L102,IF(O102<=90%,M102,IF(O102<=100%,K102)))),0) -> 6671 | Q102: =+IF(P102<=26%,"MENOR VALOR",IF(P102<=60%,"MEDIA ARMONICA",IF(P102<=90%,"MEDIA GEOMETRICA","MENOR VALOR"))) -> MENOR VALOR
A103: =+COTIZACIONES!A102 -> 100 | B103: =+COTIZACIONES!C102 -> DESMONTE, MONTE E INSTALACIÓN LAMINA PVC CIELO RAZO COLOR BLANCO BRILLANTE A TODO COSTO LAMINA PVC BLANCO BRILLANTE 7MM LARGO: 5,95 CM ANCHO: 25 CM | C103: =+COTIZACIONES!C102 -> DESMONTE, MONTE E INSTALACIÓN LAMINA PVC CIELO RAZO COLOR BLANCO BRILLANTE A TODO COSTO LAMINA PVC BLANCO BRILLANTE 7MM LARGO: 5,95 CM ANCHO: 25 CM | D103: =+COTIZACIONES!D102 -> Unidad | E103: =+COTIZACIONES!E102 -> 1 | F103: =+#REF! -> #REF! | G103: =+COTIZACIONES!K102 -> 17788.2 | H103: =+COTIZACIONES!Q102 -> 21226.608 | I103: =+COTIZACIONES!W102 -> 18128.46 | J103: =MIN(G103:I103) -> 17788.2 | K103: =AVERAGE(G103:I103) -> 19047.756 | L103: =HARMEAN(G103:I103) -> 18928.686 | M103: =GEOMEAN(G103:I103) -> 18987.065 | N103: =_xlfn.STDEV.S(G103:I103) -> 1894.5953 | O103: =+N103/K103 -> 0.099465537 | P103: =ROUND(+IF(O103<=25%,J103,IF(O103<=60%,L103,IF(O103<=90%,M103,IF(O103<=100%,K103)))),0) -> 17788 | Q103: =+IF(P103<=26%,"MENOR VALOR",IF(P103<=60%,"MEDIA ARMONICA",IF(P103<=90%,"MEDIA GEOMETRICA","MENOR VALOR"))) -> MENOR VALOR
... A185: =+COTIZACIONES!A184 -> 182 | B185: =+COTIZACIONES!C184 -> SUMINISTRO, INSTALACIÓN Y PUESTA EN FUNCIONAMIENTO DE LUMINARIA ALUMBRADO PÚBLICO VIAL TIPO LED, Potencia 75 W, Temperatura color 4000K - 5700K similar o características técnicas superiores y de acuerdo a requerimiento según diseño Ejercito, Flujo lumínico 8.819lm - 9.621lm similar o características técnicas superiores y de acuerdo a requerimiento según diseño Ejercito, Diodos LED 36 puntos o superior, Multivoltaje, Factor de potencia 0.9 similar o características técnicas superiores, Supresor de picos de tensión (DPS) incorporado de 20kV similar o características técnicas superiores, Aleación en aluminio, Dispersor térmico en aluminio, Vida útil Diodo 116.000 Horas o superior. INCLUYE ACCESORIOS DE FIJACIÓN, CONEXIÓN Y TODO LO NECESARIO PARA SU CORRECTO FUNCIONAMIENTO. | C185: =+COTIZACIONES!C184 -> SUMINISTRO, INSTALACIÓN Y PUESTA EN FUNCIONAMIENTO DE LUMINARIA ALUMBRADO PÚBLICO VIAL TIPO LED, Potencia 75 W, Temperatura color 4000K - 5700K similar o características técnicas superiores y de acuerdo a requerimiento según diseño Ejercito, Flujo lumínico 8.819lm - 9.621lm similar o características técnicas superiores y de acuerdo a requerimiento según diseño Ejercito, Diodos LED 36 puntos o superior, Multivoltaje, Factor de potencia 0.9 similar o características técnicas superiores, Supresor de picos de tensión (DPS) incorporado de 20kV similar o características técnicas superiores, Aleación en aluminio, Dispersor térmico en aluminio, Vida útil Diodo 116.000 Horas o superior. INCLUYE ACCESORIOS DE FIJACIÓN, CONEXIÓN Y TODO LO NECESARIO PARA SU CORRECTO FUNCIONAMIENTO. | D185: =+COTIZACIONES!D184 -> Unidad | E185: =+COTIZACIONES!E184 -> 1 | F185: =+#REF! -> #REF! | G185: =+COTIZACIONES!K184 -> 1218123.1 | H185: =+COTIZACIONES!Q184 -> 1328930.5 | I185: =+COTIZACIONES!W184 -> 1401671.2 | J185: =MIN(G185:I185) -> 1218123.1 | K185: =AVERAGE(G185:I185) -> 1316241.6 | L185: =HARMEAN(G185:I185) -> 1311845.9 | M185: =GEOMEAN(G185:I185) -> 1314054 | N185: =_xlfn.STDEV.S(G185:I185) -> 92429.632 | O185: =+N185/K185 -> 0.07022239 | P185: =ROUND(+IF(O185<=25%,J185,IF(O185<=60%,L185,IF(O185<=90%,M185,IF(O185<=100%,K185)))),0) -> 1218123 | Q185: =+IF(P185<=26%,"MENOR VALOR",IF(P185<=60%,"MEDIA ARMONICA",IF(P185<=90%,"MEDIA GEOMETRICA","MENOR VALOR"))) -> MENOR VALOR
A186: =+COTIZACIONES!A185 -> 183 | B186: =+COTIZACIONES!C185 -> SUMINISTRO, INSTALACIÓN Y PUESTA EN FUNCIONAMIENTO DE PANEL DE ILUMINACION EN LED 45 W , DIMENSIONES 1200 x 300 x 9 mm, COLOR BLANCO FRIO (5000-6500K) , SMD2835, FLUJO LUMINOSO 3209 lm, ANGULO DE APERTURA 110°, VOLTAJE 100-240 V, FACTOR DE POTENCIA >0.95, HORAS DE VIDA UTIL IGUAL O SUPERIOR A 35.000 HORAS , Garantia 5 años. INCLUYE TODO LO NECESARIO PARA SU FUNCIONAMIENTO | C186: =+COTIZACIONES!C185 -> SUMINISTRO, INSTALACIÓN Y PUESTA EN FUNCIONAMIENTO DE PANEL DE ILUMINACION EN LED 45 W , DIMENSIONES 1200 x 300 x 9 mm, COLOR BLANCO FRIO (5000-6500K) , SMD2835, FLUJO LUMINOSO 3209 lm, ANGULO DE APERTURA 110°, VOLTAJE 100-240 V, FACTOR DE POTENCIA >0.95, HORAS DE VIDA UTIL IGUAL O SUPERIOR A 35.000 HORAS , Garantia 5 años. INCLUYE TODO LO NECESARIO PARA SU FUNCIONAMIENTO | D186: =+COTIZACIONES!D185 -> Unidad | E186: =+COTIZACIONES!E185 -> 1 | G186: =+COTIZACIONES!K185 -> 1099123.1 | H186: =+COTIZACIONES!Q185 -> 1193071.2 | I186: =+COTIZACIONES!W185 -> 1591714.2 | J186: =MIN(G186:I186) -> 1099123.1 | K186: =AVERAGE(G186:I186) -> 1294636.2 | L186: =HARMEAN(G186:I186) -> 1262497.3 | M186: =GEOMEAN(G186:I186) -> 1277985.5 | N186: =_xlfn.STDEV.S(G186:I186) -> 261530.3 | O186: =+N186/K186 -> 0.20201065 | P186: =ROUND(+IF(O186<=25%,J186,IF(O186<=60%,L186,IF(O186<=90%,M186,IF(O186<=100%,K186)))),0) -> 1099123 | Q186: =+IF(P186<=26%,"MENOR VALOR",IF(P186<=60%,"MEDIA ARMONICA",IF(P186<=90%,"MEDIA GEOMETRICA","MENOR VALOR"))) -> MENOR VALOR
A187: =+COTIZACIONES!A186 -> 184 | B187: =+COTIZACIONES!C186 -> SUMINISTRO E INSTALACION DE APLIQUE TORTUGA LED DE 13,5 W, IP65, Voltaje 100/277VAC, E27, con Rejilla Color Negro, Temperatura de Color 6500K Blanco Frío, Horas de Vida Útil 50,000 Horas, Garantía de 5 años. INCLUYE ACCESORIOS DE FIJACIÓN Y CONEXIÓN. | C187: =+COTIZACIONES!C186 -> SUMINISTRO E INSTALACION DE APLIQUE TORTUGA LED DE 13,5 W, IP65, Voltaje 100/277VAC, E27, con Rejilla Color Negro, Temperatura de Color 6500K Blanco Frío, Horas de Vida Útil 50,000 Horas, Garantía de 5 años. INCLUYE ACCESORIOS DE FIJACIÓN Y CONEXIÓN. | D187: =+COTIZACIONES!D186 -> Unidad | E187: =+COTIZACIONES!E186 -> 1 | F187: =+#REF! -> #REF! | G187: =+COTIZACIONES!K186 -> 1099123.1 | H187: =+COTIZACIONES!Q186 -> 1170807.5 | I187: =+COTIZACIONES!W186 -> 1271009.2 | J187: =MIN(G187:I187) -> 1099123.1 | K187: =AVERAGE(G187:I187) -> 1180313.3 | L187: =HARMEAN(G187:I187) -> 1176145.9 | M187: =GEOMEAN(G187:I187) -> 1178221.2 | N187: =_xlfn.STDEV.S(G187:I187) -> 86336.447 | O187: =+N187/K187 -> 0.073147061 | P187: =ROUND(+IF(O187<=25%,J187,IF(O187<=60%,L187,IF(O187<=90%,M187,IF(O187<=100%,K187)))),0) -> 1099123 | Q187: =+IF(P187<=26%,"MENOR VALOR",IF(P187<=60%,"MEDIA ARMONICA",IF(P187<=90%,"MEDIA GEOMETRICA","MENOR VALOR"))) -> MENOR VALOR
A188: =+COTIZACIONES!A187 -> 185 | B188: =+COTIZACIONES!C187 -> INSTALACIÓN DE CABLE DE COBRE THHN/THWN N°10 AWG. | C188: =+COTIZACIONES!C187 -> INSTALACIÓN DE CABLE DE COBRE THHN/THWN N°10 AWG. | D188: =+COTIZACIONES!D187 -> ml | E188: =+COTIZACIONES!E187 -> 1 | F188: =+#REF! -> #REF! | G188: =+COTIZACIONES!K187 -> 1214242 | H188: =+COTIZACIONES!Q187 -> 1324995.6 | I188: =+COTIZACIONES!W187 -> 1235190.2 | J188: =MIN(G188:I188) -> 1214242 | K188: =AVERAGE(G188:I188) -> 1258142.6 | L188: =HARMEAN(G188:I188) -> 1256349.6 | M188: =GEOMEAN(G188:I188) -> 1257239 | N188: =_xlfn.STDEV.S(G188:I188) -> 58836.222 | O188: =+N188/K188 -> 0.04676435 | P188: =ROUND(+IF(O188<=25%,J188,IF(O188<=60%,L188,IF(O188<=90%,M188,IF(O188<=100%,K188)))),0) -> 1214242 | Q188: =+IF(P188<=26%,"MENOR VALOR",IF(P188<=60%,"MEDIA ARMONICA",IF(P188<=90%,"MEDIA GEOMETRICA","MENOR VALOR"))) -> MENOR VALOR
A189: =+COTIZACIONES!A188 -> 186 | B189: =+COTIZACIONES!C188 -> INSTALACIÓN DE CANASTILLA PARA CABLEADO AÉREO. ANCHO 20 CM | C189: =+COTIZACIONES!C188 -> INSTALACIÓN DE CANASTILLA PARA CABLEADO AÉREO. ANCHO 20 CM | D189: =+COTIZACIONES!D188 -> ML | E189: =+COTIZACIONES!E188 -> 1 | F189: =+#REF! -> #REF! | G189: =+COTIZACIONES!K188 -> 631142 | H189: =+COTIZACIONES!Q188 -> 661746.42 | I189: =+COTIZACIONES!W188 -> 617163.75 | J189: =MIN(G189:I189) -> 617163.75 | K189: =AVERAGE(G189:I189) -> 636684.06 | L189: =HARMEAN(G189:I189) -> 636146.09 | M189: =GEOMEAN(G189:I189) -> 636413.96 | N189: =_xlfn.STDEV.S(G189:I189) -> 22802.18 | O189: =+N189/K189 -> 0.035813964 | P189: =ROUND(+IF(O189<=25%,J189,IF(O189<=60%,L189,IF(O189<=90%,M189,IF(O189<=100%,K189)))),0) -> 617164 | Q189: =+IF(P189<=26%,"MENOR VALOR",IF(P189<=60%,"MEDIA ARMONICA",IF(P189<=90%,"MEDIA GEOMETRICA","MENOR VALOR"))) -> MENOR VALOR
A190: =+COTIZACIONES!A189 -> 187 | B190: =+COTIZACIONES!C189 -> INSTALACIÓN DE CAPACETE PARA ACOMETIDAS ELÉCTRICAS CON UN DIÁMETRO DE 1". | C190: =+COTIZACIONES!C189 -> INSTALACIÓN DE CAPACETE PARA ACOMETIDAS ELÉCTRICAS CON UN DIÁMETRO DE 1". | D190: =+COTIZACIONES!D189 -> Servicio | E190: =+COTIZACIONES!E189 -> 1 | F190: =+#REF! -> #REF! | G190: =+COTIZACIONES!K189 -> 640662 | H190: =+COTIZACIONES!Q189 -> 719566.65 | I190: =+COTIZACIONES!W189 -> 701272.95 | J190: =MIN(G190:I190) -> 640662 | K190: =AVERAGE(G190:I190) -> 687167.2 | L190: =HARMEAN(G190:I190) -> 685465.31 | M190: =GEOMEAN(G190:I190) -> 686323.75 | N190: =_xlfn.STDEV.S(G190:I190) -> 41300.304 | O190: =+N190/K190 -> 0.060102263 | P190: =ROUND(+IF(O190<=25%,J190,IF(O190<=60%,L190,IF(O190<=90%,M190,IF(O190<=100%,K190)))),0) -> 640662 | Q190: =+IF(P190<=26%,"MENOR VALOR",IF(P190<=60%,"MEDIA ARMONICA",IF(P190<=90%,"MEDIA GEOMETRICA","MENOR VALOR"))) -> MENOR VALOR
A191: =+COTIZACIONES!A190 -> 188 | B191: =+COTIZACIONES!C190 -> INSTALACIÓN DE CAPACETE PARA ACOMETIDAS ELÉCTRICAS CON UN DIÁMETRO DE 3/4". | C191: =+COTIZACIONES!C190 -> INSTALACIÓN DE CAPACETE PARA ACOMETIDAS ELÉCTRICAS CON UN DIÁMETRO DE 3/4". | D191: =+COTIZACIONES!D190 -> Unidad | E191: =+COTIZACIONES!E190 -> 1 | F191: =+#REF! -> #REF! | G191: =+COTIZACIONES!K190 -> 640662 | H191: =+COTIZACIONES!Q190 -> 713850.23 | I191: =+COTIZACIONES!W190 -> 688444.75 | J191: =MIN(G191:I191) -> 640662 | K191: =AVERAGE(G191:I191) -> 680985.66 | L191: =HARMEAN(G191:I191) -> 679611.16 | M191: =GEOMEAN(G191:I191) -> 680301.96 | N191: =_xlfn.STDEV.S(G191:I191) -> 37159.895 | O191: =+N191/K191 -> 0.054567808 | P191: =ROUND(+IF(O191<=25%,J191,IF(O191<=60%,L191,IF(O191<=90%,M191,IF(O191<=100%,K191)))),0) -> 640662 | Q191: =+IF(P191<=26%,"MENOR VALOR",IF(P191<=60%,"MEDIA ARMONICA",IF(P191<=90%,"MEDIA GEOMETRICA","MENOR VALOR"))) -> MENOR VALOR
A192: =+COTIZACIONES!A191 -> 189 | B192: =+COTIZACIONES!C191 -> INSTALACIÓN DE INTERRUPTOR DOBLE TUBERÍA CONDUIT PVC 3/4", ALAMBRE No 12 AWG INCLUYE APARATO PROM 5 M | C192: =+COTIZACIONES!C191 -> INSTALACIÓN DE INTERRUPTOR DOBLE TUBERÍA CONDUIT PVC 3/4", ALAMBRE No 12 AWG INCLUYE APARATO PROM 5 M | D192: =+COTIZACIONES!D191 -> Unidad | E192: =+COTIZACIONES!E191 -> 1 | F192: =+#REF! -> #REF! | G192: =+COTIZACIONES!K191 -> 91969.66 | H192: =+COTIZACIONES!Q191 -> 113379.41 | I192: =+COTIZACIONES!W191 -> 92765.498 | J192: =MIN(G192:I192) -> 91969.66 | K192: =AVERAGE(G192:I192) -> 99371.523 | L192: =HARMEAN(G192:I192) -> 98447.921 | M192: =GEOMEAN(G192:I192) -> 98898.207 | N192: =_xlfn.STDEV.S(G192:I192) -> 12137.711 | O192: =+N192/K192 -> 0.12214476 | P192: =ROUND(+IF(O192<=25%,J192,IF(O192<=60%,L192,IF(O192<=90%,M192,IF(O192<=100%,K192)))),0) -> 91970 | Q192: =+IF(P192<=26%,"MENOR VALOR",IF(P192<=60%,"MEDIA ARMONICA",IF(P192<=90%,"MEDIA GEOMETRICA","MENOR VALOR"))) -> MENOR VALOR
A193: =+COTIZACIONES!A192 -> 190 | B193: =+COTIZACIONES!C192 -> SUMINSTRO INSTALACIÓN DE TUBERÍA CONDUIT PVC 1" | C193: =+COTIZACIONES!C192 -> SUMINSTRO INSTALACIÓN DE TUBERÍA CONDUIT PVC 1" | D193: =+COTIZACIONES!D192 -> ML | E193: =+COTIZACIONES!E192 -> 1 | F193: =+#REF! -> #REF! | G193: =+COTIZACIONES!K192 -> 9635.275 | H193: =+COTIZACIONES!Q192 -> 11497.746 | I193: =+COTIZACIONES!W192 -> 9819.5825 | J193: =MIN(G193:I193) -> 9635.275 | K193: =AVERAGE(G193:I193) -> 10317.534 | L193: =HARMEAN(G193:I193) -> 10253.038 | M193: =GEOMEAN(G193:I193) -> 10284.66 | N193: =_xlfn.STDEV.S(G193:I193) -> 1026.2391 | O193: =+N193/K193 -> 0.099465537 | P193: =ROUND(+IF(O193<=25%,J193,IF(O193<=60%,L193,IF(O193<=90%,M193,IF(O193<=100%,K193)))),0) -> 9635 | Q193: =+IF(P193<=26%,"MENOR VALOR",IF(P193<=60%,"MEDIA ARMONICA",IF(P193<=90%,"MEDIA GEOMETRICA","MENOR VALOR"))) -> MENOR VALOR
A194: =+COTIZACIONES!A193 -> 191 | B194: =+COTIZACIONES!C193 -> SUMINISTRO E INSTALACIÓN DE TUBERÍA CONDUIT PVC 1/2" | C194: =+COTIZACIONES!C193 -> SUMINISTRO E INSTALACIÓN DE TUBERÍA CONDUIT PVC 1/2" | D194: =+COTIZACIONES!D193 -> ML | E194: =+COTIZACIONES!E193 -> 1 | F194: =+#REF! -> #REF! | G194: =+COTIZACIONES!K193 -> 5188.225 | H194: =+COTIZACIONES!Q193 -> 6220.8589 | I194: =+COTIZACIONES!W193 -> 5287.4675 | J194: =MIN(G194:I194) -> 5188.225 | K194: =AVERAGE(G194:I194) -> 5565.5171 | L194: =HARMEAN(G194:I194) -> 5528.7298 | M194: =GEOMEAN(G194:I194) -> 5546.7546 | N194: =_xlfn.STDEV.S(G194:I194) -> 569.70771 | O194: =+N194/K194 -> 0.10236384 | P194: =ROUND(+IF(O194<=25%,J194,IF(O194<=60%,L194,IF(O194<=90%,M194,IF(O194<=100%,K194)))),0) -> 5188 | Q194: =+IF(P194<=26%,"MENOR VALOR",IF(P194<=60%,"MEDIA ARMONICA",IF(P194<=90%,"MEDIA GEOMETRICA","MENOR VALOR"))) -> MENOR VALOR
A195: =+COTIZACIONES!A194 -> 192 | B195: =+COTIZACIONES!C194 -> INSTALACIÓN DE TUBERÍA CONDUIT PVC 3/4" | C195: =+COTIZACIONES!C194 -> INSTALACIÓN DE TUBERÍA CONDUIT PVC 3/4" | D195: =+COTIZACIONES!D194 -> ML | E195: =+COTIZACIONES!E194 -> 1 | F195: =+#REF! -> #REF! | G195: =+COTIZACIONES!K194 -> 6670.575 | H195: =+COTIZACIONES!Q194 -> 8113.0545 | I195: =+COTIZACIONES!W194 -> 6798.1725 | J195: =MIN(G195:I195) -> 6670.575 | K195: =AVERAGE(G195:I195) -> 7193.934 | L195: =HARMEAN(G195:I195) -> 7138.2919 | M195: =GEOMEAN(G195:I195) -> 7165.5019 | N195: =_xlfn.STDEV.S(G195:I195) -> 798.53438 | O195: =+N195/K195 -> 0.11100107 | P195: =ROUND(+IF(O195<=25%,J195,IF(O195<=60%,L195,IF(O195<=90%,M195,IF(O195<=100%,K195)))),0) -> 6671 | Q195: =+IF(P195<=26%,"MENOR VALOR",IF(P195<=60%,"MEDIA ARMONICA",IF(P195<=90%,"MEDIA GEOMETRICA","MENOR VALOR"))) -> MENOR VALOR
...

Sheet ANALISIS DE COTIZACIONES
A1: CALCULO CON USO DE METRICAS ESTADISTICAS | J1: VALOR DE COTIZACIONES SIN AIU | M1: ANALISIS ECONÓMICO
F2: =+'VALOR INDEXADO'!I1 -> VALOR INDEXADO SIN AIU | G2: GENERADOR DE PRECIOS COLOMBIA CYPE | H2: GENERADOR DE PRECIOS DATA CAUCA | I2: LUPEV LISTA UNICA DE PRECIOS DEL VALLE DEL CAUA | J2: PROVEEDOR: AUTOPARTES AGRICOLAS JPM SAS NIT 900.940.380-1 | K2: PROVEEDOR: COMERCIALIZADORA SEVERAL PARTS SAS NIT 900.709.559-4 | L2: M2 DISEÑO Y CONSTRUCCION SAS | M2: MENOR VALOR COTIZADO | N2: PROMEDIO | O2: MEDIA ARMONICA COTIZACIONES | P2: MEDIA GEOMETRICA | Q2: DESVIACION | R2: DISPERSION % | S2: PRECIO DE REFERENCIA VALOR UNITARIO INCLUIDO IVA | T2: METRICA UTILIZADA
A3: ITEM | B3: CODIGO | C3: DESCRIPCIÓN | D3: UNIDAD DE MEDIDA | E3: CANTIDAD
