Workbook

Sheet FORMULARIO
A1: MODULO DE APROBACIÓN DE GARANTÍAS
A3: MINISTERIO: | B3: MINISTERIO DE TRANSPORTE
A4: ENTIDAD: | B4: INSTITUTO NACIONAL DE VÍAS - INVIAS
A5: DIRECCIÓN: | B5: DIRECCIÓN JURÍDICA - SUBDIRECCIÓN DE GESTIÓN CONTRACTUAL Y PROCESOS ADMINISTRATIVOS
A6: TIPO DE CONTRATO: | B6: CONTRATO DE OBRA | K6: 27510373444 | L6: 2026
A7: UNIDAD EJECUTORA: | B7: GRUPO NORTE | K7: 27510373444 | L7: 2027
A8: CONTRATO (NUMERO+ DE + AÑO): | B8: 2257-2021 | K8: 27510373444 | L8: 2028
A9: CONTRATISTA: | B9: CONSORCIO BMC | K9: 27510373444 | L9: 2029
A10: NIT CONTRATISTA: | B10: 901.552.699-4 | K10: 45850622406 | L10: 2030
A11: OBJETO DEL CONTRATO: | B11: MEJORAMIENTO, GESTION PREDIAL, SOCIAL Y AMBIENTAL SOSTENIBLE MEDIANTE LA CONSTRUCCIÓN DE LA VARIANTE MAGANGUÉ (CAMILO TORRES – PUENTE SANTA LUCIA, EN YATÍ) Y EL MEJORAMIENTO, REHABILITACIÓN Y MANTENIMIENTO DE LA TRANSVERSAL MOMPOSINA (PUERTA DEL HIERRO - EL BURRO), EN LOS DEPARTAMENTOS DE BOLIVAR, MAGDALENA Y CÉSAR EN MARCO DE LA REACTIVACIÓN ECONÓMICA, MEDIANTE EL PROGRAMA DE OBRA PÚBLICA “VÍAS PARA LA LEGALIDAD Y LA REACTIVACIÓN VISIÓN 2030". MÓDULO 3 | K11: =K6+K7+K8+K9+K10 -> 155892116182
A12: FECHA DE SUSCRIPCIÓN DEL CONTRATO: | B12: 44559
A13: PLAZO INICIAL PRIMER PERIODO: | B13: 46022 | K13: 917135685 | L13: 2021
A14: PLAZO ADICIONAL / ACUMULADO DEL CONTRATO: | B14: 47695 | K14: 8373651753 | L14: 2022
A15: VALOR ACUMULADO DEL CONTRATO: | B15: =+H47 -> 55141409845 | K15: 18340248963 | L15: 2023
A16: VALOR ADICIONAL: | K16: 18340248963 | L16: 2024
A17: No. REGISTRO PRESUPUESTAL: | K17: 9170124481 | L17: 2025
A18: DOCUMENTO QUE AMPARA: | B18: Póliza Final Primer Periodo (2021-2025) | K18: =K13+K14+K15+K16+K17 -> 55141409845 | L18: TOTAL
A20: APROPIACIÓN PRESUPUESTAL
A21: APROPIACIÓN PRESUPUESTAL | B21: CTO | C21: Adc 1 | D21: Adc 2 | E21: Adc 3 | F21: Adc 4 | G21: Adc 5 | H21: TOTAL | K21: =K11+K18 -> 211033526027
A22: Basico de Obras / Interventoria | B22: 55141409845 | H22: =SUM(B22:G22) -> 55141409845
A23: Obras complementarias | H23: =SUM(B23:G23) -> 0
A24: Provision Ajustes | H24: =SUM(B24:G24) -> 0
A25: Provisiones 7X24 | H25: =SUM(B25:G25) -> 0
A26: IVA obras / Interventoria | H26: =SUM(B26:G26) -> 0
A27: Estudios y Diseños / Evaluacion y Diagnostico Estructuras | H27: =SUM(B27:G27) -> 0
A28: IVA de Estudios y Diseños / EDE | H28: =SUM(B28:G28) -> 0
A29: Gestión Social | H29: =SUM(B29:G29) -> 0
A30: Gestión Ambiental | H30: =SUM(B30:G30) -> 0
A31: Gestión Predial | H31: =SUM(B31:G31) -> 0
A32: Basico de Señalizacion | H32: =SUM(B32:G32) -> 0
A33: IVA de Señalizacion | H33: =SUM(B33:G33) -> 0
A34: Mantenimiento Rutinario | H34: =SUM(B34:G34) -> 0
... A44: IVA Bioseguridad | H44: =SUM(B44:G44) -> 0
A45: TOTAL BASICO (No incluye impuestos) | B45: =+B22+B23+B24+B25+B27+B29+B30+B31+B32+B34+B36+B38+B40+B42+B43 -> 55141409845 | C45: =+C22+C23+C24+C25+C27+C29+C30+C31+C32+C34+C36+C38+C40+C42+C43 -> 0 | D45: =+D22+D23+D24+D25+D27+D29+D30+D31+D32+D34+D36+D38+D40+D42+D43 -> 0 | E45: =+E22+E23+E24+E25+E27+E29+E30+E31+E32+E34+E36+E38+E40+E42+E43 -> 0 | F45: =+F22+F23+F24+F25+F27+F29+F30+F31+F32+F34+F36+F38+F40+F42+F43 -> 0 | G45: =+G22+G23+G24+G25+G27+G29+G30+G31+G32+G34+G36+G38+G40+G42+G43 -> 0 | H45: =SUM(B45:G45) -> 55141409845
A46: TOTAL OBRAS (con impuestos) | B46: =+B22+B23+B24+B25+B26+B29+B30+B31+B38+B39 -> 55141409845 | C46: =+C22+C23+C24+C25+C26+C29+C30+C31+C38+C39 -> 0 | D46: =+D22+D23+D24+D25+D26+D29+D30+D31+D38+D39 -> 0 | E46: =+E22+E23+E24+E25+E26+E29+E30+E31+E38+E39 -> 0 | F46: =+F22+F23+F24+F25+F26+F29+F30+F31+F38+F39 -> 0 | G46: =+G22+G23+G24+G25+G26+G29+G30+G31+G38+G39 -> 0 | H46: =SUM(B46:G46) -> 55141409845
A47: TOTAL CONTRATO (Basico + Impuestos) | B47: =+B45+B26+B28+B33+B35+B37+B39+B41+B44 -> 55141409845 | C47: =+C45+C26+C28+C33+C35+C37+C39+C41+C44 -> 0 | D47: =SUM(D22:D44) -> 0 | E47: =SUM(E22:E44) -> 0 | F47: =SUM(F22:F44) -> 0 | G47: =SUM(G22:G44) -> 0 | H47: =+H45+H26+H28+H33+H35+H37+H39+H41+H44 -> 55141409845
A49: 1. PÓLIZA ÚNICA DE CUMPLIMIENTO
A51: AMPAROS CONTRACTUALES
A52: ASEGURADORA: | B52: Nacional de Seguros S.A.
A53: NUMERO DE PÓLIZA: | B53: 400037477
...

Sheet ACTA
B1: =+FORMULARIO!B3 -> MINISTERIO DE TRANSPORTE | J1: CÓDIGO
B2: =+FORMULARIO!B4 -> INSTITUTO NACIONAL DE VÍAS - INVIAS
B3: =+FORMULARIO!B5 -> DIRECCIÓN JURÍDICA - SUBDIRECCIÓN DE GESTIÓN CONTRACTUAL Y PROCESOS ADMINISTRATIVOS | J3: VERSIÓN
B4: =+FORMULARIO!B6 -> CONTRATO DE OBRA
J5: PAGINA | K5: 1 | M5: DE | N5: 1
A6: UNIDAD EJECUTORA: | B6: =+FORMULARIO!B7 -> GRUPO NORTE
A7: CONTRATO No. | F7: =+FORMULARIO!B8 -> 2257-2021
A8: CONTRATISTA: | E8: =+FORMULARIO!B9 -> CONSORCIO BMC | J8: NIT | K8: =+FORMULARIO!B10 -> 901.552.699-4
A9: OBJETO DEL CONTRATO: | E9: =+FORMULARIO!B11 -> MEJORAMIENTO, GESTION PREDIAL, SOCIAL Y AMBIENTAL SOSTENIBLE MEDIANTE LA CONSTRUCCIÓN DE LA VARIANTE MAGANGUÉ (CAMILO TORRES – PUENTE SANTA LUCIA, EN YATÍ) Y EL MEJORAMIENTO, REHABILITACIÓN Y MANTENIMIENTO DE LA TRANSVERSAL MOMPOSINA (PUERTA DEL HIERRO - EL BURRO), EN LOS DEPARTAMENTOS DE BOLIVAR, MAGDALENA Y CÉSAR EN MARCO DE LA REACTIVACIÓN ECONÓMICA, MEDIANTE EL PROGRAMA DE OBRA PÚBLICA “VÍAS PARA LA LEGALIDAD Y LA REACTIVACIÓN VISIÓN 2030". MÓDULO 3
A10: FECHA DE SUSCRIPCIÓN DEL CONTRATO: | E10: =+FORMULARIO!B12 -> 44559
A11: PLAZO INICIAL PRIMER PERIODO DEL CONTRATO: | E11: =+FORMULARIO!B13 -> 46022
A12: PLAZO ADICIONAL / ACUMULADO DEL CONTRATO: | E12: =+FORMULARIO!B14 -> 47695 | H12: PLAZO PRIMER PERIODO | K12: 46022
A13: VALOR ACUMULADO DEL CONTRATO: | E13: =+V27 -> 211033526027 | H13: VALOR PRIMER PERIODO | K13: =+U19 -> 55141409845
A14: VALOR ADICIONAL: | B14: N/A | F14: No.REGISTRO PRESUPUESTAL: | J14: N/A | Q14: 2891000000
A15: DOCUMENTO QUE AMPARA LA PÓLIZA: | E15: Póliza Final Primer Periodo (2021-2025) - ANTICIPO: TOTAL CONCEDIDO $12,754´916,536 | Q15: 549290000 | S15: 21 | T15: 917135685
S16: 22 | T16: 8373651753
A17: VIGENCIAS DE LAS PÓLIZAS | P17: 30 | Q17: =+Q14+Q15 -> 3440290000 | S17: 23 | T17: 18340248963
A18: =+FORMULARIO!A49 -> 1. PÓLIZA ÚNICA DE CUMPLIMIENTO | B18: =+FORMULARIO!B53 -> 400037477 | E18: =+FORMULARIO!A54 -> ANEXO O MODIFICATORIO (No. - FECHA) | G18: =+FORMULARIO!B54 -> No. 7 del 06/05/2025 | I18: =+FORMULARIO!A52 -> ASEGURADORA: | K18: =+FORMULARIO!B52 -> Nacional de Seguros S.A. | P18: =+K13*P17/100 -> 1.6542423e+10 | S18: 24 | T18: 18340248963
A19: =+FORMULARIO!A56 -> CUMPLIMIENTO-MULTAS-CLAUSULA PENAL. | B19: Desde: | D19: 44559 | F19: Hasta: | G19: =+FORMULARIO!F56 -> VIGENCIA: HASTA LA LIQUIDACIÓN | K19: Valor: | M19: 5.5146087e+09 | P19: =+(FORMULARIO!B15)*(FORMULARIO!C56) -> 5.514141e+09 | Q19: =+M19-P19 -> 467697.57 | S19: 25 | T19: 9170124481 | U19: =SUM(T15:T19) -> 55141409845
A20: =+FORMULARIO!A57 -> BUEN MANEJO Y CORRECTA INVERSIÓN DEL ANTICIPO. | B20: Desde: | D20: 44559 | F20: Hasta: | G20: =+FORMULARIO!F57 -> VIGENCIA: HASTA LA LIQUIDACIÓN | K20: Valor: | M20: 12754916536 | P20: =+FORMULARIO!H45*FORMULARIO!C57 -> 2.7570705e+10 | S20: 26 | T20: 27510373444
A21: =+FORMULARIO!A59 -> PAGO DE SALARIOS-PRESTACIONES SOCIALES-INDEMNIZACIONES LABORALES. | B21: Desde: | D21: 44559 | F21: Hasta: | G21: 47848 | K21: Valor: | M21: 1.1029217e+10 | P21: =+(FORMULARIO!H47)*(FORMULARIO!C59) -> 11028281969 | Q21: =+M21-P21 -> 935395.14 | S21: 27 | T21: 27510373444
A22: =+FORMULARIO!A62 -> ESTABILIDAD Y CALIDAD DE LA OBRA. | B22: =+FORMULARIO!F62 -> VIGENCIA: 5 AÑOS A PARTIR DEL ACTA DE ENTREGA Y RECIBO DEFINITIVO DE OBRA. | K22: Valor: | M22: =+(FORMULARIO!H46)*(FORMULARIO!C62) -> 1.6542423e+10 | S22: 28 | T22: 27510373444
A23: =+FORMULARIO!A63 -> CALIDAD DE ESTUDIOS Y DISEÑOS | B23: =+FORMULARIO!F63 -> VIGENCIA: 5 AÑOS A PARTIR DEL ACTA DE ENTREGA Y RECIBO DEFINITIVO DE ESTUDIOS Y DISEÑOS. | K23: Valor: | M23: =P23*30% -> 1032087000 | P23: 3440290000 | Q23: 2891000000 | R23: =+Q17*0.3 -> 1032087000 | S23: 29 | T23: 27510373444
A24: =+FORMULARIO!A64 -> CALIDAD DE LA EVALUACIÓN Y DIAGNOSTICO DE LAS ESTRUCTURAS. | B24: =+FORMULARIO!F64 -> VIGENCIA: 5 AÑOS A PARTIR DEL ACTA DE ENTREGA Y RECIBO DEFINITIVO DE EVALUACIÓN Y DIAGNOSTIVO. | K24: Valor: | M24: =+(FORMULARIO!H27+FORMULARIO!H28)*(FORMULARIO!C64) -> 0
A25: =+FORMULARIO!A65 -> CALIDAD DEL SERVICIO. | B25: =+FORMULARIO!F65 -> VIGENCIA: 5 AÑOS A PARTIR DEL ACTA DE ENTREGA Y RECIBO DEFINITIVO. | K25: Valor: | M25: =+FORMULARIO!H47*FORMULARIO!C65 -> 1.6542423e+10
A26: =+FORMULARIO!A66 -> CALIDAD Y CORRECTO FUNCIONAMIENTO DE LOS BIENES Y EQUIPOS | B26: =+FORMULARIO!F66 -> VIGENCIA: 5 AÑOS A PARTIR DEL ACTA DE ENTREGA Y RECIBO DEFINITIVO DE BIENES Y EQUIPOS. | K26: Valor: | M26: SACAR PORCENTAJE DEL ITEM
Q27: 549290000 | S27: 30 | T27: 45850622406 | U27: =SUM(T20:T27) -> 155892116182 | V27: =+U19+U27 -> 211033526027
A28: =+FORMULARIO!A68 -> 2. SEGURO DE RESPONSABILIDAD CIVIL EXTRACONTRACTUAL | D28: =+FORMULARIO!B70 -> 0 | F28: =+FORMULARIO!A71 -> ANEXO O MODIFICATORIO (No. - FECHA) | G28: =+FORMULARIO!B71 -> 0 | I28: =+FORMULARIO!A69 -> ASEGURADORA | K28: =+FORMULARIO!B69 -> 0
A29: =+FORMULARIO!A73 -> PREDIOS, LABORES Y OPERACIONES (Básica) | B29: Desde: | D29: 46023 | F29: Hasta: | G29: =+FORMULARIO!B14 -> 47695 | I29: Valor: | K29: =FORMULARIO!C95 -> 2.7570705e+09
A30: Coberturas Expresas: (Contiene la cobertura SI o No) | B30: =+FORMULARIO!A74 -> DAÑO EMERGENTE Y LUCRO CESANTE | E30: SI | G30: =+FORMULARIO!A75 -> PERJUICIOS EXTRAPATRIMONIALES | K30: =+FORMULARIO!B75 -> SI
A31: =+FORMULARIO!A76 -> RESPONSABILIDAD POR ACTOS DE CONTRATISTAS Y SUBCONTRATISTAS | B31: =+FORMULARIO!B76 -> SI | E31: =+FORMULARIO!A77 -> VEHÍCULOS PROPIOS Y NO PROPIOS | G31: =+FORMULARIO!B77 -> SI | K31: =+FORMULARIO!A78 -> AMPARO PATRONAL | N31: =+FORMULARIO!B78 -> SI
A33: OBSERVACIONES: NOTA 01:Mediante memorando 2026I-VBOG-049000 del 25/06/2026 la Unidad Ejecutora confirma que el valor desembolsado por concepto de anticipo corresponde a la suma de DOCE MIL SETECIENTOS CINCUENTA Y CUATRO MILLONES NOVECIENTOS DIECISÉIS MIL QUINIENTOS TREINTA Y SEIS PESOS MONEDA CORRIENTE ($12.754.916.536). NOTA 2: Para efectos de la presente aprobación, se deja constancia de que la Unidad Ejecutora mediante correo electrónico del 06/07/2026, informó que no se suscribió acta de entrega definitiva del primer periodo, debido a que no se ejecutaron hitos funcionales, ni estos han sido definidos dentro del desarrollo del contrato, de conformidad con las particularidades del mismo. En consecuencia, la aprobación de las pólizas se realiza con fundamento en la información suministrada por la dependencia técnica competente, sin perjuicio de las responsabilidades de supervisión y control que le corresponden. NOTA 3: Se deja contancia que la última póliza de Responsabilidad Civil Extracontractual remitida por parte del contratista correspondiente al anexo No. 3, fue aprobada el pasado 20/03/2023 a traves de la plataforma transaccional del SECOP II.
A34: Fecha de Aprobación:
A35: Fecha de Aprobación:
A37: LAURA MARCELA MARTIN LEYES
A38: SUBDIRECTORA DE GESTION CONTRACTUAL Y PROCESOS ADMINISTRATIVOS (E)
A39: =+FORMULARIO!A101 -> REVISIONES Y APROBACIONES
A40: =+FORMULARIO!A102:C102 -> Vo.Bo.: | B40: =+FORMULARIO!B102 -> Abogado Unidad Ejecutora
A41: =+FORMULARIO!A103 -> Proyecto.: Stephania Ortega Lugo | B41: =+FORMULARIO!B103 -> Abogado SGCPA
A42: =+FORMULARIO!A104 -> Revisó.: Henry Andres Leal Rojas | B42: =+FORMULARIO!B104 -> Abogado SGCPA
...

Sheet ADICIONES
A1: CONTRATO
A2: VALOR DEL CONTRATO PRINCIPAL | B2: AÑO | C2: VALOR SMMLV | D2: V/CTO SMLMV | E2: V/MAX ADICION EN SMLMV
A3: =+FORMULARIO!B47 -> 55141409845 | C3: =LOOKUP(B3,'DATOS DE VALIDACIÓN'!D3:E16) -> #N/A | D3: =+A3/C3 -> #N/A | E3: =+D3/2 -> #N/A
A5: ADICIONES
A6: No. | B6: valor Adicion | C6: Año Adicion | D6: Valor SMMLV AÑO | E6: valor en SMMLV
A7: 1 | B7: =+FORMULARIO!C47 -> 0 | D7: =LOOKUP(C7,'DATOS DE VALIDACIÓN'!D2:E15) -> #N/A | E7: =+B7/D7 -> #N/A
A8: 2 | B8: =+FORMULARIO!D47 -> 0 | D8: =LOOKUP(C8,'DATOS DE VALIDACIÓN'!D3:E16) -> #N/A | E8: =+B8/D8 -> #N/A
A9: 3 | B9: =+FORMULARIO!E47 -> 0 | D9: =LOOKUP(C9,'DATOS DE VALIDACIÓN'!D3:E17) -> #N/A | E9: =+B9/D9 -> #N/A
A10: 4 | B10: =+FORMULARIO!F47 -> 0 | D10: =LOOKUP(C10,'DATOS DE VALIDACIÓN'!D3:E18) -> #N/A | E10: =+B10/D10 -> #N/A
A11: 5 | B11: =+FORMULARIO!G47 -> 0 | D11: =LOOKUP(C11,'DATOS DE VALIDACIÓN'!D3:E19) -> #N/A | E11: =+B11/D11 -> #N/A
A12: TOTAL ADICIONES EN SMLMV | E12: {=+E7:E8} -> #N/A
E13: #N/A
D14: TOTAL en SMMLV | E14: =SUM(E7:E11) -> #N/A

Sheet SUSPENSIÓN
A1: SUSPENSIONES
A3: Fecha de Inicio / Terminacióon contrato (DIA-MES-AÑO)
A4: Plazo de Ejecución (meses)
A5: Termina | B5: =+EDATE(B3,B4) -> 0
A7: Suspensión 1
A8: Contrato finaliza | B8: =+B5 -> 0
A9: Se ejecuto hasta:
A10: Inicio Suspensión
A11: Termina Suspensión
A12: Tiempo Falta | B12: =+B8-B9 -> 0
A13: Tiempo suspendido | B13: =+B11-B9 -> 0
A14: Nuevo Vencimiento | B14: =+B11+B12 -> 0
A15: Verificación (Termina+susp) | B15: =+B5+B13 -> 0
A17: Suspensión 2
A18: Contrato finaliza | B18: =+B15 -> 0
A19: Se ejecuto hasta:
A20: Inicio Suspensión
A21: Termina Suspensión
A22: Tiempo Falta | B22: =+B18-B19 -> 0
A23: Tiempo suspendido | B23: =+B21-B19 -> 0
A24: Nuevo Vencimiento | B24: =+B21+B22 -> 0
A25: Verificación (Termina+susp) | B25: =+B21+B22 -> 0
A27: Suspensión 3
A28: Contrato finaliza | B28: =+B25 -> 0
A29: Se ejecuto hasta:
A30: Inicio Suspensión
A31: Termina Suspensión
A32: Tiempo Falta | B32: =+B28-B29 -> 0
A33: Tiempo suspendido | B33: =+B31-B29 -> 0
A34: Nuevo Vencimiento | B34: =+B31+B32 -> 0
A35: Verificación (Termina+susp) | B35: =+B31+B32 -> 0
A37: Suspensión 4
A38: Contrato finaliza | B38: =+B35 -> 0
A39: Se ejecuto hasta:
A40: Inicio Suspensión
A41: Termina Suspensión
A42: Tiempo Falta | B42: =+B38-B39 -> 0
A43: Tiempo suspendido | B43: =+B41-B39 -> 0
A44: Nuevo Vencimiento | B44: =+B41+B42 -> 0
A45: Verificación (Termina+susp) | B45: =+B41+B42 -> 0
...

Sheet DATOS DE VALIDACIÓN
A1: UNIDADES EJECUTORAS | B1: ASEGURADORAS | C1: AMPAROS | D1: SALARIOS MINIMOS | F1: SMLMV | G1: TIPO DE CONTRATO
A2: - | B2: - | C2: - | D2: - | E2: - | F2: - | G2: -
A3: DIRECCIÓN GENERAL | B3: Allianz Colombia | C3: SI | D3: 2014 | E3: 616000 | F3: 200 | G3: ACTA DE APROBACIÓN DE GARANTÍAS CONTRACTUALES AL CONTRATO DE CONSULTORÍA
A4: DIRECCIÓN DE EJECUCIÓN Y OPERACIÓN | B4: Aseguradora Solidaria de Colombia | C4: NO | D4: 2015 | E4: 644350 | F4: 300 | G4: ACTA DE APROBACIÓN DE GARANTÍAS CONTRACTUALES AL CONTRATO DE OBRA
A5: DIRECCIÓN JURÍDICA | B5: Axa Colpatria Seguros S.A. | D5: 2016 | E5: 689455 | F5: 400 | G5: ACTA DE APROBACIÓN DE GARANTÍAS CONTRACTUALES DE CONVENIOS Y/O CONTRATOS DE PRESTACIÓN DE SERVICIOS Y/O SUMINISTRO
A6: DIRECCIÓN TERRITORIAL | B6: BBVA Seguros Colombia S.A. | D6: 2017 | E6: 737717 | F6: 500 | G6: ACTA DE APROBACIÓN DE GARANTÍAS CONTRACTUALES AL CONTRATO DE INTERVENTORIA
A7: DIRECCIÓN TÉCNICA Y DE ESTRUCTURACIÓN | B7: Berkley Internacional Seguros Colombia S.A. | D7: 2018 | E7: 781242
A8: GERENCIA GRANDES PROYECTOS Y TÚNELES | B8: BMI Colombia | D8: 2019 | E8: 828116
A9: GERENCIA PROGRAMA DE SEGURIDAD EN CARRETERAS | B9: Cardif Colombia Seguros Generales S.A. | D9: 2020 | E9: 877803
A10: GERENCIA DE SEGUIMIENTO Y CONTROL DE PROYECTOS | B10: CHUBB Seguros Colombia S.A. | D10: 2021 | E10: 908526
A11: GRUPO APOYO TRANSVERSAL - VÍAS REGIONALES | B11: Coface | D11: 2022 | E11: 1000000
A12: GRUPO DE PEAJES | B12: Colmena Seguros | D12: 2023 | E12: 1160000
A13: GERENCIA DE ALIANZAS REGIONALES | B13: Compañía Aseguradora de Fianzas S.A. Confianza | D13: 2024 | E13: 1300000
A14: GERENCIA DE GRANDES PROYECTOS 1 | B14: Compañía de Seguros de Vida Aurora S.A. | D14: 2025 | E14: 1423500
A15: GRUPO GERENCIA DE REGIONES | B15: Compañía Mundial de Seguros S.A. | D15: 2026 | E15: 1750905
A16: GRUPO GERENCIA DE TERRITORIALES | B16: Global Seguros
A17: GERENCIA DE GRANDES PROYECTOS 2 | B17: HDI Seguros S.A.
A18: GERENCIA DE GRANDES PROYECTOS 3 | B18: JMalucelli Travelers Seguros S.A.
A19: GERENCIA DE GRANDES PROYECTOS 4 | B19: La Equidad Seguros Generales Organismo Cooperativo
A20: GRUPO GERENCIA GRANDES PROYECTOS DE GESTIÓN VIAL | B20: La Previsora S.A. Compañía de Seguros
A21: GRUPO GERENCIA GRANDES PROYECTOS REGIONALES 1 | B21: Liberty Seguros S.A.
A22: GRUPO GERENCIA GRANDES PROYECTOS REGIONALES 2 | B22: Mapfre Seguros Generales de Colombia S.A.
A23: GRUPO PROGRAMA SEGURIDAD EN CARRETERAS NACIONALES | B23: MetLife Colombia Seguros de Vida S.A.
A24: SECRETARIA GENERAL | B24: Nacional de seguros S.A.
A25: SUBDIRECCIÓN ADMINISTRATIVA | B25: Old Mutual Skandia Seguros de Vida S.A.
A26: SUBDIRECCIÓN DE GESTIÓN DEL RIESGO | B26: Pan American Life de Colombia Compañía de Seguros S.A.
A27: SUBDIRECCIÓN DE SOSTENIBILIDAD | B27: Positiva Compañía de Seguros S.A.
... A34: SUBDIRECCIÓN REGLAMENTACIÓN TÉCNICA E INNOVACIÓN. | B34: Solunion Colombia Seguros de crédito S.A.
B35: ZLS Aseguradora de Colombia S.A.
B36: Zurich Colombia Seguros S.A.
