Workbook

Sheet Anexo 2
A1: Instrucción de diligenciamiento
A2: 1 | B2: Todos los campos resaltados en Amarillo son obligatorios, por lo tanto se hará la devolución si no están completos
A3: 2 | B3: Los usuarios de Administrador (único usuario), Preparador (mínimo 1) y autorizador (mínimo 1) son obligatorios.
A4: 3 | B4: Use las listas desplegables de cada preparador o autorizador adicional, para habilitar la fila del formulario correspondiente
A5: 4 | B5: El usuario del Interventor es necesario cuando la naturaleza del negocio y el contrato lo requiera, en caso de no requerirlo selecciona la opción "No". Este usuario siempre hará las veces como aprobador final.
A6: 5 | B6: En la matriz de autorización deben qudar todos los autorizdores configurados (estos serán los que se ajusten al flujo de aprobación en pagos portal)
A7: 6 | B7: Si requiere un flujo de aprobación "personalizado" por favor contactarse con los asesores digitales
A8: 7 | B8: Los campos en rojo o marcados con una "X" señalan los faltantes o incoherencias, las cuales deben ser subsanadas para evitar devoluciones (Ver Check List)
A9: 8 | B9: IMPORTANTE: Tener en cuenta que los usuarios autorizadores e interventor (Si aplica), deben estar enterados y atentos para recibir el link para el proceso de autenticación para activación del Token. Leer atentamente antes de enviar este documento, la ACEPTACIÓN DE TÉRMINOS Y CONDICIONES AL FIRMAR FÍSICA O DIGITALMENTE y no olvidar de completar todos los campos de los usuarios y la matriz de autorizaciones vinculando a todos los autorizadores. | XFD9: Completa las dos partes 1 datos de los Usuario 2 la Matriz de autorización con todos los autorizadores
A10: ANEXO 2 - SOLICITUD DE CREACIÓN DE USUARIOS PARA PAGOS PORTAL | XFD10: 1 USUARIOS
B12: Señores Alianza Fiduciaria, yo LUIS ADRIAN MEJIA ALVAREZ identificado con la cédula de ciudadanía número 77.091.383 , quien actúa en calidad de Representante Legal de INVERSIONES Y PROYECTOS ALTAMIRA S.A.S.,identificada con 901.401.590-3 y _______________ identificado con la cédula de ciudadanía número ______________, quien actúa en calidad de Representante Legal de ________________, identificada con NIT. ____________, manifiestamos mediante el diligenciamiento de este documento que acepto los términos y condiciones de utilización de la herramienta tecnológica Alianza en Linea y en consecuencia solicito su activación, para lo cual autorizo la creación de los siguientes usuarios para operar en la funcionalidad de Pagos Portal en www.alianzaenlinea.com para el negocio FIDEICOMISO MEJORAMIENTO DE VIAS RURALES NUEVA GRANADA
A17: Negocio maneja interventor: | D17: SI
A19: Tipo de Usuario | D19: Nombres y Apellidos | H19: Cargo | K19: Tipo de documento | L19: Número de documento | N19: Teléfono de contacto | O19: Correo electrónico | R19: Completo?
B20: Administrador | R20: =IF(B20="No aplica","No aplica",COUNTA(B20:Q20)) -> 1 | S20: =R20 -> 1
A21: PREPARADOR | B21: Preparador 1 | D21: LUIS ADRIAN MEJIA ALVAREZ | H21: REPRESENTANTE LEGAL | K21: CC | L21: 77091383 | N21: 3114355399 | O21: inversionesyproyectosaltamira@gmail.com | R21: =IF(B21="No aplica","No aplica",COUNTA(B21:Q21)) -> 7 | S21: =R21 -> 7
B22: No aplica | R22: =IF(B22="No aplica","No aplica",COUNTA(B22:Q22)) -> No aplica | S22: =R22 -> No aplica
B23: No aplica | R23: =IF(B23="No aplica","No aplica",COUNTA(B23:Q23)) -> No aplica | S23: =R23 -> No aplica
B24: No aplica | R24: =IF(B24="No aplica","No aplica",COUNTA(B24:Q24)) -> No aplica | S24: =R24 -> No aplica
B25: No aplica | R25: =IF(B25="No aplica","No aplica",COUNTA(B25:Q25)) -> No aplica | S25: =R25 -> No aplica
A26: AUTORIZADOR | B26: Autorizador 1 | D26: LUIS ADRIAN MEJIA ALVAREZ | H26: REPRESENTANTE LEGAL | K26: CC | L26: 77091383 | N26: 3114355399 | O26: inversionesyproyectosaltamira@gmail.com | R26: =IF(B26="No aplica","No aplica",COUNTA(B26:Q26)) -> 7 | S26: =R26 -> 7
B27: No aplica | R27: =IF(B27="No aplica","No aplica",COUNTA(B27:Q27)) -> No aplica | S27: =R27 -> No aplica
B28: No aplica | R28: =IF(B28="No aplica","No aplica",COUNTA(B28:Q28)) -> No aplica | S28: =R28 -> No aplica
B29: No aplica | R29: =IF(B29="No aplica","No aplica",COUNTA(B29:Q29)) -> No aplica | S29: =R29 -> No aplica
B30: No aplica | R30: =IF(B30="No aplica","No aplica",COUNTA(B30:Q30)) -> No aplica | S30: =R30 -> No aplica
A31: INTER | B31: =IF(D17="SI","Interventor Principal","No aplica") -> Interventor Principal | D31: Jorge Antonio Roa Mejía | H31: Representante Legal Suplente | K31: CC | L31: 19167245 | N31: 3016492143 | O31: jorge.roa@inproyectos.com | R31: =IF(B31="No aplica","No aplica",COUNTA(B31:Q31)) -> 7 | S31: =R31 -> 7
B32: No aplica | R32: =IF(B32="No aplica","No aplica",COUNTA(B32:Q32)) -> No aplica | S32: =R32 -> No aplica
K33: RECUERDE COMPLETAR LOS PERFILES DE USUARIO Y LA MATRIZ DE AUTORIZACIÓN
B34: Matriz de autorización | L34: CHECK LIST USUARIOS | N34: ="Se ha completado "&COUNTA(#REF!,#REF!,#REF!,#REF!,#REF!,#REF!,D17)&" de 7 campos de información de representante legal, empresa y fideicomiso" -> Se ha completado 7 de 7 campos de información de representante legal, empresa y fideicomiso | R34: =COUNTA(#REF!,#REF!,#REF!,#REF!,#REF!,#REF!)/6 -> 1 | S34: =R34 -> 1 | XFD34: 2 Matriz de Autorización
B35: En este espacio indique las condiciones de autorización. Recuerde que debe ingresar todos los autorizadores habilitados en el cuadro de usuarios y no podrá repetirlos. (Los niveles de autorización son independientes y no son secuenciales) | N35: ="Se han asociado "&COUNTIF(R20:R32,7)&" de "&COUNT(R20:R32)&" usuarios de manera completa" -> Se han asociado 3 de 4 usuarios de manera completa | R35: =COUNTIF(R20:R32,7)/COUNT(R20:R32) -> 0.75 | S35: =R35 -> 0.75
N36: =IF(COUNTIF(R20:R32,"<=6")=0,"Todos los campos minimos de usuario han sido completados","Falta "&COUNTIF(R20:R32,"<=6")&" usuario(s) por completar (CAMPOS AMARILLOS OBLIGATORIOS)") -> Falta 1 usuario(s) por completar (CAMPOS AMARILLOS OBLIGATORIOS)
L37: ACEPTACIÓN DE TÉRMINOS Y CONDICIONES AL FIRMAR FÍSICA O DIGITALMENTE
B39: POR FAVOR COLOQUE LOS AUTORIZADORES SEGÚN EL FLUJO
B40: Autorizador 1 | C40: Ó | E40: Ó | G40: Ó | I40: Ó
B41: Y
C42: Ó | E42: Ó | G42: Ó | I42: Ó
B43: Y
C44: Ó | E44: Ó | G44: Ó | I44: Ó
B45: Y
C46: Ó | E46: Ó | G46: Ó | I46: Ó
B47: Y
...

Sheet Manual de Diligenciamiento

Sheet Listas
E1: LISTAS DESPLEGABLES PARA AUTORIZADOR | I1: CAMPOS DE VALIDACIÓN DE MATRIZ DE AUTORIZACIÓN | W1: Lista desplegable
A3: TIPO DCO | B3: PREPARADOR | D3: INTERVENTOR | E3: APROB | F3: NUM APROB | G3: MATRIZ APROBA | H3: DISPONIBLE | I3: C1 | J3: C2 | K3: C3 | L3: C4 | M3: C5 | N3: F1 | O3: F2 | P3: F3 | Q3: F4 | R3: F5 | S3: Existe | T3: Repetido | V3: Requiere la aprobación de | W3: Personalizado (Diligenciar matriz)
A4: CC | B4: - | C4: Preparador 1 | E4: - | F4: Autorizador 1 | G4: =IFERROR(IF(VLOOKUP(F4,'Anexo 2'!$B$26:$C$30,1,FALSE)=Listas!F4,Listas!F4,),"") -> Autorizador 1 | H4: =IF(G4="","",IF(S4=1,"",G4)) | I4: =IF($F4="","",COUNTIF('Anexo 2'!$B$40:$B$48,"="&$F4)) -> 1 | J4: =IF($F4="","",COUNTIF('Anexo 2'!$D$40:$D$48,"="&Listas!$F4)) -> 0 | K4: =IF($F4="","",COUNTIF('Anexo 2'!$F$40:$F$48,"="&Listas!$F4)) -> 0 | L4: =IF($F4="","",COUNTIF('Anexo 2'!$H$40:$H$48,"="&Listas!$F4)) -> 0 | M4: =IF($F4="","",COUNTIF('Anexo 2'!$K$43:$K$51,"="&Listas!$F4)) -> 0 | N4: =IF($F4="","",COUNTIF('Anexo 2'!$B$40:$J$40,"="&Listas!$F4)) -> 1 | O4: =IF($F4="","",COUNTIF('Anexo 2'!$B$42:$J$42,"="&Listas!$F4)) -> 0 | P4: =IF($F4="","",COUNTIF('Anexo 2'!$B$44:$J$44,"="&Listas!$F4)) -> 0 | Q4: =IF($F4="","",COUNTIF('Anexo 2'!$B$46:$J$46,"="&Listas!$F4)) -> 0 | R4: =IF($F4="","",COUNTIF('Anexo 2'!$B$48:$J$48,"="&Listas!$F4)) -> 0 | S4: =IF(SUM(I4:R4)>=1,1,0) -> 1 | T4: =IF(SUM(I4:R4)>2,1,0) -> 0 | V4: =CONCATENATE("Solo 1 de los autorizadores aprueba") -> Solo 1 de los autorizadores aprueba | W4: =IF(G4<>"",V4,"") -> Solo 1 de los autorizadores aprueba
A5: CE | B5: No aplica | C5: Preparador 2 | E5: No aplica | F5: Autorizador 2 | G5: =IFERROR(IF(VLOOKUP(F5,'Anexo 2'!$B$26:$C$30,1,FALSE)=Listas!F5,Listas!F5,),"") | H5: =IF(G5="","",IF(S5=1,"",G5)) | I5: =IF($F5="","",COUNTIF('Anexo 2'!$B$40:$B$48,"="&$F5)) -> 0 | J5: =IF($F5="","",COUNTIF('Anexo 2'!$D$40:$D$48,"="&Listas!$F5)) -> 0 | K5: =IF($F5="","",COUNTIF('Anexo 2'!$F$40:$F$48,"="&Listas!$F5)) -> 0 | L5: =IF($F5="","",COUNTIF('Anexo 2'!$H$40:$H$48,"="&Listas!$F5)) -> 0 | M5: =IF($F5="","",COUNTIF('Anexo 2'!$K$43:$K$51,"="&Listas!$F5)) -> 0 | N5: =IF($F5="","",COUNTIF('Anexo 2'!$B$40:$J$40,"="&Listas!$F5)) -> 0 | O5: =IF($F5="","",COUNTIF('Anexo 2'!$B$42:$J$42,"="&Listas!$F5)) -> 0 | P5: =IF($F5="","",COUNTIF('Anexo 2'!$B$44:$J$44,"="&Listas!$F5)) -> 0 | Q5: =IF($F5="","",COUNTIF('Anexo 2'!$B$46:$J$46,"="&Listas!$F5)) -> 0 | R5: =IF($F5="","",COUNTIF('Anexo 2'!$B$48:$J$48,"="&Listas!$F5)) -> 0 | S5: =IF(SUM(I5:R5)>=1,1,0) -> 0 | T5: =IF(SUM(I5:R5)>2,1,0) -> 0 | V5: =CONCATENATE("2 de ",$G$14," autorizadores aprueban") -> 2 de 1 autorizadores aprueban | W5: =IF(G5<>"",V5,"")
A6: PP | B6: No aplica | C6: Preparador 3 | E6: No aplica | F6: Autorizador 3 | G6: =IFERROR(IF(VLOOKUP(F6,'Anexo 2'!$B$26:$C$30,1,FALSE)=Listas!F6,Listas!F6,),"") | H6: =IF(G6="","",IF(S6=1,"",G6)) | I6: =IF($F6="","",COUNTIF('Anexo 2'!$B$40:$B$48,"="&$F6)) -> 0 | J6: =IF($F6="","",COUNTIF('Anexo 2'!$D$40:$D$48,"="&Listas!$F6)) -> 0 | K6: =IF($F6="","",COUNTIF('Anexo 2'!$F$40:$F$48,"="&Listas!$F6)) -> 0 | L6: =IF($F6="","",COUNTIF('Anexo 2'!$H$40:$H$48,"="&Listas!$F6)) -> 0 | M6: =IF($F6="","",COUNTIF('Anexo 2'!$K$43:$K$51,"="&Listas!$F6)) -> 0 | N6: =IF($F6="","",COUNTIF('Anexo 2'!$B$40:$J$40,"="&Listas!$F6)) -> 0 | O6: =IF($F6="","",COUNTIF('Anexo 2'!$B$42:$J$42,"="&Listas!$F6)) -> 0 | P6: =IF($F6="","",COUNTIF('Anexo 2'!$B$44:$J$44,"="&Listas!$F6)) -> 0 | Q6: =IF($F6="","",COUNTIF('Anexo 2'!$B$46:$J$46,"="&Listas!$F6)) -> 0 | R6: =IF($F6="","",COUNTIF('Anexo 2'!$B$48:$J$48,"="&Listas!$F6)) -> 0 | S6: =IF(SUM(I6:R6)>=1,1,0) -> 0 | T6: =IF(SUM(I6:R6)>2,1,0) -> 0 | V6: =CONCATENATE("3 de ",$G$14," autorizadores aprueban") -> 3 de 1 autorizadores aprueban | W6: =IF(G6<>"",V6,"")
B7: No aplica | C7: Preparador 4 | D7: =IF('Anexo 2'!D17="SI","Interventor suplente","No aplica") -> Interventor suplente | E7: No aplica | F7: Autorizador 4 | G7: =IFERROR(IF(VLOOKUP(F7,'Anexo 2'!$B$26:$C$30,1,FALSE)=Listas!F7,Listas!F7,),"") | H7: =IF(G7="","",IF(S7=1,"",G7)) | I7: =IF($F7="","",COUNTIF('Anexo 2'!$B$40:$B$48,"="&$F7)) -> 0 | J7: =IF($F7="","",COUNTIF('Anexo 2'!$D$40:$D$48,"="&Listas!$F7)) -> 0 | K7: =IF($F7="","",COUNTIF('Anexo 2'!$F$40:$F$48,"="&Listas!$F7)) -> 0 | L7: =IF($F7="","",COUNTIF('Anexo 2'!$H$40:$H$48,"="&Listas!$F7)) -> 0 | M7: =IF($F7="","",COUNTIF('Anexo 2'!$K$43:$K$51,"="&Listas!$F7)) -> 0 | N7: =IF($F7="","",COUNTIF('Anexo 2'!$B$40:$J$40,"="&Listas!$F7)) -> 0 | O7: =IF($F7="","",COUNTIF('Anexo 2'!$B$42:$J$42,"="&Listas!$F7)) -> 0 | P7: =IF($F7="","",COUNTIF('Anexo 2'!$B$44:$J$44,"="&Listas!$F7)) -> 0 | Q7: =IF($F7="","",COUNTIF('Anexo 2'!$B$46:$J$46,"="&Listas!$F7)) -> 0 | R7: =IF($F7="","",COUNTIF('Anexo 2'!$B$48:$J$48,"="&Listas!$F7)) -> 0 | S7: =IF(SUM(I7:R7)>=1,1,0) -> 0 | T7: =IF(SUM(I7:R7)>2,1,0) -> 0 | V7: =CONCATENATE("4 de ",$G$14," autorizadores aprueban") -> 4 de 1 autorizadores aprueban | W7: =IF(G7<>"",V7,"")
B8: No aplica | C8: Preparador 5 | D8: No aplica | E8: No aplica | F8: Autorizador 5 | G8: =IFERROR(IF(VLOOKUP(F8,'Anexo 2'!$B$26:$C$30,1,FALSE)=Listas!F8,Listas!F8,),"") | H8: =IF(G8="","",IF(S8=1,"",G8)) | I8: =IF($F8="","",COUNTIF('Anexo 2'!$B$40:$B$48,"="&$F8)) -> 0 | J8: =IF($F8="","",COUNTIF('Anexo 2'!$D$40:$D$48,"="&Listas!$F8)) -> 0 | K8: =IF($F8="","",COUNTIF('Anexo 2'!$F$40:$F$48,"="&Listas!$F8)) -> 0 | L8: =IF($F8="","",COUNTIF('Anexo 2'!$H$40:$H$48,"="&Listas!$F8)) -> 0 | M8: =IF($F8="","",COUNTIF('Anexo 2'!$K$43:$K$51,"="&Listas!$F8)) -> 0 | N8: =IF($F8="","",COUNTIF('Anexo 2'!$B$40:$J$40,"="&Listas!$F8)) -> 0 | O8: =IF($F8="","",COUNTIF('Anexo 2'!$B$42:$J$42,"="&Listas!$F8)) -> 0 | P8: =IF($F8="","",COUNTIF('Anexo 2'!$B$44:$J$44,"="&Listas!$F8)) -> 0 | Q8: =IF($F8="","",COUNTIF('Anexo 2'!$B$46:$J$46,"="&Listas!$F8)) -> 0 | R8: =IF($F8="","",COUNTIF('Anexo 2'!$B$48:$J$48,"="&Listas!$F8)) -> 0 | S8: =IF(SUM(I8:R8)>=1,1,0) -> 0 | T8: =IF(SUM(I8:R8)>2,1,0) -> 0 | V8: =CONCATENATE("5 de ",$G$14," autorizadores aprueban") -> 5 de 1 autorizadores aprueban
E9: No aplica | F9: Autorizador 6 | G9: =IFERROR(IF(VLOOKUP(F9,'Anexo 2'!$B$26:$C$30,1,FALSE)=Listas!F9,Listas!F9,),"") | H9: =IF(G9="","",IF(S9=1,"",G9)) | I9: =IF($F9="","",COUNTIF('Anexo 2'!$B$40:$B$48,"="&$F9)) -> 0 | J9: =IF($F9="","",COUNTIF('Anexo 2'!$D$40:$D$48,"="&Listas!$F9)) -> 0 | K9: =IF($F9="","",COUNTIF('Anexo 2'!$F$40:$F$48,"="&Listas!$F9)) -> 0 | L9: =IF($F9="","",COUNTIF('Anexo 2'!$H$40:$H$48,"="&Listas!$F9)) -> 0 | M9: =IF($F9="","",COUNTIF('Anexo 2'!$K$43:$K$51,"="&Listas!$F9)) -> 0 | N9: =IF($F9="","",COUNTIF('Anexo 2'!$B$40:$J$40,"="&Listas!$F9)) -> 0 | O9: =IF($F9="","",COUNTIF('Anexo 2'!$B$42:$J$42,"="&Listas!$F9)) -> 0 | P9: =IF($F9="","",COUNTIF('Anexo 2'!$B$44:$J$44,"="&Listas!$F9)) -> 0 | Q9: =IF($F9="","",COUNTIF('Anexo 2'!$B$46:$J$46,"="&Listas!$F9)) -> 0 | R9: =IF($F9="","",COUNTIF('Anexo 2'!$B$48:$J$48,"="&Listas!$F9)) -> 0 | S9: =IF(SUM(I9:R9)>=1,1,0) -> 0 | T9: =IF(SUM(I9:R9)>2,1,0) -> 0
D10: SI | E10: No aplica | F10: Autorizador 7 | G10: =IFERROR(IF(VLOOKUP(F10,'Anexo 2'!$B$26:$C$30,1,FALSE)=Listas!F10,Listas!F10,),"") | H10: =IF(G10="","",IF(S10=1,"",G10)) | I10: =IF($F10="","",COUNTIF('Anexo 2'!$B$40:$B$48,"="&$F10)) -> 0 | J10: =IF($F10="","",COUNTIF('Anexo 2'!$D$40:$D$48,"="&Listas!$F10)) -> 0 | K10: =IF($F10="","",COUNTIF('Anexo 2'!$F$40:$F$48,"="&Listas!$F10)) -> 0 | L10: =IF($F10="","",COUNTIF('Anexo 2'!$H$40:$H$48,"="&Listas!$F10)) -> 0 | M10: =IF($F10="","",COUNTIF('Anexo 2'!$K$43:$K$51,"="&Listas!$F10)) -> 0 | N10: =IF($F10="","",COUNTIF('Anexo 2'!$B$40:$J$40,"="&Listas!$F10)) -> 0 | O10: =IF($F10="","",COUNTIF('Anexo 2'!$B$42:$J$42,"="&Listas!$F10)) -> 0 | P10: =IF($F10="","",COUNTIF('Anexo 2'!$B$44:$J$44,"="&Listas!$F10)) -> 0 | Q10: =IF($F10="","",COUNTIF('Anexo 2'!$B$46:$J$46,"="&Listas!$F10)) -> 0 | R10: =IF($F10="","",COUNTIF('Anexo 2'!$B$48:$J$48,"="&Listas!$F10)) -> 0 | S10: =IF(SUM(I10:R10)>=1,1,0) -> 0 | T10: =IF(SUM(I10:R10)>2,1,0) -> 0
D11: No | E11: No aplica | F11: Autorizador 8 | G11: =IFERROR(IF(VLOOKUP(F11,'Anexo 2'!$B$26:$C$30,1,FALSE)=Listas!F11,Listas!F11,),"") | H11: =IF(G11="","",IF(S11=1,"",G11)) | I11: =IF($F11="","",COUNTIF('Anexo 2'!$B$40:$B$48,"="&$F11)) -> 0 | J11: =IF($F11="","",COUNTIF('Anexo 2'!$D$40:$D$48,"="&Listas!$F11)) -> 0 | K11: =IF($F11="","",COUNTIF('Anexo 2'!$F$40:$F$48,"="&Listas!$F11)) -> 0 | L11: =IF($F11="","",COUNTIF('Anexo 2'!$H$40:$H$48,"="&Listas!$F11)) -> 0 | M11: =IF($F11="","",COUNTIF('Anexo 2'!$K$43:$K$51,"="&Listas!$F11)) -> 0 | N11: =IF($F11="","",COUNTIF('Anexo 2'!$B$40:$J$40,"="&Listas!$F11)) -> 0 | O11: =IF($F11="","",COUNTIF('Anexo 2'!$B$42:$J$42,"="&Listas!$F11)) -> 0 | P11: =IF($F11="","",COUNTIF('Anexo 2'!$B$44:$J$44,"="&Listas!$F11)) -> 0 | Q11: =IF($F11="","",COUNTIF('Anexo 2'!$B$46:$J$46,"="&Listas!$F11)) -> 0 | R11: =IF($F11="","",COUNTIF('Anexo 2'!$B$48:$J$48,"="&Listas!$F11)) -> 0 | S11: =IF(SUM(I11:R11)>=1,1,0) -> 0 | T11: =IF(SUM(I11:R11)>2,1,0) -> 0
E12: No aplica | F12: Autorizador 9 | G12: =IFERROR(IF(VLOOKUP(F12,'Anexo 2'!$B$26:$C$30,1,FALSE)=Listas!F12,Listas!F12,),"") | H12: =IF(G12="","",IF(S12=1,"",G12)) | I12: =IF($F12="","",COUNTIF('Anexo 2'!$B$40:$B$48,"="&$F12)) -> 0 | J12: =IF($F12="","",COUNTIF('Anexo 2'!$D$40:$D$48,"="&Listas!$F12)) -> 0 | K12: =IF($F12="","",COUNTIF('Anexo 2'!$F$40:$F$48,"="&Listas!$F12)) -> 0 | L12: =IF($F12="","",COUNTIF('Anexo 2'!$H$40:$H$48,"="&Listas!$F12)) -> 0 | M12: =IF($F12="","",COUNTIF('Anexo 2'!$K$43:$K$51,"="&Listas!$F12)) -> 0 | N12: =IF($F12="","",COUNTIF('Anexo 2'!$B$40:$J$40,"="&Listas!$F12)) -> 0 | O12: =IF($F12="","",COUNTIF('Anexo 2'!$B$42:$J$42,"="&Listas!$F12)) -> 0 | P12: =IF($F12="","",COUNTIF('Anexo 2'!$B$44:$J$44,"="&Listas!$F12)) -> 0 | Q12: =IF($F12="","",COUNTIF('Anexo 2'!$B$46:$J$46,"="&Listas!$F12)) -> 0 | R12: =IF($F12="","",COUNTIF('Anexo 2'!$B$48:$J$48,"="&Listas!$F12)) -> 0 | S12: =IF(SUM(I12:R12)>=1,1,0) -> 0 | T12: =IF(SUM(I12:R12)>2,1,0) -> 0
E13: No aplica | F13: Autorizador 10 | G13: =IFERROR(IF(VLOOKUP(F13,'Anexo 2'!$B$26:$C$30,1,FALSE)=Listas!F13,Listas!F13,),"") | H13: =IF(G13="","",IF(S13=1,"",G13)) | I13: =IF($F13="","",COUNTIF('Anexo 2'!$B$40:$B$48,"="&$F13)) -> 0 | J13: =IF($F13="","",COUNTIF('Anexo 2'!$D$40:$D$48,"="&Listas!$F13)) -> 0 | K13: =IF($F13="","",COUNTIF('Anexo 2'!$F$40:$F$48,"="&Listas!$F13)) -> 0 | L13: =IF($F13="","",COUNTIF('Anexo 2'!$H$40:$H$48,"="&Listas!$F13)) -> 0 | M13: =IF($F13="","",COUNTIF('Anexo 2'!$K$43:$K$51,"="&Listas!$F13)) -> 0 | N13: =IF($F13="","",COUNTIF('Anexo 2'!$B$40:$J$40,"="&Listas!$F13)) -> 0 | O13: =IF($F13="","",COUNTIF('Anexo 2'!$B$42:$J$42,"="&Listas!$F13)) -> 0 | P13: =IF($F13="","",COUNTIF('Anexo 2'!$B$44:$J$44,"="&Listas!$F13)) -> 0 | Q13: =IF($F13="","",COUNTIF('Anexo 2'!$B$46:$J$46,"="&Listas!$F13)) -> 0 | R13: =IF($F13="","",COUNTIF('Anexo 2'!$B$48:$J$48,"="&Listas!$F13)) -> 0 | S13: =IF(SUM(I13:R13)>=1,1,0) -> 0 | T13: =IF(SUM(I13:R13)>2,1,0) -> 0
G14: =10-COUNTBLANK(G4:G13) -> 1 | H14: =10-COUNTBLANK(H4:H13) -> 0 | S14: =SUM(S4:S13) -> 1 | T14: =SUM(T4:T13) -> 0
