Workbook
Name Adm: [2]PRESUPUESTO!$F$237
Name base: [3]BaseDatos!$A$2:$F$505
Name CAP.1: ITEMS!#REF!
Name CAP.1: 'PPTO DIRECTO'!#REF!
Name CAP.1: PPTO!#REF!
Name CAP.2: ITEMS!#REF!
Name CAP.2: 'PPTO DIRECTO'!#REF!
Name CAP.2: PPTO!#REF!
Name CAP.3: ITEMS!#REF!
Name CAP.3: 'PPTO DIRECTO'!#REF!
Name CAP.3: PPTO!#REF!
Name CAP.4: [4]PPTO!$C$37
Name CAP.5: [4]PPTO!$C$44
Name CAP.6: [4]PPTO!$C$50
Name CAP.7: [4]PPTO!$C$60
Name CAP.8: [4]PPTO!$C$73
Name CAP.9: [4]PPTO!$C$79
Name equipo: [5]Equipo!$A$7:$A$65536
Name EQUIPO_2: [6]Equipo!$A$7:$A$65536
Name Imprev: [2]PRESUPUESTO!$F$238
Name inf: #REF!
Name item: #REF!
Name IvaSUtl: [2]PRESUPUESTO!#REF!
Name materiales: [5]materiales!$A$7:$A$1317
Name MATERIALES_2: [6]materiales!$A$7:$A$1317
Name otros: [5]otros!$A$6:$A$1235
Name OTROS_2: [6]otros!$A$6:$A$1235
Name Utilidad: [2]PRESUPUESTO!$F$239

Sheet INFORMACION
A2: PROYECTO: | H2: INTERVENTORIA TECNICA ADMINISTRATIVA FINANCIERA Y AMBIENTAL PARA LA
A3: CONSTRUCCIÓN DE PAVIMENTO EN PIEDRA LABOR Y OPTIMIZACIÓN DE LA RED DE ALCANTARILLADO SANITARIO CALLE 5 ENTRE CARRERA 3 Y 4 DEL CASCO URBANO DEL MUNICIPIO DE PINCHOTE, DEPARTAMENTO DE SANTANDER | H3: =A3 -> CONSTRUCCIÓN DE PAVIMENTO EN PIEDRA LABOR Y OPTIMIZACIÓN DE LA RED DE ALCANTARILLADO SANITARIO CALLE 5 ENTRE CARRERA 3 Y 4 DEL CASCO URBANO DEL MUNICIPIO DE PINCHOTE, DEPARTAMENTO DE SANTANDER
A5: LOCALIZACIÓN:
A6: PINCHOTE, SANTANDER
A8: FECHA:
A9: ABRIL DE 2026
A11: CLIENTE:
A12: ALCALDIA MUNICIPAL DE PINCHOTE
C14: ARQ. YASMID ROCÍO CARRILLO MORA
C15: SECRETARIA DE PLANEACIÓN Y OBRAS PÚBLICAS
C16: MUNICIPIO DE PINCHOTE
A21: DURACION:
A22: 2 | C22: MESES
A25: ELABORO: | C25: ING. JEYSON JULIAN LEON RUEDA
C26: MP. 68202-416348 STD

Sheet PRESENTACION
A9: PRESUPUESTO DE OBRA
A11: PROYECTO:
A13: =INFORMACION!A3 -> CONSTRUCCIÓN DE PAVIMENTO EN PIEDRA LABOR Y OPTIMIZACIÓN DE LA RED DE ALCANTARILLADO SANITARIO CALLE 5 ENTRE CARRERA 3 Y 4 DEL CASCO URBANO DEL MUNICIPIO DE PINCHOTE, DEPARTAMENTO DE SANTANDER
A42: =INFORMACION!A6 -> PINCHOTE, SANTANDER
A43: =INFORMACION!A9 -> ABRIL DE 2026

Sheet PPTO
P2: UNITARIOS O TOTALES | Q2: UNITARIOS | S2: UNITARIOS
C3: PRESUPUESTO GENERAL DE OBRA | P3: Decimales | Q3: 0 | S3: TOTALES
C4: OBRA: | D4: =PRESENTACION!A13 -> CONSTRUCCIÓN DE PAVIMENTO EN PIEDRA LABOR Y OPTIMIZACIÓN DE LA RED DE ALCANTARILLADO SANITARIO CALLE 5 ENTRE CARRERA 3 Y 4 DEL CASCO URBANO DEL MUNICIPIO DE PINCHOTE, DEPARTAMENTO DE SANTANDER
C5: =CONCATENATE(INFORMACION!A5,INFORMACION!A6) -> LOCALIZACIÓN:PINCHOTE, SANTANDER | F5: FECHA: | G5: =PRESENTACION!$A$43 -> ABRIL DE 2026
C7: ITEM | D7: DESCRIPCIÓN | E7: UND | F7: CANTIDAD | G7: VR. UNIT. | H7: VR. TOTAL | K7: COSTO DIRECTO | L7: COSTO INDIRECTO | M7: COSTO UNIT. | N7: COSTO TOTAL | O7: I. HERR | P7: II. MAT. | Q7: III. TRANSP. | R7: IV. MO | S7: TOTAL
C10: CAP.1 | D10: COMPONENTE ALCANTARILLADO | V10: =CONCATENATE(C10," ","-"," ",D10) -> CAP.1 - COMPONENTE ALCANTARILLADO
C11: 1.1 | D11: Localización y Replanteo con equipos topográficos | E11: m2 | F11: =99.1*1 -> 99.1 | G11: =APUS!U348 -> 4995 | H11: =+ROUND(F11*G11,$Q$3) -> 495005
C12: 1.2 | D12: Desmonte de pavimento en piedra labor (Incluye retiro y disposición final) | E12: m2 | F12: =F11*1 -> 99.1 | G12: =APUS!U401 -> 26270 | H12: =+ROUND(F12*G12,$Q$3) -> 2603357
C13: 1.3 | D13: Retiro de tubería existente de alcantarillado (Incluye retiro y disposición final) | E13: ml | F13: 98.61 | G13: =APUS!U454 -> 23060 | H13: =+ROUND(F13*G13,$Q$3) -> 2273947
C14: 1.4 | D14: Excavaciones en material común en seco a maquina (Incluye retiro y disposición final) | E14: m3 | F14: =(F13*0.7*1.5) -> 103.5405 | G14: =+IFERROR(IF($Q$2="UNITARIOS",VLOOKUP(C14,$C$9:$Y$63,11,FALSE),VLOOKUP(C14,$C$9:$Y$63,12,FALSE)),0) -> 57314 | H14: =+ROUND(F14*G14,$Q$3) -> 5934320 | K14: =ROUND(F14*M14,$Q$3) -> 5934320 | L14: =ROUND(F14*N14,$Q$3) -> 7892685 | M14: =ROUND(VLOOKUP(C14,APUS!$H$10:$V$1486,14,0),2) -> 57314 | N14: =ROUND(VLOOKUP(C14,APUS!$I$10:$V$1486,13,0),2) -> 76228 | O14: =ROUND(VLOOKUP(C14,APUS!$D$10:$Z$1486,23,0),2) -> 5155338 | P14: =ROUND(VLOOKUP(C14,APUS!$E$10:$Z$1486,22,0),2) -> 0 | Q14: =ROUND(VLOOKUP(C14,APUS!$F$10:$Z$1486,21,0),2) -> 424930 | R14: =ROUND(VLOOKUP(C14,APUS!$G$10:$Z$1486,20,0),2) -> 353997 | S14: =SUM(O14:R14) -> 5934265 | V14: =CONCATENATE(C14," ","-"," ",D14) -> 1,4 - Excavaciones en material común en seco a maquina (Incluye retiro y disposición final)
C15: 1.5 | D15: Excavaciones en material común en seco a mano (Incluye retiro y disposición final) | E15: m3 | F15: =F13*0.4*0.7+10*3.5*0.5*1 -> 45.1108 | G15: =+IFERROR(IF($Q$2="UNITARIOS",VLOOKUP(C15,$C$9:$Y$63,11,FALSE),VLOOKUP(C15,$C$9:$Y$63,12,FALSE)),0) -> 75555 | H15: =+ROUND(F15*G15,$Q$3) -> 3408346 | K15: =ROUND(F15*M15,$Q$3) -> 3408346 | L15: =ROUND(F15*N15,$Q$3) -> 4533139 | M15: =ROUND(VLOOKUP(C15,APUS!$H$10:$V$1486,14,0),2) -> 75555 | N15: =ROUND(VLOOKUP(C15,APUS!$I$10:$V$1486,13,0),2) -> 100489 | O15: =ROUND(VLOOKUP(C15,APUS!$D$10:$Z$1486,23,0),2) -> 652695 | P15: =ROUND(VLOOKUP(C15,APUS!$E$10:$Z$1486,22,0),2) -> 0 | Q15: =ROUND(VLOOKUP(C15,APUS!$F$10:$Z$1486,21,0),2) -> 185135 | R15: =ROUND(VLOOKUP(C15,APUS!$G$10:$Z$1486,20,0),2) -> 2570504 | S15: =SUM(O15:R15) -> 3408334 | V15: =CONCATENATE(C15," ","-"," ",D15) -> 1,5 - Excavaciones en material común en seco a mano (Incluye retiro y disposición final)
C16: 1.6 | D16: Excavaciones en roca a mano (Incluye retiro y disposición final) | E16: m3 | F16: =(F13*0.7)*0.1 -> 6.9027 | G16: =+IFERROR(IF($Q$2="UNITARIOS",VLOOKUP(C16,$C$9:$Y$63,11,FALSE),VLOOKUP(C16,$C$9:$Y$63,12,FALSE)),0) -> 153555 | H16: =+ROUND(F16*G16,$Q$3) -> 1059944 | K16: =ROUND(F16*M16,$Q$3) -> 1059944 | L16: =ROUND(F16*N16,$Q$3) -> 1409732 | M16: =ROUND(VLOOKUP(C16,APUS!$H$10:$V$1486,14,0),2) -> 153555 | N16: =ROUND(VLOOKUP(C16,APUS!$I$10:$V$1486,13,0),2) -> 204229 | O16: =ROUND(VLOOKUP(C16,APUS!$D$10:$Z$1486,23,0),2) -> 638284 | P16: =ROUND(VLOOKUP(C16,APUS!$E$10:$Z$1486,22,0),2) -> 0 | Q16: =ROUND(VLOOKUP(C16,APUS!$F$10:$Z$1486,21,0),2) -> 28329 | R16: =ROUND(VLOOKUP(C16,APUS!$G$10:$Z$1486,20,0),2) -> 393330 | S16: =SUM(O16:R16) -> 1059943 | V16: =CONCATENATE(C16," ","-"," ",D16) -> 1,6 - Excavaciones en roca a mano (Incluye retiro y disposición final)
C17: 1.7 | D17: Relleno para zanja con material seleccionado de la excavación compactado al 90% | E17: m3 | F17: =(F13*0.7*1.6) -> 110.4432 | G17: =+IFERROR(IF($Q$2="UNITARIOS",VLOOKUP(C17,$C$9:$Y$63,11,FALSE),VLOOKUP(C17,$C$9:$Y$63,12,FALSE)),0) -> 54202 | H17: =+ROUND(F17*G17,$Q$3) -> 5986242 | K17: =ROUND(F17*M17,$Q$3) -> 5986242 | L17: =ROUND(F17*N17,$Q$3) -> 7961740 | M17: =ROUND(VLOOKUP(C17,APUS!$H$10:$V$1486,14,0),2) -> 54202 | N17: =ROUND(VLOOKUP(C17,APUS!$I$10:$V$1486,13,0),2) -> 72089 | O17: =ROUND(VLOOKUP(C17,APUS!$D$10:$Z$1486,23,0),2) -> 3533928 | P17: =ROUND(VLOOKUP(C17,APUS!$E$10:$Z$1486,22,0),2) -> 27611 | Q17: =ROUND(VLOOKUP(C17,APUS!$F$10:$Z$1486,21,0),2) -> 0 | R17: =ROUND(VLOOKUP(C17,APUS!$G$10:$Z$1486,20,0),2) -> 2424617 | S17: =SUM(O17:R17) -> 5986156 | V17: =CONCATENATE(C17," ","-"," ",D17) -> 1,7 - Relleno para zanja con material seleccionado de la excavación compactado al 90%
C18: 1.8 | D18: Relleno para zanja con material de préstamo (recebo) compactado 90% | E18: m3 | F18: =(F13*0.7*0.3) -> 20.7081 | G18: =+IFERROR(IF($Q$2="UNITARIOS",VLOOKUP(C18,$C$9:$Y$63,11,FALSE),VLOOKUP(C18,$C$9:$Y$63,12,FALSE)),0) -> 126792 | H18: =+ROUND(F18*G18,$Q$3) -> 2625621 | K18: =ROUND(F18*M18,$Q$3) -> 2625621 | L18: =ROUND(F18*N18,$Q$3) -> 3492090 | M18: =ROUND(VLOOKUP(C18,APUS!$H$10:$V$1486,14,0),2) -> 126792 | N18: =ROUND(VLOOKUP(C18,APUS!$I$10:$V$1486,13,0),2) -> 168634 | O18: =ROUND(VLOOKUP(C18,APUS!$D$10:$Z$1486,23,0),2) -> 72431 | P18: =ROUND(VLOOKUP(C18,APUS!$E$10:$Z$1486,22,0),2) -> 1889718 | Q18: =ROUND(VLOOKUP(C18,APUS!$F$10:$Z$1486,21,0),2) -> 208849 | R18: =ROUND(VLOOKUP(C18,APUS!$G$10:$Z$1486,20,0),2) -> 454616 | S18: =SUM(O18:R18) -> 2625614 | V18: =CONCATENATE(C18," ","-"," ",D18) -> 1,8 - Relleno para zanja con material de préstamo (recebo) compactado 90%
C19: 1.9 | D19: Cama de arena para cimentación de tubería Sanitaria | E19: ml | F19: =F21 -> 98.6 | G19: =+IFERROR(IF($Q$2="UNITARIOS",VLOOKUP(C19,$C$9:$Y$63,11,FALSE),VLOOKUP(C19,$C$9:$Y$63,12,FALSE)),0) -> 30405 | H19: =+ROUND(F19*G19,$Q$3) -> 2997933 | K19: =ROUND(F19*M19,$Q$3) -> 2997933 | L19: =ROUND(F19*N19,$Q$3) -> 3987187 | M19: =ROUND(VLOOKUP(C19,APUS!$H$10:$V$1486,14,0),2) -> 30405 | N19: =ROUND(VLOOKUP(C19,APUS!$I$10:$V$1486,13,0),2) -> 40438 | O19: =ROUND(VLOOKUP(C19,APUS!$D$10:$Z$1486,23,0),2) -> 67645 | P19: =ROUND(VLOOKUP(C19,APUS!$E$10:$Z$1486,22,0),2) -> 828240 | Q19: =ROUND(VLOOKUP(C19,APUS!$F$10:$Z$1486,21,0),2) -> 749143 | R19: =ROUND(VLOOKUP(C19,APUS!$G$10:$Z$1486,20,0),2) -> 1352886 | S19: =SUM(O19:R19) -> 2997914 | V19: =CONCATENATE(C19," ","-"," ",D19) -> 1,9 - Cama de arena para cimentación de tubería Sanitaria
C20: 1.1 | D20: Conexión y reparación de tubería de 8" a los pozos de inspección | E20: und | F20: 4 | G20: =+IFERROR(IF($Q$2="UNITARIOS",VLOOKUP(C20,$C$9:$Y$63,11,FALSE),VLOOKUP(C20,$C$9:$Y$63,12,FALSE)),0) -> 532975 | H20: =+ROUND(F20*G20,$Q$3) -> 2131900 | K20: =ROUND(F20*M20,$Q$3) -> 2131900 | L20: =ROUND(F20*N20,$Q$3) -> 2835428 | M20: =ROUND(VLOOKUP(C20,APUS!$H$10:$V$1486,14,0),2) -> 532975 | N20: =ROUND(VLOOKUP(C20,APUS!$I$10:$V$1486,13,0),2) -> 708857 | O20: =ROUND(VLOOKUP(C20,APUS!$D$10:$Z$1486,23,0),2) -> 54884 | P20: =ROUND(VLOOKUP(C20,APUS!$E$10:$Z$1486,22,0),2) -> 979341 | Q20: =ROUND(VLOOKUP(C20,APUS!$F$10:$Z$1486,21,0),2) -> 0 | R20: =ROUND(VLOOKUP(C20,APUS!$G$10:$Z$1486,20,0),2) -> 1097676 | S20: =SUM(O20:R20) -> 2131901 | V20: =CONCATENATE(C20," ","-"," ",D20) -> 1,1 - Conexión y reparación de tubería de 8" a los pozos de inspección
C21: 1.11 | D21: Suministro e instalaciónTubería corrugada sanitaria de 8" | E21: ml | F21: 98.6 | G21: =+IFERROR(IF($Q$2="UNITARIOS",VLOOKUP(C21,$C$9:$Y$63,11,FALSE),VLOOKUP(C21,$C$9:$Y$63,12,FALSE)),0) -> 139629 | H21: =+ROUND(F21*G21,$Q$3) -> 13767419 | K21: =ROUND(F21*M21,$Q$3) -> 13767419 | L21: =ROUND(F21*N21,$Q$3) -> 18310612 | M21: =ROUND(VLOOKUP(C21,APUS!$H$10:$V$1486,14,0),2) -> 139629 | N21: =ROUND(VLOOKUP(C21,APUS!$I$10:$V$1486,13,0),2) -> 185706 | O21: =ROUND(VLOOKUP(C21,APUS!$D$10:$Z$1486,23,0),2) -> 135289 | P21: =ROUND(VLOOKUP(C21,APUS!$E$10:$Z$1486,22,0),2) -> 10326082 | Q21: =ROUND(VLOOKUP(C21,APUS!$F$10:$Z$1486,21,0),2) -> 600228 | R21: =ROUND(VLOOKUP(C21,APUS!$G$10:$Z$1486,20,0),2) -> 2705771 | S21: =SUM(O21:R21) -> 13767370 | V21: =CONCATENATE(C21," ","-"," ",D21) -> 1,11 - Suministro e instalaciónTubería corrugada sanitaria de 8"
C22: 1.12 | D22: Suministro e instalacion de cajas dimiciliarias 0.6x0.6 (m) . Incluye tapas de concreto | E22: und | F22: 10 | G22: =+IFERROR(IF($Q$2="UNITARIOS",VLOOKUP(C22,$C$9:$Y$63,11,FALSE),VLOOKUP(C22,$C$9:$Y$63,12,FALSE)),0) -> 1068077 | H22: =+ROUND(F22*G22,$Q$3) -> 10680770 | K22: =ROUND(F22*M22,$Q$3) -> 10680770 | L22: =ROUND(F22*N22,$Q$3) -> 14205420 | M22: =ROUND(VLOOKUP(C22,APUS!$H$10:$V$1486,14,0),2) -> 1068077 | N22: =ROUND(VLOOKUP(C22,APUS!$I$10:$V$1486,13,0),2) -> 1420542 | O22: =ROUND(VLOOKUP(C22,APUS!$D$10:$Z$1486,23,0),2) -> 182946 | P22: =ROUND(VLOOKUP(C22,APUS!$E$10:$Z$1486,22,0),2) -> 4807653 | Q22: =ROUND(VLOOKUP(C22,APUS!$F$10:$Z$1486,21,0),2) -> 487000 | R22: =ROUND(VLOOKUP(C22,APUS!$G$10:$Z$1486,20,0),2) -> 3658920 | S22: =SUM(O22:R22) -> 9136519 | V22: =CONCATENATE(C22," ","-"," ",D22) -> 1,12 - Suministro e instalacion de cajas dimiciliarias 0.6x0.6 (m) . Incluye tapas de concreto
C23: 1.13 | D23: Conexiòn Domiciliaria - Tuberìa Sanitaria (D=6") | E23: Und | F23: 10 | G23: =+IFERROR(IF($Q$2="UNITARIOS",VLOOKUP(C23,$C$9:$Y$63,11,FALSE),VLOOKUP(C23,$C$9:$Y$63,12,FALSE)),0) -> 499991 | H23: =+ROUND(F23*G23,$Q$3) -> 4999910 | K23: =ROUND(F23*M23,$Q$3) -> 4999910 | L23: =ROUND(F23*N23,$Q$3) -> 6649890 | M23: =ROUND(VLOOKUP(C23,APUS!$H$10:$V$1486,14,0),2) -> 499991 | N23: =ROUND(VLOOKUP(C23,APUS!$I$10:$V$1486,13,0),2) -> 664989 | O23: =ROUND(VLOOKUP(C23,APUS!$D$10:$Z$1486,23,0),2) -> 137210 | P23: =ROUND(VLOOKUP(C23,APUS!$E$10:$Z$1486,22,0),2) -> 1648660 | Q23: =ROUND(VLOOKUP(C23,APUS!$F$10:$Z$1486,21,0),2) -> 284560 | R23: =ROUND(VLOOKUP(C23,APUS!$G$10:$Z$1486,20,0),2) -> 2744190 | S23: =SUM(O23:R23) -> 4814620 | V23: =CONCATENATE(C23," ","-"," ",D23) -> 1,13 - Conexiòn Domiciliaria - Tuberìa Sanitaria (D=6")
C24: 1.14 | D24: Kit Silla yee 8" a 6" (Incluye caucho y abrazadera) | E24: und | F24: 10 | G24: =+IFERROR(IF($Q$2="UNITARIOS",VLOOKUP(C24,$C$9:$Y$63,11,FALSE),VLOOKUP(C24,$C$9:$Y$63,12,FALSE)),0) -> 329585 | H24: =+ROUND(F24*G24,$Q$3) -> 3295850 | K24: =ROUND(F24*M24,$Q$3) -> 3295850 | L24: =ROUND(F24*N24,$Q$3) -> 4383480 | M24: =ROUND(VLOOKUP(C24,APUS!$H$10:$V$1486,14,0),2) -> 329585 | N24: =ROUND(VLOOKUP(C24,APUS!$I$10:$V$1486,13,0),2) -> 438348 | O24: =ROUND(VLOOKUP(C24,APUS!$D$10:$Z$1486,23,0),2) -> 18295 | P24: =ROUND(VLOOKUP(C24,APUS!$E$10:$Z$1486,22,0),2) -> 2668167 | Q24: =ROUND(VLOOKUP(C24,APUS!$F$10:$Z$1486,21,0),2) -> 243500 | R24: =ROUND(VLOOKUP(C24,APUS!$G$10:$Z$1486,20,0),2) -> 365892 | S24: =SUM(O24:R24) -> 3295854 | V24: =CONCATENATE(C24," ","-"," ",D24) -> 1,14 - Kit Silla yee 8" a 6" (Incluye caucho y abrazadera)
C25: SUBTOTAL COSTO DIRECTO | H25: =+SUM(H11:H24) -> 62260564
C26: ADMINISTRACCION | G26: 0.29 | H26: =+ROUND(H25*G26,0) -> 18055564
C27: IMPREVISTOS | G27: 0.01 | H27: =+ROUND(H25*G27,0) -> 622606
C28: UTILIDAD | G28: 0.05 | H28: =+ROUND(H25*G28,0) -> 3113028
C29: SUBTOTAL COSTO INDIRECTO (A.I.U.) | H29: =+SUM(H26:H28) -> 21791198
D30: TOTAL ALCANTARILLADO | H30: =H25+H29 -> 84051762
C32: CAP.2 | D32: COMPONENTE ACUEDUCTO
C33: 2.1 | D33: Localización y Replanteo con equipos topográficos | E33: m2 | F33: =99.1*1 -> 99.1 | G33: =G11 -> 4995 | H33: =+ROUND(F33*G33,$Q$3) -> 495005
C34: 2.2 | D34: Desmonte de pavimento en piedra labor (Incluye retiro y disposición final) | E34: m2 | F34: =F33 -> 99.1 | G34: =G12 -> 26270 | H34: =+ROUND(F34*G34,$Q$3) -> 2603357
C35: 2.3 | D35: Retiro de tubería existente de Acueducto (Incluye retiro y disposición final) | E35: ml | F35: 99.1 | G35: =APUS!U1520 -> 22042 | H35: =+ROUND(F35*G35,$Q$3) -> 2184362
C36: 2.4 | D36: Excavaciones en material común en seco a maquina (Incluye retiro y disposición final) | E36: m3 | F36: =(F35*0.6*0.6) -> 35.676 | G36: =G14 -> 57314 | H36: =+ROUND(F36*G36,$Q$3) -> 2044734
C37: 2.5 | D37: Excavaciones en material común en seco a mano (Incluye retiro y disposición final) | E37: m3 | F37: =F35*0.6*0.2+10*3.5*0.5*0.6 -> 22.392 | G37: =G15 -> 75555 | H37: =+ROUND(F37*G37,$Q$3) -> 1691828
C38: 2.6 | D38: Excavaciones en roca a mano (Incluye retiro y disposición final) | E38: m3 | F38: =(F35*0.6)*0.1 -> 5.946 | G38: =G16 -> 153555 | H38: =+ROUND(F38*G38,$Q$3) -> 913038
C39: 2.7 | D39: Relleno para zanja con material seleccionado de la excavación compactado al 90% | E39: m3 | F39: =(F35*0.6*0.5) -> 29.73 | G39: =G17 -> 54202 | H39: =+ROUND(F39*G39,$Q$3) -> 1611425
C40: 2.8 | D40: Relleno para zanja con material de préstamo (recebo) compactado 90% | E40: m3 | F40: =(F35*0.6*0.2) -> 11.892 | G40: =G18 -> 126792 | H40: =+ROUND(F40*G40,$Q$3) -> 1507810
C41: 2.9 | D41: Cama de arena para tuberia PVC Potable | E41: ml | F41: =F35 -> 99.1 | G41: =G19 -> 30405 | H41: =+ROUND(F41*G41,$Q$3) -> 3013136
C42: 2.1 | D42: Suministro e instalación de tuberiapresión pvc de 2" | E42: und | F42: =F35 -> 99.1 | G42: =APUS!U1573 -> 86487 | H42: =+ROUND(F42*G42,$Q$3) -> 8570862
C43: 2.11 | D43: Conexión domiciliaria potable presión RDE-21 (D=1/2") | E43: UND | F43: 10 | G43: =APUS!U1627 -> 687156 | H43: =+ROUND(F43*G43,$Q$3) -> 6871560
C45: SUBTOTAL COSTO DIRECTO | H45: =+SUM(H33:H43) -> 31507117
C46: ADMINISTRACCION | G46: 0.29 | H46: =+ROUND(H45*G46,0) -> 9137064
...

Sheet RENDIMIENTO
B3: ITEM | C3: DESCRIPCIÓN | D3: UND | E3: CANTIDAD | F3: RENDIMIENTO | H3: TOTAL
F4: X CUADRILLA | G4: # CUARILLAS | H4: DIAS | I4: MESES
B6: =PPTO!#REF! -> #REF!
B7: CAP.1 | C7: =VLOOKUP(B7,PPTO!$C$7:$H$59,2,0) -> COMPONENTE ALCANTARILLADO | L7: =CONCATENATE(B7," ","-"," ",C7) -> CAP.1 - COMPONENTE ALCANTARILLADO
B8: 1.1 | C8: =VLOOKUP(B8,PPTO!$C$7:$H$59,2,0) -> Localización y Replanteo con equipos topográficos | D8: =VLOOKUP(B8,PPTO!$C$7:$H$59,3,0) -> m2 | E8: =VLOOKUP(B8,PPTO!$C$7:$H$59,4,0) -> 99.1 | F8: =ROUND(VLOOKUP(B8,APUS!$J$10:$Z$1486,8,0),2) -> 150 | G8: 2 | H8: =ROUNDUP(E8/(F8*G8),0) -> 1 | I8: =ROUND(H8/30,2) -> 0.03 | L8: =CONCATENATE(B8," ","-"," ",C8) -> 1.1 - Localización y Replanteo con equipos topográficos
B9: 1.2 | C9: =VLOOKUP(B9,PPTO!$C$7:$H$59,2,0) -> Desmonte de pavimento en piedra labor (Incluye retiro y disposición final) | D9: =VLOOKUP(B9,PPTO!$C$7:$H$59,3,0) -> m2 | E9: =VLOOKUP(B9,PPTO!$C$7:$H$59,4,0) -> 99.1 | F9: =ROUND(VLOOKUP(B9,APUS!$J$10:$Z$1486,8,0),2) -> 20 | G9: 4 | H9: =ROUNDUP(E9/(F9*G9),0) -> 2 | I9: =ROUND(H9/30,2) -> 0.07 | L9: =CONCATENATE(B9," ","-"," ",C9) -> 1.2 - Desmonte de pavimento en piedra labor (Incluye retiro y disposición final)
B10: 1.3 | C10: =VLOOKUP(B10,PPTO!$C$7:$H$59,2,0) -> Retiro de tubería existente de alcantarillado (Incluye retiro y disposición final) | D10: =VLOOKUP(B10,PPTO!$C$7:$H$59,3,0) -> ml | E10: =VLOOKUP(B10,PPTO!$C$7:$H$59,4,0) -> 98.61 | F10: =ROUND(VLOOKUP(B10,APUS!$J$10:$Z$1486,8,0),2) -> 20 | G10: 2 | H10: =ROUNDUP(E10/(F10*G10),0) -> 3 | I10: =ROUND(H10/30,2) -> 0.1 | L10: =CONCATENATE(B10," ","-"," ",C10) -> 1.3 - Retiro de tubería existente de alcantarillado (Incluye retiro y disposición final)
B11: 1.4 | C11: =VLOOKUP(B11,PPTO!$C$7:$H$59,2,0) -> #N/A | D11: =VLOOKUP(B11,PPTO!$C$7:$H$59,3,0) -> #N/A | E11: =VLOOKUP(B11,PPTO!$C$7:$H$59,4,0) -> #N/A | F11: =ROUND(VLOOKUP(B11,APUS!$J$10:$Z$1486,8,0),2) -> #N/A | G11: 1 | H11: =ROUNDUP(E11/(F11*G11),0) -> #N/A | I11: =ROUND(H11/30,2) -> #N/A | L11: =CONCATENATE(B11," ","-"," ",C11) -> #N/A
B12: 1.5 | C12: =VLOOKUP(B12,PPTO!$C$7:$H$59,2,0) -> #N/A | D12: =VLOOKUP(B12,PPTO!$C$7:$H$59,3,0) -> #N/A | E12: =VLOOKUP(B12,PPTO!$C$7:$H$59,4,0) -> #N/A | F12: =ROUND(VLOOKUP(B12,APUS!$J$10:$Z$1486,8,0),2) -> #N/A | G12: 1 | H12: =ROUNDUP(E12/(F12*G12),0) -> #N/A | I12: =ROUND(H12/30,2) -> #N/A | L12: =CONCATENATE(B12," ","-"," ",C12) -> #N/A
B13: 1.6 | C13: =VLOOKUP(B13,PPTO!$C$7:$H$59,2,0) -> #N/A | D13: =VLOOKUP(B13,PPTO!$C$7:$H$59,3,0) -> #N/A | E13: =VLOOKUP(B13,PPTO!$C$7:$H$59,4,0) -> #N/A | F13: =ROUND(VLOOKUP(B13,APUS!$J$10:$Z$1486,8,0),2) -> #N/A | G13: 4 | H13: =ROUNDUP(E13/(F13*G13),0) -> #N/A | I13: =ROUND(H13/30,2) -> #N/A | L13: =CONCATENATE(B13," ","-"," ",C13) -> #N/A
B14: 1.7 | C14: =VLOOKUP(B14,PPTO!$C$7:$H$59,2,0) -> #N/A | D14: =VLOOKUP(B14,PPTO!$C$7:$H$59,3,0) -> #N/A | E14: =VLOOKUP(B14,PPTO!$C$7:$H$59,4,0) -> #N/A | F14: =ROUND(VLOOKUP(B14,APUS!$J$10:$Z$1486,8,0),2) -> #N/A | G14: 1 | H14: =ROUNDUP(E14/(F14*G14),0) -> #N/A | I14: =ROUND(H14/30,2) -> #N/A | L14: =CONCATENATE(B14," ","-"," ",C14) -> #N/A
B15: 1.8 | C15: =VLOOKUP(B15,PPTO!$C$7:$H$59,2,0) -> #N/A | D15: =VLOOKUP(B15,PPTO!$C$7:$H$59,3,0) -> #N/A | E15: =VLOOKUP(B15,PPTO!$C$7:$H$59,4,0) -> #N/A | F15: =ROUND(VLOOKUP(B15,APUS!$J$10:$Z$1486,8,0),2) -> #N/A | G15: 1 | H15: =ROUNDUP(E15/(F15*G15),0) -> #N/A | I15: =ROUND(H15/30,2) -> #N/A | L15: =CONCATENATE(B15," ","-"," ",C15) -> #N/A
B16: 1.9 | C16: =VLOOKUP(B16,PPTO!$C$7:$H$59,2,0) -> #N/A | D16: =VLOOKUP(B16,PPTO!$C$7:$H$59,3,0) -> #N/A | E16: =VLOOKUP(B16,PPTO!$C$7:$H$59,4,0) -> #N/A | F16: =ROUND(VLOOKUP(B16,APUS!$J$10:$Z$1486,8,0),2) -> #N/A | G16: 2 | H16: =ROUNDUP(E16/(F16*G16),0) -> #N/A | I16: =ROUND(H16/30,2) -> #N/A | L16: =CONCATENATE(B16," ","-"," ",C16) -> #N/A
B17: CAP.2 | C17: =VLOOKUP(B17,PPTO!$C$7:$H$59,2,0) -> COMPONENTE ACUEDUCTO | L17: =CONCATENATE(B17," ","-"," ",C17) -> CAP.2 - COMPONENTE ACUEDUCTO
B18: 2.1 | C18: =VLOOKUP(B18,PPTO!$C$7:$H$59,2,0) -> #N/A | D18: =VLOOKUP(B18,PPTO!$C$7:$H$59,3,0) -> #N/A | E18: =VLOOKUP(B18,PPTO!$C$7:$H$59,4,0) -> #N/A | F18: =ROUND(VLOOKUP(B18,APUS!$J$10:$Z$1486,8,0),2) -> #N/A | G18: 8 | H18: =ROUNDUP(E18/(F18*G18),0) -> #N/A | I18: =ROUND(H18/30,2) -> #N/A | L18: =CONCATENATE(B18," ","-"," ",C18) -> #N/A
B19: 2.2 | C19: =VLOOKUP(B19,PPTO!$C$7:$H$59,2,0) -> #N/A | D19: =VLOOKUP(B19,PPTO!$C$7:$H$59,3,0) -> #N/A | E19: =VLOOKUP(B19,PPTO!$C$7:$H$59,4,0) -> #N/A | F19: =ROUND(VLOOKUP(B19,APUS!$J$10:$Z$1486,8,0),2) -> #N/A | G19: 2 | H19: =ROUNDUP(E19/(F19*G19),0) -> #N/A | I19: =ROUND(H19/30,2) -> #N/A | L19: =CONCATENATE(B19," ","-"," ",C19) -> #N/A
B20: 2.3 | C20: =VLOOKUP(B20,PPTO!$C$7:$H$59,2,0) -> #N/A | D20: =VLOOKUP(B20,PPTO!$C$7:$H$59,3,0) -> #N/A | E20: =VLOOKUP(B20,PPTO!$C$7:$H$59,4,0) -> #N/A | F20: =ROUND(VLOOKUP(B20,APUS!$J$10:$Z$1486,8,0),2) -> #N/A | G20: 8 | H20: =ROUNDUP(E20/(F20*G20),0) -> #N/A | I20: =ROUND(H20/30,2) -> #N/A | L20: =CONCATENATE(B20," ","-"," ",C20) -> #N/A
B21: 2.4 | C21: =VLOOKUP(B21,PPTO!$C$7:$H$59,2,0) -> #N/A | D21: =VLOOKUP(B21,PPTO!$C$7:$H$59,3,0) -> #N/A | E21: =VLOOKUP(B21,PPTO!$C$7:$H$59,4,0) -> #N/A | F21: =ROUND(VLOOKUP(B21,APUS!$J$10:$Z$1486,8,0),2) -> #N/A | G21: 10 | H21: =ROUNDUP(E21/(F21*G21),0) -> #N/A | I21: =ROUND(H21/30,2) -> #N/A | L21: =CONCATENATE(B21," ","-"," ",C21) -> #N/A
B22: 2.5 | C22: =VLOOKUP(B22,PPTO!$C$7:$H$59,2,0) -> #N/A | D22: =VLOOKUP(B22,PPTO!$C$7:$H$59,3,0) -> #N/A | E22: =VLOOKUP(B22,PPTO!$C$7:$H$59,4,0) -> #N/A | F22: =ROUND(VLOOKUP(B22,APUS!$J$10:$Z$1486,8,0),2) -> #N/A | G22: 15 | H22: =ROUNDUP(E22/(F22*G22),0) -> #N/A | I22: =ROUND(H22/30,2) -> #N/A | L22: =CONCATENATE(B22," ","-"," ",C22) -> #N/A
B23: 2.6 | C23: =VLOOKUP(B23,PPTO!$C$7:$H$59,2,0) -> #N/A | D23: =VLOOKUP(B23,PPTO!$C$7:$H$59,3,0) -> #N/A | E23: =VLOOKUP(B23,PPTO!$C$7:$H$59,4,0) -> #N/A | F23: =ROUND(VLOOKUP(B23,APUS!$J$10:$Z$1486,8,0),2) -> #N/A | G23: 2 | H23: =ROUNDUP(E23/(F23*G23),0) -> #N/A | I23: =ROUND(H23/30,2) -> #N/A | L23: =CONCATENATE(B23," ","-"," ",C23) -> #N/A
B24: CAP.3 | C24: =VLOOKUP(B24,PPTO!$C$7:$H$59,2,0) -> ESTRUCTURA VIAL EN PIEDRA LABOR | L24: =CONCATENATE(B24," ","-"," ",C24) -> CAP.3 - ESTRUCTURA VIAL EN PIEDRA LABOR
B25: 3.1 | C25: =VLOOKUP(B25,PPTO!$C$7:$H$59,2,0) -> #N/A | D25: =VLOOKUP(B25,PPTO!$C$7:$H$59,3,0) -> #N/A | E25: =VLOOKUP(B25,PPTO!$C$7:$H$59,4,0) -> #N/A | F25: =ROUND(VLOOKUP(B25,APUS!$J$10:$Z$1486,8,0),2) -> #N/A | G25: 3 | H25: =ROUNDUP(E25/(F25*G25),0) -> #N/A | I25: =ROUND(H25/30,2) -> #N/A | L25: =CONCATENATE(B25," ","-"," ",C25) -> #N/A
B26: 3.2 | C26: =VLOOKUP(B26,PPTO!$C$7:$H$59,2,0) -> #N/A | D26: =VLOOKUP(B26,PPTO!$C$7:$H$59,3,0) -> #N/A | E26: =VLOOKUP(B26,PPTO!$C$7:$H$59,4,0) -> #N/A | F26: =ROUND(VLOOKUP(B26,APUS!$J$10:$Z$1486,8,0),2) -> #N/A | G26: 3 | H26: =ROUNDUP(E26/(F26*G26),0) -> #N/A | I26: =ROUND(H26/30,2) -> #N/A | L26: =CONCATENATE(B26," ","-"," ",C26) -> #N/A
B27: 3.3 | C27: =VLOOKUP(B27,PPTO!$C$7:$H$59,2,0) -> #N/A | D27: =VLOOKUP(B27,PPTO!$C$7:$H$59,3,0) -> #N/A | E27: =VLOOKUP(B27,PPTO!$C$7:$H$59,4,0) -> #N/A | F27: =ROUND(VLOOKUP(B27,APUS!$J$10:$Z$1486,8,0),2) -> #N/A | G27: 2 | H27: =ROUNDUP(E27/(F27*G27),0) -> #N/A | I27: =ROUND(H27/30,2) -> #N/A | L27: =CONCATENATE(B27," ","-"," ",C27) -> #N/A
B28: 3.4 | C28: =VLOOKUP(B28,PPTO!$C$7:$H$59,2,0) -> #N/A | D28: =VLOOKUP(B28,PPTO!$C$7:$H$59,3,0) -> #N/A | E28: =VLOOKUP(B28,PPTO!$C$7:$H$59,4,0) -> #N/A | F28: =ROUND(VLOOKUP(B28,APUS!$J$10:$Z$1486,8,0),2) -> #N/A | G28: 8 | H28: =ROUNDUP(E28/(F28*G28),0) -> #N/A | I28: =ROUND(H28/30,2) -> #N/A | L28: =CONCATENATE(B28," ","-"," ",C28) -> #N/A
B29: 3.5 | C29: =VLOOKUP(B29,PPTO!$C$7:$H$59,2,0) -> #N/A | D29: =VLOOKUP(B29,PPTO!$C$7:$H$59,3,0) -> #N/A | E29: =VLOOKUP(B29,PPTO!$C$7:$H$59,4,0) -> #N/A | F29: =ROUND(VLOOKUP(B29,APUS!$J$10:$Z$1486,8,0),2) -> 50 | G29: 2 | H29: =ROUNDUP(E29/(F29*G29),0) -> #N/A | I29: =ROUND(H29/30,2) -> #N/A | L29: =CONCATENATE(B29," ","-"," ",C29) -> #N/A
B30: 3.6 | C30: =VLOOKUP(B30,PPTO!$C$7:$H$59,2,0) -> #N/A | D30: =VLOOKUP(B30,PPTO!$C$7:$H$59,3,0) -> #N/A | E30: =VLOOKUP(B30,PPTO!$C$7:$H$59,4,0) -> #N/A | F30: =ROUND(VLOOKUP(B30,APUS!$J$10:$Z$1486,8,0),2) -> 20 | G30: 2 | H30: =ROUNDUP(E30/(F30*G30),0) -> #N/A | I30: =ROUND(H30/30,2) -> #N/A | L30: =CONCATENATE(B30," ","-"," ",C30) -> #N/A
B31: 3.7 | C31: =VLOOKUP(B31,PPTO!$C$7:$H$59,2,0) -> #N/A | D31: =VLOOKUP(B31,PPTO!$C$7:$H$59,3,0) -> #N/A | E31: =VLOOKUP(B31,PPTO!$C$7:$H$59,4,0) -> #N/A | F31: =ROUND(VLOOKUP(B31,APUS!$J$10:$Z$1486,8,0),2) -> 13 | G31: 3 | H31: =ROUNDUP(E31/(F31*G31),0) -> #N/A | I31: =ROUND(H31/30,2) -> #N/A | L31: =CONCATENATE(B31," ","-"," ",C31) -> #N/A
B32: 3.8 | C32: =VLOOKUP(B32,PPTO!$C$7:$H$59,2,0) -> #N/A | D32: =VLOOKUP(B32,PPTO!$C$7:$H$59,3,0) -> #N/A | E32: =VLOOKUP(B32,PPTO!$C$7:$H$59,4,0) -> #N/A | F32: =ROUND(VLOOKUP(B32,APUS!$J$10:$Z$1486,8,0),2) -> 15 | G32: 2 | H32: =ROUNDUP(E32/(F32*G32),0) -> #N/A | I32: =ROUND(H32/30,2) -> #N/A | L32: =CONCATENATE(B32," ","-"," ",C32) -> #N/A
B33: 3.9 | C33: =VLOOKUP(B33,PPTO!$C$7:$H$59,2,0) -> #N/A | D33: =VLOOKUP(B33,PPTO!$C$7:$H$59,3,0) -> #N/A | E33: =VLOOKUP(B33,PPTO!$C$7:$H$59,4,0) -> #N/A | F33: =ROUND(VLOOKUP(B33,APUS!$J$10:$Z$1486,8,0),2) -> #N/A | G33: 2 | H33: =ROUNDUP(E33/(F33*G33),0) -> #N/A | I33: =ROUND(H33/30,2) -> #N/A | L33: =CONCATENATE(B33," ","-"," ",C33) -> #N/A
B34: 3.10 | C34: =VLOOKUP(B34,PPTO!$C$7:$H$59,2,0) -> #N/A | D34: =VLOOKUP(B34,PPTO!$C$7:$H$59,3,0) -> #N/A | E34: =VLOOKUP(B34,PPTO!$C$7:$H$59,4,0) -> #N/A | F34: =ROUND(VLOOKUP(B34,APUS!$J$10:$Z$1486,8,0),2) -> #N/A | G34: 2 | H34: =ROUNDUP(E34/(F34*G34),0) -> #N/A | I34: =ROUND(H34/30,2) -> #N/A | L34: =CONCATENATE(B34," ","-"," ",C34) -> #N/A
B35: 3.11 | C35: =VLOOKUP(B35,PPTO!$C$7:$H$59,2,0) -> #N/A | D35: =VLOOKUP(B35,PPTO!$C$7:$H$59,3,0) -> #N/A | E35: =VLOOKUP(B35,PPTO!$C$7:$H$59,4,0) -> #N/A | F35: =ROUND(VLOOKUP(B35,APUS!$J$10:$Z$1486,8,0),2) -> #N/A | G35: 2 | H35: =ROUNDUP(E35/(F35*G35),0) -> #N/A | I35: =ROUND(H35/30,2) -> #N/A | L35: =CONCATENATE(B35," ","-"," ",C35) -> #N/A
B36: 3.12 | C36: =VLOOKUP(B36,PPTO!$C$7:$H$59,2,0) -> #N/A | D36: =VLOOKUP(B36,PPTO!$C$7:$H$59,3,0) -> #N/A | E36: =VLOOKUP(B36,PPTO!$C$7:$H$59,4,0) -> #N/A | F36: =ROUND(VLOOKUP(B36,APUS!$J$10:$Z$1486,8,0),2) -> #N/A | G36: 2 | H36: =ROUNDUP(E36/(F36*G36),0) -> #N/A | I36: =ROUND(H36/30,2) -> #N/A | L36: =CONCATENATE(B36," ","-"," ",C36) -> #N/A
... B38: 3.14 | C38: =VLOOKUP(B38,PPTO!$C$7:$H$59,2,0) -> #N/A | D38: =VLOOKUP(B38,PPTO!$C$7:$H$59,3,0) -> #N/A | E38: =VLOOKUP(B38,PPTO!$C$7:$H$59,4,0) -> #N/A | F38: =ROUND(VLOOKUP(B38,APUS!$J$10:$Z$1486,8,0),2) -> #N/A | G38: 2 | H38: =ROUNDUP(E38/(F38*G38),0) -> #N/A | I38: =ROUND(H38/30,2) -> #N/A | L38: =CONCATENATE(B38," ","-"," ",C38) -> #N/A
B39: CAP.4 | C39: =VLOOKUP(B39,PPTO!$C$7:$H$59,2,0) -> #N/A | L39: =CONCATENATE(B39," ","-"," ",C39) -> #N/A
B40: 4.1 | C40: =VLOOKUP(B40,PPTO!$C$7:$H$59,2,0) -> #N/A | D40: =VLOOKUP(B40,PPTO!$C$7:$H$59,3,0) -> #N/A | E40: =VLOOKUP(B40,PPTO!$C$7:$H$59,4,0) -> #N/A | F40: =ROUND(VLOOKUP(B40,APUS!$J$10:$Z$1486,8,0),2) -> #N/A | G40: 2 | H40: =ROUNDUP(E40/(F40*G40),0) -> #N/A | I40: =ROUND(H40/30,2) -> #N/A | L40: =CONCATENATE(B40," ","-"," ",C40) -> #N/A
B41: 4.2 | C41: =VLOOKUP(B41,PPTO!$C$7:$H$59,2,0) -> #N/A | D41: =VLOOKUP(B41,PPTO!$C$7:$H$59,3,0) -> #N/A | E41: =VLOOKUP(B41,PPTO!$C$7:$H$59,4,0) -> #N/A | F41: =ROUND(VLOOKUP(B41,APUS!$J$10:$Z$1486,8,0),2) -> #N/A | G41: 2 | H41: =ROUNDUP(E41/(F41*G41),0) -> #N/A | I41: =ROUND(H41/30,2) -> #N/A | L41: =CONCATENATE(B41," ","-"," ",C41) -> #N/A
B42: 4.3 | C42: =VLOOKUP(B42,PPTO!$C$7:$H$59,2,0) -> #N/A | D42: =VLOOKUP(B42,PPTO!$C$7:$H$59,3,0) -> #N/A | E42: =VLOOKUP(B42,PPTO!$C$7:$H$59,4,0) -> #N/A | F42: =ROUND(VLOOKUP(B42,APUS!$J$10:$Z$1486,8,0),2) -> #N/A | G42: 2 | H42: =ROUNDUP(E42/(F42*G42),0) -> #N/A | I42: =ROUND(H42/30,2) -> #N/A | L42: =CONCATENATE(B42," ","-"," ",C42) -> #N/A
B43: 4.4 | C43: =VLOOKUP(B43,PPTO!$C$7:$H$59,2,0) -> #N/A | D43: =VLOOKUP(B43,PPTO!$C$7:$H$59,3,0) -> #N/A | E43: =VLOOKUP(B43,PPTO!$C$7:$H$59,4,0) -> #N/A | F43: =ROUND(VLOOKUP(B43,APUS!$J$10:$Z$1486,8,0),2) -> #N/A | G43: 2 | H43: =ROUNDUP(E43/(F43*G43),0) -> #N/A | I43: =ROUND(H43/30,2) -> #N/A | L43: =CONCATENATE(B43," ","-"," ",C43) -> #N/A
B44: 4.5 | C44: =VLOOKUP(B44,PPTO!$C$7:$H$59,2,0) -> #N/A | D44: =VLOOKUP(B44,PPTO!$C$7:$H$59,3,0) -> #N/A | E44: =VLOOKUP(B44,PPTO!$C$7:$H$59,4,0) -> #N/A | F44: =ROUND(VLOOKUP(B44,APUS!$J$10:$Z$1486,8,0),2) -> #N/A | G44: 2 | H44: =ROUNDUP(E44/(F44*G44),0) -> #N/A | I44: =ROUND(H44/30,2) -> #N/A | L44: =CONCATENATE(B44," ","-"," ",C44) -> #N/A
...

Sheet ITEMS
P2: UNITARIOS O TOTALES | Q2: UNITARIOS | S2: UNITARIOS
C3: PRESUPUESTO GENERAL DE OBRA | P3: Decimales | Q3: 0 | S3: TOTALES
C4: OBRA: | D4: =PRESENTACION!A13 -> CONSTRUCCIÓN DE PAVIMENTO EN PIEDRA LABOR Y OPTIMIZACIÓN DE LA RED DE ALCANTARILLADO SANITARIO CALLE 5 ENTRE CARRERA 3 Y 4 DEL CASCO URBANO DEL MUNICIPIO DE PINCHOTE, DEPARTAMENTO DE SANTANDER
C5: =CONCATENATE(INFORMACION!A5,INFORMACION!A6) -> LOCALIZACIÓN:PINCHOTE, SANTANDER | F5: FECHA: | H5: =PRESENTACION!A43 -> ABRIL DE 2026
C7: ITEM | D7: DESCRIPCIÓN | E7: UND | F7: CANTIDAD | G7: VR. UNIT. | H7: VR. TOTAL | K7: COSTO DIRECTO | L7: COSTO INDIRECTO | M7: COSTO UNIT. | N7: COSTO TOTAL | O7: I. HERR | P7: II. MAT. | Q7: III. TRANSP. | R7: IV. MO | S7: TOTAL
C9: CAP.1 | D9: =VLOOKUP(C9,PPTO!$C$7:$H$59,2,0) -> COMPONENTE ALCANTARILLADO
C10: 1.1 | D10: =VLOOKUP(C10,PPTO!$C$7:$H$59,2,0) -> Localización y Replanteo con equipos topográficos | E10: =VLOOKUP(C10,PPTO!$C$7:$H$59,3,0) -> m2 | F10: =IFERROR(SUMIFS(PPTO!$F$7:$F$59,PPTO!$C$7:$C$59,ITEMS!C10),0) -> 99.1 | G10: =VLOOKUP(C10,PPTO!$C$7:$H$59,5,0) -> 4995 | H10: =+ROUND(F10*G10,$Q$3) -> 495005 | K10: =ROUND(F10*M10,$Q$3) -> 495005 | L10: =ROUND(F10*N10,$Q$3) -> 658420 | M10: =ROUND(VLOOKUP(C10,APUS!$H$10:$V$1486,14,0),2) -> 4995 | N10: =ROUND(VLOOKUP(C10,APUS!$I$10:$V$1486,13,0),2) -> 6644 | O10: =ROUND(VLOOKUP(C10,APUS!$D$10:$Z$1486,23,0),2) -> 18130 | P10: =ROUND(VLOOKUP(C10,APUS!$E$10:$Z$1486,22,0),2) -> 114304 | Q10: =ROUND(VLOOKUP(C10,APUS!$F$10:$Z$1486,21,0),2) -> 0 | R10: =ROUND(VLOOKUP(C10,APUS!$G$10:$Z$1486,20,0),2) -> 362599 | S10: =ROUND(SUM(O10:R10),$Q$3) -> 495033
C11: 1.2 | D11: =VLOOKUP(C11,PPTO!$C$7:$H$59,2,0) -> Desmonte de pavimento en piedra labor (Incluye retiro y disposición final) | E11: =VLOOKUP(C11,PPTO!$C$7:$H$59,3,0) -> m2 | F11: =IFERROR(SUMIFS(PPTO!$F$7:$F$59,PPTO!$C$7:$C$59,ITEMS!C11),0) -> 99.1 | G11: =VLOOKUP(C11,PPTO!$C$7:$H$59,5,0) -> 26270 | H11: =+ROUND(F11*G11,$Q$3) -> 2603357 | K11: =ROUND(F11*M11,$Q$3) -> 2603357 | L11: =ROUND(F11*N11,$Q$3) -> 3462554 | M11: =ROUND(VLOOKUP(C11,APUS!$H$10:$V$1486,14,0),2) -> 26270 | N11: =ROUND(VLOOKUP(C11,APUS!$I$10:$V$1486,13,0),2) -> 34940 | O11: =ROUND(VLOOKUP(C11,APUS!$D$10:$Z$1486,23,0),2) -> 841493 | P11: =ROUND(VLOOKUP(C11,APUS!$E$10:$Z$1486,22,0),2) -> 0 | Q11: =ROUND(VLOOKUP(C11,APUS!$F$10:$Z$1486,21,0),2) -> 67784 | R11: =ROUND(VLOOKUP(C11,APUS!$G$10:$Z$1486,20,0),2) -> 1694075 | S11: =ROUND(SUM(O11:R11),$Q$3) -> 2603352
C12: 1.3 | D12: =VLOOKUP(C12,PPTO!$C$7:$H$59,2,0) -> Retiro de tubería existente de alcantarillado (Incluye retiro y disposición final) | E12: =VLOOKUP(C12,PPTO!$C$7:$H$59,3,0) -> ml | F12: =IFERROR(SUMIFS(PPTO!$F$7:$F$59,PPTO!$C$7:$C$59,ITEMS!C12),0) -> 98.61 | G12: =VLOOKUP(C12,PPTO!$C$7:$H$59,5,0) -> 23060 | H12: =+ROUND(F12*G12,$Q$3) -> 2273947 | K12: =ROUND(F12*M12,$Q$3) -> 2273947 | L12: =ROUND(F12*N12,$Q$3) -> 3024369 | M12: =ROUND(VLOOKUP(C12,APUS!$H$10:$V$1486,14,0),2) -> 23060 | N12: =ROUND(VLOOKUP(C12,APUS!$I$10:$V$1486,13,0),2) -> 30670 | O12: =ROUND(VLOOKUP(C12,APUS!$D$10:$Z$1486,23,0),2) -> 554489 | P12: =ROUND(VLOOKUP(C12,APUS!$E$10:$Z$1486,22,0),2) -> 0 | Q12: =ROUND(VLOOKUP(C12,APUS!$F$10:$Z$1486,21,0),2) -> 33725 | R12: =ROUND(VLOOKUP(C12,APUS!$G$10:$Z$1486,20,0),2) -> 1685699 | S12: =ROUND(SUM(O12:R12),$Q$3) -> 2273913
C13: 1.4 | D13: =VLOOKUP(C13,PPTO!$C$7:$H$59,2,0) -> #N/A | E13: =VLOOKUP(C13,PPTO!$C$7:$H$59,3,0) -> #N/A | F13: =IFERROR(SUMIFS(PPTO!$F$7:$F$59,PPTO!$C$7:$C$59,ITEMS!C13),0) -> 0 | G13: =VLOOKUP(C13,PPTO!$C$7:$H$59,5,0) -> #N/A | H13: =+ROUND(F13*G13,$Q$3) -> #N/A | K13: =ROUND(F13*M13,$Q$3) -> #N/A | L13: =ROUND(F13*N13,$Q$3) -> #N/A | M13: =ROUND(VLOOKUP(C13,APUS!$H$10:$V$1486,14,0),2) -> #N/A | N13: =ROUND(VLOOKUP(C13,APUS!$I$10:$V$1486,13,0),2) -> #N/A | O13: =ROUND(VLOOKUP(C13,APUS!$D$10:$Z$1486,23,0),2) -> #N/A | P13: =ROUND(VLOOKUP(C13,APUS!$E$10:$Z$1486,22,0),2) -> #N/A | Q13: =ROUND(VLOOKUP(C13,APUS!$F$10:$Z$1486,21,0),2) -> #N/A | R13: =ROUND(VLOOKUP(C13,APUS!$G$10:$Z$1486,20,0),2) -> #N/A | S13: =ROUND(SUM(O13:R13),$Q$3) -> #N/A
C14: 1.5 | D14: =VLOOKUP(C14,PPTO!$C$7:$H$59,2,0) -> #N/A | E14: =VLOOKUP(C14,PPTO!$C$7:$H$59,3,0) -> #N/A | F14: =IFERROR(SUMIFS(PPTO!$F$7:$F$59,PPTO!$C$7:$C$59,ITEMS!C14),0) -> 0 | G14: =VLOOKUP(C14,PPTO!$C$7:$H$59,5,0) -> #N/A | H14: =+ROUND(F14*G14,$Q$3) -> #N/A | K14: =ROUND(F14*M14,$Q$3) -> #N/A | L14: =ROUND(F14*N14,$Q$3) -> #N/A | M14: =ROUND(VLOOKUP(C14,APUS!$H$10:$V$1486,14,0),2) -> #N/A | N14: =ROUND(VLOOKUP(C14,APUS!$I$10:$V$1486,13,0),2) -> #N/A | O14: =ROUND(VLOOKUP(C14,APUS!$D$10:$Z$1486,23,0),2) -> #N/A | P14: =ROUND(VLOOKUP(C14,APUS!$E$10:$Z$1486,22,0),2) -> #N/A | Q14: =ROUND(VLOOKUP(C14,APUS!$F$10:$Z$1486,21,0),2) -> #N/A | R14: =ROUND(VLOOKUP(C14,APUS!$G$10:$Z$1486,20,0),2) -> #N/A | S14: =ROUND(SUM(O14:R14),$Q$3) -> #N/A
C15: 1.6 | D15: =VLOOKUP(C15,PPTO!$C$7:$H$59,2,0) -> #N/A | E15: =VLOOKUP(C15,PPTO!$C$7:$H$59,3,0) -> #N/A | F15: =IFERROR(SUMIFS(PPTO!$F$7:$F$59,PPTO!$C$7:$C$59,ITEMS!C15),0) -> 0 | G15: =VLOOKUP(C15,PPTO!$C$7:$H$59,5,0) -> #N/A | H15: =+ROUND(F15*G15,$Q$3) -> #N/A | K15: =ROUND(F15*M15,$Q$3) -> #N/A | L15: =ROUND(F15*N15,$Q$3) -> #N/A | M15: =ROUND(VLOOKUP(C15,APUS!$H$10:$V$1486,14,0),2) -> #N/A | N15: =ROUND(VLOOKUP(C15,APUS!$I$10:$V$1486,13,0),2) -> #N/A | O15: =ROUND(VLOOKUP(C15,APUS!$D$10:$Z$1486,23,0),2) -> #N/A | P15: =ROUND(VLOOKUP(C15,APUS!$E$10:$Z$1486,22,0),2) -> #N/A | Q15: =ROUND(VLOOKUP(C15,APUS!$F$10:$Z$1486,21,0),2) -> #N/A | R15: =ROUND(VLOOKUP(C15,APUS!$G$10:$Z$1486,20,0),2) -> #N/A | S15: =ROUND(SUM(O15:R15),$Q$3) -> #N/A
C16: 1.7 | D16: =VLOOKUP(C16,PPTO!$C$7:$H$59,2,0) -> #N/A | E16: =VLOOKUP(C16,PPTO!$C$7:$H$59,3,0) -> #N/A | F16: =IFERROR(SUMIFS(PPTO!$F$7:$F$59,PPTO!$C$7:$C$59,ITEMS!C16),0) -> 0 | G16: =VLOOKUP(C16,PPTO!$C$7:$H$59,5,0) -> #N/A | H16: =+ROUND(F16*G16,$Q$3) -> #N/A | K16: =ROUND(F16*M16,$Q$3) -> #N/A | L16: =ROUND(F16*N16,$Q$3) -> #N/A | M16: =ROUND(VLOOKUP(C16,APUS!$H$10:$V$1486,14,0),2) -> #N/A | N16: =ROUND(VLOOKUP(C16,APUS!$I$10:$V$1486,13,0),2) -> #N/A | O16: =ROUND(VLOOKUP(C16,APUS!$D$10:$Z$1486,23,0),2) -> #N/A | P16: =ROUND(VLOOKUP(C16,APUS!$E$10:$Z$1486,22,0),2) -> #N/A | Q16: =ROUND(VLOOKUP(C16,APUS!$F$10:$Z$1486,21,0),2) -> #N/A | R16: =ROUND(VLOOKUP(C16,APUS!$G$10:$Z$1486,20,0),2) -> #N/A | S16: =ROUND(SUM(O16:R16),$Q$3) -> #N/A
C17: 1.8 | D17: =VLOOKUP(C17,PPTO!$C$7:$H$59,2,0) -> #N/A | E17: =VLOOKUP(C17,PPTO!$C$7:$H$59,3,0) -> #N/A | F17: =IFERROR(SUMIFS(PPTO!$F$7:$F$59,PPTO!$C$7:$C$59,ITEMS!C17),0) -> 0 | G17: =VLOOKUP(C17,PPTO!$C$7:$H$59,5,0) -> #N/A | H17: =+ROUND(F17*G17,$Q$3) -> #N/A | K17: =ROUND(F17*M17,$Q$3) -> #N/A | L17: =ROUND(F17*N17,$Q$3) -> #N/A | M17: =ROUND(VLOOKUP(C17,APUS!$H$10:$V$1486,14,0),2) -> #N/A | N17: =ROUND(VLOOKUP(C17,APUS!$I$10:$V$1486,13,0),2) -> #N/A | O17: =ROUND(VLOOKUP(C17,APUS!$D$10:$Z$1486,23,0),2) -> #N/A | P17: =ROUND(VLOOKUP(C17,APUS!$E$10:$Z$1486,22,0),2) -> #N/A | Q17: =ROUND(VLOOKUP(C17,APUS!$F$10:$Z$1486,21,0),2) -> #N/A | R17: =ROUND(VLOOKUP(C17,APUS!$G$10:$Z$1486,20,0),2) -> #N/A | S17: =ROUND(SUM(O17:R17),$Q$3) -> #N/A
C18: 1.9 | D18: =VLOOKUP(C18,PPTO!$C$7:$H$59,2,0) -> #N/A | E18: =VLOOKUP(C18,PPTO!$C$7:$H$59,3,0) -> #N/A | F18: =IFERROR(SUMIFS(PPTO!$F$7:$F$59,PPTO!$C$7:$C$59,ITEMS!C18),0) -> 0 | G18: =VLOOKUP(C18,PPTO!$C$7:$H$59,5,0) -> #N/A | H18: =+ROUND(F18*G18,$Q$3) -> #N/A | K18: =ROUND(F18*M18,$Q$3) -> #N/A | L18: =ROUND(F18*N18,$Q$3) -> #N/A | M18: =ROUND(VLOOKUP(C18,APUS!$H$10:$V$1486,14,0),2) -> #N/A | N18: =ROUND(VLOOKUP(C18,APUS!$I$10:$V$1486,13,0),2) -> #N/A | O18: =ROUND(VLOOKUP(C18,APUS!$D$10:$Z$1486,23,0),2) -> #N/A | P18: =ROUND(VLOOKUP(C18,APUS!$E$10:$Z$1486,22,0),2) -> #N/A | Q18: =ROUND(VLOOKUP(C18,APUS!$F$10:$Z$1486,21,0),2) -> #N/A | R18: =ROUND(VLOOKUP(C18,APUS!$G$10:$Z$1486,20,0),2) -> #N/A | S18: =ROUND(SUM(O18:R18),$Q$3) -> #N/A
C20: =+CONCATENATE("Subtotal ",D9) -> Subtotal COMPONENTE ALCANTARILLADO | H20: =+SUM(H9:H19) -> #N/A | K20: =+SUM(K9:K19) -> #N/A | L20: =+SUM(L9:L19) -> #N/A | M20: =+SUM(M9:M19) -> #N/A | N20: =+SUM(N9:N19) -> #N/A | O20: =+SUM(O9:O19) -> #N/A | P20: =+SUM(P9:P19) -> #N/A | Q20: =+SUM(Q9:Q19) -> #N/A | R20: =+SUM(R9:R19) -> #N/A | S20: =+SUM(S9:S19) -> #N/A
C21: CAP.2 | D21: =VLOOKUP(C21,PPTO!$C$7:$H$59,2,0) -> COMPONENTE ACUEDUCTO
C22: 2.1 | D22: =VLOOKUP(C22,PPTO!$C$7:$H$59,2,0) -> #N/A | E22: =VLOOKUP(C22,PPTO!$C$7:$H$59,3,0) -> #N/A | F22: =IFERROR(SUMIFS(PPTO!$F$7:$F$59,PPTO!$C$7:$C$59,ITEMS!C22),0) -> 0 | G22: =VLOOKUP(C22,PPTO!$C$7:$H$59,5,0) -> #N/A | H22: =+ROUND(F22*G22,$Q$3) -> #N/A | K22: =ROUND(F22*M22,$Q$3) -> #N/A | L22: =ROUND(F22*N22,$Q$3) -> #N/A | M22: =ROUND(VLOOKUP(C22,APUS!$H$10:$V$1486,14,0),2) -> #N/A | N22: =ROUND(VLOOKUP(C22,APUS!$I$10:$V$1486,13,0),2) -> #N/A | O22: =ROUND(VLOOKUP(C22,APUS!$D$10:$Z$1486,23,0),2) -> #N/A | P22: =ROUND(VLOOKUP(C22,APUS!$E$10:$Z$1486,22,0),2) -> #N/A | Q22: =ROUND(VLOOKUP(C22,APUS!$F$10:$Z$1486,21,0),2) -> #N/A | R22: =ROUND(VLOOKUP(C22,APUS!$G$10:$Z$1486,20,0),2) -> #N/A | S22: =ROUND(SUM(O22:R22),$Q$3) -> #N/A
C23: 2.2 | D23: =VLOOKUP(C23,PPTO!$C$7:$H$59,2,0) -> #N/A | E23: =VLOOKUP(C23,PPTO!$C$7:$H$59,3,0) -> #N/A | F23: =IFERROR(SUMIFS(PPTO!$F$7:$F$59,PPTO!$C$7:$C$59,ITEMS!C23),0) -> 0 | G23: =VLOOKUP(C23,PPTO!$C$7:$H$59,5,0) -> #N/A | H23: =+ROUND(F23*G23,$Q$3) -> #N/A | K23: =ROUND(F23*M23,$Q$3) -> #N/A | L23: =ROUND(F23*N23,$Q$3) -> #N/A | M23: =ROUND(VLOOKUP(C23,APUS!$H$10:$V$1486,14,0),2) -> #N/A | N23: =ROUND(VLOOKUP(C23,APUS!$I$10:$V$1486,13,0),2) -> #N/A | O23: =ROUND(VLOOKUP(C23,APUS!$D$10:$Z$1486,23,0),2) -> #N/A | P23: =ROUND(VLOOKUP(C23,APUS!$E$10:$Z$1486,22,0),2) -> #N/A | Q23: =ROUND(VLOOKUP(C23,APUS!$F$10:$Z$1486,21,0),2) -> #N/A | R23: =ROUND(VLOOKUP(C23,APUS!$G$10:$Z$1486,20,0),2) -> #N/A | S23: =ROUND(SUM(O23:R23),$Q$3) -> #N/A
C24: 2.3 | D24: =VLOOKUP(C24,PPTO!$C$7:$H$59,2,0) -> #N/A | E24: =VLOOKUP(C24,PPTO!$C$7:$H$59,3,0) -> #N/A | F24: =IFERROR(SUMIFS(PPTO!$F$7:$F$59,PPTO!$C$7:$C$59,ITEMS!C24),0) -> 0 | G24: =VLOOKUP(C24,PPTO!$C$7:$H$59,5,0) -> #N/A | H24: =+ROUND(F24*G24,$Q$3) -> #N/A | K24: =ROUND(F24*M24,$Q$3) -> #N/A | L24: =ROUND(F24*N24,$Q$3) -> #N/A | M24: =ROUND(VLOOKUP(C24,APUS!$H$10:$V$1486,14,0),2) -> #N/A | N24: =ROUND(VLOOKUP(C24,APUS!$I$10:$V$1486,13,0),2) -> #N/A | O24: =ROUND(VLOOKUP(C24,APUS!$D$10:$Z$1486,23,0),2) -> #N/A | P24: =ROUND(VLOOKUP(C24,APUS!$E$10:$Z$1486,22,0),2) -> #N/A | Q24: =ROUND(VLOOKUP(C24,APUS!$F$10:$Z$1486,21,0),2) -> #N/A | R24: =ROUND(VLOOKUP(C24,APUS!$G$10:$Z$1486,20,0),2) -> #N/A | S24: =ROUND(SUM(O24:R24),$Q$3) -> #N/A
C25: 2.4 | D25: =VLOOKUP(C25,PPTO!$C$7:$H$59,2,0) -> #N/A | E25: =VLOOKUP(C25,PPTO!$C$7:$H$59,3,0) -> #N/A | F25: =IFERROR(SUMIFS(PPTO!$F$7:$F$59,PPTO!$C$7:$C$59,ITEMS!C25),0) -> 0 | G25: =VLOOKUP(C25,PPTO!$C$7:$H$59,5,0) -> #N/A | H25: =+ROUND(F25*G25,$Q$3) -> #N/A | K25: =ROUND(F25*M25,$Q$3) -> #N/A | L25: =ROUND(F25*N25,$Q$3) -> #N/A | M25: =ROUND(VLOOKUP(C25,APUS!$H$10:$V$1486,14,0),2) -> #N/A | N25: =ROUND(VLOOKUP(C25,APUS!$I$10:$V$1486,13,0),2) -> #N/A | O25: =ROUND(VLOOKUP(C25,APUS!$D$10:$Z$1486,23,0),2) -> #N/A | P25: =ROUND(VLOOKUP(C25,APUS!$E$10:$Z$1486,22,0),2) -> #N/A | Q25: =ROUND(VLOOKUP(C25,APUS!$F$10:$Z$1486,21,0),2) -> #N/A | R25: =ROUND(VLOOKUP(C25,APUS!$G$10:$Z$1486,20,0),2) -> #N/A | S25: =ROUND(SUM(O25:R25),$Q$3) -> #N/A
C26: 2.5 | D26: =VLOOKUP(C26,PPTO!$C$7:$H$59,2,0) -> #N/A | E26: =VLOOKUP(C26,PPTO!$C$7:$H$59,3,0) -> #N/A | F26: =IFERROR(SUMIFS(PPTO!$F$7:$F$59,PPTO!$C$7:$C$59,ITEMS!C26),0) -> 0 | G26: =VLOOKUP(C26,PPTO!$C$7:$H$59,5,0) -> #N/A | H26: =+ROUND(F26*G26,$Q$3) -> #N/A | K26: =ROUND(F26*M26,$Q$3) -> #N/A | L26: =ROUND(F26*N26,$Q$3) -> #N/A | M26: =ROUND(VLOOKUP(C26,APUS!$H$10:$V$1486,14,0),2) -> #N/A | N26: =ROUND(VLOOKUP(C26,APUS!$I$10:$V$1486,13,0),2) -> #N/A | O26: =ROUND(VLOOKUP(C26,APUS!$D$10:$Z$1486,23,0),2) -> #N/A | P26: =ROUND(VLOOKUP(C26,APUS!$E$10:$Z$1486,22,0),2) -> #N/A | Q26: =ROUND(VLOOKUP(C26,APUS!$F$10:$Z$1486,21,0),2) -> #N/A | R26: =ROUND(VLOOKUP(C26,APUS!$G$10:$Z$1486,20,0),2) -> #N/A | S26: =ROUND(SUM(O26:R26),$Q$3) -> #N/A
C27: 2.6 | D27: =VLOOKUP(C27,PPTO!$C$7:$H$59,2,0) -> #N/A | E27: =VLOOKUP(C27,PPTO!$C$7:$H$59,3,0) -> #N/A | F27: =IFERROR(SUMIFS(PPTO!$F$7:$F$59,PPTO!$C$7:$C$59,ITEMS!C27),0) -> 0 | G27: =VLOOKUP(C27,PPTO!$C$7:$H$59,5,0) -> #N/A | H27: =+ROUND(F27*G27,$Q$3) -> #N/A | K27: =ROUND(F27*M27,$Q$3) -> #N/A | L27: =ROUND(F27*N27,$Q$3) -> #N/A | M27: =ROUND(VLOOKUP(C27,APUS!$H$10:$V$1486,14,0),2) -> #N/A | N27: =ROUND(VLOOKUP(C27,APUS!$I$10:$V$1486,13,0),2) -> #N/A | O27: =ROUND(VLOOKUP(C27,APUS!$D$10:$Z$1486,23,0),2) -> #N/A | P27: =ROUND(VLOOKUP(C27,APUS!$E$10:$Z$1486,22,0),2) -> #N/A | Q27: =ROUND(VLOOKUP(C27,APUS!$F$10:$Z$1486,21,0),2) -> #N/A | R27: =ROUND(VLOOKUP(C27,APUS!$G$10:$Z$1486,20,0),2) -> #N/A | S27: =ROUND(SUM(O27:R27),$Q$3) -> #N/A
C29: =+CONCATENATE("Subtotal ",D21) -> Subtotal COMPONENTE ACUEDUCTO | H29: =+SUM(H21:H28) -> #N/A | K29: =+SUM(K21:K28) -> #N/A | L29: =+SUM(L21:L28) -> #N/A | M29: =+SUM(M21:M28) -> #N/A | N29: =+SUM(N21:N28) -> #N/A | O29: =+SUM(O21:O28) -> #N/A | P29: =+SUM(P21:P28) -> #N/A | Q29: =+SUM(Q21:Q28) -> #N/A | R29: =+SUM(R21:R28) -> #N/A | S29: =+SUM(S21:S28) -> #N/A
C30: CAP.3 | D30: =VLOOKUP(C30,PPTO!$C$7:$H$59,2,0) -> ESTRUCTURA VIAL EN PIEDRA LABOR
C31: 3.1 | D31: =VLOOKUP(C31,PPTO!$C$7:$H$59,2,0) -> #N/A | E31: =VLOOKUP(C31,PPTO!$C$7:$H$59,3,0) -> #N/A | F31: =IFERROR(SUMIFS(PPTO!$F$7:$F$59,PPTO!$C$7:$C$59,ITEMS!C31),0) -> 0 | G31: =VLOOKUP(C31,PPTO!$C$7:$H$59,5,0) -> #N/A | H31: =+ROUND(F31*G31,$Q$3) -> #N/A | K31: =ROUND(F31*M31,$Q$3) -> #N/A | L31: =ROUND(F31*N31,$Q$3) -> #N/A | M31: =ROUND(VLOOKUP(C31,APUS!$H$10:$V$1486,14,0),2) -> #N/A | N31: =ROUND(VLOOKUP(C31,APUS!$I$10:$V$1486,13,0),2) -> #N/A | O31: =ROUND(VLOOKUP(C31,APUS!$D$10:$Z$1486,23,0),2) -> #N/A | P31: =ROUND(VLOOKUP(C31,APUS!$E$10:$Z$1486,22,0),2) -> #N/A | Q31: =ROUND(VLOOKUP(C31,APUS!$F$10:$Z$1486,21,0),2) -> #N/A | R31: =ROUND(VLOOKUP(C31,APUS!$G$10:$Z$1486,20,0),2) -> #N/A | S31: =ROUND(SUM(O31:R31),$Q$3) -> #N/A
C32: 3.2 | D32: =VLOOKUP(C32,PPTO!$C$7:$H$59,2,0) -> #N/A | E32: =VLOOKUP(C32,PPTO!$C$7:$H$59,3,0) -> #N/A | F32: =IFERROR(SUMIFS(PPTO!$F$7:$F$59,PPTO!$C$7:$C$59,ITEMS!C32),0) -> 0 | G32: =VLOOKUP(C32,PPTO!$C$7:$H$59,5,0) -> #N/A | H32: =+ROUND(F32*G32,$Q$3) -> #N/A | K32: =ROUND(F32*M32,$Q$3) -> #N/A | L32: =ROUND(F32*N32,$Q$3) -> #N/A | M32: =ROUND(VLOOKUP(C32,APUS!$H$10:$V$1486,14,0),2) -> #N/A | N32: =ROUND(VLOOKUP(C32,APUS!$I$10:$V$1486,13,0),2) -> #N/A | O32: =ROUND(VLOOKUP(C32,APUS!$D$10:$Z$1486,23,0),2) -> #N/A | P32: =ROUND(VLOOKUP(C32,APUS!$E$10:$Z$1486,22,0),2) -> #N/A | Q32: =ROUND(VLOOKUP(C32,APUS!$F$10:$Z$1486,21,0),2) -> #N/A | R32: =ROUND(VLOOKUP(C32,APUS!$G$10:$Z$1486,20,0),2) -> #N/A | S32: =ROUND(SUM(O32:R32),$Q$3) -> #N/A
C33: 3.3 | D33: =VLOOKUP(C33,PPTO!$C$7:$H$59,2,0) -> #N/A | E33: =VLOOKUP(C33,PPTO!$C$7:$H$59,3,0) -> #N/A | F33: =IFERROR(SUMIFS(PPTO!$F$7:$F$59,PPTO!$C$7:$C$59,ITEMS!C33),0) -> 0 | G33: =VLOOKUP(C33,PPTO!$C$7:$H$59,5,0) -> #N/A | H33: =+ROUND(F33*G33,$Q$3) -> #N/A | K33: =ROUND(F33*M33,$Q$3) -> #N/A | L33: =ROUND(F33*N33,$Q$3) -> #N/A | M33: =ROUND(VLOOKUP(C33,APUS!$H$10:$V$1486,14,0),2) -> #N/A | N33: =ROUND(VLOOKUP(C33,APUS!$I$10:$V$1486,13,0),2) -> #N/A | O33: =ROUND(VLOOKUP(C33,APUS!$D$10:$Z$1486,23,0),2) -> #N/A | P33: =ROUND(VLOOKUP(C33,APUS!$E$10:$Z$1486,22,0),2) -> #N/A | Q33: =ROUND(VLOOKUP(C33,APUS!$F$10:$Z$1486,21,0),2) -> #N/A | R33: =ROUND(VLOOKUP(C33,APUS!$G$10:$Z$1486,20,0),2) -> #N/A | S33: =ROUND(SUM(O33:R33),$Q$3) -> #N/A
C34: 3.4 | D34: =VLOOKUP(C34,PPTO!$C$7:$H$59,2,0) -> #N/A | E34: =VLOOKUP(C34,PPTO!$C$7:$H$59,3,0) -> #N/A | F34: =IFERROR(SUMIFS(PPTO!$F$7:$F$59,PPTO!$C$7:$C$59,ITEMS!C34),0) -> 0 | G34: =VLOOKUP(C34,PPTO!$C$7:$H$59,5,0) -> #N/A | H34: =+ROUND(F34*G34,$Q$3) -> #N/A | K34: =ROUND(F34*M34,$Q$3) -> #N/A | L34: =ROUND(F34*N34,$Q$3) -> #N/A | M34: =ROUND(VLOOKUP(C34,APUS!$H$10:$V$1486,14,0),2) -> #N/A | N34: =ROUND(VLOOKUP(C34,APUS!$I$10:$V$1486,13,0),2) -> #N/A | O34: =ROUND(VLOOKUP(C34,APUS!$D$10:$Z$1486,23,0),2) -> #N/A | P34: =ROUND(VLOOKUP(C34,APUS!$E$10:$Z$1486,22,0),2) -> #N/A | Q34: =ROUND(VLOOKUP(C34,APUS!$F$10:$Z$1486,21,0),2) -> #N/A | R34: =ROUND(VLOOKUP(C34,APUS!$G$10:$Z$1486,20,0),2) -> #N/A | S34: =ROUND(SUM(O34:R34),$Q$3) -> #N/A
C35: 3.5 | D35: =VLOOKUP(C35,PPTO!$C$7:$H$59,2,0) -> #N/A | E35: =VLOOKUP(C35,PPTO!$C$7:$H$59,3,0) -> #N/A | F35: =IFERROR(SUMIFS(PPTO!$F$7:$F$59,PPTO!$C$7:$C$59,ITEMS!C35),0) -> 0 | G35: =VLOOKUP(C35,PPTO!$C$7:$H$59,5,0) -> #N/A | H35: =+ROUND(F35*G35,$Q$3) -> #N/A | K35: =ROUND(F35*M35,$Q$3) -> 0 | L35: =ROUND(F35*N35,$Q$3) -> 0 | M35: =ROUND(VLOOKUP(C35,APUS!$H$10:$V$1486,14,0),2) -> 825784 | N35: =ROUND(VLOOKUP(C35,APUS!$I$10:$V$1486,13,0),2) -> 1098293 | O35: =ROUND(VLOOKUP(C35,APUS!$D$10:$Z$1486,23,0),2) -> 0 | P35: =ROUND(VLOOKUP(C35,APUS!$E$10:$Z$1486,22,0),2) -> 0 | Q35: =ROUND(VLOOKUP(C35,APUS!$F$10:$Z$1486,21,0),2) -> 0 | R35: =ROUND(VLOOKUP(C35,APUS!$G$10:$Z$1486,20,0),2) -> 0 | S35: =ROUND(SUM(O35:R35),$Q$3) -> 0
C36: 3.6 | D36: =VLOOKUP(C36,PPTO!$C$7:$H$59,2,0) -> #N/A | E36: =VLOOKUP(C36,PPTO!$C$7:$H$59,3,0) -> #N/A | F36: =IFERROR(SUMIFS(PPTO!$F$7:$F$59,PPTO!$C$7:$C$59,ITEMS!C36),0) -> 0 | G36: =VLOOKUP(C36,PPTO!$C$7:$H$59,5,0) -> #N/A | H36: =+ROUND(F36*G36,$Q$3) -> #N/A | K36: =ROUND(F36*M36,$Q$3) -> 0 | L36: =ROUND(F36*N36,$Q$3) -> 0 | M36: =ROUND(VLOOKUP(C36,APUS!$H$10:$V$1486,14,0),2) -> 28814 | N36: =ROUND(VLOOKUP(C36,APUS!$I$10:$V$1486,13,0),2) -> 38323 | O36: =ROUND(VLOOKUP(C36,APUS!$D$10:$Z$1486,23,0),2) -> 0 | P36: =ROUND(VLOOKUP(C36,APUS!$E$10:$Z$1486,22,0),2) -> 0 | Q36: =ROUND(VLOOKUP(C36,APUS!$F$10:$Z$1486,21,0),2) -> 0 | R36: =ROUND(VLOOKUP(C36,APUS!$G$10:$Z$1486,20,0),2) -> 0 | S36: =ROUND(SUM(O36:R36),$Q$3) -> 0
C37: 3.7 | D37: =VLOOKUP(C37,PPTO!$C$7:$H$59,2,0) -> #N/A | E37: =VLOOKUP(C37,PPTO!$C$7:$H$59,3,0) -> #N/A | F37: =IFERROR(SUMIFS(PPTO!$F$7:$F$59,PPTO!$C$7:$C$59,ITEMS!C37),0) -> 0 | G37: =VLOOKUP(C37,PPTO!$C$7:$H$59,5,0) -> #N/A | H37: =+ROUND(F37*G37,$Q$3) -> #N/A | K37: =ROUND(F37*M37,$Q$3) -> 0 | L37: =ROUND(F37*N37,$Q$3) -> 0 | M37: =ROUND(VLOOKUP(C37,APUS!$H$10:$V$1486,14,0),2) -> 228992 | N37: =ROUND(VLOOKUP(C37,APUS!$I$10:$V$1486,13,0),2) -> 304560 | O37: =ROUND(VLOOKUP(C37,APUS!$D$10:$Z$1486,23,0),2) -> 163751 | P37: =ROUND(VLOOKUP(C37,APUS!$E$10:$Z$1486,22,0),2) -> 9236642 | Q37: =ROUND(VLOOKUP(C37,APUS!$F$10:$Z$1486,21,0),2) -> 869505 | R37: =ROUND(VLOOKUP(C37,APUS!$G$10:$Z$1486,20,0),2) -> 3275017 | S37: =ROUND(SUM(O37:R37),$Q$3) -> 13544915
C38: 3.8 | D38: =VLOOKUP(C38,PPTO!$C$7:$H$59,2,0) -> #N/A | E38: =VLOOKUP(C38,PPTO!$C$7:$H$59,3,0) -> #N/A | F38: =IFERROR(SUMIFS(PPTO!$F$7:$F$59,PPTO!$C$7:$C$59,ITEMS!C38),0) -> 0 | G38: =VLOOKUP(C38,PPTO!$C$7:$H$59,5,0) -> #N/A | H38: =+ROUND(F38*G38,$Q$3) -> #N/A | K38: =ROUND(F38*M38,$Q$3) -> 0 | L38: =ROUND(F38*N38,$Q$3) -> 0 | M38: =ROUND(VLOOKUP(C38,APUS!$H$10:$V$1486,14,0),2) -> 143721 | N38: =ROUND(VLOOKUP(C38,APUS!$I$10:$V$1486,13,0),2) -> 191149 | O38: =ROUND(VLOOKUP(C38,APUS!$D$10:$Z$1486,23,0),2) -> 218336 | P38: =ROUND(VLOOKUP(C38,APUS!$E$10:$Z$1486,22,0),2) -> 7155866 | Q38: =ROUND(VLOOKUP(C38,APUS!$F$10:$Z$1486,21,0),2) -> 1337700 | R38: =ROUND(VLOOKUP(C38,APUS!$G$10:$Z$1486,20,0),2) -> 4366690 | S38: =ROUND(SUM(O38:R38),$Q$3) -> 13078592
C39: 3.9 | D39: =VLOOKUP(C39,PPTO!$C$7:$H$59,2,0) -> #N/A | E39: =VLOOKUP(C39,PPTO!$C$7:$H$59,3,0) -> #N/A | F39: =IFERROR(SUMIFS(PPTO!$F$7:$F$59,PPTO!$C$7:$C$59,ITEMS!C39),0) -> 0 | G39: =VLOOKUP(C39,PPTO!$C$7:$H$59,5,0) -> #N/A | H39: =+ROUND(F39*G39,$Q$3) -> #N/A | K39: =ROUND(F39*M39,$Q$3) -> #N/A | L39: =ROUND(F39*N39,$Q$3) -> #N/A | M39: =ROUND(VLOOKUP(C39,APUS!$H$10:$V$1486,14,0),2) -> #N/A | N39: =ROUND(VLOOKUP(C39,APUS!$I$10:$V$1486,13,0),2) -> #N/A | O39: =ROUND(VLOOKUP(C39,APUS!$D$10:$Z$1486,23,0),2) -> #N/A | P39: =ROUND(VLOOKUP(C39,APUS!$E$10:$Z$1486,22,0),2) -> #N/A | Q39: =ROUND(VLOOKUP(C39,APUS!$F$10:$Z$1486,21,0),2) -> #N/A | R39: =ROUND(VLOOKUP(C39,APUS!$G$10:$Z$1486,20,0),2) -> #N/A | S39: =ROUND(SUM(O39:R39),$Q$3) -> #N/A
C40: 3.10 | D40: =VLOOKUP(C40,PPTO!$C$7:$H$59,2,0) -> #N/A | E40: =VLOOKUP(C40,PPTO!$C$7:$H$59,3,0) -> #N/A | F40: =IFERROR(SUMIFS(PPTO!$F$7:$F$59,PPTO!$C$7:$C$59,ITEMS!C40),0) -> 0 | G40: =VLOOKUP(C40,PPTO!$C$7:$H$59,5,0) -> #N/A | H40: =+ROUND(F40*G40,$Q$3) -> #N/A | K40: =ROUND(F40*M40,$Q$3) -> #N/A | L40: =ROUND(F40*N40,$Q$3) -> #N/A | M40: =ROUND(VLOOKUP(C40,APUS!$H$10:$V$1486,14,0),2) -> #N/A | N40: =ROUND(VLOOKUP(C40,APUS!$I$10:$V$1486,13,0),2) -> #N/A | O40: =ROUND(VLOOKUP(C40,APUS!$D$10:$Z$1486,23,0),2) -> #N/A | P40: =ROUND(VLOOKUP(C40,APUS!$E$10:$Z$1486,22,0),2) -> #N/A | Q40: =ROUND(VLOOKUP(C40,APUS!$F$10:$Z$1486,21,0),2) -> #N/A | R40: =ROUND(VLOOKUP(C40,APUS!$G$10:$Z$1486,20,0),2) -> #N/A | S40: =ROUND(SUM(O40:R40),$Q$3) -> #N/A
C41: 3.11 | D41: =VLOOKUP(C41,PPTO!$C$7:$H$59,2,0) -> #N/A | E41: =VLOOKUP(C41,PPTO!$C$7:$H$59,3,0) -> #N/A | F41: =IFERROR(SUMIFS(PPTO!$F$7:$F$59,PPTO!$C$7:$C$59,ITEMS!C41),0) -> 0 | G41: =VLOOKUP(C41,PPTO!$C$7:$H$59,5,0) -> #N/A | H41: =+ROUND(F41*G41,$Q$3) -> #N/A | K41: =ROUND(F41*M41,$Q$3) -> #N/A | L41: =ROUND(F41*N41,$Q$3) -> #N/A | M41: =ROUND(VLOOKUP(C41,APUS!$H$10:$V$1486,14,0),2) -> #N/A | N41: =ROUND(VLOOKUP(C41,APUS!$I$10:$V$1486,13,0),2) -> #N/A | O41: =ROUND(VLOOKUP(C41,APUS!$D$10:$Z$1486,23,0),2) -> #N/A | P41: =ROUND(VLOOKUP(C41,APUS!$E$10:$Z$1486,22,0),2) -> #N/A | Q41: =ROUND(VLOOKUP(C41,APUS!$F$10:$Z$1486,21,0),2) -> #N/A | R41: =ROUND(VLOOKUP(C41,APUS!$G$10:$Z$1486,20,0),2) -> #N/A | S41: =ROUND(SUM(O41:R41),$Q$3) -> #N/A
C42: 3.12 | D42: =VLOOKUP(C42,PPTO!$C$7:$H$59,2,0) -> #N/A | E42: =VLOOKUP(C42,PPTO!$C$7:$H$59,3,0) -> #N/A | F42: =IFERROR(SUMIFS(PPTO!$F$7:$F$59,PPTO!$C$7:$C$59,ITEMS!C42),0) -> 0 | G42: =VLOOKUP(C42,PPTO!$C$7:$H$59,5,0) -> #N/A | H42: =+ROUND(F42*G42,$Q$3) -> #N/A | K42: =ROUND(F42*M42,$Q$3) -> #N/A | L42: =ROUND(F42*N42,$Q$3) -> #N/A | M42: =ROUND(VLOOKUP(C42,APUS!$H$10:$V$1486,14,0),2) -> #N/A | N42: =ROUND(VLOOKUP(C42,APUS!$I$10:$V$1486,13,0),2) -> #N/A | O42: =ROUND(VLOOKUP(C42,APUS!$D$10:$Z$1486,23,0),2) -> #N/A | P42: =ROUND(VLOOKUP(C42,APUS!$E$10:$Z$1486,22,0),2) -> #N/A | Q42: =ROUND(VLOOKUP(C42,APUS!$F$10:$Z$1486,21,0),2) -> #N/A | R42: =ROUND(VLOOKUP(C42,APUS!$G$10:$Z$1486,20,0),2) -> #N/A | S42: =ROUND(SUM(O42:R42),$Q$3) -> #N/A
... C44: 3.14 | D44: =VLOOKUP(C44,PPTO!$C$7:$H$59,2,0) -> #N/A | E44: =VLOOKUP(C44,PPTO!$C$7:$H$59,3,0) -> #N/A | F44: =IFERROR(SUMIFS(PPTO!$F$7:$F$59,PPTO!$C$7:$C$59,ITEMS!C44),0) -> 0 | G44: =VLOOKUP(C44,PPTO!$C$7:$H$59,5,0) -> #N/A | H44: =+ROUND(F44*G44,$Q$3) -> #N/A | K44: =ROUND(F44*M44,$Q$3) -> #N/A | L44: =ROUND(F44*N44,$Q$3) -> #N/A | M44: =ROUND(VLOOKUP(C44,APUS!$H$10:$V$1486,14,0),2) -> #N/A | N44: =ROUND(VLOOKUP(C44,APUS!$I$10:$V$1486,13,0),2) -> #N/A | O44: =ROUND(VLOOKUP(C44,APUS!$D$10:$Z$1486,23,0),2) -> #N/A | P44: =ROUND(VLOOKUP(C44,APUS!$E$10:$Z$1486,22,0),2) -> #N/A | Q44: =ROUND(VLOOKUP(C44,APUS!$F$10:$Z$1486,21,0),2) -> #N/A | R44: =ROUND(VLOOKUP(C44,APUS!$G$10:$Z$1486,20,0),2) -> #N/A | S44: =ROUND(SUM(O44:R44),$Q$3) -> #N/A
C46: =+CONCATENATE("Subtotal ",D30) -> Subtotal ESTRUCTURA VIAL EN PIEDRA LABOR | H46: =+SUM(H30:H45) -> #N/A | K46: =+SUM(K30:K45) -> #N/A | L46: =+SUM(L30:L45) -> #N/A | M46: =+SUM(M30:M45) -> #N/A | N46: =+SUM(N30:N45) -> #N/A | O46: =+SUM(O30:O45) -> #N/A | P46: =+SUM(P30:P45) -> #N/A | Q46: =+SUM(Q30:Q45) -> #N/A | R46: =+SUM(R30:R45) -> #N/A | S46: =+SUM(S30:S45) -> #N/A
C47: CAP.4 | D47: =VLOOKUP(C47,PPTO!$C$7:$H$59,2,0) -> #N/A
...

Sheet PPTO DIRECTO
P2: UNITARIOS O TOTALES | Q2: TOTALES | S2: UNITARIOS
C3: PRESUPUESTO GENERAL DE OBRA | P3: Decimales | Q3: 0 | S3: TOTALES
C4: OBRA: | D4: =PRESENTACION!A13 -> CONSTRUCCIÓN DE PAVIMENTO EN PIEDRA LABOR Y OPTIMIZACIÓN DE LA RED DE ALCANTARILLADO SANITARIO CALLE 5 ENTRE CARRERA 3 Y 4 DEL CASCO URBANO DEL MUNICIPIO DE PINCHOTE, DEPARTAMENTO DE SANTANDER
C5: =CONCATENATE(INFORMACION!A5,INFORMACION!A6) -> LOCALIZACIÓN:PINCHOTE, SANTANDER | F5: FECHA: | G5: =PRESENTACION!$A$43 -> ABRIL DE 2026
C7: ITEM | D7: DESCRIPCIÓN | E7: UND | F7: CANTIDAD | G7: VR. UNIT. | H7: VR. TOTAL | K7: COSTO DIRECTO | L7: COSTO INDIRECTO | M7: COSTO UNIT. | N7: COSTO TOTAL | O7: I. HERR | P7: II. MAT. | Q7: III. TRANSP. | R7: IV. MO | S7: TOTAL
C9: ACUEDUCTO - DISTRIBUCION
C10: CAP.1 | D10: PRELIMINARES | V10: =CONCATENATE(C10," ","-"," ",D10) -> CAP.1 - PRELIMINARES
C11: 1.1 | D11: Localización y replanteo con equipo topográfico | E11: ml | F11: =VLOOKUP(C11,[7]MC.!$B$6:$E$52,4,0) -> 7914.57 | G11: =+IFERROR(IF($Q$2="UNITARIOS",VLOOKUP(C11,$C$9:$Y$59,11,FALSE),VLOOKUP(C11,$C$9:$Y$59,12,FALSE)),0) -> 6644 | H11: =+ROUND(F11*G11,$Q$3) -> 52584403 | K11: =ROUND(F11*M11,$Q$3) -> 39533277 | L11: =ROUND(F11*N11,$Q$3) -> 52584403 | M11: =ROUND(VLOOKUP(C11,APUS!$H$10:$V$1486,14,0),2) -> 4995 | N11: =ROUND(VLOOKUP(C11,APUS!$I$10:$V$1486,13,0),2) -> 6644 | O11: =ROUND(VLOOKUP(C11,APUS!$D$10:$Z$1486,23,0),2) -> 18130 | P11: =ROUND(VLOOKUP(C11,APUS!$E$10:$Z$1486,22,0),2) -> 114304 | Q11: =ROUND(VLOOKUP(C11,APUS!$F$10:$Z$1486,21,0),2) -> 0 | R11: =ROUND(VLOOKUP(C11,APUS!$G$10:$Z$1486,20,0),2) -> 362599 | S11: =SUM(O11:R11) -> 495033 | V11: =CONCATENATE(C11," ","-"," ",D11) -> 1.1 - Localización y replanteo con equipo topográfico
C12: 1.2 | D12: Demolición de losa maciza (Incluye retiro y disposición final) | E12: ml | F12: =VLOOKUP(C12,[7]MC.!$B$6:$E$52,4,0) -> 216 | G12: =+IFERROR(IF($Q$2="UNITARIOS",VLOOKUP(C12,$C$9:$Y$59,11,FALSE),VLOOKUP(C12,$C$9:$Y$59,12,FALSE)),0) -> 34940 | H12: =+ROUND(F12*G12,$Q$3) -> 7547040 | K12: =ROUND(F12*M12,$Q$3) -> 5674320 | L12: =ROUND(F12*N12,$Q$3) -> 7547040 | M12: =ROUND(VLOOKUP(C12,APUS!$H$10:$V$1486,14,0),2) -> 26270 | N12: =ROUND(VLOOKUP(C12,APUS!$I$10:$V$1486,13,0),2) -> 34940 | O12: =ROUND(VLOOKUP(C12,APUS!$D$10:$Z$1486,23,0),2) -> 841493 | P12: =ROUND(VLOOKUP(C12,APUS!$E$10:$Z$1486,22,0),2) -> 0 | Q12: =ROUND(VLOOKUP(C12,APUS!$F$10:$Z$1486,21,0),2) -> 67784 | R12: =ROUND(VLOOKUP(C12,APUS!$G$10:$Z$1486,20,0),2) -> 1694075 | S12: =SUM(O12:R12) -> 2603352 | V12: =CONCATENATE(C12," ","-"," ",D12) -> 1.2 - Demolición de losa maciza (Incluye retiro y disposición final)
C13: 1.3 | D13: Retiro de piedra labor en zonas de zanja de tubería | E13: ml | F13: =VLOOKUP(C13,[7]MC.!$B$6:$E$52,4,0) -> 27.5 | G13: =+IFERROR(IF($Q$2="UNITARIOS",VLOOKUP(C13,$C$9:$Y$59,11,FALSE),VLOOKUP(C13,$C$9:$Y$59,12,FALSE)),0) -> 30670 | H13: =+ROUND(F13*G13,$Q$3) -> 843425 | K13: =ROUND(F13*M13,$Q$3) -> 634150 | L13: =ROUND(F13*N13,$Q$3) -> 843425 | M13: =ROUND(VLOOKUP(C13,APUS!$H$10:$V$1486,14,0),2) -> 23060 | N13: =ROUND(VLOOKUP(C13,APUS!$I$10:$V$1486,13,0),2) -> 30670 | O13: =ROUND(VLOOKUP(C13,APUS!$D$10:$Z$1486,23,0),2) -> 554489 | P13: =ROUND(VLOOKUP(C13,APUS!$E$10:$Z$1486,22,0),2) -> 0 | Q13: =ROUND(VLOOKUP(C13,APUS!$F$10:$Z$1486,21,0),2) -> 33725 | R13: =ROUND(VLOOKUP(C13,APUS!$G$10:$Z$1486,20,0),2) -> 1685699 | S13: =SUM(O13:R13) -> 2273913 | V13: =CONCATENATE(C13," ","-"," ",D13) -> 1.3 - Retiro de piedra labor en zonas de zanja de tubería
C15: =+CONCATENATE("Subtotal ",D10) -> Subtotal PRELIMINARES | H15: =+SUM(H10:H14) -> 60974868 | K15: =+SUM(K10:K14) -> 45841747 | L15: =+SUM(L10:L14) -> 60974868 | M15: =+SUM(M10:M14) -> 54325 | N15: =+SUM(N10:N14) -> 72254 | O15: =+SUM(O10:O14) -> 1414112 | P15: =+SUM(P10:P14) -> 114304 | Q15: =+SUM(Q10:Q14) -> 101509 | R15: =+SUM(R10:R14) -> 3742373 | S15: =+SUM(S10:S14) -> 5372298
C16: CAP.2 | D16: MOVIMIENTO DE TIERRAS | V16: =CONCATENATE(C16," ","-"," ",D16) -> CAP.2 - MOVIMIENTO DE TIERRAS
C17: 2.1 | D17: Excavación en material común en seco a maquina | E17: m3 | F17: =VLOOKUP(C17,[7]MC.!$B$6:$E$52,4,0) -> 1126.37 | G17: =+IFERROR(IF($Q$2="UNITARIOS",VLOOKUP(C17,$C$9:$Y$59,11,FALSE),VLOOKUP(C17,$C$9:$Y$59,12,FALSE)),0) -> 0 | H17: =+ROUND(F17*G17,$Q$3) -> 0 | K17: =ROUND(F17*M17,$Q$3) -> #N/A | L17: =ROUND(F17*N17,$Q$3) -> #N/A | M17: =ROUND(VLOOKUP(C17,APUS!$H$10:$V$1486,14,0),2) -> #N/A | N17: =ROUND(VLOOKUP(C17,APUS!$I$10:$V$1486,13,0),2) -> #N/A | O17: =ROUND(VLOOKUP(C17,APUS!$D$10:$Z$1486,23,0),2) -> #N/A | P17: =ROUND(VLOOKUP(C17,APUS!$E$10:$Z$1486,22,0),2) -> #N/A | Q17: =ROUND(VLOOKUP(C17,APUS!$F$10:$Z$1486,21,0),2) -> #N/A | R17: =ROUND(VLOOKUP(C17,APUS!$G$10:$Z$1486,20,0),2) -> #N/A | S17: =SUM(O17:R17) -> #N/A | V17: =CONCATENATE(C17," ","-"," ",D17) -> 2.1 - Excavación en material común en seco a maquina
C18: 2.2 | D18: Excavación en material común en seco a mano | E18: m3 | F18: =VLOOKUP(C18,[7]MC.!$B$6:$E$52,4,0) -> 422.64 | G18: =+IFERROR(IF($Q$2="UNITARIOS",VLOOKUP(C18,$C$9:$Y$59,11,FALSE),VLOOKUP(C18,$C$9:$Y$59,12,FALSE)),0) -> 0 | H18: =+ROUND(F18*G18,$Q$3) -> 0 | K18: =ROUND(F18*M18,$Q$3) -> #N/A | L18: =ROUND(F18*N18,$Q$3) -> #N/A | M18: =ROUND(VLOOKUP(C18,APUS!$H$10:$V$1486,14,0),2) -> #N/A | N18: =ROUND(VLOOKUP(C18,APUS!$I$10:$V$1486,13,0),2) -> #N/A | O18: =ROUND(VLOOKUP(C18,APUS!$D$10:$Z$1486,23,0),2) -> #N/A | P18: =ROUND(VLOOKUP(C18,APUS!$E$10:$Z$1486,22,0),2) -> #N/A | Q18: =ROUND(VLOOKUP(C18,APUS!$F$10:$Z$1486,21,0),2) -> #N/A | R18: =ROUND(VLOOKUP(C18,APUS!$G$10:$Z$1486,20,0),2) -> #N/A | S18: =SUM(O18:R18) -> #N/A | V18: =CONCATENATE(C18," ","-"," ",D18) -> 2.2 - Excavación en material común en seco a mano
C19: 2.3 | D19: Excavación en roca | E19: m3 | F19: =VLOOKUP(C19,[7]MC.!$B$6:$E$52,4,0) -> 387.25 | G19: =+IFERROR(IF($Q$2="UNITARIOS",VLOOKUP(C19,$C$9:$Y$59,11,FALSE),VLOOKUP(C19,$C$9:$Y$59,12,FALSE)),0) -> 0 | H19: =+ROUND(F19*G19,$Q$3) -> 0 | K19: =ROUND(F19*M19,$Q$3) -> #N/A | L19: =ROUND(F19*N19,$Q$3) -> #N/A | M19: =ROUND(VLOOKUP(C19,APUS!$H$10:$V$1486,14,0),2) -> #N/A | N19: =ROUND(VLOOKUP(C19,APUS!$I$10:$V$1486,13,0),2) -> #N/A | O19: =ROUND(VLOOKUP(C19,APUS!$D$10:$Z$1486,23,0),2) -> #N/A | P19: =ROUND(VLOOKUP(C19,APUS!$E$10:$Z$1486,22,0),2) -> #N/A | Q19: =ROUND(VLOOKUP(C19,APUS!$F$10:$Z$1486,21,0),2) -> #N/A | R19: =ROUND(VLOOKUP(C19,APUS!$G$10:$Z$1486,20,0),2) -> #N/A | S19: =SUM(O19:R19) -> #N/A | V19: =CONCATENATE(C19," ","-"," ",D19) -> 2.3 - Excavación en roca
C20: 2.4 | D20: Conformación de la zanja con cama de arena o material granular fino | E20: ml | F20: =VLOOKUP(C20,[7]MC.!$B$6:$E$52,4,0) -> 791.457 | G20: =+IFERROR(IF($Q$2="UNITARIOS",VLOOKUP(C20,$C$9:$Y$59,11,FALSE),VLOOKUP(C20,$C$9:$Y$59,12,FALSE)),0) -> 0 | H20: =+ROUND(F20*G20,$Q$3) -> 0 | K20: =ROUND(F20*M20,$Q$3) -> #N/A | L20: =ROUND(F20*N20,$Q$3) -> #N/A | M20: =ROUND(VLOOKUP(C20,APUS!$H$10:$V$1486,14,0),2) -> #N/A | N20: =ROUND(VLOOKUP(C20,APUS!$I$10:$V$1486,13,0),2) -> #N/A | O20: =ROUND(VLOOKUP(C20,APUS!$D$10:$Z$1486,23,0),2) -> #N/A | P20: =ROUND(VLOOKUP(C20,APUS!$E$10:$Z$1486,22,0),2) -> #N/A | Q20: =ROUND(VLOOKUP(C20,APUS!$F$10:$Z$1486,21,0),2) -> #N/A | R20: =ROUND(VLOOKUP(C20,APUS!$G$10:$Z$1486,20,0),2) -> #N/A | S20: =SUM(O20:R20) -> #N/A | V20: =CONCATENATE(C20," ","-"," ",D20) -> 2.4 - Conformación de la zanja con cama de arena o material granular fino
