Workbook

Sheet TALENTO HUMANO HUMANO 
C1: GESTIÓN SOCIAL EN SALUD DIRECCIÓN DE PARTICIPACIÓN SOCIAL, GESTIÓN TERRITORIAL Y TRANSECTORIALIDAD SISTEMA DE GESTIÓN CONTROL DOCUMENTAL
C4: CANASTA DE COSTOS DISTRITAL - PROYECTOS DE INVERSION LOCAL EN SALUD 2023
C5: Código: | E5: SDS-GSS-FT-077 | H5: Versión: | J5: 1
B6: Elaborado por: Equipo de proyectos de Inversion Local / Revisado por: Juan Alvarado - Carlos Guzmán - Sandra Caycedo / Aprobado por: María Fernanda Torres Penagos
B8: COSTEO TALENTO HUMANO EXCLUSIVO - AJUSTADO IPC 2025 (5,29%)
B10: PERFIL | C10: Valor Mes | D10: Horas Contratadas | E10: % de dedicacion sin tiempos muertos, ocultos, administrativos | F10: Horas Laboradas | G10: Costo por Hora | H10: Costo Por minuto
B11: Profesional Especializado / Coordinador | C11: 10532771 | D11: 186 | E11: =ROUND(Tabla22[[#This Row],[Horas Laboradas]]*100%/Tabla22[[#This Row],[Horas Contratadas]],2) -> 0.94 | F11: 174.84 | G11: =ROUND(+Tabla22[[#This Row],[Valor Mes]]/Tabla22[[#This Row],[Horas Laboradas]],2) -> 60242.34 | H11: =ROUND(+Tabla22[[#This Row],[Costo por Hora]]/60,0) -> 1004
B12: Profesional Especializado / Facilitador | C12: 8822237 | D12: 186 | E12: =ROUND(Tabla22[[#This Row],[Horas Laboradas]]*100%/Tabla22[[#This Row],[Horas Contratadas]],2) -> 0.94 | F12: 174.84 | G12: =ROUND(+Tabla22[[#This Row],[Valor Mes]]/Tabla22[[#This Row],[Horas Laboradas]],2) -> 50458.92 | H12: =ROUND(+Tabla22[[#This Row],[Costo por Hora]]/60,0) -> 841
B13: Profesional Universitario / Profesional Operativo | C13: 6107703 | D13: 186 | E13: =ROUND(Tabla22[[#This Row],[Horas Laboradas]]*100%/Tabla22[[#This Row],[Horas Contratadas]],2) -> 0.94 | F13: 174.84 | G13: =ROUND(+Tabla22[[#This Row],[Valor Mes]]/Tabla22[[#This Row],[Horas Laboradas]],2) -> 34933.1 | H13: =ROUND(+Tabla22[[#This Row],[Costo por Hora]]/60,0) -> 582
B14: Técnico Sistemas / Apoyo administrativo | C14: 4033371 | D14: 186 | E14: =ROUND(Tabla22[[#This Row],[Horas Laboradas]]*100%/Tabla22[[#This Row],[Horas Contratadas]],2) -> 0.94 | F14: 174.84 | G14: =ROUND(+Tabla22[[#This Row],[Valor Mes]]/Tabla22[[#This Row],[Horas Laboradas]],2) -> 23068.93 | H14: =ROUND(+Tabla22[[#This Row],[Costo por Hora]]/60,0) -> 384
B15: Bachiller / Gestor | C15: 2482967 | D15: 186 | E15: =ROUND(Tabla22[[#This Row],[Horas Laboradas]]*100%/Tabla22[[#This Row],[Horas Contratadas]],2) -> 0.94 | F15: 174.84 | G15: =ROUND(+Tabla22[[#This Row],[Valor Mes]]/Tabla22[[#This Row],[Horas Laboradas]],2) -> 14201.37 | H15: =ROUND(+Tabla22[[#This Row],[Costo por Hora]]/60,0) -> 237
B18: PERFIL | C18: SUR OCCIDENTE | D18: SUR | E18: CENTRO ORIENTE | F18: NORTE | G18: IPC | H18: COSTO HONORARIOS 2022 | I18: COSTO HONORARIOS + IPC SALUD A JUNIO 2023 | J18: IPC 2023 | K18: COSTO HONORARIOS + IPC 2023 A FEBRERO 2024 | L18: IPC 2024 | M18: COSTO HONORARIOS + IPC 2024 A FEBRERO 2025 | N18: IPC 2025 | O18: COSTO HONORARIOS + IPC 2025 A FEBRERO 2026 | XFD18: IPC 2026
B19: Profesional Especializado / Coordinador | C19: 7000000 | D19: 7760278 | E19: 6226865 | F19: 7250000 | G19: 0.1213 | H19: =+MAX(C19:F19) -> 7760278 | I19: =+H19*(1+G19) -> 8701599.7 | J19: 0.0928 | K19: =+I19*(1+J19) -> 9509108.2 | L19: 0.052 | M19: =+K19*(1+L19) -> 10003582 | N19: 0.052 | O19: =M19*XFD19+M19 -> 10532771 | XFD19: 0.0529
B20: Profesional Especializado / Facilitador | C20: 6500000 | D20: 5461004 | E20: 5510500 | F20: 5196347 | G20: 0.1213 | H20: =+MAX(C20:F20) -> 6500000 | I20: =+H20*(1+G20) -> 7288450 | J20: 0.0928 | K20: =+I20*(1+J20) -> 7964818.2 | L20: 0.052 | M20: =+K20*(1+L20) -> 8378988.7 | N20: 0.052 | O20: =M20*XFD20+M20 -> 8822237.2 | XFD20: 0.0529
B21: Profesional Universitario / Profesional Operativo | C21: 4500000 | D21: 3736514 | E21: 3337200 | F21: 3967988 | G21: 0.1213 | H21: =+MAX(C21:F21) -> 4500000 | I21: =+H21*(1+G21) -> 5045850 | J21: 0.0928 | K21: =+I21*(1+J21) -> 5514104.9 | L21: 0.052 | M21: =+K21*(1+L21) -> 5800838.3 | N21: 0.052 | O21: =M21*XFD21+M21 -> 6107702.7 | XFD21: 0.0529
B22: Técnico Sistemas / Apoyo administrativo | D22: 2443110 | E22: 2919020 | F22: 2971685 | G22: 0.1213 | H22: =+MAX(C22:F22) -> 2971685 | I22: =+H22*(1+G22) -> 3332150.4 | J22: 0.0928 | K22: =+I22*(1+J22) -> 3641373.9 | L22: 0.052 | M22: =+K22*(1+L22) -> 3830725.4 | N22: 0.052 | O22: =M22*XFD22+M22 -> 4033370.8 | XFD22: 0.0529
B23: Bachiller / Gestor | C23: 1500000 | D23: 1437009 | E23: 1796320 | F23: 1829387 | G23: 0.1213 | H23: =+MAX(C23:F23) -> 1829387 | I23: =+H23*(1+G23) -> 2051291.6 | J23: 0.0928 | K23: =+I23*(1+J23) -> 2241651.5 | L23: 0.052 | M23: =+K23*(1+L23) -> 2358217.4 | N23: 0.052 | O23: =M23*XFD23+M23 -> 2482967.1 | XFD23: 0.0529
B24: Totales | H24: =SUM(H19:H23) -> 23561350 | I24: =SUM(I19:I23) -> 26419342 | K24: =SUM(K19:K23) -> 28871057 | M24: =SUM(M19:M23) -> 30372352 | O24: =SUM(O19:O23) -> 31979049
B26: Nota de Soporte: La canasta de costos sugerida por el Sector se actualiza con datos vigentes a julio 2023, se recomienda considerar las variaciones macro y microeconómicas que afectan el Índice de Precios del consumidor - IPC y que inciden directamente sobre los costos aquí relacionados. Lo anterior establece la pertinencia del ajuste anual de los costos de acuerdo al comportamiento de la variación año corrido del IPC.

Sheet DAPS
D1: ANEXO CUADRO DE COSTOS GENERAL DISPOSITIVOS DE ASISTENCIA PERSONAL - AYUDAS TECNICAS 2026
A8: N° | B8: COMPONENTES | C8: ACTIVIDADES | E8: TALENTO HUMANO FDL | K8: COSTO TOTAL POR ACTIVIDAD | L8: TALENTO HUMANO SRNO | R8: COSTO TOTAL POR ACTIVIDAD | S8: COSTO TOTAL CONVENIO
D9: ROL EN EL EQUIPO DE TRABAJO | E9: FRECUENCIA DE USO | F9: NUMERO HORAS DEDICACIÓN MES | G9: TOTAL HORAS DEDICACIÓN CONVENIO | H9: HONORARIOS | I9: VALOR HORA | J9: VALOR POR ACTIVIDAD MES | L9: FRECUENCIA DE USO | M9: NUMERO HORAS DEDICACIÓN MES | N9: TOTAL HORAS DEDICACIÓN CONVENIO | O9: HONORARIOS | P9: VALOR HORA | Q9: VALOR POR ACTIVIDAD MES
A10: 1 | B10: ALISTAMIENTO | C10: GESTION NECESARIA PARA LA INCORPORACION DE PRESUPUESTO | D10: Profesional Especializado / Coordinador | E10: 1 | F10: 10 | G10: =+F10*E10 -> 10 | H10: 10532771 | I10: =ROUND(VLOOKUP(D10,Tabla22[],6,FALSE()),0) -> 60242 | J10: =IFERROR(I10*F10,"") -> 602420 | K10: =IFERROR(E10*F10*I10,"") -> 602420 | L10: 0 | M10: 0 | N10: 0 | O10: 0 | P10: 0 | Q10: 0 | R10: 0 | S10: =SUM(K10,R10) -> 602420
C11: GESTION CONTRATACION DE TALENTO HUMANO: ELABORACION DE REQUERIMIENTO Y OFICIO | D11: Profesional Especializado / Coordinador | E11: 1 | F11: 8 | G11: =+F11*E11 -> 8 | H11: =ROUND(VLOOKUP(D11,Tabla22[],2,FALSE()),0) -> 10532771 | I11: =ROUND(VLOOKUP(D11,Tabla22[],6,FALSE()),0) -> 60242 | J11: =IFERROR(I11*F11,"") -> 481936 | K11: =IFERROR(E11*F11*I11,"") -> 481936 | L11: 0 | M11: 0 | N11: 0 | O11: 0 | P11: 0 | Q11: 0 | R11: 0 | S11: =SUM(K11,R11) -> 481936
C12: SOLICITUD DE RECURSOS FISICOS Y APOYO TECNOLOGICO | D12: Profesional Especializado / Coordinador | E12: 1 | F12: 5 | G12: =+F12*E12 -> 5 | H12: =ROUND(VLOOKUP(D12,Tabla22[],2,FALSE()),0) -> 10532771 | I12: =ROUND(VLOOKUP(D12,Tabla22[],6,FALSE()),0) -> 60242 | J12: =IFERROR(I12*F12,"") -> 301210 | K12: =IFERROR(E12*F12*I12,"") -> 301210 | L12: 0 | M12: 0 | N12: 0 | O12: 0 | P12: 0 | Q12: 0 | R12: 0 | S12: =SUM(K12,R12) -> 301210
C13: ELABORACIÓN PLAN DE TRABAJO, CRONOGRAMA GENERAL Y MATRIZ DE PROYECCION FISICO FINANCIERA | D13: Profesional Especializado / Coordinador | E13: 1 | F13: 15 | G13: =+F13*E13 -> 15 | H13: =ROUND(VLOOKUP(D13,Tabla22[],2,FALSE()),0) -> 10532771 | I13: =ROUND(VLOOKUP(D13,Tabla22[],6,FALSE()),0) -> 60242 | J13: =IFERROR(I13*F13,"") -> 903630 | K13: =IFERROR(E13*F13*I13,"") -> 903630 | L13: 0 | M13: 0 | N13: 0 | O13: 0 | P13: 0 | Q13: 0 | R13: 0 | S13: =SUM(K13,R13) -> 903630
C14: REVISIÓN PLAN DE TRABAJO, CRONOGRAMA GENERAL Y MATRIZ DE PROYECCION FISICO FINANCIERA | D14: Profesional Especializado / Coordinador | E14: 1 | F14: 5 | G14: =+F14*E14 -> 5 | H14: =ROUND(VLOOKUP(D14,Tabla22[],2,FALSE()),0) -> 10532771 | I14: =ROUND(VLOOKUP(D14,Tabla22[],6,FALSE()),0) -> 60242 | J14: =IFERROR(I14*F14,"") -> 301210 | K14: =IFERROR(E14*F14*I14,"") -> 301210 | L14: 0 | M14: 0 | N14: 0 | O14: 0 | P14: 0 | Q14: 0 | R14: 0 | S14: =SUM(K14,R14) -> 301210
A15: 2 | B15: PROCESO TÉCNICO ADMINISTRATIVO DE CONTRATACIÓN DE PROVEEDORES | C15: - PLAN ANUAL DE ADQUISICIONES - ELABORACIÓN DE TERMINOSD E REFERENCIA -ELABORACIÓN DE ESTUDIOS DE MERCADO -ELABORACION DE ESTUDIOS PREVIOS -VISITAS TÉCNICAS A PROVEEDORES -EVALUACIÓN TÉCNICA A PROVEEDORES -APOYO ELABORACIÓN RESPUESTAS PARA SUBSANACIÓNES Y OBSERVACIONES DE LOS OFERENTES | D15: Profesional Especializado / Coordinador | E15: 1 | F15: 20 | G15: =+F15*E15 -> 20 | H15: =ROUND(VLOOKUP(D15,Tabla22[],2,FALSE()),0) -> 10532771 | I15: =ROUND(VLOOKUP(D15,Tabla22[],6,FALSE()),0) -> 60242 | J15: =IFERROR(I15*F15,"") -> 1204840 | K15: =IFERROR(E15*F15*I15,"") -> 1204840 | L15: 0 | M15: 0 | N15: 0 | O15: 0 | P15: 0 | Q15: 0 | R15: 0 | S15: =SUM(K15,R15) -> 1204840
D16: Profesional Especializado / Facilitador | E16: 1 | F16: 15 | G16: =+F16*E16 -> 15 | H16: =ROUND(VLOOKUP(D16,Tabla22[],2,FALSE()),0) -> 8822237 | I16: =ROUND(VLOOKUP(D16,Tabla22[],6,FALSE()),0) -> 50459 | J16: =IFERROR(I16*F16,"") -> 756885 | K16: =IFERROR(E16*F16*I16,"") -> 756885 | L16: 0 | M16: 0 | N16: 0 | O16: 0 | P16: 0 | Q16: 0 | R16: 0 | S16: =SUM(K16,R16) -> 756885
C17: ACOMPAÑAMIENTO TÉCNICO AL PROCESO DE CONTRATACIÓN (PRE-CONTRACTUAL Y FIRMA DEL ACTA DE INICIO) | D17: Profesional Especializado / Coordinador | E17: 1 | F17: 15 | G17: =+F17*E17 -> 15 | H17: =ROUND(VLOOKUP(D17,Tabla22[],2,FALSE()),0) -> 10532771 | I17: =ROUND(VLOOKUP(D17,Tabla22[],6,FALSE()),0) -> 60242 | J17: =IFERROR(I17*F17,"") -> 903630 | K17: =IFERROR(E17*F17*I17,"") -> 903630 | L17: 0 | M17: 0 | N17: 0 | O17: 0 | P17: 0 | Q17: 0 | R17: 0 | S17: =SUM(K17,R17) -> 903630
A18: 3 | B18: ETAPA DE CONVOCATORIA Y SOCIALIZACIÓN | C18: BUSQUEDA ACTIVA | D18: Profesional Universitario / Profesional Operativo | E18: 3 | F18: 40 | G18: =+F18*E18 -> 120 | H18: =ROUND(VLOOKUP(D18,Tabla22[],2,FALSE()),0) -> 6107703 | I18: =ROUND(VLOOKUP(D18,Tabla22[],6,FALSE()),0) -> 34933 | J18: =IFERROR(I18*F18,"") -> 1397320 | K18: =IFERROR(E18*F18*I18,"") -> 4191960 | L18: 0 | M18: 0 | N18: 0 | O18: 0 | P18: 0 | Q18: 0 | R18: 0 | S18: =SUM(K18,R18) -> 4191960
C19: ARTICULACION INTERINSTITUCIONAL E INTERSECTORIAL | D19: Profesional Especializado / Facilitador | E19: 5 | F19: 4 | G19: =+F19*E19 -> 20 | H19: =ROUND(VLOOKUP(D19,Tabla22[],2,FALSE()),0) -> 8822237 | I19: =ROUND(VLOOKUP(D19,Tabla22[],6,FALSE()),0) -> 50459 | J19: =IFERROR(I19*F19,"") -> 201836 | K19: =IFERROR(E19*F19*I19,"") -> 1009180 | L19: 0 | M19: 0 | N19: 0 | O19: 0 | P19: 0 | Q19: 0 | R19: 0 | S19: =SUM(K19,R19) -> 1009180
C20: ENVIO CONTENIDO PARA LA ELABORACION DE PIEZAS COMUNICATIVAS | D20: Profesional Especializado / Facilitador | E20: 1 | F20: 4 | G20: =+F20*E20 -> 4 | H20: =ROUND(VLOOKUP(D20,Tabla22[],2,FALSE()),0) -> 8822237 | I20: =ROUND(VLOOKUP(D20,Tabla22[],6,FALSE()),0) -> 50459 | J20: =IFERROR(I20*F20,"") -> 201836 | K20: =IFERROR(E20*F20*I20,"") -> 201836 | L20: 0 | M20: 0 | N20: 0 | O20: 0 | P20: 0 | Q20: 0 | R20: 0 | S20: =SUM(K20,R20) -> 201836
C21: DISEÑO DE PIEZAS COMUNICATIVAS | D21: Profesional Universitario / Profesional Operativo | E21: 0 | F21: 0 | G21: =+F21*E21 -> 0 | H21: =ROUND(VLOOKUP(D21,Tabla22[],2,FALSE()),0) -> 6107703 | I21: =ROUND(VLOOKUP(D21,Tabla22[],6,FALSE()),0) -> 34933 | J21: =IFERROR(I21*F21,"") -> 0 | K21: =IFERROR(E21*F21*I21,"") -> 0 | L21: 0 | M21: 0 | N21: 0 | O21: 0 | P21: 0 | Q21: 0 | R21: 0 | S21: =SUM(K21,R21) -> 0
C22: DIVULGACIÓN DE PIEZA COMUNICATIVA | D22: Profesional Especializado / Facilitador | E22: 3 | F22: 1 | G22: =+F22*E22 -> 3 | H22: =ROUND(VLOOKUP(D22,Tabla22[],2,FALSE()),0) -> 8822237 | I22: =ROUND(VLOOKUP(D22,Tabla22[],6,FALSE()),0) -> 50459 | J22: =IFERROR(I22*F22,"") -> 50459 | K22: =IFERROR(E22*F22*I22,"") -> 151377 | L22: 0 | M22: 0 | N22: 0 | O22: 0 | P22: 0 | Q22: 0 | R22: 0 | S22: =SUM(K22,R22) -> 151377
D23: Profesional Universitario / Profesional Operativo | E23: 3 | F23: 1 | G23: =+F23*E23 -> 3 | H23: =ROUND(VLOOKUP(D23,Tabla22[],2,FALSE()),0) -> 6107703 | I23: =ROUND(VLOOKUP(D23,Tabla22[],6,FALSE()),0) -> 34933 | J23: =IFERROR(I23*F23,"") -> 34933 | K23: =IFERROR(E23*F23*I23,"") -> 104799 | L23: 0 | M23: 0 | N23: 0 | O23: 0 | P23: 0 | Q23: 0 | R23: 0 | S23: =SUM(K23,R23) -> 104799
A24: 4 | B24: PRESENTACIONES PÚBLICAS | C24: PLANEACION Y CONVOCATORIA: SOLICITUD DE ESPACIOS (FISICO Y/O VIRTUAL), ELABORACIÓN DE INVITACONES OFICIALES A GRUPOS POBLACIONALES, ELABORACION PRESENTACIÓN INICIAL | D24: Profesional Especializado / Facilitador | E24: 2 | F24: 16 | G24: =+F24*E24 -> 32 | H24: =ROUND(VLOOKUP(D24,Tabla22[],2,FALSE()),0) -> 8822237 | I24: =ROUND(VLOOKUP(D24,Tabla22[],6,FALSE()),0) -> 50459 | J24: =IFERROR(I24*F24,"") -> 807344 | K24: =IFERROR(E24*F24*I24,"") -> 1614688 | L24: 0 | M24: 0 | N24: 0 | O24: 0 | P24: 0 | Q24: 0 | R24: 0 | S24: =SUM(K24,R24) -> 1614688
D25: Profesional Especializado / Coordinador | E25: 2 | F25: 3 | G25: =+F25*E25 -> 6 | H25: =ROUND(VLOOKUP(D25,Tabla22[],2,FALSE()),0) -> 10532771 | I25: =ROUND(VLOOKUP(D25,Tabla22[],6,FALSE()),0) -> 60242 | J25: =IFERROR(I25*F25,"") -> 180726 | K25: =IFERROR(E25*F25*I25,"") -> 361452 | L25: 0 | M25: 0 | N25: 0 | O25: 0 | P25: 0 | Q25: 0 | R25: 0 | S25: =SUM(K25,R25) -> 361452
C26: DESARROLLO DE LA PRESENTACION: -PRESENTACIÓN -SOCIALIZACIÓN -DILIGENCIAMIENTO DE LISTADOS DE ASISTENCIA -TOMA DE REGISTRO FOTOGRAFICO | D26: Profesional Especializado / Coordinador | E26: 2 | F26: 4 | G26: =+F26*E26 -> 8 | H26: =ROUND(VLOOKUP(D26,Tabla22[],2,FALSE()),0) -> 10532771 | I26: =ROUND(VLOOKUP(D26,Tabla22[],6,FALSE()),0) -> 60242 | J26: =IFERROR(I26*F26,"") -> 240968 | K26: =IFERROR(E26*F26*I26,"") -> 481936 | L26: 0 | M26: 0 | N26: 0 | O26: 0 | P26: 0 | Q26: 0 | R26: 0 | S26: =SUM(K26,R26) -> 481936
D27: Profesional Universitario / Profesional Operativo | E27: 2 | F27: 4 | G27: =+F27*E27 -> 8 | H27: =ROUND(VLOOKUP(D27,Tabla22[],2,FALSE()),0) -> 6107703 | I27: =ROUND(VLOOKUP(D27,Tabla22[],6,FALSE()),0) -> 34933 | J27: =IFERROR(I27*F27,"") -> 139732 | K27: =IFERROR(E27*F27*I27,"") -> 279464 | L27: 0 | M27: 0 | N27: 0 | O27: 0 | P27: 0 | Q27: 0 | R27: 0 | S27: =SUM(K27,R27) -> 279464
D28: Profesional Especializado / Facilitador | E28: 2 | F28: 4 | G28: =+F28*E28 -> 8 | H28: =ROUND(VLOOKUP(D28,Tabla22[],2,FALSE()),0) -> 8822237 | I28: =ROUND(VLOOKUP(D28,Tabla22[],6,FALSE()),0) -> 50459 | J28: =IFERROR(I28*F28,"") -> 201836 | K28: =IFERROR(E28*F28*I28,"") -> 403672 | L28: 0 | M28: 0 | N28: 0 | O28: 0 | P28: 0 | Q28: 0 | R28: 0 | S28: =SUM(K28,R28) -> 403672
A29: 5 | B29: ETAPA DE INSCRIPCIÓN | C29: GESTIÓN DE LOS ESPACIOS FISICOS PARA PUNTOS ITINERANTES Y FIJOS DE INSCRIPCIÓN | D29: Profesional Especializado / Coordinador | E29: 3 | F29: 5 | G29: =+F29*E29 -> 15 | H29: =ROUND(VLOOKUP(D29,Tabla22[],2,FALSE()),0) -> 10532771 | I29: =ROUND(VLOOKUP(D29,Tabla22[],6,FALSE()),0) -> 60242 | J29: =IFERROR(I29*F29,"") -> 301210 | K29: =IFERROR(E29*F29*I29,"") -> 903630 | L29: 0 | M29: 0 | N29: 0 | O29: 0 | P29: 0 | Q29: 0 | R29: 0 | S29: =SUM(K29,R29) -> 903630
C30: RECEPCIÓN Y DIGITACIÓN DE INFORMACIÓN DE DATOS DE IDENTIFICACIÓN Y UBICACIÓN DEL POTENCIAL BENEFICIARIO EN BASE DE DATOS "LISTA DE INSCRITOS" | D30: Profesional Universitario / Profesional Operativo | E30: 5 | F30: 40 | G30: =+F30*E30 -> 200 | H30: =ROUND(VLOOKUP(D30,Tabla22[],2,FALSE()),0) -> 6107703 | I30: =ROUND(VLOOKUP(D30,Tabla22[],6,FALSE()),0) -> 34933 | J30: =IFERROR(I30*F30,"") -> 1397320 | K30: =IFERROR(E30*F30*I30,"") -> 6986600 | L30: 0 | M30: 0 | N30: 0 | O30: 0 | P30: 0 | Q30: 0 | R30: 0 | S30: =SUM(K30,R30) -> 6986600
C31: VERIFICACIÓN PARA LA DEPURACIÓN DE BASE DE DATOS DE "LISTA DE INSCRITOS" | D31: Profesional Universitario / Profesional Operativo | E31: 8 | F31: 8 | G31: =+F31*E31 -> 64 | H31: =ROUND(VLOOKUP(D31,Tabla22[],2,FALSE()),0) -> 6107703 | I31: =ROUND(VLOOKUP(D31,Tabla22[],6,FALSE()),0) -> 34933 | J31: =IFERROR(I31*F31,"") -> 279464 | K31: =IFERROR(E31*F31*I31,"") -> 2235712 | L31: 0 | M31: 0 | N31: 0 | O31: 0 | P31: 0 | Q31: 0 | R31: 0 | S31: =SUM(K31,R31) -> 2235712
A32: 6 | B32: ETAPA DE IDENTIFICACIÓN DE NECESIDADES FUNCIONALES DE VULNERABILIDAD | C32: GEOREFERENCIACIÓN | D32: Profesional Especializado / Facilitador | E32: 715 | F32: 0.05 | G32: =+F32*E32 -> 35.75 | H32: =ROUND(VLOOKUP(D32,Tabla22[],2,FALSE()),0) -> 8822237 | I32: =ROUND(VLOOKUP(D32,Tabla22[],6,FALSE()),0) -> 50459 | J32: =IFERROR(I32*F32,"") -> 2522.95 | K32: =IFERROR(E32*F32*I32,"") -> 1803909.2 | L32: 0 | M32: 0 | N32: 0 | O32: 0 | P32: 0 | Q32: 0 | R32: 0 | S32: =SUM(K32,R32) -> 1803909.2
C33: LLAMADAS A LOS USUARIOS PARA AGENDAMIENTO Y ALISTAMIENTO DE DOCUMENTACION | D33: Profesional Universitario / Profesional Operativo | E33: 715 | F33: 0.25 | G33: =+F33*E33 -> 178.75 | H33: =ROUND(VLOOKUP(D33,Tabla22[],2,FALSE()),0) -> 6107703 | I33: =ROUND(VLOOKUP(D33,Tabla22[],6,FALSE()),0) -> 34933 | J33: =IFERROR(I33*F33,"") -> 8733.25 | K33: =IFERROR(E33*F33*I33,"") -> 6244273.8 | L33: 0 | M33: 0 | N33: 0 | O33: 0 | P33: 0 | Q33: 0 | R33: 0 | S33: =SUM(K33,R33) -> 6244273.8
C34: TRASLADO INICIAL | D34: Profesional Universitario / Profesional Operativo | E34: 715 | F34: 0.5 | G34: =+F34*E34 -> 357.5 | H34: =ROUND(VLOOKUP(D34,Tabla22[],2,FALSE()),0) -> 6107703 | I34: =ROUND(VLOOKUP(D34,Tabla22[],6,FALSE()),0) -> 34933 | J34: =IFERROR(I34*F34,"") -> 17466.5 | K34: =IFERROR(E34*F34*I34,"") -> 12488548 | L34: 0 | M34: 0 | N34: 0 | O34: 0 | P34: 0 | Q34: 0 | R34: 0 | S34: =SUM(K34,R34) -> 12488548
C35: VISITA DE VULNERABILIDAD (ESPACIO DOMICILIO) INCLUYE EL DILIGENCIAMIENTO DE LOS FORMATOS | D35: Profesional Universitario / Profesional Operativo | E35: 715 | F35: 2 | G35: =+F35*E35 -> 1430 | H35: =ROUND(VLOOKUP(D35,Tabla22[],2,FALSE()),0) -> 6107703 | I35: =ROUND(VLOOKUP(D35,Tabla22[],6,FALSE()),0) -> 34933 | J35: =IFERROR(I35*F35,"") -> 69866 | K35: =IFERROR(E35*F35*I35,"") -> 49954190 | L35: 0 | M35: 0 | N35: 0 | O35: 0 | P35: 0 | Q35: 0 | R35: 0 | S35: =SUM(K35,R35) -> 49954190
C36: TRASLADO FINAL | D36: Profesional Universitario / Profesional Operativo | E36: 715 | F36: 0.5 | G36: =+F36*E36 -> 357.5 | H36: =ROUND(VLOOKUP(D36,Tabla22[],2,FALSE()),0) -> 6107703 | I36: =ROUND(VLOOKUP(D36,Tabla22[],6,FALSE()),0) -> 34933 | J36: =IFERROR(I36*F36,"") -> 17466.5 | K36: =IFERROR(E36*F36*I36,"") -> 12488548 | L36: 0 | M36: 0 | N36: 0 | O36: 0 | P36: 0 | Q36: 0 | R36: 0 | S36: =SUM(K36,R36) -> 12488548
C37: REGISTRO EN BASE DE DATOS | D37: Profesional Universitario / Profesional Operativo | E37: 715 | F37: 0.16 | G37: =+F37*E37 -> 114.4 | H37: =ROUND(VLOOKUP(D37,Tabla22[],2,FALSE()),0) -> 6107703 | I37: =ROUND(VLOOKUP(D37,Tabla22[],6,FALSE()),0) -> 34933 | J37: =IFERROR(I37*F37,"") -> 5589.28 | K37: =IFERROR(E37*F37*I37,"") -> 3996335.2 | L37: 0 | M37: 0 | N37: 0 | O37: 0 | P37: 0 | Q37: 0 | R37: 0 | S37: =SUM(K37,R37) -> 3996335.2
C38: GESTIÓN ADMINISTRATIVA PROFESIONAL (RECEPCIÓN DOCUMENTAL Y DEMAS SOPORTES REQUERIDOS) | D38: Profesional Universitario / Profesional Operativo | E38: 715 | F38: 0.54 | G38: =+F38*E38 -> 386.1 | H38: =ROUND(VLOOKUP(D38,Tabla22[],2,FALSE()),0) -> 6107703 | I38: =ROUND(VLOOKUP(D38,Tabla22[],6,FALSE()),0) -> 34933 | J38: =IFERROR(I38*F38,"") -> 18863.82 | K38: =IFERROR(E38*F38*I38,"") -> 13487631 | L38: 0 | M38: 0 | N38: 0 | O38: 0 | P38: 0 | Q38: 0 | R38: 0 | S38: =SUM(K38,R38) -> 13487631
B39: ETAPA DE PRESCRIPCION | C39: GEOREFERENCIACIÓN | D39: Profesional Especializado / Facilitador | E39: 715 | F39: 0.05 | G39: =+F39*E39 -> 35.75 | H39: =ROUND(VLOOKUP(D39,Tabla22[],2,FALSE()),0) -> 8822237 | I39: =ROUND(VLOOKUP(D39,Tabla22[],6,FALSE()),0) -> 50459 | J39: =IFERROR(I39*F39,"") -> 2522.95 | K39: =IFERROR(E39*F39*I39,"") -> 1803909.2 | L39: 0 | M39: 0 | N39: 0 | O39: 0 | P39: 0 | Q39: 0 | R39: 0 | S39: =SUM(K39,R39) -> 1803909.2
C40: LLAMADAS A LOS USUARIOS PARA AGENDAMIENTO Y ALISTAMIENTO DE DOCUMENTACION | D40: Profesional Universitario / Profesional Operativo | E40: 715 | F40: 0.25 | G40: =+F40*E40 -> 178.75 | H40: =ROUND(VLOOKUP(D40,Tabla22[],2,FALSE()),0) -> 6107703 | I40: =ROUND(VLOOKUP(D40,Tabla22[],6,FALSE()),0) -> 34933 | J40: =IFERROR(I40*F40,"") -> 8733.25 | K40: =IFERROR(E40*F40*I40,"") -> 6244273.8 | L40: 0 | M40: 0 | N40: 0 | O40: 0 | P40: 0 | Q40: 0 | R40: 0 | S40: =SUM(K40,R40) -> 6244273.8
C41: TRASLADO INICIAL | D41: Profesional Universitario / Profesional Operativo | E41: 715 | F41: 0.5 | G41: =+F41*E41 -> 357.5 | H41: =ROUND(VLOOKUP(D41,Tabla22[],2,FALSE()),0) -> 6107703 | I41: =ROUND(VLOOKUP(D41,Tabla22[],6,FALSE()),0) -> 34933 | J41: =IFERROR(I41*F41,"") -> 17466.5 | K41: =IFERROR(E41*F41*I41,"") -> 12488548 | L41: 0 | M41: 0 | N41: 0 | O41: 0 | P41: 0 | Q41: 0 | R41: 0 | S41: =SUM(K41,R41) -> 12488548
C42: VISITA DE PRESCRIPCIÓN (ESPACIO DOMICILIO) INCLUYE EL DILIGENCIAMIENTO DE LOS FORMATOS | D42: Profesional Universitario / Profesional Operativo | E42: 715 | F42: 2 | G42: =+F42*E42 -> 1430 | H42: =ROUND(VLOOKUP(D42,Tabla22[],2,FALSE()),0) -> 6107703 | I42: =ROUND(VLOOKUP(D42,Tabla22[],6,FALSE()),0) -> 34933 | J42: =IFERROR(I42*F42,"") -> 69866 | K42: =IFERROR(E42*F42*I42,"") -> 49954190 | L42: 0 | M42: 0 | N42: 0 | O42: 0 | P42: 0 | Q42: 0 | R42: 0 | S42: =SUM(K42,R42) -> 49954190
C43: TRASLADO FINAL | D43: Profesional Universitario / Profesional Operativo | E43: 715 | F43: 0.5 | G43: =+F43*E43 -> 357.5 | H43: =ROUND(VLOOKUP(D43,Tabla22[],2,FALSE()),0) -> 6107703 | I43: =ROUND(VLOOKUP(D43,Tabla22[],6,FALSE()),0) -> 34933 | J43: =IFERROR(I43*F43,"") -> 17466.5 | K43: =IFERROR(E43*F43*I43,"") -> 12488548 | L43: 0 | M43: 0 | N43: 0 | O43: 0 | P43: 0 | Q43: 0 | R43: 0 | S43: =SUM(K43,R43) -> 12488548
C44: REGISTRO EN BASE DE DATOS | D44: Profesional Universitario / Profesional Operativo | E44: 715 | F44: 0.16 | G44: =+F44*E44 -> 114.4 | H44: =ROUND(VLOOKUP(D44,Tabla22[],2,FALSE()),0) -> 6107703 | I44: =ROUND(VLOOKUP(D44,Tabla22[],6,FALSE()),0) -> 34933 | J44: =IFERROR(I44*F44,"") -> 5589.28 | K44: =IFERROR(E44*F44*I44,"") -> 3996335.2 | L44: 0 | M44: 0 | N44: 0 | O44: 0 | P44: 0 | Q44: 0 | R44: 0 | S44: =SUM(K44,R44) -> 3996335.2
C45: GESTIÓN ADMINISTRATIVA PROFESIONAL (RECEPCIÓN DOCUMENTAL Y DEMAS SOPORTES REQUERIDOS) | D45: Profesional Universitario / Profesional Operativo | E45: 715 | F45: 0.54 | G45: =+F45*E45 -> 386.1 | H45: =ROUND(VLOOKUP(D45,Tabla22[],2,FALSE()),0) -> 6107703 | I45: =ROUND(VLOOKUP(D45,Tabla22[],6,FALSE()),0) -> 34933 | J45: =IFERROR(I45*F45,"") -> 18863.82 | K45: =IFERROR(E45*F45*I45,"") -> 13487631 | L45: 0 | M45: 0 | N45: 0 | O45: 0 | P45: 0 | Q45: 0 | R45: 0 | S45: =SUM(K45,R45) -> 13487631
A46: 7 | B46: ETAPA DE APROBACIÓN | C46: ORGANIZACIÓN DE GESTION DOCUMENTAL (CARPETA POR USUARIO) | D46: Profesional Universitario / Profesional Operativo | E46: 650 | F46: 2 | G46: =+F46*E46 -> 1300 | H46: =ROUND(VLOOKUP(D46,Tabla22[],2,FALSE()),0) -> 6107703 | I46: =ROUND(VLOOKUP(D46,Tabla22[],6,FALSE()),0) -> 34933 | J46: =IFERROR(I46*F46,"") -> 69866 | K46: =IFERROR(E46*F46*I46,"") -> 45412900 | L46: 0 | M46: 0 | N46: 0 | O46: 0 | P46: 0 | Q46: 0 | R46: 0 | S46: =SUM(K46,R46) -> 45412900
...

Sheet TABLA RESUMEN DAP
A2: ANEXO TABLA RESUMEN DE COSTOS CONCEPTO DE GASTO OTORGAMIENTO DE DISPOSITIVOS DE ASISTENCIA PERSONAL - AYUDAS TECNICAS VIG. 2026. FONDO DE DESARROLLO LOCAL DE SUBA
A5: ITEM | B5: COMPONENTES | C5: TOTAL FDL | D5: TOTAL SRNO | E5: TOTAL CONVENIO
A6: 1 | B6: ALISTAMIENTO | C6: =SUM(DAPS!K10:K14) -> 2590406 | D6: 0 | E6: =C6+D6 -> 2590406
A7: 2 | B7: PROCESO TECNICO ADMINISTRATIVO DE CONTRATACION DE PROVEEDORES | C7: =SUM(DAPS!K15:K17) -> 2865355 | D7: 0 | E7: =C7+D7 -> 2865355
A8: 3 | B8: CONVOCATORIA Y SOCIALIZACION | C8: =SUM(DAPS!K18:K23) -> 5659152 | D8: 0 | E8: =C8+D8 -> 5659152
A9: 4 | B9: PRESENTACION PUBLICA COMUNIDAD GENERAL - PERSONAS INTERESADAS Y PRESENTACIONES ANTE LA JAL | C9: =SUM(DAPS!K24:K28) -> 3141212 | D9: 0 | E9: =C9+D9 -> 3141212
A10: 5 | B10: INSCRIPCION | C10: =SUM(DAPS!K29:K31) -> 10125942 | D10: 0 | E10: =C10+D10 -> 10125942
A11: 6 | B11: IDENTIFICACION DE NECESIDADES FUNCIONALES DE VULNERABILIDAD Y PRESCRIPCION | C11: =SUM(DAPS!K32:K45) -> 200926869 | D11: 0 | E11: =C11+D11 -> 200926869
A12: 7 | B12: APROBACION | C12: =SUM(DAPS!K46:K52) -> 114289300 | D12: 0 | E12: =C12+D12 -> 114289300
A13: 8 | B13: GESTION PARA LA ADQUISICION | C13: =SUM(DAPS!K53:K63) -> 20122740 | D13: 0 | E13: =C13+D13 -> 20122740
A14: 9 | B14: ENTREGA Y ENTRENAMIENTO GRUPAL Y DOMICILIARIO | C14: =SUM(DAPS!K64:K75) -> 126904341 | D14: 0 | E14: =C14+D14 -> 126904341
A15: 10 | B15: SEGUIMIENTOS VIGENCIAS 2024 - 2023 - 2022 | C15: =SUM(DAPS!K76:K93) -> 121644480 | D15: 0 | E15: =C15+D15 -> 121644480
A16: 11 | B16: RETORNOS | C16: =SUM(DAPS!K94:K97) -> 1103882.8 | D16: 0 | E16: =C16+D16 -> 1103882.8
A17: 12 | B17: REASIGNACIONES | C17: =SUM(DAPS!K98:K101) -> 1482712 | D17: 0 | E17: =C17+D17 -> 1482712
A18: 13 | B18: ACTIVIDADES ADMINISTRATIVAS | C18: =SUM(DAPS!K102:K113) -> 27891862 | D18: 0 | E18: =C18+D18 -> 27891862
A19: 14 | B19: INFORMES | C19: =SUM(DAPS!K114:K120) -> 21369820 | D19: 0 | E19: =C19+D19 -> 21369820
A20: 15 | B20: COMITES DE SEGUIMIENTO | C20: =SUM(DAPS!K121:K122) -> 6642060 | D20: 0 | E20: =C20+D20 -> 6642060
A21: 16 | B21: TRANSPORTE (OTROS CONCEPTOS) | C21: =SUM(DAPS!K125:K125) -> 162000000 | D21: 0 | E21: =C21+D21 -> 162000000
A22: 17 | B22: ADQUISICION DISPOSITIVOS DE ASISTENCIA PERSONAL - AYUDA TECNICA (OTROS CONCEPTOS) | C22: =SUM(DAPS!K126:K126) -> 2441267352 | D22: 0 | E22: =C22+D22 -> 2441267352
A23: 18 | B23: COFINANCION SUBRED INTEGRADA DE SERVICIOS DE SALUD NORTE E.S.E. | C23: 0 | D23: =SUM(DAPS!R127) -> 327002850 | E23: =C23+D23 -> 327002850
A24: TOTAL GENERAL | C24: =SUM(C6:C23) -> 3.2700275e+09 | D24: =SUM(D6:D23) -> 327002850 | E24: =SUM(E6:E23) -> 3.5970303e+09

Sheet SNOF
D1: ANEXO CUADRO DE COSTOS GENERAL SALUD NUTRICIONAL, ORAL Y FISICA VIGENCIA 2026
A8: N° | B8: COMPONENTES | C8: ACTIVIDADES | E8: TALENTO HUMANO FDL | K8: COSTO TOTAL POR ACTIVIDAD | L8: TALENTO HUMANO SRNO | R8: COSTO TOTAL POR ACTIVIDAD | S8: COSTO TOTAL CONVENIO
D9: ROL EN EL EQUIPO DE TRABAJO | E9: FRECUENCIA DE USO | F9: NUMERO HORAS DEDICACIÓN MES | G9: TOTAL HORAS DEDICACIÓN CONVENIO | H9: HONORARIOS | I9: VALOR HORA | J9: VALOR POR ACTIVIDAD MES | L9: FRECUENCIA DE USO | M9: NUMERO HORAS DEDICACIÓN MES | N9: TOTAL HORAS DEDICACIÓN CONVENIO | O9: HONORARIOS | P9: VALOR HORA | Q9: VALOR POR ACTIVIDAD MES
A10: 1 | B10: ALISTAMIENTO | C10: GESTION NECESARIA PARA LA INCORPORACION DE PRESUPUESTO | D10: Profesional Especializado / Coordinador | E10: 1 | F10: 10 | G10: =+F10*E10 -> 10 | H10: 10532771 | I10: =ROUND(VLOOKUP(D10,Tabla22[],6,FALSE()),0) -> 60242 | J10: =IFERROR(I10*F10,"") -> 602420 | K10: =IFERROR(E10*F10*I10,"") -> 602420 | L10: 0 | M10: 0 | N10: 0 | O10: 0 | P10: 0 | Q10: 0 | R10: 0 | S10: =SUM(K10,R10) -> 602420
C11: GESTION CONTRATACION DE TALENTO HUMANO: ELABORACION DE REQUERIMIENTO Y OFICIO | D11: Profesional Especializado / Coordinador | E11: 1 | F11: 8 | G11: =+F11*E11 -> 8 | H11: =ROUND(VLOOKUP(D11,Tabla22[],2,FALSE()),0) -> 10532771 | I11: =ROUND(VLOOKUP(D11,Tabla22[],6,FALSE()),0) -> 60242 | J11: =IFERROR(I11*F11,"") -> 481936 | K11: =IFERROR(E11*F11*I11,"") -> 481936 | L11: 0 | M11: 0 | N11: 0 | O11: 0 | P11: 0 | Q11: 0 | R11: 0 | S11: =SUM(K11,R11) -> 481936
C12: SOLICITUD DE RECURSOS FISICOS Y APOYO TECNOLOGICO | D12: Profesional Especializado / Coordinador | E12: 1 | F12: 5 | G12: =+F12*E12 -> 5 | H12: =ROUND(VLOOKUP(D12,Tabla22[],2,FALSE()),0) -> 10532771 | I12: =ROUND(VLOOKUP(D12,Tabla22[],6,FALSE()),0) -> 60242 | J12: =IFERROR(I12*F12,"") -> 301210 | K12: =IFERROR(E12*F12*I12,"") -> 301210 | L12: 0 | M12: 0 | N12: 0 | O12: 0 | P12: 0 | Q12: 0 | R12: 0 | S12: =SUM(K12,R12) -> 301210
C13: ELABORACIÓN PLAN DE TRABAJO, CRONOGRAMA GENERAL Y MATRIZ DE PROYECCION FISICO FINANCIERA | D13: Profesional Especializado / Coordinador | E13: 1 | F13: 15 | G13: =+F13*E13 -> 15 | H13: =ROUND(VLOOKUP(D13,Tabla22[],2,FALSE()),0) -> 10532771 | I13: =ROUND(VLOOKUP(D13,Tabla22[],6,FALSE()),0) -> 60242 | J13: =IFERROR(I13*F13,"") -> 903630 | K13: =IFERROR(E13*F13*I13,"") -> 903630 | L13: 0 | M13: 0 | N13: 0 | O13: 0 | P13: 0 | Q13: 0 | R13: 0 | S13: =SUM(K13,R13) -> 903630
C14: REVISIÓN PLAN DE TRABAJO, CRONOGRAMA GENERAL Y MATRIZ DE PROYECCION FISICO FINANCIERA | D14: Profesional Especializado / Coordinador | E14: 1 | F14: 5 | G14: =+F14*E14 -> 5 | H14: =ROUND(VLOOKUP(D14,Tabla22[],2,FALSE()),0) -> 10532771 | I14: =ROUND(VLOOKUP(D14,Tabla22[],6,FALSE()),0) -> 60242 | J14: =IFERROR(I14*F14,"") -> 301210 | K14: =IFERROR(E14*F14*I14,"") -> 301210 | L14: 0 | M14: 0 | N14: 0 | O14: 0 | P14: 0 | Q14: 0 | R14: 0 | S14: =SUM(K14,R14) -> 301210
A15: 2 | B15: PROCESO TÉCNICO ADMINISTRATIVO DE CONTRATACIÓN DE PROVEEDORES | C15: - PLAN ANUAL DE ADQUISICIONES - ELABORACIÓN DE TERMINOSD E REFERENCIA -ELABORACIÓN DE ESTUDIOS DE MERCADO -ELABORACION DE ESTUDIOS PREVIOS -VISITAS TÉCNICAS A PROVEEDORES -EVALUACIÓN TÉCNICA A PROVEEDORES -APOYO ELABORACIÓN RESPUESTAS PARA SUBSANACIÓNES Y OBSERVACIONES DE LOS OFERENTES | D15: Profesional Especializado / Coordinador | E15: 1 | F15: 20 | G15: =+F15*E15 -> 20 | H15: =ROUND(VLOOKUP(D15,Tabla22[],2,FALSE()),0) -> 10532771 | I15: =ROUND(VLOOKUP(D15,Tabla22[],6,FALSE()),0) -> 60242 | J15: =IFERROR(I15*F15,"") -> 1204840 | K15: =IFERROR(E15*F15*I15,"") -> 1204840 | L15: 0 | M15: 0 | N15: 0 | O15: 0 | P15: 0 | Q15: 0 | R15: 0 | S15: =SUM(K15,R15) -> 1204840
D16: Profesional Especializado / Facilitador | E16: 1 | F16: 186 | G16: =+F16*E16 -> 186 | H16: =ROUND(VLOOKUP(D16,Tabla22[],2,FALSE()),0) -> 8822237 | I16: =ROUND(VLOOKUP(D16,Tabla22[],6,FALSE()),0) -> 50459 | J16: =IFERROR(I16*F16,"") -> 9385374 | K16: =IFERROR(E16*F16*I16,"") -> 9385374 | L16: 0 | M16: 0 | N16: 0 | O16: 0 | P16: 0 | Q16: 0 | R16: 0 | S16: =SUM(K16,R16) -> 9385374
C17: ACOMPAÑAMIENTO TÉCNICO AL PROCESO DE CONTRATACIÓN (PRE-CONTRACTUAL Y FIRMA DEL ACTA DE INICIO) | D17: Profesional Especializado / Coordinador | E17: 1 | F17: 40 | G17: =+F17*E17 -> 40 | H17: =ROUND(VLOOKUP(D17,Tabla22[],2,FALSE()),0) -> 10532771 | I17: =ROUND(VLOOKUP(D17,Tabla22[],6,FALSE()),0) -> 60242 | J17: =IFERROR(I17*F17,"") -> 2409680 | K17: =IFERROR(E17*F17*I17,"") -> 2409680 | L17: 0 | M17: 0 | N17: 0 | O17: 0 | P17: 0 | Q17: 0 | R17: 0 | S17: =SUM(K17,R17) -> 2409680
A18: 3 | B18: ETAPA DE CONVOCATORIA Y SOCIALIZACIÓN | C18: BUSQUEDA ACTIVA | D18: Profesional Universitario / Profesional Operativo | E18: 4 | F18: 80 | G18: =+F18*E18 -> 320 | H18: =ROUND(VLOOKUP(D18,Tabla22[],2,FALSE()),0) -> 6107703 | I18: =ROUND(VLOOKUP(D18,Tabla22[],6,FALSE()),0) -> 34933 | J18: =IFERROR(I18*F18,"") -> 2794640 | K18: =IFERROR(E18*F18*I18,"") -> 11178560 | L18: 0 | M18: 0 | N18: 0 | O18: 0 | P18: 0 | Q18: 0 | R18: 0 | S18: =SUM(K18,R18) -> 11178560
C19: ARTICULACION INTERINSTITUCIONAL E INTERSECTORIAL | D19: Profesional Especializado / Facilitador | E19: 4 | F19: 10 | G19: =+F19*E19 -> 40 | H19: =ROUND(VLOOKUP(D19,Tabla22[],2,FALSE()),0) -> 8822237 | I19: =ROUND(VLOOKUP(D19,Tabla22[],6,FALSE()),0) -> 50459 | J19: =IFERROR(I19*F19,"") -> 504590 | K19: =IFERROR(E19*F19*I19,"") -> 2018360 | L19: 0 | M19: 0 | N19: 0 | O19: 0 | P19: 0 | Q19: 0 | R19: 0 | S19: =SUM(K19,R19) -> 2018360
C20: ENVIO CONTENIDO PARA LA ELABORACION DE PIEZAS COMUNICATIVAS | D20: Profesional Especializado / Facilitador | E20: 1 | F20: 4 | G20: =+F20*E20 -> 4 | H20: =ROUND(VLOOKUP(D20,Tabla22[],2,FALSE()),0) -> 8822237 | I20: =ROUND(VLOOKUP(D20,Tabla22[],6,FALSE()),0) -> 50459 | J20: =IFERROR(I20*F20,"") -> 201836 | K20: =IFERROR(E20*F20*I20,"") -> 201836 | L20: 0 | M20: 0 | N20: 0 | O20: 0 | P20: 0 | Q20: 0 | R20: 0 | S20: =SUM(K20,R20) -> 201836
C21: DISEÑO DE PIEZAS COMUNICATIVAS | D21: Profesional Universitario / Profesional Operativo | E21: 1 | F21: 8 | G21: =+F21*E21 -> 8 | H21: =ROUND(VLOOKUP(D21,Tabla22[],2,FALSE()),0) -> 6107703 | I21: =ROUND(VLOOKUP(D21,Tabla22[],6,FALSE()),0) -> 34933 | J21: =IFERROR(I21*F21,"") -> 279464 | K21: =IFERROR(E21*F21*I21,"") -> 279464 | L21: 0 | M21: 0 | N21: 0 | O21: 0 | P21: 0 | Q21: 0 | R21: 0 | S21: =SUM(K21,R21) -> 279464
C22: DIVULGACIÓN DE PIEZA COMUNICATIVA | D22: Profesional Especializado / Facilitador | E22: 2 | F22: 1 | G22: =+F22*E22 -> 2 | H22: =ROUND(VLOOKUP(D22,Tabla22[],2,FALSE()),0) -> 8822237 | I22: =ROUND(VLOOKUP(D22,Tabla22[],6,FALSE()),0) -> 50459 | J22: =IFERROR(I22*F22,"") -> 50459 | K22: =IFERROR(E22*F22*I22,"") -> 100918 | L22: 0 | M22: 0 | N22: 0 | O22: 0 | P22: 0 | Q22: 0 | R22: 0 | S22: =SUM(K22,R22) -> 100918
D23: Profesional Universitario / Profesional Operativo | E23: 2 | F23: 1 | G23: =+F23*E23 -> 2 | H23: =ROUND(VLOOKUP(D23,Tabla22[],2,FALSE()),0) -> 6107703 | I23: =ROUND(VLOOKUP(D23,Tabla22[],6,FALSE()),0) -> 34933 | J23: =IFERROR(I23*F23,"") -> 34933 | K23: =IFERROR(E23*F23*I23,"") -> 69866 | L23: 0 | M23: 0 | N23: 0 | O23: 0 | P23: 0 | Q23: 0 | R23: 0 | S23: =SUM(K23,R23) -> 69866
A24: 4 | B24: PRESENTACIONES PÚBLICAS | C24: PLANEACION Y CONVOCATORIA: SOLICITUD DE ESPACIOS (FISICO Y/O VIRTUAL), ELABORACIÓN DE INVITACONES OFICIALES A GRUPOS POBLACIONALES, ELABORACION PRESENTACIÓN INICIAL | D24: Profesional Especializado / Facilitador | E24: 2 | F24: 16 | G24: =+F24*E24 -> 32 | H24: =ROUND(VLOOKUP(D24,Tabla22[],2,FALSE()),0) -> 8822237 | I24: =ROUND(VLOOKUP(D24,Tabla22[],6,FALSE()),0) -> 50459 | J24: =IFERROR(I24*F24,"") -> 807344 | K24: =IFERROR(E24*F24*I24,"") -> 1614688 | L24: 0 | M24: 0 | N24: 0 | O24: 0 | P24: 0 | Q24: 0 | R24: 0 | S24: =SUM(K24,R24) -> 1614688
D25: Profesional Especializado / Coordinador | E25: 2 | F25: 8 | G25: =+F25*E25 -> 16 | H25: =ROUND(VLOOKUP(D25,Tabla22[],2,FALSE()),0) -> 10532771 | I25: =ROUND(VLOOKUP(D25,Tabla22[],6,FALSE()),0) -> 60242 | J25: =IFERROR(I25*F25,"") -> 481936 | K25: =IFERROR(E25*F25*I25,"") -> 963872 | L25: 0 | M25: 0 | N25: 0 | O25: 0 | P25: 0 | Q25: 0 | R25: 0 | S25: =SUM(K25,R25) -> 963872
A26: 5 | B26: ETAPA DE INSCRIPCIÓN | C26: GESTIÓN DE LOS ESPACIOS FISICOS PARA PUNTOS ITINERANTES Y FIJOS DE INSCRIPCIÓN | D26: Profesional Especializado / Coordinador | E26: 1 | F26: 4 | G26: =+F26*E26 -> 4 | H26: =ROUND(VLOOKUP(D26,Tabla22[],2,FALSE()),0) -> 10532771 | I26: =ROUND(VLOOKUP(D26,Tabla22[],6,FALSE()),0) -> 60242 | J26: =IFERROR(I26*F26,"") -> 240968 | K26: =IFERROR(E26*F26*I26,"") -> 240968 | L26: 0 | M26: 0 | N26: 0 | O26: 0 | P26: 0 | Q26: 0 | R26: 0 | S26: =SUM(K26,R26) -> 240968
C27: RECEPCIÓN Y DIGITACIÓN DE INFORMACIÓN DE DATOS DE IDENTIFICACIÓN Y UBICACIÓN DEL POTENCIAL BENEFICIARIO EN BASE DE DATOS "LISTA DE INSCRITOS" | D27: Profesional Universitario / Profesional Operativo | E27: 4 | F27: 40 | G27: =+F27*E27 -> 160 | H27: =ROUND(VLOOKUP(D27,Tabla22[],2,FALSE()),0) -> 6107703 | I27: =ROUND(VLOOKUP(D27,Tabla22[],6,FALSE()),0) -> 34933 | J27: =IFERROR(I27*F27,"") -> 1397320 | K27: =IFERROR(E27*F27*I27,"") -> 5589280 | L27: 0 | M27: 0 | N27: 0 | O27: 0 | P27: 0 | Q27: 0 | R27: 0 | S27: =SUM(K27,R27) -> 5589280
C28: VERIFICACIÓN PARA LA DEPURACIÓN DE BASE DE DATOS DE "LISTA DE INSCRITOS" | D28: Profesional Universitario / Profesional Operativo | E28: 4 | F28: 8 | G28: =+F28*E28 -> 32 | H28: =ROUND(VLOOKUP(D28,Tabla22[],2,FALSE()),0) -> 6107703 | I28: =ROUND(VLOOKUP(D28,Tabla22[],6,FALSE()),0) -> 34933 | J28: =IFERROR(I28*F28,"") -> 279464 | K28: =IFERROR(E28*F28*I28,"") -> 1117856 | L28: 0 | M28: 0 | N28: 0 | O28: 0 | P28: 0 | Q28: 0 | R28: 0 | S28: =SUM(K28,R28) -> 1117856
A29: 6 | B29: ETAPA DE IDENTIFICACIÓN DE NECESIDADES | C29: GEOREFERENCIACIÓN | D29: Profesional Especializado / Facilitador | E29: 150 | F29: 0.05 | G29: =+F29*E29 -> 7.5 | H29: =ROUND(VLOOKUP(D29,Tabla22[],2,FALSE()),0) -> 8822237 | I29: =ROUND(VLOOKUP(D29,Tabla22[],6,FALSE()),0) -> 50459 | J29: =IFERROR(I29*F29,"") -> 2522.95 | K29: =IFERROR(E29*F29*I29,"") -> 378442.5 | L29: 0 | M29: 0 | N29: 0 | O29: 0 | P29: 0 | Q29: 0 | R29: 0 | S29: =SUM(K29,R29) -> 378442.5
C30: LLAMADAS A LOS USUARIOS PARA AGENDAMIENTO Y ALISTAMIENTO DE DOCUMENTACION | D30: Profesional Universitario / Profesional Operativo | E30: 150 | F30: 0.25 | G30: =+F30*E30 -> 37.5 | H30: =ROUND(VLOOKUP(D30,Tabla22[],2,FALSE()),0) -> 6107703 | I30: =ROUND(VLOOKUP(D30,Tabla22[],6,FALSE()),0) -> 34933 | J30: =IFERROR(I30*F30,"") -> 8733.25 | K30: =IFERROR(E30*F30*I30,"") -> 1309987.5 | L30: 0 | M30: 0 | N30: 0 | O30: 0 | P30: 0 | Q30: 0 | R30: 0 | S30: =SUM(K30,R30) -> 1309987.5
C31: TRASLADO INICIAL | D31: Profesional Universitario / Profesional Operativo | E31: 150 | F31: 0.5 | G31: =+F31*E31 -> 75 | H31: =ROUND(VLOOKUP(D31,Tabla22[],2,FALSE()),0) -> 6107703 | I31: =ROUND(VLOOKUP(D31,Tabla22[],6,FALSE()),0) -> 34933 | J31: =IFERROR(I31*F31,"") -> 17466.5 | K31: =IFERROR(E31*F31*I31,"") -> 2619975 | L31: 0 | M31: 0 | N31: 0 | O31: 0 | P31: 0 | Q31: 0 | R31: 0 | S31: =SUM(K31,R31) -> 2619975
C32: VISITA DE VULNERABILIDAD (ESPACIO DOMICILIO) INCLUYE EL DILIGENCIAMIENTO DE LOS FORMATOS | D32: Profesional Universitario / Profesional Operativo | E32: 150 | F32: 2 | G32: =+F32*E32 -> 300 | H32: =ROUND(VLOOKUP(D32,Tabla22[],2,FALSE()),0) -> 6107703 | I32: =ROUND(VLOOKUP(D32,Tabla22[],6,FALSE()),0) -> 34933 | J32: =IFERROR(I32*F32,"") -> 69866 | K32: =IFERROR(E32*F32*I32,"") -> 10479900 | L32: 0 | M32: 0 | N32: 0 | O32: 0 | P32: 0 | Q32: 0 | R32: 0 | S32: =SUM(K32,R32) -> 10479900
C33: TRASLADO FINAL | D33: Profesional Universitario / Profesional Operativo | E33: 150 | F33: 0.5 | G33: =+F33*E33 -> 75 | H33: =ROUND(VLOOKUP(D33,Tabla22[],2,FALSE()),0) -> 6107703 | I33: =ROUND(VLOOKUP(D33,Tabla22[],6,FALSE()),0) -> 34933 | J33: =IFERROR(I33*F33,"") -> 17466.5 | K33: =IFERROR(E33*F33*I33,"") -> 2619975 | L33: 0 | M33: 0 | N33: 0 | O33: 0 | P33: 0 | Q33: 0 | R33: 0 | S33: =SUM(K33,R33) -> 2619975
C34: REGISTRO EN BASE DE DATOS | D34: Profesional Universitario / Profesional Operativo | E34: 150 | F34: 0.16 | G34: =+F34*E34 -> 24 | H34: =ROUND(VLOOKUP(D34,Tabla22[],2,FALSE()),0) -> 6107703 | I34: =ROUND(VLOOKUP(D34,Tabla22[],6,FALSE()),0) -> 34933 | J34: =IFERROR(I34*F34,"") -> 5589.28 | K34: =IFERROR(E34*F34*I34,"") -> 838392 | L34: 0 | M34: 0 | N34: 0 | O34: 0 | P34: 0 | Q34: 0 | R34: 0 | S34: =SUM(K34,R34) -> 838392
C35: GESTIÓN ADMINISTRATIVA PROFESIONAL (RECEPCIÓN DOCUMENTAL Y DEMAS SOPORTES REQUERIDOS) | D35: Profesional Universitario / Profesional Operativo | E35: 150 | F35: 0.54 | G35: =+F35*E35 -> 81 | H35: =ROUND(VLOOKUP(D35,Tabla22[],2,FALSE()),0) -> 6107703 | I35: =ROUND(VLOOKUP(D35,Tabla22[],6,FALSE()),0) -> 34933 | J35: =IFERROR(I35*F35,"") -> 18863.82 | K35: =IFERROR(E35*F35*I35,"") -> 2829573 | L35: 0 | M35: 0 | N35: 0 | O35: 0 | P35: 0 | Q35: 0 | R35: 0 | S35: =SUM(K35,R35) -> 2829573
B36: Acceso al Sistema Integral de Referencia y Contrarreferencia (SIRC) | C36: jornada de capacitación relacionada con el uso y gestión del aplicativo SIRC- Módulo de Activación de Rutas. | D36: Profesional especializado / Facilitador | E36: 150 | F36: 0.05 | G36: =+F36*E36 -> 7.5 | H36: =ROUND(VLOOKUP(D36,Tabla22[],2,FALSE()),0) -> 8822237 | I36: =ROUND(VLOOKUP(D36,Tabla22[],6,FALSE()),0) -> 50459 | J36: =IFERROR(I36*F36,"") -> 2522.95 | K36: =IFERROR(E36*F36*I36,"") -> 378442.5 | L36: 0 | M36: 0 | N36: 0 | O36: 0 | P36: 0 | Q36: 0 | R36: 0 | S36: =SUM(K36,R36) -> 378442.5
C37: estrategia de comunicación para la socialización del portafolio de servicios del proyecto de inversión local, la cual será entregada a los equipos para interiorización e integración de acuerdo con las acciones desarrolladas por el del PSPIC y EAC, garantizando la canalización acuerdo a los criterios definidos. | D37: Profesional especializado / Facilitador | E37: 150 | F37: 0.25 | G37: =+F37*E37 -> 37.5 | H37: =ROUND(VLOOKUP(D37,Tabla22[],2,FALSE()),0) -> 8822237 | I37: =ROUND(VLOOKUP(D37,Tabla22[],6,FALSE()),0) -> 50459 | J37: =IFERROR(I37*F37,"") -> 12614.75 | K37: =IFERROR(E37*F37*I37,"") -> 1892212.5 | L37: 0 | M37: 0 | N37: 0 | O37: 0 | P37: 0 | Q37: 0 | R37: 0 | S37: =SUM(K37,R37) -> 1892212.5
C38: Espacios de diálogo con actores e instancias estratégicas en el territorio para la socialización del portafolio de servicios del proyecto. | D38: Profesional especializado / Facilitador | E38: 150 | F38: 0.5 | G38: =+F38*E38 -> 75 | H38: =ROUND(VLOOKUP(D38,Tabla22[],2,FALSE()),0) -> 8822237 | I38: =ROUND(VLOOKUP(D38,Tabla22[],6,FALSE()),0) -> 50459 | J38: =IFERROR(I38*F38,"") -> 25229.5 | K38: =IFERROR(E38*F38*I38,"") -> 3784425 | L38: 0 | M38: 0 | N38: 0 | O38: 0 | P38: 0 | Q38: 0 | R38: 0 | S38: =SUM(K38,R38) -> 3784425
A39: 7 | B39: Procedimiento de Canalización- Proyectos de Inversión Local | C39: Fase 1- Planeación: con Información de oferta de servicios, fecha de inicio y cierre, número de beneficiarios, entregables, grupos poblacionales y etarios, entre otras características necesarias para la identificación de la población, con el propósito de generar canalizaciones que cumplan con los criterios de inclusión del proyecto. | D39: Profesional especializado / Facilitador | E39: 1 | F39: 2 | G39: =+F39*E39 -> 2 | H39: =ROUND(VLOOKUP(D39,Tabla22[],2,FALSE()),0) -> 8822237 | I39: =ROUND(VLOOKUP(D39,Tabla22[],6,FALSE()),0) -> 50459 | J39: =IFERROR(I39*F39,"") -> 100918 | K39: =IFERROR(E39*F39*I39,"") -> 100918 | L39: 0 | M39: 0 | N39: 0 | O39: 0 | P39: 0 | Q39: 0 | R39: 0 | S39: =SUM(K39,R39) -> 100918
C40: Fase 2: Apropiación técnica: proceso de articulación con el PSPIC (entornos cuidadores y procesos transversales), así como los equipos de atención en casa, con el objetivo de realizar la apropiación conceptual del procedimiento de canalizaciones e ingreso al módulo de canalizaciones SIRC y la claridad técnica para la identificación de la población objeto del proyecto a través de la socialización del portafolio de servicios | D40: Profesional especializado / Facilitador | E40: 2 | F40: 2 | G40: =+F40*E40 -> 4 | H40: =ROUND(VLOOKUP(D40,Tabla22[],2,FALSE()),0) -> 8822237 | I40: =ROUND(VLOOKUP(D40,Tabla22[],6,FALSE()),0) -> 50459 | J40: =IFERROR(I40*F40,"") -> 100918 | K40: =IFERROR(E40*F40*I40,"") -> 201836 | L40: 0 | M40: 0 | N40: 0 | O40: 0 | P40: 0 | Q40: 0 | R40: 0 | S40: =SUM(K40,R40) -> 201836
C41: Fase 3- Generación de la canalización: generaran las canalizaciones dentro del desarrollo de sus acciones y conforme a los criterios y ofertas que les fueron informados; Se considera como actores principales de esta fase los equipos de los entornos cuidadores y atención en casa como generadores activos de la canalización | D41: Profesional Universitario / Profesional Operativo | E41: 150 | F41: 2 | G41: =+F41*E41 -> 300 | H41: 6107703 | I41: 34933 | J41: =IFERROR(I41*F41,"") -> 69866 | K41: =IFERROR(E41*F41*I41,"") -> 10479900 | L41: 0 | M41: 0 | N41: 0 | O41: 0 | P41: 0 | Q41: 0 | R41: 0 | S41: =SUM(K41,R41) -> 10479900
C42: Fase 4- Creación de la canalización: digitalizar en el módulo de canalizaciones del Aplicativo SIRC, una vez guardada la información se deberá visualizará la canalización para continuar con la fase 5, que se refiere a contestar la canalización. | D42: Profesional Universitario / Profesional Operativo | E42: 150 | F42: 1 | G42: =+F42*E42 -> 150 | H42: 6107703 | I42: 34933 | J42: =IFERROR(I42*F42,"") -> 34933 | K42: =IFERROR(E42*F42*I42,"") -> 5239950 | L42: 0 | M42: 0 | N42: 0 | O42: 0 | P42: 0 | Q42: 0 | R42: 0 | S42: =SUM(K42,R42) -> 5239950
C43: Fase 5- Gestión: proceso de contacto y convocatoria a los potenciales beneficiarios del proyecto que fueron canalizados y emitirá la respuesta de abordaje al usuario en el aplicativo SIRC-Módulo de Canalizaciones. En esta etapa puede presentarse que un pequeño porcentaje de los canalizados no puedan o no estén interesados en acceder al beneficio, en este caso se informará al líder de canalizaciones de la respectiva Subred Integrada de Servicios de Salud el número de canalizaciones no contactables o que han presentado fallas de pertinencia, para que se generen otras. | D43: Profesional Universitario / Profesional operativo | E43: 150 | F43: 1 | G43: =+F43*E43 -> 150 | H43: 6107703 | I43: 34933 | J43: =IFERROR(I43*F43,"") -> 34933 | K43: =IFERROR(E43*F43*I43,"") -> 5239950 | L43: 0 | M43: 0 | N43: 0 | O43: 0 | P43: 0 | Q43: 0 | R43: 0 | S43: =SUM(K43,R43) -> 5239950
C44: Fase 6- Cierre: descargará del módulo de canalizaciones del aplicativo SIRC archivo mensual en el que se realiza seguimiento a las canalizaciones cualitativas y cuantitativas. En este archivo se visualizará el número de canalizados y beneficiarios; esta descarga se sugiere se realice los 5 primeros días de mes. | D44: Profesional Universitario / Profesional Operativo | E44: 9 | F44: 2 | G44: =+F44*E44 -> 18 | H44: 6107703 | I44: 34933 | J44: =IFERROR(I44*F44,"") -> 69866 | K44: =IFERROR(E44*F44*I44,"") -> 628794 | L44: 0 | M44: 0 | N44: 0 | O44: 0 | P44: 0 | Q44: 0 | R44: 0 | S44: =SUM(K44,R44) -> 628794
C45: Fase 7- Resultados: seguimiento e interlocución con la líder de canalización para retroalimentar el nivel de cumplimiento a los criterios de las canalizaciones recibidas parte del PSPIC. | D45: Profesional especializado / Facilitador | E45: 2 | F45: 8 | G45: =+F45*E45 -> 16 | H45: 8822237 | I45: 50459 | J45: =IFERROR(I45*F45,"") -> 403672 | K45: =IFERROR(E45*F45*I45,"") -> 807344 | L45: 0 | M45: 0 | N45: 0 | O45: 0 | P45: 0 | Q45: 0 | R45: 0 | S45: =SUM(K45,R45) -> 807344
A46: 9 | B46: CIRCUITO DEL CUIDADO | C46: Elaboración de ficha tecnica apertura del circuito | D46: perfil nutricionista,odontologo y profesional en fisioterapia | E46: 1 | F46: 24 | G46: 3 | H46: 6107703 | I46: 34933 | J46: =IFERROR(I46*F46,"") -> 838392 | K46: =IFERROR(E46*F46*I46,"") -> 838392 | L46: 0 | M46: 0 | N46: 0 | O46: 0 | P46: 0 | Q46: 0 | R46: 0 | S46: =SUM(K46,R46) -> 838392
...

Sheet TABLA RESUMEN CUIDADORES
C1: ANEXO TABLA RESUMEN DE COSTOS DISPOSITIVOS DE ASISTENCIA PERSONAL -CUIDADORES 2025 FONDO DE DESARROLLO LOCAL DE TEUSAQUILLO
A5: ITEM | B5: COMPONENTES | D5: TOTAL FDL | E5: TOTAL SRNO | F5: TOTAL CONVENIO
A6: 1 | B6: ALISTAMIENTO
A7: 2 | B7: PROCESO TÉCNICO ADMINISTRATIVO DE CONTRATACIÓN DE PROVEEDORES
A8: 3 | B8: ETAPA DE CONVOCATORIA Y SOCIALIZACIÓN
A9: 4 | B9: PRESENTACIONES PÚBLICAS
A10: 5 | B10: ETAPA DE INSCRIPCIÓN
A11: 6 | B11: ETAPA DE IDENTIFICACIÓN DE NECESIDADES FUNCIONALES DE VULNERABILIDAD
B12: ETAPA DE PRESCRIPCION
A13: 7 | B13: COMPONENTE 1: FORTALECIMIENTO PARA EL EQUILIBRIO Y HABILIDADES PARA LA VIDA COTIDIANA
B14: COMPONENTE 2: REAPRENDIZAJE Y RESIGNIFICACION DE LA CONVIVENCIA
B15: COMPONENTE 3: PRACTICAS DE AUTONOMIA Y AUTOCUIDADO CON ANIMALES USO DEL AGUA, Y OTRAS TECNICAS FACILITADORAS
A16: 8 | B16: KIT
A17: 9 | B17: COMPONENTE 1: FORTALECIMIENTO PARA EL EQUILIBRIO Y HABILIDADES PARA LA VIDA COTIDIANA
B18: COMPONENTE 2: REAPRENDIZAJE Y RESIGNIFICACION DE LA CONVIVENCIA
B19: COMPONENTE 3: PRACTICAS DE AUTONOMIA Y AUTOCUIDADO CON ANIMALES USO DEL AGUA, Y OTRAS TECNICAS FACILITADORAS
A20: 10 | B20: COMPONENTE 1: FORTALECIMIENTO PARA EL EQUILIBRIO Y HABILIDADES PARA LA VIDA COTIDIANA
B21: COMPONENTE 2: REAPRENDIZAJE Y RESIGNIFICACION DE LA CONVIVENCIA
B22: COMPONENTE 3: PRACTICAS DE AUTONOMIA Y AUTOCUIDADO CON ANIMALES USO DEL AGUA, Y OTRAS TECNICAS FACILITADORAS
B23: TRANSPORTE
B24: REFRIGERIOS
B25: ALMUERZO
B26: RECORRIDOS
A27: 11 | B27: ACTIVIDADES ADMINISTRATIVAS
A28: 12 | B28: INFORMES
A29: 13 | B29: COMITÉS DE SEGUIMEINTO
A30: 14 | B30: SISTEMATIZACION DE LA INFORMACION
A31: 15 | B31: SERVICIO DE TRANSPORTE
A32: 16 | B32: COFINANCION TRANSVERSAL AL PROYECTO
A33: TOTAL GENERAL

Sheet TABLA RESUMEN SALUD SEXUAL 
B2: ANEXO TABLA RESUMEN DE ACCIONES Y ESTRATEGIAS PARA PROMOVER LA SALUD SEXUAL Y REPRODUCTIVA CONSCIENTE EN LOS DIFERENTES CICLOS DE VIDA
B3: FONDO DE DESARROLLO LOCAL DE TEUSAQUILLO
A5: ITEM | B5: COMPONENTES | C5: TOTAL FDL | D5: TOTAL SRNO | E5: TOTAL CONVENIO
A6: 1 | B6: ALISTAMIENTO
A7: 2 | B7: PROCESO TECNICO ADMINISTRATIVO DE CONTRATACION DE PROVEEDORES
A8: 3 | B8: CONVOCATORIA Y SOCIALIZACION
A9: 4 | B9: PRESENTACION PUBLICA COMUNIDAD GENERAL - PERSONAS INTERESADAS Y PRESENTACIONES ANTE LA JAL
A10: 5 | B10: INSCRIPCION
A11: 6 | B11: IDENTIFICACION DE NECESIDADES FUNCIONALES DE VULNERABILIDAD Y PRESCRIPCION
A12: 7 | B12: APROBACION
A13: 8 | B13: GESTION PARA LA ADQUISICION
A14: 9 | B14: ENTREGA Y ENTRENAMIENTO GRUPAL Y DOMICILIARIO
A15: 10 | B15: CANALIZACION
A16: 11 | B16: INFORMES
A17: 12 | B17: COMITÉS DE SEGUIMEINTO
... A19: 18 | B19: COFINANCION SUBRED INTEGRADA DE SERVICIOS DE SALUD NORTE E.S.E.
A20: TOTAL GENERAL | C20: =SUM(C6:C19) -> 0 | D20: =SUM(D6:D19) -> 0 | E20: =SUM(E6:E19) -> 0

Sheet TABLA RESUMEN SALUD SEXUAL  (2)
B2: ANEXO TABLA RESUMEN DE ACCIONES PARA LA PROMOCION Y ATENCION DE LA SALUD MENTAL
B3: FONDO DE DESARROLLO LOCAL DE TEUSAQUILLO
A5: ITEM | B5: COMPONENTES | C5: TOTAL FDL | D5: TOTAL SRNO | E5: TOTAL CONVENIO
A6: 1 | B6: ALISTAMIENTO
A7: 2 | B7: PROCESO TECNICO ADMINISTRATIVO DE CONTRATACION DE PROVEEDORES
A8: 3 | B8: CONVOCATORIA Y SOCIALIZACION
A9: 4 | B9: PRESENTACION PUBLICA COMUNIDAD GENERAL - PERSONAS INTERESADAS Y PRESENTACIONES ANTE LA JAL
A10: 5 | B10: INSCRIPCION
A11: 6 | B11: IDENTIFICACION DE NECESIDADES FUNCIONALES DE VULNERABILIDAD Y PRESCRIPCION
A12: 7 | B12: APROBACION
A13: 8 | B13: GESTION PARA LA ADQUISICION
A14: 9 | B14: ENTREGA Y ENTRENAMIENTO GRUPAL Y DOMICILIARIO
A15: 10 | B15: CANALIZACION
A16: 11 | B16: INFORMES
A17: 12 | B17: COMITÉS DE SEGUIMEINTO
... A19: 18 | B19: COFINANCION SUBRED INTEGRADA DE SERVICIOS DE SALUD NORTE E.S.E.
A20: TOTAL GENERAL | C20: =SUM(C6:C19) -> 0 | D20: =SUM(D6:D19) -> 0 | E20: =SUM(E6:E19) -> 0
