Workbook
Name _TRANS: [1]BASE!$D$134
Name AYUDA: [1]BASE!$D$14
Name AYUDR: [1]BASE!$D$15
Name CT210KG: [1]BASE!$D$41
Name CT245KG: [1]BASE!$D$40
Name MC4CM: [1]BASE!$D$1660
Name OFICI: [1]BASE!$D$13
Name PRESTA: [1]BASE!$D$10
Name q: IF([2]APU!$B1048576="","",IF(LEN([2]APU!$C1)=9,SUMIF([2]APU!$B:$B,[2]APU!$C1,[2]APU!#REF!)/2,IF([2]APU!$C1="","",IF(ISERROR(SEARCH("-",[2]APU!$C1,3)),VLOOKUP([2]APU!$C1,[3]Ins!$D:$J,7,0),""))))
Name q: IF([4]APU!$B1048576="","",IF(LEN([4]APU!$C1)=9,SUMIF([4]APU!$B:$B,[4]APU!$C1,[4]APU!#REF!)/2,IF([4]APU!$C1="","",IF(ISERROR(SEARCH("-",[4]APU!$C1,3)),VLOOKUP([4]APU!$C1,[3]Ins!$D:$J,7,0),""))))
Name RC_CANT_IT_APU: IFERROR(VLOOKUP([2]APU!$C1,'[3]10-Presupuesto'!$D:$LO,COLUMN(RC_CANT_TOTAL)-3,0),"")
Name RC_CANT_IT_APU: IFERROR(VLOOKUP([4]APU!$C1,'[3]10-Presupuesto'!$D:$LO,COLUMN(RC_CANT_TOTAL)-3,0),"")
Name RC_CANT_TOTAL: '[3]10-Presupuesto'!$CJ:$LO
Name RC_CD_DIR: '[3]10-Presupuesto'!$CL$127
Name RC_COL_AX_APU: IFERROR(VLOOKUP([2]APU!XDI1,[3]Ins!XDK:XDT,10,0)&" "&[2]APU!XDJ1,VLOOKUP([2]APU!XDI1,'[3]10-Presupuesto'!XDK:XDX,2,0))
Name RC_COL_AX_APU: IFERROR(VLOOKUP([4]APU!XDI1,[3]Ins!XDK:XDT,10,0)&" "&[4]APU!XDJ1,VLOOKUP([4]APU!XDI1,'[3]10-Presupuesto'!XDK:XDX,2,0))
Name RC_COL_AZ_APU: [2]APU!XDJ1*(1+[2]APU!XDK1)
Name RC_COL_AZ_APU: [4]APU!XDJ1*(1+[4]APU!XDK1)
Name RC_COL_L_APU: IFERROR(IF([2]APU!$C1="","",IF(VLOOKUP([2]APU!$C1,[3]Ins!$D:$M,10,0)="",LEFT([2]APU!$C1,1),VLOOKUP([2]APU!$C1,[3]Ins!$D:$M,10,0))),"")
Name RC_COL_L_APU: IFERROR(IF([4]APU!$C1="","",IF(VLOOKUP([4]APU!$C1,[3]Ins!$D:$M,10,0)="",LEFT([4]APU!$C1,1),VLOOKUP([4]APU!$C1,[3]Ins!$D:$M,10,0))),"")
Name RC_COL_N_APU: IFERROR(IF(ISERROR(SEARCH("-",[2]APU!$C1)),[2]APU!$F1*(1+[2]APU!$G1)*VLOOKUP([2]APU!$B1,'[3]10-Presupuesto'!$D:$CJ,COLUMN(RC_CANT_TOTAL)-COLUMN(RC_ITEMS)+1,0),""),"")
Name RC_COL_N_APU: IFERROR(IF(ISERROR(SEARCH("-",[4]APU!$C1)),[4]APU!$F1*(1+[4]APU!$G1)*VLOOKUP([4]APU!$B1,'[3]10-Presupuesto'!$D:$CJ,COLUMN(RC_CANT_TOTAL)-COLUMN(RC_ITEMS)+1,0),""),"")
Name RC_COL_P_APU: IF(LEN([2]APU!XEQ1)=2,[2]APU!A1048576,IF([2]APU!C1=[2]APU!C1048576,[2]APU!A1048576,IF([2]APU!C1="",[2]APU!A1048576,[2]APU!A1048576+1)))
Name RC_COL_P_APU: IF(LEN([4]APU!XEQ1)=2,[4]APU!A1048576,IF([4]APU!C1=[4]APU!C1048576,[4]APU!A1048576,IF([4]APU!C1="",[4]APU!A1048576,[4]APU!A1048576+1)))
Name RC_COL_Q_APU: IF([2]APU!B1<>"",IF([2]APU!B1=[2]APU!B1048576,[2]APU!A1048576,[2]APU!A1048576+1),[2]APU!A1048576)
Name RC_COL_Q_APU: IF([4]APU!B1<>"",IF([4]APU!B1=[4]APU!B1048576,[4]APU!A1048576,[4]APU!A1048576+1),[4]APU!A1048576)
Name RC_COL_S_APU: [2]APU!XFD1&[2]APU!XFC1
Name RC_COL_S_APU: [4]APU!XFD1&[4]APU!XFC1
Name RC_COL_T_APU: IF(OR(IF([2]APU!XFB1=[2]APU!XFB1048576,LEFT([2]APU!XEM1,1),"")="3",IF([2]APU!XFB1=[2]APU!XFB1048576,LEFT([2]APU!XEM1,1),"")="7"),"1",IF([2]APU!XFB1=[2]APU!XFB1048576,LEFT([2]APU!XEM1,1),""))
Name RC_COL_T_APU: IF(OR(IF([4]APU!XFB1=[4]APU!XFB1048576,LEFT([4]APU!XEM1,1),"")="3",IF([4]APU!XFB1=[4]APU!XFB1048576,LEFT([4]APU!XEM1,1),"")="7"),"1",IF([4]APU!XFB1=[4]APU!XFB1048576,LEFT([4]APU!XEM1,1),""))
Name RC_CON_HTA_APU: SUMIFS([2]APU!#REF!,[2]APU!$B:$B,[2]APU!$B1,[2]APU!#REF!,"2")
Name RC_CON_HTA_APU: SUMIFS([4]APU!#REF!,[4]APU!$B:$B,[4]APU!$B1,[4]APU!#REF!,"2")
Name RC_CT_TOT: '[3]10-Presupuesto'!$CL$130
Name RC_DESC_APU: IF(LEN([4]APU!$C1)=2,VLOOKUP([4]APU!$C1,'[3]10-Presupuesto'!$D:$CL,2,0),IF([4]APU!$B1="",IF([4]APU!$C1="",IF([4]APU!$B1048576="","",RC_DIRECTO_APU),""),RC_DESCRIPCION_APU))
Name RC_DESCRIPCION_APU: IF(ISERROR(SEARCH("-",[2]APU!$C1,3)),'PRESTACIONES SOCIALES'!RC_INSUMO,'PRESTACIONES SOCIALES'!RC_ITEM)
Name RC_DESCRIPCION_APU: IF(ISERROR(SEARCH("-",[4]APU!$C1,3)),RC_INSUMO,RC_ITEM)
Name RC_DIRECTO_APU: "COSTO DIRECTO: "&TEXT(ROUNDUP(SUMIF([2]APU!$B:$B,[2]APU!$B1048576,[2]APU!#REF!)/2,0),"$#,##0")&" / "&VLOOKUP([2]APU!$B1048576,'[3]10-Presupuesto'!$D:$F,3,0)
Name RC_DIRECTO_APU: "COSTO DIRECTO: "&TEXT(ROUNDUP(SUMIF([4]APU!$B:$B,[4]APU!$B1048576,[4]APU!#REF!)/2,0),"$#,##0")&" / "&VLOOKUP([4]APU!$B1048576,'[3]10-Presupuesto'!$D:$F,3,0)
Name RC_INSUMO: IF([2]APU!#REF!="",VLOOKUP([2]APU!$C1,[3]Ins!$D:$E,2,0),VLOOKUP([2]APU!$C1,[3]Ins!$D:$E,2,0)&" - "&[2]APU!#REF!)
Name RC_INSUMO: IF([4]APU!#REF!="",VLOOKUP([4]APU!$C1,[3]Ins!$D:$E,2,0),VLOOKUP([4]APU!$C1,[3]Ins!$D:$E,2,0)&" - "&[4]APU!#REF!)
Name RC_ITEM: VLOOKUP([2]APU!$C1,'[3]10-Presupuesto'!$D:$CK,2,0)
Name RC_ITEM: VLOOKUP([4]APU!$C1,'[3]10-Presupuesto'!$D:$CK,2,0)
Name RC_ITEMS: '[3]10-Presupuesto'!$D:$D
Name RC_IVA: [3]Parametros!$B$11
Name RC_MIN: [3]Parametros!$B$9
Name RC_PLAZO: '[3]10-Presupuesto'!$CM$2
Name RC_PROYECTO: [3]Parametros!$B$1
Name RC_TPTE_APU: SUMIFS([2]APU!D:D,[2]APU!F:F,"ok",[2]APU!XFA:XFA,[2]APU!XFA1)
Name RC_TPTE_APU: SUMIFS([4]APU!D:D,[4]APU!F:F,"ok",[4]APU!XFA:XFA,[4]APU!XFA1)
Name RC_UN_APU: IF(LEN([2]APU!$C1)=2,"",IF([2]APU!$C1="","",IF(ISERROR(SEARCH("-",[2]APU!$C1,3)),VLOOKUP([2]APU!$C1,[3]Ins!$D:$F,3,0),VLOOKUP([2]APU!$C1,'[3]10-Presupuesto'!$D:$CZ,3,0))))
Name RC_UN_APU: IF(LEN([4]APU!$C1)=2,"",IF([4]APU!$C1="","",IF(ISERROR(SEARCH("-",[4]APU!$C1,3)),VLOOKUP([4]APU!$C1,[3]Ins!$D:$F,3,0),VLOOKUP([4]APU!$C1,'[3]10-Presupuesto'!$D:$CZ,3,0))))
Name RC_VR_CON_IVA: ([2]MATERIALES!$G1+[2]MATERIALES!$H1)*(1+[2]MATERIALES!$I1)
Name RC_VR_CON_IVA: ([4]MATERIALES!$G1+[4]MATERIALES!$H1)*(1+[4]MATERIALES!$I1)
Name RC_VR_SIN_IVA: SUMIF([5]Aux!$A:$A,[2]MATERIALES!#REF!,[5]Aux!$H:$H)/2
Name RC_VR_SIN_IVA: SUMIF([5]Aux!$A:$A,[4]MATERIALES!#REF!,[5]Aux!$H:$H)/2
Name RC_VR_TOT_APU: IF([2]APU!$E1="","",IF([2]APU!$C1=[2]APU!$B1,ROUND(SUMIF([2]APU!XEX2:XEX96,[2]APU!$B1,[2]APU!A2:A96),0),[2]APU!$F1*[2]APU!$H1*(1+[2]APU!$G1)))
Name RC_VR_TOT_APU: IF([4]APU!$E1="","",IF([4]APU!$C1=[4]APU!$B1,ROUND(SUMIF([4]APU!XEX2:XEX96,[4]APU!$B1,[4]APU!A2:A96),0),[4]APU!$F1*[4]APU!$H1*(1+[4]APU!$G1)))
Name RC_VR_UN_APU: IF([2]APU!$B1048576="","",IF(LEN([2]APU!$C1)=9,SUMIF([2]APU!$B:$B,[2]APU!$C1,[2]APU!#REF!)/2,IF([2]APU!$C1="","",IF(ISERROR(SEARCH("-",[2]APU!$C1,3)),VLOOKUP([2]APU!$C1,[3]Ins!$D:$J,7,0),""))))
Name RC_VR_UN_APU: IF([4]APU!$B1048576="","",IF(LEN([4]APU!$C1)=9,SUMIF([4]APU!$B:$B,[4]APU!$C1,[4]APU!#REF!)/2,IF([4]APU!$C1="","",IF(ISERROR(SEARCH("-",[4]APU!$C1,3)),VLOOKUP([4]APU!$C1,[3]Ins!$D:$J,7,0),""))))

Sheet PRESUPUESTO GAVIONES
B2: PRESUPUESTO PARA LA CONSTRUCCIÓN DE GAVIONES EN EL MUNICIPIO DE GÓMEZ PLATA
B3: FECHA: JULIO DE 2026 | D3: MUNICIPIO DE GOMEZ PLATA, ANTIOQUIA
B4: ITEM | C4: DESCRIPCION | D4: UNIDAD | E4: CANTIDAD | F4: PRECIO UNITARIO | G4: PRECIO TOTAL | H4: SALIDA AL CERRO | I4: BAYADERA | J4: EL POBLADO | L4: SALIDA AL CERRO | M4: BAYADERA | N4: EL POBLADO
B5: 1 | C5: PRELIMINARES Y MOVIMIENTO DE TIERRAS | F5: Subtotal | G5: =SUM(G6:G9) -> 19650143 | H5: =SUM(H6:H9) -> 15681002 | I5: =SUM(I6:I9) -> 3461304.4 | J5: =SUM(J6:J9) -> 507836.63
B6: 1.1 | C6: =+'APU''S'!B3 -> EXPLANACIÓN Y NIVELACIÓN del terreno manualmente, bajo cualquier grado de humedad, incluye corte de taludes, terraceos y desplantes requeridos según planos y/o definidos por la interventoría o supervisión. Medido in situ. Incluye cargue y transporte interno. No incluye botadero. | D6: m3 | E6: =L6+M6+N6 -> 57 | F6: =+'APU''S'!F19:G19 -> 56370.807 | G6: =+F6*E6 -> 3213136 | H6: =L6*$F$6 -> 2536686.3 | I6: =M6*$F$6 -> 507337.26 | J6: =N6*$F$6 -> 169112.42 | L6: =45*0.5*2 -> 45 | M6: =9*0.5*2 -> 9 | N6: =3*0.5*2 -> 3
B7: 1.2 | C7: =+'APU''S'!B22 -> CARGUE, transporte y botada de MATERIAL PROVENIENTE DE LAS EXPLANACIONES, EXCAVACIONES Y VOLADURAS DE ROCA. Incluye transportes internos, paleros, derecho de botadero. Se debe hacer en botaderos oficiales autorizados por la entidad competente o hasta el sitio que indique la interventoría. Su medida será en sitio. | D7: m3 | E7: =L7+M7+N7 -> 74.1 | F7: =+'APU''S'!F37:G37 -> 53555.887 | G7: =+F7*E7 -> 3968491.2 | H7: =L7*$F$7 -> 3133019.4 | I7: =M7*$F$7 -> 626603.87 | J7: =N7*$F$7 -> 208867.96 | L7: =L6*1.3 -> 58.5 | M7: =+M6*1.3 -> 11.7 | N7: =+N6*1.3 -> 3.9
B8: 1.3 | C8: =+'APU''S'!B40 -> LLENOS EN MATERIAL PROVENIENTES DE LA EXCAVACIÓN, compactados mecánica o manualmente hasta obtener una densidad del 95% de la máxima obtenida en el ensayo del próctor modificado. Incluye transporte interno. Su medida será en sitio ya compactado. | D8: m3 | E8: =L8+M8+N8 -> 163.25 | F8: =+'APU''S'!F57:G57 -> 64928.124 | G8: =+F8*E8 -> 10599516 | H8: =L8*$F$8 -> 8765296.8 | I8: =M8*$F$8 -> 1704363.3 | J8: =N8*$F$8 -> 129856.25 | L8: =45*3 -> 135 | M8: =(12+9)*2.5*0.5 -> 26.25 | N8: =2*1*1 -> 2
B9: 1.4 | C9: Constriccion de estructuras para el control de aguas en areas aferentes al proyecto (ataguías, tablestacas, cajones y bombeo para trabajo en seco), altura maxima 1,50 m; Incluye todo lo necesario para su correcta instalacion y funcionamiento. | D9: ml | E9: =L9+M9+N9 -> 30 | F9: 62300 | G9: =+F9*E9 -> 1869000 | H9: =L9*$F$9 -> 1246000 | I9: =M9*$F$9 -> 623000 | J9: =N9*$F$9 -> 0 | L9: 20 | M9: 10
B10: 2 | C10: GAVIONES Y ESTRUCTURAS AUXILIARES | F10: Subtotal | G10: =+G11+G12+G13+G14+G15 -> 2.188756e+08 | H10: =+H11+H12+H13+H14+H15 -> 1.8938483e+08 | I10: =+I11+I12+I13+I14+I15 -> 22189105 | J10: =+J11+J12+J13+J14+J15 -> 7301668.2
B11: 2.1 | C11: =+'APU''S'!B82 -> Construcción de muro de contención tipo Gavione de Alambre de Acero entrelazado triple con ojo de 80 mm de ancho y 100 mm de alto, con diafragma cada 2,00 m, tirantes verticales en cada diafragma y tirantes horizontales en los gabiones de borde con roca entre 100 y 200 mm. Incluye todos los demas materiales necesarios para su correcta instalación y funcionamiento. | D11: m3 | E11: =+L11+M11+N11 -> 271 | F11: =+'APU''S'!F101:G101 -> 460015.52 | G11: =+F11*E11 -> 1.246642e+08 | H11: =L11*$F$11 -> 1.0810365e+08 | I11: =M11*$F$11 -> 12420419 | J11: =N11*$F$11 -> 4140139.6 | L11: =(45*2*1)+(45*2*1)+(45*1)+(10*1*1) -> 235 | M11: =(9*2*1)+(9*1*1) -> 27 | N11: =(3*2*1)+(3*1*1) -> 9
B12: 2.2 | C12: =+'APU''S'!B104 -> Instalación de GEOTEXTIL NT 2500. para filtro o equivalente. Incluye suministro y transporte de los materiales, traslapos y todos los elementos necesarios para su correcta instalación y funcionamiento. Según diseño del filtro. | D12: m2 | E12: =+L12+M12+N12 -> 187.5 | F12: =+'APU''S'!F120:G120 -> 15297.147 | G12: =+F12*E12 -> 2868215.1 | H12: =L12*$F$12 -> 2409300.7 | I12: =M12*$F$12 -> 344185.82 | J12: =N12*$F$12 -> 114728.61 | L12: =3.5*45 -> 157.5 | M12: =9*2.5 -> 22.5 | N12: =3*2.5 -> 7.5 | Q12: llave el cerro
B13: 2.3 | C13: Suministro, transporte e instalacion de Concreto 3000 PSI (21 Mpa) para revestimiento de gaviones y estructuras auxiliares. Incluye todo lo necesario para su correcta instalacion. | D13: m3 | E13: =+L13+M13+N13+O13+P13+Q13 -> 64.154 | F13: 947000 | G13: =+F13*E13 -> 60753838 | H13: =(L13+O13+P13+Q13)*$F$13 -> 51378538 | I13: =M13*$F$13 -> 7102500 | J13: =N13*$F$13 -> 2272800 | L13: =7*45*0.1 -> 31.5 | M13: =5*15*0.1 -> 7.5 | N13: =4*6*0.1 -> 2.4 | O13: =11.8*2.5*0.1 -> 2.95 | P13: =4.1*2.2*0.2 -> 1.804 | Q13: =(2*1*3)*3 -> 18
B14: 2.4 | C14: Suministro, transporte e instalacion de Concreto Ciclopeo 40/60 para sobrecimiento de gaviones y esrtucturas auxiliares. Incluye todo lo necesario para su correcta instalacion. | D14: m3 | E14: =+L14+M14+N14+O14 -> 40.5 | F14: 645000 | G14: =+F14*E14 -> 26122500 | H14: =(L14+O14)*$F$14 -> 23026500 | I14: =M14*$F$14 -> 2322000 | J14: =N14*$F$14 -> 774000 | L14: =45*0.2*2 -> 18 | M14: =9*0.2*2 -> 3.6 | N14: =3*0.2*2 -> 1.2 | O14: =11.8*2.5*0.6 -> 17.7
B15: 2.5 | C15: Suministro, transporte e instalacion de acero de refuerzo corrugado Fy = 420. Incluye transporte, figurado e instalacion | D15: Kg | E15: =+C30*3 -> 479.2752 | F15: 9320 | G15: =+F15*E15 -> 4466844.9 | H15: =F15*E15 -> 4466844.9
B16: COSTO DIRECTO | G16: =+G10+G5 -> 2.3852575e+08 | H16: =SUM(H5:H15)/2 -> 2.0506583e+08 | I16: =SUM(I5:I15)/2 -> 25650409 | J16: =SUM(J5:J15)/2 -> 7809504.9
E17: Administración | F17: =AU!E70 -> 0.28892432 | G17: =G16*F17 -> 68915890 | H17: =$F$17*H16 -> 59248507 | I17: =$F$17*I16 -> 7411027.1 | J17: =$F$17*J16 -> 2256355.9
E18: Utilidad | F18: =+AU!E71 -> 0.05 | G18: =G16*F18 -> 11926287 | H18: =$F$18*H16 -> 10253292 | I18: =$F$18*I16 -> 1282520.5 | J18: =$F$18*J16 -> 390475.24
E19: COSTO TOTAL | G19: =G18+G17+G16 -> 3.1936792e+08 | H19: =SUM(H16:H18) -> 2.7456763e+08 | I19: =SUM(I16:I18) -> 34343957 | J19: =SUM(J16:J18) -> 10456336
G22: 3.0436792e+08 | H22: =H19+I19+J19 -> 3.1936792e+08 | J22: =+J19+I19 -> 44800293
G23: 3.0436792e+08
C26: ACERO
C27: =36*2*0.996 -> 71.712
C28: =10*8*0.996 -> 79.68 | F28: Salida al cerro
C29: =7*1.2*0.996 -> 8.3664 | F29: Bayadera
C30: =SUM(C27:C29) -> 159.7584 | F30: El poblado

Sheet APU'S
B2: ANALISIS DE PRECIOS UNITARIOS
B3: EXPLANACIÓN Y NIVELACIÓN del terreno manualmente, bajo cualquier grado de humedad, incluye corte de taludes, terraceos y desplantes requeridos según planos y/o definidos por la interventoría o supervisión. Medido in situ. Incluye cargue y transporte interno. No incluye botadero. | F3: No. Item | G3: Unidad
F4: 1.1 | G4: m3
B5: Clave | C5: Materiales | D5: Unidad | E5: Cantidad | F5: V/Unitario | G5: V/Total
B6: COSTALES FIBRA | C6: Costales fibra | D6: und | E6: 4 | F6: 2304 | G6: =+F6*E6 -> 9216
B7: Importe de Materiales | F7: SUBTOTAL | G7: =SUM(G6:G6) -> 9216
B8: Clave | C8: Mano de Obra | D8: Unidad | E8: Cantidad | F8: V/Unitario | G8: V/Total
B9: 1OFICIAL-1 AYUDANTE ON | C9: 1 oficial - 1 ayudante O.N. | D9: jor | E9: 0.128 | F9: =+'PRESTACIONES SOCIALES'!AE22+'PRESTACIONES SOCIALES'!AE24 -> 297279.74 | G9: =+F9*E9 -> 38051.807
B10: Importe de Mano de Obra | F10: SUBTOTAL | G10: =G9 -> 38051.807
B11: Clave | C11: Herramienta | D11: Unidad | E11: Cantidad | F11: V/Unitario | G11: V/Total
B12: HERRAMIENTA MENOR | C12: Herramienta menor | D12: (%)mo | E12: 0.05 | F12: =G10 -> 38051.807 | G12: =ROUND(F12*E12,0) -> 1903
B13: Importe de Herramienta | F13: SUBTOTAL | G13: =G12 -> 1903
B14: Clave | C14: Equipo | D14: Unidad | E14: Cantidad | F14: V/Unitario | G14: V/Total
B15: Importe de Equipo | F15: SUBTOTAL | G15: 0
B16: Clave | C16: Auxiliares | D16: Unidad | E16: Cantidad | F16: V/Unitario | G16: V/Total
B17: ACARREO INT MAT (M3) | C17: Acarreo interno de materiales | D17: Viaje | E17: 0.08 | F17: 90000 | G17: =ROUND(F17*E17,0) -> 7200
B18: Importe de Auxiliares | F18: SUBTOTAL | G18: =+G17 -> 7200
B19: P R E C I O U N I T A R I O | F19: =+G18+G15+G13+G10+G7 -> 56370.807
B21: ANALISIS DE PRECIOS UNITARIOS
B22: CARGUE, transporte y botada de MATERIAL PROVENIENTE DE LAS EXPLANACIONES, EXCAVACIONES Y VOLADURAS DE ROCA. Incluye transportes internos, paleros, derecho de botadero. Se debe hacer en botaderos oficiales autorizados por la entidad competente o hasta el sitio que indique la interventoría. Su medida será en sitio. | F22: No. Item | G22: Unidad
F23: 1.2 | G23: m3
B24: Clave | C24: Materiales | D24: Unidad | E24: Cantidad | F24: V/Unitario | G24: V/Total
B25: Importe de Materiales | F25: SUBTOTAL | G25: 0
B26: Clave | C26: Mano de Obra | D26: Unidad | E26: Cantidad | F26: V/Unitario | G26: V/Total
B27: 1OFICIAL-1 AYUDANTE O.N. | C27: 1 oficial - 1 ayudante O.N. | D27: jor | E27: 0.125 | F27: =+'PRESTACIONES SOCIALES'!AE45+'PRESTACIONES SOCIALES'!AE47 -> 322327.09 | G27: =+F27*E27 -> 40290.887
B28: Importe de Mano de Obra | F28: SUBTOTAL | G28: =G27 -> 40290.887
B29: Clave | C29: Herramienta | D29: Unidad | E29: Cantidad | F29: V/Unitario | G29: V/Total
B30: HERRAMIENTA MENOR | C30: Herramienta menor | D30: (%)mo | E30: 0.05 | F30: =G28 -> 40290.887 | G30: =ROUND(F30*E30,0) -> 2015
B31: Importe de Herramienta | F31: SUBTOTAL | G31: =G30 -> 2015
B32: Clave | C32: Equipo | D32: Unidad | E32: Cantidad | F32: V/Unitario | G32: V/Total
B33: Importe de Equipo | F33: SUBTOTAL | G33: 0
B34: Clave | C34: Auxiliares | D34: Unidad | E34: Cantidad | F34: V/Unitario | G34: V/Total
B35: ACARREO INT MAT (M3) | C35: Acarreo interno de materiales | D35: Viaje | E35: 0.125 | F35: 90000 | G35: =ROUND(F35*E35,0) -> 11250
B36: Importe de Auxiliares | F36: SUBTOTAL | G36: =+G35 -> 11250
B37: P R E C I O U N I T A R I O | F37: =+G36+G33+G31+G28+G25 -> 53555.887
B39: ANALISIS DE PRECIOS UNITARIOS
B40: LLENOS EN MATERIAL PROVENIENTES DE LA EXCAVACIÓN, compactados mecánica o manualmente hasta obtener una densidad del 95% de la máxima obtenida en el ensayo del próctor modificado. Incluye transporte interno. Su medida será en sitio ya compactado. | F40: No. Item | G40: Unidad
F41: 1.3 | G41: m3
B42: Clave | C42: Materiales | D42: Unidad | E42: Cantidad | F42: V/Unitario | G42: V/Total
B43: Importe de Materiales | F43: SUBTOTAL | G43: 0
...

Sheet SUBANALISIS
B2: CONCRETO21 Mpa
B3: DESCRIPCIÓN | C3: UNIDAD | D3: CANTIDAD | E3: VR. UNITARIO | F3: VR. TOTAL
B4: Cemento gris 50 kg portland tipo 1 | C4: blt | D4: 7.8 | E4: 38800 | F4: =+E4*D4 -> 302640
B5: Arena | C5: m3 | D5: 0.65 | E5: 125000 | F5: =+E5*D5 -> 81250
B6: Triturado 3/4" | C6: m3 | D6: 0.9 | E6: 160000 | F6: =+E6*D6 -> 144000
B7: Agua | C7: lt | D7: 170 | E7: =4381.92/1000 -> 4.38192 | F7: =+E7*D7 -> 744.9264
B8: cuadrilla 1 oficial + 1 ayudante | C8: jor | D8: 0.6625 | E8: =+'PRESTACIONES SOCIALES'!AE22+'PRESTACIONES SOCIALES'!AE24 -> 297279.74 | F8: =+E8*D8 -> 196947.83
B9: Transporte interno de materiales | C9: m3/k | D9: 1.03 | E9: 53120 | F9: =+E9*D9 -> 54713.6
B10: Herramienta y equipo menor | C10: % | D10: 0.05 | E10: =+F8 -> 196947.83 | F10: =+E10*D10 -> 9847.3914
B11: TOTAL COSTO DIRECTO (m3) | F11: =SUM(F4:F10) -> 790143.75
B13: SUB-ANALISIS MORTERO 1:4
B14: DESCRIPCIÓN | C14: UNIDAD | D14: CANTIDAD | E14: VR. UNITARIO | F14: VR. TOTAL
B15: Cemento gris 50 kg portland tipo 1 | C15: kg | D15: 7.25 | E15: =E4 -> 38800 | F15: =+E15*D15 -> 281300
B16: Arena de pega | C16: m3 | D16: 1.16 | E16: =E5 -> 125000 | F16: =+E16*D16 -> 145000
B17: Triturado 3/4" | C17: m3 | D17: 0 | E17: =E6 -> 160000 | F17: =+E17*D17 -> 0
B18: Agua | C18: lt | D18: 240 | E18: =4381.92/1000 -> 4.38192 | F18: =+E18*D18 -> 1051.6608
B19: cuadrilla 1 oficial + 1 ayudante | C19: jor | D19: 0.14 | E19: =+'PRESTACIONES SOCIALES'!AE22+'PRESTACIONES SOCIALES'!AE24 -> 297279.74 | F19: =+E19*D19 -> 41619.164
B20: Transporte interno de materiales | C20: m3/k | D20: 1.03 | E20: 53120 | F20: =+E20*D20 -> 54713.6
B21: Herramienta y equipo menor | C21: % | D21: 0.05 | E21: =+F19 -> 41619.164 | F21: =+E21*D21 -> 2080.9582
B22: TOTAL COSTO DIRECTO (m3) | F22: =SUM(F15:F21) -> 525765.38

Sheet PRESTACIONES SOCIALES
A1: ANÁLISIS DETALLADO DEL PORCENTAJE DE PRESTACIONES SOCIALES PERSONAL DE OBRA
AA2: ANÁLISIS DE CUADRILLA
A3: SALARIO MÍNIMO | G3: 2. MAYOR AL SMMLV Y MENOS DE 2 SMMLV | L3: 3. MAYOR A 2 SMMLV | Q3: 4. OFICIALES | V3: 5. PROFESIONALES | AA3: CUADRILLA 1. ESTRUCTURAS | AB3: SALARIO BASE | AC3: VALOR DÍA | AD3: F.P. | AE3: VR. DÍA + F.P. | AF3: CANT | AG3: VR. MES
A4: SALARIO | AA4: Oficial 1 Estructuras | AB4: =R6*1.1 -> 4044590.6 | AC4: =AB4/30 -> 134819.68 | AD4: =1+$T$27 -> 1.6349 | AE4: =AC4*AD4 -> 220416.7 | AF4: 1 | AG4: =AE4*30*AF4 -> 6612501.1
A5: S.M.M.L.V. 2023 | B5: 1750905 | C5: =B5 -> 1750905 | D5: =C5*12 -> 21010860 | E5: =ROUND((C8/D8),4) -> 0.0833 | G5: =C5 -> 1750905 | H5: =G5 -> 1750905 | I5: =H5*12 -> 21010860 | J5: =ROUND((H8/I8),4) -> 0.0833 | L5: =H5 -> 1750905 | M5: =L5 -> 1750905 | N5: =M5*12 -> 21010860 | O5: =ROUND((M8/N8),4) -> 0.0833 | Q5: =M5 -> 1750905 | R5: =Q5 -> 1750905 | S5: =R5*12 -> 21010860 | T5: =ROUND((R8/S8),4) -> 0.0833 | V5: =R5 -> 1750905 | W5: =V5 -> 1750905 | X5: =W5*12 -> 21010860 | Y5: =ROUND((W8/X8),4) -> 0.0833 | AA5: Ayudante Entendido | AB5: =H6 -> 2626357.5 | AC5: =AB5/30 -> 87545.25 | AD5: =1+$J$27 -> 1.6526 | AE5: =AC5*AD5 -> 144677.28 | AF5: 1 | AG5: =AE5*30*AF5 -> 4340318.4
G6: =G5*1.5 -> 2626357.5 | H6: =G6 -> 2626357.5 | I6: =H6*12 -> 31516290 | L6: =L5*2 -> 3501810 | M6: =L6 -> 3501810 | N6: =M6*12 -> 42021720 | Q6: =Q5*2.1 -> 3676900.5 | R6: =Q6 -> 3676900.5 | S6: =R6*12 -> 44122806 | V6: =V5*5 -> 8754525 | W6: =V6 -> 8754525 | X6: =W6*12 -> 105054300 | AA6: Ayudante Raso | AB6: =C5 -> 1750905 | AC6: =AB6/30 -> 58363.5 | AD6: =1+$E$27 -> 1.6603 | AE6: =AC6*AD6 -> 96900.919 | AF6: 0 | AG6: =AE6*30*AF6 -> 0
A7: SUBSIDIO TRANSPORTE MENSUAL | B7: 249095 | C7: =B7 -> 249095 | D7: =C7*12 -> 2989140 | G7: =C7 -> 249095 | H7: =G7 -> 249095 | I7: =H7*12 -> 2989140 | M7: =L7 -> 0 | N7: =M7*12 -> 0 | R7: =Q7 -> 0 | S7: =R7*12 -> 0 | W7: =V7 -> 0 | X7: =W7*12 -> 0 | AA7: TOTAL MES CUADRILLA | AG7: =SUM(AG4:AG6) -> 10952819
A8: TOTAL SALARIO | B8: =SUM(B5:B7) -> 2000000 | C8: =SUM(C5:C7) -> 2000000 | D8: =SUM(D5:D7) -> 24000000 | G8: =SUM(G5:G7) -> 4626357.5 | H8: =SUM(H6:H7) -> 2875452.5 | I8: =SUM(I6:I7) -> 34505430 | L8: =SUM(L6:L7) -> 3501810 | M8: =SUM(M6:M7) -> 3501810 | N8: =SUM(N6:N7) -> 42021720 | Q8: =SUM(Q6:Q7) -> 3676900.5 | R8: =SUM(R6:R7) -> 3676900.5 | S8: =SUM(S6:S7) -> 44122806 | V8: =SUM(V6:V7) -> 8754525 | W8: =SUM(W6:W7) -> 8754525 | X8: =SUM(X6:X7) -> 105054300 | AA8: TOTAL DÍA CUADRILLA | AG8: =AG7/30 -> 365093.98
A9: DOTACIÓN PROMEDIO | C9: BASE: | D9: SALARIO + TTE | H9: BASE: | I9: SALARIO + TTE | M9: BASE: | N9: SALARIO + TTE | R9: BASE: | S9: SALARIO + TTE | W9: BASE: | X9: SALARIO + TTE | AA9: CUADRILLA 2. FONTANERÍA Y URBANISMO, ESTRUCTURA METÁLICA | AB9: SALARIO BASE | AC9: VALOR DÍA | AD9: F.P. | AE9: VR. DÍA + F.P. | AF9: CANT | AG9: VR. MES
A10: Ropa de trabajo | C10: 84990 | D10: =C10*3 -> 254970 | E10: =ROUND((D12/D8),4) -> 0.0254 | H10: 84990 | I10: =H10*3 -> 254970 | J10: =ROUND((I12/I8),4) -> 0.0177 | M10: 84990 | N10: =M10*3 -> 254970 | O10: =ROUND((N12/N8),4) -> 0.0145 | S10: =R10*3 -> 0 | T10: =ROUND((S12/S8),4) -> 0 | X10: =W10*3 -> 0 | Y10: =ROUND((X12/X8),4) -> 0 | AA10: Oficial 2 Fontanería y Urbanismo | AB10: =R6*1.075 -> 3952668 | AC10: =AB10/30 -> 131755.6 | AD10: =1+$T$27 -> 1.6349 | AE10: =AC10*AD10 -> 215407.23 | AF10: 1 | AG10: =AE10*30*AF10 -> 6462217
A11: Calzado | C11: 118047.6 | D11: =C11*3 -> 354142.8 | H11: 118047.6 | I11: =H11*3 -> 354142.8 | M11: 118047.6 | N11: =M11*3 -> 354142.8 | S11: =R11*3 -> 0 | X11: =W11*3 -> 0 | AA11: Ayudante Entendido | AB11: =H6 -> 2626357.5 | AC11: =AB11/30 -> 87545.25 | AD11: =1+$J$27 -> 1.6526 | AE11: =AC11*AD11 -> 144677.28 | AF11: 0 | AG11: =AE11*30*AF11 -> 0
A12: TOTAL DOTACIÓN | D12: =SUM(D10:D11) -> 609112.8 | I12: =SUM(I10:I11) -> 609112.8 | N12: =SUM(N10:N11) -> 609112.8 | S12: =SUM(S10:S11) -> 0 | X12: =SUM(X10:X11) -> 0 | AA12: Ayudante Raso | AB12: =C5 -> 1750905 | AC12: =AB12/30 -> 58363.5 | AD12: =1+$E$27 -> 1.6603 | AE12: =AC12*AD12 -> 96900.919 | AF12: 1 | AG12: =AE12*30*AF12 -> 2907027.6
A13: SEGURIDAD SOCIAL | C13: BASE: | D13: SALARIO | H13: BASE: | I13: SALARIO | M13: BASE: | N13: SALARIO | R13: BASE: | S13: SALARIO | W13: BASE: | X13: SALARIO | AA13: TOTAL MES CUADRILLA | AG13: =SUM(AG10:AG12) -> 9369244.5
A14: Salud | B14: 0.085 | C14: =C$5*B14 -> 148826.93 | D14: =D$5*B14 -> 1785923.1 | E14: =ROUND((C14/C5),4) -> 0.085 | G14: 0.085 | H14: =H$6*G14 -> 223240.39 | I14: =I$6*G14 -> 2678884.7 | J14: =ROUND((H14/H6),4) -> 0.085 | L14: 0.085 | M14: =M$6*L14 -> 297653.85 | N14: =N$6*L14 -> 3571846.2 | O14: =ROUND((M14/M6),4) -> 0.085 | Q14: 0.085 | R14: =R$6*Q14 -> 312536.54 | S14: =S$6*Q14 -> 3750438.5 | T14: =ROUND((R14/R6),4) -> 0.085 | V14: 0.085 | W14: =W$6*V14 -> 744134.62 | X14: =X$6*V14 -> 8929615.5 | Y14: =ROUND((W14/W6),4) -> 0.085 | AA14: TOTAL DÍA CUADRILLA | AG14: =AG13/30 -> 312308.15
A15: Pensión | B15: 0.12 | C15: =C$5*B15 -> 210108.6 | D15: =D$5*B15 -> 2521303.2 | E15: =ROUND((C15/C5),4) -> 0.12 | G15: 0.12 | H15: =H$6*G15 -> 315162.9 | I15: =I$6*G15 -> 3781954.8 | J15: =ROUND((H15/H6),4) -> 0.12 | L15: 0.12 | M15: =M$6*L15 -> 420217.2 | N15: =N$6*L15 -> 5042606.4 | O15: =ROUND((M15/M6),4) -> 0.12 | Q15: 0.12 | R15: =R$6*Q15 -> 441228.06 | S15: =S$6*Q15 -> 5294736.7 | T15: =ROUND((R15/R6),4) -> 0.12 | V15: 0.12 | W15: =W$6*V15 -> 1050543 | X15: =X$6*V15 -> 12606516 | Y15: =ROUND((W15/W6),4) -> 0.12 | AA15: CUADRILLA 3. ELÉCTRICA | AB15: SALARIO BASE | AC15: VALOR DÍA | AD15: F.P. | AE15: VR. DÍA + F.P. | AF15: CANT | AG15: VR. MES
A16: ARL | B16: 0.0696 | C16: =C$5*B16 -> 121862.99 | D16: =D$5*B16 -> 1462355.9 | E16: =ROUND((C16/C5),4) -> 0.0696 | G16: 0.0696 | H16: =H$6*G16 -> 182794.48 | I16: =I$6*G16 -> 2193533.8 | J16: =ROUND((H16/H6),4) -> 0.0696 | L16: 0.0696 | M16: =M$6*L16 -> 243725.98 | N16: =N$6*L16 -> 2924711.7 | O16: =ROUND((M16/M6),4) -> 0.0696 | Q16: 0.0696 | R16: =R$6*Q16 -> 255912.27 | S16: =S$6*Q16 -> 3070947.3 | T16: =ROUND((R16/R6),4) -> 0.0696 | V16: 0.0696 | W16: =W$6*V16 -> 609314.94 | X16: =X$6*V16 -> 7311779.3 | Y16: =ROUND((W16/W6),4) -> 0.0696 | AA16: Oficial 3 Eléctrico | AB16: =R6*1.075 -> 3952668 | AC16: =AB16/30 -> 131755.6 | AD16: =1+$T$27 -> 1.6349 | AE16: =AC16*AD16 -> 215407.23 | AF16: 1 | AG16: =AE16*30*AF16 -> 6462217
A17: PARAFISCALES | C17: BASE: | D17: SALARIO | H17: BASE: | I17: SALARIO | M17: BASE: | N17: SALARIO | R17: BASE: | S17: SALARIO | W17: BASE: | X17: SALARIO | AA17: Ayudante Entendido | AB17: =H6 -> 2626357.5 | AC17: =AB17/30 -> 87545.25 | AD17: =1+$J$27 -> 1.6526 | AE17: =AC17*AD17 -> 144677.28 | AF17: 1 | AG17: =AE17*30*AF17 -> 4340318.4
A18: Sena | B18: 0 | D18: =D$5*B18 -> 0 | E18: =ROUND((C18/C5),4) -> 0 | G18: 0 | I18: =I$5*G18 -> 0 | J18: =ROUND((H18/H5),4) -> 0 | L18: 0 | N18: =N$5*L18 -> 0 | O18: =ROUND((M18/M5),4) -> 0 | Q18: 0 | S18: =S$5*Q18 -> 0 | T18: =ROUND((R18/R5),4) -> 0 | V18: 0 | X18: =X$5*V18 -> 0 | Y18: =ROUND((W18/W5),4) -> 0 | AA18: Ayudante Raso | AB18: =C5 -> 1750905 | AC18: =AB18/30 -> 58363.5 | AD18: =1+$E$27 -> 1.6603 | AE18: =AC18*AD18 -> 96900.919 | AF18: 0 | AG18: =AE18*30*AF18 -> 0
A19: I.C.B.F. | B19: 0 | D19: =D$5*B19 -> 0 | E19: =ROUND((C19/C5),4) -> 0 | G19: 0 | I19: =I$5*G19 -> 0 | J19: =ROUND((H19/H5),4) -> 0 | L19: 0 | N19: =N$5*L19 -> 0 | O19: =ROUND((M19/M5),4) -> 0 | Q19: 0 | S19: =S$5*Q19 -> 0 | T19: =ROUND((R19/R5),4) -> 0 | V19: 0 | X19: =X$5*V19 -> 0 | Y19: =ROUND((W19/W5),4) -> 0 | AA19: TOTAL MES CUADRILLA | AG19: =SUM(AG16:AG18) -> 10802535
A20: Caja de Compensación | B20: 0.04 | C20: =C$5*B20 -> 70036.2 | D20: =D$5*B20 -> 840434.4 | E20: =ROUND((C20/C5),4) -> 0.04 | G20: 0.04 | H20: =H$6*G20 -> 105054.3 | I20: =I$6*G20 -> 1260651.6 | J20: =ROUND((H20/H6),4) -> 0.04 | L20: 0.04 | M20: =M$6*L20 -> 140072.4 | N20: =N$6*L20 -> 1680868.8 | O20: =ROUND((M20/M6),4) -> 0.04 | Q20: 0.04 | R20: =R$6*Q20 -> 147076.02 | S20: =S$6*Q20 -> 1764912.2 | T20: =ROUND((R20/R6),4) -> 0.04 | V20: 0.04 | W20: =W$6*V20 -> 350181 | X20: =X$6*V20 -> 4202172 | Y20: =ROUND((W20/W6),4) -> 0.04 | AA20: TOTAL DÍA CUADRILLA | AG20: =AG19/30 -> 360084.51
A21: PRESTACIONES SOCIALES | C21: BASE: | D21: SALARIO + TTE | H21: BASE: | I21: SALARIO + TTE | M21: BASE: | N21: SALARIO + TTE | R21: BASE: | S21: SALARIO + TTE | W21: BASE: | X21: SALARIO + TTE | AA21: CUADRILLA 4. OBRA NEGRA (Cerramientos, morteros, colocación grouting) | AB21: SALARIO BASE | AC21: VALOR DÍA | AD21: F.P. | AE21: VR. DÍA + F.P. | AF21: CANT | AG21: VR. MES
A22: Prima anual | B22: 30 | D22: =B22*C8/360 -> 166666.67 | E22: =D22/C8 -> 0.083333333 | G22: 30 | I22: =G22*H8/360 -> 239621.04 | J22: =I22/H8 -> 0.083333333 | L22: 30 | N22: =L22*M8/360 -> 291817.5 | O22: =N22/M8 -> 0.083333333 | Q22: 30 | S22: =Q22*R8/360 -> 306408.38 | T22: =S22/R8 -> 0.083333333 | V22: 30 | X22: =V22*W8/360 -> 729543.75 | Y22: =X22/W8 -> 0.083333333 | AA22: Oficial 4 (Cerramientos, Act. Sencillas) | AB22: =R6 -> 3676900.5 | AC22: =AB22/30 -> 122563.35 | AD22: =1+$T$27 -> 1.6349 | AE22: =AC22*AD22 -> 200378.82 | AF22: 1 | AG22: =AE22*30*AF22 -> 6011364.6
A23: Cesantía Anual (Art. 310 CST) | B23: 36 | D23: =B23*C8/360 -> 200000 | E23: =D23/C8 -> 0.1 | G23: 36 | I23: =G23*H8/360 -> 287545.25 | J23: =I23/H8 -> 0.1 | L23: 36 | N23: =L23*M8/360 -> 350181 | O23: =N23/M8 -> 0.1 | Q23: 36 | S23: =Q23*R8/360 -> 367690.05 | T23: =S23/R8 -> 0.1 | V23: 30 | X23: =V23*W8/360 -> 729543.75 | Y23: =X23/W8 -> 0.083333333 | AA23: Ayudante Entendido | AB23: =H6 -> 2626357.5 | AC23: =AB23/30 -> 87545.25 | AD23: =1+$J$27 -> 1.6526 | AE23: =AC23*AD23 -> 144677.28 | AF23: 0 | AG23: =AE23*30*AF23 -> 0
A24: Intereses de Cesantía | B24: 0.12 | D24: =D23*B24 -> 24000 | E24: =D24/C8 -> 0.012 | G24: 0.12 | I24: =I23*G24 -> 34505.43 | J24: =I24/H8 -> 0.012 | L24: 0.12 | N24: =N23*L24 -> 42021.72 | O24: =N24/M8 -> 0.012 | Q24: 0.12 | S24: =S23*Q24 -> 44122.806 | T24: =S24/R8 -> 0.012 | V24: 0.12 | X24: =X23*V24 -> 87545.25 | Y24: =X24/W8 -> 0.01 | AA24: Ayudante Raso | AB24: =C5 -> 1750905 | AC24: =AB24/30 -> 58363.5 | AD24: =1+$E$27 -> 1.6603 | AE24: =AC24*AD24 -> 96900.919 | AF24: 1 | AG24: =AE24*30*AF24 -> 2907027.6
A25: DESCANSO REMUNERADO | C25: BASE: | D25: SALARIO | H25: BASE: | I25: SALARIO + TTE | M25: BASE: | N25: SALARIO + TTE | R25: BASE: | S25: SALARIO + TTE | W25: BASE: | X25: SALARIO + TTE | AA25: TOTAL MES CUADRILLA | AG25: =SUM(AG22:AG24) -> 8918392.2
A26: Vacaciones | B26: 15 | D26: =B26*C5/360 -> 72954.375 | E26: =D26/C5 -> 0.041666667 | G26: 15 | I26: =G26*H6/360 -> 109431.56 | J26: =I26/H6 -> 0.041666667 | L26: 15 | N26: =L26*M6/360 -> 145908.75 | O26: =N26/M6 -> 0.041666667 | Q26: 15 | S26: =Q26*R6/360 -> 153204.19 | T26: =S26/R6 -> 0.041666667 | V26: 15 | X26: =V26*W6/360 -> 364771.88 | Y26: =X26/W6 -> 0.041666667 | AA26: TOTAL DÍA CUADRILLA | AG26: =AG25/30 -> 297279.74
D27: TOTAL | E27: =SUM(E5:E26) -> 0.6603 | I27: TOTAL | J27: =SUM(J5:J26) -> 0.6526 | N27: TOTAL | O27: =SUM(O5:O26) -> 0.6494 | S27: TOTAL | T27: =SUM(T5:T26) -> 0.6349 | X27: TOTAL | Y27: =SUM(Y5:Y26) -> 0.61623333 | AA27: CUADRILLA 5. MAMPOSTERÍA | AB27: SALARIO BASE | AC27: VALOR DÍA | AD27: F.P. | AE27: VR. DÍA + F.P. | AF27: CANT | AG27: VR. MES
A28: RANGO TRABAJADOR | B28: AYUDANTE RASO | G28: AYUDANTE ENTENDIDO | L28: OFICIAL | Q28: OFICIALES ESPECIALIZADOS | V28: RESIDENTE | AA28: Oficial 5 (Mampostería) | AB28: =R6 -> 3676900.5 | AC28: =AB28/30 -> 122563.35 | AD28: =1+$T$27 -> 1.6349 | AE28: =AC28*AD28 -> 200378.82 | AF28: 1 | AG28: =AE28*30*AF28 -> 6011364.6
A29: VALOR DÍA | B29: =B5/30 -> 58363.5 | E29: =B29*(1+E27) -> 96900.919 | G29: =G6/30 -> 87545.25 | J29: =G29*(1+J27) -> 144677.28 | L29: =L6/30 -> 116727 | O29: =L29*(1+O27) -> 192529.51 | Q29: =Q6/30 -> 122563.35 | T29: =Q29*(1+T27) -> 200378.82 | V29: =V6/30 -> 291817.5 | Y29: =V29*(1+Y27) -> 471645.17 | AA29: Ayudante Entendido | AB29: =H6 -> 2626357.5 | AC29: =AB29/30 -> 87545.25 | AD29: =1+$J$27 -> 1.6526 | AE29: =AC29*AD29 -> 144677.28 | AF29: 1 | AG29: =AE29*30*AF29 -> 4340318.4
A30: VALOR HORA | B30: =B29/8 -> 7295.4375 | E30: =B30*(1+E27) -> 12112.615 | G30: =G29/8 -> 10943.156 | J30: =G30*(1+J27) -> 18084.66 | L30: =L29/8 -> 14590.875 | O30: =L30*(1+O27) -> 24066.189 | Q30: =Q29/8 -> 15320.419 | T30: =Q30*(1+T27) -> 25047.353 | V30: =V29/8 -> 36477.188 | Y30: =V30*(1+Y27) -> 58955.646 | AA30: Ayudante Raso | AB30: =C5 -> 1750905 | AC30: =AB30/30 -> 58363.5 | AD30: =1+$E$27 -> 1.6603 | AE30: =AC30*AD30 -> 96900.919 | AF30: 0 | AG30: =AE30*30*AF30 -> 0
AA31: TOTAL MES CUADRILLA | AG31: =SUM(AG28:AG30) -> 10351683
AA32: TOTAL DÍA CUADRILLA | AG32: =AG31/30 -> 345056.1
AA33: CUADRILLA 6. OBRA BLANCA | AB33: SALARIO BASE | AC33: VALOR DÍA | AD33: F.P. | AE33: VR. DÍA + F.P. | AF33: CANT | AG33: VR. MES
AA34: Oficial 6 (Enchapes, acabados, carpintería) | AB34: =R6*1.125 -> 4136513.1 | AC34: =AB34/30 -> 137883.77 | AD34: =1+$T$27 -> 1.6349 | AE34: =AC34*AD34 -> 225426.17 | AF34: 1 | AG34: =AE34*30*AF34 -> 6762785.2
AA35: Ayudante Entendido | AB35: =H6 -> 2626357.5 | AC35: =AB35/30 -> 87545.25 | AD35: =1+$J$27 -> 1.6526 | AE35: =AC35*AD35 -> 144677.28 | AF35: 1 | AG35: =AE35*30*AF35 -> 4340318.4
AA36: Ayudante Raso | AB36: =C5 -> 1750905 | AC36: =AB36/30 -> 58363.5 | AD36: =1+$E$27 -> 1.6603 | AE36: =AC36*AD36 -> 96900.919 | AF36: 0 | AG36: =AE36*30*AF36 -> 0
AA37: TOTAL MES CUADRILLA | AG37: =SUM(AG34:AG36) -> 11103104
AA38: TOTAL DÍA CUADRILLA | AG38: =AG37/30 -> 370103.45
AA39: SALARIO INDIVIDUAL | AB39: SALARIO BASE | AC39: VALOR DÍA | AD39: F.P. | AE39: VR. DÍA + F.P. | AF39: CANT | AG39: VR. MES
AA40: =AA4 -> Oficial 1 Estructuras | AB40: =AB4 -> 4044590.6 | AC40: =AC4 -> 134819.68 | AD40: =AD4 -> 1.6349 | AE40: =AE4 -> 220416.7 | AF40: =AF4 -> 1 | AG40: =AG4 -> 6612501.1
...

Sheet AU
A1: =+#REF! -> #REF!
A4: ADMINISTRACIÓN
A6: 1 | B6: HONORARIOS MENSUAL BASICO | G6: =+ROUND((100%),2) -> 1
A7: 2 | B7: PRESTACIONES SOCIALES
A8: 2.1 | B8: Prima mensual | G8: 0.0833
A9: 2.2 | B9: Cesantía mensual | G9: 0.0833
A10: 2.3 | B10: Intereses de cesantías | G10: 0.01
A11: 2.4 | B11: Salud | G11: 0.08
A12: 2.5 | B12: Pensión | G12: 0.116
A13: 2.6 | B13: SENA | G13: =2% -> 0.02
A14: 2.7 | B14: ICBF | G14: =3% -> 0.03
A15: 2.8 | B15: Subsidio Familiar | G15: =4% -> 0.04
A16: 2.9 | B16: Vacaciones | G16: 0.0417
A17: 2.10 | B17: Polizas | G17: 0.02
A18: 2.11 | B18: Dotación | G18: 0.04
A19: 2.12 | B19: Auxilio de transporte | G19: 0.1172
B20: PRESTACIONES SOCIALES | G20: =ROUND((SUM(G8:G19)),3) -> 0.682
B22: DESCRIPCIÓN | C22: Unidad | D22: Cantidad | E22: $ Salario Base | F22: Factor Prestacional | G22: $ Valor Total
A23: 3 | B23: PERSONAL EN OBRA
A24: 3.1 | B24: Director / Residente de obra (Dedicación 100%) | C24: mes | D24: 1 | E24: 3712946.1 | F24: =G20 -> 0.682 | G24: =+(E24*F24+E24)*D24 -> 6245175.3
A25: 3.2 | B25: Tecnologo SISO | C25: mes | D25: 1 | E25: =+E24*0.6 -> 2227767.6 | F25: =+F24 -> 0.682 | G25: =+E25*(1+F25) -> 3747105.2
F26: Subtotal | G26: =SUM(G24:G25) -> 9992280.4
B27: DESCRIPCIÓN | D27: Unidad | E27: Cantidad | F27: $ Valor parcial | G27: $ Valor Total
A28: 4 | B28: GASTOS OPERACIONALES
A29: 4.3 | B29: Mantenimientos, Equipos, Herramienta | D29: mes | E29: =+D24 -> 1 | F29: 120000 | G29: =+E29*F29 -> 120000
A30: 4.4 | B30: Registro Fotografico, Videos, Informes | D30: mes | E30: =+E29 -> 1 | F30: 60000 | G30: =+E30*F30 -> 60000
A31: 4.7 | B31: Gastos de mobiliario, papelería, fotocopias, etc | D31: mes | E31: =+E29 -> 1 | F31: 60000 | G31: =+E31*F31 -> 60000
A32: 4.8 | B32: Buzón PQRS | D32: un | E32: 0 | F32: 50000 | G32: =+E32*F32 -> 0
A33: 4.9 | B33: Extintor multipropósito | D33: un | E33: 0 | F33: 50000 | G33: =+E33*F33 -> 0
A34: 4.10 | B34: Botiquin primeros auxilios | D34: un | E34: 0 | F34: 60000 | G34: =+E34*F34 -> 0
A35: 4.11 | B35: Ensayos de laboratorio y toma de muestras | D35: un | E35: 0 | F35: 600000 | G35: =+E35*F35 -> 0
A36: 4.13 | B36: EPPS (Elementos de protección personal) para la obra
A37: 4.13.1 | B37: Cascos | D37: un | E37: 3 | F37: 11999.046 | G37: =+E37*F37 -> 35997.137
A38: 4.13.2 | B38: Guantes | D38: un | E38: 3 | F38: 3250 | G38: =+E38*F38 -> 9750
A39: 4.13.3 | B39: Gafas | D39: un | E39: 3 | F39: 3250 | G39: =+E39*F39 -> 9750
A40: 4.13.4 | B40: tapabocas | D40: caja | E40: 1 | F40: 12000 | G40: =+E40*F40 -> 12000
A41: 4.13.5 | B41: Protector auditivo | D41: un | E41: 1 | F41: 1150 | G41: =+E41*F41 -> 1150
A42: 4.13.6 | B42: Dotación: Calzado de protección, pantalón y camisa de protección | D42: combo | E42: 5 | F42: 98000 | G42: =+E42*F42 -> 490000
A43: 4.14 | B43: Elementos Plan de manejo socio ambiental
A44: 4.14.1 | B44: Recipientes plasticos para disposicion de residuos solidos 35L | D44: un | E44: 0 | F44: 45950 | G44: =+E44*F44 -> 0
...
