Workbook

Sheet RESUMEN
A1: EVALUACIÓN ECONÓMICA COMPARATIVA - PROCESO MC-005-2026
A2: SUMINISTRO DE MEDICAMENTOS NO CONTROLADOS Y DE CONTROL ESPECIAL
A5: Proponente | B5: Sumatoria ofertada | C5: Diferencia frente al techo | D5: % bajo techo | E5: Ítems sobre techo | F5: Ítems inválidos | G5: Orden económico | H5: Resultado
A6: VETERINARIA EL BURRO | B6: =SUM('COMPARATIVO 666 ITEMS'!F2:F667) -> 72659880 | C6: =SUM('COMPARATIVO 666 ITEMS'!C2:C667)-B6 -> 31543867 | D6: =IFERROR(C6/SUM('COMPARATIVO 666 ITEMS'!C2:C667),0) -> 0.30271337 | E6: =COUNTIF('COMPARATIVO 666 ITEMS'!G2:G667,"SUPERA TECHO") -> 0 | F6: =COUNTIF('COMPARATIVO 666 ITEMS'!G2:G667,"VALOR INVÁLIDO")+COUNTIF('COMPARATIVO 666 ITEMS'!G2:G667,"SIN VALOR") -> 0 | G6: =RANK(B6,$B$6:$B$7,1) -> 1 | H6: =IF(AND(E6=0,F6=0),"CUMPLE ECONÓMICAMENTE","NO CUMPLE") -> CUMPLE ECONÓMICAMENTE
A7: INTERCOMERCIAL MÉDICA S.A.S. | B7: =SUM('COMPARATIVO 666 ITEMS'!D2:D667) -> 99793273 | C7: =SUM('COMPARATIVO 666 ITEMS'!C2:C667)-B7 -> 4410474 | D7: =IFERROR(C7/SUM('COMPARATIVO 666 ITEMS'!C2:C667),0) -> 0.042325484 | E7: =COUNTIF('COMPARATIVO 666 ITEMS'!E2:E667,"SUPERA TECHO") -> 0 | F7: =COUNTIF('COMPARATIVO 666 ITEMS'!E2:E667,"VALOR INVÁLIDO")+COUNTIF('COMPARATIVO 666 ITEMS'!E2:E667,"SIN VALOR") -> 0 | G7: =RANK(B7,$B$6:$B$7,1) -> 2 | H7: =IF(AND(E7=0,F7=0),"CUMPLE ECONÓMICAMENTE","NO CUMPLE") -> CUMPLE ECONÓMICAMENTE
A10: Menor sumatoria de precios unitarios | E10: VETERINARIA EL BURRO
A12: CONCLUSIÓN ECONÓMICA
A13: La oferta de VETERINARIA EL BURRO presenta la menor sumatoria de precios unitarios. Los 666 valores fueron diligenciados, son positivos y ninguno supera el precio techo. En consecuencia, CUMPLE ECONÓMICAMENTE y ocupa el primer orden económico.
C21: Hernán David Moreno Cojo
C22: Comité Evaluador Financier

Sheet COMPARATIVO 666 ITEMS
A1: Ítem | B1: Descripción | C1: Precio techo | D1: Intercomercial | E1: Validación Intercomercial | F1: El Burro | G1: Validación El Burro | H1: % El Burro bajo techo | I1: Menor precio | J1: Diferencia Inter - Burro
A2: 1 | B2: ÁCIDO BÓRICO 2 G, ÁCIDO ACÉTICO 2 G, ÁCIDO SALICÍLICO 0.1 G | C2: 67740 | D2: 64353 | E2: =IF(D2="","SIN VALOR",IF(D2<=0,"VALOR INVÁLIDO",IF(D2>C2,"SUPERA TECHO","CUMPLE"))) -> CUMPLE | F2: 42250 | G2: =IF(F2="","SIN VALOR",IF(F2<=0,"VALOR INVÁLIDO",IF(F2>C2,"SUPERA TECHO","CUMPLE"))) -> CUMPLE | H2: =IFERROR((C2-F2)/C2,0) -> 0.3762917 | I2: =IF(D2<F2,"INTERCOMERCIAL",IF(F2<D2,"EL BURRO","IGUALES")) -> EL BURRO | J2: =D2-F2 -> 22103
A3: 2 | B3: ÁCIDO FÉNICO 1.5 G, ÓXIDO DE ZINC 7 G, ACEITE DE PINO 2 G, EXIPIENTES CSP 100 G | C3: 141317 | D3: 134251 | E3: =IF(D3="","SIN VALOR",IF(D3<=0,"VALOR INVÁLIDO",IF(D3>C3,"SUPERA TECHO","CUMPLE"))) -> CUMPLE | F3: 49300 | G3: =IF(F3="","SIN VALOR",IF(F3<=0,"VALOR INVÁLIDO",IF(F3>C3,"SUPERA TECHO","CUMPLE"))) -> CUMPLE | H3: =IFERROR((C3-F3)/C3,0) -> 0.65113893 | I3: =IF(D3<F3,"INTERCOMERCIAL",IF(F3<D3,"EL BURRO","IGUALES")) -> EL BURRO | J3: =D3-F3 -> 84951
A4: 3 | B4: ÁCIDO SALICÍLICO 2 GR, AZUFRE 2 GR, SHAMPOO QUERATOLÍTICO. | C4: 100501 | D4: 95476 | E4: =IF(D4="","SIN VALOR",IF(D4<=0,"VALOR INVÁLIDO",IF(D4>C4,"SUPERA TECHO","CUMPLE"))) -> CUMPLE | F4: 65000 | G4: =IF(F4="","SIN VALOR",IF(F4<=0,"VALOR INVÁLIDO",IF(F4>C4,"SUPERA TECHO","CUMPLE"))) -> CUMPLE | H4: =IFERROR((C4-F4)/C4,0) -> 0.35324027 | I4: =IF(D4<F4,"INTERCOMERCIAL",IF(F4<D4,"EL BURRO","IGUALES")) -> EL BURRO | J4: =D4-F4 -> 30476
A5: 4 | B5: MEDICAMENTO HOMEOPATICO ACIDUM ASCORBICUM D6 50 MG NATRIUM RIBOFLAVINUM PHOSPHORICUM D6 50 MG THIAMINUM HYDROCHLORICUM D6 50 MG PYRIDOXINUM HYDROCHLORICUM D6 50 MG NICOTINAMIDUM D6 50 MG ACIDUM CIS-ACONITICUM D8 50 MG ACIDUM CITRICUM D8 50 MG ACIDUM FUMARICUM D8 50 MG ACIDUM ALPHA-KETOGLUTARICUM D8 50 MG ACIDUM DL-MALICUM D8 50 MG ACIDUM SUCCINICUM D8 50 MG BARIUM OXALSUCCINICUM D10 50 MG NATRIUM PYRUVICUM D8 50 MG CYSTEINUM D6 50 MG PULSATILLA PRATENSIS D6 50 MG HEPAR SULFURIS D10 50 MG SULFUR D10 50 MG ADENOSINUM TRIPHOSPHORICUM D10 50 MG NADIDUM D8 50 MG COENZYMUM A D8 50 MG BETA VULGARIS CONDITIVA D4 50 MG NATRIUM DIETHYLOXALACETICUM D6 50 MG MANGANUM PHOSPHORICUM D6 50 MG MAGNESIUM OROTICUM D6 50 MG CERIUM OXALICUM D8 50 MG ACIDUM THIOCTICUM D6 50 MG | C5: 259310 | D5: 246345 | E5: =IF(D5="","SIN VALOR",IF(D5<=0,"VALOR INVÁLIDO",IF(D5>C5,"SUPERA TECHO","CUMPLE"))) -> CUMPLE | F5: 180450 | G5: =IF(F5="","SIN VALOR",IF(F5<=0,"VALOR INVÁLIDO",IF(F5>C5,"SUPERA TECHO","CUMPLE"))) -> CUMPLE | H5: =IFERROR((C5-F5)/C5,0) -> 0.30411477 | I5: =IF(D5<F5,"INTERCOMERCIAL",IF(F5<D5,"EL BURRO","IGUALES")) -> EL BURRO | J5: =D5-F5 -> 65895
A6: 5 | B6: MEDICAMENTO HOMEOPATICO ECHINACEA ANGUSTIFOLIA D3 500 MG ACONITUM NAPELLUS D4 100 MG SULFUR D8 100 MG LACHESIS MUTUS D10 100 MG BRYONIA CRETICA D6 100 MG HYDRARGYRUM BICHLORATUM D6 100 MG PHOSPHORUS D8 100 MG ARNICA MONTANA D6 100 MG | C6: 299067 | D6: 284114 | E6: =IF(D6="","SIN VALOR",IF(D6<=0,"VALOR INVÁLIDO",IF(D6>C6,"SUPERA TECHO","CUMPLE"))) -> CUMPLE | F6: 220100 | G6: =IF(F6="","SIN VALOR",IF(F6<=0,"VALOR INVÁLIDO",IF(F6>C6,"SUPERA TECHO","CUMPLE"))) -> CUMPLE | H6: =IFERROR((C6-F6)/C6,0) -> 0.26404451 | I6: =IF(D6<F6,"INTERCOMERCIAL",IF(F6<D6,"EL BURRO","IGUALES")) -> EL BURRO | J6: =D6-F6 -> 64014
A7: 6 | B7: MEDICAMENTO HOMEOPATICO PULSATILLA PRATENSIS D2 50MG LUFFA OPERCULATA D6 50 MG HYDRARGYRUM BIIODATUM D6 50MG MUCOSA NASALIS SUIS D8 50MG HEPAR SULFURIS D10 50 MG ARGENTUM NITRICUM D10 50 MG SINUSITIS-NOSODA D13 50 MG EUPHORBIUM D4 50 MG | C7: 309403 | D7: 307916 | E7: =IF(D7="","SIN VALOR",IF(D7<=0,"VALOR INVÁLIDO",IF(D7>C7,"SUPERA TECHO","CUMPLE"))) -> CUMPLE | F7: 233450 | G7: =IF(F7="","SIN VALOR",IF(F7<=0,"VALOR INVÁLIDO",IF(F7>C7,"SUPERA TECHO","CUMPLE"))) -> CUMPLE | H7: =IFERROR((C7-F7)/C7,0) -> 0.24548243 | I7: =IF(D7<F7,"INTERCOMERCIAL",IF(F7<D7,"EL BURRO","IGUALES")) -> EL BURRO | J7: =D7-F7 -> 74466
A8: 7 | B8: MEDICAMENTO HOMEOPATICO LACHESIS MUTUS D6 200 MG PYROGENIUM-NOSODE D6 200 MG JUNIPERUS SABINA D3 100 MG ECHINACEA ANGUSTIFOLIA D1 100 MG PULSATILLA PRATENSIS D2 50 MG | C8: 314693 | D8: 298958 | E8: =IF(D8="","SIN VALOR",IF(D8<=0,"VALOR INVÁLIDO",IF(D8>C8,"SUPERA TECHO","CUMPLE"))) -> CUMPLE | F8: 157300 | G8: =IF(F8="","SIN VALOR",IF(F8<=0,"VALOR INVÁLIDO",IF(F8>C8,"SUPERA TECHO","CUMPLE"))) -> CUMPLE | H8: =IFERROR((C8-F8)/C8,0) -> 0.50014776 | I8: =IF(D8<F8,"INTERCOMERCIAL",IF(F8<D8,"EL BURRO","IGUALES")) -> EL BURRO | J8: =D8-F8 -> 141658
A9: 8 | B9: MEDICAMENTO HOMEOPATICO STRYCHNOS NUX-VOMICA D4 10 MG STRYCHNOS NUX-VOMICA D10 10 MG STRYCHNOS NUX-VOMICA D15 10 MG STRYCHNOS NUX-VOMICA D30 10 MG STRYCHNOS NUX-VOMICA D200 10 MG STRYCHNOS NUX-VOMICA D1000 10 MG BRYONIA D4 10MG BRYONIA D6 10MG BRYONIA D10 10MG BRYONIA D15 10MG BRYONIA D30 10MG BRYONIA D200 10MG BRYONIA D1000 10MG LYCOPODIUM CLAVATUM D5 15MG LYCOPODIUM CLAVATUM D10 15MG LYCOPODIUM CLAVATUM D30 15MG LYCOPODIUM CLAVATUM D200 15MG LYCOPODIUM CLAVATUM D1000 15MG CITRULLUS COLOCYNTHIS D5 15MG CITRULLUS COLOCYNTHIS D10 15MG CITRULLUS COLOCYNTHIS D30 15MG CITRULLUS COLOCYNTHIS D200 15MG | C9: 260580 | D9: 247551 | E9: =IF(D9="","SIN VALOR",IF(D9<=0,"VALOR INVÁLIDO",IF(D9>C9,"SUPERA TECHO","CUMPLE"))) -> CUMPLE | F9: 148000 | G9: =IF(F9="","SIN VALOR",IF(F9<=0,"VALOR INVÁLIDO",IF(F9>C9,"SUPERA TECHO","CUMPLE"))) -> CUMPLE | H9: =IFERROR((C9-F9)/C9,0) -> 0.43203623 | I9: =IF(D9<F9,"INTERCOMERCIAL",IF(F9<D9,"EL BURRO","IGUALES")) -> EL BURRO | J9: =D9-F9 -> 99551
A10: 9 | B10: MEDICAMENTO HOMEPÁTICO ACONITUM NAPELLUS D4 300 MG ARNICA MONTANA D4 500MG ATROPA BELLADONA D4 500 MG BELLIS PERENNIS D4 250 MG CALENDULA OFFICINALIS D4 500 MG MATRICARIA RECUTITA D5 500 MG ECHINACEA ANGUSTIFOLIA D4 125 MG ECHINACEA PURPUREA E PLANTA TOTA D4 125 MG HAMAMELIS VIRGINIANA D4 50 MG HYPERICUM PERFORATUM D4 150 MG ACHILLEA MILLEFOLIUM D5 500 MG SYMPHYTUM OFFICINALE D8 500 MG HEPAR SULFURIS D6 500 MG MERCURIUS SOLUBILIS HAHNEMANNI D8 250 MG | C10: 264993 | D10: 251743 | E10: =IF(D10="","SIN VALOR",IF(D10<=0,"VALOR INVÁLIDO",IF(D10>C10,"SUPERA TECHO","CUMPLE"))) -> CUMPLE | F10: 174200 | G10: =IF(F10="","SIN VALOR",IF(F10<=0,"VALOR INVÁLIDO",IF(F10>C10,"SUPERA TECHO","CUMPLE"))) -> CUMPLE | H10: =IFERROR((C10-F10)/C10,0) -> 0.34262414 | I10: =IF(D10<F10,"INTERCOMERCIAL",IF(F10<D10,"EL BURRO","IGUALES")) -> EL BURRO | J10: =D10-F10 -> 77543
A11: 10 | B11: MEDICAMENTO HOMEOPATICO CADA COMPRIMIDO CONTIENE: ARNICA MONTANA D3 15 MG ACONITUM NAPELLUS D3 30 MG ATROPA BELLADONA D4 75 MG BELLIS PERENIS D3 6 MG CALENDULA OFFICINALIS D3 15 MG MATRICARIA RECUTITA D3 24 MG ECHINACEA ANGUSTIFOLIA D3 6 MG ECHINACEA PURPUREA E PLANTA TOTA D3 6 MG HAMMAMELIS VIRGINARIA D3 15 MG HYPERICUM PERFORATUM D2 3MG ACHILLEA MILLEFOLIUM D3 15MG SYMPHYTUM OFFICINALE D8 24MG HEPAR SULFURIS D8 30MG MERCURIUS SOLUBILIS HAHNEMANI D8 30MG | C11: 187400 | D11: 178030 | E11: =IF(D11="","SIN VALOR",IF(D11<=0,"VALOR INVÁLIDO",IF(D11>C11,"SUPERA TECHO","CUMPLE"))) -> CUMPLE | F11: 143400 | G11: =IF(F11="","SIN VALOR",IF(F11<=0,"VALOR INVÁLIDO",IF(F11>C11,"SUPERA TECHO","CUMPLE"))) -> CUMPLE | H11: =IFERROR((C11-F11)/C11,0) -> 0.23479189 | I11: =IF(D11<F11,"INTERCOMERCIAL",IF(F11<D11,"EL BURRO","IGUALES")) -> EL BURRO | J11: =D11-F11 -> 34630
A12: 11 | B12: MEDICAMENTO HOMEOPATICO CARTILAGO SUIS D6 5MG FUNICULUS UMBILICALIS SUIS D6 5MG EMBRYO SUIS D6 5MG PLACENTA SUIS D6 5MG SOLANUM DULCAMARA D3 25 MG SYMPHYTUM OFFICINALE D6 25 MG NADIDUM D8 5 MG COENZYMUM A D8 5MG SANGUINARIA CANADENSIS D4 7,5 MG ARNICA MONTANA D3 50 MG SULFUR D6 9MG NATRIUM DIETHYLOXALACETIUM D8 5 MG ACIDUM ALPHA - LIPONICUM D8 5MG RHUS TOXICODENDRON D2 25MG | C12: 349810 | D12: 332320 | E12: =IF(D12="","SIN VALOR",IF(D12<=0,"VALOR INVÁLIDO",IF(D12>C12,"SUPERA TECHO","CUMPLE"))) -> CUMPLE | F12: 165900 | G12: =IF(F12="","SIN VALOR",IF(F12<=0,"VALOR INVÁLIDO",IF(F12>C12,"SUPERA TECHO","CUMPLE"))) -> CUMPLE | H12: =IFERROR((C12-F12)/C12,0) -> 0.52574255 | I12: =IF(D12<F12,"INTERCOMERCIAL",IF(F12<D12,"EL BURRO","IGUALES")) -> EL BURRO | J12: =D12-F12 -> 166420
A13: 12 | B13: MEDICAMENTO HOMEOPATICO ACIDUM THIOCTICUM D6 10 MG ARNICA MONTANA D4 60 MG CARTILAGO SUIS D6 15MG COENZYMUM A D6 10 MG EMBRYO SUIS D6 15MG FUNICULUS UMBILICALIS SUIS D6 15MG PLACENTA SUIS D6 5MG NADIDUM D6 10MG NATRIUM DIETHYLOXALACETIUM D6 10MG RHUS TOXICODENDRON D3 30MG SANGUINARIA CANADENSIS D4 30MG SOLANUM DULCAMARA D3 20MG SULFUR D6 40MG SYMPHYTUM OFFICINALE D8 20MG | C13: 282288 | D13: 268174 | E13: =IF(D13="","SIN VALOR",IF(D13<=0,"VALOR INVÁLIDO",IF(D13>C13,"SUPERA TECHO","CUMPLE"))) -> CUMPLE | F13: 178100 | G13: =IF(F13="","SIN VALOR",IF(F13<=0,"VALOR INVÁLIDO",IF(F13>C13,"SUPERA TECHO","CUMPLE"))) -> CUMPLE | H13: =IFERROR((C13-F13)/C13,0) -> 0.36908406 | I13: =IF(D13<F13,"INTERCOMERCIAL",IF(F13<D13,"EL BURRO","IGUALES")) -> EL BURRO | J13: =D13-F13 -> 90074
... A667: 666 | B667: PRUEBA RAPIDA CON METODOLOGIA TIPO ELISA PARA DETECCIÓN DE VIRUS DE INMUNODEFICIENCIA FELINA (FIV), DEL VIRUS DE LA LEUCEMIA FELINA (FELV) Y DE LA FILARIA FELINA - SNAP 4DX | C667: 590200 | D667: 560690 | E667: =IF(D667="","SIN VALOR",IF(D667<=0,"VALOR INVÁLIDO",IF(D667>C667,"SUPERA TECHO","CUMPLE"))) -> CUMPLE | F667: 550000 | G667: =IF(F667="","SIN VALOR",IF(F667<=0,"VALOR INVÁLIDO",IF(F667>C667,"SUPERA TECHO","CUMPLE"))) -> CUMPLE | H667: =IFERROR((C667-F667)/C667,0) -> 0.068112504 | I667: =IF(D667<F667,"INTERCOMERCIAL",IF(F667<D667,"EL BURRO","IGUALES")) -> EL BURRO | J667: =D667-F667 -> 10690

Sheet ALERTAS PRECIO
A1: Ítem | B1: Descripción | C1: Precio techo | D1: Precio El Burro | E1: Diferencia | F1: % bajo techo | G1: Observación
A2: 2 | B2: ÁCIDO FÉNICO 1.5 G, ÓXIDO DE ZINC 7 G, ACEITE DE PINO 2 G, EXIPIENTES CSP 100 G | C2: 141317 | D2: 49300 | E2: =C2-D2 -> 92017 | F2: =IFERROR(E2/C2,0) -> 0.65113893 | G2: REVISAR SOSTENIBILIDAD DEL PRECIO - NO ES CAUSAL AUTOMÁTICA DE RECHAZO
A3: 7 | B3: MEDICAMENTO HOMEOPATICO LACHESIS MUTUS D6 200 MG PYROGENIUM-NOSODE D6 200 MG JUNIPERUS SABINA D3 100 MG ECHINACEA ANGUSTIFOLIA D1 100 MG PULSATILLA PRATENSIS D2 50 MG | C3: 314693 | D3: 157300 | E3: =C3-D3 -> 157393 | F3: =IFERROR(E3/C3,0) -> 0.50014776 | G3: REVISAR SOSTENIBILIDAD DEL PRECIO - NO ES CAUSAL AUTOMÁTICA DE RECHAZO
A4: 11 | B4: MEDICAMENTO HOMEOPATICO CARTILAGO SUIS D6 5MG FUNICULUS UMBILICALIS SUIS D6 5MG EMBRYO SUIS D6 5MG PLACENTA SUIS D6 5MG SOLANUM DULCAMARA D3 25 MG SYMPHYTUM OFFICINALE D6 25 MG NADIDUM D8 5 MG COENZYMUM A D8 5MG SANGUINARIA CANADENSIS D4 7,5 MG ARNICA MONTANA D3 50 MG SULFUR D6 9MG NATRIUM DIETHYLOXALACETIUM D8 5 MG ACIDUM ALPHA - LIPONICUM D8 5MG RHUS TOXICODENDRON D2 25MG | C4: 349810 | D4: 165900 | E4: =C4-D4 -> 183910 | F4: =IFERROR(E4/C4,0) -> 0.52574255 | G4: REVISAR SOSTENIBILIDAD DEL PRECIO - NO ES CAUSAL AUTOMÁTICA DE RECHAZO
A5: 23 | B5: SHAMPOO TERAPÉUTICO, HIPOALERGÉNICO, INDICADO EN EL TRATAMIENTO TÓPICO Y EN LA HIGIENE REGULAR DE PERROS AFECTADOS POR ALERGIAS Y REACCIONES DE HIPERSENSIBILIDAD CUTÁNEA, PRINCIPALMENTE EN AQUELLAS AGRAVADAS POR LA HIPERPROLIFERACIÓN DE HONGOS Y BACTERIAS SENSIBLES A PIROCTONA OLAMINA, TALES COMO, MALASSEZIA PACHYDERMATIS, STAPHYLOCOCCUS AUREUS, STAPHYLOCOCCUS INTERMEDIUS, STAPHYLOCOCCUS PSEUDINTERMEDIUS Y STAPHYLOCOCCUS EPIDERMIDIS CADA 100 ML CONTIENEN: PIROCTONA OLAMINA ............ 500 MG EXCIPIENTES C.S.P. ............... 100 ML | C5: 156550 | D5: 75600 | E5: =C5-D5 -> 80950 | F5: =IFERROR(E5/C5,0) -> 0.51708719 | G5: REVISAR SOSTENIBILIDAD DEL PRECIO - NO ES CAUSAL AUTOMÁTICA DE RECHAZO
A6: 28 | B6: GENTAMICINA SULFATO 3 MG DEXAMETASONA FOSFATO SÓDICO 1 MG LIDOCAÍNA CLORHIDRATO 5 M GEXCIPIENTES CSP1 ML | C6: 65800 | D6: 32200 | E6: =C6-D6 -> 33600 | F6: =IFERROR(E6/C6,0) -> 0.5106383 | G6: REVISAR SOSTENIBILIDAD DEL PRECIO - NO ES CAUSAL AUTOMÁTICA DE RECHAZO
A7: 30 | B7: CEFALEXINA 600 MG. | C7: 196270 | D7: 92000 | E7: =C7-D7 -> 104270 | F7: =IFERROR(E7/C7,0) -> 0.53125796 | G7: REVISAR SOSTENIBILIDAD DEL PRECIO - NO ES CAUSAL AUTOMÁTICA DE RECHAZO
A8: 34 | B8: ENDOPARASITICIDA DE AMPLIO ESPECTRO A BASE DE MILBEMICINA OXIMA Y PRAZIQUANTEL, PALATABLE, PARA GATITOS. MILBEMICINA OXIMA 4 MG, PRAZIQUANTEL 10 MG | C8: 135307 | D8: 43000 | E8: =C8-D8 -> 92307 | F8: =IFERROR(E8/C8,0) -> 0.68220417 | G8: REVISAR SOSTENIBILIDAD DEL PRECIO - NO ES CAUSAL AUTOMÁTICA DE RECHAZO
A9: 46 | B9: TRATAMIENTO Y PREVENCIÓN DE INFESTACIONES POR PULGAS, GARRAPATAS Y ÁCAROS PARA PERROS, CONTIENE UNA TABLETA PALATABLE SABOR A CARNE. AFOXOLANER 68 MG, INDICADO PARA PERROS DE 10,1 A 25 KG. | C9: 102309 | D9: 43400 | E9: =C9-D9 -> 58909 | F9: =IFERROR(E9/C9,0) -> 0.5757949 | G9: REVISAR SOSTENIBILIDAD DEL PRECIO - NO ES CAUSAL AUTOMÁTICA DE RECHAZO
A10: 47 | B10: TRATAMIENTO Y PREVENCIÓN DE INFESTACIONES POR PULGAS, GARRAPATAS Y ÁCAROS PARA PERROS, CONTIENE UNA TABLETA PALATABLE SABOR A CARNE. AFOXOLANER 136 MG, INDICADO PARA PERROS DE 25,1 A 50 KG. | C10: 121990 | D10: 43400 | E10: =C10-D10 -> 78590 | F10: =IFERROR(E10/C10,0) -> 0.64423313 | G10: REVISAR SOSTENIBILIDAD DEL PRECIO - NO ES CAUSAL AUTOMÁTICA DE RECHAZO
A11: 54 | B11: ALCANFOR 5G, MENTOL 1G, GUAYACOL 3G, SALICILATO DE METILO 10 G, TREMENTINA 3G | C11: 95211 | D11: 47600 | E11: =C11-D11 -> 47611 | F11: =IFERROR(E11/C11,0) -> 0.50005777 | G11: REVISAR SOSTENIBILIDAD DEL PRECIO - NO ES CAUSAL AUTOMÁTICA DE RECHAZO
A12: 55 | B12: ALFAQUIMOTRIPSINA 10.000 UNF, SOLUCION INYECTABLE | C12: 118180 | D12: 48000 | E12: =C12-D12 -> 70180 | F12: =IFERROR(E12/C12,0) -> 0.59383991 | G12: REVISAR SOSTENIBILIDAD DEL PRECIO - NO ES CAUSAL AUTOMÁTICA DE RECHAZO
A13: 57 | B13: AMPICILINA SÓDICA 1 GR | C13: 166250 | D13: 45000 | E13: =C13-D13 -> 121250 | F13: =IFERROR(E13/C13,0) -> 0.72932331 | G13: REVISAR SOSTENIBILIDAD DEL PRECIO - NO ES CAUSAL AUTOMÁTICA DE RECHAZO
... A65: 659 | B65: ROTOR DIAGNÓSTICO II 19. DIAGNOSIS II PANEL (900-320) - SKYLA | C65: 293011 | D65: 145000 | E65: =C65-D65 -> 148011 | F65: =IFERROR(E65/C65,0) -> 0.50513803 | G65: REVISAR SOSTENIBILIDAD DEL PRECIO - NO ES CAUSAL AUTOMÁTICA DE RECHAZO
