Workbook

Sheet REPUESTOS
A1: MINISTERIO DE TRANSPORTE
A2: INSTITUTO NACIONAL DE VÍAS
A3: SUBDIRECCIÓN ADMINISTRATIVA
A4: PRESUPUESTO PROCESO MULTIMARCAS
A6: No. | B6: DESCRIPCION | C6: FORD RANGER | L6: FORD BRONCO | U6: RENAULT ALASKAN | AD6: RENAULT NEW KOLEOS | AM6: RENAULT OROCH | AV6: RENAULT CAMIONETA DUSTER | BE6: RENAULT TRAFIC | BN6: CHEVROLET TRACKER LS TURBO AC 1.2 5P 4X2 TM | BW6: CHEVROLET CAMIONETA DMAX 4X2 | CF6: CHEVROLET N300 | CO6: MONTERO MITSUBISHI | CX6: SUBARU FORESTER 2,0 | DG6: TOYOTA PRADO (2006 - 2008) | DP6: TOYOTA HILUX (2006 - 2013 y 2015) | DY6: TOYOTA FORTUNER | EH6: TOYOTA RAV 4 | EQ6: NISSAN FRONTIER NP 300 | EZ6: CHEVROLET COLORADO | FI6: WINGLE | FR6: HYUNDAI TUCSON | GA6: JMC | GJ6: REANULT KANGOO | GS6: RENAULT LOGAN | HB6: SUZUKI ALTO | HK6: VOLKSWAGUEN CRAFTER | HT6: FORD BATT UMG | IC6: FORD HUNTER TR12
C7: Adjudicado 2025 | D7: HYUNDAUTOS | E7: MOTOSPEED | F7: INVERNORTE | G7: PROMEDIO | H7: Mediana | I7: Media | J7: Valor Presente | K7: Margen de rentabilidad esperada en el sector 20,5% | L7: Adjudicado 2025 | M7: HYUNDAUTOS | N7: MOTOSPEED | O7: INVERNORTE | P7: PROMEDIO | Q7: Mediana | R7: Media | S7: Valor Presente | T7: Margen de rentabilidad esperada en el sector 20,5% | U7: Adjudicado 2025 | V7: HYUNDAUTOS | W7: MOTOSPEED | X7: INVERNORTE | Y7: PROMEDIO | Z7: Mediana | AA7: Media | AB7: Valor Presente | AC7: Margen de rentabilidad esperada en el sector 20,5% | AD7: Adjudicado 2025 | AE7: HYUNDAUTOS | AF7: MOTOSPEED | AG7: INVERNORTE | AH7: PROMEDIO | AI7: Mediana | AJ7: Media | AK7: Valor Presente | AL7: Margen de rentabilidad esperada en el sector 20,5% | AM7: Adjudicado 2025 | AN7: HYUNDAUTOS | AO7: MOTOSPEED | AP7: INVERNORTE | AQ7: PROMEDIO | AR7: Mediana | AS7: Media | AT7: Valor Presente | AU7: Margen de rentabilidad esperada en el sector 20,5% | AV7: Adjudicado 2025 | AW7: HYUNDAUTOS | AX7: MOTOSPEED | AY7: INVERNORTE | AZ7: PROMEDIO | BA7: Mediana | BB7: Media | BC7: Valor Presente | BD7: Margen de rentabilidad esperada en el sector 20,5% | BE7: Adjudicado 2025 | BF7: HYUNDAUTOS | BG7: MOTOSPEED | BH7: INVERNORTE | BI7: PROMEDIO | BJ7: Mediana | BK7: Media | BL7: Valor Presente | BM7: Margen de rentabilidad esperada en el sector 20,5% | BN7: Adjudicado 2025 | BO7: HYUNDAUTOS | BP7: MOTOSPEED | BQ7: INVERNORTE | BR7: PROMEDIO | BS7: Mediana | BT7: Media | BU7: Valor Presente | BV7: Margen de rentabilidad esperada en el sector 20,5% | BW7: Adjudicado 2025 | BX7: HYUNDAUTOS | BY7: MOTOSPEED | BZ7: INVERNORTE | CA7: PROMEDIO | CB7: Mediana | CC7: Media | CD7: Valor Presente | CE7: Margen de rentabilidad esperada en el sector 20,5% | CF7: Adjudicado 2025 | CG7: HYUNDAUTOS | CH7: MOTOSPEED | CI7: INVERNORTE | CJ7: PROMEDIO | CK7: Mediana | CL7: Media | CM7: Valor Presente | CN7: Margen de rentabilidad esperada en el sector 20,5% | CO7: Adjudicado 2025 | CP7: HYUNDAUTOS | CQ7: MOTOSPEED | CR7: INVERNORTE | CS7: PROMEDIO | CT7: Mediana | CU7: Media | CV7: Valor Presente | CW7: Margen de rentabilidad esperada en el sector 20,5% | CX7: Adjudicado 2025 | CY7: HYUNDAUTOS | CZ7: MOTOSPEED | DA7: INVERNORTE | DB7: PROMEDIO | DC7: Mediana | DD7: Media | DE7: Valor Presente | DF7: Margen de rentabilidad esperada en el sector 20,5% | DG7: Adjudicado 2025 | DH7: HYUNDAUTOS | DI7: MOTOSPEED | DJ7: INVERNORTE | DK7: PROMEDIO | DL7: Mediana | DM7: Media | DN7: Valor Presente | DO7: Margen de rentabilidad esperada en el sector 20,5% | DP7: Adjudicado 2025 | DQ7: HYUNDAUTOS | DR7: MOTOSPEED | DS7: INVERNORTE | DT7: PROMEDIO | DU7: Mediana | DV7: Media | DW7: Valor Presente | DX7: Margen de rentabilidad esperada en el sector 20,5% | DY7: Adjudicado 2025 | DZ7: HYUNDAUTOS | EA7: MOTOSPEED | EB7: INVERNORTE | EC7: PROMEDIO | ED7: Mediana | EE7: Media | EF7: Valor Presente | EG7: Margen de rentabilidad esperada en el sector 20,5% | EH7: Adjudicado 2025 | EI7: HYUNDAUTOS | EJ7: MOTOSPEED | EK7: INVERNORTE | EL7: PROMEDIO | EM7: Mediana | EN7: Media | EO7: Valor Presente | EP7: Margen de rentabilidad esperada en el sector 20,5% | EQ7: Adjudicado 2025 | ER7: HYUNDAUTOS | ES7: MOTOSPEED | ET7: INVERNORTE | EU7: PROMEDIO | EV7: Mediana | EW7: Media | EX7: Valor Presente | EY7: Margen de rentabilidad esperada en el sector 20,5% | EZ7: Adjudicado 2023 | FA7: HYUNDAUTOS | FB7: MOTOSPEED | FC7: INVERNORTE | FD7: PROMEDIO | FE7: Mediana | FF7: Media | FG7: Valor Presente | FH7: Margen de rentabilidad esperada en el sector 20,5% | FI7: Adjudicado 2023 | FJ7: HYUNDAUTOS | FK7: MOTOSPEED | FL7: INVERNORTE | FM7: PROMEDIO | FN7: Mediana | FO7: Media | FP7: Valor Presente | FQ7: Margen de rentabilidad esperada en el sector 20,5% | FR7: Adjudicado 2023 | FS7: HYUNDAUTOS | FT7: MOTOSPEED | FU7: INVERNORTE | FV7: PROMEDIO | FW7: Mediana | FX7: Media | FY7: Valor Presente | FZ7: Margen de rentabilidad esperada en el sector 20,5% | GA7: Adjudicado 2023 | GB7: HYUNDAUTOS | GC7: MOTOSPEED | GD7: INVERNORTE | GE7: PROMEDIO | GF7: Mediana | GG7: Media | GH7: Valor Presente | GI7: Margen de rentabilidad esperada en el sector 20,5% | GJ7: Adjudicado 2023 | GK7: HYUNDAUTOS | GL7: MOTOSPEED | GM7: INVERNORTE | GN7: PROMEDIO | GO7: Mediana | GP7: Media | GQ7: Valor Presente | GR7: Margen de rentabilidad esperada en el sector 20,5% | GS7: Adjudicado 2023 | GT7: HYUNDAUTOS | GU7: MOTOSPEED | GV7: INVERNORTE | GW7: PROMEDIO | GX7: Mediana | GY7: Media | GZ7: Valor Presente | HA7: Margen de rentabilidad esperada en el sector 20,5% | HB7: Adjudicado 2023 | HC7: HYUNDAUTOS | HD7: MOTOSPEED | HE7: INVERNORTE | HF7: PROMEDIO | HG7: Mediana | HH7: Media | HI7: Valor Presente | HJ7: Margen de rentabilidad esperada en el sector 20,5% | HK7: Adjudicado 2023 | HL7: HYUNDAUTOS | HM7: MOTOSPEED | HN7: INVERNORTE | HO7: PROMEDIO | HP7: Mediana | HQ7: Media | HR7: Valor Presente | HS7: Margen de rentabilidad esperada en el sector 20,5% | HT7: Adjudicado 2023 | HU7: HYUNDAUTOS | HV7: MOTOSPEED | HW7: INVERNORTE | HX7: PROMEDIO | HY7: Mediana | HZ7: Media | IA7: Valor Presente | IB7: Margen de rentabilidad esperada en el sector 20,5% | IC7: Adjudicado 2023 | ID7: HYUNDAUTOS | IE7: MOTOSPEED | IF7: INVERNORTE | IG7: PROMEDIO | IH7: Mediana | II7: Media | IJ7: Valor Presente | IK7: Margen de rentabilidad esperada en el sector 20,5% | IM7: PROMEDIO
A8: 1 | B8: LUBRICACIÓN 1 (CAMBIAR FILTRO DE ACEITE, ACEITE MOTOR, REVISAR FILTRO DE AIRE, INCLUYE INSUMOS Y MANO DE OBRA) | C8: =VLOOKUP(B8,[1]Hoja1!$B$9:$D$244,3,0) -> 536305 | D8: 1962000 | E8: 2848000 | F8: 2762600 | G8: =AVERAGE(C8:F8) -> 2027226.2 | H8: =MEDIAN(C8:F8) -> 2362300 | I8: =HARMEAN(C8:F8) -> 1295590.2 | J8: =C8*1.051 -> 563656.55 | K8: =+J8+(J8*20.5%) -> 679206.15 | L8: =VLOOKUP(B8,[1]Hoja1!$B$9:$L$244,11,0) -> 536305 | M8: 1992000 | N8: 2848000 | O8: 2705600 | P8: =AVERAGE(L8:O8) -> 2020476.2 | Q8: =MEDIAN(L8:O8) -> 2348800 | R8: =HARMEAN(L8:O8) -> 1295611.2 | S8: =L8*1.051 -> 563656.55 | T8: =+S8+(S8*20.5%) -> 679206.15 | U8: =VLOOKUP(B8,[1]Hoja1!$B$9:$T$9,19,0) -> 619236 | V8: 2265000 | W8: 2278400 | X8: 2164500 | Y8: =AVERAGE(U8:X8) -> 1831784 | Z8: =MEDIAN(U8:X8) -> 2214750 | AA8: =HARMEAN(U8:X8) -> 1352585.5 | AB8: =U8*1.051 -> 650817.04 | AC8: =+AB8+(AB8*20.5%) -> 784234.53 | AD8: =VLOOKUP(B8,[1]Hoja1!$B$9:$V$244,21,0) -> 536305 | AE8: 1916000 | AF8: 2164480 | AG8: 2056300 | AH8: =AVERAGE(AD8:AG8) -> 1668271.2 | AI8: =MEDIAN(AD8:AG8) -> 1986150 | AJ8: =HARMEAN(AD8:AG8) -> 1199455.5 | AK8: =AD8*1.051 -> 563656.55 | AL8: =+AK8+(AK8*20.5%) -> 679206.15 | AM8: =VLOOKUP(B8,[1]Hoja1!$B$9:$X$9,23,0) -> 543825 | AN8: 1943000 | AO8: 1936640 | AP8: 1820400 | AQ8: =AVERAGE(AM8:AP8) -> 1560966.2 | AR8: =MEDIAN(AM8:AP8) -> 1878520 | AS8: =HARMEAN(AM8:AP8) -> 1169870.1 | AT8: =AM8*1.051 -> 571560.07 | AU8: =+AT8+(AT8*20.5%) -> 688729.89 | AV8: =VLOOKUP(B8,[1]Hoja1!$B$9:$Z$244,25,0) -> 487550 | AW8: 1784000 | AX8: 1936640 | AY8: 1801100 | AZ8: =AVERAGE(AV8:AY8) -> 1502322.5 | BA8: =MEDIAN(AV8:AY8) -> 1792550 | BB8: =HARMEAN(AV8:AY8) -> 1086016.8 | BC8: =AV8*1.051 -> 512415.05 | BD8: =+BC8+(BC8*20.5%) -> 617460.14 | BE8: =VLOOKUP(B8,[1]Hoja1!$B$9:$AB$244,27,0) -> 536305 | BF8: 2146000 | BG8: 2278400 | BH8: 2255600 | BI8: =AVERAGE(BE8:BH8) -> 1804076.2 | BJ8: =MEDIAN(BE8:BH8) -> 2200800 | BK8: =HARMEAN(BE8:BH8) -> 1245004.7 | BL8: =BE8*1.051 -> 563656.55 | BM8: =+BL8+(BL8*20.5%) -> 679206.15 | BN8: =VLOOKUP(B8,[1]Hoja1!$B$9:$AD$244,29,0) -> 536305 | BO8: 1916000 | BP8: 2278400 | BQ8: 2210000 | BR8: =AVERAGE(BN8:BQ8) -> 1735176.2 | BS8: =MEDIAN(BN8:BQ8) -> 2063000 | BT8: =HARMEAN(BN8:BQ8) -> 1220284.4 | BU8: =BN8*1.051 -> 563656.55 | BV8: =+BU8+(BU8*20.5%) -> 679206.15 | BW8: =VLOOKUP(B8,[1]Hoja1!$B$9:$AF$244,31,0) -> 516709 | BX8: 1480000 | BY8: 1936640 | BZ8: 1839800 | CA8: =AVERAGE(BW8:BZ8) -> 1443287.2 | CB8: =MEDIAN(BW8:BZ8) -> 1659900 | CC8: =HARMEAN(BW8:BZ8) -> 1089652.1 | CD8: =BW8*1.051 -> 543061.16 | CE8: =+CD8+(CD8*20.5%) -> 654388.7 | CF8: =VLOOKUP(B8,[1]Hoja1!$B$9:$AJ$244,35,0) -> 487550 | CG8: 1400000 | CH8: 1316900 | CI8: 1211500 | CJ8: =AVERAGE(CF8:CI8) -> 1103987.5 | CK8: =MEDIAN(CF8:CI8) -> 1264200 | CL8: =HARMEAN(CF8:CI8) -> 919510.74 | CM8: =CF8*1.051 -> 512415.05 | CN8: =+CM8+(CM8*20.5%) -> 617460.14 | CO8: =VLOOKUP(B8,[1]Hoja1!$B$9:$AL$244,37,0) -> 487550 | CP8: 1750000 | CQ8: 1936640 | CR8: 1859200 | CS8: =AVERAGE(CO8:CR8) -> 1508347.5 | CT8: =MEDIAN(CO8:CR8) -> 1804600 | CU8: =HARMEAN(CO8:CR8) -> 1087924.9 | CV8: =CO8*1.051 -> 512415.05 | CW8: =+CV8+(CV8*20.5%) -> 617460.14 | CX8: =VLOOKUP(B8,[1]Hoja1!$B$9:$AN$244,39,0) -> 536305 | CY8: 1770000 | CZ8: 2164480 | DA8: 2013000 | DB8: =AVERAGE(CX8:DA8) -> 1620946.2 | DC8: =MEDIAN(CX8:DA8) -> 1891500 | DD8: =HARMEAN(CX8:DA8) -> 1180512.8 | DE8: =CX8*1.051 -> 563656.55 | DF8: =+DE8+(DE8*20.5%) -> 679206.15 | DG8: =VLOOKUP(B8,[1]Hoja1!$B$9:$AR$244,43,0) -> 598080 | DH8: 2051000 | DI8: 1708800 | DJ8: 1537900 | DK8: =AVERAGE(DG8:DJ8) -> 1473945 | DL8: =MEDIAN(DG8:DJ8) -> 1623350 | DM8: =HARMEAN(DG8:DJ8) -> 1178193.7 | DN8: =DG8*1.051 -> 628582.08 | DO8: =+DN8+(DN8*20.5%) -> 757441.41 | DP8: =VLOOKUP(B8,[1]Hoja1!$B$9:$AT$244,45,0) -> 598080 | DQ8: 2188000 | DR8: 1708800 | DS8: 1657500 | DT8: =AVERAGE(DP8:DS8) -> 1538095 | DU8: =MEDIAN(DP8:DS8) -> 1683150 | DV8: =HARMEAN(DP8:DS8) -> 1205698.2 | DW8: =DP8*1.051 -> 628582.08 | DX8: =+DW8+(DW8*20.5%) -> 757441.41 | DY8: =VLOOKUP(B8,[1]Hoja1!$B$9:$AV$244,47,0) -> 677824 | DZ8: 2330000 | EA8: 1936640 | EB8: 1878500 | EC8: =AVERAGE(DY8:EB8) -> 1705741 | ED8: =MEDIAN(DY8:EB8) -> 1907570 | EE8: =HARMEAN(DY8:EB8) -> 1354466.8 | EF8: =DY8*1.051 -> 712393.02 | EG8: =+EF8+(EF8*20.5%) -> 858433.59 | EH8: =VLOOKUP(B8,[1]Hoja1!$B$9:$AX$244,49,0) -> 732114 | EI8: 2615000 | EJ8: 2563200 | EK8: 2435000 | EL8: =AVERAGE(EH8:EK8) -> 2086328.5 | EM8: =MEDIAN(EH8:EK8) -> 2499100 | EN8: =HARMEAN(EH8:EK8) -> 1569161.8 | EO8: =EH8*1.051 -> 769451.81 | EP8: =+EO8+(EO8*20.5%) -> 927189.44 | EQ8: =VLOOKUP(B8,[1]Hoja1!$B$9:$AZ$244,51,0) -> 686317 | ER8: 2256000 | ES8: 2563200 | ET8: 2460700 | EU8: =AVERAGE(EQ8:ET8) -> 1991554.2 | EV8: =MEDIAN(EQ8:ET8) -> 2358350 | EW8: =HARMEAN(EQ8:ET8) -> 1483216.9 | EX8: =EQ8*1.2081 -> 829139.57 | EY8: =+EX8+(EX8*20.5%) -> 999113.18 | EZ8: =VLOOKUP(B8,'[2]RESPUESTOS '!$B$11:$BH$246,59,0) -> 373632 | FA8: 2265000 | FB8: 2034200 | FC8: 1993500 | FD8: =AVERAGE(EZ8:FC8) -> 1666583 | FE8: =MEDIAN(EZ8:FC8) -> 2013850 | FF8: =HARMEAN(EZ8:FC8) -> 972962.48 | FG8: =EZ8*1.2081 -> 451384.82 | FH8: =+FG8+(FG8*20.5%) -> 543918.71 | FI8: =VLOOKUP(B8,'[2]RESPUESTOS '!$B$11:$CJ$246,87,0) -> 406530 | FJ8: 2718000 | FK8: 2200000 | FL8: 2156000 | FM8: =AVERAGE(FI8:FL8) -> 1870132.5 | FN8: =MEDIAN(FI8:FL8) -> 2178000 | FO8: =HARMEAN(FI8:FL8) -> 1067769.2 | FP8: =FI8*1.2081 -> 491128.89 | FQ8: =+FP8+(FP8*20.5%) -> 591810.32 | FR8: =VLOOKUP(B8,'[2]RESPUESTOS '!$B$11:$BX$246,75,0) -> 380537 | FS8: 2265000 | FT8: 2034200 | FU8: 1973200 | FV8: =AVERAGE(FR8:FU8) -> 1663234.2 | FW8: =MEDIAN(FR8:FU8) -> 2003700 | FX8: =HARMEAN(FR8:FU8) -> 983344.31 | FY8: =FR8*1.2081 -> 459726.75 | FZ8: =+FY8+(FY8*20.5%) -> 553970.73 | GA8: =VLOOKUP(B8,'[2]RESPUESTOS '!$B$11:$CN$246,91,0) -> 425081 | GB8: 2605000 | GC8: 2145000 | GD8: 2059200 | GE8: =AVERAGE(GA8:GD8) -> 1808570.2 | GF8: =MEDIAN(GA8:GD8) -> 2102100 | GG8: =HARMEAN(GA8:GD8) -> 1084541.1 | GH8: =GA8*1.2081 -> 513540.36 | GI8: =+GH8+(GH8*20.5%) -> 618816.13 | GJ8: =VLOOKUP(B8,'[2]RESPUESTOS '!$B$11:$T$246,19,0) -> 309171 | GK8: 1770000 | GL8: 1725000 | GM8: 1673300 | GN8: =AVERAGE(GJ8:GM8) -> 1369367.8 | GO8: =MEDIAN(GJ8:GM8) -> 1699150 | GP8: =HARMEAN(GJ8:GM8) -> 803735.86 | GQ8: =GJ8*1.2081 -> 373509.49 | GR8: =+GQ8+(GQ8*20.5%) -> 450078.93 | GS8: =VLOOKUP(B8,'[2]RESPUESTOS '!$B$11:$H$246,7,0) -> 271938 | GT8: 1400000 | GU8: 1035000 | GV8: 993600 | GW8: =AVERAGE(GS8:GV8) -> 925134.5 | GX8: =MEDIAN(GS8:GV8) -> 1014300 | GY8: =HARMEAN(GS8:GV8) -> 628513.85 | GZ8: =GS8*1.2081 -> 328528.3 | HA8: =+GZ8+(GZ8*20.5%) -> 395876.6 | HB8: =VLOOKUP(B8,'[2]RESPUESTOS '!$B$11:$D$246,3,0) -> 270187 | HC8: 1400000 | HD8: 1035000 | HE8: 1004000 | HF8: =AVERAGE(HB8:HE8) -> 927296.75 | HG8: =MEDIAN(HB8:HE8) -> 1019500 | HH8: =HARMEAN(HB8:HE8) -> 627192.67 | HI8: =HB8*1.2081 -> 326412.91 | HJ8: =+HI8+(HI8*20.5%) -> 393327.56 | HK8: =VLOOKUP(B8,'[2]RESPUESTOS '!$B$11:$CB$246,79,0) -> 411223 | HL8: 2615000 | HM8: 2145000 | HN8: 2102000 | HO8: =AVERAGE(HK8:HN8) -> 1818305.8 | HP8: =MEDIAN(HK8:HN8) -> 2123500 | HQ8: =HARMEAN(HK8:HN8) -> 1064929.4 | HR8: =HK8*1.2081 -> 496798.51 | HS8: =+HR8+(HR8*20.5%) -> 598642.2 | HT8: 1300068 | HU8: 2615000 | HV8: 2848000 | HW8: 2734100 | HX8: =AVERAGE(HU8:HW8) -> 2732366.7 | HY8: =MEDIAN(HU8:HW8) -> 2734100 | HZ8: =HARMEAN(HU8:HW8) -> 2729049.5 | IA8: =HT8*1.2081 -> 1570612.2 | IB8: =+IA8+(IA8*20.5%) -> 1892587.6 | IC8: 1386000 | ID8: 2265000 | IE8: 2848000 | IF8: 2705600 | IG8: =AVERAGE(ID8:IF8) -> 2606200 | IH8: =MEDIAN(ID8:IF8) -> 2705600 | II8: =HARMEAN(ID8:IF8) -> 2581248 | IJ8: =IC8*1.2081 -> 1674426.6 | IK8: =+IJ8+(IJ8*20.5%) -> 2017684.1 | IM8: =(K8+T8+AC8+AL8+AU8+BD8+BM8+BV8+CE8+CN8+CW8+DF8+DO8+DX8+EG8+EP8+EY8+FH8+FQ8+FZ8+GI8+GR8+HA8+HJ8+HS8+IB8+IK8)/27 -> 755974.16
A9: 2 | B9: LUBRICACIÓN 2 (CAMBIAR FILTRO DE ACEITE, FILTRO DE AIRE, FILTROS DE COMBUSTIBLE, ACEITE MOTOR, INCLUYE INSUMOS Y MANO DE OBRA) | C9: =VLOOKUP(B9,[1]Hoja1!$B$9:$D$244,3,0) -> 668861 | D9: 2447000 | E9: 3823000 | F9: 3746500 | G9: =AVERAGE(C9:F9) -> 2671340.2 | H9: =MEDIAN(C9:F9) -> 3096750 | I9: =HARMEAN(C9:F9) -> 1644579.2 | J9: =C9*1.051 -> 702972.91 | K9: =+J9+(J9*20.5%) -> 847082.36 | L9: =VLOOKUP(B9,[1]Hoja1!$B$9:$L$244,11,0) -> 685815 | M9: 2548000 | N9: 3823000 | O9: 3670100 | P9: =AVERAGE(L9:O9) -> 2681728.8 | Q9: =MEDIAN(L9:O9) -> 3109050 | R9: =HARMEAN(L9:O9) -> 1677408.6 | S9: =L9*1.051 -> 720791.56 | T9: =+S9+(S9*20.5%) -> 868553.84 | U9: =[1]Hoja1!$T$10 -> 660856 | V9: 2417000 | W9: 3058400 | X9: 2936100 | Y9: =AVERAGE(U9:X9) -> 2268089 | Z9: =MEDIAN(U9:X9) -> 2676550 | AA9: =HARMEAN(U9:X9) -> 1541734 | AB9: =U9*1.051 -> 694559.66 | AC9: =+AB9+(AB9*20.5%) -> 836944.39 | AD9: =VLOOKUP(B9,[1]Hoja1!$B$9:$V$244,21,0) -> 728853 | AE9: 2604000 | AF9: 2905480 | AG9: 2731200 | AH9: =AVERAGE(AD9:AG9) -> 2242383.2 | AI9: =MEDIAN(AD9:AG9) -> 2667600 | AJ9: =HARMEAN(AD9:AG9) -> 1621823.3 | AK9: =AD9*1.051 -> 766024.5 | AL9: =+AK9+(AK9*20.5%) -> 923059.53 | AM9: =VLOOKUP(B9,[1]Hoja1!$B$9:$X$244,23,0) -> 687007 | AN9: 2454000 | AO9: 2599640 | AP9: 2391700 | AQ9: =AVERAGE(AM9:AP9) -> 2033086.8 | AR9: =MEDIAN(AM9:AP9) -> 2422850 | AS9: =HARMEAN(AM9:AP9) -> 1500449.1 | AT9: =AM9*1.051 -> 722044.36 | AU9: =+AT9+(AT9*20.5%) -> 870063.45 | AV9: =VLOOKUP(B9,[1]Hoja1!$B$9:$Z$244,25,0) -> 564900 | AW9: 2066000 | AX9: 2599640 | AY9: 2469700 | AZ9: =AVERAGE(AV9:AY9) -> 1925060 | BA9: =MEDIAN(AV9:AY9) -> 2267850 | BB9: =HARMEAN(AV9:AY9) -> 1314134.7 | BC9: =AV9*1.051 -> 593709.9 | BD9: =+BC9+(BC9*20.5%) -> 715420.43 | BE9: =VLOOKUP(B9,[1]Hoja1!$B$9:$AB$244,27,0) -> 621390 | BF9: 2486000 | BG9: 3058400 | BH9: 2966600 | BI9: =AVERAGE(BE9:BH9) -> 2283097.5 | BJ9: =MEDIAN(BE9:BH9) -> 2726300 | BK9: =HARMEAN(BE9:BH9) -> 1494990.4 | BL9: =BE9*1.051 -> 653080.89 | BM9: =+BL9+(BL9*20.5%) -> 786962.47 | BN9: =VLOOKUP(B9,[1]Hoja1!$B$9:$AD$244,29,0) -> 621390 | BO9: 2220000 | BP9: 3058400 | BQ9: 2997200 | BR9: =AVERAGE(BN9:BQ9) -> 2224247.5 | BS9: =MEDIAN(BN9:BQ9) -> 2608600 | BT9: =HARMEAN(BN9:BQ9) -> 1470394.3 | BU9: =BN9*1.051 -> 653080.89 | BV9: =+BU9+(BU9*20.5%) -> 786962.47 | BW9: =VLOOKUP(B9,[1]Hoja1!$B$9:$AF$244,31,0) -> 598606 | BX9: 1720000 | BY9: 2599640 | BZ9: 2417700 | CA9: =AVERAGE(BW9:BZ9) -> 1833986.5 | CB9: =MEDIAN(BW9:BZ9) -> 2068850 | CC9: =HARMEAN(BW9:BZ9) -> 1311377.3 | CD9: =BW9*1.051 -> 629134.91 | CE9: =+CD9+(CD9*20.5%) -> 758107.56 | CF9: =VLOOKUP(B9,[1]Hoja1!$B$9:$AJ$244,35,0) -> 564900 | CG9: 1620000 | CH9: 1767800 | CI9: 1732400 | CJ9: =AVERAGE(CF9:CI9) -> 1421275 | CK9: =MEDIAN(CF9:CI9) -> 1676200 | CL9: =HARMEAN(CF9:CI9) -> 1133010.5 | CM9: =CF9*1.051 -> 593709.9 | CN9: =+CM9+(CM9*20.5%) -> 715420.43 | CO9: =VLOOKUP(B9,[1]Hoja1!$B$9:$AL$244,37,0) -> 664022 | CP9: 2380000 | CQ9: 2599640 | CR9: 2469700 | CS9: =AVERAGE(CO9:CR9) -> 2028340.5 | CT9: =MEDIAN(CO9:CR9) -> 2424850 | CU9: =HARMEAN(CO9:CR9) -> 1472906.8 | CV9: =CO9*1.051 -> 697887.12 | CW9: =+CV9+(CV9*20.5%) -> 840953.98 | CX9: =VLOOKUP(B9,[1]Hoja1!$B$9:$AN$244,39,0) -> 641113 | CY9: 2110000 | CZ9: 2905480 | DA9: 2760000 | DB9: =AVERAGE(CX9:DA9) -> 2104148.2 | DC9: =MEDIAN(CX9:DA9) -> 2435000 | DD9: =HARMEAN(CX9:DA9) -> 1459738.3 | DE9: =CX9*1.051 -> 673809.76 | DF9: =+DE9+(DE9*20.5%) -> 811940.76 | DG9: =VLOOKUP(B9,[1]Hoja1!$B$9:$AR$244,43,0) -> 802830 | DH9: 2753000 | DI9: 2293800 | DJ9: 2202000 | DK9: =AVERAGE(DG9:DJ9) -> 2012907.5 | DL9: =MEDIAN(DG9:DJ9) -> 2247900 | DM9: =HARMEAN(DG9:DJ9) -> 1600688.8 | DN9: =DG9*1.051 -> 843774.33 | DO9: =+DN9+(DN9*20.5%) -> 1016748.1 | DP9: =VLOOKUP(B9,[1]Hoja1!$B$9:$AT$244,45,0) -> 802830 | DQ9: 2937000 | DR9: 2293800 | DS9: 2179100 | DT9: =AVERAGE(DP9:DS9) -> 2053182.5 | DU9: =MEDIAN(DP9:DS9) -> 2236450 | DV9: =HARMEAN(DP9:DS9) -> 1612292.1 | DW9: =DP9*1.051 -> 843774.33 | DX9: =+DW9+(DW9*20.5%) -> 1016748.1 | DY9: =VLOOKUP(B9,[1]Hoja1!$B$9:$AV$244,47,0) -> 909874 | DZ9: 3120000 | EA9: 2599640 | EB9: 2469700 | EC9: =AVERAGE(DY9:EB9) -> 2274803.5 | ED9: =MEDIAN(DY9:EB9) -> 2534670 | EE9: =HARMEAN(DY9:EB9) -> 1810657.5 | EF9: =DY9*1.051 -> 956277.57 | EG9: =+EF9+(EF9*20.5%) -> 1152314.5 | EH9: =VLOOKUP(B9,[1]Hoja1!$B$9:$AX$244,49,0) -> 968101 | EI9: 3458000 | EJ9: 3440700 | EK9: 3199900 | EL9: =AVERAGE(EH9:EK9) -> 2766675.2 | EM9: =MEDIAN(EH9:EK9) -> 3320300 | EN9: =HARMEAN(EH9:EK9) -> 2077616.8 | EO9: =EH9*1.051 -> 1017474.2 | EP9: =+EO9+(EO9*20.5%) -> 1226056.4 | EQ9: =VLOOKUP(B9,[1]Hoja1!$B$9:$AZ$244,51,0) -> 835664 | ER9: 2746000 | ES9: 3440700 | ET9: 3199900 | EU9: =AVERAGE(EQ9:ET9) -> 2555566 | EV9: =MEDIAN(EQ9:ET9) -> 2972950 | EW9: =HARMEAN(EQ9:ET9) -> 1848456.5 | EX9: =EQ9*1.2081 -> 1009565.7 | EY9: =+EX9+(EX9*20.5%) -> 1216526.6 | EZ9: =VLOOKUP(B9,'[2]RESPUESTOS '!$B$11:$BH$246,59,0) -> 524512 | FA9: 2417000 | FB9: 2747800 | FC9: 2610400 | FD9: =AVERAGE(EZ9:FC9) -> 2074928 | FE9: =MEDIAN(EZ9:FC9) -> 2513700 | FF9: =HARMEAN(EZ9:FC9) -> 1304086.7 | FG9: =EZ9*1.2081 -> 633662.95 | FH9: =+FG9+(FG9*20.5%) -> 763563.85 | FI9: =VLOOKUP(B9,'[2]RESPUESTOS '!$B$11:$CJ$246,87,0) -> 514489 | FJ9: 2900400 | FK9: 2810800 | FL9: 2670300 | FM9: =AVERAGE(FI9:FL9) -> 2223997.2 | FN9: =MEDIAN(FI9:FL9) -> 2740550 | FO9: =HARMEAN(FI9:FL9) -> 1325066.4 | FP9: =FI9*1.2081 -> 621554.16 | FQ9: =+FP9+(FP9*20.5%) -> 748972.76 | FR9: =VLOOKUP(B9,'[2]RESPUESTOS '!$B$11:$BX$246,75,0) -> 480845 | FS9: 2417000 | FT9: 2623200 | FU9: 2570700 | FV9: =AVERAGE(FR9:FU9) -> 2022936.2 | FW9: =MEDIAN(FR9:FU9) -> 2493850 | FX9: =HARMEAN(FR9:FU9) -> 1225632.4 | FY9: =FR9*1.2081 -> 580908.84 | FZ9: =+FY9+(FY9*20.5%) -> 699995.16 | GA9: =VLOOKUP(B9,'[2]RESPUESTOS '!$B$11:$CN$246,91,0) -> 556064 | GB9: 2780000 | GC9: 2841600 | GD9: 2756400 | GE9: =AVERAGE(GA9:GD9) -> 2233516 | GF9: =MEDIAN(GA9:GD9) -> 2768200 | GG9: =HARMEAN(GA9:GD9) -> 1392383 | GH9: =GA9*1.2081 -> 671780.92 | GI9: =+GH9+(GH9*20.5%) -> 809496.01 | GJ9: =VLOOKUP(B9,'[2]RESPUESTOS '!$B$11:$T$246,19,0) -> 400131 | GK9: 2110000 | GL9: 2109200 | GM9: 2067000 | GN9: =AVERAGE(GJ9:GM9) -> 1671582.8 | GO9: =MEDIAN(GJ9:GM9) -> 2088100 | GP9: =HARMEAN(GJ9:GM9) -> 1017547.2 | GQ9: =GJ9*1.2081 -> 483398.26 | GR9: =+GQ9+(GQ9*20.5%) -> 582494.9 | GS9: =VLOOKUP(B9,'[2]RESPUESTOS '!$B$11:$H$246,7,0) -> 398992 | GT9: 1620000 | GU9: 1265500 | GV9: 1176900 | GW9: =AVERAGE(GS9:GV9) -> 1115348 | GX9: =MEDIAN(GS9:GV9) -> 1221200 | GY9: =HARMEAN(GS9:GV9) -> 839720.24 | GZ9: =GS9*1.2081 -> 482022.24 | HA9: =+GZ9+(GZ9*20.5%) -> 580836.79 | HB9: =VLOOKUP(B9,'[2]RESPUESTOS '!$B$11:$D$246,3,0) -> 438887 | HC9: 1620000 | HD9: 1265500 | HE9: 1240200 | HF9: =AVERAGE(HB9:HE9) -> 1141146.8 | HG9: =MEDIAN(HB9:HE9) -> 1252850 | HH9: =HARMEAN(HB9:HE9) -> 890412.91 | HI9: =HB9*1.2081 -> 530219.38 | HJ9: =+HI9+(HI9*20.5%) -> 638914.36 | HK9: =VLOOKUP(B9,'[2]RESPUESTOS '!$B$11:$CB$246,79,0) -> 523270 | HL9: 3458000 | HM9: 2841600 | HN9: 2700000 | HO9: =AVERAGE(HK9:HN9) -> 2380717.5 | HP9: =MEDIAN(HK9:HN9) -> 2770800 | HQ9: =HARMEAN(HK9:HN9) -> 1368677.8 | HR9: =HK9*1.2081 -> 632162.49 | HS9: =+HR9+(HR9*20.5%) -> 761755.8 | HT9: 1709036 | HU9: 3458000 | HV9: 3823000 | HW9: 3631900 | HX9: =AVERAGE(HU9:HW9) -> 3637633.3 | HY9: =MEDIAN(HU9:HW9) -> 3631900 | HZ9: =HARMEAN(HU9:HW9) -> 3631534.1 | IA9: =HT9*1.2081 -> 2064686.4 | IB9: =+IA9+(IA9*20.5%) -> 2487947.1 | IC9: 1822000 | ID9: 2417000 | IE9: 3823000 | IF9: 3670100 | IG9: =AVERAGE(ID9:IF9) -> 3303366.7 | IH9: =MEDIAN(ID9:IF9) -> 3670100 | II9: =HARMEAN(ID9:IF9) -> 3165282 | IJ9: =IC9*1.2081 -> 2201158.2 | IK9: =+IJ9+(IJ9*20.5%) -> 2652395.6 | IM9: =(K9+T9+AC9+AL9+AU9+BD9+BM9+BV9+CE9+CN9+CW9+DF9+DO9+DX9+EG9+EP9+EY9+FH9+FQ9+FZ9+GI9+GR9+HA9+HJ9+HS9+IB9+IK9)/27 -> 967268.06
A10: 3 | B10: LUBRICACIÓN 3 (CAMBIAR FILTRO DE ACEITE, FILTRO DE AIRE, FILTROS DE COMBUSTIBLE, FILTRO DE AIRE ACONDICIONADO, ACEITE MOTOR, LIQUIDO DE FRENOS, NIVELAR ACEITE CAJA Y TRANSMISIÓN, NIVELAR ACEITE CAJA DE DIRECCIÓN, ENGRASE DE RODAMIENTOS, INCLUYE INSUMOS Y MANO DE OBRA) | C10: 711671 | D10: 2603000 | E10: 4256500 | F10: 4043700 | G10: =AVERAGE(C10:F10) -> 2903717.8 | H10: =MEDIAN(C10:F10) -> 3323350 | I10: =HARMEAN(D10:F10) -> 3462583.2 | J10: =+C10*1.051 -> 747966.22 | K10: =+J10+(J10*20.5%) -> 901299.3 | L10: 712770 | M10: 2648000 | N10: 4256500 | O10: 3958500 | P10: =AVERAGE(L10:O10) -> 2893942.5 | Q10: =MEDIAN(L10:O10) -> 3303250 | R10: =HARMEAN(M10:O10) -> 3467409.4 | S10: =L10*1.051 -> 749121.27 | T10: =+S10+(S10*20.5%) -> 902691.13 | U10: 717524 | V10: 2625000 | W10: 3405200 | X10: 3371100 | Y10: =AVERAGE(U10:X10) -> 2529706 | Z10: =MEDIAN(U10:X10) -> 2998050 | AA10: =HARMEAN(V10:X10) -> 3088771.4 | AB10: =U10*1.051 -> 754117.72 | AC10: =+AB10+(AB10*20.5%) -> 908711.86 | AD10: 796426 | AE10: 2845000 | AF10: 3234940 | AG10: 2976100 | AH10: =AVERAGE(AD10:AG10) -> 2463116.5 | AI10: =MEDIAN(AD10:AG10) -> 2910550 | AJ10: =HARMEAN(AE10:AG10) -> 3010147.8 | AK10: =AD10*1.051 -> 837043.73 | AL10: =+AK10+(AK10*20.5%) -> 1008637.7 | AM10: 750395 | AN10: 2680000 | AO10: 2894420 | AP10: 2836500 | AQ10: =AVERAGE(AM10:AP10) -> 2290328.8 | AR10: =MEDIAN(AM10:AP10) -> 2758250 | AS10: =HARMEAN(AN10:AP10) -> 2800665.8 | AT10: =AM10*1.051 -> 788665.14 | AU10: =+AT10+(AT10*20.5%) -> 950341.5 | AV10: 601650 | AW10: 2201000 | AX10: 2894420 | AY10: 2605000 | AZ10: =AVERAGE(AV10:AY10) -> 2075517.5 | BA10: =MEDIAN(AV10:AY10) -> 2403000 | BB10: =HARMEAN(AW10:AY10) -> 2534407.8 | BC10: =AV10*1.051 -> 632334.15 | BD10: =+BC10+(BC10*20.5%) -> 761962.65 | BE10: 661815 | BF10: 2648000 | BG10: 3405200 | BH10: 3234900 | BI10: =AVERAGE(BE10:BH10) -> 2487478.8 | BJ10: =MEDIAN(BE10:BH10) -> 2941450 | BK10: =HARMEAN(BF10:BH10) -> 3059848.9 | BL10: =BE10*1.051 -> 695567.56 | BM10: =+BL10+(BL10*20.5%) -> 838158.92 | BN10: 661815 | BO10: 2364000 | BP10: 3405200 | BQ10: 3371100 | BR10: =AVERAGE(BN10:BQ10) -> 2450528.8 | BS10: =MEDIAN(BN10:BQ10) -> 2867550 | BT10: =HARMEAN(BO10:BQ10) -> 2960566.9 | BU10: =BN10*1.051 -> 695567.56 | BV10: =+BU10+(BU10*20.5%) -> 838158.92 | BW10: 637657 | BX10: 1830000 | BY10: 2894420 | BZ10: 2720800 | CA10: =AVERAGE(BW10:BZ10) -> 2020719.2 | CB10: =MEDIAN(BW10:BZ10) -> 2275400 | CC10: =HARMEAN(BX10:BZ10) -> 2381936.5 | CD10: =BW10*1.051 -> 670177.51 | CE10: =+CD10+(CD10*20.5%) -> 807563.9 | CF10: 684817 | CG10: 1960000 | CH10: 1968200 | CI10: 1909200 | CJ10: =AVERAGE(CF10:CI10) -> 1630554.2 | CK10: =MEDIAN(CF10:CI10) -> 1934600 | CL10: =HARMEAN(CG10:CI10) -> 1945446.9 | CM10: =CF10*1.051 -> 719742.67 | CN10: =+CM10+(CM10*20.5%) -> 867289.91 | CO10: 764969 | CP10: 2740000 | CQ10: 2894420 | CR10: 2778600 | CS10: =AVERAGE(CO10:CR10) -> 2294497.2 | CT10: =MEDIAN(CO10:CR10) -> 2759300 | CU10: =HARMEAN(CP10:CR10) -> 2802823.2 | CV10: =CO10*1.051 -> 803982.42 | CW10: =+CV10+(CV10*20.5%) -> 968798.81 | CX10: 661815 | CY10: 2180000 | CZ10: 3234940 | DA10: 3106000 | DB10: =AVERAGE(CX10:DA10) -> 2295688.8 | DC10: =MEDIAN(CX10:DA10) -> 2643000 | DD10: =HARMEAN(CY10:DA10) -> 2752804.1 | DE10: =CX10*1.051 -> 695567.56 | DF10: =+DE10+(DE10*20.5%) -> 838158.92 | DG10: 893865 | DH10: 3065000 | DI10: 2553900 | DJ10: 2426200 | DK10: =AVERAGE(DG10:DJ10) -> 2234741.2 | DL10: =MEDIAN(DG10:DJ10) -> 2490050 | DM10: =HARMEAN(DH10:DJ10) -> 2654892 | DN10: =DG10*1.051 -> 939452.11 | DO10: =+DN10+(DN10*20.5%) -> 1132039.8 | DP10: 893865 | DQ10: 3269000 | DR10: 2553900 | DS10: 2451700 | DT10: =AVERAGE(DP10:DS10) -> 2292116.2 | DU10: =MEDIAN(DP10:DS10) -> 2502800 | DV10: =HARMEAN(DQ10:DS10) -> 2714091.6 | DW10: =DP10*1.051 -> 939452.11 | DX10: =+DW10+(DW10*20.5%) -> 1132039.8 | DY10: 1013047 | DZ10: 3480000 | EA10: 2894420 | EB10: 2778600 | EC10: =AVERAGE(DY10:EB10) -> 2541516.8 | ED10: =MEDIAN(DY10:EB10) -> 2836510 | EE10: =HARMEAN(DZ10:EB10) -> 3021932.7 | EF10: =DY10*1.051 -> 1064712.4 | EG10: =+EF10+(EF10*20.5%) -> 1282978.4 | EH10: 1049798 | EI10: 3750000 | EJ10: 3830850 | EK10: 3601000 | EL10: =AVERAGE(EH10:EK10) -> 3057912 | EM10: =MEDIAN(EH10:EK10) -> 3675500 | EN10: =HARMEAN(EI10:EK10) -> 3724829.6 | EO10: =EH10*1.051 -> 1103337.7 | EP10: =+EO10+(EO10*20.5%) -> 1329521.9 | EQ10: 901132 | ER10: 2961000 | ES10: 3830850 | ET10: 3524400 | EU10: =AVERAGE(EQ10:ET10) -> 2804345.5 | EV10: =MEDIAN(EQ10:ET10) -> 3242700 | EW10: =HARMEAN(EQ10:ET10) -> 2007816.4 | EX10: =EQ10*1.2081 -> 1088657.6 | EY10: =+EX10+(EX10*20.5%) -> 1311832.4 | EZ10: 619389 | FA10: 2625000 | FB10: 3002800 | FC10: 2882700 | FD10: =AVERAGE(EZ10:FC10) -> 2282472.2 | FE10: =MEDIAN(EZ10:FC10) -> 2753850 | FF10: =HARMEAN(FA10:FC10) -> 2827862.6 | FG10: =EZ10*1.2081 -> 748283.85 | FH10: =+FG10+(FG10*20.5%) -> 901682.04 | FI10: 558307 | FJ10: 3150000 | FK10: 3037200 | FL10: 2855000 | FM10: =AVERAGE(FI10:FL10) -> 2400126.8 | FN10: =MEDIAN(FI10:FL10) -> 2946100 | FO10: =HARMEAN(FJ10:FL10) -> 3009106.6 | FP10: =FI10*1.2081 -> 674490.69 | FQ10: =+FP10+(FP10*20.5%) -> 812761.28 | FR10: 536116 | FS10: 2625000 | FT10: 2936600 | FU10: 2789800 | FV10: =AVERAGE(FR10:FU10) -> 2221879 | FW10: =MEDIAN(FR10:FU10) -> 2707400 | FX10: =HARMEAN(FS10:FU10) -> 2777955.6 | FY10: =FR10*1.2081 -> 647681.74 | FZ10: =+FY10+(FY10*20.5%) -> 780456.5 | GA10: 582179 | GB10: 3019000 | GC10: 3193600 | GD10: 3129700 | GE10: =AVERAGE(GA10:GD10) -> 2481119.8 | GF10: =MEDIAN(GA10:GD10) -> 3074350 | GG10: =HARMEAN(GB10:GD10) -> 3112416.7 | GH10: =GA10*1.2081 -> 703330.45 | GI10: =+GH10+(GH10*20.5%) -> 847513.19 | GJ10: 516747 | GK10: 2180000 | GL10: 2777200 | GM10: 2749400 | GN10: =AVERAGE(GJ10:GM10) -> 2055836.8 | GO10: =MEDIAN(GJ10:GM10) -> 2464700 | GP10: =HARMEAN(GK10:GM10) -> 2536984.6 | GQ10: =GJ10*1.2081 -> 624282.05 | GR10: =+GQ10+(GQ10*20.5%) -> 752259.87 | GS10: 519510 | GT10: 1960000 | GU10: 1666300 | GV10: 1533000 | GW10: =AVERAGE(GS10:GV10) -> 1419702.5 | GX10: =MEDIAN(GS10:GV10) -> 1599650 | GY10: =HARMEAN(GT10:GV10) -> 1701981 | GZ10: =GS10*1.2081 -> 627620.03 | HA10: =+GZ10+(GZ10*20.5%) -> 756282.14 | HB10: 508864 | HC10: 1960000 | HD10: 1666300 | HE10: 1583000 | HF10: =AVERAGE(HB10:HE10) -> 1429541 | HG10: =MEDIAN(HB10:HE10) -> 1624650 | HH10: =HARMEAN(HC10:HE10) -> 1722110.9 | HI10: =HB10*1.2081 -> 614758.6 | HJ10: =+HI10+(HI10*20.5%) -> 740784.11 | HK10: 586585 | HL10: 3750000 | HM10: 3193600 | HN10: 3066000 | HO10: =AVERAGE(HK10:HN10) -> 2649046.2 | HP10: =MEDIAN(HK10:HN10) -> 3129800 | HQ10: =HARMEAN(HL10:HN10) -> 3311438.2 | HR10: =HK10*1.2081 -> 708653.34 | HS10: =+HR10+(HR10*20.5%) -> 853927.27 | HT10: 1709036 | HU10: 3750000 | HV10: 4256500 | HW10: 4086200 | HX10: =AVERAGE(HU10:HW10) -> 4030900 | HY10: =MEDIAN(HU10:HW10) -> 4086200 | HZ10: =HARMEAN(HU10:HW10) -> 4019682.4 | IA10: =HT10*1.2081 -> 2064686.4 | IB10: =+IA10+(IA10*20.5%) -> 2487947.1 | IC10: 1822000 | ID10: 2625000 | IE10: 4256500 | IF10: 4213900 | IG10: =AVERAGE(ID10:IF10) -> 3698466.7 | IH10: =MEDIAN(ID10:IF10) -> 4213900 | II10: =HARMEAN(ID10:IF10) -> 3516186.6 | IJ10: =IC10*1.2081 -> 2201158.2 | IK10: =+IJ10+(IJ10*20.5%) -> 2652395.6 | IM10: =(K10+T10+AC10+AL10+AU10+BD10+BM10+BV10+CE10+CN10+CW10+DF10+DO10+DX10+EG10+EP10+EY10+FH10+FQ10+FZ10+GI10+GR10+HA10+HJ10+HS10+IB10+IK10)/27 -> 1050599.8
A11: 4 | B11: LUBRICACIÓN 4 (CAMBIAR FILTRO DE ACEITE, FILTRO DE AIRE, FILTROS DE COMBUSTIBLE, FILTRO DE AIRE ACONDICIONADO, ACEITE MOTOR, LIQUIDO DE FRENOS, LIQUIDO REFRIGERANTE, ACEITE CAJA Y TRANSMISIÓN, ACEITE CAJA DE DIRECCIÓN, ENGRASE DE RODAMIENTOS, INCLUYE INSUMOS Y MANO DE OBRA) | C11: 957618 | D11: 3503000 | E11: 5330000 | F11: 5116800 | G11: =AVERAGE(C11:F11) -> 3726854.5 | H11: =MEDIAN(C11:F11) -> 4309900 | I11: =HARMEAN(D11:F11) -> 4487514.6 | J11: =+C11*1.051 -> 1006456.5 | K11: =+J11+(J11*20.5%) -> 1212780.1 | L11: 952382 | M11: 3538000 | N11: 5330000 | O11: 5010200 | P11: =AVERAGE(L11:O11) -> 3707645.5 | Q11: =MEDIAN(L11:O11) -> 4274100 | R11: =HARMEAN(M11:O11) -> 4478576.8 | S11: =L11*1.051 -> 1000953.5 | T11: =+S11+(S11*20.5%) -> 1206148.9 | U11: 948373 | V11: 3469000 | W11: 4264000 | X11: 4136100 | Y11: =AVERAGE(U11:X11) -> 3204368.2 | Z11: =MEDIAN(U11:X11) -> 3802550 | AA11: =HARMEAN(V11:X11) -> 3923811.4 | AB11: =U11*1.051 -> 996740.02 | AC11: =+AB11+(AB11*20.5%) -> 1201071.7 | AD11: 1010714 | AE11: 3610000 | AF11: 4050800 | AG11: 3969800 | AH11: =AVERAGE(AD11:AG11) -> 3160328.5 | AI11: =MEDIAN(AD11:AG11) -> 3789900 | AJ11: =HARMEAN(AE11:AG11) -> 3867100.7 | AK11: =AD11*1.051 -> 1062260.4 | AL11: =+AK11+(AK11*20.5%) -> 1280023.8 | AM11: 954324 | AN11: 3409000 | AO11: 3624400 | AP11: 3443200 | AQ11: =AVERAGE(AM11:AP11) -> 2857731 | AR11: =MEDIAN(AM11:AP11) -> 3426100 | AS11: =HARMEAN(AN11:AP11) -> 3489685.2 | AT11: =AM11*1.051 -> 1002994.5 | AU11: =+AT11+(AT11*20.5%) -> 1208608.4 | AV11: 762790 | AW11: 2790000 | AX11: 3624400 | AY11: 3479400 | AZ11: =AVERAGE(AV11:AY11) -> 2664147.5 | BA11: =MEDIAN(AV11:AY11) -> 3134700 | BB11: =HARMEAN(AW11:AY11) -> 3254726.1 | BC11: =AV11*1.051 -> 801692.29 | BD11: =+BC11+(BC11*20.5%) -> 966039.21 | BE11: 844668 | BF11: 3379000 | BG11: 4264000 | BH11: 4093400 | BI11: =AVERAGE(BE11:BH11) -> 3145267 | BJ11: =MEDIAN(BE11:BH11) -> 3736200 | BK11: =HARMEAN(BF11:BH11) -> 3872152.8 | BL11: =BE11*1.051 -> 887746.07 | BM11: =+BL11+(BL11*20.5%) -> 1069734 | BN11: 824056 | BO11: 2944000 | BP11: 4264000 | BQ11: 4050800 | BR11: =AVERAGE(BN11:BQ11) -> 3020714 | BS11: =MEDIAN(BN11:BQ11) -> 3497400 | BT11: =HARMEAN(BO11:BQ11) -> 3653812 | BU11: =BN11*1.051 -> 866082.86 | BV11: =+BU11+(BU11*20.5%) -> 1043629.8 | BW11: 792671 | BX11: 2270000 | BY11: 3624400 | BZ11: 3443200 | CA11: =AVERAGE(BW11:BZ11) -> 2532567.8 | CB11: =MEDIAN(BW11:BZ11) -> 2856600 | CC11: =HARMEAN(BX11:BZ11) -> 2979548.7 | CD11: =BW11*1.051 -> 833097.22 | CE11: =+CD11+(CD11*20.5%) -> 1003882.2 | CF11: 832811 | CG11: 2380000 | CH11: 2464600 | CI11: 2415300 | CJ11: =AVERAGE(CF11:CI11) -> 2023177.8 | CK11: =MEDIAN(CF11:CI11) -> 2397650 | CL11: =HARMEAN(CG11:CI11) -> 2419470.6 | CM11: =CF11*1.051 -> 875284.36 | CN11: =+CM11+(CM11*20.5%) -> 1054717.7 | CO11: 904872 | CP11: 3240000 | CQ11: 3624400 | CR11: 3370700 | CS11: =AVERAGE(CO11:CR11) -> 2784993 | CT11: =MEDIAN(CO11:CR11) -> 3305350 | CU11: =HARMEAN(CP11:CR11) -> 3404355.8 | CV11: =CO11*1.051 -> 951020.47 | CW11: =+CV11+(CV11*20.5%) -> 1145979.7 | CX11: 889274 | CY11: 2930000 | CZ11: 4050800 | DA11: 3929000 | DB11: =AVERAGE(CX11:DA11) -> 2949768.5 | DC11: =MEDIAN(CX11:DA11) -> 3429500 | DD11: =HARMEAN(CY11:DA11) -> 3560072.6 | DE11: =CX11*1.051 -> 934626.97 | DF11: =+DE11+(DE11*20.5%) -> 1126225.5 | DG11: 1119300 | DH11: 3838000 | DI11: 3198000 | DJ11: 3070100 | DK11: =AVERAGE(DG11:DJ11) -> 2806350 | DL11: =MEDIAN(DG11:DJ11) -> 3134050 | DM11: =HARMEAN(DH11:DJ11) -> 3337152.2 | DN11: =DG11*1.051 -> 1176384.3 | DO11: =+DN11+(DN11*20.5%) -> 1417543.1 | DP11: 1119300 | DQ11: 4094000 | DR11: 3198000 | DS11: 3102100 | DT11: =AVERAGE(DP11:DS11) -> 2878350 | DU11: =MEDIAN(DP11:DS11) -> 3150050 | DV11: =HARMEAN(DQ11:DS11) -> 3411736.6 | DW11: =DP11*1.051 -> 1176384.3 | DX11: =+DW11+(DW11*20.5%) -> 1417543.1 | DY11: 1268540 | DZ11: 4350000 | EA11: 3624400 | EB11: 3515700 | EC11: =AVERAGE(DY11:EB11) -> 3189660 | ED11: =MEDIAN(DY11:EB11) -> 3570050 | EE11: =HARMEAN(DZ11:EB11) -> 3796357.5 | EF11: =DY11*1.051 -> 1333235.5 | EG11: =+EF11+(EF11*20.5%) -> 1606548.8 | EH11: 1371697 | EI11: 4899000 | EJ11: 4797000 | EK11: 4557200 | EL11: =AVERAGE(EH11:EK11) -> 3906224.2 | EM11: =MEDIAN(EH11:EK11) -> 4677100 | EN11: =HARMEAN(EI11:EK11) -> 4746686 | EO11: =EH11*1.051 -> 1441653.5 | EP11: =+EO11+(EO11*20.5%) -> 1737192.5 | EQ11: 1200081 | ER11: 3944000 | ES11: 4797000 | ET11: 4317300 | EU11: =AVERAGE(EQ11:ET11) -> 3564595.2 | EV11: =MEDIAN(EQ11:ET11) -> 4130650 | EW11: =HARMEAN(EQ11:ET11) -> 2619658.4 | EX11: =EQ11*1.2081 -> 1449817.9 | EY11: =+EX11+(EX11*20.5%) -> 1747030.5 | EZ11: 801106 | FA11: 3469000 | FB11: 3934200 | FC11: 3894900 | FD11: =AVERAGE(EZ11:FC11) -> 3024801.5 | FE11: =MEDIAN(EZ11:FC11) -> 3681950 | FF11: =HARMEAN(FA11:FC11) -> 3753778.2 | FG11: =EZ11*1.2081 -> 967816.16 | FH11: =+FG11+(FG11*20.5%) -> 1166218.5 | FI11: 724634 | FJ11: 4162800 | FK11: 3857800 | FL11: 3549200 | FM11: =AVERAGE(FI11:FL11) -> 3073608.5 | FN11: =MEDIAN(FI11:FL11) -> 3703500 | FO11: =HARMEAN(FJ11:FL11) -> 3840286.8 | FP11: =FI11*1.2081 -> 875430.34 | FQ11: =+FP11+(FP11*20.5%) -> 1054893.6 | FR11: 717851 | FS11: 3469000 | FT11: 3875000 | FU11: 3642500 | FV11: =AVERAGE(FR11:FU11) -> 2926087.8 | FW11: =MEDIAN(FR11:FU11) -> 3555750 | FX11: =HARMEAN(FS11:FU11) -> 3654664.7 | FY11: =FR11*1.2081 -> 867235.79 | FZ11: =+FY11+(FY11*20.5%) -> 1045019.1 | GA11: 765207 | GB11: 3990000 | GC11: 4214200 | GD11: 4003500 | GE11: =AVERAGE(GA11:GD11) -> 3243226.8 | GF11: =MEDIAN(GA11:GD11) -> 3996750 | GG11: =HARMEAN(GB11:GD11) -> 4066688.4 | GH11: =GA11*1.2081 -> 924446.58 | GI11: =+GH11+(GH11*20.5%) -> 1113958.1 | GJ11: 695964 | GK11: 2930000 | GL11: 3750200 | GM11: 3562700 | GN11: =AVERAGE(GJ11:GM11) -> 2734716 | GO11: =MEDIAN(GJ11:GM11) -> 3246350 | GP11: =HARMEAN(GK11:GM11) -> 3375962.9 | GQ11: =GJ11*1.2081 -> 840794.11 | GR11: =+GQ11+(GQ11*20.5%) -> 1013156.9 | GS11: 664030 | GT11: 2380000 | GU11: 2250100 | GV11: 2025100 | GW11: =AVERAGE(GS11:GV11) -> 1829807.5 | GX11: =MEDIAN(GS11:GV11) -> 2137600 | GY11: =HARMEAN(GT11:GV11) -> 2208487.8 | GZ11: =GS11*1.2081 -> 802214.64 | HA11: =+GZ11+(GZ11*20.5%) -> 966668.64 | HB11: 681996 | HC11: 2380000 | HD11: 2250100 | HE11: 2160100 | HF11: =AVERAGE(HB11:HE11) -> 1868049 | HG11: =MEDIAN(HB11:HE11) -> 2205100 | HH11: =HARMEAN(HC11:HE11) -> 2259828.6 | HI11: =HB11*1.2081 -> 823919.37 | HJ11: =+HI11+(HI11*20.5%) -> 992822.84 | HK11: 766707 | HL11: 4899000 | HM11: 4214200 | HN11: 4172000 | HO11: =AVERAGE(HK11:HN11) -> 3512976.8 | HP11: =MEDIAN(HK11:HN11) -> 4193100 | HQ11: =HARMEAN(HL11:HN11) -> 4404578.5 | HR11: =HK11*1.2081 -> 926258.73 | HS11: =+HR11+(HR11*20.5%) -> 1116141.8 | HT11: 1709036 | HU11: 4899000 | HV11: 5330000 | HW11: 4956900 | HX11: =AVERAGE(HU11:HW11) -> 5061966.7 | HY11: =MEDIAN(HU11:HW11) -> 4956900 | HZ11: =HARMEAN(HU11:HW11) -> 5054934.1 | IA11: =HT11*1.2081 -> 2064686.4 | IB11: =+IA11+(IA11*20.5%) -> 2487947.1 | IC11: 1822000 | ID11: 3469000 | IE11: 5330000 | IF11: 5170100 | IG11: =AVERAGE(ID11:IF11) -> 4656366.7 | IH11: =MEDIAN(ID11:IF11) -> 5170100 | II11: =HARMEAN(ID11:IF11) -> 4482263.9 | IJ11: =IC11*1.2081 -> 2201158.2 | IK11: =+IJ11+(IJ11*20.5%) -> 2652395.6 | IM11: =(K11+T11+AC11+AL11+AU11+BD11+BM11+BV11+CE11+CN11+CW11+DF11+DO11+DX11+EG11+EP11+EY11+FH11+FQ11+FZ11+GI11+GR11+HA11+HJ11+HS11+IB11+IK11)/27 -> 1298293.4
A12: 5 | B12: 1 LB GRASA USO GENERAL | C12: =VLOOKUP(B12,[1]Hoja1!$B$9:$D$244,3,0) -> 42021 | D12: 120000 | E12: 233000 | F12: 230700 | G12: =AVERAGE(C12:F12) -> 156430.25 | H12: =MEDIAN(C12:F12) -> 175350 | I12: =HARMEAN(C12:F12) -> 98141.597 | J12: =C12*1.051 -> 44164.071 | K12: =+J12+(J12*20.5%) -> 53217.706 | L12: =VLOOKUP(B12,[1]Hoja1!$B$9:$L$244,11,0) -> 35568 | M12: 120000 | N12: 233000 | O12: 226000 | P12: =AVERAGE(L12:O12) -> 153642 | Q12: =MEDIAN(L12:O12) -> 173000 | R12: =HARMEAN(L12:O12) -> 88563.924 | S12: =L12*1.051 -> 37381.968 | T12: =+S12+(S12*20.5%) -> 45045.271 | U12: =VLOOKUP(B12,[1]Hoja1!$B$9:$T$244,19,0) -> 37147 | V12: 120000 | W12: 186400 | X12: 177100 | Y12: =AVERAGE(U12:X12) -> 130161.75 | Z12: =MEDIAN(U12:X12) -> 148550 | AA12: =HARMEAN(U12:X12) -> 86458.928 | AB12: =U12*1.051 -> 39041.497 | AC12: =+AB12+(AB12*20.5%) -> 47045.004 | AD12: =VLOOKUP(B12,[1]Hoja1!$B$9:$V$244,21,0) -> 42306 | AE12: 120000 | AF12: 177080 | AG12: 168200 | AH12: =AVERAGE(AD12:AG12) -> 126896.5 | AI12: =MEDIAN(AD12:AG12) -> 144100 | AJ12: =HARMEAN(AD12:AG12) -> 91820.807 | AK12: =AD12*1.051 -> 44463.606 | AL12: =+AK12+(AK12*20.5%) -> 53578.645 | AM12: =VLOOKUP(B12,[1]Hoja1!$B$9:$X$244,23,0) -> 39822 | AN12: 120000 | AO12: 158440 | AP12: 153700 | AQ12: =AVERAGE(AM12:AP12) -> 117990.5 | AR12: =MEDIAN(AM12:AP12) -> 136850 | AS12: =HARMEAN(AM12:AP12) -> 86462.559 | AT12: =AM12*1.051 -> 41852.922 | AU12: =+AT12+(AT12*20.5%) -> 50432.771 | AV12: =VLOOKUP(B12,[1]Hoja1!$B$9:$Z$244,25,0) -> 30800 | AW12: 120000 | AX12: 158440 | AY12: 142600 | AZ12: =AVERAGE(AV12:AY12) -> 112960 | BA12: =MEDIAN(AV12:AY12) -> 131300 | BB12: =HARMEAN(AV12:AY12) -> 73902.967 | BC12: =AV12*1.051 -> 32370.8 | BD12: =+BC12+(BC12*20.5%) -> 39006.814 | BE12: =VLOOKUP(B12,[1]Hoja1!$B$9:$AB$244,27,0) -> 33880 | BF12: 120000 | BG12: 186400 | BH12: 180800 | BI12: =AVERAGE(BE12:BH12) -> 130270 | BJ12: =MEDIAN(BE12:BH12) -> 150400 | BK12: =HARMEAN(BE12:BH12) -> 82059.61 | BL12: =BE12*1.051 -> 35607.88 | BM12: =+BL12+(BL12*20.5%) -> 42907.495 | BN12: =VLOOKUP(B12,[1]Hoja1!$B$9:$AD$244,29,0) -> 33880 | BO12: 120000 | BP12: 186400 | BQ12: 180800 | BR12: =AVERAGE(BN12:BQ12) -> 130270 | BS12: =MEDIAN(BN12:BQ12) -> 150400 | BT12: =HARMEAN(BN12:BQ12) -> 82059.61 | BU12: =BN12*1.051 -> 35607.88 | BV12: =+BU12+(BU12*20.5%) -> 42907.495 | BW12: =VLOOKUP(B12,[1]Hoja1!$B$9:$AF$244,31,0) -> 32297 | BX12: 120000 | BY12: 158440 | BZ12: 152100 | CA12: =AVERAGE(BW12:BZ12) -> 115709.25 | CB12: =MEDIAN(BW12:BZ12) -> 136050 | CC12: =HARMEAN(BW12:BZ12) -> 76654.608 | CD12: =BW12*1.051 -> 33944.147 | CE12: =+CD12+(CD12*20.5%) -> 40902.697 | CF12: =VLOOKUP(B12,[1]Hoja1!$B$9:$AJ$244,35,0) -> 31287 | CG12: 120000 | CH12: 107700 | CI12: 102300 | CJ12: =AVERAGE(CF12:CI12) -> 90321.75 | CK12: =MEDIAN(CF12:CI12) -> 105000 | CL12: =HARMEAN(CF12:CI12) -> 67390.313 | CM12: =CF12*1.051 -> 32882.637 | CN12: =+CM12+(CM12*20.5%) -> 39623.578 | CO12: =VLOOKUP(B12,[1]Hoja1!$B$9:$AL$244,37,0) -> 35473 | CP12: 120000 | CQ12: 158440 | CR12: 148900 | CS12: =AVERAGE(CO12:CR12) -> 115703.25 | CT12: =MEDIAN(CO12:CR12) -> 134450 | CU12: =HARMEAN(CO12:CR12) -> 80724.515 | CV12: =CO12*1.051 -> 37282.123 | CW12: =+CV12+(CV12*20.5%) -> 44924.958 | CX12: =VLOOKUP(B12,[1]Hoja1!$B$9:$AN$244,39,0) -> 38375 | CY12: 120000 | CZ12: 177080 | DA12: 165000 | DB12: =AVERAGE(CX12:DA12) -> 125113.75 | DC12: =MEDIAN(CX12:DA12) -> 142500 | DD12: =HARMEAN(CX12:DA12) -> 86768.392 | DE12: =CX12*1.051 -> 40332.125 | DF12: =+DE12+(DE12*20.5%) -> 48600.211 | DG12: =VLOOKUP(B12,[1]Hoja1!$B$9:$AR$244,43,0) -> 46053 | DH12: 120000 | DI12: 139800 | DJ12: 130000 | DK12: =AVERAGE(DG12:DJ12) -> 108963.25 | DL12: =MEDIAN(DG12:DJ12) -> 125000 | DM12: =HARMEAN(DG12:DJ12) -> 89101.09 | DN12: =DG12*1.051 -> 48401.703 | DO12: =+DN12+(DN12*20.5%) -> 58324.052 | DP12: =VLOOKUP(B12,[1]Hoja1!$B$9:$AT$244,45,0) -> 48930 | DQ12: 120000 | DR12: 139800 | DS12: 137000 | DT12: =AVERAGE(DP12:DS12) -> 111432.5 | DU12: =MEDIAN(DP12:DS12) -> 128500 | DV12: =HARMEAN(DP12:DS12) -> 92543.239 | DW12: =DP12*1.051 -> 51425.43 | DX12: =+DW12+(DW12*20.5%) -> 61967.643 | DY12: =VLOOKUP(B12,[1]Hoja1!$B$9:$AV$244,47,0) -> 55264 | DZ12: 120000 | EA12: 158440 | EB12: 155300 | EC12: =AVERAGE(DY12:EB12) -> 122251 | ED12: =MEDIAN(DY12:EB12) -> 137650 | EE12: =HARMEAN(DY12:EB12) -> 102095.55 | EF12: =DY12*1.051 -> 58082.464 | EG12: =+EF12+(EF12*20.5%) -> 69989.369 | EH12: =VLOOKUP(B12,[1]Hoja1!$B$9:$AX$244,49,0) -> 54571 | EI12: 120000 | EJ12: 209700 | EK12: 201300 | EL12: =AVERAGE(EH12:EK12) -> 146392.75 | EM12: =MEDIAN(EH12:EK12) -> 160650 | EN12: =HARMEAN(EH12:EK12) -> 109906.68 | EO12: =EH12*1.051 -> 57354.121 | EP12: =+EO12+(EO12*20.5%) -> 69111.716 | EQ12: =VLOOKUP(B12,[1]Hoja1!$B$9:$AZ$244,51,0) -> 46053 | ER12: 120000 | ES12: 209700 | ET12: 201300 | EU12: =AVERAGE(EQ12:ET12) -> 144263.25 | EV12: =MEDIAN(EQ12:ET12) -> 160650 | EW12: =HARMEAN(EQ12:ET12) -> 100543.25 | EX12: =EQ12*1.2081 -> 55636.629 | EY12: =+EX12+(EX12*20.5%) -> 67042.138 | EZ12: =VLOOKUP(B12,'[2]RESPUESTOS '!$B$11:$BH$246,59,0) -> 29459 | FA12: 120000 | FB12: 153000 | FC12: 148400 | FD12: =AVERAGE(EZ12:FC12) -> 112714.75 | FE12: =MEDIAN(EZ12:FC12) -> 134200 | FF12: =HARMEAN(EZ12:FC12) -> 72002.912 | FG12: =EZ12*1.2081 -> 35589.418 | FH12: =+FG12+(FG12*20.5%) -> 42885.249 | FI12: =VLOOKUP(B12,'[2]RESPUESTOS '!$B$11:$CJ$246,87,0) -> 30840 | FJ12: 120000 | FK12: 157600 | FL12: 154400 | FM12: =AVERAGE(FI12:FL12) -> 115710 | FN12: =MEDIAN(FI12:FL12) -> 137200 | FO12: =HARMEAN(FI12:FL12) -> 74653.863 | FP12: =FI12*1.2081 -> 37257.804 | FQ12: =+FP12+(FP12*20.5%) -> 44895.654 | FR12: =VLOOKUP(B12,'[2]RESPUESTOS '!$B$11:$BX$246,75,0) -> 27015 | FS12: 120000 | FT12: 144200 | FU12: 132700 | FV12: =AVERAGE(FR12:FU12) -> 105978.75 | FW12: =MEDIAN(FR12:FU12) -> 126350 | FX12: =HARMEAN(FR12:FU12) -> 66866.806 | FY12: =FR12*1.2081 -> 32636.821 | FZ12: =+FY12+(FY12*20.5%) -> 39327.37 | GA12: =VLOOKUP(B12,'[2]RESPUESTOS '!$B$11:$CN$246,91,0) -> 33522 | GB12: 120000 | GC12: 186400 | GD12: 175200 | GE12: =AVERAGE(GA12:GD12) -> 128780.5 | GF12: =MEDIAN(GA12:GD12) -> 147600 | GG12: =HARMEAN(GA12:GD12) -> 81239.622 | GH12: =GA12*1.2081 -> 40497.928 | GI12: =+GH12+(GH12*20.5%) -> 48800.003 | GJ12: =VLOOKUP(B12,'[2]RESPUESTOS '!$B$11:$T$246,19,0) -> 26451 | GK12: 120000 | GL12: 141000 | GM12: 136800 | GN12: =AVERAGE(GJ12:GM12) -> 106062.75 | GO12: =MEDIAN(GJ12:GM12) -> 128400 | GP12: =HARMEAN(GJ12:GM12) -> 66070.679 | GQ12: =GJ12*1.2081 -> 31955.453 | GR12: =+GQ12+(GQ12*20.5%) -> 38506.321 | GS12: =VLOOKUP(B12,'[2]RESPUESTOS '!$B$11:$H$246,7,0) -> 24915 | GT12: 120000 | GU12: 84600 | GV12: 81200 | GW12: =AVERAGE(GS12:GV12) -> 77678.75 | GX12: =MEDIAN(GS12:GV12) -> 82900 | GY12: =HARMEAN(GS12:GV12) -> 55092.322 | GZ12: =GS12*1.2081 -> 30099.811 | HA12: =+GZ12+(GZ12*20.5%) -> 36270.273 | HB12: =VLOOKUP(B12,'[2]RESPUESTOS '!$B$11:$D$246,3,0) -> 25185 | HC12: 120000 | HD12: 84600 | HE12: 83800 | HF12: =AVERAGE(HB12:HE12) -> 78396.25 | HG12: =MEDIAN(HB12:HE12) -> 84200 | HH12: =HARMEAN(HB12:HE12) -> 55715.728 | HI12: =HB12*1.2081 -> 30425.998 | HJ12: =+HI12+(HI12*20.5%) -> 36663.328 | HK12: =VLOOKUP(B12,'[2]RESPUESTOS '!$B$11:$CB$246,79,0) -> 34651 | HL12: 120000 | HM12: 186400 | HN12: 181000 | HO12: =AVERAGE(HK12:HN12) -> 130512.75 | HP12: =MEDIAN(HK12:HN12) -> 150500 | HQ12: =HARMEAN(HK12:HN12) -> 83190.872 | HR12: =HK12*1.2081 -> 41861.873 | HS12: =+HR12+(HR12*20.5%) -> 50443.557 | HT12: 47226.424 | HU12: 120000 | HV12: 233000 | HW12: 219000 | HX12: =AVERAGE(HU12:HW12) -> 190666.67 | HY12: =MEDIAN(HU12:HW12) -> 219000 | HZ12: =HARMEAN(HU12:HW12) -> 174505.97 | IA12: =HT12*1.2081 -> 57054.243 | IB12: =+IA12+(IA12*20.5%) -> 68750.363 | IC12: 50348 | ID12: 120000 | IE12: 233000 | IF12: 221400 | IG12: =AVERAGE(ID12:IF12) -> 191466.67 | IH12: =MEDIAN(ID12:IF12) -> 221400 | II12: =HARMEAN(ID12:IF12) -> 175009.87 | IJ12: =IC12*1.2081 -> 60825.419 | IK12: =+IJ12+(IJ12*20.5%) -> 73294.63 | IM12: =(K12+T12+AC12+AL12+AU12+BD12+BM12+BV12+CE12+CN12+CW12+DF12+DO12+DX12+EG12+EP12+EY12+FH12+FQ12+FZ12+GI12+GR12+HA12+HJ12+HS12+IB12+IK12)/27 -> 50165.345
A13: 6 | B13: 1 LB GAS R134A | C13: =VLOOKUP(B13,[1]Hoja1!$B$9:$D$244,3,0) -> 26965 | D13: 100000 | E13: 151750 | F13: 147200 | G13: =AVERAGE(C13:F13) -> 106478.75 | H13: =MEDIAN(C13:F13) -> 123600 | I13: =HARMEAN(C13:F13) -> 66150.282 | J13: =C13*1.051 -> 28340.215 | K13: =+J13+(J13*20.5%) -> 34149.959 | L13: =VLOOKUP(B13,[1]Hoja1!$B$9:$L$244,11,0) -> 24739 | M13: 100000 | N13: 151750 | O13: 144200 | P13: =AVERAGE(L13:O13) -> 105172.25 | Q13: =MEDIAN(L13:O13) -> 122100 | R13: =HARMEAN(L13:O13) -> 62552.188 | S13: =L13*1.051 -> 26000.689 | T13: =+S13+(S13*20.5%) -> 31330.83 | U13: =VLOOKUP(B13,[1]Hoja1!$B$9:$T$244,19,0) -> 25619 | V13: 100000 | W13: 121400 | X13: 116500 | Y13: =AVERAGE(U13:X13) -> 90879.75 | Z13: =MEDIAN(U13:X13) -> 108250 | AA13: =HARMEAN(U13:X13) -> 60740.008 | AB13: =U13*1.051 -> 26925.569 | AC13: =+AB13+(AB13*20.5%) -> 32445.311 | AD13: =VLOOKUP(B13,[1]Hoja1!$B$9:$V$244,21,0) -> 28737 | AE13: 100000 | AF13: 115330 | AG13: 111900 | AH13: =AVERAGE(AD13:AG13) -> 88991.75 | AI13: =MEDIAN(AD13:AG13) -> 105950 | AJ13: =HARMEAN(AD13:AG13) -> 64096.745 | AK13: =AD13*1.051 -> 30202.587 | AL13: =+AK13+(AK13*20.5%) -> 36394.117 | AM13: =VLOOKUP(B13,[1]Hoja1!$B$9:$X$244,23,0) -> 27105 | AN13: 100000 | AO13: 103190 | AP13: 101100 | AQ13: =AVERAGE(AM13:AP13) -> 82848.75 | AR13: =MEDIAN(AM13:AP13) -> 100550 | AS13: =HARMEAN(AM13:AP13) -> 60172.436 | AT13: =AM13*1.051 -> 28487.355 | AU13: =+AT13+(AT13*20.5%) -> 34327.263 | AV13: =VLOOKUP(B13,[1]Hoja1!$B$9:$Z$244,25,0) -> 21700 | AW13: 100000 | AX13: 103190 | AY13: 99100 | AZ13: =AVERAGE(AV13:AY13) -> 80997.5 | BA13: =MEDIAN(AV13:AY13) -> 99550 | BB13: =HARMEAN(AV13:AY13) -> 52725.494 | BC13: =AV13*1.051 -> 22806.7 | BD13: =+BC13+(BC13*20.5%) -> 27482.073 | BE13: =VLOOKUP(B13,[1]Hoja1!$B$9:$AB$244,27,0) -> 23870 | BF13: 100000 | BG13: 121400 | BH13: 119000 | BI13: =AVERAGE(BE13:BH13) -> 91067.5 | BJ13: =MEDIAN(BE13:BH13) -> 109500 | BK13: =HARMEAN(BE13:BH13) -> 58365.034 | BL13: =BE13*1.051 -> 25087.37 | BM13: =+BL13+(BL13*20.5%) -> 30230.281 | BN13: =VLOOKUP(B13,[1]Hoja1!$B$9:$AD$244,29,0) -> 23870 | BO13: 100000 | BP13: 121400 | BQ13: 111700 | BR13: =AVERAGE(BN13:BQ13) -> 89242.5 | BS13: =MEDIAN(BN13:BQ13) -> 105850 | BT13: =HARMEAN(BN13:BQ13) -> 57901.052 | BU13: =BN13*1.051 -> 25087.37 | BV13: =+BU13+(BU13*20.5%) -> 30230.281 | BW13: =VLOOKUP(B13,[1]Hoja1!$B$9:$AF$244,31,0) -> 22878 | BX13: 100000 | BY13: 103190 | BZ13: 96000 | CA13: =AVERAGE(BW13:BZ13) -> 80517 | CB13: =MEDIAN(BW13:BZ13) -> 98000 | CC13: =HARMEAN(BW13:BZ13) -> 54187.588 | CD13: =BW13*1.051 -> 24044.778 | CE13: =+CD13+(CD13*20.5%) -> 28973.957 | CF13: =VLOOKUP(B13,[1]Hoja1!$B$9:$AJ$244,35,0) -> 21999 | CG13: 100000 | CH13: 70200 | CI13: 67400 | CJ13: =AVERAGE(CF13:CI13) -> 64899.75 | CK13: =MEDIAN(CF13:CI13) -> 68800 | CL13: =HARMEAN(CF13:CI13) -> 47315.764 | CM13: =CF13*1.051 -> 23120.949 | CN13: =+CM13+(CM13*20.5%) -> 27860.744 | CO13: =VLOOKUP(B13,[1]Hoja1!$B$9:$AL$244,37,0) -> 23307 | CP13: 100000 | CQ13: 103190 | CR13: 100100 | CS13: =AVERAGE(CO13:CR13) -> 81649.25 | CT13: =MEDIAN(CO13:CR13) -> 100050 | CU13: =HARMEAN(CO13:CR13) -> 55106.714 | CV13: =CO13*1.051 -> 24495.657 | CW13: =+CV13+(CV13*20.5%) -> 29517.267 | CX13: =VLOOKUP(B13,[1]Hoja1!$B$9:$AN$244,39,0) -> 25391 | CY13: 100000 | CZ13: 115330 | DA13: 110000 | DB13: =AVERAGE(CX13:DA13) -> 87680.25 | DC13: =MEDIAN(CX13:DA13) -> 105000 | DD13: =HARMEAN(CX13:DA13) -> 59571.934 | DE13: =CX13*1.051 -> 26685.941 | DF13: =+DE13+(DE13*20.5%) -> 32156.559 | DG13: =VLOOKUP(B13,[1]Hoja1!$B$9:$AR$244,43,0) -> 31053 | DH13: 100000 | DI13: 91050 | DJ13: 85600 | DK13: =AVERAGE(DG13:DJ13) -> 76925.75 | DL13: =MEDIAN(DG13:DJ13) -> 88325 | DM13: =HARMEAN(DG13:DJ13) -> 61663.47 | DN13: =DG13*1.051 -> 32636.703 | DO13: =+DN13+(DN13*20.5%) -> 39327.227 | DP13: =VLOOKUP(B13,[1]Hoja1!$B$9:$AT$244,45,0) -> 31868 | DQ13: 100000 | DR13: 91050 | DS13: 86500 | DT13: =AVERAGE(DP13:DS13) -> 77354.5 | DU13: =MEDIAN(DP13:DS13) -> 88775 | DV13: =HARMEAN(DP13:DS13) -> 62575.178 | DW13: =DP13*1.051 -> 33493.268 | DX13: =+DW13+(DW13*20.5%) -> 40359.388 | DY13: =VLOOKUP(B13,[1]Hoja1!$B$9:$AV$244,47,0) -> 36117 | DZ13: 100000 | EA13: 103190 | EB13: 98000 | EC13: =AVERAGE(DY13:EB13) -> 84326.75 | ED13: =MEDIAN(DY13:EB13) -> 99000 | EE13: =HARMEAN(DY13:EB13) -> 69465.265 | EF13: =DY13*1.051 -> 37958.967 | EG13: =+EF13+(EF13*20.5%) -> 45740.555 | EH13: =VLOOKUP(B13,[1]Hoja1!$B$9:$AX$244,49,0) -> 35883 | EI13: 100000 | EJ13: 136575 | EK13: 127000 | EL13: =AVERAGE(EH13:EK13) -> 99864.5 | EM13: =MEDIAN(EH13:EK13) -> 113500 | EN13: =HARMEAN(EH13:EK13) -> 75380.175 | EO13: =EH13*1.051 -> 37713.033 | EP13: =+EO13+(EO13*20.5%) -> 45444.205 | EQ13: =VLOOKUP(B13,[1]Hoja1!$B$9:$AZ$244,51,0) -> 31053 | ER13: 100000 | ES13: 136575 | ET13: 127000 | EU13: =AVERAGE(EQ13:ET13) -> 98657 | EV13: =MEDIAN(EQ13:ET13) -> 113500 | EW13: =HARMEAN(EQ13:ET13) -> 69687.616 | EX13: =EQ13*1.2081 -> 37515.129 | EY13: =+EX13+(EX13*20.5%) -> 45205.731 | EZ13: =VLOOKUP(B13,'[2]RESPUESTOS '!$B$11:$BH$246,59,0) -> 19243 | FA13: 100000 | FB13: 102800 | FC13: 97700 | FD13: =AVERAGE(EZ13:FC13) -> 79935.75 | FE13: =MEDIAN(EZ13:FC13) -> 98850 | FF13: =HARMEAN(EZ13:FC13) -> 48822.171 | FG13: =EZ13*1.2081 -> 23247.468 | FH13: =+FG13+(FG13*20.5%) -> 28013.199 | FI13: =VLOOKUP(B13,'[2]RESPUESTOS '!$B$11:$CJ$246,87,0) -> 20088 | FJ13: 100000 | FK13: 110200 | FL13: 104700 | FM13: =AVERAGE(FI13:FL13) -> 83747 | FN13: =MEDIAN(FI13:FL13) -> 102350 | FO13: =HARMEAN(FI13:FL13) -> 51016.197 | FP13: =FI13*1.2081 -> 24268.313 | FQ13: =+FP13+(FP13*20.5%) -> 29243.317 | FR13: =VLOOKUP(B13,'[2]RESPUESTOS '!$B$11:$BX$246,75,0) -> 18780 | FS13: 100000 | FT13: 101200 | FU13: 99200 | FV13: =AVERAGE(FR13:FU13) -> 79795 | FW13: =MEDIAN(FR13:FU13) -> 99600 | FX13: =HARMEAN(FR13:FU13) -> 48071.027 | FY13: =FR13*1.2081 -> 22688.118 | FZ13: =+FY13+(FY13*20.5%) -> 27339.182 | GA13: =VLOOKUP(B13,'[2]RESPUESTOS '!$B$11:$CN$246,91,0) -> 22163 | GB13: 100000 | GC13: 121400 | GD13: 111700 | GE13: =AVERAGE(GA13:GD13) -> 88815.75 | GF13: =MEDIAN(GA13:GD13) -> 105850 | GG13: =HARMEAN(GA13:GD13) -> 55317.361 | GH13: =GA13*1.2081 -> 26775.12 | GI13: =+GH13+(GH13*20.5%) -> 32264.02 | GJ13: =VLOOKUP(B13,'[2]RESPUESTOS '!$B$11:$T$246,19,0) -> 18837 | GK13: 100000 | GL13: 99600 | GM13: 91600 | GN13: =AVERAGE(GJ13:GM13) -> 77509.25 | GO13: =MEDIAN(GJ13:GM13) -> 95600 | GP13: =HARMEAN(GJ13:GM13) -> 47594.004 | GQ13: =GJ13*1.2081 -> 22756.98 | GR13: =+GQ13+(GQ13*20.5%) -> 27422.161 | GS13: =VLOOKUP(B13,'[2]RESPUESTOS '!$B$11:$H$246,7,0) -> 16785 | GT13: 100000 | GU13: 59800 | GV13: 55600 | GW13: =AVERAGE(GS13:GV13) -> 58046.25 | GX13: =MEDIAN(GS13:GV13) -> 57700 | GY13: =HARMEAN(GS13:GV13) -> 38356.419 | GZ13: =GS13*1.2081 -> 20277.959 | HA13: =+GZ13+(GZ13*20.5%) -> 24434.94 | HB13: =VLOOKUP(B13,'[2]RESPUESTOS '!$B$11:$D$246,3,0) -> 16093 | HC13: 100000 | HD13: 59800 | HE13: 58000 | HF13: =AVERAGE(HB13:HE13) -> 58473.25 | HG13: =MEDIAN(HB13:HE13) -> 58900 | HH13: =HARMEAN(HB13:HE13) -> 37699.357 | HI13: =HB13*1.2081 -> 19441.953 | HJ13: =+HI13+(HI13*20.5%) -> 23427.554 | HK13: =VLOOKUP(B13,'[2]RESPUESTOS '!$B$11:$CB$246,79,0) -> 23269 | HL13: 100000 | HM13: 121400 | HN13: 115000 | HO13: =AVERAGE(HK13:HN13) -> 89917.25 | HP13: =MEDIAN(HK13:HN13) -> 107500 | HQ13: =HARMEAN(HK13:HN13) -> 57217.635 | HR13: =HK13*1.2081 -> 28111.279 | HS13: =+HR13+(HR13*20.5%) -> 33874.091 | HT13: 61943.644 | HU13: 100000 | HV13: 151750 | HW13: 147200 | HX13: =AVERAGE(HU13:HW13) -> 132983.33 | HY13: =MEDIAN(HU13:HW13) -> 147200 | HZ13: =HARMEAN(HU13:HW13) -> 128296.89 | IA13: =HT13*1.2081 -> 74834.116 | IB13: =+IA13+(IA13*20.5%) -> 90175.11 | IC13: 66038 | ID13: 100000 | IE13: 151750 | IF13: 145700 | IG13: =AVERAGE(ID13:IF13) -> 132483.33 | IH13: =MEDIAN(ID13:IF13) -> 145700 | II13: =HARMEAN(ID13:IF13) -> 127914.29 | IJ13: =IC13*1.2081 -> 79780.508 | IK13: =+IJ13+(IJ13*20.5%) -> 96135.512 | IM13: =(K13+T13+AC13+AL13+AU13+BD13+BM13+BV13+CE13+CN13+CW13+DF13+DO13+DX13+EG13+EP13+EY13+FH13+FQ13+FZ13+GI13+GR13+HA13+HJ13+HS13+IB13+IK13)/27 -> 37166.846
