Workbook

Sheet PRESUPUESTO
A1: ITEM | B1: DESCRIPCION | C1: UNIDAD | D1: CANTIDAD | E1: VR UNITARIO PROMEDIO | F1: VR TOTAL
A2: 1 | B2: FASE NUCLEOS
A3: 1.1 | B3: UNIDADES DE BOLSAS DE AGUA 250 ml | C3: Und | D3: =+'ESTUDIO DE MERCADO'!D3 -> 300 | E3: =+'ESTUDIO DE MERCADO'!H3 -> 937.67 | F3: =+E3*D3 -> 281301
A4: 1.2 | B4: Contratación de árbitros por cada partido programado | C4: Und | D4: =+'ESTUDIO DE MERCADO'!D4 -> 12 | E4: =+'ESTUDIO DE MERCADO'!H4 -> 77666.67 | F4: =+E4*D4 -> 932000.04
A5: 1.3 | B5: REFRIGERIOS COMPUESTO DE ALIMENTO TIPO EMPANADA O SANDWICH Y BEBIDA JUGO DE 200 ML | C5: Und | D5: =+'ESTUDIO DE MERCADO'!D5 -> 140 | E5: =+'ESTUDIO DE MERCADO'!H5 -> 9323.33 | F5: =+E5*D5 -> 1305266.2
A6: 2. | B6: FASE PROVINCIAL
A7: 2.1 | B7: TRANSPORTE INTERMUNICIPAL IDA Y VUELTA PARA LOS DEPORTISTAS A LOS SITIOS DE LOS ENCUENTROS DEPORTIVOS SAN ANDRES-CERRITO-SAN ANDRES | C7: Und | D7: =+'ESTUDIO DE MERCADO'!D7 -> 50 | E7: =+'ESTUDIO DE MERCADO'!H7 -> 93230.67 | F7: =+E7*D7 -> 4661533.5
A8: 2.2 | B8: DESAYUNOS PARA SER DISTRIBUIDOS A LOS DEPORTISTAS PARTICIPANTES DE LOS INTERCOLEGIADOS EN EL MUNICIPIO DE CERRITO SANTANDER | C8: Und | D8: =+'ESTUDIO DE MERCADO'!D8 -> 50 | E8: =+'ESTUDIO DE MERCADO'!H8 -> 23300 | F8: =+E8*D8 -> 1165000
A9: 2.3 | B9: ALMUERZOS COMPUESTO POR PLATO FUERTE PARA SER DISTRIBUIDOS A LOS DEPORTITAS PARTICIPANTES LOS INTERCOLEGIADOS (Alimento proteico, alimento energético farináceo, ensalada o verdura caliente, una bebida y un postre) EN EL MUNICIPIO DE CERRITO SANTANDER | C9: Und | D9: =+'ESTUDIO DE MERCADO'!D9 -> 50 | E9: =+'ESTUDIO DE MERCADO'!H9 -> 38846.33 | F9: =+E9*D9 -> 1942316.5
A10: 3. | B10: FASE DEPARTAMENTAL
A11: 3.1 | B11: TRANSPORTE INTERMUNICIPLA IDA Y VUELTA PARA LOS DEPORTISTAS A LOS SITIOS DE LOS ENCUENTROS DEPORTIVOS.SAN ANDRES-BUCARAMANGA-SAN ANDRES | C11: Und | D11: =+'ESTUDIO DE MERCADO'!D11 -> 16 | E11: =+'ESTUDIO DE MERCADO'!H11 -> 139800.33 | F11: =+E11*D11 -> 2236805.3
A12: 3.2 | B12: TRANSPORTE LOCAL IDA Y VUELTA PARA LOS DEPORTISTAS A LOS SITIOS DE LOS ENCUENTROS DEPORTIVOS.EN LA CIUDAD DE BUCARAMANGA TRANSPORTE HOTEL-SITIO DEL EVENTO-HOTEL | C12: Und | D12: =+'ESTUDIO DE MERCADO'!D12 -> 16 | E12: =+'ESTUDIO DE MERCADO'!H12 -> 31076.67 | F12: =+E12*D12 -> 497226.72
A13: 3.3 | B13: UNIFORME TIPO POLO CON LOS LOGOS DE LA ADMINISTRACION MUNICIPAL, DE ACUERDO AL DISEÑO INDICADO POR LA SUPERVISION. | C13: Und | D13: =+'ESTUDIO DE MERCADO'!D13 -> 16 | E13: =+'ESTUDIO DE MERCADO'!H13 -> 77666.67 | F13: =+E13*D13 -> 1242666.7
A14: TOTAL GENERAL (INCLUYE GASTOS DE LEGALIZACIÓN E IVA) | F14: =SUM(F3:F13) -> 14264116

Sheet ESTUDIO DE MERCADO
A1: ITEM | B1: DESCRIPCION | C1: UNIDAD | D1: CANTIDAD | E1: VR UNITARIO COT 1 | F1: VR UNITARIO COT 2 | G1: VR UNITARIO COT 3 | H1: VR UNITARIO PROMEDIO | I1: VR TOTAL
A2: 1 | B2: FASE NUCLEOS
A3: 1.1 | B3: UNIDADES DE BOLSAS DE AGUA 250 ml | C3: Und | D3: 300 | E3: 923 | F3: 930 | G3: 960 | H3: =ROUND(+AVERAGE(E3:G3),2) -> 937.67 | I3: =+H3*D3 -> 281301
A4: 1.2 | B4: Contratación de árbitros por cada partido programado | C4: Und | D4: 12 | E4: 76923 | F4: 77769 | G4: 78308 | H4: =ROUND(+AVERAGE(E4:G4),2) -> 77666.67 | I4: =+H4*D4 -> 932000.04
A5: 1.3 | B5: REFRIGERIOS COMPUESTO DE ALIMENTO TIPO EMPANADA O SANDWICH Y BEBIDA JUGO DE 200 ML | C5: Und | D5: 140 | E5: 9231 | F5: 9305 | G5: 9434 | H5: =ROUND(+AVERAGE(E5:G5),2) -> 9323.33 | I5: =+H5*D5 -> 1305266.2
A6: 2. | B6: FASE PROVINCIAL
A7: 2.1 | B7: TRANSPORTE INTERMUNICIPAL IDA Y VUELTA PARA LOS DEPORTISTAS A LOS SITIOS DE LOS ENCUENTROS DEPORTIVOS SAN ANDRES-CERRITO-SAN ANDRES | C7: Und | D7: 50 | E7: 92308 | F7: 93046 | G7: 94338 | H7: =ROUND(+AVERAGE(E7:G7),2) -> 93230.67 | I7: =+H7*D7 -> 4661533.5
A8: 2.2 | B8: DESAYUNOS PARA SER DISTRIBUIDOS A LOS DEPORTISTAS PARTICIPANTES DE LOS INTERCOLEGIADOS EN EL MUNICIPIO DE CERRITO SANTANDER | C8: Und | D8: 50 | E8: 23077 | F8: 23331 | G8: 23492 | H8: =ROUND(+AVERAGE(E8:G8),2) -> 23300 | I8: =+H8*D8 -> 1165000
A9: 2.3 | B9: ALMUERZOS COMPUESTO POR PLATO FUERTE PARA SER DISTRIBUIDOS A LOS DEPORTITAS PARTICIPANTES LOS INTERCOLEGIADOS (Alimento proteico, alimento energético farináceo, ensalada o verdura caliente, una bebida y un postre) EN EL MUNICIPIO DE CERRITO SANTANDER | C9: Und | D9: 50 | E9: 38462 | F9: 38769 | G9: 39308 | H9: =ROUND(+AVERAGE(E9:G9),2) -> 38846.33 | I9: =+H9*D9 -> 1942316.5
A10: 3. | B10: FASE DEPARTAMENTAL
A11: 3.1 | B11: TRANSPORTE INTERMUNICIPLA IDA Y VUELTA PARA LOS DEPORTISTAS A LOS SITIOS DE LOS ENCUENTROS DEPORTIVOS.SAN ANDRES-BUCARAMANGA-SAN ANDRES | C11: Und | D11: 16 | E11: 138462 | F11: 139985 | G11: 140954 | H11: =ROUND(+AVERAGE(E11:G11),2) -> 139800.33 | I11: =+H11*D11 -> 2236805.3
A12: 3.2 | B12: TRANSPORTE LOCAL IDA Y VUELTA PARA LOS DEPORTISTAS A LOS SITIOS DE LOS ENCUENTROS DEPORTIVOS.EN LA CIUDAD DE BUCARAMANGA TRANSPORTE HOTEL-SITIO DEL EVENTO-HOTEL | C12: Und | D12: 16 | E12: 30769 | F12: 31015 | G12: 31446 | H12: =ROUND(+AVERAGE(E12:G12),2) -> 31076.67 | I12: =+H12*D12 -> 497226.72
A13: 3.3 | B13: UNIFORME TIPO POLO CON LOS LOGOS DE LA ADMINISTRACION MUNICIPAL, DE ACUERDO AL DISEÑO INDICADO POR LA SUPERVISION. | C13: Und | D13: 16 | E13: 76923 | F13: 77769 | G13: 78308 | H13: =ROUND(+AVERAGE(E13:G13),2) -> 77666.67 | I13: =+H13*D13 -> 1242666.7
A14: TOTAL GENERAL (INCLUYE GASTOS DE LEGALIZACIÓN E IVA) | I14: =SUM(I3:I13) -> 14264116
