Workbook

Sheet CONSOLIDADO
B2: PRESUPUESTO INTERVENCIÓN RROM
B4: Participantes | C4: 305
B6: Descripción | C6: Unidad | D6: Cantidad | E6: Valor Unitario | F6: Total DPS | G6: Valor Unitario Contrapartida | H6: Total Contrapartida | I6: TOTAL CONVENIO
B7: 1. Bolsa Talento Humano | F7: =SUM(F8:F8) -> 455000000 | I7: =SUM(I8) -> 455000000
B8: 1.1 Bolsa Talento Humano | C8: Global | E8: =+'ANEXO PTO'!G10 -> 455000000 | F8: =E8 -> 455000000 | I8: =+H8+F8 -> 455000000
B9: 2. Encuentro y Talleres | F9: =SUM(F10:F14) -> 140816000 | I9: =SUM(I10:I14) -> 140816000
B10: 2.1 Salones de reuniones y ayudas audiovisuales | C10: Unidad | D10: ='ANEXO PTO'!Q13 -> 23 | E10: 4200000 | F10: =E10*D10 -> 96600000 | I10: =+H10+F10 -> 96600000
B11: 2.2 Refrigerios y Almuerzo Encuentro | C11: Unidad | D11: 305 | E11: =+'ANEXO PTO'!E15+'ANEXO PTO'!F15 -> 45000 | F11: =E11*D11 -> 13725000 | I11: =+H11+F11 -> 13725000
B12: 2.3 Refrigerios Talleres | C12: Unidad | D12: 305 | E12: =+'ANEXO PTO'!E16 -> 15000 | F12: =E12*D12 -> 4575000 | I12: =+H12+F12 -> 4575000
B13: 2.4 Bolsa materiales para talleres (Libreta de apuntes y esfero) | C13: Unidad | D13: 305 | E13: ='ANEXO PTO'!G67 -> 9200 | F13: =E13*D13 -> 2806000 | I13: =+H13+F13 -> 2806000
B14: 2.5 Bolsa de Transporte para Participantes Encuentro y Talleres | C14: Global | D14: 1 | E14: ='ANEXO PTO'!H32 -> 23110000 | F14: =E14*D14 -> 23110000 | I14: =+H14+F14 -> 23110000
B15: 3. Bolsa Gastos de Viaje y Desplazamiento Equipo Técnico | F15: =SUM(F16:F16) -> 30840000 | I15: =SUM(I16:I16) -> 30840000
B16: 3.1 Bolsa para gastos de viaje y desplazamiento Gestores, Profesinales de Asistencia Tecnica y Talleristas | C16: Global | D16: 1 | E16: ='ANEXO PTO'!F40 -> 30840000 | F16: =+D16*E16 -> 30840000 | I16: =+H16+F16 -> 30840000
B17: 4. Gestión documental | F17: =SUM(F18:F18) -> 3660000 | I17: =SUM(I18) -> 3660000
B18: 4.1 Impresiones de formatos, Carpetas y cajas para conservación de archivo, Envíos de correspondencia, traslado final de archivo y papelería varios | C18: Unidad | D18: 305 | E18: =+'ANEXO PTO'!E46 -> 12000 | F18: =E18*D18 -> 3660000 | I18: =+H18+F18 -> 3660000
B19: 5. Kit de Gestor ,Tallerista y Asistencia Técnica | F19: =SUM(F20:F20) -> 1620000 | I19: =SUM(I20) -> 1620000
B20: 5.1 Kit de Gestor ,Tallerista y Asistencia Técnica (Chaleco y gorra) | C20: Unidad | D20: 18 | E20: =+'ANEXO PTO'!E52 -> 90000 | F20: =+D20*E20 -> 1620000 | I20: =+H20+F20 -> 1620000
B21: 6. Inversión Directa | F21: =SUM(F22:F25) -> 1700125000 | I21: =SUM(I22:I25) -> 1700125000
B22: 6.1 Capitalización de unidades productivas nuevas | C22: Unidad | D22: 120 | E22: =+'ANEXO PTO'!E56 -> 4000000 | F22: =E22*D22 -> 480000000 | I22: =+H22+F22 -> 480000000
B23: 6.2 Capitalización de unidades productivas mujeres | C23: Unidad | D23: 95 | E23: =+'ANEXO PTO'!E57 -> 4550000 | F23: =E23*D23 -> 432250000 | I23: =+H23+F23 -> 432250000
B24: 6.3 Capitalización de unidades productivas fortalecimiento | C24: Unidad | D24: 90 | E24: =+'ANEXO PTO'!E58 -> 8500000 | F24: =E24*D24 -> 765000000 | I24: =+H24+F24 -> 765000000
B25: 6.4 Bolsa Transporte activos e insumos participantes | C25: Unidad | D25: 305 | E25: =+'ANEXO PTO'!E59 -> 75000 | F25: =E25*D25 -> 22875000 | I25: =+H25+F25 -> 22875000
B26: SUBTOTAL RECURSOS PROSPERIDAD SOCIAL | F26: =F7+F9+F15+F17+F19+F21 -> 2332061000 | I26: =H26+F26 -> 2332061000
B27: 7. Gastos de Administración | F27: =SUM(F28) -> 116603050 | I27: =SUM(I28) -> 116603050
B28: 7.1 Gastos de Administración (Sobre le subtotal de la intervención 5%) | D28: 0.05 | E28: =+ROUND(F26*D28,0) -> 116603050 | F28: =ROUND(+E28,0) -> 116603050 | I28: =H28+F28 -> 116603050
B29: TOTAL PROSPERIDAD SOCIAL | F29: =F26+F27 -> 2448664050 | I29: =+I26+I27 -> 2448664050
B30: 8. CONTRAPARTIDA | H30: =SUM(H31:H33) -> 31000000 | I30: =H30 -> 31000000
B31: 8.1 Desarrollar sesiones teórico-prácticas en Marketing digital y Branding para lograr el impulso de los fortalecimientos capitalizados | D31: 3 | G31: 10000000 | H31: 10000000 | I31: =+F31+H31 -> 10000000
B32: 8.2 Desarrollo y diseño de documento de innovación y competitividad para fortalecimiento en Branding digital. | D32: GLB | G32: 4000000 | H32: 4000000
B33: 8.3 Gastos de administración de la Fundación. | D33: 1 | G33: 17000000 | H33: =G33*D33 -> 17000000 | I33: =+F33+H33 -> 17000000
B34: TOTAL CONVENIO | F34: =+F29 -> 2448664050 | H34: =H30 -> 31000000 | I34: =+F34+H34 -> 2479664050
E40: VALOR ASIGNADO | F40: 2500000000
F42: Porcentaje | G42: Desembolsos | I42: Desembolsos EP
F43: 0.3 | G43: =ROUND(($F$34*F43),0) -> 734599215 | I43: 735000000
F44: 0.5 | G44: =ROUND(($F$34*F44),0) -> 1224332025 | I44: 1226000000
F45: 0.2 | G45: =ROUND(($F$34*F45),0) -> 489732810 | I45: 490226050
G46: =SUM(G43:G45) -> 2448664050 | I46: =SUM(I43:I45) -> 2451226050
I48: =+F34-I46 -> -2562000

Sheet ANEXO PTO
J1: Salones de Reuniones y Ayudas Audiovisuales para Encuentro y Talleres
B2: Roles Equipo Técnico | C2: Unidad | D2: Cantidad | E2: Periodo | F2: Valor Unitario | G2: Total DPS | J2: Zonas | K2: Departamentos | L2: Tipo de intervención | M2: Mujeres | N2: Nuevo | O2: Fortalecimiento | P2: Total | Q2: N° Actividades | R2: Observaciones
B3: Coordinador General de proyecto | C3: Persona | D3: 1 | E3: 5 | F3: 5000000 | G3: =ROUND(D3*E3*F3,0) -> 25000000 | J3: 1 | K3: Norte de Santander | L3: Cúcuta | M3: 54 | N3: 74 | O3: 19 | P3: =SUM(M3:O3) -> 147 | Q3: 5 | R3: Para el caso del Departamento de Norte de Santander, teniendo en cuenta que el número de participantes asciende a 147 personas divididas en 2 Kumpania, se realizará un encuentro por Kumpania (2 en total). Para los talleres, la población se organizará en grupos de hasta 49 personas, lo que arroja 3 talleres. En consecuencia, se justifica el alquiler de salones y equipos audiovisuales para un total de 5 actividades (2 encuentros y 3 talleres).
B4: Profesional Financiero | C4: Persona | D4: 1 | E4: 5 | F4: 4000000 | G4: =ROUND(D4*E4*F4,0) -> 20000000 | J4: 2 | K4: Santander | L4: Girón | M4: 18 | N4: 7 | O4: 9 | P4: =SUM(M4:O4) -> 34 | Q4: 2
B5: Profesional Administrativo | C5: Persona | D5: 1 | E5: 5 | F5: 4000000 | G5: =ROUND(D5*E5*F5,0) -> 20000000 | L5: Lasho Rrom | M5: 13 | N5: 6 | O5: 12 | P5: =SUM(M5:O5) -> 31 | Q5: 2
B6: Profesional de asistencia técnica | C6: Persona | D6: 5 | E6: 5 | F6: 4800000 | G6: =ROUND(D6*E6*F6,0) -> 120000000 | J6: 3 | K6: Nariño | L6: Pasto | M6: 1 | N6: 3 | O6: 2 | P6: =SUM(M6:O6) -> 6 | Q6: 2
B7: Gestor de Proyecto Productivo | C7: Persona | D7: 8 | E7: 5 | F7: 4200000 | G7: =ROUND(D7*E7*F7,0) -> 168000000 | K7: Tolima | L7: Ibagué | N7: 4 | O7: 8 | P7: =SUM(M7:O7) -> 12 | Q7: 2
B8: Tallerista | C8: Persona | D8: 5 | E8: 2 | F8: 3200000 | G8: =ROUND(D8*E8*F8,0) -> 32000000 | J8: 4 | K8: Bogotá | L8: Unión Romaní | M8: 6 | N8: 19 | O8: 18 | P8: =SUM(M8:O8) -> 43 | Q8: 2
B9: Apoyo gestión documental | C9: Persona | D9: 2 | E9: 5 | F9: 2800000 | G9: =ROUND(D8*E9*F9,0) -> 70000000 | L9: Pro Rrom | M9: 1 | O9: 6 | P9: =SUM(M9:O9) -> 7 | Q9: 2
B10: TOTAL | G10: =SUM(G3:G9) -> 455000000 | J10: 5 | K10: Atlántico | L10: Sabanalarga | N10: 1 | O10: 6 | P10: =SUM(M10:O10) -> 7 | Q10: 2
K11: Sincelejo | L11: Sampués | M11: 2 | N11: 5 | O11: 6 | P11: =SUM(M11:O11) -> 13 | Q11: 2
K12: Córdoba | L12: San Pelayo | N12: 1 | O12: 4 | P12: =SUM(M12:O12) -> 5 | Q12: 2
B13: Bolsa de Alimentación Para Participantes Encuentro y Talleres (Refrigerio - almuerzo) | J13: Total | M13: =SUM(M3:M12) -> 95 | N13: =SUM(N3:N12) -> 120 | O13: =SUM(O3:O12) -> 90 | P13: =SUM(P3:P12) -> 305 | Q13: =SUM(Q3:Q12) -> 23
B14: Descripción | C14: Unidad de medida | D14: Cantidad | E14: Valor refrigerios | F14: Valor almuerzos | G14: Total encuentro | H14: Valor Total
B15: Primer Encuentro (Mesa de socialización) | C15: Unidad | D15: 305 | E15: 15000 | F15: 30000 | G15: =+E15+F15 -> 45000 | H15: =+(E15+F15)*D15 -> 13725000
B16: Talleres de Fortalecimiento | C16: Unidad | D16: 305 | E16: 15000 | G16: =+E16+F16 -> 15000 | H16: =+(E16+F16)*D16 -> 4575000
B17: TOTAL | E17: =SUM(E15:E16) -> 30000 | F17: =SUM(F15:F16) -> 30000 | G17: =SUM(G15:G16) -> 60000 | H17: =SUM(H15:H16) -> 18300000
B20: Bolsa de Transporte para Participantes Encuentro y Talleres
B21: Zonas | C21: Departamentos | D21: Municipio | E21: Total Beneficiarios | F21: N° Actividades | G21: Valor Transporte | H21: Valor Total
B22: 1 | C22: Norte de Santander | D22: Cúcuta | E22: 147 | F22: 2 | G22: 35000 | H22: =G22*E22*F22 -> 10290000
B23: 2 | C23: Santander | D23: Girón | E23: 34 | F23: 2 | G23: 40000 | H23: =G23*E23*F23 -> 2720000
D24: Lasho Rrom | E24: 31 | F24: 2 | G24: 40000 | H24: =G24*E24*F24 -> 2480000
B25: 3 | C25: Nariño | D25: Pasto | E25: 6 | F25: 2 | G25: 50000 | H25: =G25*E25*F25 -> 600000
C26: Tolima | D26: Ibagué | E26: 12 | F26: 2 | G26: 50000 | H26: =G26*E26*F26 -> 1200000
B27: 4 | C27: Bogotá | D27: Unión Romaní | E27: 43 | F27: 2 | G27: 40000 | H27: =G27*E27*F27 -> 3440000
D28: Pro Rrom | E28: 7 | F28: 2 | G28: 40000 | H28: =G28*E28*F28 -> 560000
B29: 5 | C29: Atlántico | D29: Sabanalarga | E29: 7 | F29: 2 | G29: 40000 | H29: =G29*E29*F29 -> 560000
C30: Sincelejo | D30: Sampués | E30: 13 | F30: 2 | G30: 35000 | H30: =G30*E30*F30 -> 910000
C31: Córdoba | D31: San Pelayo | E31: 5 | F31: 2 | G31: 35000 | H31: =G31*E31*F31 -> 350000
B32: Total | E32: =SUM(E22:E31) -> 305 | F32: =SUM(F22:F31) -> 20 | H32: =SUM(H22:H31) -> 23110000
B35: Bolsa Gastos de Viaje y Desplazamiento Equipo Técnico
B36: Descripción | C36: Unidad de medida | D36: Cantidad | E36: Valor Unitario transporte | F36: Valor Unitario Gastos de Viaje
B37: Profesional de asistencia técnica | C37: Unidad | D37: 1 | E37: ='DETALLE GASTOS DE VIAJE '!K18 -> 16400000 | F37: =E37*D37 -> 16400000
B38: Gestor de Proyecto Productivo | C38: Unidad | D38: 1 | E38: ='DETALLE GASTOS DE VIAJE '!K32 -> 12560000 | F38: =E38*D38 -> 12560000
B39: Tallerista | C39: Unidad | D39: 1 | E39: ='DETALLE GASTOS DE VIAJE '!I38 -> 1880000 | F39: =E39*D39 -> 1880000
B40: TOTAL | D40: =SUM(D37:D39) -> 3 | E40: =SUM(E37:E39) -> 30840000 | F40: =SUM(F37:F39) -> 30840000
B43: BOLSA DE GESTION DOCUMENTAL
B44: Descripción | C44: Unidad de medida | D44: Cantidad | E44: valor unitario | F44: Valor Total
B45: Impresiones de formatos, Carpetas y cajas para conservación de archivo, Envíos de correspondencia, traslado final de archivo y papelería varios | C45: Unidad | D45: 305 | E45: 12000 | F45: =E45*D45 -> 3660000
B46: TOTAL | E46: =SUM(E45:E45) -> 12000 | F46: =F45 -> 3660000
...

Sheet DETALLE GASTOS DE VIAJE 
B2: Nota: De acuerdo con la información suministrada por la entidad convenida, los territorios más distantes corresponden a Pasto (Nariño) y Sabanalarga (Atlántico). En consecuencia, se contempla la cobertura de los gastos asociados a tiquetes aéreos, transporte terrestre de largo recorrido y alojamiento, dado que estos dos destinos representan los mayores costos dentro de los gastos de viaje y desplazamiento del equipo técnico.
B6: Gastos de Viaje y desplazamiento Gestores
B7: Zonas | C7: Departamentos | D7: Municipio | E7: Total Beneficiarios | F7: N° Gestor Territorio | G7: Trayectos dentro de cada territorio | H7: N° Visitas | I7: Valor Transporte | J7: Valor Gastos de viaje | K7: Valor Total
B8: 1 | C8: Norte de Santander | D8: Cúcuta | E8: 147 | F8: 3 | G8: 5 | H8: 2 | I8: 120000 | K8: =(I8+J8)*G8*H8*F8 -> 3600000
B9: 2 | C9: Santander | D9: Girón | E9: 34 | F9: 2 | G9: 3 | H9: 2 | I9: 120000 | K9: =(I9+J9)*G9*H9*F9 -> 1440000
D10: Lasho Rrom | E10: 31 | G10: 3 | H10: 2 | I10: 120000 | K10: =(I10+J10)*G10*H10*F9 -> 1440000
B11: 3 | C11: Nariño | D11: Pasto | E11: 6 | F11: 1 | G11: 2 | H11: 2 | I11: 1400000 | J11: 160000 | K11: =(I11+J11)*G11*H11*F11 -> 6240000
C12: Tolima | D12: Ibagué | E12: 12 | G12: 2 | H12: 2 | I12: 120000 | K12: =(I12+J12)*G12*H12*F11 -> 480000
B13: 4 | C13: Bogotá | D13: Unión Romaní | E13: 43 | F13: 1 | G13: 2 | H13: 2 | I13: 120000 | K13: =(I13+J13)*G13*H13*F13 -> 480000
D14: Pro Rrom | E14: 7 | G14: 2 | H14: 2 | I14: 120000 | K14: =(I14+J14)*G14*H14*F13 -> 480000
B15: 5 | C15: Atlántico | D15: Sabanalarga | E15: 7 | F15: 1 | G15: 2 | H15: 2 | I15: 160000 | J15: 160000 | K15: =(I15+J15)*G15*H15*F15 -> 1280000
C16: Sincelejo | D16: Sampués | E16: 13 | G16: 3 | H16: 2 | I16: 120000 | K16: =(I16+J16)*G16*H16*F15 -> 720000
C17: Córdoba | D17: San Pelayo | E17: 5 | G17: 1 | H17: 2 | I17: 120000 | K17: =(I17+J17)*G17*H17*F15 -> 240000
B18: Total | K18: =SUM(K8:K17) -> 16400000
B20: Gastos de Viaje y desplazamiento Asistencia Técnica
B21: Zonas | C21: Departamentos | D21: Municipio | E21: Total Beneficiarios | F21: N° Asistencia Técnica | G21: Trayectos dentro de cada territorio | H21: N° Visitas | I21: Valor Transporte | J21: Valor Gastos de viaje | K21: Valor Total
B22: 1 | C22: Norte de Santander | D22: Cúcuta | E22: 147 | F22: 1 | G22: 5 | H22: 2 | I22: 120000 | K22: =(I22+J22)*G22*H22*F22 -> 1200000
B23: 2 | C23: Santander | D23: Girón | E23: 34 | F23: 1 | G23: 3 | H23: 2 | I23: 120000 | K23: =(I23+J23)*G23*H23*F23 -> 720000
D24: Lasho Rrom | E24: 31 | G24: 3 | H24: 2 | I24: 120000 | K24: =(I24+J24)*G24*H24*F23 -> 720000
B25: 3 | C25: Nariño | D25: Pasto | E25: 6 | F25: 1 | G25: 2 | H25: 2 | I25: 1400000 | J25: 160000 | K25: =(I25+J25)*G25*H25*F25 -> 6240000
C26: Tolima | D26: Ibagué | E26: 12 | G26: 2 | H26: 2 | I26: 120000 | K26: =(I26+J26)*G26*H26*F25 -> 480000
B27: 4 | C27: Bogotá | D27: Unión Romaní | E27: 43 | F27: 1 | G27: 2 | H27: 2 | I27: 120000 | K27: =(I27+J27)*G27*H27*F27 -> 480000
D28: Pro Rrom | E28: 7 | G28: 2 | H28: 2 | I28: 120000 | K28: =(I28+J28)*G28*H28*F27 -> 480000
B29: 5 | C29: Atlántico | D29: Sabanalarga | E29: 7 | F29: 1 | G29: 2 | H29: 2 | I29: 160000 | J29: 160000 | K29: =(I29+J29)*G29*H29*F29 -> 1280000
C30: Sincelejo | D30: Sampués | E30: 13 | G30: 3 | H30: 2 | I30: 120000 | K30: =(I30+J30)*G30*H30*F29 -> 720000
C31: Córdoba | D31: San Pelayo | E31: 5 | G31: 1 | H31: 2 | I31: 120000 | K31: =(I31+J31)*G31*H31*F29 -> 240000
B32: Total | K32: =SUM(K22:K31) -> 12560000
B34: Gastos de Viaje y desplazamiento Tallerista
B35: Zonas | C35: Departamentos | D35: Tipo de intervención | E35: Total Beneficiarios | F35: N° Talleristas | G35: Valor Transporte | H35: Valor Gastos de viaje | I35: Valor Total
B36: 3 | C36: Nariño | D36: Pasto | E36: 6 | F36: 1 | G36: 1400000 | H36: 160000 | I36: =(G36+H36)*F36 -> 1560000
B37: 5 | C37: Atlántico | D37: Sabanalarga | E37: 7 | F37: 1 | G37: 160000 | H37: 160000 | I37: =(G37+H37)*F37 -> 320000
B38: Total | F38: =SUM(F36:F37) -> 2 | G38: =SUM(G36:G37) -> 1560000 | H38: =SUM(H36:H37) -> 320000 | I38: =SUM(I36:I37) -> 1880000
