Workbook

Sheet PRESUPUESTO C.D
B3: Formulario 1 - Propuesta económica - Documento tipo de obra pública - versión 3
B4: Código | C4: CCE-EICP-FM-14
B5: FORMULARIO 1
B6: PRESUPUESTO OFICIAL
B7: [La entidad puede utilizar este formulario de detalle del presupuesto oficial para determinar las condiciones bajo las cuales los proponentes analizarán y presentarán su propuesta económica de forma detallada, sin perjuicio que la entidad pueda modificarlo o establecer la presentación de la oferta económica con un formulario distinto al indicado.]
B9: Adicionalmente, cuando el proceso de contratación es estructurado por precios unitarios, la Entidad debe aplicar las notas 1, 2 y 3 del presente formulario y las casillas de "Descripción", "Porcentaje" de la Administración y Utilidad y total A.U. resaltadas en color amarillo. Tratándose de otras modalidades de precio, la Entidad puede o no configurar los mismos aspectos.
B11: MEJORAMIENTO DE LA PLANTA FÍSICA DEL ESTABLECIMIENTO EDUCATIVO OFICIAL: PRESUPUESTO OBRA CIVIL - INSTITUCION EDUCATIVA ESTAMBUL
B12: Nº | C12: ITEM DE PAGO | D12: DESCRIPCION | E12: UND. | F12: CANTIDAD | G12: VALOR UNITARIO | H12: VLAOR CON AU | I12: VALOR CON AU | J12: VALOR TOTAL
C13: 001 | D13: PRELIMINARES
B14: 1 | C14: 001.049 | D14: SUMINISTRO, TRANSPORTE E INSTALACIÓN CERRAMIENTO EN YUTE H= 2 M | E14: ML | F14: 200 | G14: =A.P.U!I1 -> 15699 | H14: =G14*1.3627 -> 21393.027 | I14: =F14*H14 -> 4278605.5 | J14: =ROUND(G14*F14,0) -> 3139800
B15: 2 | C15: 001.054 | D15: SUMINISTRO, TRANSPORTE E INSTALACION SEÑAL PREVENTIVA, REGLAMENTARIA E INFORMATIVA | E15: UND | F15: 4 | G15: =A.P.U!I8 -> 257265 | H15: =G15*1.3627 -> 350575.02 | I15: =F15*H15 -> 1402300.1 | J15: =ROUND(G15*F15,0) -> 1029060
B16: Subtotal | H16: =G16*1.3627 -> 0 | I16: =SUM(I14:I15) -> 5680905.5 | J16: =SUM(J13:J15) -> 4168860
C17: 002 | D17: MOVIMIENTO DE TIERRAS | H17: =G17*1.3627 -> 0
B18: 3 | C18: 002.089 | D18: RETIRO DE MATERIAL SOBRANTE EN VOLQUETA, CARGUE MANUAL, DISPOSICIÓN EN BOTADERO (HASTA 25 KM) | E18: M3-Suelto | F18: 45 | G18: =A.P.U!I17 -> 44658 | H18: =G18*1.3627 -> 60855.457 | I18: =F18*H18 -> 2738495.5 | J18: =ROUND(G18*F18,0) -> 2009610
B19: Subtotal | H19: =G19*1.3627 -> 0 | I19: =SUM(I18) -> 2738495.5 | J19: =SUM(J18) -> 2009610
C20: 003 | D20: DESAGUES E INSTALACIONES SANITARIAS | H20: =G20*1.3627 -> 0
B21: 4 | C21: 003.011 | D21: SUMINISTRO, TRANSPORTE E INSTALACION BAJANTE AGUAS LLUVIAS PVC 4" (INCLUYE CODO, UNION Y ACCESORIOS DE FIJACION) | E21: ML | F21: 50 | G21: =A.P.U!I23 -> 42672 | H21: =G21*1.3627 -> 58149.134 | I21: =F21*H21 -> 2907456.7 | J21: =ROUND(G21*F21,0) -> 2133600
H22: =G22*1.3627 -> 0 | I22: =SUM(I21) -> 2907456.7 | J22: =SUM(J21) -> 2133600
C23: 005 | D23: ESTRUCTURAS EN CONCRETO, METALICAS Y DE MADERA | H23: =G23*1.3627 -> 0
B24: 5 | C24: 005.113 | D24: SUMINISTRO, TRANSPORTE E INSTALACION ESTRUCTURA METALICA PARA CUBIERTA (INCLUYE SOLDADURA, ANTICORROSIVO Y ESMALTE). | E24: KG | F24: 580 | G24: =A.P.U!I35 -> 23495 | H24: =G24*1.3627 -> 32016.637 | I24: =F24*H24 -> 18569649 | J24: =F24*G24 -> 13627100
B25: Subtotal | H25: =G25*1.3627 -> 0 | I25: =SUM(I24) -> 18569649 | J25: =SUM(J24) -> 13627100
C26: 007 | D26: INSTALACIONES HIDRAULICAS | H26: =G26*1.3627 -> 0
B27: 6 | C27: 007.116 | D27: SUMINISTRO, TRANSPORTE E INSTALACION LAVAMANOS DE EMPOTRAR LINEA SAN LORENZO COLOR BLANCO DE CORONA REF: O19001001 O SIMILAR. (INCLUYE ELEMENTOS DE GRIFERÍA PARA INSTALACIÓN). | E27: UND | F27: 10 | G27: =A.P.U!I47 -> 523495 | H27: =G27*1.3627 -> 713366.64 | I27: =F27*H27 -> 7133666.4 | J27: =F27*G27 -> 5234950
B28: 7 | C28: 007.120 | D28: SONDEO DE TUBERÍAS Y BAJANTES DE AGUAS LLUVIA | E28: ML | F28: 16 | G28: =A.P.U!I55 -> 9537 | H28: =G28*1.3627 -> 12996.07 | I28: =F28*H28 -> 207937.12 | J28: =F28*G28 -> 152592
B29: Subtotal | H29: =G29*1.3627 -> 0 | I29: =SUM(I27:I28) -> 7341603.5 | J29: =SUM(J27:J28) -> 5387542
C30: 08B | D30: INSTALACIONES ELECTRICAS | H30: =G30*1.3627 -> 0
C31: 08B.111 | D31: SUMINISTRO E INSTALACION DE TABLERO DE 12 CIRCUITOS 2F4H, CON PUERTA. BARRAJE PARA 200A BARRA NEUTRO Y BARRA TIERRA CALIDAD LEGRAND, SIEMENS, SQARED O SUPERIOR DE MARCA RECONOCIDA Y HOMOLOGADA POR EL CIDET | E31: UND | F31: 1 | G31: =A.P.U!I60 -> 645174 | H31: =G31*1.3627 -> 879178.61 | I31: =F31*H31 -> 879178.61 | J31: =F31*G31 -> 645174
C32: 08B.176 | D32: SUMINISTRO, TRANSPORTE E INSTALACION SALIDA TOMACORRIENTE NORMAL DOBLE PT EN TUBERIA CONDUIT EMT 3/4", ALAMBRE NO 12 AWG | E32: UND | F32: 16 | G32: =A.P.U!I99 -> 193896 | H32: =G32*1.3627 -> 264222.08 | I32: =F32*H32 -> 4227553.3 | J32: =F32*G32 -> 3102336
C33: 08B.197 | D33: SUMINISTRO, TRANSPORTE E INSTALACION SALIDA INTERRUPTOR SENCILLO EN TUBERIA CONDUIT EMT 3/4", ALAMBRE NO 12 AWG. | E33: UND | F33: 3 | G33: =A.P.U!I127 -> 189876 | H33: =G33*1.3627 -> 258744.03 | I33: =F33*H33 -> 776232.08 | J33: =F33*G33 -> 569628
C34: 08B.278 | D34: SUMINISTRO E INSTALACION DE BREAKER 1X20 A | E34: UND | F34: 10 | G34: =A.P.U!I167 -> 60518 | H34: =G34*1.3627 -> 82467.879 | I34: =F34*H34 -> 824678.79 | J34: =F34*G34 -> 605180
C35: 08B.179 | D35: SUMINISTRO, TRANSPORTE E INSTALACION SALIDA TOMACORRIENTE GFCI DOBLE EN TUBERIA CONDUIT EMT 3/4", ALAMBRE NO 12 AWG | E35: UND | F35: 1 | G35: =A.P.U!I114 -> 210010 | H35: =G35*1.3627 -> 286180.63 | I35: =F35*H35 -> 286180.63 | J35: =F35*G35 -> 210010
C36: 08B.203 | D36: SUMINISTRO, TRANSPORTE E INSTALACION SALIDA INTERRUPTOR DOBLE EN TUBERIA CONDUIT EMT 3/4", ALAMBRE NO 12 AWG. | E36: UND | F36: 3 | G36: =A.P.U!I140 -> 203612 | H36: =G36*1.3627 -> 277462.07 | I36: =F36*H36 -> 832386.22 | J36: =F36*G36 -> 610836
C37: 08B.304 | D37: DESMONTE DE LÁMPARAS DE SOBREPONER, INCRUSTAR O SIMILAR. ALTURA < 3 METROS (INCLUYE ESCALERA CERTIFICADA) | E37: UND | F37: 119 | G37: =A.P.U!I173 -> 29639 | H37: =G37*1.3627 -> 40389.065 | I37: =F37*H37 -> 4806298.8 | J37: =F37*G37 -> 3527041
C38: 08B.307 | D38: DESMONTE DE INTERRUPTORES (DOBLE O SENCILLOS), TOMACORRIENTES (DOBLES O SENCILLOS), PUNTOS TELEFÓNICOS, DE DATOS O SIMILARES | E38: UND | F38: 27 | G38: =A.P.U!I180 -> 11568 | H38: =G38*1.3627 -> 15763.714 | I38: =F38*H38 -> 425620.27 | J38: =F38*G38 -> 312336
C39: 08B.311 | D39: DESMONTE Y RETIRO DE REDES ELÉCTRICAS PARÁSITAS. INCLUYE ANDAMIO CERTIFICADO | E39: ML | F39: 270 | G39: =A.P.U!I185 -> 10151 | H39: =G39*1.3627 -> 13832.768 | I39: =F39*H39 -> 3734847.3 | J39: =F39*G39 -> 2740770
C40: 08B.325 | D40: SUMINISTRO, TRANSPORTE E INSTALACION PANEL LED REDONDO DE INCRUSTAR 18W LUZ BLANCA NEUTRA 1080 LÚMENES TIPO SYLVANA O SIMILAR | E40: UND | F40: 3 | G40: =A.P.U!I192 -> 78341 | H40: =G40*1.3627 -> 106755.28 | I40: =F40*H40 -> 320265.84 | J40: =F40*G40 -> 235023
C41: 08B.330 | D41: SUMINISTRO, TRANSPORTE E INSTALACION DE LUMINARIA DE EMPOTRAR TIPO PANEL LED CUADRADO 60 X 60, 48W BLANCO OPAL. INCLUYE DRIVER SC CLAVIJA Y TODOS LOS ACCESORIOS PARA SU CORRECTA INSTALACIÓN Y MONTAJE | E41: UND | F41: 42 | G41: =A.P.U!I201 -> 130804 | H41: =G41*1.3627 -> 178246.61 | I41: =F41*H41 -> 7486357.7 | J41: =F41*G41 -> 5493768
C42: 08B.456 | D42: SUMINISTRO, TRANSPORTE E INSTALACIÓN LUMINARIA HERMETICA 36W - SYLVANIA O SIMILAR | E42: UND | F42: 8 | G42: =A.P.U!I209 -> 149154 | H42: =G42*1.3627 -> 203252.16 | I42: =F42*H42 -> 1626017.2 | J42: 149154
C43: 08B.557 | D43: SUMINISTRO, TRANSPORTE E INSTALACION SALIDA INTERRUPTOR SENCILLO CONMUTABLE EN TUBERIA CONDUIT EMT 3/4", CABLE N° 12 AWG HFFR LS | E43: UND | F43: 2 | G43: =A.P.U!I217 -> 219030 | H43: =G43*1.3627 -> 298472.18 | I43: =F43*H43 -> 596944.36 | J43: =F43*G43 -> 438060
C44: 08B.558 | D44: SUMINISTRO, TRANSPORTE E INSTALACION SALIDA INTERRUPTOR CONMUTABLE DOBLE EN TUBERIA CONDUIT EMT 3/4", CABLE N° 12 AWG HFFR LS | E44: UND | F44: 1 | G44: =A.P.U!I232 -> 236561 | H44: =G44*1.3627 -> 322361.67 | I44: =F44*H44 -> 322361.67 | J44: =F44*G44 -> 236561
...

Sheet PRESUPUESTO AU
B3: Formulario 1 - Propuesta económica - Documento tipo de obra pública - versión 3
B4: Código | C4: CCE-EICP-FM-14
B5: FORMULARIO 1
B6: PRESUPUESTO OFICIAL
B7: [La entidad puede utilizar este formulario de detalle del presupuesto oficial para determinar las condiciones bajo las cuales los proponentes analizarán y presentarán su propuesta económica de forma detallada, sin perjuicio que la entidad pueda modificarlo o establecer la presentación de la oferta económica con un formulario distinto al indicado.]
B9: Adicionalmente, cuando el proceso de contratación es estructurado por precios unitarios, la Entidad debe aplicar las notas 1, 2 y 3 del presente formulario y las casillas de "Descripción", "Porcentaje" de la Administración y Utilidad y total A.U. resaltadas en color amarillo. Tratándose de otras modalidades de precio, la Entidad puede o no configurar los mismos aspectos.
B11: MEJORAMIENTO DE LA PLANTA FÍSICA DEL ESTABLECIMIENTO EDUCATIVO OFICIAL: PRESUPUESTO OBRA CIVIL - INSTITUCION EDUCATIVA ESTAMBUL
B12: Nº | C12: ITEM DE PAGO | D12: DESCRIPCION | E12: UND. | F12: CANTIDAD | G12: VALOR UNITARIO | H12: VALOR UNITARIO | I12: VALOR TOTAL
C13: 001 | D13: PRELIMINARES
B14: 1 | C14: 001.049 | D14: SUMINISTRO, TRANSPORTE E INSTALACIÓN CERRAMIENTO EN YUTE H= 2 M | E14: ML | F14: 200 | G14: =A.P.U!I1*'ANALISIS AU'!J42 -> 21393.027 | H14: =ROUND(G14,N12) -> 21393 | I14: =+ROUND(F14*H14,0) -> 4278600
B15: 2 | C15: 001.054 | D15: SUMINISTRO, TRANSPORTE E INSTALACION SEÑAL PREVENTIVA, REGLAMENTARIA E INFORMATIVA | E15: UND | F15: 4 | G15: =A.P.U!I8*'ANALISIS AU'!J42 -> 350575.02 | H15: =ROUND(G15,N13) -> 350575 | I15: =+ROUND(F15*H15,0) -> 1402300
B16: Subtotal | I16: =SUM(I13:I15) -> 5680900
C17: 002 | D17: MOVIMIENTO DE TIERRAS
B18: 3 | C18: 002.089 | D18: RETIRO DE MATERIAL SOBRANTE EN VOLQUETA, CARGUE MANUAL, DISPOSICIÓN EN BOTADERO (HASTA 25 KM) | E18: M3-Suelto | F18: 45 | G18: =A.P.U!I17*'ANALISIS AU'!J42 -> 60855.457 | H18: =ROUND(G18,N16) -> 60855 | I18: =+ROUND(F18*H18,0) -> 2738475
B19: Subtotal | I19: =SUM(I18) -> 2738475
C20: 003 | D20: DESAGUES E INSTALACIONES SANITARIAS
B21: 4 | C21: 003.011 | D21: SUMINISTRO, TRANSPORTE E INSTALACION BAJANTE AGUAS LLUVIAS PVC 4" (INCLUYE CODO, UNION Y ACCESORIOS DE FIJACION) | E21: ML | F21: 50 | G21: =A.P.U!I23*'ANALISIS AU'!J42 -> 58149.134 | H21: =ROUND(G21,N19) -> 58149 | I21: =+ROUND(F21*H21,0) -> 2907450
I22: =SUM(I21) -> 2907450
C23: 005 | D23: ESTRUCTURAS EN CONCRETO, METALICAS Y DE MADERA
B24: 5 | C24: 005.113 | D24: SUMINISTRO, TRANSPORTE E INSTALACION ESTRUCTURA METALICA PARA CUBIERTA (INCLUYE SOLDADURA, ANTICORROSIVO Y ESMALTE). | E24: KG | F24: 580 | G24: =A.P.U!I35*'ANALISIS AU'!J42 -> 32016.637 | H24: =ROUND(G24,N22) -> 32017 | I24: =+ROUND(F24*H24,0) -> 18569860
B25: Subtotal | I25: =SUM(I24) -> 18569860
C26: 007 | D26: INSTALACIONES HIDRAULICAS
B27: 6 | C27: 007.116 | D27: SUMINISTRO, TRANSPORTE E INSTALACION LAVAMANOS DE EMPOTRAR LINEA SAN LORENZO COLOR BLANCO DE CORONA REF: O19001001 O SIMILAR. (INCLUYE ELEMENTOS DE GRIFERÍA PARA INSTALACIÓN). | E27: UND | F27: 10 | G27: =A.P.U!I47*'ANALISIS AU'!J42 -> 713366.64 | H27: =ROUND(G27,N25) -> 713367 | I27: =+ROUND(F27*H27,0) -> 7133670
B28: 7 | C28: 007.120 | D28: SONDEO DE TUBERÍAS Y BAJANTES DE AGUAS LLUVIA | E28: ML | F28: 16 | G28: =A.P.U!I55*'ANALISIS AU'!J42 -> 12996.07 | H28: =ROUND(G28,N26) -> 12996 | I28: =+ROUND(F28*H28,0) -> 207936
B29: Subtotal | I29: =SUM(I27:I28) -> 7341606
C30: 08B | D30: INSTALACIONES ELECTRICAS
B31: 8 | C31: 08B.111 | D31: SUMINISTRO E INSTALACION DE TABLERO DE 12 CIRCUITOS 2F4H, CON PUERTA. BARRAJE PARA 200A BARRA NEUTRO Y BARRA TIERRA CALIDAD LEGRAND, SIEMENS, SQARED O SUPERIOR DE MARCA RECONOCIDA Y HOMOLOGADA POR EL CIDET | E31: UND | F31: 1 | G31: =A.P.U!I60*'ANALISIS AU'!J42 -> 879178.61 | H31: =ROUND(G31,N29) -> 879179 | I31: =+ROUND(F31*H31,0) -> 879179
B32: 9 | C32: 08B.176 | D32: SUMINISTRO, TRANSPORTE E INSTALACION SALIDA TOMACORRIENTE NORMAL DOBLE PT EN TUBERIA CONDUIT EMT 3/4", ALAMBRE NO 12 AWG | E32: UND | F32: 16 | G32: =A.P.U!I99*'ANALISIS AU'!J42 -> 264222.08 | H32: =ROUND(G32,N30) -> 264222 | I32: =+ROUND(F32*H32,0) -> 4227552
B33: 10 | C33: 08B.197 | D33: SUMINISTRO, TRANSPORTE E INSTALACION SALIDA INTERRUPTOR SENCILLO EN TUBERIA CONDUIT EMT 3/4", ALAMBRE NO 12 AWG. | E33: UND | F33: 3 | G33: =A.P.U!I127*'ANALISIS AU'!J42 -> 258744.03 | H33: =ROUND(G33,N31) -> 258744 | I33: =+ROUND(F33*H33,0) -> 776232
B34: 11 | C34: 08B.278 | D34: SUMINISTRO E INSTALACION DE BREAKER 1X20 A | E34: UND | F34: 10 | G34: =A.P.U!I167*'ANALISIS AU'!J42 -> 82467.879 | H34: =ROUND(G34,N32) -> 82468 | I34: =+ROUND(F34*H34,0) -> 824680
B35: 12 | C35: 08B.179 | D35: SUMINISTRO, TRANSPORTE E INSTALACION SALIDA TOMACORRIENTE GFCI DOBLE EN TUBERIA CONDUIT EMT 3/4", ALAMBRE NO 12 AWG | E35: UND | F35: 1 | G35: =A.P.U!I114*'ANALISIS AU'!J42 -> 286180.63 | H35: =ROUND(G35,N33) -> 286181 | I35: =+ROUND(F35*H35,0) -> 286181
B36: 13 | C36: 08B.203 | D36: SUMINISTRO, TRANSPORTE E INSTALACION SALIDA INTERRUPTOR DOBLE EN TUBERIA CONDUIT EMT 3/4", ALAMBRE NO 12 AWG. | E36: UND | F36: 3 | G36: =A.P.U!I140*'ANALISIS AU'!J42 -> 277462.07 | H36: =ROUND(G36,N34) -> 277462 | I36: =+ROUND(F36*H36,0) -> 832386
B37: 14 | C37: 08B.304 | D37: DESMONTE DE LÁMPARAS DE SOBREPONER, INCRUSTAR O SIMILAR. ALTURA < 3 METROS (INCLUYE ESCALERA CERTIFICADA) | E37: UND | F37: 119 | G37: =A.P.U!I173*'ANALISIS AU'!J42 -> 40389.065 | H37: =ROUND(G37,N35) -> 40389 | I37: =+ROUND(F37*H37,0) -> 4806291
B38: 15 | C38: 08B.307 | D38: DESMONTE DE INTERRUPTORES (DOBLE O SENCILLOS), TOMACORRIENTES (DOBLES O SENCILLOS), PUNTOS TELEFÓNICOS, DE DATOS O SIMILARES | E38: UND | F38: 27 | G38: =A.P.U!I180*'ANALISIS AU'!J42 -> 15763.714 | H38: =ROUND(G38,N36) -> 15764 | I38: =+ROUND(F38*H38,0) -> 425628
B39: 16 | C39: 08B.311 | D39: DESMONTE Y RETIRO DE REDES ELÉCTRICAS PARÁSITAS. INCLUYE ANDAMIO CERTIFICADO | E39: ML | F39: 270 | G39: =A.P.U!I185*'ANALISIS AU'!J42 -> 13832.768 | H39: =ROUND(G39,N37) -> 13833 | I39: =+ROUND(F39*H39,0) -> 3734910
B40: 17 | C40: 08B.325 | D40: SUMINISTRO, TRANSPORTE E INSTALACION PANEL LED REDONDO DE INCRUSTAR 18W LUZ BLANCA NEUTRA 1080 LÚMENES TIPO SYLVANA O SIMILAR | E40: UND | F40: 3 | G40: =A.P.U!I192*'ANALISIS AU'!J42 -> 106755.28 | H40: =ROUND(G40,N38) -> 106755 | I40: =+ROUND(F40*H40,0) -> 320265
B41: 18 | C41: 08B.330 | D41: SUMINISTRO, TRANSPORTE E INSTALACION DE LUMINARIA DE EMPOTRAR TIPO PANEL LED CUADRADO 60 X 60, 48W BLANCO OPAL. INCLUYE DRIVER SC CLAVIJA Y TODOS LOS ACCESORIOS PARA SU CORRECTA INSTALACIÓN Y MONTAJE | E41: UND | F41: 42 | G41: =A.P.U!I201*'ANALISIS AU'!J42 -> 178246.61 | H41: =ROUND(G41,N39) -> 178247 | I41: =+ROUND(F41*H41,0) -> 7486374
B42: 19 | C42: 08B.456 | D42: SUMINISTRO, TRANSPORTE E INSTALACIÓN LUMINARIA HERMETICA 36W - SYLVANIA O SIMILAR | E42: UND | F42: 8 | G42: =A.P.U!I209*'ANALISIS AU'!J42 -> 203252.16 | H42: =ROUND(G42,N40) -> 203252 | I42: =+ROUND(F42*H42,0) -> 1626016
B43: 20 | C43: 08B.557 | D43: SUMINISTRO, TRANSPORTE E INSTALACION SALIDA INTERRUPTOR SENCILLO CONMUTABLE EN TUBERIA CONDUIT EMT 3/4", CABLE N° 12 AWG HFFR LS | E43: UND | F43: 2 | G43: =A.P.U!I217*'ANALISIS AU'!J42 -> 298472.18 | H43: =ROUND(G43,N41) -> 298472 | I43: =+ROUND(F43*H43,0) -> 596944
B44: 21 | C44: 08B.558 | D44: SUMINISTRO, TRANSPORTE E INSTALACION SALIDA INTERRUPTOR CONMUTABLE DOBLE EN TUBERIA CONDUIT EMT 3/4", CABLE N° 12 AWG HFFR LS | E44: UND | F44: 1 | G44: =A.P.U!I232*'ANALISIS AU'!J42 -> 322361.67 | H44: =ROUND(G44,N42) -> 322362 | I44: =+ROUND(F44*H44,0) -> 322362
...

Sheet ANALISIS AU
A1: ANALISIS DEL AIU
A3: Valor estimado de la Obra (Costo Directo). | D3: Valor | E3: 541677920
A4: Plazo estimado de ejecución. | D4: Meses | E4: 3
A6: CAPITULO | B6: TIPO DE GASTO | C6: UN | D6: CANTIDAD. | E6: DEDICACION | F6: VLOR UNITARIO (mes) | G6: FACTOR PRESTACIONAL O FACTOR AIU (PARA INDIRECTOS) | H6: VALOR TOTAL | I6: SUMA | J6: PORCENTAJE
A7: 1 | B7: GASTOS GENERALES. | J7: =+J8 -> 0.095178921
A8: 1.1 | B8: MANO DE OBRA Y GASTOS DE OFICINA | I8: =SUM(H9:H14) -> 51556320 | J8: =+I8/$E$3 -> 0.095178921
B9: Ingeniero Residente | C9: Un | D9: 1 | E9: 1 | F9: 4500000 | G9: 0.6556 | H9: =+D9*E9*$E$4*F9*(1+G9) -> 22350600 | J9: =+H9/$E$3 -> 0.041261789
B10: Maestro de Obra | C10: Un | D10: 1 | E10: 1 | F10: 3600000 | G10: 0.6556 | H10: =+D10*E10*$E$4*F10*(1+G10) -> 17880480 | J10: =+H10/$E$3 -> 0.033009431
B11: Residente de Salud Ocupacional | C11: Un | D11: 1 | E11: 0.5 | F11: 3600000 | G11: 0.6556 | H11: =+D11*E11*$E$4*F11*(1+G11) -> 8940240 | J11: =+H11/$E$3 -> 0.016504716
B12: Plan de Salud ocupacional y seguridad industrial | C12: Mes | D12: =+$E$4 -> 3 | E12: 1 | F12: 200000 | H12: =+D12*E12*$E$4*F12*(1+G12) -> 1800000 | J12: =+H12/$E$3 -> 0.0033230079
B13: Costos financiero | C13: Mes | D13: =+$E$4 -> 3 | E13: 1 | F13: 65000 | H13: =+D13*E13*$E$4*F13*(1+G13) -> 585000 | J13: =+H13/$E$3 -> 0.0010799776
H14: =F14 -> 0 | J14: =+H14/$E$3 -> 0
A15: 2 | B15: GASTOS INDIRECTOS. | J15: =+J16+J18+J29+J25 -> 0.20753516
A16: 2.1 | B16: LEGALIZACION. | I16: =SUM(H17:H17) -> 0 | J16: =+I16/$E$3 -> 0
B17: AIU ITERACION | G17: 1.3627 | H17: =+F17*D17*G17 -> 0
A18: 2.2 | B18: POLIZAS | I18: =SUM(H19:H23) -> 6283992 | J18: =+I18/$E$3 -> 0.011600975
B19: Anticipo | C19: % | D19: 0.0006 | E19: 0.2 | F19: =+$E$3*E19 -> 108335584 | G19: =+$G$17 -> 1.3627 | H19: =+(((F19*G19*D19)/365)*($E$4*30+120))*1.19 -> 60645.143 | J19: =+H19/$E$3 -> 0.00011195794
B20: Cumplimiento | C20: % | D20: 0.0006 | F20: =+$E$3 -> 541677920 | G20: =+$G$17 -> 1.3627 | H20: =+(((F20*G20*D20)/365)*($E$4*30+120))*1.19 -> 303225.72 | J20: =+H20/$E$3 -> 0.00055978969
B21: Estabilidad | C21: % | D21: 0.0009 | F21: =+$E$3 -> 541677920 | G21: =+$G$17 -> 1.3627 | H21: =+(((F21*G21*D21)/365)*(1825))*1.19 -> 3952763.8 | J21: =+H21/$E$3 -> 0.0072972585
B22: Prestaciones Sociales | C22: % | D22: 0.0005 | F22: =+$E$3 -> 541677920 | G22: =+$G$17 -> 1.3627 | H22: =+(((F22*G22*D22)/365)*($E$4*30+1095))*1.19 -> 1425882.8 | J22: =+H22/$E$3 -> 0.0026323444
B23: Responsabilidad Civil | C23: % | D23: 0.0025 | F23: =+$E$3 -> 541677920 | G23: =+$G$17 -> 1.3627 | H23: =+(((F23*G23*D23)/365)*($E$4*30+0))*1.19 -> 541474.49 | J23: =+H23/$E$3 -> 0.00099962445
A25: 2.3 | B25: VALLAS Y SEÑALIZACION | I25: =SUM(H26:H28) -> 800000 | J25: =+I25/$E$3 -> 0.0014768924
B26: Vallas incluye estructura de fijacion | C26: M2 | D26: 2 | E26: 200000 | F26: =E26*D26 -> 400000 | H26: =+F26*D26 -> 800000 | J26: =+H26/$E$3 -> 0.0014768924
H27: =+F27*D27 -> 0 | J27: =+H27/$E$3 -> 0
A29: 2.4 | B29: IMPUESTOS Y CONTRIBUCIONES | I29: =SUM(H30:H37) -> 1.0533322e+08 | J29: =+I29/$E$3 -> 0.19445729
B30: Contribuación Especial | C30: % | D30: 0.05 | F30: =+$E$3 -> 541677920 | G30: =+$G$17 -> 1.3627 | H30: =+F30*D30*G30 -> 36907225 | J30: =+H30/$E$3 -> 0.068135
B31: Estampillas para el bienestar del adulto mayor | C31: % | D31: 0.02 | F31: =+$E$3 -> 541677920 | G31: =+$G$17 -> 1.3627 | H31: =+F31*D31*G31 -> 14762890 | J31: =+H31/$E$3 -> 0.027254
B32: Estampillas Pro - Universidades. | C32: % | D32: 0.02 | F32: =+$E$3 -> 541677920 | G32: =+$G$17 -> 1.3627 | H32: =+F32*D32*G32 -> 14762890 | J32: =+H32/$E$3 -> 0.027254
B33: Estampilla pro cultura | C33: % | D33: 0.02 | F33: =+$E$3 -> 541677920 | G33: =+$G$17 -> 1.3627 | H33: =+F33*D33*G33 -> 14762890 | J33: =+H33/$E$3 -> 0.027254
B34: Estampilla pro justicia familiar | C34: % | D34: 0.02 | F34: =+$E$3 -> 541677920 | G34: =+$G$17 -> 1.3627 | H34: =+F34*D34*G34 -> 14762890 | J34: =+H34/$E$3 -> 0.027254
B35: Gasto bancarios4x1000 y retiros | C35: % | D35: 0.004 | F35: =+$E$3 -> 541677920 | G35: =+$G$17 -> 1.3627 | H35: =+F35*D35*G35 -> 2952578 | J35: =+H35/$E$3 -> 0.0054508
B36: Industria y Comercio 3,7 x 1.000 sobre valor total | C36: % | D36: 0.0037 | F36: =+$E$3 -> 541677920 | G36: =+$G$17 -> 1.3627 | H36: =+F36*D36*G36 -> 2731134.7 | J36: =+H36/$E$3 -> 0.00504199
B37: Tasa pro deporte y recreación | C37: % | D37: 0.005 | F37: =+$E$3 -> 541677920 | G37: =+$G$17 -> 1.3627 | H37: =+F37*D37*G37 -> 3690722.5 | J37: =+H37/$E$3 -> 0.0068135
B38: TOTAL GASTOS INDIRECTOS DE ADMINISTRACION. | I38: =SUM(I8:I37) -> 1.6397353e+08 | J38: =ROUND(SUM(J7:J37)/3,4) -> 0.3027
B39: UTILIDAD: | J39: 0.06
B40: A.U. | J40: =SUM(J38:J39) -> 0.3627
I42: NO MOVER | J42: =1+J40 -> 1.3627

Sheet A.P.U
A1: 001.049 | B1: - | C1: SUMINISTRO, TRANSPORTE E INSTALACIÓN CERRAMIENTO EN YUTE H= 2 M | D1: Actividad | E1: ML | I1: 15699
A2: 001.049 | B2: C1 | C2: CUADRILLA AA TIPO 1 (1 OFICIAL + 1 AYUDANTE) (Albañileria) | D2: Cuadrilla | E2: HR | F2: 0.16 | G2: 37863 | H2: 6058 | J2: =HYPERLINK("#"&"Insumos"&"!A"&MATCH($B2,[1]Insumos!$A:$A,0),"Ins "&$B2) -> Ins C1
A3: 001.049 | B3: H2 | C3: EQUIPO BASICO (HERRAMIENTA MENOR) | D3: Herramienta | E3: UND | F3: 0.16 | G3: 3623 | H3: 580 | J3: =HYPERLINK("#"&"Insumos"&"!A"&MATCH($B3,[1]Insumos!$A:$A,0),"Ins "&$B3) -> Ins H2
A4: 001.049 | B4: I425 | C4: PUNTILLA CON CABEZA 2" | D4: Insumos | E4: LB | F4: 0.2 | G4: 5304 | H4: 1061 | J4: =HYPERLINK("#"&"Insumos"&"!A"&MATCH($B4,[1]Insumos!$A:$A,0),"Ins "&$B4) -> Ins I425
A5: 001.049 | B5: I447 | C5: FIBRA PARA CERRAMIENTO PROVISIONAL H=2,1M | D5: Insumos | E5: M | F5: 1 | G5: 4505 | H5: 4505 | J5: =HYPERLINK("#"&"Insumos"&"!A"&MATCH($B5,[1]Insumos!$A:$A,0),"Ins "&$B5) -> Ins I447
A6: 001.049 | B6: I986 | C6: GUADUA CEPA DE 5 VARAS | D6: Insumos | E6: UND | F6: 0.35 | G6: 9987 | H6: 3495 | J6: =HYPERLINK("#"&"Insumos"&"!A"&MATCH($B6,[1]Insumos!$A:$A,0),"Ins "&$B6) -> Ins I986
A8: 001.054 | B8: - | C8: SUMINISTRO, TRANSPORTE E INSTALACION SEÑAL PREVENTIVA, REGLAMENTARIA E INFORMATIVA | D8: Actividad | E8: UND | I8: 257265
A9: 001.054 | B9: AB4 | C9: CONCRETO 2500 psi - 17.5 Mpa | D9: Analisis Basico | E9: M3 | F9: 0.01 | G9: 535318 | H9: 5353
A10: 001.054 | B10: C1 | C10: CUADRILLA AA TIPO 1 (1 OFICIAL + 1 AYUDANTE) (Albañileria) | D10: Cuadrilla | E10: HR | F10: 2 | G10: 37863 | H10: 75726 | J10: =HYPERLINK("#"&"Insumos"&"!A"&MATCH($B10,[1]Insumos!$A:$A,0),"Ins "&$B10) -> Ins C1
A11: 001.054 | B11: E111 | C11: FORMALETA PARA BASE DE CONCRETO | D11: Equipos | E11: UND | F11: 0.5 | G11: 5929 | H11: 2965 | J11: =HYPERLINK("#"&"Insumos"&"!A"&MATCH($B11,[1]Insumos!$A:$A,0),"Ins "&$B11) -> Ins E111
A12: 001.054 | B12: E12 | C12: EQUIPO DE TRANSPORTE | D12: Equipos | E12: DIA | F12: 0.228 | G12: 187426 | H12: 42733 | J12: =HYPERLINK("#"&"Insumos"&"!A"&MATCH($B12,[1]Insumos!$A:$A,0),"Ins "&$B12) -> Ins E12
A13: 001.054 | B13: H2 | C13: EQUIPO BASICO (HERRAMIENTA MENOR) | D13: Herramienta | E13: UND | F13: 2 | G13: 3623 | H13: 7246 | J13: =HYPERLINK("#"&"Insumos"&"!A"&MATCH($B13,[1]Insumos!$A:$A,0),"Ins "&$B13) -> Ins H2
A14: 001.054 | B14: I1565 | C14: ACARREO INTERNO | D14: Insumos | E14: UND | F14: 0.158 | G14: 1897 | H14: 300 | J14: =HYPERLINK("#"&"Insumos"&"!A"&MATCH($B14,[1]Insumos!$A:$A,0),"Ins "&$B14) -> Ins I1565
A15: 001.054 | B15: I450 | C15: ALQUILER DE SEÑAL PREVENTIVA, REGLAMENTARIA E INFORMATIVA | D15: Insumos | E15: UND | F15: 0.6 | G15: 204903 | H15: 122942 | J15: =HYPERLINK("#"&"Insumos"&"!A"&MATCH($B15,[1]Insumos!$A:$A,0),"Ins "&$B15) -> Ins I450
A17: 002.089 | B17: - | C17: RETIRO DE MATERIAL SOBRANTE EN VOLQUETA, CARGUE MANUAL, DISPOSICIÓN EN BOTADERO (HASTA 25 KM) | D17: Actividad | E17: M3-Suelto | I17: 44658
A18: 002.089 | B18: I2414 | C18: DERECHO A BOTADERO - LA NUBIA | D18: Insumos | E18: M3 | F18: 1 | G18: 9064 | H18: 9064 | J18: =HYPERLINK("#"&"Insumos"&"!A"&MATCH($B18,[1]Insumos!$A:$A,0),"Ins "&$B18) -> Ins I2414
A19: 002.089 | B19: H2 | C19: EQUIPO BASICO (HERRAMIENTA MENOR) | D19: Herramienta | E19: UND | F19: 0.1 | G19: 3623 | H19: 362 | J19: =HYPERLINK("#"&"Insumos"&"!A"&MATCH($B19,[1]Insumos!$A:$A,0),"Ins "&$B19) -> Ins H2
A20: 002.089 | B20: C44 | C20: CUADRILLA AA (2 AYUDANTES) | D20: Cuadrilla | E20: HR | F20: 0.5 | G20: 29124 | H20: 14562 | J20: =HYPERLINK("#"&"Insumos"&"!A"&MATCH($B20,[1]Insumos!$A:$A,0),"Ins "&$B20) -> Ins C44
A21: 002.089 | B21: E25 | C21: VOLQUETA SENCILLA 8M3 | D21: Equipos | E21: VJE | F21: 0.125 | G21: 165360 | H21: 20670 | J21: =HYPERLINK("#"&"Insumos"&"!A"&MATCH($B21,[1]Insumos!$A:$A,0),"Ins "&$B21) -> Ins E25
A23: 003.011 | B23: - | C23: SUMINISTRO, TRANSPORTE E INSTALACION BAJANTE AGUAS LLUVIAS PVC 4" (INCLUYE CODO, UNION Y ACCESORIOS DE FIJACION) | D23: Actividad | E23: ML | I23: 42672
A24: 003.011 | B24: C9 | C24: CUADRILLA BB TIPO 2 (1 OFICIAL + 2 AYUDANTE) (Instalaciones) | D24: Cuadrilla | E24: HR | F24: 0.25 | G24: 57672 | H24: 14418 | J24: =HYPERLINK("#"&"Insumos"&"!A"&MATCH($B24,[1]Insumos!$A:$A,0),"Ins "&$B24) -> Ins C9
A25: 003.011 | B25: E12 | C25: EQUIPO DE TRANSPORTE | D25: Equipos | E25: DIA | F25: 0.005 | G25: 187426 | H25: 937 | J25: =HYPERLINK("#"&"Insumos"&"!A"&MATCH($B25,[1]Insumos!$A:$A,0),"Ins "&$B25) -> Ins E12
A26: 003.011 | B26: H2 | C26: EQUIPO BASICO (HERRAMIENTA MENOR) | D26: Herramienta | E26: UND | F26: 0.1 | G26: 3623 | H26: 362 | J26: =HYPERLINK("#"&"Insumos"&"!A"&MATCH($B26,[1]Insumos!$A:$A,0),"Ins "&$B26) -> Ins H2
A27: 003.011 | B27: I1565 | C27: ACARREO INTERNO | D27: Insumos | E27: UND | F27: 0.4 | G27: 1897 | H27: 759 | J27: =HYPERLINK("#"&"Insumos"&"!A"&MATCH($B27,[1]Insumos!$A:$A,0),"Ins "&$B27) -> Ins I1565
A28: 003.011 | B28: I521 | C28: ABRAZADERA EN ACERO | D28: Insumos | E28: UND | F28: 0.5 | G28: 2963 | H28: 1482 | J28: =HYPERLINK("#"&"Insumos"&"!A"&MATCH($B28,[1]Insumos!$A:$A,0),"Ins "&$B28) -> Ins I521
A29: 003.011 | B29: I576 | C29: CODO 90° 1/4 CXC SANITARIO 4'' | D29: Insumos | E29: UND | F29: 0.06 | G29: 20431 | H29: 1226 | J29: =HYPERLINK("#"&"Insumos"&"!A"&MATCH($B29,[1]Insumos!$A:$A,0),"Ins "&$B29) -> Ins I576
A30: 003.011 | B30: I614 | C30: LIMPIADOR REM PVC 760 GRMS. (1/4) | D30: Insumos | E30: UND | F30: 0.017 | G30: 64889 | H30: 1103 | J30: =HYPERLINK("#"&"Insumos"&"!A"&MATCH($B30,[1]Insumos!$A:$A,0),"Ins "&$B30) -> Ins I614
A31: 003.011 | B31: I647 | C31: SOLDADURA PVC LIQUIDA 1/4 | D31: Insumos | E31: UND | F31: 0.017 | G31: 134508 | H31: 2287 | J31: =HYPERLINK("#"&"Insumos"&"!A"&MATCH($B31,[1]Insumos!$A:$A,0),"Ins "&$B31) -> Ins I647
A32: 003.011 | B32: I751 | C32: TUBO PVC A.LL-VENTILACION 4'' | D32: Insumos | E32: M | F32: 1.03 | G32: 17663 | H32: 18193 | J32: =HYPERLINK("#"&"Insumos"&"!A"&MATCH($B32,[1]Insumos!$A:$A,0),"Ins "&$B32) -> Ins I751
A33: 003.011 | B33: I795 | C33: UNION SANITARIA 4" PVC | D33: Insumos | E33: UND | F33: 0.16 | G33: 11904 | H33: 1905 | J33: =HYPERLINK("#"&"Insumos"&"!A"&MATCH($B33,[1]Insumos!$A:$A,0),"Ins "&$B33) -> Ins I795
A35: 005.113 | B35: - | C35: SUMINISTRO, TRANSPORTE E INSTALACION ESTRUCTURA METALICA PARA CUBIERTA (INCLUYE SOLDADURA, ANTICORROSIVO Y ESMALTE). | D35: Actividad | E35: KG | I35: 23495
A36: 005.113 | B36: C18 | C36: CUADRILLA DD TIPO 3 (1 OFICIAL + 3 AYUDANTE) (Carpinteria) | D36: Cuadrilla | E36: HR | F36: 0.09 | G36: 74500 | H36: 6705 | J36: =HYPERLINK("#"&"Insumos"&"!A"&MATCH($B36,[1]Insumos!$A:$A,0),"Ins "&$B36) -> Ins C18
A37: 005.113 | B37: E1 | C37: ANDAMIO METALICO CERTIFICADO, INCLUYE ESCALERILLA CON BARANDAS Y PLATAFORMAS DE TRABAJO H=2.0M | D37: Equipos | E37: Un-Dia | F37: 0.05 | G37: 17302 | H37: 865 | J37: =HYPERLINK("#"&"Insumos"&"!A"&MATCH($B37,[1]Insumos!$A:$A,0),"Ins "&$B37) -> Ins E1
A38: 005.113 | B38: E12 | C38: EQUIPO DE TRANSPORTE | D38: Equipos | E38: DIA | F38: 0.0017 | G38: 187426 | H38: 319 | J38: =HYPERLINK("#"&"Insumos"&"!A"&MATCH($B38,[1]Insumos!$A:$A,0),"Ins "&$B38) -> Ins E12
A39: 005.113 | B39: E59 | C39: EQUIPO DE SOLDADURA | D39: Equipos | E39: HR | F39: 0.01 | G39: 46854 | H39: 469 | J39: =HYPERLINK("#"&"Insumos"&"!A"&MATCH($B39,[1]Insumos!$A:$A,0),"Ins "&$B39) -> Ins E59
A40: 005.113 | B40: E78 | C40: COMPRESOR | D40: Equipos | E40: HR | F40: 0.01 | G40: 65223 | H40: 652 | J40: =HYPERLINK("#"&"Insumos"&"!A"&MATCH($B40,[1]Insumos!$A:$A,0),"Ins "&$B40) -> Ins E78
A41: 005.113 | B41: H2 | C41: EQUIPO BASICO (HERRAMIENTA MENOR) | D41: Herramienta | E41: UND | F41: 0.09 | G41: 3623 | H41: 326 | J41: =HYPERLINK("#"&"Insumos"&"!A"&MATCH($B41,[1]Insumos!$A:$A,0),"Ins "&$B41) -> Ins H2
A42: 005.113 | B42: I1001 | C42: ANTICORROSIVO PRIMER VERDE OLIVA REF .513 PINTUCO O SIMILAR | D42: Insumos | E42: GAL | F42: 0.015 | G42: 140296 | H42: 2104 | J42: =HYPERLINK("#"&"Insumos"&"!A"&MATCH($B42,[1]Insumos!$A:$A,0),"Ins "&$B42) -> Ins I1001
A43: 005.113 | B43: I1565 | C43: ACARREO INTERNO | D43: Insumos | E43: UND | F43: 0.1 | G43: 1897 | H43: 190 | J43: =HYPERLINK("#"&"Insumos"&"!A"&MATCH($B43,[1]Insumos!$A:$A,0),"Ins "&$B43) -> Ins I1565
A44: 005.113 | B44: I1789 | C44: SOLDADURA ELECTRICA TIPO WESTARCO SUPER E - 6013 DE 1/8 O SIMILAR | D44: Insumos | E44: KG | F44: 0.03 | G44: 15364 | H44: 461 | J44: =HYPERLINK("#"&"Insumos"&"!A"&MATCH($B44,[1]Insumos!$A:$A,0),"Ins "&$B44) -> Ins I1789
...
