Workbook

Sheet ET Persona Natural
A4: EVALUACIÓN TÉCNICA - INVITACIÓN DIRECTA
A6: OBJETO DEL PROCESO: | B6: PRESTAR SUS SERVICIOS PROFESIONALES AL COLEGIO RAMÓN B. JIMENO, PARA APOYAR LAS ACTIVIDADES RELACIONADAS CON LOS PROCESOS EDUCATIVOS Y CONVIVENCIALES DE LA INSTITUCIÓN. | N6: Tarjeta Profesional
A7: NOMBRE DEL OFERENTE: | B7: JUSTTIN JULIETH ANGARITA ALFONSO | N7: Licencia
A8: CATEGORÍA A CONTRATAR: (Seleccione la Categoría a Evaluar) | B8: CATEGORIA 6. Profesional con título universitario, con experiencia profesional mínima de dos (2) años. | N8: Matricula
A9: PARA PRESTACIÓN DE SERVICIOS PROFESIONALES O DE APOYO A LA GESTIÓN | N9: Registro
A10: REQUISITOS ACADÉMICOS
A11: FACTOR A EVALUAR | C11: ACREDITACIÓN PROFESIONAL | E11: CONCEPTO
A12: NIVEL ACADÉMICO: (Seleccione el Nivel académico a Evaluar) | B12: Profesional con título Universitario | C12: TITULO ACADÉMICO | D12: EQUIVALENCIA | E12: EVALUACIÓN
C13: Presenta Titulo de Psicóloga de la Corporación Universitaria Minuto de Dios | D13: NO APLICA | E13: CUMPLE
A14: DOCUMENTO DE ACREDITACIÓN PROFESIONAL: | B14: SELECCIONE: | C14: En caso de seleccionar la opción (OTRO), indicar el tipo de Documento de Acreditación Profesional que aplica. | E14: EVALUACIÓN
E15: NO APLICA
A16: POSGRADO: | B16: NO APLICA | C16: PROGRAMA ACADÉMICO | D16: EQUIVALENCIA | E16: EVALUACIÓN
C17: NO APLICA | D17: NO APLICA | E17: NO APLICA
A18: REQUISITOS DE EXPERIENCIA
A19: EXPERIENCIA REQUERIDA: | B19: CATEGORÍA 6. Experiencia profesional mínima de dos (2) años. | C19: AÑOS DE EXPERIENCIA | D19: EQUIVALENCIA | E19: EVALUACIÓN
C20: VER ANEXO 1 | D20: NO APLICA | E20: CUMPLE
A21: OTROS REQUISITOS A EVALUAR
A22: TALENTO NO PALANCA: | B22: Selección adelantada en virtud de la iniciativa - Circular 001 de 2020 (Talento no Palanca) NOTA: Iniciativa de la Alcaldía Mayor de Bogotá que hace referencia a Talento No Palanca. | E22: NO
A24: CONCEPTO FINAL: | C24: CUMPLE
A25: NOTA: SE CERTIFICA CON ESTA EVALUACIÓN QUE EL INVITADO SI CUMPLE CON LOS REQUISITOS ACADÉMICOS Y DE EXPERIENCIA DE ACUERDO A LA CATEGORÍA REQUERIDA. | C25: Nombre del Evaluador: | D25: GERALDINE GIRALDO MORENO
C26: Cargo: | D26: Director Mejoramiento Calidad de Vida
A27: NOTA: LA PRESENTE EVALUACIÓN ES DE TOTAL RESPONSABILIDAD DEL ÁREA Y EN CONSECUENCIA DEBERÁN ANEXAR LOS SOPORTES RESPECTIVOS SO PENA DE RECHAZAR LA SOLICITUD DE CONTRATACIÓN POR PARTE DE LA DIRECCIÓN DE CONTRATACIÓN Y COMPRAS. | C27: Nombre del Ordenador de Gasto: (Aprobado en SAP Ariba) | D27: MARINA MONTES ÁLVAREZ
C28: Cargo: | D28: Gerente Corporativa Gestión Humana y Administrativa

Sheet ET PN Anexo 1 
A1: EMPRESA DE ACUEDUCTO Y ALCANTARILLADO DE BOGOTÁ - ESP
A3: ANEXO No. 1 - EXPERIENCIA DEL OFERENTE
A4: INVITACIÓN DIRECTA
A5: OBJETO DEL PROCESO NOMBRE DEL INVITADO:
A6: REQUISITO DE EXPERIENCIA: | D6: ='ET Persona Natural'!B8 -> CATEGORIA 6. Profesional con título universitario, con experiencia profesional mínima de dos (2) años.
A7: N° DE CONTRATO. | B7: OBJETO DEL CONTRATO | D7: ENTIDAD CONTRATANTE | E7: FECHA INICIO CONTRATO | F7: FECHA TERMINACIÓN CONTRATO | G7: TIPO DE EXPERIENCIA | H7: TIEMPO DE EXPERIENCIA
H8: AÑOS | I8: MESES | J8: DÍAS
E9: NOTA: Se debe relacionar los Contratos Cronológicamente, del más Reciente a más Antiguo. | H9: NOTA: La fórmula de la sumatoira de experiencia es una herramienta de apoyo, sin embargo el área deberá verificar la sumatoria correcta de las mismas.
A10: Contrato de prestación de servicios | B10: PRESTAR SERVICIOS PROFESIONALES APOYANDO LAS ACTIVIDADES DE LOS PROGRAMAS ASOCIADOS A LA EXPOSICIÓN A FACTORES DEL PELIGRO PSICOSOCIAL EN EL GRUPO DE BIENESTAR Y SEGURIDAD Y SALUD EN EL TRABAJO. | D10: SUPERINTENDENCIA DE SERVICIOS PÚBLICOS DOMICILIARIOS | E10: 45315 | F10: 45539 | G10: PROFESIONAL | H10: =INT(M10/360) -> 0 | I10: =INT(MOD(M10,360)/30) -> 7 | J10: =MOD(M10,30) -> 11 | L10: =IF(E8="",MIN($E5:F8,F10),IF(F10="","",IF(F10>E8,E8,F10))) -> 45539 | M10: =IF(OR(E10="",F10=""),0, DAYS360(E10,F10,FALSE) + IF(AND(DAY(E10)>DAY(F10),DAY(E10)<>30),1,0) + IF(AND(MOD(DAYS360(E10,F10,FALSE),360)=0,DAYS360(E10,F10,FALSE)>0),-1,0) + IF(AND(DAY(E10)=DAY(F10),MONTH(F10)<MONTH(E10)),-1,0) ) -> 221
A11: Contrato de prestación de servicios | B11: PRESTAR SERVICIOS PROFESIONALES COMO PSICÓLOGO AL GRUPO DE BIENESTAR Y SEGURIDAD Y SALUD EN EL TRABAJO, GESTIONANDO, APOYANDO, DOCUMENTANDO Y/O ACTUALIZANDO EL DIAGNOSTICO, IDENTIFICACIÓN, EVALUACIÓN, PREVENCIÓN, INTERVENCIÓN Y MONITOREO DE LOS FACTORES DE RIESGO PSICOSOCIAL DEL TRABAJO, ASI COMO REALIZAR EL SEGUIMIENTO Y CONTROL DEL PROGRAMA DE VIGILANCIA EPIDEMIOLÓGICO DE RIESGO PSICOSOCIAL, Y APOYAR LA IMPLEMENTACIÓN AL SISTEMA DE GESTIÓN DE LA SEGURIDAD Y SALUD EN EL TRABAJO. | D11: SUPERINTENDENCIA DE SERVICIOS PÚBLICOS DOMICILIARIOS | E11: 45197 | F11: 45289 | G11: PROFESIONAL | H11: =INT(M11/360) -> 0 | I11: =INT(MOD(M11,360)/30) -> 3 | J11: =MOD(M11,30) -> 1 | L11: =IF(E10="",MIN($E10:F$10,F11),IF(F11="","",IF(F11>E10,E10,F11))) -> 45289 | M11: =IF(OR(E11="",F11=""),0, DAYS360(E11,F11,FALSE) + IF(AND(DAY(E11)>DAY(F11),DAY(E11)<>30),1,0) + IF(AND(MOD(DAYS360(E11,F11,FALSE),360)=0,DAYS360(E11,F11,FALSE)>0),-1,0) + IF(AND(DAY(E11)=DAY(F11),MONTH(F11)<MONTH(E11)),-1,0) ) -> 91
A12: CO1.PCCNTR.4661190 del 20 de febrero de 2023 | B12: Prestar los servicios profesionales de carácter temporal, para impartir formación profesional integral, según programación establecida en los diferentes niveles de formación de acuerdo a las competencias requeridas en cada uno de los programas de titulada y/o complementaria y demás actividades derivadas de formación que se le asignen , aplicando las metodologías y criterios técnico pedagógicos establecidos por el Centro de Gestión Industrial del Sena. En el área de formación Gestión de la Seguridad y Salud en el Trabajo. | D12: SERVICIO NACIONAL DE APRENDIZAJE SENA | E12: 44977 | F12: 45016 | G12: PROFESIONAL | H12: =INT(M12/360) -> 0 | I12: =INT(MOD(M12,360)/30) -> 1 | J12: =MOD(M12,30) -> 11 | L12: =IF(E11="",MIN($E$10:F11,F12),IF(F12="","",IF(F12>E11,E11,F12))) -> 45016 | M12: =IF(OR(E12="",F12=""),0, DAYS360(E12,F12,FALSE) + IF(AND(DAY(E12)>DAY(F12),DAY(E12)<>30),1,0) + IF(AND(MOD(DAYS360(E12,F12,FALSE),360)=0,DAYS360(E12,F12,FALSE)>0),-1,0) + IF(AND(DAY(E12)=DAY(F12),MONTH(F12)<MONTH(E12)),-1,0) ) -> 41
A13: Contrato de prestación de servicios | B13: N/A | D13: CRAC Rehabilitación Visual Integral | E13: 44593 | F13: 44918 | G13: PROFESIONAL | H13: =INT(M13/360) -> 0 | I13: =INT(MOD(M13,360)/30) -> 10 | J13: =MOD(M13,30) -> 22 | L13: =IF(E12="",MIN($E$10:F12,F13),IF(F13="","",IF(F13>E12,E12,F13))) -> 44918 | M13: =IF(OR(E13="",F13=""),0, DAYS360(E13,F13,FALSE) + IF(AND(DAY(E13)>DAY(F13),DAY(E13)<>30),1,0) + IF(AND(MOD(DAYS360(E13,F13,FALSE),360)=0,DAYS360(E13,F13,FALSE)>0),-1,0) + IF(AND(DAY(E13)=DAY(F13),MONTH(F13)<MONTH(E13)),-1,0) ) -> 322
A14: Contrato de prestación de servicios | B14: N/A | D14: CRAC Rehabilitación Visual Integral | E14: 44299 | F14: 44552 | G14: PROFESIONAL | H14: =INT(M14/360) -> 0 | I14: =INT(MOD(M14,360)/30) -> 8 | J14: =MOD(M14,30) -> 9 | L14: =IF(E13="",MIN($E$10:F13,F14),IF(F14="","",IF(F14>E13,E13,F14))) -> 44552 | M14: =IF(OR(E14="",F14=""),0, DAYS360(E14,F14,FALSE) + IF(AND(DAY(E14)>DAY(F14),DAY(E14)<>30),1,0) + IF(AND(MOD(DAYS360(E14,F14,FALSE),360)=0,DAYS360(E14,F14,FALSE)>0),-1,0) + IF(AND(DAY(E14)=DAY(F14),MONTH(F14)<MONTH(E14)),-1,0) ) -> 249
G15: SELECCIONE: | H15: =INT(M15/360) -> 0 | I15: =INT(MOD(M15,360)/30) -> 0 | J15: =MOD(M15,30) -> 0 | L15: =IF(E14="",MIN($E$10:F14,F15),IF(F15="","",IF(F15>E14,E14,F15))) | M15: =IF(OR(E15="",F15=""),0, DAYS360(E15,F15,FALSE) + IF(AND(DAY(E15)>DAY(F15),DAY(E15)<>30),1,0) + IF(AND(MOD(DAYS360(E15,F15,FALSE),360)=0,DAYS360(E15,F15,FALSE)>0),-1,0) + IF(AND(DAY(E15)=DAY(F15),MONTH(F15)<MONTH(E15)),-1,0) ) -> 0
G16: SELECCIONE: | H16: =INT(M16/360) -> 0 | I16: =INT(MOD(M16,360)/30) -> 0 | J16: =MOD(M16,30) -> 0 | L16: =IF(E15="",MIN($E$10:F15,F16),IF(F16="","",IF(F16>E15,E15,F16))) -> 44299 | M16: =IF(OR(E16="",F16=""),0, DAYS360(E16,F16,FALSE) + IF(AND(DAY(E16)>DAY(F16),DAY(E16)<>30),1,0) + IF(AND(MOD(DAYS360(E16,F16,FALSE),360)=0,DAYS360(E16,F16,FALSE)>0),-1,0) + IF(AND(DAY(E16)=DAY(F16),MONTH(F16)<MONTH(E16)),-1,0) ) -> 0
G17: SELECCIONE: | H17: =INT(M17/360) -> 0 | I17: =INT(MOD(M17,360)/30) -> 0 | J17: =MOD(M17,30) -> 0 | L17: =IF(E16="",MIN($E$10:F16,F17),IF(F17="","",IF(F17>E16,E16,F17))) -> 44299 | M17: =IF(OR(E17="",F17=""),0, DAYS360(E17,F17,FALSE) + IF(AND(DAY(E17)>DAY(F17),DAY(E17)<>30),1,0) + IF(AND(MOD(DAYS360(E17,F17,FALSE),360)=0,DAYS360(E17,F17,FALSE)>0),-1,0) + IF(AND(DAY(E17)=DAY(F17),MONTH(F17)<MONTH(E17)),-1,0) ) -> 0
G18: SELECCIONE: | H18: =INT(M18/360) -> 0 | I18: =INT(MOD(M18,360)/30) -> 0 | J18: =MOD(M18,30) -> 0 | L18: =IF(E17="",MIN($E$10:F17,F18),IF(F18="","",IF(F18>E17,E17,F18))) -> 44299 | M18: =IF(OR(E18="",F18=""),0, DAYS360(E18,F18,FALSE) + IF(AND(DAY(E18)>DAY(F18),DAY(E18)<>30),1,0) + IF(AND(MOD(DAYS360(E18,F18,FALSE),360)=0,DAYS360(E18,F18,FALSE)>0),-1,0) + IF(AND(DAY(E18)=DAY(F18),MONTH(F18)<MONTH(E18)),-1,0) ) -> 0
G19: SELECCIONE: | H19: =INT(M19/360) -> 0 | I19: =INT(MOD(M19,360)/30) -> 0 | J19: =MOD(M19,30) -> 0 | L19: =IF(E18="",MIN($E$10:F18,F19),IF(F19="","",IF(F19>E18,E18,F19))) -> 44299 | M19: =IF(OR(E19="",F19=""),0, DAYS360(E19,F19,FALSE) + IF(AND(DAY(E19)>DAY(F19),DAY(E19)<>30),1,0) + IF(AND(MOD(DAYS360(E19,F19,FALSE),360)=0,DAYS360(E19,F19,FALSE)>0),-1,0) + IF(AND(DAY(E19)=DAY(F19),MONTH(F19)<MONTH(E19)),-1,0) ) -> 0
G20: SELECCIONE: | H20: =INT(M20/360) -> 0 | I20: =INT(MOD(M20,360)/30) -> 0 | J20: =MOD(M20,30) -> 0 | L20: =IF(E19="",MIN($E$10:F19,F20),IF(F20="","",IF(F20>E19,E19,F20))) -> 44299 | M20: =IF(OR(E20="",F20=""),0, DAYS360(E20,F20,FALSE) + IF(AND(DAY(E20)>DAY(F20),DAY(E20)<>30),1,0) + IF(AND(MOD(DAYS360(E20,F20,FALSE),360)=0,DAYS360(E20,F20,FALSE)>0),-1,0) + IF(AND(DAY(E20)=DAY(F20),MONTH(F20)<MONTH(E20)),-1,0) ) -> 0
G21: TOTAL AÑOS DE EXPERIENCIA: | H21: =SUM(H10:H20) + INT((SUM(I10:I20) + INT(SUM(J10:J20)/30))/12) -> 2 | I21: =MOD(SUM(I10:I20)+INT(SUM(J10:J20)/30),12) -> 6 | J21: =MOD(SUM(J10:J20),30) -> 24 | M21: =SUM(M10:M20) -> 924
A26: EQUIVALENCIA DE TÍTULO DE POSGRADO POR EXPERIENCIA: | B26: SELECCIONE: | C26: =IFERROR(VALUE(MID(E26, SEARCH("(", E26) + 1, 1)),"0") -> 0 | E26: ='ET Persona Natural'!D20 -> NO APLICA
A28: EXPERIENCIA PERSONA NATURAL | B28: RESUMEN DE LA EXPERIENCIA APORTADA
B29: AÑOS | C29: MESES | D29: DÍAS
A30: LABORAL | B30: =INT(M30/360) -> 0 | C30: =INT(MOD(M30,360)/30) -> 0 | D30: =MOD(M30,30) -> 0 | M30: =SUMIF(G10:G20,A30,M10:M20) -> 0
A31: PROFESIONAL | B31: =INT(M31/360) -> 2 | C31: =INT(MOD(M31,360)/30) -> 6 | D31: =MOD(M31,30) -> 24 | M31: =SUMIF(G10:G20,A31,M10:M20)+SUMIF(G10:G20,A32,M10:M20) -> 924
A32: PROFESIONAL RELACIONADA | B32: =INT(M32/360) -> 0 | C32: =INT(MOD(M32,360)/30) -> 0 | D32: =MOD(M32,30) -> 0 | M32: =SUMIF(G10:G20,A32,M10:M20) -> 0
A33: EQUIVALENCIA | B33: =INT(M33/360) -> 0 | C33: =INT(MOD(M33,360)/30) -> 0 | D33: =MOD(M33,30) -> 0 | M33: =SUMIF(G10:G20,A33,M10:M20) -> 0
A37: NOTAS:
A38: NOTA 1: | B38: EXPERIENCIA TRASLAPADA: EN EL CASO QUE EL FORMATO IDENTIFIQUE ESTA SITUACIÓN, SE GENERARÁ UNA ALERTA RESALTANDO LAS CELDAS EN COLOR AMARILLO.
A39: NOTA 2: | B39: EN CASO DE HACER EQUIVALENCIA DE TÍTULO DE POSGRADO POR EXPERIENCIA, DILIGENCIAR EL ESPACIO CORRESPONDIENTE.
A40: NOTA 3: | B40: DILIGENCIAR SOLO LA EXPERIENCIA NECESARIA PARA CUMPLIR CON EL REQUISITO DE EXPERIENCIA DE LA CATEGORÍA Y ÉSTA EXPERIENCIA DEBERÁ ESTAR RELACIONADA EN ARIBA.
A43: EN CASO DE APROBAR ESTA VERSIÓN, BLOQUEAR LAS CELDAS QUE CONTENGAN FORMULACIÓN.

Sheet PN Soporte TALENTO NO PALANCA
A2: Soporte TALENTO NO PALANCA
A3: ADJUNTAR EN ÉSTA CASILLA EL PANTALLAZO DE LA CERTIFICACIÓN QUE AVALA LA INICIATIVA (TALENTO NO PALANCA)

Sheet ET PERSONA JURIDICA
A4: EVALUACIÓN TÉCNICA INVITACIÓN DIRECTA PERSONA JURÍDICA
A7: OBJETO DEL PROCESO:
A8: NOMBRE DEL OFERENTE: | D8: CC./ NIT
A9: REQUISITOS TÉCNICOS (Aplica para todas las tipologías de contratos de persona juridica)
A10: FACTOR A EVALUAR | C10: PRESENTACIÓN | D10: CONCEPTO | E10: ACREDITA
A11: Experiencia requerida: Acreditar experiencia con la suma de máximo XXX contratos ejecutados y terminados en los últimos xxx (xx) años | D11: CUMPLE | E11: De acuerdo a lo diligenciado en el Anexo 1
A12: Objeto y/o alcance (en caso de requerirse) | D12: CUMPLE | E12: De acuerdo a lo diligenciado en el Anexo 1
A13: SMMLV El valor sumado de las certificaciones debera ser igual o superior al XX % del valor del presupuesto oficial, expresado en SMMLV. | D13: CUMPLE | E13: De acuerdo a lo diligenciado en el Anexo 1
A14: Certificado de proveedor exclusivo (CUANDO APLIQUE) | D14: CUMPLE | E14: Los documentos privados otorgados en el extranjero no requieren apostilla ni legalización, salvo los que con posterioridad sean intervenidos por un funcionario público, en cuyo caso requieren apostille o legalización. En caso que el documento no se encuentre en idioma español se debera presentar la traducción oficial al castellano, de acuerdo con la normatividad vigente expedida por el Ministerio de Relaciones Exteriores o quien haga sus veces.
A15: OTROS ASPECTOS DE EVALUACIÓN (Incorporar todos aquellos aspectos que el área considere que deben ser evaluados como certificado de distribuidor autorizado o como los que se mencionan a continuación El área tendrá la posibilidad de determinar qué aspectos le son aplicables a cada uno de los procesos, en consecuencia, podrá incluir o eliminar las casillas que considere)
A16: Política de Derechos Humanos | E16: Verificar si el proveedor cuenta con politica de derechos humanos que se encuentra consagrados en la Constitución Política de Colombia y en los tratados, pactos y acuerdos que hacen parte del bloque de constitucionalidad, y en la Política de Derechos Humanos que se encuentre vigente Para acreditar este requsito se deberá aportar una certificacion por parte del proveedor.
A17: Equidad de género y vinculación de mujeres En el caso que el proceso de selección requiera o que hayan teniedo en cuenta aspectos ponderables que fueran objeto de puntaje, se debera incluir las filas que consideren necesarias | E17: El área podrá analizar la pertinencia de solicitar dentro del proceso la promoción activa de la participación de mujeres en las actividades derivadas del contrato, asi como la implementación que promuevan la equidad de género.
A18: Normas Técnicas | E18: Verificar si el bien o servicio objeto del presente proceso cuenta con alguna certificación o sello de calidad que podría ser solicitado y evaluado, permitiendo escoger a el mejor proveedor para la empresa, como por ejemplo: ISO 45001 - norma internacional que especifica los requisitos para un sistema de gestión de la seguridad y salud en el trabajo (SST)
A19: CONCEPTO FINAL | D19: CUMPLE
A20: OBSERVACIONES:
A21: SE CERTIFICA CON ESTA EVALUACIÓN QUE EL INVITADO SI CUMPLE CON LOS REQUISITOS TECNICOS. NOTA: LA PRESENTE EVALUACIÓN ES DE TOTAL RESPONSABILIDAD DEL AREA Y EN CONSECUENCIA DEBERÁN ANEXAR LOS SOPORTES RESPECTIVOS SO PENA DE RECHAZAR LA SOLICITUD DE CONTRATACIÓN POR PARTE DE LA DIRECCIÓN DE CONTRATACIÓN Y COMPRAS. | D21: Nombre del Evaluador:
D22: Cargo:
D23: Nombre del Ordenador de Gasto: (APROBADO EN SAP ARIBA)
D24: Cargo:

Sheet PJ Anexo 1
A3: EMPRESA DE ACUEDUCTO Y ALCANTARILLADO DE BOGOTA
A4: ANEXO No. 1 - EXPERIENCIA DEL OFERENTE - INVITACIÓN DIRECTA
A6: VALOR DEL PRESUPUESTO: | D6: PORCENTAJE SMMLV REQUERIDOS | F6: SMMLV DE LA VIGENCIA | H6: SMMLV REQUERIDOS | I6: =IFERROR(((C6/G6)*E6),0) -> 0
A8: NUMERO Y AÑO DE CONTRATO | B8: OBJETO DEL CONTRATO | C8: PORCENTAJE DE PARICIPACIÓN | D8: ACTIVIDADES Y/O CANTIDAD EJECUTADAS DENTRO DEL CONTRATO | E8: ENTIDAD CONTRATANTE | F8: FECHA INICIO CONTRATO | G8: FECHA TERMINACIÓN CONTRATO | H8: SMMLV AL AÑO DE TERMINACIÓN DEL CONTRATO | I8: VALOR EJECUTADO | J8: SMMLV DEL AÑO DE TERMINACIÓN | K8: TIEMPO EXPERIENCIA
K10: AÑOS | L10: MESES | M10: DIAS
K11: NOTA: La fórmula de la sumatoira de experiencia es una herramienta de apoyo, sin embargo el área deberá verificar la sumatoria de las mismas.
C12: 100% | J12: =IFERROR(((I12/H12)*C12),"") | K12: =INT(P12/360) -> 0 | L12: =INT(MOD(P12,360)/30) -> 0 | M12: =IF(F12="",0,MOD(P12,30)) -> 0 | P12: =(YEAR(G12)-YEAR(F12))*360+(MONTH(G12)-MONTH(F12))*30+(DAY(G12)-DAY(F12)+1) -> 1
J13: =IFERROR(((I13/H13)*C13),"") | K13: =INT(P13/360) -> 0 | L13: =INT(MOD(P13,360)/30) -> 0 | M13: =IF(F12="",0,MOD(P12,30)) -> 0 | P13: =(YEAR(G13)-YEAR(F13))*360+(MONTH(G13)-MONTH(F13))*30+(DAY(G13)-DAY(F13)+1) -> 1
J14: =IFERROR(((I14/H14)*C14),"") | K14: =INT(P14/360) -> 0 | L14: =INT(MOD(P14,360)/30) -> 0 | M14: =IF(F12="",0,MOD(P12,30)) -> 0 | P14: =(YEAR(G14)-YEAR(F14))*360+(MONTH(G14)-MONTH(F14))*30+(DAY(G14)-DAY(F14)+1) -> 1
K15: =INT(P15/360) -> 0 | L15: =INT(MOD(P15,360)/30) -> 0 | M15: =IF(F15="",0,MOD(P15,30)) -> 0 | P15: =(YEAR(G15)-YEAR(F15))*360+(MONTH(G15)-MONTH(F15))*30+(DAY(G15)-DAY(F15)+1) -> 1
K16: =INT(P16/360) -> 0 | L16: =INT(MOD(P16,360)/30) -> 0 | M16: =IF(F15="",0,MOD(P15,30)) -> 0 | P16: =(YEAR(G16)-YEAR(F16))*360+(MONTH(G16)-MONTH(F16))*30+(DAY(G16)-DAY(F16)+1) -> 1
K17: =INT(P17/360) -> 0 | L17: =INT(MOD(P17,360)/30) -> 0 | M17: =IF(F15="",0,MOD(P15,30)) -> 0 | P17: =(YEAR(G17)-YEAR(F17))*360+(MONTH(G17)-MONTH(F17))*30+(DAY(G17)-DAY(F17)+1) -> 1
K18: =INT(P18/360) -> 0 | L18: =INT(MOD(P18,360)/30) -> 0 | M18: =IF(F18="",0,MOD(P18,30)) -> 0 | P18: =(YEAR(G18)-YEAR(F18))*360+(MONTH(G18)-MONTH(F18))*30+(DAY(G18)-DAY(F18)+1) -> 1
H19: =IF(G19="","",VLOOKUP(YEAR(G19),Hoja1!E:G,3,0)) | J19: =IFERROR(((I19/H19)*C19),"") | K19: =INT(P19/360) -> 0 | L19: =INT(MOD(P19,360)/30) -> 0 | M19: =IF(F18="",0,MOD(P18,30)) -> 0 | P19: =(YEAR(G19)-YEAR(F19))*360+(MONTH(G19)-MONTH(F19))*30+(DAY(G19)-DAY(F19)+1) -> 1
H20: =IF(G20="","",VLOOKUP(YEAR(G20),Hoja1!E:G,3,0)) | J20: =IFERROR(((I20/H20)*C20),"") | K20: =INT(P20/360) -> 0 | L20: =INT(MOD(P20,360)/30) -> 0 | M20: =IF(F18="",0,MOD(P18,30)) -> 0 | P20: =(YEAR(G20)-YEAR(F20))*360+(MONTH(G20)-MONTH(F20))*30+(DAY(G20)-DAY(F20)+1) -> 1
H21: =IF(G21="","",VLOOKUP(YEAR(G21),Hoja1!E:G,3,0)) | J21: =IFERROR(((I21/H21)*C21),"") | K21: =INT(P21/360) -> 0 | L21: =INT(MOD(P21,360)/30) -> 0 | M21: =IF(F21="",0,MOD(P21,30)) -> 0 | P21: =(YEAR(G21)-YEAR(F21))*360+(MONTH(G21)-MONTH(F21))*30+(DAY(G21)-DAY(F21)+1) -> 1
H22: =IF(G22="","",VLOOKUP(YEAR(G22),Hoja1!E:G,3,0)) | J22: =IFERROR(((I22/H22)*C22),"") | K22: =INT(P22/360) -> 0 | L22: =INT(MOD(P22,360)/30) -> 0 | M22: =IF(F21="",0,MOD(P21,30)) -> 0 | P22: =(YEAR(G22)-YEAR(F22))*360+(MONTH(G22)-MONTH(F22))*30+(DAY(G22)-DAY(F22)+1) -> 1
H23: =IF(G23="","",VLOOKUP(YEAR(G23),Hoja1!E:G,3,0)) | J23: =IFERROR(((I23/H23)*C23),"") | K23: =INT(P23/360) -> 0 | L23: =INT(MOD(P23,360)/30) -> 0 | M23: =IF(F21="",0,MOD(P21,30)) -> 0 | P23: =(YEAR(G23)-YEAR(F23))*360+(MONTH(G23)-MONTH(F23))*30+(DAY(G23)-DAY(F23)+1) -> 1
G25: SUMA TOTAL EXPERIENCIA REPORTADA | J25: =+SUM(J12:J23) -> 0 | K25: =SUM(K12:K23) + INT((SUM(L12:L23) + INT(SUM(M12:M23)/30))/12) -> 0 | L25: =MOD(SUM(L12:L23)+INT(SUM(M12:M23)/30),12) -> 0 | M25: =MOD(SUM(M12:M23),30) -> 0
G26: CONCEPTO FINAL | J26: =IFERROR(IF(I6>J25,"NO CUMPLE","CUMPLE"),"NO CUMPLE") -> CUMPLE

Sheet Hoja1
A1: CATEGORÍA 1. | E1: Año | F1: Salario mínimo diario | G1: Salario mínimo mensual
A2: CATEGORÍA 2. | E2: 1984 | F2: 376.6 | G2: 11298
A3: CATEGORÍA 3. | E3: 1985 | F3: 451.92 | G3: 13558
A4: CATEGORÍA 4. | E4: 1986 | F4: 560.38 | G4: 16811
A5: CATEGORÍA 5. | E5: 1987 | F5: 683.66 | G5: 20510
A6: CATEGORÍA 6. | E6: 1988 | F6: 854.58 | G6: 25637
A7: CATEGORÍA 7. | E7: 1989 | F7: 1085.32 | G7: 32560
A8: CATEGORÍA 8. | E8: 1990 | F8: 1367.5 | G8: 41025
A9: CATEGORÍA 9. | E9: 1991 | F9: 1723.87 | G9: 51716
A10: CATEGORÍA 10. | E10: 1992 | F10: 2173 | G10: 65190
A11: CATEGORÍA 11. | E11: 1993 | F11: 2717 | G11: 81510
A12: CATEGORÍA 12. | E12: 1994 | F12: 3290 | G12: 98700
E13: 1995 | F13: 3964.45 | G13: 118934
A14: SELECCIONE: | E14: 1996 | F14: 4737.5 | G14: 142125
A15: CATEGORÍA 1. Experiencia profesional mínima de siete (7) años, de los cuales cinco (5) años deben ser de experiencia relacionada. | E15: 1997 | F15: 5733.5 | G15: 172005
A16: CATEGORÍA 2. Experiencia profesional mínima de seis (6) años, de los cuales cuatro (4) años deben ser de experiencia relacionada. | E16: 1998 | F16: 6794.2 | G16: 203826
A17: CATEGORÍA 3. Experiencia profesional mínima de cinco (5) años, de los cuales tres (3) años deben ser de experiencia relacionada. | E17: 1999 | F17: 7882 | G17: 236460
A18: CATEGORÍA 4. Experiencia profesional mínima de cuatro (4) años. | E18: 2000 | F18: 8670 | G18: 260100
A19: CATEGORÍA 5. Experiencia profesional mínima de tres (3) años. | E19: 2001 | F19: 9533.33 | G19: 286000
A20: CATEGORÍA 6. Experiencia profesional mínima de dos (2) años. | E20: 2002 | F20: 10300 | G20: 309000
A21: CATEGORÍA 7. Experiencia profesional mínima de un (1) año. | E21: 2003 | F21: 11066.67 | G21: 332000
A22: CATEGORÍA 9. Experiencia laboral mínima de dos (2) años. | E22: 2004 | F22: 11933.33 | G22: 358000
A23: CATEGORÍA 10. Experiencia laboral mínima de un (1) año. | E23: 2005 | F23: 12716.67 | G23: 381500
E24: 2006 | F24: 13600 | G24: 408000
E25: 2007 | F25: 14456.67 | G25: 433700
E26: 2008 | F26: 15383.33 | G26: 461500
E27: 2009 | F27: 16563.33 | G27: 496900
A28: SELECCIONE: | E28: 2010 | F28: 17166.67 | G28: 515000
A29: Tarjeta Profesional | E29: 2011 | F29: 17853.33 | G29: 535600
A30: Licencia | E30: 2012 | F30: 18890 | G30: 566700
A31: Matrícula | E31: 2013 | F31: 19650 | G31: 589500
A32: Otro | E32: 2014 | F32: 20533.33 | G32: 616000
E33: 2015 | F33: 21478.33 | G33: 644350
A34: SELECCIONE: | E34: 2016 | F34: 22981.83 | G34: 689455
A35: Especialización | E35: 2017 | F35: 24590.57 | G35: 737717
A36: Maestría | E36: 2018 | F36: 26041.4 | G36: 781242
A37: Doctorado | E37: 2019 | F37: 27603.87 | G37: 828116
A38: Posdoctorado | E38: 2020 | F38: 29260.1 | G38: 877803
A39: NO APLICA | E39: 2021 | G39: 908526
E40: 2022 | G40: 1000000
...

Sheet Hoja2
A1: Lectoescritura acreditada
A2: Título de Bachiller
A3: Título de Técnico
A4: Título de Tecnólogo o Técnico Profesional
A5: Profesional con título Universitario
A6: Profesional con título Universitario y de Posgrado

Sheet Evaluación Ejemplo
A4: EVALUACIÓN TÉCNICA INVITACIÓN DIRECTA
A8: NÚMERO DE PROCESO:
A9: OBJETO DEL PROCESO:
A10: NOMBRE DEL OFERENTE:
A11: REQUISITOS ACADEMICOS
A12: PARA PRESTACIÓN DE SERVICIOS PROFESIONALES, DE APOYO A LA GESTIÓN Y CONSULTORIA CON PERSONA NATURAL
A13: FACTOR A EVALUAR | D13: CONCEPTO | E13: ACREDITA
A14: Defina los requisitos acorde a la resolución aplicable al proceso: CATEGORÍA 2. Profesional con título universitario y de posgrado con experiencia profesional mínima de seis (6) años, de los cuales cuatro (4) años deben ser de experiencia relacionada. | D14: CUMPLE | E14: ABOGADO 02/12/2000
A15: Tarjeta profesional o licencia ( Cuando aplique) | D15: CUMPLE | E15: NUMERO | F15: FECHA DE EXPEDICIÓN
E16: 1025 | F16: 36862
A17: Equivalencia: literal A atículo quinto El título de posgrado por dos (2) años de experiencia profesional. | D17: CUMPLE | E17: Ver anexo 1
A18: Selección adelantada en virtud de la iniciativa - Circular 001 de 2020 (Talento no Palanca) Nota: Iniciativa de la Alcaldía Mayor de Bogotá que hace referencia a Talento No Palanca. | D18: NO APLICA | E18: NA
A20: CONCEPTO FINAL | D20: CUMPLE
A21: OBSERVACIONES:
A22: CERTIFICAMOS CON ESTA EVALUACION QUE EL INVITADO SI CUMPLE CON LOS REQUISITOS TECNICOS NECESARIOS PARA CELEBRAR Y EJECUTAR EL CONTRATO. COMO EVIDENCIA DE APROBACION SE SUSCRIBE Y SE ANEXAN LOS CORRESPONDIENTES SOPORTES. NOTA: LA PRESENTE EVALUACIÓN ES DE TOTAL RESPONSABILIDAD DEL ÁREA Y EN CONSECUENCIA DEBERÁN ANEXAR LOS SOPORTES RESPECTIVOS SO PENA DE RECHAZAR LA SOLICITUD DE CONTRATACIÓN POR PARTE DE LA DIRECCIÓN DE CONTRATACIÓN Y COMPRAS. | D22: Nombre y cargo del Evaluador: (JEFE DE DIVISIÓN, DIRECTOR O GERENTE DE AREA)
D23: Nombre del Ordenador de Gasto:

Sheet Anexo 1 V2-Ejemplo
A1: EMPRESA DE ACUEDUCTO Y ALCANTARILLADO DE BOGOTÁ - ESP
A3: ANEXO No. 1 - EXPERIENCIA DEL OFERENTE
A4: INVITACIÓN DIRECTA
A5: OBJETO DEL PROCESO NOMBRE DEL INVITADO:
A6: 1. REQUISITO DE EXPERIENCIA 1: (Citar el requisito que exige la EAAB-ESP)
A7: N° DE CONTRATO. | B7: OBJETO DEL CONTRATO O CARGO | C7: ACTIVIDADES O FUNCIONES DESARROLLADAS EN EL CONTRATO O CARGO | D7: ENTIDAD CONTRATANTE | E7: FECHA INICIO CONTRATO | F7: FECHA TERMINACIÓN CONTRATO | G7: EXPERIENCIA RELACIONADA. | H7: EQUIVALENCIA. | I7: TIEMPO EXPERIENCIA
I8: AÑOS | J8: MESES | K8: DIAS
A9: 1025 DEL 2022 | B9: PRESTACIÓN DE SERVICIOS PROFESIONALES COMO ABOGADA | C9: 1. Apoyar en la proyección respuesta de derechos de petición. 2. Apoyar en la respuesta a observaciones. 3. Apoyar en la elaboración de estudios previos. | D9: EAAB-ESP | E9: 01/01/2022 | F9: 30/12/2023 | I9: 1
A10: 1025 DEL 1017 | B10: PRESTACIÓN DE SERVICIOS PROFESIONALES COMO ABOGADA | C10: 1. Apoyar en la proyección respuesta de derechos de petición. 2. Apoyar en la respuesta a observaciones. 3. Apoyar en la elaboración de estudios previos. | D10: EAAB-ESP | E10: 01/01/2017 | F10: 30/012/2021 | G10: X | I10: 5
A11: 1025 DEL 1017 | B11: PRESTACIÓN DE SERVICIOS PROFESIONALES COMO ABOGADA | C11: 1. Apoyar en la proyección respuesta de derechos de petición. 2. Apoyar en la respuesta a observaciones. 3. Apoyar en la elaboración de estudios previos. | D11: EAAB-ESP | E11: 41640 | F11: 30/012/2016 | H11: X | I11: 3
G12: TOTAL AÑOS DE EXPERIENCIA: | I12: =I9+I10+I11 -> 9 | J12: =J9+J10+J11 -> 0 | K12: =K9+K10+K11 -> 0
A15: EXPERIENCIA PERSONA NATURAL | B15: REQUERIDO | E15: APORTADO
B16: AÑOS | C16: MESES | D16: DIAS | E16: AÑOS | F16: MESES | G16: DIAS
A17: LABORAL
A18: PROFESIONAL | B18: 6 | E18: 9
A19: RELACIONADA | B19: 4 | E19: 4
A20: EQUIVALENCIA | B20: 2 | E20: 3
A21: TOTAL AÑOS DE EXPERIENCIA
A23: NOTAS:
A24: NOTA 1: | B24: NO RELACIONAR EXPERIENCIA TRANSLAPADA
A25: NOTA 2: | B25: DILIGENCIAR SOLO LA EXPERIENCIA NECESARIA PARA CUMPLIR CON EL REQUISITO DE EXPERIENCIA DE LA CATEGORIA.
