Workbook
Name _A17000: #REF!
Name _A17000: #REF!
Name _A17000: #REF!
Name _A17000: #REF!
Name _A17000: #REF!
Name _A17000: #REF!
Name _A17000: #REF!
Name _A17000: #REF!
Name _A17000: #REF!
Name _A17000: #REF!
Name _A17000: #REF!
Name _A17000: #REF!
Name _A17000: #REF!
Name _A17000: #REF!
Name _A17000: #REF!
Name _A20000: #REF!
Name _A20000: #REF!
Name _A20000: #REF!
Name _A20000: #REF!
Name _A20000: #REF!
Name _A20000: #REF!
Name _A20000: #REF!
Name _A20000: #REF!
Name _A20000: #REF!
Name _A20000: #REF!
Name _A20000: #REF!
Name _A20000: #REF!
Name _A20000: #REF!
Name _A20000: #REF!
Name _A20000: #REF!
Name _A30000: #REF!
Name _A30000: #REF!
Name _A30000: #REF!
Name _A30000: #REF!
Name _A30000: #REF!
Name _A30000: #REF!
Name _A30000: #REF!
Name _A30000: #REF!
Name _A30000: #REF!
Name _A30000: #REF!
Name _A30000: #REF!
Name _A30000: #REF!
Name _A30000: #REF!
Name _A30000: #REF!
Name _A30000: #REF!
Name _AFC1: [1]INV!$A$25:$D$28
Name _AFC3: [1]INV!$F$25:$I$28
Name _AFC5: [1]INV!$K$25:$N$28
Name _BGC1: [1]INV!$A$5:$D$8
Name _BGC3: [1]INV!$F$5:$I$8
Name _BGC5: [1]INV!$K$5:$N$8
Name _CAC1: [1]INV!$A$19:$D$22
Name _CAC3: [1]INV!$F$19:$I$22
Name _CAC5: [1]INV!$K$19:$N$22
Name _rc: #REF!
Name _rc: #REF!
Name _rc: #REF!
Name _rc: #REF!
Name _rc: #REF!
Name _rc: #REF!

Sheet PRESUPUESTO
C1: FORMATO | F1: CÓDIGO | G1: MS-GP-FR-05
C2: GESTIÓN DE PROYECTOS DE INFRAESTRUCTURA FÍSICA | F2: VERSIÓN | G2: 1
C3: PRESUPUESTO DE OBRA | F3: FECHA | G3: 45713
A4: CANTIDADES DE OBRA APROXIMADAS, PRECIOS UNITARIOS Y VALOR TOTAL
A5: CONSTRUCCION PUENTE VEHICULAR SOBRE EL RIO LIMONAL CARRERA 5 ENTRE CALLES 1 Y 4 SUR BARRIO TOMÁS CIPRIANO, MUNICIPIO DE GUADUAS, DEPARTAMENTO DE CUNDINAMARCA.
A7: NORMA | B7: CARTILA | C7: DESCRIPCION | D7: UNIDAD | E7: CANTIDAD | F7: Vr. UNITARIO | G7: Vr. TOTAL
A8: * | B8: 1.41 | C8: LOCALIZACIÓN Y REPLANTEO DE CIMIENTOS CON ELEMENTOS DE PRECISIÓN | D8: m2 | E8: =LOCALIZACION!$H$26 -> 161.33 | F8: 6801 | G8: =+E8*F8 -> 1097205.3
A9: * | B9: 1,1, | C9: DEMOLICION CONCRETO ESTRUCTURAL (INCLUYE CARGUE Y RETIRO DE SOBRANTES A UNA DISTANCIA DE 5 KM) (VIA) | D9: m3 | E9: =DEMOL!$H$26 -> 151.8768 | F9: 228726 | G9: =+E9*F9 -> 34738173
A10: 600.4 | B10: 2,12, | C10: EXCAVACIONES VARIAS EN MATERIAL COMUN SECO (INCLUYE RETIRO DE SOBRANTES A UNA DISTANCIA MENOR DE 5 KM) | D10: m3 | E10: ='EXCAVACION '!H25 -> 344.64 | F10: 27132 | G10: =+E10*F10 -> 9350772.5
A11: 621.1 P | B11: 4.15 | C11: PILOTE EN CONCRETO DE 3000 PSI, DIÁMETRO 1.5M. CONSTRUCCIÓN MANUAL (INCLUYE EXCAVACIÓN EN CUALQUIER TIPO DE MATERIAL, REFUERZO Y ANILLOS) | D11: ml | E11: =PILOTES!H25 -> 16 | F11: 7730300 | G11: =F11*E11 -> 123684800
A12: 630.6 | B12: 4,24, | C12: CONCRETO CLASE F= 2000 PSI PARA SOLADOS Y ATRAQUES | D12: m3 | E12: =SOLADOS!H25 -> 4.08 | F12: 575304 | G12: =+E12*F12 -> 2347240.3
A13: 640.1 | B13: 4,52, | C13: SUMINISTRO FIGURADO Y ARMADO DE ACERO DE REFUERZO 60000 PSI | D13: kg | E13: =ACERO!H25 -> 23208.97 | F13: 9002 | G13: =+E13*F13 -> 2.0892715e+08
A14: 630.4 | B14: 4.6 | C14: CONCRETO CLASE D, f´c =3000 PSI (bases) | D14: m3 | E14: ='CONCR. BASES'!H27 -> 73.44 | F14: 884282 | G14: =+E14*F14 -> 64941670
A15: 630.4 | B15: 4.7 | C15: CONCRETO CLASE D, f´c =3000 PSI (elevaciones) | D15: m3 | E15: ='CONCR. ELEV'!H27 -> 52.319 | F15: 1060649 | G15: =+E15*F15 -> 55492095
A16: 630.3 | B16: 4.3 | C16: CONCRETO CLASE A, f´c =4000 PSI (vigas puentes) | D16: m3 | E16: ='CONCR. VIGAS'!H25 -> 31.79 | F16: 1291864 | G16: =+E16*F16 -> 41068357
A17: 630.3 | B17: 4.8 | C17: CONCRETO CLASE C, f´c =4000 PSI (placas) | D17: m3 | E17: ='CONCR. PLACAS'!H25 -> 69.399 | F17: 1207109 | G17: =+E17*F17 -> 83772157
A18: 642.1 | B18: 4.17 | C18: SUMINISTRO E INSTALACIÓN DE APOYOS ELASTOMÉRICOS | D18: m3 | E18: =NEOPRENO!H25 -> 168 | F18: 138390 | G18: =+E18*F18 -> 23249520
A19: 16.7 | B19: 16.7 | C19: RELLENO CON MATERIAL DEL EL SITIO COMPACTADO MECÁNICAMENTE | D19: m3 | E19: ='RELL SITIO'!H25 -> 150.96 | F19: 35020 | G19: =+E19*F19 -> 5286619.2
A20: 610.1 | B20: 4.23 | C20: RELLENO PARA ESTRUCTURAS | D20: m3 | E20: ='RELL ESTRUCTURAS'!H25 -> 168 | F20: 188847 | G20: =+E20*F20 -> 31726296
A21: * | B21: 4.2 | C21: DREN EN TUBERÍA PVC SANITARIA, D=4" (PUENTES) | D21: Unidad | E21: =PVC!H25 -> 16 | F21: 27364 | G21: =+E21*F21 -> 437824
A22: 632 P | B22: 4.19 | C22: BARANDA METÁLICA | D22: m | E22: =BARANDA!H25 -> 34 | F22: 692812 | G22: =+E22*F22 -> 23555608
A23: * | B23: * | C23: JUNTA DILATACIÓN(INCLUYE ACERO, PERFIL, BITUMEN) | D23: m | E23: ='JUNTA DILATACION '!H25 -> 19 | F23: 359570 | G23: =+E23*F23 -> 6831830
A24: * | B24: 12.26 | C24: POSTE METÁLICO 6M | D24: Unidad | E24: 4 | F24: 2361862 | G24: =+E24*F24 -> 9447448
A25: * | B25: 12.29 | C25: LUMINARIA 70W SODIO | D25: Unidad | E25: 4 | F25: 778804.24 | G25: =+E25*F25 -> 3115217 | L25: =SUM(L28 -G28) -> -0.0045439005
C26: COSTOS DIRECTOS | G26: =SUM(G8:G25) -> 7.2906998e+08
C27: COSTOS INDIRECTOS | E27: 0.33 | G27: =G26*E27 -> 2.4059309e+08
C28: SUBTOTAL | G28: =+G26+G27 -> 9.6966307e+08 | L28: 9.6966307e+08
C29: COSTO INTERVENTORIA | G29: =G28*6.617116783% -> 64163738
A30: COSTO TOTAL PROYECTO | G30: =SUM(G28:G29) -> 1.0338268e+09

Sheet LOCALIZACION
A1: OBJETO: | B1: =PRESUPUESTO!A5 -> CONSTRUCCION PUENTE VEHICULAR SOBRE EL RIO LIMONAL CARRERA 5 ENTRE CALLES 1 Y 4 SUR BARRIO TOMÁS CIPRIANO, MUNICIPIO DE GUADUAS, DEPARTAMENTO DE CUNDINAMARCA.
A2: CAPITULO: | D2: ITEMS: | F2: DESCRIPCIÓN | G2: =PRESUPUESTO!$C$8 -> LOCALIZACIÓN Y REPLANTEO DE CIMIENTOS CON ELEMENTOS DE PRECISIÓN | K2: UND. | L2: =PRESUPUESTO!$D$8 -> m2
A4: OBSERVACIÓN | C4: CANTIDAD | D4: DIMENSIÓN | H4: V. ACUMULADO | I4: DIAGRAMA
D5: ÁREA BASE SUP. | E5: LARGO | F5: PROM ANCHO | G5: PROM PROF
A6: PUENTE | C6: 1 | E6: 17 | F6: 9.49 | H6: =SUM(E6*F6) -> 161.33
A26: TOTAL | H26: =+SUM(H6:H24) -> 161.33
A28: Observaciones

Sheet DEMOL
A1: OBJETO: | B1: =PRESUPUESTO!A5 -> CONSTRUCCION PUENTE VEHICULAR SOBRE EL RIO LIMONAL CARRERA 5 ENTRE CALLES 1 Y 4 SUR BARRIO TOMÁS CIPRIANO, MUNICIPIO DE GUADUAS, DEPARTAMENTO DE CUNDINAMARCA.
A2: CAPITULO: | D2: ITEMS: | F2: DESCRIPCIÓN | G2: =PRESUPUESTO!$C$9 -> DEMOLICION CONCRETO ESTRUCTURAL (INCLUYE CARGUE Y RETIRO DE SOBRANTES A UNA DISTANCIA DE 5 KM) (VIA) | K2: UND. | L2: =+PRESUPUESTO!D17 -> m3
A4: OBSERVACIÓN | C4: CANTIDAD | D4: DIMENSIÓN | H4: V. ACUMULADO | I4: DIAGRAMA
D5: ÁREA BASE SUP. | E5: LARGO | F5: PROM ANCHO | G5: PROM PROF
A6: LOSA | C6: 1 | E6: 4.92 | F6: 12.02 | G6: 0.35 | H6: =+C6*E6*F6*G6 -> 20.69844
A7: BORDILLO | C7: 2 | E7: 12.02 | F7: 0.3 | G7: 0.4 | H7: =+C7*E7*F7*G7 -> 2.8848
A8: VIGAS DE SOPORTE | C8: 3 | E8: 12.02 | F8: 0.7 | G8: 1.5 | H8: =+C8*E8*F8*G8 -> 37.863
A9: BASES | C9: 2 | E9: 6.92 | F9: 1.8 | G9: 3.63 | H9: =+C9*E9*F9*G9 -> 90.43056
A26: TOTAL | H26: =+SUM(H6:H24) -> 151.8768
A28: Observaciones

Sheet EXCAVACION 
A1: OBJETO: | B1: =PRESUPUESTO!A5 -> CONSTRUCCION PUENTE VEHICULAR SOBRE EL RIO LIMONAL CARRERA 5 ENTRE CALLES 1 Y 4 SUR BARRIO TOMÁS CIPRIANO, MUNICIPIO DE GUADUAS, DEPARTAMENTO DE CUNDINAMARCA.
A2: CAPITULO: | D2: ITEMS: | E2: =+PRESUPUESTO!A10 -> 600.4 | F2: DESCRIPCIÓN | G2: =+PRESUPUESTO!C10 -> EXCAVACIONES VARIAS EN MATERIAL COMUN SECO (INCLUYE RETIRO DE SOBRANTES A UNA DISTANCIA MENOR DE 5 KM) | K2: UND. | L2: =+PRESUPUESTO!D10 -> m3
A4: OBSERVACIÓN | C4: CANTIDAD | D4: DIMENSIÓN | H4: V. ACUMULADO | I4: DIAGRAMA
D5: ÁREA BASE SUP. | E5: LARGO | F5: PROM ANCHO | G5: PROM PROF
A7: ESTRIBOS 1 | C7: 1 | D7: =(4*10.2) -> 40.8 | G7: 2.8 | H7: =C7*D7*G7 -> 114.24
A8: ESTRIBOS 2 | C8: 1 | D8: =(4*10.2) -> 40.8 | G8: 2.8 | H8: =C8*D8*G8 -> 114.24
A9: SOBRE EXVAVACIÓN CONSTRUCTIVO | C9: 2 | D9: =(4*10.2) -> 40.8 | G9: 0.5 | H9: =C9*D9*G9 -> 40.8
A10: PILOTES | C10: 4 | D10: 4.71 | G10: 4 | H10: =SUM(C10*D10*G10) -> 75.36
A25: TOTAL | H25: =SUM(H6:H24) -> 344.64
A27: Observaciones

Sheet PILOTES
A1: OBJETO: | B1: =PRESUPUESTO!A5 -> CONSTRUCCION PUENTE VEHICULAR SOBRE EL RIO LIMONAL CARRERA 5 ENTRE CALLES 1 Y 4 SUR BARRIO TOMÁS CIPRIANO, MUNICIPIO DE GUADUAS, DEPARTAMENTO DE CUNDINAMARCA.
A2: CAPITULO: | D2: ITEMS: | E2: =PRESUPUESTO!A11 -> 621.1 P | F2: DESCRIPCIÓN | G2: =PRESUPUESTO!C11 -> PILOTE EN CONCRETO DE 3000 PSI, DIÁMETRO 1.5M. CONSTRUCCIÓN MANUAL (INCLUYE EXCAVACIÓN EN CUALQUIER TIPO DE MATERIAL, REFUERZO Y ANILLOS) | K2: UND. | L2: m
A4: OBSERVACIÓN | C4: CANTIDAD | D4: DIMENSIÓN | H4: V. ACUMULADO | I4: DIAGRAMA
D5: ÁREA BASE SUP. | E5: LARGO | F5: PROM ANCHO | G5: PROM PROF
A7: PILOTES | C7: 4 | G7: 4 | H7: =C7*G7 -> 16
A25: TOTAL | H25: =SUM(H6:H24) -> 16
A27: Observaciones | B27: PILOTES

Sheet SOLADOS
A1: OBJETO: | B1: =PRESUPUESTO!A5 -> CONSTRUCCION PUENTE VEHICULAR SOBRE EL RIO LIMONAL CARRERA 5 ENTRE CALLES 1 Y 4 SUR BARRIO TOMÁS CIPRIANO, MUNICIPIO DE GUADUAS, DEPARTAMENTO DE CUNDINAMARCA.
A2: CAPITULO: | D2: ITEMS: | E2: =+PRESUPUESTO!A12 -> 630.6 | F2: DESCRIPCIÓN | G2: =+PRESUPUESTO!C12 -> CONCRETO CLASE F= 2000 PSI PARA SOLADOS Y ATRAQUES | K2: UND. | L2: =+PRESUPUESTO!D12 -> m3
A4: OBSERVACIÓN | C4: CANTIDAD | D4: DIMENSIÓN | H4: V. ACUMULADO | I4: DIAGRAMA
D5: ÁREA BASE SUP. | E5: LARGO | F5: PROM ANCHO | G5: PROM PROF
A6: SOLADO | C6: 2 | E6: 10.2 | F6: 4 | G6: 0.05 | H6: =+C6*E6*F6*G6 -> 4.08
A25: TOTAL | H25: =SUM(H6:H24) -> 4.08
A27: Observaciones

Sheet CONCR. BASES
A1: OBJETO: | B1: =PRESUPUESTO!A5 -> CONSTRUCCION PUENTE VEHICULAR SOBRE EL RIO LIMONAL CARRERA 5 ENTRE CALLES 1 Y 4 SUR BARRIO TOMÁS CIPRIANO, MUNICIPIO DE GUADUAS, DEPARTAMENTO DE CUNDINAMARCA.
A2: CAPITULO: | D2: ITEMS: | E2: =+PRESUPUESTO!A14 -> 630.4 | F2: DESCRIPCIÓN | G2: =+PRESUPUESTO!C14 -> CONCRETO CLASE D, f´c =3000 PSI (bases) | K2: UND. | L2: =+PRESUPUESTO!D14 -> m3
A4: OBSERVACIÓN | C4: CANTIDAD | D4: DIMENSIÓN | H4: V. ACUMULADO | I4: DIAGRAMA
D5: ÁREA BASE SUP. | E5: LARGO | F5: PROM ANCHO | G5: PROM PROF
A7: ZAPATAS | C7: 2 | E7: 4 | F7: 10.2 | G7: 0.9 | H7: =+C7*E7*F7*G7 -> 73.44
A27: TOTAL | H27: =+SUM(H6:H26) -> 73.44
A29: Observaciones

Sheet CONCR. ELEV
A1: OBJETO: | B1: =PRESUPUESTO!A5 -> CONSTRUCCION PUENTE VEHICULAR SOBRE EL RIO LIMONAL CARRERA 5 ENTRE CALLES 1 Y 4 SUR BARRIO TOMÁS CIPRIANO, MUNICIPIO DE GUADUAS, DEPARTAMENTO DE CUNDINAMARCA.
A2: CAPITULO: | D2: ITEMS: | E2: =+PRESUPUESTO!A15 -> 630.4 | F2: DESCRIPCIÓN | G2: =+PRESUPUESTO!C15 -> CONCRETO CLASE D, f´c =3000 PSI (elevaciones) | K2: UND. | L2: =+PRESUPUESTO!D15 -> m3
A4: OBSERVACIÓN | C4: CANTIDAD | D4: DIMENSIÓN | H4: V. ACUMULADO | I4: DIAGRAMA
D5: ÁREA BASE SUP./LONG | E5: LARGO | F5: ANCHO | G5: PROF
A6: VASTAGO | C6: 2 | E6: 10.2 | F6: 1.8 | G6: 0.7 | H6: =C6*E6*F6*G6 -> 25.704
A7: TOPES (AREA 1) | C7: 4 | E7: 0.4 | F7: 0.75 | G7: 0.7 | H7: =+C7*E7*F7*G7 -> 0.84
A8: MURO ESPALDAR( AREA1) | C8: 2 | E8: 1.8 | F8: 9.6 | G8: 0.3 | H8: =C8*E8*F8*G8 -> 10.368
A9: MURO ESPALDAR( AREA2) | C9: 2 | D9: =(0.3*0.5)/2 -> 0.075 | F9: 9.6 | H9: =F9*D9*C9 -> 1.44
A10: MENSULA (AREA 1) | C10: 2 | E10: 0.3 | F10: 0.3 | G10: 9.6 | H10: =+C10*E10*F10*G10 -> 1.728
A11: MENSULA (AREA 2) | C11: 2 | D11: =(0.3*0.3)/2 -> 0.045 | G11: 9.6 | H11: =+C11*D11*G11 -> 0.864
A12: ALETAS | C12: 4 | E12: 3.25 | F12: =(0.3+0.4)/2 -> 0.35 | G12: 2.5 | H12: =F12*E12*G12*C12 -> 11.375
A27: TOTAL | H27: =+SUM(H6:H25) -> 52.319
A29: Observaciones

Sheet CONCR. VIGAS
A1: OBJETO: | B1: =PRESUPUESTO!A5 -> CONSTRUCCION PUENTE VEHICULAR SOBRE EL RIO LIMONAL CARRERA 5 ENTRE CALLES 1 Y 4 SUR BARRIO TOMÁS CIPRIANO, MUNICIPIO DE GUADUAS, DEPARTAMENTO DE CUNDINAMARCA.
A2: CAPITULO: | D2: ITEMS: | E2: =+PRESUPUESTO!A16 -> 630.3 | F2: DESCRIPCIÓN | G2: =+PRESUPUESTO!C16 -> CONCRETO CLASE A, f´c =4000 PSI (vigas puentes) | K2: UND. | L2: =+PRESUPUESTO!D16 -> m3
A4: OBSERVACIÓN | C4: CANTIDAD | D4: DIMENSIÓN | H4: V. ACUMULADO | I4: DIAGRAMA
D5: ÁREA BASE SUP. | E5: LARGO | F5: PROM ANCHO | G5: PROM PROF
A6: RIOSTRAS | C6: 9 | D6: según planos | E6: 0.3 | F6: 0.85 | G6: 2 | H6: =C6*E6*F6*G6 -> 4.59
A7: VIGAS | C7: 4 | D7: según planos | E7: 0.5 | F7: 0.8 | G7: 17 | H7: =C7*E7*F7*G7 -> 27.2
A25: TOTAL | H25: =+SUM(H6:H23) -> 31.79
A27: Observaciones

Sheet CONCR. PLACAS
A1: OBJETO: | B1: =PRESUPUESTO!A5 -> CONSTRUCCION PUENTE VEHICULAR SOBRE EL RIO LIMONAL CARRERA 5 ENTRE CALLES 1 Y 4 SUR BARRIO TOMÁS CIPRIANO, MUNICIPIO DE GUADUAS, DEPARTAMENTO DE CUNDINAMARCA.
A2: CAPITULO: | D2: ITEMS: | E2: =+PRESUPUESTO!A17 -> 630.3 | F2: DESCRIPCIÓN | G2: =+PRESUPUESTO!C17 -> CONCRETO CLASE C, f´c =4000 PSI (placas) | K2: UND. | L2: =+PRESUPUESTO!D17 -> m3
A4: OBSERVACIÓN | C4: CANTIDAD | D4: DIMENSIÓN | H4: V. ACUMULADO | I4: DIAGRAMA
D5: ÁREA BASE SUP. | E5: LARGO | F5: PROM ANCHO | G5: PROM PROF
A6: LOSA | C6: 1 | E6: 17 | F6: 9.5 | G6: 0.25 | H6: =+C6*E6*F6*G6 -> 40.375
A7: BORDILLO | C7: 4 | D7: =(0.3*0.25) -> 0.075 | E7: 17 | H7: =D7*E7*C7 -> 5.1
A8: PLACAS DE APROXIMACIÓN (AREA 1) | C8: 2 | E8: 9.5 | F8: 3 | G8: 0.3 | H8: =E8*F8*G8*C8 -> 17.1
A9: PLACAS DE APROXIMACIÓN (AREA DENTELLON 1) | C9: 2 | E9: 9.5 | F9: 0.3 | G9: 0.2 | H9: =E9*F9*G9*C9 -> 1.14
A10: PLACAS DE APROXIMACIÓN (AREA DENTELLON 2) | C10: 2 | D10: =(0.2*0.2)/2 -> 0.02 | E10: 9.5 | H10: =C10*D10*E10 -> 0.38
A11: PASO PEATONAL | C11: 2 | E11: 17 | F11: 1.3 | G11: 0.12 | H11: =G11*F11*E11*C11 -> 5.304
A25: TOTAL | H25: =+SUM(H6:H23) -> 69.399
A27: Observaciones

Sheet ACERO
A1: OBJETO: | B1: =PRESUPUESTO!A5 -> CONSTRUCCION PUENTE VEHICULAR SOBRE EL RIO LIMONAL CARRERA 5 ENTRE CALLES 1 Y 4 SUR BARRIO TOMÁS CIPRIANO, MUNICIPIO DE GUADUAS, DEPARTAMENTO DE CUNDINAMARCA.
A2: CAPITULO: | D2: ITEMS: | E2: =+PRESUPUESTO!A13 -> 640.1 | F2: DESCRIPCIÓN | G2: =+PRESUPUESTO!C13 -> SUMINISTRO FIGURADO Y ARMADO DE ACERO DE REFUERZO 60000 PSI | K2: UND. | L2: =+PRESUPUESTO!D13 -> kg
A4: OBSERVACIÓN | C4: CANTIDAD | D4: DIMENSIÓN | H4: V. ACUMULADO | I4: DIAGRAMA
D5: ÁREA BASE SUP. | E5: LARGO | F5: PROM ANCHO | G5: PESO
A6: ESTRIBOS | C6: 2 | G6: 4012 | H6: =G6*C6 -> 8024
A7: LOSAS DE APROXIMACION | C7: 2 | G7: 752 | H7: =G7*C7 -> 1504
A8: VIGAS | C8: 4 | G8: 1970 | H8: =G8*C8 -> 7880
A9: RIOSTRAS | C9: 3 | G9: 156 | H9: =G9*C9 -> 468
A10: LOSA | C10: 1 | G10: 5332.97 | H10: =G10*C10 -> 5332.97
A25: TOTAL | H25: =+SUM(H6:H24) -> 23208.97
A27: Observaciones

Sheet BARANDA
A1: OBJETO: | B1: =PRESUPUESTO!A5 -> CONSTRUCCION PUENTE VEHICULAR SOBRE EL RIO LIMONAL CARRERA 5 ENTRE CALLES 1 Y 4 SUR BARRIO TOMÁS CIPRIANO, MUNICIPIO DE GUADUAS, DEPARTAMENTO DE CUNDINAMARCA.
A2: CAPITULO: | D2: ITEMS: | E2: =+PRESUPUESTO!A22 -> 632 P | F2: DESCRIPCIÓN | G2: =+PRESUPUESTO!C22 -> BARANDA METÁLICA | K2: UND. | L2: =+PRESUPUESTO!D22 -> m
A4: OBSERVACIÓN | C4: CANTIDAD | D4: DIMENSIÓN | H4: V. ACUMULADO | I4: DIAGRAMA
D5: ÁREA BASE SUP. | E5: LARGO | F5: PROM ANCHO | G5: PROM PROF
A7: LADO DERECHO | C7: 1 | E7: 17 | H7: =+C7*E7 -> 17
A8: LADO IZQUIERDO | C8: 1 | E8: 17 | H8: =+C8*E8 -> 17
F24: =H25-90 -> -56
A25: TOTAL | H25: =SUM(H6:H24) -> 34
A27: Observaciones

Sheet NEOPRENO
A1: OBJETO: | B1: =PRESUPUESTO!A5 -> CONSTRUCCION PUENTE VEHICULAR SOBRE EL RIO LIMONAL CARRERA 5 ENTRE CALLES 1 Y 4 SUR BARRIO TOMÁS CIPRIANO, MUNICIPIO DE GUADUAS, DEPARTAMENTO DE CUNDINAMARCA.
A2: CAPITULO: | D2: ITEMS: | E2: =+PRESUPUESTO!A18 -> 642.1 | F2: DESCRIPCIÓN | G2: =+PRESUPUESTO!C18 -> SUMINISTRO E INSTALACIÓN DE APOYOS ELASTOMÉRICOS | K2: UND. | L2: =+PRESUPUESTO!D18 -> m3
A4: OBSERVACIÓN | C4: CANTIDAD | D4: DIMENSIÓN | H4: V. ACUMULADO | I4: DIAGRAMA
D5: ÁREA BASE SUP. | E5: LARGO | F5: PROM ANCHO | G5: PROM PROF
A7: APOYOS | C7: 8 | E7: 6 | F7: 5 | G7: 0.0007 | H7: =+(C7*E7*F7*G7)*1000 -> 168
A25: TOTAL | H25: =+SUM(H7:H23) -> 168
A27: Observaciones

Sheet PVC
A1: OBJETO: | B1: =PRESUPUESTO!A5 -> CONSTRUCCION PUENTE VEHICULAR SOBRE EL RIO LIMONAL CARRERA 5 ENTRE CALLES 1 Y 4 SUR BARRIO TOMÁS CIPRIANO, MUNICIPIO DE GUADUAS, DEPARTAMENTO DE CUNDINAMARCA.
A2: CAPITULO: | D2: ITEMS: | E2: =+PRESUPUESTO!A21 -> * | F2: DESCRIPCIÓN | G2: =+PRESUPUESTO!C21 -> DREN EN TUBERÍA PVC SANITARIA, D=4" (PUENTES) | K2: UND. | L2: =+PRESUPUESTO!D21 -> Unidad
A4: OBSERVACIÓN | C4: CANTIDAD | D4: DIMENSIÓN | H4: V. ACUMULADO | I4: DIAGRAMA
D5: ÁREA BASE SUP. | E5: LARGO | F5: PROM ANCHO | G5: PROM PROF
A7: LAGRIMALES
A8: COSTADO DERECHO | C8: 8 | H8: =+C8 -> 8
A9: COSTADO IZQUIERDO | C9: 8 | H9: =+C9 -> 8
A25: TOTAL | H25: =SUM(H6:H24) -> 16
A27: Observaciones

Sheet RELL SITIO
A1: OBJETO: | B1: =PRESUPUESTO!A5 -> CONSTRUCCION PUENTE VEHICULAR SOBRE EL RIO LIMONAL CARRERA 5 ENTRE CALLES 1 Y 4 SUR BARRIO TOMÁS CIPRIANO, MUNICIPIO DE GUADUAS, DEPARTAMENTO DE CUNDINAMARCA.
A2: CAPITULO: | D2: ITEMS: | E2: =+PRESUPUESTO!A19 -> 16.7 | F2: DESCRIPCIÓN | G2: =+PRESUPUESTO!C19 -> RELLENO CON MATERIAL DEL EL SITIO COMPACTADO MECÁNICAMENTE | K2: UND. | L2: =+PRESUPUESTO!D19 -> m3
A4: OBSERVACIÓN | C4: CANTIDAD | D4: DIMENSIÓN | H4: V. ACUMULADO | I4: DIAGRAMA
D5: ÁREA BASE SUP. | E5: LARGO | F5: PROM ANCHO | G5: PROM PROF
A7: ESTRIBOS | C7: 2 | D7: =(1.85*9.6) -> 17.76 | G7: 4.25 | H7: =C7*D7*G7 -> 150.96
A25: TOTAL | H25: =SUM(H6:H24) -> 150.96
A27: Observaciones

Sheet RELL ESTRUCTURAS
A1: OBJETO: | B1: =PRESUPUESTO!A5 -> CONSTRUCCION PUENTE VEHICULAR SOBRE EL RIO LIMONAL CARRERA 5 ENTRE CALLES 1 Y 4 SUR BARRIO TOMÁS CIPRIANO, MUNICIPIO DE GUADUAS, DEPARTAMENTO DE CUNDINAMARCA.
A2: CAPITULO: | D2: ITEMS: | E2: 610.1 | F2: DESCRIPCIÓN | G2: RELLENO PARA ESTRUCTURAS | K2: UND. | L2: =+PRESUPUESTO!D20 -> m3
A4: OBSERVACIÓN | C4: CANTIDAD | D4: DIMENSIÓN | H4: V. ACUMULADO | I4: DIAGRAMA
D5: ÁREA BASE SUP. | E5: LARGO | F5: PROM ANCHO | G5: PROM PROF
A7: ESTRIBOS | C7: 2 | D7: 7 | F7: 12 | H7: =F7*D7*C7 -> 168
A25: TOTAL | H25: =+SUM(H6:H24) -> 168
A27: Observaciones

Sheet JUNTA DILATACION 
A1: OBJETO: | B1: =PRESUPUESTO!A5 -> CONSTRUCCION PUENTE VEHICULAR SOBRE EL RIO LIMONAL CARRERA 5 ENTRE CALLES 1 Y 4 SUR BARRIO TOMÁS CIPRIANO, MUNICIPIO DE GUADUAS, DEPARTAMENTO DE CUNDINAMARCA.
A2: CAPITULO: | D2: ITEMS: | E2: *** | F2: DESCRIPCIÓN | G2: JUNTA DE DILATACION | K2: UND. | L2: M
A4: OBSERVACIÓN | C4: CANTIDAD | D4: DIMENSIÓN | H4: V. ACUMULADO | I4: DIAGRAMA
D5: ÁREA BASE SUP. | E5: LARGO | F5: PROM ANCHO | G5: PROM PROF
A7: ESTRIBOS | C7: 2 | E7: 9.5 | H7: =E7*C7 -> 19
A25: TOTAL | H25: =+SUM(H6:H24) -> 19
A27: Observaciones
