Workbook
Name \0: #REF!
Name \0: #REF!
Name \b: #REF!
Name \b: #REF!
Name \c: #REF!
Name \d: #REF!
Name \d: #REF!
Name \e: #REF!
Name \g: #REF!
Name \g: #REF!
Name \i: #REF!
Name \i: #REF!
Name \m: #REF!
Name \m: #REF!
Name \n: #REF!
Name \n: #REF!
Name \PX: #REF!
Name \r: #REF!
Name \t: #REF!
Name \X: #N/A
Name \Z: #N/A
Name ____________________________________APU221: #REF!
Name ____________________________________APU221: #REF!
Name ____________________________________APU465: #REF!
Name ____________________________________PJ50: #REF!
Name ____________________________________PJ50: #REF!
Name ____________________________________pj51: #REF!
Name ____________________________________pj51: #REF!
Name __________________________________APU221: #REF!
Name __________________________________APU221: #REF!
Name __________________________________APU465: #REF!
Name __________________________________PJ50: #REF!
Name __________________________________PJ50: #REF!
Name __________________________________pj51: #REF!
Name __________________________________pj51: #REF!
Name _________________________________APU221: #REF!
Name _________________________________APU221: #REF!
Name _________________________________APU465: #REF!
Name _________________________________PJ50: #REF!
Name _________________________________PJ50: #REF!
Name _________________________________pj51: #REF!
Name _________________________________pj51: #REF!
Name ________________________________APU221: #REF!
Name ________________________________APU221: #REF!
Name ________________________________APU465: #REF!
Name ________________________________PJ50: #REF!
Name ________________________________PJ50: #REF!
Name ________________________________pj51: #REF!
Name ________________________________pj51: #REF!
Name _______________________________APU221: #REF!
Name _______________________________APU221: #REF!
Name _______________________________APU465: #REF!
Name _______________________________PJ50: #REF!
Name _______________________________PJ50: #REF!
Name _______________________________pj51: #REF!
Name _______________________________pj51: #REF!
Name _____________________________APU221: #REF!
Name _____________________________APU221: #REF!
Name _____________________________APU465: #REF!
Name _____________________________PJ50: #REF!

Sheet AIU OBRA
A3: DESGLOSE DEL A.I.U.
A5: Cálculo pormenorizado del factor Administración, Imprevistos y Utilidades. AIU
A7: No | B7: DESCRIPCIÓN | G7: PORCENTAJES % Y CANTIDADES ESTIMADAS | H7: UNIDAD | I7: PORCENTAJE % Y CANTIDAD REAL
I8: C. DIRECTO | J8: 8.986159e+08
I9: C.TOTAL | J9: 1.1412422e+09
A10: VALOR ADMINISTRACIÓN DE OBRA | K10: 5826620802
A11: 1 | B11: PERSONAL DE OBRA (incl. Prestaciones) | C11: DURACION | D11: CANTIDAD | E11: FACTOR PRESTACIONAL | F11: VALOR UNITARIO | G11: DEDICACION | I11: 0.0249 | J11: $
A12: 1.01 | B12: Director de Obra | C12: 5 | D12: 1 | E12: 1.6697 | F12: $ | G12: 0.05 | H12: % | I12: 0.0033817051 | J12: $ | K12: 15152528
A13: 1.02 | B13: Residente de Obra | C13: 5 | D13: 1 | E13: 1.6697 | F13: $ | G13: 1 | H13: % | I13: 0.021518295 | J13: $ | K13: 34896730
A14: 2 | B14: GASTOS DE LEGALIZACION Y PERFECCIONAMIENTO | I14: 0.1651 | J14: $
A15: 2.1 | B15: Impuesto de Obra publica seguridad democratica | G15: 0.05 | H15: % | I15: 0.0635 | J15: $
A16: 2.2 | B16: Pólizas | G16: 0.01 | H16: % | I16: 0.0127 | J16: $
A17: 2.3 | B17: Estampillas | G17: 0.07 | H17: % | I17: 0.0889 | J17: $
B18: PORCENTAJE ADMINISTRACION | I18: 0.19 | J18: $ | L18: |
B20: VALOR IMPREVISTOS | I20: 0.03 | J20: $
B22: VALOR UTILIDAD | I22: 0.05 | J22: $
B24: TOTAL A.I.U. | I24: 0.27 | J24: $
A25: Nota:
A26: 1. Los ensayos de laboratorio son para llevar un mejor control y calidad de los materiales.
B29: NOMBRE Y FIRMA DEL REP. LEGAL Número de identificación

Sheet PRESUPUESTO
A3: FORMATO No. 11 PROPUESTA ECONOMICA
A4: Item | B4: Actividad | C4: Unidad | D4: Cantidad | E4: V/Unitario | F4: V/Total
A5: 1 | B5: MANTENIMIENTO GRAMA NATURAL
A6: 1.1 | B6: CAMBIO DE SUSTRATO DE SIEMBRA: Retiro y disposición final del sustrato de siembra existente , Incluye : suministro transporte e instalación de arena seleccionada de rio amarilla y/o arena de trituración para su correcta nivelación y lecho filtrante.Incluye Comision Topografica. | C6: M2 | D6: 7992
A7: 1.2 | B7: SUMINISTRO E INSTALACIÓN DE GRAMA NATURAL: Suministro e instalación de grama natural tipo bermuda 419 , en semilla tipo estolón y/o semilla, esta actividad incluye la recolección y disposición final de residuos vegetales. | C7: M2 | D7: 7992
A8: 1.3 | B8: AIREACIÓN: Consiste en realizar perforaciones equidistantes, con una profundidad de 10 cm y un diámetro de 1,8 cm, esta actividad debe realizarse con maquina aireadora. Incluye todo lo necesario para su correcta ejecución. Incluye disposición del material resultante o lo indicado por el apoyo a la supervisión y/o interventoría. | C8: m2 | D8: 7992
A9: 1.4 | B9: TOP DRESSING: Colocación de una película de arena con un espesor de 0,3 cm a 0,5 cm, se debe repartir homogéneamente hasta incorporar los huecos dejados por la aireación. Incluye tolva aplicadora, malla repartidora de arrastre en acero, steel drag mat con medidas mínimas de 1.80x1.80 m y todo lo necesario para su correcta ejecución. | C9: m3 | D9: 240
A10: 1.5 | B10: APLICACIÓN DE FUNGICIDAS: Aspersión mecánica o a motor o aéreo por medio de bomba de espalda o aparato aéreo no tripulado; esta actividad incluye insecticida y/o fungicida amigables con el medio ambiente certificados, diluido en agua de acuerdo con la dosificación recomendada por el proveedor o por la indicación del técnico agrónomo y avalado por el apoyo a la supervisión. | C10: m2 | D10: 7992
A11: 1.6 | B11: APLICACION DE FERTILIZANTE: Suministro y aplicación mecánica con maquina de abono químico, incluye fertilizantes (de 1 a 3 productos); la selección y dosificación puede variar de acuerdo con el análisis foliar y de suelos, o de acuerdo a las recomendaciones del técnico agrónomo (foliar o edáfica). | C11: m2 | D11: 7992
A12: 1.7 | B12: CORTE MECÁNICO DE GRAMA (durante tiempo de intervencion ) : La grama debe quedar con una altura uniforme de acuerdo con la directriz y supervisión técnica del agrónomo. Incluye maquinaria especializada de corte helicoidal, recolección y disposición final de residuos en los sitios autorizados. | C12: m2 | D12: 7992
A13: 1.8 | B13: DESMALEZADA: Retiro manual con ayuda de punzón y rastrillo metálico de especies invasoras o "malezas". Incluye recolección y botada de residuos vegetales. | C13: m2 | D13: 1200
A14: 1.9 | B14: Mantenimiento de sistema de riego , incluye suministro trasporte e instalacion motobomba CENTRIFUGA 7,5 HP y controlador de riego. | C14: und | D14: 1
A15: 1.10 | B15: Mantenimiento preventivo y rutinario incluye ( seguimiento profesional , agronomico , tratamiento con fertilizantes ,herbicidas ,insecticidas y fungicidas) | C15: MES | D15: 4
A16: 2 | B16: GRAMA SINTETICA
A17: 2.1 | B17: SUMINISTRO E INSTALACION DE GRAMA SINTETICA PAISAJISMO : suministro e instalacion de grama sintetica color verde altura 25 , mm .DTEX 7.000 ±100g , CERTIFICACION ASTM,DIN, Trace, SGS; PUNTADAS X M2 16.800 , certificacion proteccion UV , Peso Total 1.680 g/sqm ±100g,( camerinos) | C17: m2 | D17: 56
A18: 2.2 | B18: SUMINISTRO E INSTALACION DE GRAMA SINTETICA PAISAJISMO : suministro e instalacion de grama sintetica de COLORES ( amarillo -rojo,verde ), altura 20 mm DTEX 6.200 ±100g , CERTIFICACION ASTM,DIN, Trace, SGS; PUNTADAS X M2 16.800 , certificacion proteccion UV , Peso Total 1.508 g/sqm ±100g, .( transito camerinos) | C18: m2 | D18: 287
A19: 2.3 | B19: SUMINISTRO E INSTALACION DE GRAMA SINTETICA PAISAJISMO : Retiro y disposición final de la grama existente , suministro e instalacion de grama sintetica color verde de altura 30 mm DTEX 7.000 ±100g , CERTIFICACION ASTM,DIN, Trace, SGS; PUNTADAS X M2 16.800 , certificacion proteccion UV , Peso Total 1.776 g/sqm ±100g, .( bancos suplentes) | C19: m2 | D19: 80
A20: 2.4 | B20: SUMINISTRO E INSTALACION DE GRAMA SINTETICA: Retiro y disposición final de la grama existente, renivelacion del terreno, suministro e instalacion de grama sintetica MONOFILAMENTO , color Emeralda Oliva Bi-color ,altura 60 mm, DTEX 17.000 , CERTIFICACION FIFA Quality Concept, ASTM,DIN, Trace, SGS; PUNTADAS X M2 9.450 , Peso del hilo 2.080 , Peso Total 3180g/sqm ±100g, Incluye los rellenos de arena silice y caucho granulado certificado por laboratorio avalado por la FIFA.de no toxicidad. | C20: m2 | D20: 1943
F21: $
D22: ADMINISTRACION | E22: 0.19 | F22: $
D23: IMPREVISTO | E23: 0.03 | F23: $
D24: UTILIDAD | E24: 0.05 | F24: $
D25: SUBTOTAL INDIRECTOS | F25: $
D26: IVA 19% Sobre Utilidad (5%) | F26: $
D27: TOTAL PROYECTO | F27: $
B29: NOMBRE Y FIRMA DEL REP. LEGAL Número de identificación

Sheet F.Prestacional
A1: Oculte esta columna | F1: Vr. Presup | G1: #REF! | J1: Cuadrillas | K1: Inicio
B4: CONSORCIO SALUD SOGAMOSO | E4: SALARIOS Y PRESTACIONES SOCIALES
B6: REPOSICION DE LA INFRAESTRUCTURA FISICA DE SALUD SOGAMOSO ESE, SEDE MAGDALENA DE SOGAMOSO, BOYACA. | G6: FECHA: | H6: 45138
G7: PLIEGO: | H7: 0
F8: 8949 | H8: =23896-F8 -> 14947
A9: TRABAJ | B9: 1750905 | C9: S.M.M.L.V. | D9: NOMBRE DEL CARGO | E9: AYUDANTE | G9: OFICIAL | I9: PROFESIONAL DE CAMPO
A10: SALBAS | B10: 249095 | C10: S. Tr. | D10: Salario Base Mes ==> | E10: =B9 -> 1750905 | G10: 1517401 | I10: 3416666
B11: 18 | C11: Fest. Sem. | D11: Salario Anual ==> | E11: =(E10/30) * 365 -> 21302678 | G11: =(G10/30) * 365 -> 18461712 | I11: =(I10/30) * 365 -> 41569436
B12: F. PRESTAC. | D12: Horas Efect. trabaj. Año | E12: =E52 -> 2128 | G12: =G52 -> 2128 | I12: =365*8 -> 2920
A13: VRHORA | B13: =" " & G46 & " y " & J18 -> 1,6845 y 1,44 | D13: Vr. Hora Hábil + PS ==> | E13: =+ROUND(E11*$G$18/E12,0) -> 16863 | G13: =ROUND(G11*G18/G12,0) -> 14614 | I13: =+ROUND(I11*J18/I12,0) -> 20500
F15: TRABAJADORES DE CAMPO
B17: CALCULO DEL FACTOR PRESTACIONAL | F17: <2 SMMLV | I17: >2 SMMLV
B18: SALARIO | C18: BASE | D18: FÓRMULA | F18: VALOR | G18: =ROUND(SUM(G22:G45),4) -> 1.6845 | I18: VALOR | J18: =ROUND(SUM(J22:J45),2) -> 1.44
B19: Salario mensual | C19: A | D19: A | F19: =E10 -> 1750905 | I19: =ROUNDUP(F19*2,-3) -> 3502000
B20: Subsidio de transporte mensual (1) | C20: B | D20: El de ley | F20: =+IF(F19<=2*$B$9,$B$10,0) -> 249095 | I20: =+IF(I19<=2*$B$9,$B$10,0) -> 0
B21: Salario anual (365 días) | C21: C | D21: (A / 30)*365 | F21: =+(365*F19)/30 -> 21302678 | G21: 1 | I21: =+(365*I19)/30 -> 42607667 | J21: 1
B22: Salario anual con subsidio de transporte | C22: D | D22: C+(B/30)*(365-festivos-3) | F22: =+F21+(F20/30)*(365-$B$11-3) -> 24158967 | G22: =+F22/F$21 -> 1.1340812 | I22: =+I21+(I20/30)*(365-$B$11-3) -> 42607667 | J22: =+I22/I$21 -> 1
B24: PRESTACIONES
B25: Cesantía anual | D25: (D / 365) * 30 | F25: =+F22*30/365 -> 1985668.5 | G25: =+F25/F$21 -> 0.093212156 | I25: =+I22*30/365 -> 3502000 | J25: =+I25/I$21 -> 0.082191781
B26: Intereses de cesantía | D26: 12% Cesantías | F26: =0.12*F25 -> 238280.22 | G26: =+F26/F$21 -> 0.011185459 | I26: =0.12*I25 -> 420240 | J26: =+I26/I$21 -> 0.0098630137
B27: Vacaciones - 15 días | D27: 0,5 * A | F27: =0.5*F19 -> 875452.5 | G27: =+F27/F$21 -> 0.04109589 | I27: =0.5*I19 -> 1751000 | J27: =+I27/I$21 -> 0.04109589
B28: Prima - 30 días | D28: 1 *(A+B) | F28: =+F19+F20 -> 2000000 | G28: =+F28/F$21 -> 0.093884912 | I28: =+I19+I20 -> 3502000 | J28: =+I28/I$21 -> 0.082191781
B30: OTROS COSTOS
B31: Dotación y Seg Industrial | F31: 1201306.4 | G31: =+F31/F$21 -> 0.056392271 | J31: =+I31/I$21 -> 0
B33: SEGURIDAD SOCIAL
B34: Pensiones | D34: 12% * C | F34: =+F$21*0.12 -> 2556321.3 | G34: =+F34/F$21 -> 0.12 | I34: =+I$21*0.12 -> 5112920 | J34: =+I34/I$21 -> 0.12
B35: Medicina familiar | D35: EXCEPCION. Ley 1607/2012 | F35: 0 | G35: =+F35/F$21 -> 0 | I35: 0 | J35: =+I35/I$21 -> 0
B36: Riesgos profesionales (2) | D36: 6,96% * C (Campo) 0,522% * C (oficina) | F36: =0.0696*F21 -> 1482666.4 | G36: =+F36/F$21 -> 0.0696 | I36: =0.0696*I21 -> 2965493.6 | J36: =+I36/I$21 -> 0.0696
B38: APORTES SENA
B39: Aporte ordinario | D39: EXCEPCION. Ley 1607/2012 | F39: 0 | G39: =+F39/F$21 -> 0 | I39: 0 | J39: =+I39/I$21 -> 0
B40: Fondo I. de la construcción (3) | D40: C*(1 SMLM/40)/Salario mes en estudio | F40: =+F$21*($B$9/40)/F19 -> 532566.94 | G40: =+F40/F$21 -> 0.025 | I40: 0 | J40: =+I40/I$21 -> 0
B42: OTROS APORTES
B43: I.C.B.F. | D43: EXCEPCION. Ley 1607/2012 | F43: 0 | G43: =+F43/F$21 -> 0 | I43: 0 | J43: =+I43/I$21 -> 0
B44: Subsidio familiar | D44: 4,00% C | F44: =+F$21*0.04 -> 852107.1 | G44: =+F44/F$21 -> 0.04 | I44: =+I$21*0.04 -> 1704306.7 | J44: =+I44/I$21 -> 0.04
B46: VALOR SALARIO MAS PRESTACIONES | C46: E | F46: =SUM(F22:F45) -> 35883336 | G46: =ROUND(SUM(G22:G45),4) -> 1.6845 | I46: =SUM(I22:I45) -> 61565627 | J46: =ROUND(SUM(J22:J45),2) -> 1.44
B50: HORAS EFECTIVAS TRABAJADAS AL AÑO | E50: AYUDANTE | G50: OFICIAL
B51: Días de permiso al año | E51: 3 | G51: 3
B52: Horas Efectivas Laboradas Año | D52: [365 días - (52 domingos + 52/2 sabados + festivos + 15 permisos) ] * 8 horas | E52: =(365-(52+52/2+$B$11+E51))*8 -> 2128 | G52: =(365-(52+52/2+$B$11+G51))*8 -> 2128
B54: NOTAS:
B55: 1. El subsidio de transporte y dotación se pagan hasta sueldos de 2 salarios mínimos y a los funcionarios que, como prevención, lo requieran.
...

Sheet F.Prestacional J
A1: Ocult. Columna (Dobleclic) | E1: Vr. Presup | F1: =[1]PRESUPUESTO!G1 -> #REF! | J1: Cuadrillas | K1: Inicio
B4: =[1]PRESUPUESTO!B7 -> CONSORCIO SALUD SOGAMOSO | E4: SALARIOS Y PRESTACIONES SOCIALES
B6: =[1]PRESUPUESTO!C9 -> REPOSICION DE LA INFRAESTRUCTURA FISICA DE SALUD SOGAMOSO ESE, SEDE MAGDALENA DE SOGAMOSO, BOYACA. | F6: FECHA: | G6: =[1]PRESUPUESTO!G9 -> 45138
F7: PLIEGO: | G7: =[1]PRESUPUESTO!F10 -> 0
A9: SALBAS | D9: Salario Básico Mensual | F9: =F.Prestacional!B9 -> 1750905
A10: SUBSIDIO | D10: Subsidio de Transporte | F10: =F.Prestacional!B10 -> 249095
D11: Días Festivos | F11: =F.Prestacional!B11 -> 18
A12: FACTPRES | D12: Factor Prestacional==> | F12: =ROUND(G36,2) -> 1.68
A13: CAMPOF | B13: DESCRIPCION | D13: CAMPO U OFICINA==> | F13: CAMPO
B14: SALARIO | C14: BASE | D14: FÓRMULA | F14: VALOR | G14: %
A15: SALMES | B15: Salario mensual | C15: A | D15: A | F15: =F9 -> 1750905
B16: Subsidio de transporte mensual (1) | C16: B | D16: El de ley | F16: =+IF(F15<=2*$F$9,$F$10,0) -> 249095
B17: Salario anual (365 días) | C17: C | D17: (365 * A) / 30 | F17: =+(365*F15)/30 -> 21302678 | G17: 1
B18: Salario anual con subsidio de transporte | C18: D | D18: C+(B/30)*(365-festivos-3) | F18: =+F17+(F16/30)*(365-$F$11-3) -> 24158967 | G18: =+F18/F$17 -> 1.1340812
B19: PRESTACIONES
B20: Cesantía anual | D20: D * 30/365 | F20: =+F18*30/365 -> 1985668.5 | G20: =+F20/F$17 -> 0.093212156
B21: Intereses de cesantía | D21: 12% Cesantías | F21: =0.12*F20 -> 238280.22 | G21: =+F21/F$17 -> 0.011185459
B22: Vacaciones - 15 días | D22: 0,5 * A | F22: =0.5*F15 -> 875452.5 | G22: =+F22/F$17 -> 0.04109589
B23: Prima - 30 días | D23: 1 *(A+B) | F23: =+F15+F16 -> 2000000 | G23: =+F23/F$17 -> 0.093884912
B24: OTROS COSTOS
A25: DOTACION | B25: Dotación y Seguridad industrial | F25: 1197207 | G25: =+F25/F$17 -> 0.056199837 | H25: *
B26: SEGURIDAD SOCIAL
B27: Pensiones | D27: 12% * C | F27: =+F$17*0.12 -> 2556321.3 | G27: =+F27/F$17 -> 0.12
B28: Medicina familiar | C28: EXCEPCION. Ley 1607/2012 | F28: 0 | G28: =+F28/F$17 -> 0
B29: Riesgos profesionales (2) | D29: 6,96% * C (Campo) 0,522% * C (oficina) | F29: =+IF(F13="CAMPO",0.0696*F17,0.00522*F17) -> 1482666.4 | G29: =+F29/F$17 -> 0.0696
B30: APORTES SENA
B31: Aporte ordinario | C31: EXCEPCION. Ley 1607/2012 | F31: 0 | G31: =+F31/F$17 -> 0
B32: Fondo I. de la construcción (3) | D32: C*(1 SMLM/40)/Salario mes en estudio | F32: =+F$17*($F$9/40)/F15 -> 532566.94 | G32: =+F32/F$17 -> 0.025
B33: OTROS APORTES
B34: I.C.B.F. | C34: EXCEPCION. Ley 1607/2012 | F34: 0 | G34: =+F34/F$17 -> 0
B35: Subsidio familiar | D35: 4,00% C | F35: =+F$17*0.04 -> 852107.1 | G35: =+F35/F$17 -> 0.04
A36: SALARIO+PREST. | B36: VALOR SALARIO MAS PRESTACIONES | C36: E | F36: =SUM(F18:F35) -> 35879237 | G36: =ROUND(SUM(G18:G35),4) -> 1.6843
B39: CUADRILLAS | J39: B.D. | L39: VALORES BASE DE DATOS
A40: CODIGO | B40: DESCRIPCION | D40: UNIDAD | E40: Jornal | F40: % Prestac. | G40: Jornal + Prestac. | J40: Jornal | K40: % Prestac. | L40: Jornal + Prestac. | M40: DIF | N40: Num Trabaj/Cuadrilla
A41: 201005 | B41: ARQUITECTO | D41: Jornal | E41: =ROUND(F.Prestacional!H64*8/F41,0) -> 97619 | F41: =$F$12 -> 1.68 | G41: =TRUNC(E41*F41,0) -> 163999 | H41: =A41-F.Prestacional!A64 -> 0 | J41: 96471 | K41: 1.7 | L41: 164000 | M41: =+L41-G41 -> 1 | N41: 1
A42: 201000 | B42: AUXILIAR OFICIOS VARIOS DIURNO | D42: Jornal | E42: =ROUND(F.Prestacional!H65*8/F42,0) -> 80300 | F42: =$F$12 -> 1.68 | G42: =TRUNC(E42*F42,0) -> 134904 | H42: =A42-F.Prestacional!A65 -> 0 | J42: 42113 | K42: 1.7 | L42: 71592 | M42: =+L42-G42 -> -63312 | N42: 1
A43: 201001 | B43: AUXILIAR OFICIOS VARIOS NOCTURNO | D43: Jornal | E43: =ROUND(F.Prestacional!H66*8/F43,0) -> 96352 | F43: =$F$12 -> 1.68 | G43: =TRUNC(E43*F43,0) -> 161871 | H43: =A43-F.Prestacional!A66 -> 0 | J43: 50532 | K43: 1.7 | L43: 85904 | M43: =+L43-G43 -> -75967 | N43: 1
A44: 201008 | B44: DIBUJANTE ARQUITECTURA-INGENIERIA | D44: Jornal | E44: =ROUND(F.Prestacional!H67*8/F44,0) -> 248924 | F44: =$F$12 -> 1.68 | G44: =TRUNC(E44*F44,0) -> 418192 | H44: =A44-F.Prestacional!A67 -> 0 | J44: 130546 | K44: 1.7 | L44: 221928 | M44: =+L44-G44 -> -196264 | N44: 1
A45: 201006 | B45: INGENIERO CIVIL | D45: Jornal | E45: =ROUND(F.Prestacional!H68*8/F45,0) -> 97619 | F45: =$F$12 -> 1.68 | G45: =TRUNC(E45*F45,0) -> 163999 | H45: =A45-F.Prestacional!A68 -> 0 | J45: 96471 | K45: 1.7 | L45: 164000 | M45: =+L45-G45 -> 1 | N45: 1
A46: 201007 | B46: INGENIERO DE SUELOS | D46: Jornal | E46: =ROUND(F.Prestacional!H69*8/F46,0) -> 97619 | F46: =$F$12 -> 1.68 | G46: =TRUNC(E46*F46,0) -> 163999 | H46: =A46-F.Prestacional!A69 -> 0 | J46: 96471 | K46: 1.7 | L46: 164000 | M46: =+L46-G46 -> 1 | N46: 1
...
