Workbook

Sheet Ficha_Técnica
A1: SEGMENTOS | B1: FAMILIA | C1: CLASES | D1: PRODUCTO
A2: 48000000 | B2: 48100000 | C2: 48101500 | D2: 48101529 | E2: Ollas de presión o freidoras de presión
A3: 52000000 | B3: 52140000 | C3: 52141500 | D3: 52141501 | E3: Neveras para uso doméstico
D4: 52141504 | E4: Fogones para uso doméstico
D5: 52141524 | E5: Licuadoras para uso doméstico
D6: 52141553 | E6: Olla arrocera eléctrica para uso doméstico
B7: 52150000 | C7: 52151600 | D7: 52151603 | E7: Ralladores para uso doméstico
D8: 52151604 | E8: Coladores o coladeras para uso doméstico
C9: 52151700 | D9: 52151701 | E9: Utensilios para servir para uso doméstico
D10: 52151702 | E10: Cuchillos para uso doméstico
D11: 52151703 | E11: Tenedores para uso doméstico
D12: 52151704 | E12: Cucharas para uso doméstico
D13: 52151707 | E13: Set de cuchillos para uso doméstico
C14: 52151800 | D14: 52151801 | E14: Cacerolas de hierro fundido con tapa para uso doméstico
D15: 52151802 | E15: Sartenes para uso doméstico
D16: 52151803 | E16: Cacerolas para uso doméstico
D17: 52151807 | E17: Ollas para uso doméstico
D18: 52151808 | E18: Ollas a presión para uso doméstico
D19: 52151809 | E19: Sartenes para uso doméstico
C20: 52152000 | D20: 52152001 | E20: Jarras para uso doméstico
D21: 52152002 | E21: Contenedores para almacenar alimentos para uso doméstico
D22: 52152004 | E22: Platos para uso doméstico

Sheet PROVEEDOR_No_1
A1: SOLUCIONES ANGEL DE MURANO ZOMAC SAS NIT: 901600248-2
A2: PRODUCTO | B2: CANT | C2: V.U SIN IVA | D2: IVA | E2: V. CON IVA
A3: Estufa 4 puestos de sobremesa a gas propano (cilindro) de acero inoxidable y perillas de fácil manipulación | B3: 1 | C3: 498000 | D3: 0.19 | E3: =C3*19%+C3 -> 592620
A4: Licuadora industrial de capacidad 15 litros, con potencia de 750W, 1 HP 3,450 RPM, en acero inoxidable, sistema basculante (volcable), garantia de un año | B4: 1 | C4: 2625000 | D4: 0.19 | E4: =C4*19%+C4 -> 3123750
A5: fogon industrial de 3 puestos en acero inoxidable sistema a gas propano (cilindro) con medidas aprox 1,50 largo x 0,55 de ancho x 0,85 de alto | B5: 1 | C5: 1701000 | D5: 0.19 | E5: =C5*19%+C5 -> 2024190
A6: molino de granos de 14,5 cm de ancho por 15,7 de largo material en hierro de color plateado, recubierta con una capa de estañocon un 99,96% de pureza, co 5 años de garantia. | B6: 1 | C6: 221000 | D6: 0.19 | E6: =C6*19%+C6 -> 262990
A7: Licuadora de 1,25 litros, 550 watts, vaso de vidrio, 4 cuchillas en acero inoxidable, 10 velocidades sistema de acolpe en policarbonato, garantia de dos años | B7: 1 | C7: 201000 | D7: 0.19 | E7: =C7*19%+C7 -> 239190
A8: Ralladores acero inoxidable 4 caras | B8: 1 | C8: 34650 | D8: 0.19 | E8: =C8*19%+C8 -> 41233.5
A9: Colador plástico de 18 cm | B9: 1 | C9: 21500 | D9: 0.19 | E9: =C9*19%+C9 -> 25585
A10: Olla a presión de 13 litros con sistema de seguridad integrados 1 año de garantia | B10: 1 | C10: 451000 | D10: 0.19 | E10: =C10*19%+C10 -> 536690
A11: Olla a presión de 25 litros con sistema de seguridad integrados 1 año de garantia | B11: 1 | C11: 1349000 | D11: 0.19 | E11: =C11*19%+C11 -> 1605310
A12: Olla a presión de 6 litros con sistema de seguridad integrado 1 año de garantia | B12: 1 | C12: 239000 | D12: 0.19 | E12: =C12*19%+C12 -> 284410
A13: Caldero en aluminio fundido + tapa; dimensión: 24 cm | B13: 1 | C13: 106000 | D13: 0.19 | E13: =C13*19%+C13 -> 126140
A14: Caldero en aluminio fundido + tapa; dimensión: 26 cm | B14: 1 | C14: 126000 | D14: 0.19 | E14: =C14*19%+C14 -> 149940
... A40: Escurridor plástico para platos (Escurre, almacena y protege la vajilla) Cuenta con salida de agua tipo rejilla. Capacidad para platos de 24 cm de diámetro. Tapa con orificios de ventilación. Sistema de abertura abatible. | B40: 1 | C40: 86000 | D40: 0.19 | E40: =C40*19%+C40 -> 102340
E41: =SUM(E3:E40) -> 17813705

Sheet PROVEEDOR_No_2
A2: PRODUCTO | B2: CANT | C2: V.U SIN IVA | D2: IVA | E2: V. CON IVA
A3: Estufa 4 puestos de sobremesa a gas propano (cilindro) de acero inoxidable y perillas de fácil manipulación | B3: 1 | C3: 500000 | D3: 0.19 | E3: =C3*19%+C3 -> 595000
A4: Licuadora industrial de capacidad 15 litros, con potencia de 750W, 1 HP 3,450 RPM, en acero inoxidable, sistema basculante (volcable), garantia de un año | B4: 1 | C4: 2627000 | D4: 0.19 | E4: =C4*19%+C4 -> 3126130
A5: fogon industrial de 3 puestos en acero inoxidable sistema a gas propano (cilindro) con medidas aprox 1,50 largo x 0,55 de ancho x 0,85 de alto | B5: 1 | C5: 1699000 | D5: 0.19 | E5: =C5*19%+C5 -> 2021810
A6: molino de granos de 14,5 cm de ancho por 15,7 de largo material en hierro de color plateado, recubierta con una capa de estaño con un 99,96% de pureza, con 5 años de garantia. | B6: 1 | C6: 220000 | D6: 0.19 | E6: =C6*19%+C6 -> 261800
A7: Licuadora de 1,25 litros, 550 watts, vaso de vidrio, 4 cuchillas en acero inoxidable, 10 velocidades sistema de acolpe en policarbonato, garantia de dos años | B7: 1 | C7: 199000 | D7: 0.19 | E7: =C7*19%+C7 -> 236810
A8: Ralladores acero inoxidable 4 caras | B8: 1 | C8: 33650 | D8: 0.19 | E8: =C8*19%+C8 -> 40043.5
A9: Colador plástico de 18 cm | B9: 1 | C9: 22500 | D9: 0.19 | E9: =C9*19%+C9 -> 26775
A10: Olla a presión de 13 litros con sistema de seguridad integrados 1 año de garantia | B10: 1 | C10: 449000 | D10: 0.19 | E10: =C10*19%+C10 -> 534310
A11: Olla a presión de 25 litros con sistema de seguridad integrados 1 año de garantia | B11: 1 | C11: 1351000 | D11: 0.19 | E11: =C11*19%+C11 -> 1607690
A12: Olla a presión de 6 litros con sistema de seguridad integrado 1 año de garantia | B12: 1 | C12: 241000 | D12: 0.19 | E12: =C12*19%+C12 -> 286790
A13: Caldero en aluminio fundido + tapa; dimensión: 24 cm | B13: 1 | C13: 104000 | D13: 0.19 | E13: =C13*19%+C13 -> 123760
A14: Caldero en aluminio fundido + tapa; dimensión: 26 cm | B14: 1 | C14: 124000 | D14: 0.19 | E14: =C14*19%+C14 -> 147560
... A40: Escurridor plástico para platos (Escurre, almacena y protege la vajilla) Cuenta con salida de agua tipo rejilla. Capacidad para platos de 24 cm de diámetro. Tapa con orificios de ventilación. Sistema de abertura abatible. | B40: 1 | C40: 84000 | D40: 0.19 | E40: =C40*19%+C40 -> 99960
E41: =SUM(E3:E40) -> 17772114

Sheet CONSOLIDADO_-_PRECIO_PROMEDIO
A1: PRODUCTO | B1: CANT | C1: V. SIN IVA | D1: IVA | E1: V. CON IVA
A2: Estufa 4 puestos de sobremesa a gas propano (cilindro) de acero inoxidable y perillas de fácil manipulación | B2: 1 | C2: =AVERAGE(PROVEEDOR_No_1!C3,PROVEEDOR_No_2!C3) -> 499000 | D2: 0.19 | E2: =AVERAGE(PROVEEDOR_No_1!E3,PROVEEDOR_No_2!E3) -> 593810
A3: Licuadora industrial de capacidad 15 litros, con potencia de 750W, 1 HP 3,450 RPM, en acero inoxidable, sistema basculante (volcable), garantia de un año | B3: 1 | C3: =AVERAGE(PROVEEDOR_No_1!C4,PROVEEDOR_No_2!C4) -> 2626000 | D3: 0.19 | E3: =AVERAGE(PROVEEDOR_No_1!E4,PROVEEDOR_No_2!E4) -> 3124940
A4: fogon industrial de 3 puestos en acero inoxidable sistema a gas propano (cilindro) con medidas aprox 1,50 largo x 0,55 de ancho x 0,85 de alto | B4: 1 | C4: =AVERAGE(PROVEEDOR_No_1!C5,PROVEEDOR_No_2!C5) -> 1700000 | D4: 0.19 | E4: =AVERAGE(PROVEEDOR_No_1!E5,PROVEEDOR_No_2!E5) -> 2023000
A5: molino de granos de 14,5 cm de ancho por 15,7 de largo material en hierro de color plateado, recubierta con una capa de estañocon un 99,96% de pureza, co 5 años de garantia. | B5: 1 | C5: 219000 | D5: 0.19 | E5: =AVERAGE(PROVEEDOR_No_1!E6,PROVEEDOR_No_2!E6) -> 262395
A6: Licuadora de 1,25 litros, 550 watts, vaso de vidrio, 4 cuchillas en acero inoxidable, 10 velocidades sistema de acolpe en policarbonato, garantia de dos años | B6: 1 | C6: =AVERAGE(PROVEEDOR_No_1!C7,PROVEEDOR_No_2!C7) -> 200000 | D6: 0.19 | E6: =AVERAGE(PROVEEDOR_No_1!E7,PROVEEDOR_No_2!E7) -> 238000
A7: Ralladores acero inoxidable 4 caras | B7: 1 | C7: =AVERAGE(PROVEEDOR_No_1!C8,PROVEEDOR_No_2!C8) -> 34150 | D7: 0.19 | E7: =AVERAGE(PROVEEDOR_No_1!E8,PROVEEDOR_No_2!E8) -> 40638.5
A8: Colador plástico de 18 cm | B8: 1 | C8: =AVERAGE(PROVEEDOR_No_1!C9,PROVEEDOR_No_2!C9) -> 22000 | D8: 0.19 | E8: =AVERAGE(PROVEEDOR_No_1!E9,PROVEEDOR_No_2!E9) -> 26180
A9: Olla a presión de 13 litros con sistema de seguridad integrados 1 año de garantia | B9: 1 | C9: =AVERAGE(PROVEEDOR_No_1!C10,PROVEEDOR_No_2!C10) -> 450000 | D9: 0.19 | E9: =AVERAGE(PROVEEDOR_No_1!E10,PROVEEDOR_No_2!E10) -> 535500
A10: Olla a presión de 25 litros con sistema de seguridad integrados 1 año de garantia | B10: 1 | C10: =AVERAGE(PROVEEDOR_No_1!C11,PROVEEDOR_No_2!C11) -> 1350000 | D10: 0.19 | E10: =AVERAGE(PROVEEDOR_No_1!E11,PROVEEDOR_No_2!E11) -> 1606500
A11: Olla a presión de 6 litros con sistema de seguridad integrado 1 año de garantia | B11: 1 | C11: =AVERAGE(PROVEEDOR_No_1!C12,PROVEEDOR_No_2!C12) -> 240000 | D11: 0.19 | E11: =AVERAGE(PROVEEDOR_No_1!E12,PROVEEDOR_No_2!E12) -> 285600
A12: Caldero en aluminio fundido + tapa; dimensión: 24 cm | B12: 1 | C12: =AVERAGE(PROVEEDOR_No_1!C13,PROVEEDOR_No_2!C13) -> 105000 | D12: 0.19 | E12: =AVERAGE(PROVEEDOR_No_1!E13,PROVEEDOR_No_2!E13) -> 124950
A13: Caldero en aluminio fundido + tapa; dimensión: 26 cm | B13: 1 | C13: =AVERAGE(PROVEEDOR_No_1!C14,PROVEEDOR_No_2!C14) -> 125000 | D13: 0.19 | E13: =AVERAGE(PROVEEDOR_No_1!E14,PROVEEDOR_No_2!E14) -> 148750
A14: Caldero en aluminio fundido + tapa; dimensión: 30 cm | B14: 1 | C14: =AVERAGE(PROVEEDOR_No_1!C15,PROVEEDOR_No_2!C15) -> 148000 | D14: 0.19 | E14: =AVERAGE(PROVEEDOR_No_1!E15,PROVEEDOR_No_2!E15) -> 176120
A15: Caldero en aluminio fundido + tapa; dimensión: 36 cm | B15: 1 | C15: =AVERAGE(PROVEEDOR_No_1!C16,PROVEEDOR_No_2!C16) -> 200000 | D15: 0.19 | E15: =AVERAGE(PROVEEDOR_No_1!E16,PROVEEDOR_No_2!E16) -> 238000
A16: Caldero en aluminio fundido + tapa; dimensión: 42 cm | B16: 1 | C16: =AVERAGE(PROVEEDOR_No_1!C17,PROVEEDOR_No_2!C17) -> 290000 | D16: 0.19 | E16: =AVERAGE(PROVEEDOR_No_1!E17,PROVEEDOR_No_2!E17) -> 345100
A17: Juego de ollas de aluminio bordeadas x 5 unidades cada una con tapa. | B17: 1 | C17: =AVERAGE(PROVEEDOR_No_1!C18,PROVEEDOR_No_2!C18) -> 160000 | D17: 0.19 | E17: =AVERAGE(PROVEEDOR_No_1!E18,PROVEEDOR_No_2!E18) -> 190400
... A39: Escurridor plástico para platos (Escurre, almacena y protege la vajilla) Cuenta con salida de agua tipo rejilla. Capacidad para platos de 24 cm de diámetro. Tapa con orificios de ventilación. Sistema de abertura abatible. | B39: 1 | C39: =AVERAGE(PROVEEDOR_No_1!C40,PROVEEDOR_No_2!C40) -> 85000 | D39: 0.19 | E39: =AVERAGE(PROVEEDOR_No_1!E40,PROVEEDOR_No_2!E40) -> 101150
E40: =SUM(E2:E39) -> 17792910
