Workbook
Name _AFC1: #REF!
Name _AFC3: #REF!
Name _AFC5: #REF!
Name _BGC1: #REF!
Name _BGC3: #REF!
Name _BGC5: #REF!
Name _CAC1: #REF!
Name _CAC3: #REF!
Name _CAC5: #REF!
Name _Cod1: #REF!
Name _Cod1: #REF!
Name _Cod1: #REF!
Name _Cod1: #REF!
Name _Cod1: #REF!
Name _Cod1: #REF!
Name _Cod1: #REF!
Name _Cod1: #REF!
Name _Cod1: #REF!
Name _Cod1: #REF!
Name _Cod1: #REF!
Name _Cod1: #REF!
Name _Cod1: #REF!
Name _Cod1: #REF!
Name _Cod1: #REF!
Name _Cod1: #REF!
Name _Cod1: #REF!
Name _Cod1: #REF!
Name _Cod1: #REF!
Name _Cod1: #REF!
Name _Cod1: #REF!
Name _Cod1: #REF!
Name _Cod1: #REF!
Name _MA2: #REF!
Name _MA2: #REF!
Name _MA2: #REF!
Name _MA2: #REF!
Name _MA2: #REF!
Name _MA2: #REF!
Name _MA2: #REF!
Name _MA2: #REF!
Name _MA2: #REF!
Name _MA2: #REF!
Name _MA2: #REF!
Name _MA2: #REF!
Name _MA2: #REF!
Name _MA2: #REF!
Name _MA2: #REF!
Name _MA2: #REF!
Name _MA2: #REF!
Name _MA2: #REF!
Name _MA2: #REF!
Name _MA2: #REF!
Name _MA2: #REF!
Name _MA2: #REF!
Name _MA2: #REF!
Name _Pa1: #REF!
Name _Pa2: #REF!
Name _Pa3: #REF!
Name _Pa4: #REF!
Name _SBC1: #REF!

Sheet Instructivo
F1: Sistema de Gestión Integral (SGI) Instructivo - Componente Financiero EP Código: F-PGC-21. Versión: 05
F2: Hoja "Instructivo"
A5: Color | B5: Hoja | D5: Color | E5: Celda
A6: Gris | B6: Informativa | D6: Azul | E6: Protegida
A7: Vinotinto | B7: Formatos
A8: Morado | B8: Variables
A10: Para un mejor diligenciamiento de los formatos y uso de las variables y hojas informativas que se encuentran en este libro, se recomienda, antes de empezar a diligenciar, leer el instructivo, que se encuentra consignado en la presente hoja, igualmente, cada hoja contiene un número significativo de comentarios, los cuales, pretenden ayudar al diligenciamiento, se recomienda leerlos y aplicarlos de manera atenta. En caso de requerir apoyo, favor comunicarse con el asesor(a) financiero(a) asignado para el proceso.
A12: HOJAS INFORMATIVAS
A13: Nombre | D13: Descripción
A14: Cuantías de contratación (por pluralidad de oferentes) | D14: En la hoja se encuentran los valores establecidos anualmente, para identificar dentro de la contratación por pluralidad de oferentes, de acuerdo al valor del presupuesto, si se clasifica dentro de una mínima cuantía, menor cuantía o licitación pública, en los casos que aplique.
A15: Documentos de apoyo | D15: En la hoja se encuentran listas enunciativas de documentos de apoyo, que pueden presentar interés, al igual, que guíar el accionar en el ámbito general de la contratación pública y específico de la asesoría financiera a la misma. Se deberá considerar que las listas no son exhaustivas, es decir, no contemplan todos los documentos de cada categoría, al igual, que depende de la actualización constante de la Subdirección Administrativa y Financiera.
A16: Impuestos y garantías | D16: En la hoja se encuentra una lista enunciativa de los impuestos y las garantías en los que puede incurrir el ejecutor, las cuales dependen de la especificidad del proceso. La lista es de carácter informativa en caso que se emitan consultas al respecto.
A17: Información anticipos y pagos anticipados | D17: En la hoja se encuentra una corta explicación sobre la consideración normativa de los anticipos y pagos anticipados, que tiene como objeto orientar respecto a este tema de frecuente consulta e inquietud; tema sobre el cual, se requiere tener claridad para la estipulación de la ejecución física y financiera de los procesos.
A18: Información procesos de obra pública y capacidad residual (K) | D18: En la hoja se encuentra una corta explicación sobre los procesos de obra, y el cálculo de la capacidad residual (K) en los casos que se requiera, que tiene como objeto suministrar información de interés general respecto a este tema de frecuente consulta e inquietud; tener en cuenta que este tema es de competencia tanto jurídica como técnica y financiera.
A19: Información IVA | D19: En la hoja se encuentra una corta explicación sobre las consideraciones respecto al IVA, que tiene como objeto orientar respecto a este tema de frecuente consulta e inquietud.
A20: Notas propuesta económica | D20: En la hoja se encuentra una lista enunciativa de notas, las cuales deberán ser elegidas de acuerdo a la especificidad del proceso contractual, con el fin de incluirlas en el formato de propuesta económica. Las notas tienen como objeto orientar a los oferentes en el diligenciamiento de dicho formato.
A21: Requisitos habilitantes capacidad financiera y organizacional | D21: En la hoja se encuentran los requisitos de capacidad financiera y organizacional vigentes
A23: FORMATOS (PARA DILIGENCIAR) | I23: DILIGENCIAR EN CASO DE:
A24: Nombre | D24: Descripción | I24: Contratos por contratación directa | J24: Contratos por pluralidad de oferentes | K24: Convenios
A25: DILIGENCIAR PARA EVALUACIÓN POR PARTE DEL COMITÉ DE CONTRATACIÓN (Asesor técnico)
A26: Se recomienda que el asesor técnico para la planeación financiera del proceso contractual, empiece con el diligenciamiento paralelo de la memoria de cálculo con su debido estudio de mercado, para seguir con la estipulación de los gastos de administración, si aplican. En un segundo momento, se recomienda diligenciar, el presupuesto de acuerdo a la modalidad del proceso, y el plan de ejecución física y de inversiones. El técnico podrá anexar al presente libro las hojas que considere necesarias con el fin de suportar la estimación de los valores. NOTA: Se recomienda iniciar escribiendo en el formato del Plan de ejecución los datos básicos de modalidad de contratación y objeto a contratar, ya que está información alimenta a las demás hojas.
A27: Plan de ejecución física y de inversiones | D27: Diligenciar la programación física y financiera del proceso, tanto en la étapa inicial, como en el caso de solicitud de Otrosí de adición de recursos o prórroga, o cuando el Otrosí de modificación implique cambios en el presupuesto. | I27: X | J27: X | K27: X
A28: Plan de ejecución física y de inversiones - Prestación de Servicios Personales | D28: Diligenciar exclusivamente para los contratos de Prestación de Servicios Personales que suscribe la Corporación con una persona natural. Este formato simplificado permite la programación física y financiera del proceso, tanto en la étapa inicial, como en el caso de solicitud de Otrosí de adición de recursos o prórroga, o cuando el Otrosí de modificación implique cambios en el presupuesto. | I28: X
A29: Presupuesto - Modalidad contrato | D29: Diligenciar en caso que el proceso se tipifique dentro de las modalidades de contratos. El presupuesto es un documento donde se plasman los recursos económicos requeridos para llevar a cabo de manera exitosa el proceso contractual. | I29: X | J29: X
A30: Presupuesto - Modalidad contrato - Prestación de Servicios Personales | D30: Diligenciar exclusivamente para los contratos de Prestación de Servicios Personales que suscribe la Corporación con una persona natural. En este formato simplificado se plasma el presupuesto, donde se relacionan los recursos económicos requeridos para llevar a cabo de manera exitosa el proceso contractual. | I30: X
A31: Presupuesto - Modalidad convenio | D31: Diligenciar en caso que el proceso se tipifique dentro de las modalidades de convenios. El presupuesto es un documento donde se plasman los recursos económicos requeridos para llevar a cabo de manera exitosa el proceso contractual. | K31: X
A32: Memoria de cálculo - Opción 1 | D32: Diligenciar de acuerdo a las características del proceso, alcance y/o actividad. La memoria de cálculo es un documento descriptivo donde se refleja de manera exhaustiva y detallada, todos y cada uno de los elementos que intervienen en el proceso, alcance y/o actividad que se está valorando. Esta memoria de cálculo es útil para la compra de productos terminados, bienes con características homogéneas, o bienes y servicios que se valoren a todo costo, entre otras opciones, por ejemplo: compra de equipos o insumos. Nota: Tener en cuenta que para valorar una variable o ítem se utiliza una sola memoria de cálculo y no las tres opciones, por ejemplo, si se quiere valorar la adquisición de 1 equipo de cómputo, dicha adquisición se deja consignada en solo una de las memorias de cálculo, no se tiene que utilizar las tres opciones para este mismo ítem. | I32: Se seleccionará el formato de memoria de cálculo que mejor se adapte a las características del proceso, alcance y/o actividad a valorar.
A33: Memoria de cálculo - Opción 2 | D33: Diligenciar de acuerdo a las características del proceso, alcance y/o actividad. La memoria de cálculo es un documento descriptivo donde se refleja de manera exhaustiva y detallada, todos y cada uno de los elementos que intervienen en el proceso, alcance y/o actividad que se está valorando. Esta memoria de cálculo es útil para los procesos de obra. Nota: Tener en cuenta que para valorar una variable o ítem se utiliza una sola memoria de cálculo y no las tres opciones, por ejemplo, si se quiere valorar la adquisición de 1 equipo de cómputo, dicha adquisición se deja consignada en solo una de las memorias de cálculo, no se tiene que utilizar las tres opciones para este mismo ítem. | I33: Se seleccionará el formato de memoria de cálculo que mejor se adapte a las características del proceso, alcance y/o actividad a valorar.
A34: Memoria de cálculo - Opción 3 | D34: Diligenciar de acuerdo a las características del proceso, alcance y/o actividad. La memoria de cálculo es un documento descriptivo donde se refleja de manera exhaustiva y detallada, todos y cada uno de los elementos que intervienen en el proceso, alcance y/o actividad que se está valorando. Esta memoria de cálculo es útil para procesos que requieran detallar todos los elementos del costo, por ejemplo, realización de talleres, donde se debe considerar los materiales, los refrigerios, alquiler de equipos, entre otros. Nota: Tener en cuenta que para valorar una variable o ítem se utiliza una sola memoria de cálculo y no las tres opciones, por ejemplo, si se quiere valorar la adquisición de 1 equipo de cómputo, dicha adquisición se deja consignada en solo una de las memorias de cálculo, no se tiene que utilizar las tres opciones para este mismo ítem. | I34: Se seleccionará el formato de memoria de cálculo que mejor se adapte a las características del proceso, alcance y/o actividad a valorar.
A35: Estudio de mercado | D35: Un estudio de mercado es el proceso mediante el cual, se recoge y análiza información que sirve para identificar las características, valores y condiciones del bien o servicio a adquirir, con el fin de obtenerlos acuerdo a las estipulaciones del mercado, bajo el principio de plena competencia. En la corporación el estudio de mercado se realiza mediante la identificación de valores por medio de cotizaciones debidamente radicadas, valores históricos de los bienes y servicios de interés, recolección de información de sitios de internet soportados con los debidos pantallazos, y demás información de diferentes fuentes con sus correspondientes medios de verificación. El estudio de mercado no se puede confundir con el estudio de sector, este último, requerido solo para algunos procesos contractuales. En el estudio de mercado, pueden hacer parte, debidamente soportados o en todo caso que permita realizar la trazabilidad, los valores establecidos en otros procesos contractuales para los mismos bienes y servicios, de la misma vigencia o de anteriores vigencias, en caso de utilizar valores de vigencias anteriores se deberá realizar la respectiva actualización con la inflación anual de la o las vigencias pasadas. | I35: X | J35: X | K35: X
A36: Determinación de gastos de administración | D36: Diligenciar para determinar el porcentaje de los gastos de administración o administración del proceso, de acuerdo a las características del mismo, considerando no tener duplicidad en ítems ya contemplados en el presupuesto general del proceso. | I36: X | J36: X | K36: X
A37: Identificación de bienes nacionales relevantes | D37: Diligenciar para identificar los bienes nacionales relevantes en los procesos que apliquen. | J37: X
A38: DILIGENCIAR COMO PARTE DE LOS DOCUMENTOS A SUBIR A LA PLATAFORMA SECOP (Asesor financiero)
A39: Propuesta económica - Opción 1 | D39: Diligenciar con el objeto de suministrarle a los oferentes la estructura y condiciones de la presentación de las respectivas propuestas económicas, se recomienda su uso para procesos que se hayan planeado en el formato memoria de cálculo - opción 1. | J39: X
A40: Propuesta económica - Opción 2 | D40: Diligenciar con el objeto de suministrarle a los oferentes la estructura y condiciones de la presentación de las respectivas propuestas económicas, se recomienda su uso para procesos que se hayan planeado en el formato memoria de cálculo - opción 2. | J40: X
A41: Propuesta económica - Opción 3 | D41: Diligenciar con el objeto de suministrarle a los oferentes la estructura y condiciones de la presentación de las respectivas propuestas económicas, se recomienda su uso para procesos que se hayan planeado en el formato memoria de cálculo - opción 3. | J41: X
A42: Estimación PAB comparación absoluta | D42: Diligenciar con el objeto realizar el acta del Precio Artificialmente Bajo (PAB). La cual, se elabora paralelamente con el formato de propuesta económica para el proceso. | J42: X
A43: DILIGENCIAR PARA EVALUACIÓN FINANCIERA DE OFERENTES (Asesor financiero)
A44: Verificación de requisitos habilitantes de los proponentes sobre capacidad financiera y organizacional | D44: Diligenciar con el fin de consignar la verificación de los requisitos habilitantes de los proponentes, sobre capacidad financiera y organizacional, en los casos que apliquen. | J44: X
A45: Estimación PAB comparación relativa | D45: Diligenciar solamente en el caso que sea necesario aplicar la metodología de comparación relativa, es decir, cuando se hayan presentado más de 5 ofertas, con el fin de evaluar los PAB de los oferentes. | J45: X
...

Sheet Plan Ejecución
F1: =Instructivo!F1 -> Sistema de Gestión Integral (SGI) Instructivo - Componente Financiero EP Código: F-PGC-21. Versión: 05 | M1: Instructivo
F2: Hoja "Plan Ejecución física y de inversiones"
A4: MODALIDAD DE CONTRATACIÓN: | AE4: =C4 -> 0
A5: OBJETO A CONTRATAR: | AE5: =C5 -> 0
A7: CONTRATISTA/CONVENIANTE:
A8: NOMBRE DEL TÉCNICO (A):
A9: DURACIÓN Y/O PLAZO DEL CONTRATO (MESES):
A10: PERIODO DE PROGRAMACIÓN Y SEGUIMIENTO:
A12: PROGRAMACIÓN FÍSICA
B13: Descripción | C13: % de importancia | D13: % de importancia subactividades | E13: Unidad de medida | F13: Cantidad Programada | G13: Distribución física
G14: Período 1 | H14: Período 2 | I14: Período 3 | J14: Período 4 | K14: Período 5 | L14: Período 6 | M14: Período 7 | N14: Período 8 | O14: Período 9 | P14: Período 10 | Q14: Período 11 | R14: Período 12 | S14: Período 13 | T14: Período 14 | U14: Período 15 | V14: Período 16 | W14: Período 17 | X14: Período 18 | Y14: Período 19 | Z14: Período 20 | AA14: Período 21 | AB14: Período 22 | AC14: Período 23 | AD14: Período 24
A15: META/ PRODUCTO A OBTENER: | D15: =SUM(D16:D210) -> 0 | F15: =F16+F56+F87+F118+F149+F180 -> 0 | AE15: =F15-SUM(G15:AD15) -> 0
A16: Alcance 1 | F16: =F17+F25+F32+F38+F44+F50 -> 0 | G16: =G17+G25+G32+G38+G44+G50 -> 0 | H16: =H17+H25+H32+H38+H44+H50 -> 0 | I16: =I17+I25+I32+I38+I44+I50 -> 0 | J16: =J17+J25+J32+J38+J44+J50 -> 0 | K16: =K17+K25+K32+K38+K44+K50 -> 0 | L16: =L17+L25+L32+L38+L44+L50 -> 0 | M16: =M17+M25+M32+M38+M44+M50 -> 0 | ... R16: =R17+R25+R32+R38+R44+R50 -> 0 | S16: =S17+S25+S32+S38+S44 -> 0 | T16: =T17+T25+T32+T38+T44 -> 0 | U16: =U17+U25+U32+U38+U44 -> 0 | V16: =V17+V25+V32+V38+V44 -> 0 | W16: =W17+W25+W32+W38+W44 -> 0 | X16: =X17+X25+X32+X38+X44 -> 0 | Y16: =Y17+Y25+Y32+Y38+Y44 -> 0 | Z16: =Z17+Z25+Z32+Z38+Z44 -> 0 | ... AD16: =AD17+AD25+AD32+AD38+AD44 -> 0 | AE16: =F16-SUM(G16:AD16) -> 0
A17: Actividad 1.1 | F17: =SUM(F18:F24) -> 0 | G17: =SUM(G18:G24) -> 0 | H17: =SUM(H18:H24) -> 0 | I17: =SUM(I18:I24) -> 0 | J17: =SUM(J18:J24) -> 0 | K17: =SUM(K18:K24) -> 0 | L17: =SUM(L18:L24) -> 0 | M17: =SUM(M18:M24) -> 0 | ... AD17: =SUM(AD18:AD24) -> 0 | AE17: =F17-SUM(G17:AD17) -> 0
A18: Subactividad 1.1.1 | D18: =C18*$C$17*$C$16 -> 0 | F18: =SUM(G18:AD18) -> 0 | AE18: =F18-SUM(G18:AD18) -> 0
A19: Subactividad 1.1.2 | D19: =C19*$C$17*$C$16 -> 0 | F19: =SUM(G19:AD19) -> 0 | AE19: =F19-SUM(G19:AD19) -> 0
A20: Subactividad 1.1.3 | D20: =C20*$C$17*$C$16 -> 0 | F20: =SUM(G20:AD20) -> 0 | AE20: =F20-SUM(G20:AD20) -> 0
A21: Subactividad 1.1.4 | D21: =C21*$C$17*$C$16 -> 0 | F21: =SUM(G21:AD21) -> 0 | AE21: =F21-SUM(G21:AD21) -> 0
A22: Subactividad 1.1.5 | D22: =C22*$C$17*$C$16 -> 0 | F22: =SUM(G22:AD22) -> 0 | AE22: =F22-SUM(G22:AD22) -> 0
A23: Subactividad 1.1.6 | D23: =C23*$C$17*$C$16 -> 0 | F23: =SUM(G23:AD23) -> 0 | AE23: =F23-SUM(G23:AD23) -> 0
A24: Subactividad 1.1.7 | D24: =C24*$C$17*$C$16 -> 0 | F24: =SUM(G24:AD24) -> 0 | AE24: =F24-SUM(G24:AD24) -> 0
A25: Actividad 1.2 | F25: =SUM(F26:F31) -> 0 | G25: =SUM(G26:G31) -> 0 | H25: =SUM(H26:H31) -> 0 | I25: =SUM(I26:I31) -> 0 | J25: =SUM(J26:J31) -> 0 | K25: =SUM(K26:K31) -> 0 | L25: =SUM(L26:L31) -> 0 | M25: =SUM(M26:M31) -> 0 | ... AD25: =SUM(AD26:AD31) -> 0 | AE25: =F25-SUM(G25:AD25) -> 0
A26: Subactividad 1.2.1 | D26: =C26*$C$25*$C$16 -> 0 | F26: =SUM(G26:AD26) -> 0 | AE26: =F26-SUM(G26:AD26) -> 0
A27: Subactividad 1.2.2 | D27: =C27*$C$25*$C$16 -> 0 | F27: =SUM(G27:AD27) -> 0 | AE27: =F27-SUM(G27:AD27) -> 0
A28: Subactividad 1.2.3 | D28: =C28*$C$25*$C$16 -> 0 | F28: =SUM(G28:AD28) -> 0 | AE28: =F28-SUM(G28:AD28) -> 0
A29: Subactividad 1.2.4 | D29: =C29*$C$25*$C$16 -> 0 | F29: =SUM(G29:AD29) -> 0 | AE29: =F29-SUM(G29:AD29) -> 0
A30: Subactividad 1.2.5 | D30: =C30*$C$25*$C$16 -> 0 | F30: =SUM(G30:AD30) -> 0 | AE30: =F30-SUM(G30:AD30) -> 0
A31: Subactividad 1.2.6 | D31: =C31*$C$25*$C$16 -> 0 | F31: =SUM(G31:AD31) -> 0 | AE31: =F31-SUM(G31:AD31) -> 0
A32: Actividad 1.3 | F32: =SUM(F33:F37) -> 0 | G32: =SUM(G33:G37) -> 0 | H32: =SUM(H33:H37) -> 0 | I32: =SUM(I33:I37) -> 0 | J32: =SUM(J33:J37) -> 0 | K32: =SUM(K33:K37) -> 0 | L32: =SUM(L33:L37) -> 0 | M32: =SUM(M33:M37) -> 0 | ... AD32: =SUM(AD33:AD37) -> 0 | AE32: =F32-SUM(G32:AD32) -> 0
A33: Subactividad 1.3.1 | D33: =C33*$C$32*$C$16 -> 0 | F33: =SUM(G33:AD33) -> 0 | AE33: =F33-SUM(G33:AD33) -> 0
A34: Subactividad 1.3.2 | D34: =C34*$C$32*$C$16 -> 0 | F34: =SUM(G34:AD34) -> 0 | AE34: =F34-SUM(G34:AD34) -> 0
A35: Subactividad 1.3.3 | D35: =C35*$C$32*$C$16 -> 0 | F35: =SUM(G35:AD35) -> 0 | AE35: =F35-SUM(G35:AD35) -> 0
A36: Subactividad 1.3.4 | D36: =C36*$C$32*$C$16 -> 0 | F36: =SUM(G36:AD36) -> 0 | AE36: =F36-SUM(G36:AD36) -> 0
A37: Subactividad 1.3.5 | D37: =C37*$C$32*$C$16 -> 0 | F37: =SUM(G37:AD37) -> 0 | AE37: =F37-SUM(G37:AD37) -> 0
A38: Actividad 1.4 | F38: =SUM(F39:F43) -> 0 | G38: =SUM(G39:G43) -> 0 | H38: =SUM(H39:H43) -> 0 | I38: =SUM(I39:I43) -> 0 | J38: =SUM(J39:J43) -> 0 | K38: =SUM(K39:K43) -> 0 | L38: =SUM(L39:L43) -> 0 | M38: =SUM(M39:M43) -> 0 | ... AD38: =SUM(AD39:AD43) -> 0 | AE38: =F38-SUM(G38:AD38) -> 0
A39: Subactividad 1.4.1 | D39: =C39*$C$38*$C$16 -> 0 | F39: =SUM(G39:AD39) -> 0 | AE39: =F39-SUM(G39:AD39) -> 0
A40: Subactividad 1.4.2 | D40: =C40*$C$38*$C$16 -> 0 | F40: =SUM(G40:AD40) -> 0 | AE40: =F40-SUM(G40:AD40) -> 0
A41: Subactividad 1.4.3 | D41: =C41*$C$38*$C$16 -> 0 | F41: =SUM(G41:AD41) -> 0 | AE41: =F41-SUM(G41:AD41) -> 0
A42: Subactividad 1.4.4 | D42: =C42*$C$38*$C$16 -> 0 | F42: =SUM(G42:AD42) -> 0 | AE42: =F42-SUM(G42:AD42) -> 0
A43: Subactividad 1.4.5 | D43: =C43*$C$38*$C$16 -> 0 | F43: =SUM(G43:AD43) -> 0 | AE43: =F43-SUM(G43:AD43) -> 0
...

Sheet PE PSP
F1: =Instructivo!F1 -> Sistema de Gestión Integral (SGI) Instructivo - Componente Financiero EP Código: F-PGC-21. Versión: 05 | M1: Instructivo
F2: Hoja "Prestación de servicios personales" | M2: Presupuesto - modalidad contrato - prestación de servicios personales
A4: MODALIDAD DE CONTRATACIÓN: | C4: Directa | R4: =C4 -> Directa
A5: OBJETO A CONTRATAR: | C5: Prestar los servicios profesionales para apoyar las actividades técnicas y administrativas, requeridas en el desarrollo del grupo Gestión Integral del Recurso Hídrico en la Subdirección de Gestión Ambiental | R5: =C5 -> Prestar los servicios profesionales para apoyar las actividades técnicas y administrativas, requeridas en el desarrollo del grupo Gestión Integral del Recurso Hídrico en la Subdirección de Gestión Ambiental
A7: CONTRATISTA: | C7: Daniel Alveiro Rodríguez Vanegas
A8: NOMBRE SUPERVISOR O INTERVENTOR: | C8: Juan Fernando Gaviria Suárez
A9: DURACIÓN Y/O PLAZO DEL CONTRATO (MESES): | C9: 4 meses y 15 días
A10: PERIODO DE PROGRAMACIÓN Y SEGUIMIENTO: | C10: Mensual
A12: PROGRAMACIÓN FÍSICA
B13: Descripción | C13: % de importancia | D13: Unidad de medida | E13: Cantidad Programada | F13: Distribución física
F14: Período 1 | G14: Período 2 | H14: Período 3 | I14: Período 4 | J14: Período 5 | K14: Período 6 | L14: Período 7 | M14: Período 8 | N14: Período 9 | O14: Período 10 | P14: Período 11 | Q14: Período 12
A15: META/ PRODUCTO A OBTENER: | B15: =(C5) -> Prestar los servicios profesionales para apoyar las actividades técnicas y administrativas, requeridas en el desarrollo del grupo Gestión Integral del Recurso Hídrico en la Subdirección de Gestión Ambiental | C15: 1 | D15: Meses | F15: Agosto | G15: Septiembre | H15: Octubre | I15: Noviembre | J15: Diciembre | R15: =E15-SUM(F15:Q15) -> 0
A16: Alcance 1 | B16: =(C5) -> Prestar los servicios profesionales para apoyar las actividades técnicas y administrativas, requeridas en el desarrollo del grupo Gestión Integral del Recurso Hídrico en la Subdirección de Gestión Ambiental | C16: 1 | D16: Meses | E16: 4.5 | F16: 1 | G16: 1 | H16: 1 | I16: 1 | J16: 0.5 | R16: =E16-SUM(F16:Q16) -> 0
A17: TOTAL | F17: =IFERROR(F16/$E$16,0) -> 0.22222222 | G17: =IFERROR(G16/$E$16,0) -> 0.22222222 | H17: =IFERROR(H16/$E$16,0) -> 0.22222222 | I17: =IFERROR(I16/$E$16,0) -> 0.22222222 | J17: =IFERROR(J16/$E$16,0) -> 0.11111111 | K17: =IFERROR(K16/$E$16,0) -> 0 | L17: =IFERROR(L16/$E$16,0) -> 0 | M17: =IFERROR(M16/$E$16,0) -> 0 | ... Q17: =IFERROR(Q16/$E$16,0) -> 0
A18: ACUMULADO | F18: =F17 -> 0.22222222 | G18: =G17+F18 -> 0.44444444 | H18: =H17+G18 -> 0.66666667 | I18: =I17+H18 -> 0.88888889 | J18: =J17+I18 -> 1 | K18: =K17+J18 -> 1 | L18: =L17+K18 -> 1 | M18: =M17+L18 -> 1 | N18: =N17+M18 -> 1 | ... Q18: =Q17+P18 -> 1
E20: La programación financiera debe ser coherente con la programación física, todo pago que no sea soportado en la ejecución física efectiva y certificada es un anticipo o pago anticipado, de acuerdo al caso; para tener más información sobre anticipos y pagos anticipados remitirse a la hoja | Q20: Información anticipos
E21: PROGRAMACIÓN FINANCIERA INICIAL
F22: Distribución de recursos del valor aportado por Corantioquia
E23: Valor del contrato | F23: Período 1 | G23: Período 2 | H23: Período 3 | I23: Período 4 | J23: Período 5 | K23: Período 6 | L23: Período 7 | M23: Período 8 | N23: Período 9 | O23: Período 10 | P23: Período 11 | Q23: Período 12
E24: =+'Ppto PSP'!F13 -> 36154138 | F24: =$E$24*F25 -> 8034253 | G24: =$E$24*G25 -> 8034253 | H24: =$E$24*H25 -> 8034253 | I24: =$E$24*I25 -> 8034253 | J24: =$E$24*J25 -> 4017126.5 | K24: =$E$24*K25 -> 0 | L24: =$E$24*L25 -> 0 | M24: =$E$24*M25 -> 0 | ... Q24: =$E$24*Q25 -> 0
E25: Porcentaje (%) | F25: =F17 -> 0.22222222 | G25: =G17 -> 0.22222222 | H25: =H17 -> 0.22222222 | I25: =I17 -> 0.22222222 | J25: =J17 -> 0.11111111 | K25: =K17 -> 0 | L25: =L17 -> 0 | M25: =M17 -> 0 | ... Q25: =Q17 -> 0
E26: Porcentaje Acumulado (%) | F26: =+F25 -> 0.22222222 | G26: =+F26+G25 -> 0.44444444 | H26: =+G26+H25 -> 0.66666667 | I26: =+H26+I25 -> 0.88888889 | J26: =+I26+J25 -> 1 | K26: =+J26+K25 -> 1 | L26: =+K26+L25 -> 1 | M26: =+L26+M25 -> 1 | N26: =+M26+N25 -> 1 | ... Q26: =+P26+Q25 -> 1
C27: Diligenciar esta información solo en caso de solicitud de Otrosí de adición de recursos o prórroga, o cuando el Otrosí de modificación implique cambios en el presupuesto. | E27: Valores ya ejecutados | F27: 0 | G27: 0 | H27: 0 | I27: 0 | J27: 0 | K27: 0 | L27: 0 | M27: 0 | N27: 0 | O27: 0 | P27: 0 | Q27: 0
E28: Porcentaje (%) PGAR | F28: =IFERROR(F27/$E$24,0) -> 0 | G28: =IFERROR(G27/$E$24,0) -> 0 | H28: =IFERROR(H27/$E$24,0) -> 0 | I28: =IFERROR(I27/$E$24,0) -> 0 | J28: =IFERROR(J27/$E$24,0) -> 0 | K28: =IFERROR(K27/$E$24,0) -> 0 | L28: =IFERROR(L27/$E$24,0) -> 0 | M28: =IFERROR(M27/$E$24,0) -> 0 | ... Q28: =IFERROR(Q27/$E$24,0) -> 0
E29: Porcentaje Acumulado (%) PGAR | F29: =F28 -> 0 | G29: =F29+G28 -> 0 | H29: =G29+H28 -> 0 | I29: =H29+I28 -> 0 | J29: =I29+J28 -> 0 | K29: =J29+K28 -> 0 | L29: =K29+L28 -> 0 | M29: =L29+M28 -> 0 | N29: =M29+N28 -> 0 | ... Q29: =P29+Q28 -> 0
C31: PROGRAMACIÓN FINANCIERA EN CASO DE ADICIÓN DE RECURSOS O PRÓRROGA
C32: Valor de la adición | D32: Valor total del contrato (incluida la adición) | E32: Distribución de recursos del valor aportado por Corantioquia
F33: Período 1 | G33: Período 2 | H33: Período 3 | I33: Período 4 | J33: Período 5 | K33: Período 6 | L33: Período 7 | M33: Período 8 | N33: Período 9 | O33: Período 10 | P33: Período 11 | Q33: Período 12 | R33: Total Valores
C34: 0 | D34: =E24+C34 -> 36154138 | E34: Valores ya ejecutados | F34: =F27 -> 0 | G34: =G27 -> 0 | H34: =H27 -> 0 | I34: =I27 -> 0 | J34: =J27 -> 0 | K34: =K27 -> 0 | L34: =L27 -> 0 | M34: =M27 -> 0 | ... Q34: =Q27 -> 0 | R34: =SUM(F34:Q34) -> 0
E35: Porcentaje (%) | F35: =IFERROR(F34/$D$34,0) -> 0 | G35: =IFERROR(G34/$D$34,0) -> 0 | H35: =IFERROR(H34/$D$34,0) -> 0 | I35: =IFERROR(I34/$D$34,0) -> 0 | J35: =IFERROR(J34/$D$34,0) -> 0 | K35: =IFERROR(K34/$D$34,0) -> 0 | L35: =IFERROR(L34/$D$34,0) -> 0 | M35: =IFERROR(M34/$D$34,0) -> 0 | ... Q35: =IFERROR(Q34/$D$34,0) -> 0
E36: Porcentaje Acumulado (%) | F36: =+F35 -> 0 | G36: =+F36+G35 -> 0 | H36: =+G36+H35 -> 0 | I36: =+H36+I35 -> 0 | J36: =+I36+J35 -> 0 | K36: =+J36+K35 -> 0 | L36: =+K36+L35 -> 0 | M36: =+L36+M35 -> 0 | N36: =+M36+N35 -> 0 | ... Q36: =+P36+Q35 -> 0
E37: Valores por ejecutar | F37: 0 | G37: 0 | H37: 0 | I37: 0 | J37: 0 | K37: 0 | L37: 0 | M37: 0 | N37: 0 | O37: 0 | P37: 0 | Q37: 0 | R37: =SUM(F37:Q37) -> 0
E38: Porcentaje (%) | F38: =IFERROR(F37/$D$34,0) -> 0 | G38: =IFERROR(G37/$D$34,0) -> 0 | H38: =IFERROR(H37/$D$34,0) -> 0 | I38: =IFERROR(I37/$D$34,0) -> 0 | J38: =IFERROR(J37/$D$34,0) -> 0 | K38: =IFERROR(K37/$D$34,0) -> 0 | L38: =IFERROR(L37/$D$34,0) -> 0 | M38: =IFERROR(M37/$D$34,0) -> 0 | ... Q38: =IFERROR(Q37/$D$34,0) -> 0
E39: Porcentaje Acumulado (%) | F39: =+F38 -> 0 | G39: =+F39+G38 -> 0 | H39: =+G39+H38 -> 0 | I39: =+H39+I38 -> 0 | J39: =+I39+J38 -> 0 | K39: =+J39+K38 -> 0 | L39: =+K39+L38 -> 0 | M39: =+L39+M38 -> 0 | N39: =+M39+N38 -> 0 | ... Q39: =+P39+Q38 -> 0
C40: PORCENTAJE ACUMULADO (%) TOTAL | F40: =F36+F39 -> 0 | G40: =G36+G39 -> 0 | H40: =H36+H39 -> 0 | I40: =I36+I39 -> 0 | J40: =J36+J39 -> 0 | K40: =K36+K39 -> 0 | L40: =L36+L39 -> 0 | M40: =M36+M39 -> 0 | ... Q40: =Q36+Q39 -> 0 | R40: =IFERROR((R34+R37)/D34,0) -> 0
B48: GERENTE PROGRAMA | G48: COORDINADOR GIT

Sheet Presupuesto Contrato
F1: =Instructivo!F1 -> Sistema de Gestión Integral (SGI) Instructivo - Componente Financiero EP Código: F-PGC-21. Versión: 05 | M1: Instructivo
F2: Hoja "Modalidad y presupuesto del contrato"
A5: MODALIDAD DE CONTRATACIÓN: | C5: ='Plan Ejecución'!C4:AD4 -> 0
A6: OBJETO A CONTRATAR: | C6: ='Plan Ejecución'!C5:AD5 -> 0
A8: COSTOS DE PERSONAL | I8: Recursos por alcance, actividad o subactividad
A9: Ítem | B9: Cantidad personal | C9: (%) Dedicación | D9: Unidad de medida | E9: Cantidad | F9: Valor unitario base | G9: Valor total | H9: (%) PP | I9: Alcance 1 | J9: Alcance 2 | K9: Alcance 3 | L9: Alcance 4 | M9: Alcance 5 | N9: Alcance 6
A10: Mano de Obra Calificada
F11: =IFERROR(VLOOKUP(A11,Honorarios!$A$8:$C$14,2,FALSE()),"") | G11: =IFERROR(B11*C11*E11*F11,0) -> 0 | H11: =IFERROR(G11/$G$80,0) -> 0 | O11: =G11-SUM(I11:N11) -> 0
F12: =IFERROR(VLOOKUP(A12,Honorarios!$A$8:$C$14,2,FALSE()),"") | G12: =IFERROR(B12*C12*E12*F12,0) -> 0 | H12: =IFERROR(G12/$G$80,0) -> 0 | O12: =G12-SUM(I12:N12) -> 0
F13: =IFERROR(VLOOKUP(A13,Honorarios!$A$8:$C$14,2,FALSE()),"") | G13: =IFERROR(B13*C13*E13*F13,0) -> 0 | H13: =IFERROR(G13/$G$80,0) -> 0 | O13: =G13-SUM(I13:N13) -> 0
F14: =IFERROR(VLOOKUP(A14,Honorarios!$A$8:$C$14,2,FALSE()),"") | G14: =IFERROR(B14*C14*E14*F14,0) -> 0 | H14: =IFERROR(G14/$G$80,0) -> 0 | O14: =G14-SUM(I14:N14) -> 0
F15: =IFERROR(VLOOKUP(A15,Honorarios!$A$8:$C$14,2,FALSE()),"") | G15: =IFERROR(B15*C15*E15*F15,0) -> 0 | H15: =IFERROR(G15/$G$80,0) -> 0 | O15: =G15-SUM(I15:N15) -> 0
F16: =IFERROR(VLOOKUP(A16,Honorarios!$A$8:$C$14,2,FALSE()),"") | G16: =IFERROR(B16*C16*E16*F16*#REF!,0) -> 0 | H16: =IFERROR(G16/$G$80,0) -> 0 | O16: =G16-SUM(I16:N16) -> 0
F17: =IFERROR(VLOOKUP(A17,Honorarios!$A$8:$C$14,2,FALSE()),"") | G17: =IFERROR(B17*C17*E17*F17*#REF!,0) -> 0 | H17: =IFERROR(G17/$G$80,0) -> 0 | O17: =G17-SUM(I17:N17) -> 0
F18: =IFERROR(VLOOKUP(A18,Honorarios!$A$8:$C$14,2,FALSE()),"") | G18: =IFERROR(B18*C18*E18*F18*#REF!,0) -> 0 | H18: =IFERROR(G18/$G$80,0) -> 0 | O18: =G18-SUM(I18:N18) -> 0
F19: =IFERROR(VLOOKUP(A19,Honorarios!$A$8:$C$14,2,FALSE()),"") | G19: =IFERROR(B19*C19*E19*F19*#REF!,0) -> 0 | H19: =IFERROR(G19/$G$80,0) -> 0 | O19: =G19-SUM(I19:N19) -> 0
F20: =IFERROR(VLOOKUP(A20,Honorarios!$A$8:$C$14,2,FALSE()),"") | G20: =IFERROR(B20*C20*E20*F20*#REF!,0) -> 0 | H20: =IFERROR(G20/$G$80,0) -> 0 | O20: =G20-SUM(I20:N20) -> 0
F21: =IFERROR(VLOOKUP(A21,Honorarios!$A$8:$C$14,2,FALSE()),"") | G21: =IFERROR(B21*C21*E21*F21*#REF!,0) -> 0 | H21: =IFERROR(G21/$G$80,0) -> 0 | O21: =G21-SUM(I21:N21) -> 0
F22: =IFERROR(VLOOKUP(A22,Honorarios!$A$8:$C$14,2,FALSE()),"") | G22: =IFERROR(B22*C22*E22*F22*#REF!,0) -> 0 | H22: =IFERROR(G22/$G$80,0) -> 0 | O22: =G22-SUM(I22:N22) -> 0
F23: =IFERROR(VLOOKUP(A23,Honorarios!$A$8:$C$14,2,FALSE()),"") | G23: =IFERROR(B23*C23*E23*F23*#REF!,0) -> 0 | H23: =IFERROR(G23/$G$80,0) -> 0 | O23: =G23-SUM(I23:N23) -> 0
F24: =IFERROR(VLOOKUP(A24,Honorarios!$A$8:$C$14,2,FALSE()),"") | G24: =IFERROR(B24*C24*E24*F24*#REF!,0) -> 0 | H24: =IFERROR(G24/$G$80,0) -> 0 | O24: =G24-SUM(I24:N24) -> 0
F25: =IFERROR(VLOOKUP(A25,Honorarios!$A$8:$C$14,2,FALSE()),"") | G25: =IFERROR(B25*C25*E25*F25*#REF!,0) -> 0 | H25: =IFERROR(G25/$G$80,0) -> 0 | O25: =G25-SUM(I25:N25) -> 0
F26: =IFERROR(VLOOKUP(A26,Honorarios!$A$8:$C$14,2,FALSE()),"") | G26: =IFERROR(B26*C26*E26*F26*#REF!,0) -> 0 | H26: =IFERROR(G26/$G$80,0) -> 0 | O26: =G26-SUM(I26:N26) -> 0
F27: =IFERROR(VLOOKUP(A27,Honorarios!$A$8:$C$14,2,FALSE()),"") | G27: =IFERROR(B27*C27*E27*F27*#REF!,0) -> 0 | H27: =IFERROR(G27/$G$80,0) -> 0 | O27: =G27-SUM(I27:N27) -> 0
... F51: =IFERROR(VLOOKUP(A51,Honorarios!$A$8:$C$14,2,FALSE()),"") | G51: =IFERROR(B51*C51*E51*F51*#REF!,0) -> 0 | H51: =IFERROR(G51/$G$80,0) -> 0 | O51: =G51-SUM(I51:N51) -> 0
A52: Subtotal Mano de Obra calificada | G52: =SUM(G11:G51) -> 0 | H52: =SUM(H11:H51) -> 0
A53: Mano de Obra No Calificada
G54: =B54*C54*E54*F54 -> 0 | H54: =IFERROR(G54/$G$80,0) -> 0 | O54: =G54-SUM(I54:N54) -> 0
G55: =B55*C55*E55*F55 -> 0 | H55: =IFERROR(G55/$G$80,0) -> 0 | O55: =G55-SUM(I55:N55) -> 0
G56: =B56*C56*E56*F56 -> 0 | H56: =IFERROR(G56/$G$80,0) -> 0 | O56: =G56-SUM(I56:N56) -> 0
G57: =B57*C57*E57*F57 -> 0 | H57: =IFERROR(G57/$G$80,0) -> 0 | O57: =G57-SUM(I57:N57) -> 0
G58: =B58*C58*E58*F58 -> 0 | H58: =IFERROR(G58/$G$80,0) -> 0 | O58: =G58-SUM(I58:N58) -> 0
G59: =B59*C59*E59*F59 -> 0 | H59: =IFERROR(G59/$G$80,0) -> 0 | O59: =G59-SUM(I59:N59) -> 0
G60: =B60*C60*E60*F60 -> 0 | H60: =IFERROR(G60/$G$80,0) -> 0 | O60: =G60-SUM(I60:N60) -> 0
G61: =B61*C61*E61*F61 -> 0 | H61: =IFERROR(G61/$G$80,0) -> 0 | O61: =G61-SUM(I61:N61) -> 0
G62: =B62*C62*E62*F62 -> 0 | H62: =IFERROR(G62/$G$80,0) -> 0 | O62: =G62-SUM(I62:N62) -> 0
G63: =B63*C63*E63*F63 -> 0 | H63: =IFERROR(G63/$G$80,0) -> 0 | O63: =G63-SUM(I63:N63) -> 0
G64: =B64*C64*E64*F64 -> 0 | H64: =IFERROR(G64/$G$80,0) -> 0 | O64: =G64-SUM(I64:N64) -> 0
G65: =B65*C65*E65*F65 -> 0 | H65: =IFERROR(G65/$G$80,0) -> 0 | O65: =G65-SUM(I65:N65) -> 0
... G78: =B78*C78*E78*F78 -> 0 | H78: =IFERROR(G78/$G$80,0) -> 0 | O78: =G78-SUM(I78:N78) -> 0
...

Sheet Ppto PSP
F1: =Instructivo!F1 -> Sistema de Gestión Integral (SGI) Instructivo - Componente Financiero EP Código: F-PGC-21. Versión: 05 | M1: Instructivo
F2: Hoja "Presupuesto - modalidad contrato - prestación de servicios personales" | M2: Plan de ejecución física y de inversiones - prestación de servicios personales
A5: MODALIDAD DE CONTRATACIÓN: | B5: ='PE PSP'!R4 -> Directa
A6: OBJETO A CONTRATAR: | B6: ='PE PSP'!R5 -> Prestar los servicios profesionales para apoyar las actividades técnicas y administrativas, requeridas en el desarrollo del grupo Gestión Integral del Recurso Hídrico en la Subdirección de Gestión Ambiental
A8: Ítem | B8: Unidad de medida | C8: Cantidad | D8: Valor unitario base | E8: Factor prestacional | F8: Valor total
A9: Profesional especializado con experiencia | B9: Mes | C9: 4.5 | D9: =IFERROR(VLOOKUP(A9,Honorarios!$A$8:$C$14,2,FALSE()),"") -> 8034253 | E9: 1 | F9: =IFERROR(C9*D9,0) -> 36154138 | G9: Tabla de honorarios
F10: =IFERROR(C10*D10,0) -> 0
A11: SUBTOTAL | F11: =F9+F10 -> 36154138
A12: IVA | F12: 0 | G12: Solo aplica en caso que la persona natural sea responsable de IVA
A13: TOTAL | F13: =F11+F12 -> 36154138

Sheet Presupuesto Convenio
F1: =Instructivo!F1 -> Sistema de Gestión Integral (SGI) Instructivo - Componente Financiero EP Código: F-PGC-21. Versión: 05 | M1: Instructivo
F2: Hoja "Presupuesto - Modalidad convenio"
A5: MODALIDAD DE CONTRATACIÓN: | C5: ='Plan Ejecución'!AE4 -> 0
A6: OBJETO A CONTRATAR: | C6: ='Plan Ejecución'!AE5 -> 0
A8: COSTOS DE PERSONAL | I8: FUENTES DE COFINANCIACIÓN | N8: Recursos en dinero de CORANTIOQUIA por alcance, actividad o subactividad
A9: Ítem | B9: Cantidad personal | C9: (%) Dedicación | D9: Unidad de medida | E9: Cantidad | F9: Valor unitario base | G9: Valor total | H9: (%) PP | I9: CORANTIOQUIA | K9: Entidad 1:
I10: DINERO | J10: ESPECIE | K10: DINERO | L10: ESPECIE | N10: Alcance 1 | O10: Alcance 2 | P10: Alcance 3 | Q10: Alcance 4 | R10: Alcance 5 | S10: Alcance 6
A11: Mano de Obra Calificada
F12: =IFERROR(VLOOKUP(A12,Honorarios!$A$8:$C$14,2,FALSE()),"") | G12: =IFERROR(B12*C12*E12*F12*#REF!,0) -> 0 | H12: =IFERROR(G12/$G$100,0) -> 0 | M12: =IFERROR(G12-SUM(I12:L12),"") -> 0 | T12: =I12-SUM(N12:S12) -> 0
F13: =IFERROR(VLOOKUP(A13,Honorarios!$A$8:$C$14,2,FALSE()),"") | G13: =IFERROR(B13*C13*E13*F13*#REF!,0) -> 0 | H13: =IFERROR(G13/$G$100,0) -> 0 | M13: =IFERROR(G13-SUM(I13:L13),"") -> 0 | T13: =I13-SUM(N13:S13) -> 0
F14: =IFERROR(VLOOKUP(A14,Honorarios!$A$8:$C$14,2,FALSE()),"") | G14: =IFERROR(B14*C14*E14*F14*#REF!,0) -> 0 | H14: =IFERROR(G14/$G$100,0) -> 0 | M14: =IFERROR(G14-SUM(I14:L14),"") -> 0 | T14: =I14-SUM(N14:S14) -> 0
F15: =IFERROR(VLOOKUP(A15,Honorarios!$A$8:$C$14,2,FALSE()),"") | G15: =IFERROR(B15*C15*E15*F15*#REF!,0) -> 0 | H15: =IFERROR(G15/$G$100,0) -> 0 | M15: =IFERROR(G15-SUM(I15:L15),"") -> 0 | T15: =I15-SUM(N15:S15) -> 0
F16: =IFERROR(VLOOKUP(A16,Honorarios!$A$8:$C$14,2,FALSE()),"") | G16: =IFERROR(B16*C16*E16*F16*#REF!,0) -> 0 | H16: =IFERROR(G16/$G$100,0) -> 0 | M16: =IFERROR(G16-SUM(I16:L16),"") -> 0 | T16: =I16-SUM(N16:S16) -> 0
F17: =IFERROR(VLOOKUP(A17,Honorarios!$A$8:$C$14,2,FALSE()),"") | G17: =IFERROR(B17*C17*E17*F17*#REF!,0) -> 0 | H17: =IFERROR(G17/$G$100,0) -> 0 | M17: =IFERROR(G17-SUM(I17:L17),"") -> 0 | T17: =I17-SUM(N17:S17) -> 0
F18: =IFERROR(VLOOKUP(A18,Honorarios!$A$8:$C$14,2,FALSE()),"") | G18: =IFERROR(B18*C18*E18*F18*#REF!,0) -> 0 | H18: =IFERROR(G18/$G$100,0) -> 0 | M18: =IFERROR(G18-SUM(I18:L18),"") -> 0 | T18: =I18-SUM(N18:S18) -> 0
F19: =IFERROR(VLOOKUP(A19,Honorarios!$A$8:$C$14,2,FALSE()),"") | G19: =IFERROR(B19*C19*E19*F19*#REF!,0) -> 0 | H19: =IFERROR(G19/$G$100,0) -> 0 | M19: =IFERROR(G19-SUM(I19:L19),"") -> 0 | T19: =I19-SUM(N19:S19) -> 0
F20: =IFERROR(VLOOKUP(A20,Honorarios!$A$8:$C$14,2,FALSE()),"") | G20: =IFERROR(B20*C20*E20*F20*#REF!,0) -> 0 | H20: =IFERROR(G20/$G$100,0) -> 0 | M20: =IFERROR(G20-SUM(I20:L20),"") -> 0 | T20: =I20-SUM(N20:S20) -> 0
F21: =IFERROR(VLOOKUP(A21,Honorarios!$A$8:$C$14,2,FALSE()),"") | G21: =IFERROR(B21*C21*E21*F21*#REF!,0) -> 0 | H21: =IFERROR(G21/$G$100,0) -> 0 | M21: =IFERROR(G21-SUM(I21:L21),"") -> 0 | T21: =I21-SUM(N21:S21) -> 0
F22: =IFERROR(VLOOKUP(A22,Honorarios!$A$8:$C$14,2,FALSE()),"") | G22: =IFERROR(B22*C22*E22*F22*#REF!,0) -> 0 | H22: =IFERROR(G22/$G$100,0) -> 0 | M22: =IFERROR(G22-SUM(I22:L22),"") -> 0 | T22: =I22-SUM(N22:S22) -> 0
F23: =IFERROR(VLOOKUP(A23,Honorarios!$A$8:$C$14,2,FALSE()),"") | G23: =IFERROR(B23*C23*E23*F23*#REF!,0) -> 0 | H23: =IFERROR(G23/$G$100,0) -> 0 | M23: =IFERROR(G23-SUM(I23:L23),"") -> 0 | T23: =I23-SUM(N23:S23) -> 0
... F60: =IFERROR(VLOOKUP(A60,Honorarios!$A$8:$C$14,2,FALSE()),"") | G60: =IFERROR(B60*C60*E60*F60*#REF!,0) -> 0 | H60: =IFERROR(G60/$G$100,0) -> 0 | M60: =IFERROR(G60-SUM(I60:L60),"") -> 0 | T60: =I60-SUM(N60:S60) -> 0
A61: Subtotal Mano de Obra calificada | G61: =SUM(G12:G60) -> 0 | H61: =SUM(H12:H60) -> 0 | I61: =SUM(I12:I60) -> 0 | J61: =SUM(J12:J60) -> 0 | K61: =SUM(K12:K60) -> 0 | L61: =SUM(L12:L60) -> 0 | M61: =G61-SUM(I61:L61) -> 0
A62: Mano de Obra No Calificada
G63: =IFERROR(B63*C63*E63*F63*#REF!,0) -> 0 | H63: =IFERROR(G63/$G$100,0) -> 0 | M63: =G63-SUM(I63:L63) -> 0 | T63: =I63-SUM(N63:S63) -> 0
G64: =IFERROR(B64*C64*E64*F64*#REF!,0) -> 0 | H64: =IFERROR(G64/$G$100,0) -> 0 | M64: =G64-SUM(I64:L64) -> 0 | T64: =I64-SUM(N64:S64) -> 0
G65: =IFERROR(B65*C65*E65*F65*#REF!,0) -> 0 | H65: =IFERROR(G65/$G$100,0) -> 0 | M65: =G65-SUM(I65:L65) -> 0 | T65: =I65-SUM(N65:S65) -> 0
G66: =IFERROR(B66*C66*E66*F66*#REF!,0) -> 0 | H66: =IFERROR(G66/$G$100,0) -> 0 | M66: =G66-SUM(I66:L66) -> 0 | T66: =I66-SUM(N66:S66) -> 0
G67: =IFERROR(B67*C67*E67*F67*#REF!,0) -> 0 | H67: =IFERROR(G67/$G$100,0) -> 0 | M67: =G67-SUM(I67:L67) -> 0 | T67: =I67-SUM(N67:S67) -> 0
G68: =IFERROR(B68*C68*E68*F68*#REF!,0) -> 0 | H68: =IFERROR(G68/$G$100,0) -> 0 | M68: =G68-SUM(I68:L68) -> 0 | T68: =I68-SUM(N68:S68) -> 0
G69: =IFERROR(B69*C69*E69*F69*#REF!,0) -> 0 | H69: =IFERROR(G69/$G$100,0) -> 0 | M69: =G69-SUM(I69:L69) -> 0 | T69: =I69-SUM(N69:S69) -> 0
G70: =IFERROR(B70*C70*E70*F70*#REF!,0) -> 0 | H70: =IFERROR(G70/$G$100,0) -> 0 | M70: =G70-SUM(I70:L70) -> 0 | T70: =I70-SUM(N70:S70) -> 0
G71: =IFERROR(B71*C71*E71*F71*#REF!,0) -> 0 | H71: =IFERROR(G71/$G$100,0) -> 0 | M71: =G71-SUM(I71:L71) -> 0 | T71: =I71-SUM(N71:S71) -> 0
G72: =IFERROR(B72*C72*E72*F72*#REF!,0) -> 0 | H72: =IFERROR(G72/$G$100,0) -> 0 | M72: =G72-SUM(I72:L72) -> 0 | T72: =I72-SUM(N72:S72) -> 0
G73: =IFERROR(B73*C73*E73*F73*#REF!,0) -> 0 | H73: =IFERROR(G73/$G$100,0) -> 0 | M73: =G73-SUM(I73:L73) -> 0 | T73: =I73-SUM(N73:S73) -> 0
G74: =IFERROR(B74*C74*E74*F74*#REF!,0) -> 0 | H74: =IFERROR(G74/$G$100,0) -> 0 | M74: =G74-SUM(I74:L74) -> 0 | T74: =I74-SUM(N74:S74) -> 0
... G98: =IFERROR(B98*C98*E98*F98*#REF!,0) -> 0 | H98: =IFERROR(G98/$G$100,0) -> 0 | M98: =G98-SUM(I98:L98) -> 0 | T98: =I98-SUM(N98:S98) -> 0
A99: Subtotal Mano de Obra no Calificada | G99: =SUM(G63:G98) -> 0 | H99: =SUM(H63:H98) -> 0 | I99: =SUM(I63:I98) -> 0 | J99: =SUM(J63:J98) -> 0 | K99: =SUM(K63:K98) -> 0 | L99: =SUM(L63:L98) -> 0 | M99: =G99-SUM(I99:L99) -> 0
A100: SUBTOTAL PERSONAL (Mano de Obra Calificada + Mano de Obra no Calificada) | G100: =G61+G99 -> 0 | H100: =H61+H99 -> 0 | I100: =I61+I99 -> 0 | J100: =J61+J99 -> 0 | K100: =K61+K99 -> 0 | L100: =L61+L99 -> 0 | M100: =G100-SUM(I100:L100) -> 0
A102: COSTOS (Diferentes a los costos del personal) | I102: FUENTES DE COFINANCIACIÓN
A103: Ítem | D103: Unidad de medida | E103: Cantidad | F103: Valor unitario | G103: Valor total | H103: (%) PP | I103: CORANTIOQUIA | K103: Entidad 1:
...

Sheet Memoria de cálculo O1
B1: =Instructivo!F1 -> Sistema de Gestión Integral (SGI) Instructivo - Componente Financiero EP Código: F-PGC-21. Versión: 05 | H1: Instructivo
B2: Hoja "Memoria de cálculo - opción 1"
A5: MODALIDAD DE CONTRATACIÓN: | B5: ='Plan Ejecución'!AE4 -> 0
A6: OBJETO A CONTRATAR: | B6: ='Plan Ejecución'!AE5 -> 0
A8: PROCESO/ ALCANCE / ACTIVIDAD:
A9: UNIDAD DE MEDIDA PARA EL PRECIO UNITARIO:
A10: ESPECIFICACIÓN TÉCNICA PARA EL PRECIO UNITARIO:
A12: Ítem | B12: Unidad de medida | C12: Cantidad | D12: Valor unitario | E12: Valor total
E13: =C13*D13 -> 0
E14: =C14*D14 -> 0
E15: =C15*D15 -> 0
E16: =C16*D16 -> 0
E17: =C17*D17 -> 0
E18: =C18*D18 -> 0
E19: =C19*D19 -> 0
E20: =C20*D20 -> 0
E21: =C21*D21 -> 0
E22: =C22*D22 -> 0
E23: =C23*D23 -> 0
E24: =C24*D24 -> 0
... E185: =C185*D185 -> 0
A186: SUBTOTAL (antes de IVA) | E186: =SUM(E13:E185) -> 0
A187: IVA | D187: 0.19 | E187: =E186*19% -> 0 | F187: Info IVA
A188: TOTAL (incluido IVA) | E188: =E186+E187 -> 0

Sheet Memoria de cálculo O2
B1: =Instructivo!F1 -> Sistema de Gestión Integral (SGI) Instructivo - Componente Financiero EP Código: F-PGC-21. Versión: 05 | H1: Instructivo
B2: Hoja "Memoria de cálculo - opción 2"
A5: MODALIDAD DE CONTRATACIÓN: | F5: ='Plan Ejecución'!AE4 -> 0
A6: OBJETO A CONTRATAR: | F6: ='Plan Ejecución'!AE5 -> 0
A8: PROCESO/ ALCANCE / ACTIVIDAD:
A9: UNIDAD DE MEDIDA PARA EL PRECIO UNITARIO:
A10: ESPECIFICACIÓN TÉCNICA PARA EL PRECIO UNITARIO:
A12: DISCRIMINACIÓN DE COSTOS | H12: FUENTES DE COFINANCIACIÓN
H13: CORANTIOQUIA | J13: Entidad 1:
A14: Ítem | B14: Cantidad personal | C14: (%) Dedicación | D14: Unidad de medida | E14: Cantidad | F14: Valor unitario base | G14: Valor total | H14: DINERO | I14: ESPECIE | J14: DINERO | K14: ESPECIE
A15: COSTOS DE PERSONAL
G16: =B16*C16*E16*F16 -> 0
G17: =B17*C17*E17*F17 -> 0
G18: =B18*C18*E18*F18 -> 0
G19: =B19*C19*E19*F19 -> 0
G20: =B20*C20*E20*F20 -> 0
G21: =B21*C21*E21*F21 -> 0
G22: =B22*C22*E22*F22 -> 0
G23: =B23*C23*E23*F23 -> 0
G24: =B24*C24*E24*F24 -> 0
G25: =B25*C25*E25*F25 -> 0
G26: =B26*C26*E26*F26 -> 0
G27: =B27*C27*E27*F27 -> 0
... G40: =B40*C40*E40*F40 -> 0
A41: SUBTOTAL COSTOS DE PERSONAL | G41: =SUM(G16:G40) -> 0 | H41: =SUM(H16:H40) -> 0 | I41: =SUM(I16:I40) -> 0 | J41: =SUM(J16:J40) -> 0 | K41: =SUM(K16:K40) -> 0
A42: Ítem | D42: Unidad de medida | E42: Cantidad | F42: Valor unitario | G42: Valor total oferente | H42: DINERO | I42: ESPECIE | J42: DINERO | K42: ESPECIE
A43: COSTOS DE MATERIALES Y SUMINISTROS
G44: =E44*F44 -> 0
G45: =E45*F45 -> 0
G46: =E46*F46 -> 0
G47: =E47*F47 -> 0
G48: =E48*F48 -> 0
G49: =E49*F49 -> 0
G50: =E50*F50 -> 0
G51: =E51*F51 -> 0
G52: =E52*F52 -> 0
G53: =E53*F53 -> 0
G54: =E54*F54 -> 0
G55: =E55*F55 -> 0
... G119: =E119*F119 -> 0
...

Sheet Memoria de cálculo O3
E1: =Instructivo!F1 -> Sistema de Gestión Integral (SGI) Instructivo - Componente Financiero EP Código: F-PGC-21. Versión: 05 | J1: Instructivo
E2: Hoja "Memoria de cálculo - opción 3"
A5: MODALIDAD DE CONTRATACIÓN: | F5: ='Plan Ejecución'!AE4 -> 0
A6: OBJETO A CONTRATAR: | F6: ='Plan Ejecución'!AE5 -> 0
A8: PROCESO/ ALCANCE / ACTIVIDAD:
A9: UNIDAD DE MEDIDA PARA EL PRECIO UNITARIO:
A10: ESPECIFICACIÓN TÉCNICA PARA EL PRECIO UNITARIO:
A12: DISCRIMINACIÓN DE COSTOS | H12: FUENTES DE COFINANCIACIÓN
H13: CORANTIOQUIA | J13: Entidad 1:
A14: ACTIVIDAD 1
A15: Ítem | B15: Cantidad personal | C15: (%) Dedicación | D15: Unidad de medida | E15: Cantidad | F15: Valor unitario base | G15: Valor total | H15: DINERO | I15: ESPECIE | J15: DINERO | K15: ESPECIE
A16: COSTOS DE PERSONAL
G17: =B17*C17*E17*F17 -> 0
G18: =B18*C18*E18*F18 -> 0
G19: =B19*C19*E19*F19 -> 0
G20: =B20*C20*E20*F20 -> 0
G21: =B21*C21*E21*F21 -> 0
G22: =B22*C22*E22*F22 -> 0
G23: =B23*C23*E23*F23 -> 0
G24: =B24*C24*E24*F24 -> 0
G25: =B25*C25*E25*F25 -> 0
G26: =B26*C26*E26*F26 -> 0
G27: =B27*C27*E27*F27 -> 0
A28: SUBTOTAL COSTOS DE PERSONAL | G28: =SUM(G17:G27) -> 0 | H28: =SUM(H17:H27) -> 0 | I28: =SUM(I17:I27) -> 0 | J28: =SUM(J17:J27) -> 0 | K28: =SUM(K17:K27) -> 0
A29: Ítem | D29: Unidad de medida | E29: Cantidad | F29: Valor unitario | G29: Valor total | H29: DINERO | I29: ESPECIE | J29: DINERO | K29: ESPECIE
A30: OTROS COSTOS (Diferentes a los costos de personal)
G31: =E31*F31 -> 0
G32: =E32*F32 -> 0
G33: =E33*F33 -> 0
G34: =E34*F34 -> 0
G35: =E35*F35 -> 0
G36: =E36*F36 -> 0
G37: =E37*F37 -> 0
G38: =E38*F38 -> 0
G39: =E39*F39 -> 0
G40: =E40*F40 -> 0
G41: =E41*F41 -> 0
G42: =E42*F42 -> 0
... G44: =E44*F44 -> 0
A45: SUBTOTAL OTROS COSTOS | G45: =SUM(G31:G44) -> 0 | H45: =SUM(H31:H44) -> 0 | I45: =SUM(I31:I44) -> 0 | J45: =SUM(J31:J44) -> 0 | K45: =SUM(K31:K44) -> 0
...

Sheet Estudio de mercado
E1: =Instructivo!F1 -> Sistema de Gestión Integral (SGI) Instructivo - Componente Financiero EP Código: F-PGC-21. Versión: 05 | J1: Instructivo
E2: Hoja "Estudio de mercado"
A5: MODALIDAD DE CONTRATACIÓN: | D5: ='Plan Ejecución'!AE4 -> 0
A6: OBJETO A CONTRATAR: | D6: ='Plan Ejecución'!AE5 -> 0
D8: 1 | E8: 2 | F8: 3 | G8: 4 | H8: 5 | I8: 6 | J8: 7 | K8: 8 | L8: 9 | M8: 10 | N8: 11 | O8: 12 | P8: 13 | Q8: 14 | R8: 15 | S8: 16 | T8: 17
A9: NÚMERO DE RADICADO:
A10: PROVEEDOR:
A11: Ítem | B11: Unidad de medida | C11: Cantidad | D11: Valor unitario antes de IVA | E11: Valor unitario antes de IVA | F11: Valor unitario antes de IVA | G11: Valor unitario antes de IVA | H11: Valor unitario antes de IVA | I11: Valor unitario antes de IVA | J11: Valor unitario antes de IVA | K11: Valor unitario antes de IVA | L11: Valor unitario antes de IVA | M11: Valor unitario antes de IVA | N11: Valor unitario antes de IVA | O11: Valor unitario antes de IVA | P11: Valor unitario antes de IVA | Q11: Valor unitario antes de IVA | R11: Valor unitario antes de IVA | S11: Valor unitario antes de IVA | T11: Valor unitario antes de IVA | U11: PROMEDIO Valor unitario antes de IVA | W11: MEDIANA Valor unitario antes de IVA
U12: =IFERROR(AVERAGEIF(D12:T12,">0",D12:T12),"") | W12: =IFERROR(MEDIAN(D12:J12),"")
U13: =IFERROR(AVERAGEIF(D13:T13,">0",D13:T13),"") | W13: =IFERROR(MEDIAN(D13:J13),"")
U14: =IFERROR(AVERAGEIF(D14:T14,">0",D14:T14),"") | W14: =IFERROR(MEDIAN(D14:J14),"")
U15: =IFERROR(AVERAGEIF(D15:T15,">0",D15:T15),"") | W15: =IFERROR(MEDIAN(D15:J15),"")
U16: =IFERROR(AVERAGEIF(D16:T16,">0",D16:T16),"") | W16: =IFERROR(MEDIAN(D16:J16),"")
U17: =IFERROR(AVERAGEIF(D17:T17,">0",D17:T17),"") | W17: =IFERROR(MEDIAN(D17:J17),"")
U18: =IFERROR(AVERAGEIF(D18:T18,">0",D18:T18),"") | W18: =IFERROR(MEDIAN(D18:J18),"")
U19: =IFERROR(AVERAGEIF(D19:T19,">0",D19:T19),"") | W19: =IFERROR(MEDIAN(D19:J19),"")
U20: =IFERROR(AVERAGEIF(D20:T20,">0",D20:T20),"") | W20: =IFERROR(MEDIAN(D20:J20),"")
U21: =IFERROR(AVERAGEIF(D21:T21,">0",D21:T21),"") | W21: =IFERROR(MEDIAN(D21:J21),"")
U22: =IFERROR(AVERAGEIF(D22:T22,">0",D22:T22),"") | W22: =IFERROR(MEDIAN(D22:J22),"")
U23: =IFERROR(AVERAGEIF(D23:T23,">0",D23:T23),"") | W23: =IFERROR(MEDIAN(D23:J23),"")
... U354: =IFERROR(AVERAGEIF(D354:T354,">0",D354:T354),"") | W354: =IFERROR(MEDIAN(D354:J354),"")
A356: NOTA: A la hora de solicitar la cotización se deberá considerar que la misma esté expresada en los términos y unidades del presupuesto, igualmente, que en la medida de lo posible se encuentre en pesos colombianos, en caso de usar otra moneda explicitar la tasa de cambio utilizada, y la fecha y fuente de consulta de la misma.

Sheet Gastos de adm
E1: =Instructivo!F1 -> Sistema de Gestión Integral (SGI) Instructivo - Componente Financiero EP Código: F-PGC-21. Versión: 05 | J1: Instructivo
E2: Hoja "Determinación de gastos de administración" | J2: Impuestos y garantías
A5: MODALIDAD DE CONTRATACIÓN: | B5: ='Plan Ejecución'!AE4 -> 0
A6: OBJETO A CONTRATAR: | B6: ='Plan Ejecución'!AE5 -> 0
A8: COSTOS DIRECTOS EN DINERO NO EJECUTOR | D8: MESES
A10: GASTOS DE ADMINISTRACIÓN
A11: Ítem | B11: Unidad de medida | C11: Cantidad | D11: Valor unitario | E11: Valor total | F11: (%) PP
E12: =C12*D12 -> 0 | F12: =IFERROR(E12/$B$8,0) -> 0
E13: =C13*D13 -> 0 | F13: =IFERROR(E13/$B$8,0) -> 0
E14: =C14*D14 -> 0 | F14: =IFERROR(E14/$B$8,0) -> 0
E15: =C15*D15 -> 0 | F15: =IFERROR(E15/$B$8,0) -> 0
E16: =C16*D16 -> 0 | F16: =IFERROR(E16/$B$8,0) -> 0
E17: =C17*D17 -> 0 | F17: =IFERROR(E17/$B$8,0) -> 0
E18: =C18*D18 -> 0 | F18: =IFERROR(E18/$B$8,0) -> 0
E19: =C19*D19 -> 0 | F19: =IFERROR(E19/$B$8,0) -> 0
E20: =C20*D20 -> 0 | F20: =IFERROR(E20/$B$8,0) -> 0
E21: =C21*D21 -> 0 | F21: =IFERROR(E21/$B$8,0) -> 0
E22: =C22*D22 -> 0 | F22: =IFERROR(E22/$B$8,0) -> 0
E23: =C23*D23 -> 0 | F23: =IFERROR(E23/$B$8,0) -> 0
... E59: =C59*D59 -> 0 | F59: =IFERROR(E59/$B$8,0) -> 0
A60: TOTAL GASTOS DE ADMINISTRACIÓN | E60: =SUM(E12:E59) -> 0 | F60: =SUM(F12:F59) -> 0
A62: En caso de convenios, si el conveniante ejecutor va a realizar un contrato derivado, considerar para el análisis:
A63: TOTAL APORTES EN DINERO NO EJECUTOR (antes de AU e IVA) | E63: =B8 -> 0
A64: Administración | D64: =F60 -> 0 | E64: =D64*E63 -> 0
A65: Utilidad | D65: 0 | E65: =E63*D65 -> 0
A66: IVA | D66: 0 | E66: =(E63+E64+E65)*D66 -> 0 | F66: Info IVA
A67: TOTAL (incluido AU e IVA) | E67: =SUM(E63:E66) -> 0
A69: TOTAL Porcentaje de gastos de administración a reconocer por análisis de contrato derivado (Sobre los costos directos en dinero del no ejecutor) | E69: =E64+E65+E66 -> 0 | F69: =IFERROR(E69/E63,0) -> 0

Sheet Bienes relevantes
E1: =Instructivo!F1 -> Sistema de Gestión Integral (SGI) Instructivo - Componente Financiero EP Código: F-PGC-21. Versión: 05 | J1: Instructivo
E2: Hoja "Identificación de bienes nacionales relevantes"
C5: MODALIDAD DE CONTRATACIÓN: | E5: ='Plan Ejecución'!AE4 -> 0
C6: OBJETO A CONTRATAR: | E6: ='Plan Ejecución'!AE5 -> 0
C8: El artículo 2 del Decreto 680 de 2021 adicionó el artículo 2.2.1.2.4.2.9 al Decreto 1082 de 2015, en cuanto a que, en la contratación de servicios, la entidad deberá otorgar el puntaje establecido en el artículo 2 de la Ley 816 de 2003 al proponente que oferte servicios nacionales o servicios extranjeros con trato nacional de acuerdo a la regla de origen aplicable y menciona que: “En los contratos que deban cumplirse en Colombia, la Entidad Estatal definirá de manera razonable y proporcionada los bienes colombianos relevantes teniendo en cuenta: 1. El análisis del sector económico y de los oferentes, y, toda aquella información adicional con la que cuente la Entidad Estatal en la etapa de planeación del Proceso de Contratación; 2. El porcentaje de participación de los bienes en el presupuesto del Proceso de Contratación; y 3. La existencia de los bienes en el Registro de Productores de Bienes Nacionales, en los términos del Decreto 2680 de 2009 o las normas que lo modifiquen, aclaren, adicionen o sustituyan. En aquellos casos en que, de acuerdo con el objeto contractual, no existan bienes colombianos relevantes o no exista oferta nacional de los mismos en el Registro de Productores de Bienes Nacionales, la Entidad Estatal otorgará el puntaje de que trata el inciso primero del artículo 2° de la Ley 816 de 2003 al proponente que vincule el porcentaje mínimo establecido por la Entidad Estatal de empleados o contratistas por prestación de servicios colombianos, que no podrá ser inferior al 40% del total de empleados y contratistas asociados al cumplimiento del contrato. La Entidad Estatal documentará este análisis y dejará constancia en los Documentos del Proceso”
C9: Teniendo en cuenta lo anterior, la Corporación determina la siguiente metodología, considerando la información y herramientas dispuestas para ello por Colombia Compra Eficiente (https://bienesrelevantes.colombiacompra.gov.co/), para identificar los “Bienes Colombianos Relevantes” para cada proceso de selección, que le aplique, aclarando que hay 2 opciones para otorgar puntaje por Estímulo A La Industria Nacional Colombiana, los cuales son, por Bienes Nacionales Relevantes, o por porcentaje de personal colombiano vinculado, y esto dependerá del resultado del siguiente análisis.
C11: 1. El análisis del sector económico y de los oferentes, y, toda aquella información adicional con la que cuente la Entidad Estatal en la etapa de planeación del Proceso de Contratación. Se parte de la identificación de los bienes dentro del presupuesto oficial (o sus memorias de cálculos), para ello el técnico debe diligenciar, el cuadro 1. Lista de bienes. Entendiendo por bien cualquier elemento tangible o material que para el presente proceso se compre o adquiera de manera definitiva, considerar que en todo caso el valor unitario debe de ser antes de IVA, si hay un ítem igual en varias actividades consolidar las cantidades requeridas del mismo para todo el proceso.
C13: CUADRO 1. LISTA DE BIENES
B14: PP | C14: N. | D14: Ítem | G14: Unidad de medida | H14: Cantidad | I14: Valor unitario | K14: Valor total
B15: =IFERROR(K15/$K$265,0) -> 0 | C15: 1 | K15: =H15*I15 -> 0
B16: =IFERROR(K16/$K$265,0) -> 0 | C16: 2 | K16: =H16*I16 -> 0
B17: =IFERROR(K17/$K$265,0) -> 0 | C17: 3 | K17: =H17*I17 -> 0
B18: =IFERROR(K18/$K$265,0) -> 0 | C18: 4 | K18: =H18*I18 -> 0
B19: =IFERROR(K19/$K$265,0) -> 0 | C19: 5 | K19: =H19*I19 -> 0
B20: =IFERROR(K20/$K$265,0) -> 0 | C20: 6 | K20: =H20*I20 -> 0
B21: =IFERROR(K21/$K$265,0) -> 0 | C21: 7 | K21: =H21*I21 -> 0
B22: =IFERROR(K22/$K$265,0) -> 0 | C22: 8 | K22: =H22*I22 -> 0
B23: =IFERROR(K23/$K$265,0) -> 0 | C23: 9 | K23: =H23*I23 -> 0
B24: =IFERROR(K24/$K$265,0) -> 0 | C24: 10 | K24: =H24*I24 -> 0
B25: =IFERROR(K25/$K$265,0) -> 0 | C25: 11 | K25: =H25*I25 -> 0
B26: =IFERROR(K26/$K$265,0) -> 0 | C26: 12 | K26: =H26*I26 -> 0
... B264: =IFERROR(K264/$K$265,0) -> 0 | C264: 250 | K264: =H264*I264 -> 0
C265: VALOR TOTAL DE LOS BIENES | K265: =SUM(K15:K264) -> 0
C267: 2. El porcentaje de participación de los bienes en el presupuesto del Proceso de Contratación En un segundo momento, se determina el porcentaje de participación de los bienes en el presupuesto según la metología dispuesta por Colombia Compra Eficiente (https://bienesrelevantes.colombiacompra.gov.co/), para elllo el cuadro 2. Porcentaje de participación de los bienes, se rellena automáticamente de acuerdo con la información diligenciada en el cuadro 1. Lista de bienes. De acuerdo al porcentaje de participación se identifica si es una un bien relevante.
C269: CUADRO 2. PORCENTAJE DE PARTICIPACIÓN DE LOS BIENES
A270: Bien relevante | B270: Ubicación | C270: N. | D270: Ítem | G270: Unidad de medida | H270: Cantidad | I270: Valor unitario | K270: Valor total | M270: Porcentaje de participación | N270: Porcentaje de participación acumulado | O270: ¿Está dentro del 80% del porcentaje acumulado? | P270: ¿Es un bien relevante?
A271: =P271 | B271: =LARGE($B$15:$B$264,1) -> 0 | C271: =IFERROR(IF(B271=0,"",VLOOKUP(B271,$B$15:$J$264,2,FALSE())),"") | D271: =IFERROR(IF(B271=0,"",VLOOKUP(B271,$B$15:$J$264,3,FALSE())),"") | G271: =IFERROR(IF(B271=0,"",VLOOKUP(B271,$B$15:$J$264,6,FALSE())),"") | H271: =IFERROR(IF(B271=0,"",VLOOKUP(B271,$B$15:$J$264,7,FALSE())),"") | I271: =IF(B271=0,"",VLOOKUP(B271,$B$15:$J$264,8,FALSE())) | K271: =IF(B271=0,"",H271*I271) | L271: =O271 | M271: =IF(B271=0,"",B271) | N271: =IF(B271=0,"",M271) | O271: =IF(B271=0,"",(IF(N271<80%,"Si","No"))) | P271: =IF(B271=0,"",(IF(M271=$M$521,"Si",(IF(M271>$M$521,"Si","No")))))
A272: =P272 | B272: =LARGE($B$15:$B$264,2) -> 0 | C272: =IFERROR(IF(B272=0,"",VLOOKUP(B272,$B$15:$J$264,2,FALSE())),"") | D272: =IFERROR(IF(B272=0,"",VLOOKUP(B272,$B$15:$J$264,3,FALSE())),"") | G272: =IFERROR(IF(B272=0,"",VLOOKUP(B272,$B$15:$J$264,6,FALSE())),"") | H272: =IFERROR(IF(B272=0,"",VLOOKUP(B272,$B$15:$J$264,7,FALSE())),"") | I272: =IF(B272=0,"",VLOOKUP(B272,$B$15:$J$264,8,FALSE())) | K272: =IF(B272=0,"",H272*I272) | L272: =O272 | M272: =IF(B272=0,"",B272) | N272: =IF(B272=0,"",M272+N271) | O272: =IF(B272=0,"",(IF(N272<80%,"Si","No"))) | P272: =IF(B272=0,"",(IF(M272=$M$521,"Si",(IF(M272>$M$521,"Si","No")))))
A273: =P273 | B273: =LARGE($B$15:$B$264,3) -> 0 | C273: =IFERROR(IF(B273=0,"",VLOOKUP(B273,$B$15:$J$264,2,FALSE())),"") | D273: =IFERROR(IF(B273=0,"",VLOOKUP(B273,$B$15:$J$264,3,FALSE())),"") | G273: =IFERROR(IF(B273=0,"",VLOOKUP(B273,$B$15:$J$264,6,FALSE())),"") | H273: =IFERROR(IF(B273=0,"",VLOOKUP(B273,$B$15:$J$264,7,FALSE())),"") | I273: =IF(B273=0,"",VLOOKUP(B273,$B$15:$J$264,8,FALSE())) | K273: =IF(B273=0,"",H273*I273) | L273: =O273 | M273: =IF(B273=0,"",B273) | N273: =IF(B273=0,"",M273+N272) | O273: =IF(B273=0,"",(IF(N273<80%,"Si","No"))) | P273: =IF(B273=0,"",(IF(M273=$M$521,"Si",(IF(M273>$M$521,"Si","No")))))
A274: =P274 | B274: =LARGE($B$15:$B$264,4) -> 0 | C274: =IFERROR(IF(B274=0,"",VLOOKUP(B274,$B$15:$J$264,2,FALSE())),"") | D274: =IFERROR(IF(B274=0,"",VLOOKUP(B274,$B$15:$J$264,3,FALSE())),"") | G274: =IFERROR(IF(B274=0,"",VLOOKUP(B274,$B$15:$J$264,6,FALSE())),"") | H274: =IFERROR(IF(B274=0,"",VLOOKUP(B274,$B$15:$J$264,7,FALSE())),"") | I274: =IF(B274=0,"",VLOOKUP(B274,$B$15:$J$264,8,FALSE())) | K274: =IF(B274=0,"",H274*I274) | L274: =O274 | M274: =IF(B274=0,"",B274) | N274: =IF(B274=0,"",M274+N273) | O274: =IF(B274=0,"",(IF(N274<80%,"Si","No"))) | P274: =IF(B274=0,"",(IF(M274=$M$521,"Si",(IF(M274>$M$521,"Si","No")))))
A275: =P275 | B275: =LARGE($B$15:$B$264,5) -> 0 | C275: =IFERROR(IF(B275=0,"",VLOOKUP(B275,$B$15:$J$264,2,FALSE())),"") | D275: =IFERROR(IF(B275=0,"",VLOOKUP(B275,$B$15:$J$264,3,FALSE())),"") | G275: =IFERROR(IF(B275=0,"",VLOOKUP(B275,$B$15:$J$264,6,FALSE())),"") | H275: =IFERROR(IF(B275=0,"",VLOOKUP(B275,$B$15:$J$264,7,FALSE())),"") | I275: =IF(B275=0,"",VLOOKUP(B275,$B$15:$J$264,8,FALSE())) | K275: =IF(B275=0,"",H275*I275) | L275: =O275 | M275: =IF(B275=0,"",B275) | N275: =IF(B275=0,"",M275+N274) | O275: =IF(B275=0,"",(IF(N275<80%,"Si","No"))) | P275: =IF(B275=0,"",(IF(M275=$M$521,"Si",(IF(M275>$M$521,"Si","No")))))
A276: =P276 | B276: =LARGE($B$15:$B$264,6) -> 0 | C276: =IFERROR(IF(B276=0,"",VLOOKUP(B276,$B$15:$J$264,2,FALSE())),"") | D276: =IFERROR(IF(B276=0,"",VLOOKUP(B276,$B$15:$J$264,3,FALSE())),"") | G276: =IFERROR(IF(B276=0,"",VLOOKUP(B276,$B$15:$J$264,6,FALSE())),"") | H276: =IFERROR(IF(B276=0,"",VLOOKUP(B276,$B$15:$J$264,7,FALSE())),"") | I276: =IF(B276=0,"",VLOOKUP(B276,$B$15:$J$264,8,FALSE())) | K276: =IF(B276=0,"",H276*I276) | L276: =O276 | M276: =IF(B276=0,"",B276) | N276: =IF(B276=0,"",M276+N275) | O276: =IF(B276=0,"",(IF(N276<80%,"Si","No"))) | P276: =IF(B276=0,"",(IF(M276=$M$521,"Si",(IF(M276>$M$521,"Si","No")))))
A277: =P277 | B277: =LARGE($B$15:$B$264,7) -> 0 | C277: =IFERROR(IF(B277=0,"",VLOOKUP(B277,$B$15:$J$264,2,FALSE())),"") | D277: =IFERROR(IF(B277=0,"",VLOOKUP(B277,$B$15:$J$264,3,FALSE())),"") | G277: =IFERROR(IF(B277=0,"",VLOOKUP(B277,$B$15:$J$264,6,FALSE())),"") | H277: =IFERROR(IF(B277=0,"",VLOOKUP(B277,$B$15:$J$264,7,FALSE())),"") | I277: =IF(B277=0,"",VLOOKUP(B277,$B$15:$J$264,8,FALSE())) | K277: =IF(B277=0,"",H277*I277) | L277: =O277 | M277: =IF(B277=0,"",B277) | N277: =IF(B277=0,"",M277+N276) | O277: =IF(B277=0,"",(IF(N277<80%,"Si","No"))) | P277: =IF(B277=0,"",(IF(M277=$M$521,"Si",(IF(M277>$M$521,"Si","No")))))
A278: =P278 | B278: =LARGE($B$15:$B$264,8) -> 0 | C278: =IFERROR(IF(B278=0,"",VLOOKUP(B278,$B$15:$J$264,2,FALSE())),"") | D278: =IFERROR(IF(B278=0,"",VLOOKUP(B278,$B$15:$J$264,3,FALSE())),"") | G278: =IFERROR(IF(B278=0,"",VLOOKUP(B278,$B$15:$J$264,6,FALSE())),"") | H278: =IFERROR(IF(B278=0,"",VLOOKUP(B278,$B$15:$J$264,7,FALSE())),"") | I278: =IF(B278=0,"",VLOOKUP(B278,$B$15:$J$264,8,FALSE())) | K278: =IF(B278=0,"",H278*I278) | L278: =O278 | M278: =IF(B278=0,"",B278) | N278: =IF(B278=0,"",M278+N277) | O278: =IF(B278=0,"",(IF(N278<80%,"Si","No"))) | P278: =IF(B278=0,"",(IF(M278=$M$521,"Si",(IF(M278>$M$521,"Si","No")))))
A279: =P279 | B279: =LARGE($B$15:$B$264,9) -> 0 | C279: =IFERROR(IF(B279=0,"",VLOOKUP(B279,$B$15:$J$264,2,FALSE())),"") | D279: =IFERROR(IF(B279=0,"",VLOOKUP(B279,$B$15:$J$264,3,FALSE())),"") | G279: =IFERROR(IF(B279=0,"",VLOOKUP(B279,$B$15:$J$264,6,FALSE())),"") | H279: =IFERROR(IF(B279=0,"",VLOOKUP(B279,$B$15:$J$264,7,FALSE())),"") | I279: =IF(B279=0,"",VLOOKUP(B279,$B$15:$J$264,8,FALSE())) | K279: =IF(B279=0,"",H279*I279) | L279: =O279 | M279: =IF(B279=0,"",B279) | N279: =IF(B279=0,"",M279+N278) | O279: =IF(B279=0,"",(IF(N279<80%,"Si","No"))) | P279: =IF(B279=0,"",(IF(M279=$M$521,"Si",(IF(M279>$M$521,"Si","No")))))
