Workbook

Sheet PRESUPUESTO DE OBRA (2)
B1: RESUPUESTO DE OBRA
B2: “CONSTRUCCIÓN DE VIVIENDA NUEVA EN SITIO PROPIO EN EL MUNICIPIO DE MANZANARES CALDAS”
B3: CONDICIONES CONTRACTUALES
B4: N° | D4: DESCRIPCION | E4: UNIDAD | F4: CANTIDAD | G4: VALOR UNITARIO | H4: VALOR TOTAL | J4: VALOR UNITARIO | K4: VALOR UNITARIO
C5: 1 | D5: PRELIMINARES
C6: 1.01 | D6: Descapote y limpieza manual (incl. retiro) | E6: m2 | F6: =+'[1]1.01'!L33 -> 116.63 | G6: =+[1]APU´S!E19 -> 13387 | H6: =ROUND(F6*G6,0) -> 1561326 | J6: 12263 | K6: =G6/J6 -> 1.0916578
C7: 1.02 | D7: Localización y replanteo para edificaciones | E7: m2 | F7: =+'[1]1.02'!L33 -> 116.63 | G7: =+[1]APU´S!E43 -> 4069 | H7: =ROUND(F7*G7,0) -> 474567 | J7: 3587 | K7: =G7/J7 -> 1.1343741
C8: 1.03 | D8: Demolición manual | E8: m3 | F8: =+'[1]1.03'!L32 -> 1.52 | G8: =+[1]APU´S!E61 -> 194643 | H8: =ROUND(F8*G8,0) -> 295857 | J8: 174487 | K8: =G8/J8 -> 1.1155158
C9: 1.04 | D9: Cerramiento provisional en guadua y polisombra verde, h:2m | E9: m | F9: =+'[1]1.04'!L32 -> 66.749675 | G9: =+[1]APU´S!E89 -> 42085 | H9: =ROUND(F9*G9,0) -> 2809160 | J9: 38904 | K9: =G9/J9 -> 1.0817654
C11: 2 | D11: MOVIMIENTO DE TIERRAS
C12: 2.01 | D12: Excavación y dispersión de tierra | E12: m3 | F12: =+'[1]2.01'!L33 -> 75.81 | G12: =+[1]APU´S!E102 -> 65339 | H12: =ROUND(F12*G12,0) -> 4953350 | J12: 54212 | K12: =G12/J12 -> 1.2052498
C13: 2.02 | D13: Cargue manual y retiro de sobrantes de obra | E13: m3 | F13: =+'[1]2.02'!M36 -> 7.86 | G13: =+[1]APU´S!E122 -> 61336 | H13: =ROUND(F13*G13,0) -> 482101 | J13: 57019 | K13: =G13/J13 -> 1.0757116
C14: 2.03 | D14: Excavación en tierra materiales varios | E14: m3 | F14: =+'[1]2.03'!L44 -> 4.53 | G14: =+[1]APU´S!E139 -> 47451 | H14: =ROUND(F14*G14,0) -> 214953 | J14: 38861 | K14: =G14/J14 -> 1.2210442
C15: 2.04 | D15: Protección superficie con plástico negro | E15: m2 | F15: =+'[1]2.04'!L34 -> 116.63 | G15: =+[1]APU´S!E160 -> 5804 | H15: =ROUND(F15*G15,0) -> 676921 | J15: 2748 | K15: =G15/J15 -> 2.1120815
C16: 2.05 | D16: Lleno compactado con afirmado | E16: m3 | F16: =+'[1]2.05'!L33 -> 29.16 | G16: =+[1]APU´S!E179 -> 160914 | H16: =ROUND(F16*G16,0) -> 4692252 | J16: 147028 | K16: =G16/J16 -> 1.0944446
C18: 3 | D18: CIMENTACIONES
C19: 3.01 | D19: Solado en concreto de 11.7 MPa | E19: m3 | F19: =+'[1]3.01'!L44 -> 0.99 | G19: =+[1]APU´S!E196 -> 571697 | H19: =ROUND(F19*G19,0) -> 565980 | J19: 529572 | K19: =G19/J19 -> 1.0795454
C20: 3.02 | D20: Viga cimentación en concreto de 20.7 MPa, 0.25x0.25 m (No incluye refuerzo) | E20: m | F20: =+'[1]3.02'!L43 -> 47.15 | G20: =+[1]APU´S!E228 -> 109847 | H20: =ROUND(F20*G20,0) -> 5179286 | J20: 98230 | K20: =G20/J20 -> 1.1182633
C21: 3.03 | D21: Placa de contrapiso en concreto de 20.7 MPa, e= 0.10 m | E21: m2 | F21: =+'[1]3.03'!L33 -> 116.63 | G21: =+[1]APU´S!E247 -> 102238 | H21: =ROUND(F21*G21,0) -> 11924018 | J21: 91874 | K21: =G21/J21 -> 1.1128067
C23: 4 | D23: ESTRUCTURAS EN CONCRETO
C24: 4.01 | D24: Acero de refuerzo Fy= 420 MPa | E24: Kg | F24: =+'[1]4.01'!O70 -> 1138.87 | G24: =+[1]APU´S!E269 -> 9139 | H24: =ROUND(F24*G24,0) -> 10408133 | J24: 8281 | K24: =G24/J24 -> 1.1036107
C25: 4.02 | D25: Malla electrosoldada 4.0 mm 25x25 cm (050) | E25: m2 | F25: =+'[1]4.02'!L32 -> 116.63 | G25: =+[1]APU´S!E292 -> 12760 | H25: =ROUND(F25*G25,0) -> 1488199 | J25: 11949 | K25: =G25/J25 -> 1.0678718
C26: 4.03 | D26: Viga de amarre 10x20 cm de 20.7 MPa (No incluye refuerzo) | E26: m | F26: =+'[1]4.03'!L42 -> 45.53 | G26: =+[1]APU´S!E317 -> 84565 | H26: =ROUND(F26*G26,0) -> 3850244 | J26: 73338 | K26: =G26/J26 -> 1.1530857
C28: 5 | D28: ESTRUCTURA MÉTALICA
C29: 5.01 | D29: Perfil metálico cuadrado 100x100x2 mm | E29: m | F29: =+'[1]5.01'!L32 -> 38.7 | G29: =+[1]APU´S!E348 -> 67242 | H29: =ROUND(F29*G29,0) -> 2602265 | J29: 61375 | K29: =G29/J29 -> 1.0955927
C30: 5.02 | D30: Suministro, transporte e instalacion de tubo rectangular de 100x40x1,5mm x6m para soporte de cubierta | E30: m | F30: =+'[1]5.02'!L31 -> 93.6 | G30: =+[1]APU´S!E371 -> 59631 | H30: =ROUND(F30*G30,0) -> 5581462 | J30: 53025 | K30: =G30/J30 -> 1.1245827
C32: 6 | D32: CUBIERTAS
C33: 6.01 | D33: Techo en teja de zinc arquitectonica | E33: m2 | F33: =+'[1]6.01'!L32 -> 120.12 | G33: =+[1]APU´S!E398 -> 88828 | H33: =ROUND(F33*G33,0) -> 10670019 | J33: 72690 | K33: =G33/J33 -> 1.2220113
C35: 7 | D35: MAMPOSTERÍA
C36: 7.01 | D36: Muro en ladrillo farol 10x20x30 cm | E36: m2 | F36: =+'[1]7.01'!L80 -> 147.28 | G36: =+[1]APU´S!E423 -> 187056 | H36: =ROUND(F36*G36,0) -> 27549608 | J36: 167703 | K36: =G36/J36 -> 1.1154004
C37: 7.02 | D37: Placa losa para meson de cocina, e= 0.05 m | E37: m2 | F37: =+'[1]7.02'!L32 -> 4.15 | G37: =+[1]APU´S!E456 -> 110475 | H37: =ROUND(F37*G37,0) -> 458471 | J37: 97745 | K37: =G37/J37 -> 1.1302368
C39: 8 | D39: INSTALACIONES SANITARIAS
C40: 8.01 | D40: Caja de inspección 50x50x50 cm en concreto | E40: Un | F40: =+'[1]8.01'!L32 -> 4 | G40: =+[1]APU´S!E487 -> 512019 | H40: =ROUND(F40*G40,0) -> 2048076 | J40: 455443 | K40: =G40/J40 -> 1.1242219
C41: 8.02 | D41: Tubería pvc sanitaria Ø= 2" (incl. accesorios) | E41: m | F41: =+'[1]8.02'!L32 -> 18 | G41: =+[1]APU´S!E510 -> 25392 | H41: =ROUND(F41*G41,0) -> 457056 | J41: 23626 | K41: =G41/J41 -> 1.0747482
C42: 8.03 | D42: Tubería pvc sanitaria Ø= 3" (incl. accesorios) | E42: m | F42: =+'[1]8.03'!L32 -> 24 | G42: =+[1]APU´S!E533 -> 61403 | H42: =ROUND(F42*G42,0) -> 1473672 | J42: 47679 | K42: =G42/J42 -> 1.2878416
C43: 8.04 | D43: Codo sanitario pvc 2" x 90° CxC | E43: Un | F43: =+'[1]8.04'!L32 -> 12 | G43: =+[1]APU´S!E555 -> 23705 | H43: =ROUND(F43*G43,0) -> 284460 | J43: 20379 | K43: =G43/J43 -> 1.1632072
C44: 8.05 | D44: Codo sanitario pvc 3" x 90° CxC | E44: Un | F44: =+'[1]8.05'!L32 -> 12 | G44: =+[1]APU´S!E576 -> 43094 | H44: =ROUND(F44*G44,0) -> 517128 | J44: 36371 | K44: =G44/J44 -> 1.1848451
C45: 8.06 | D45: Yee sanitaria pvc reducida 3" x 2" | E45: Un | F45: =+'[1]8.06'!L32 -> 6 | G45: =+[1]APU´S!E597 -> 50357 | H45: =ROUND(F45*G45,0) -> 302142 | J45: 45071 | K45: =G45/J45 -> 1.1172816
C46: 8.07 | D46: Sifón sanitario pvc de 2" | E46: Un | F46: =+'[1]8.07'!L32 -> 2 | G46: =+[1]APU´S!E620 -> 80718 | H46: =ROUND(F46*G46,0) -> 161436 | J46: 71772 | K46: =G46/J46 -> 1.1246447
C47: 8.08 | D47: Punto sanitario pvc de 2" | E47: Un | F47: =+'[1]8.08'!L28 -> 8 | G47: =+[1]APU´S!E641 -> 98682 | H47: =ROUND(F47*G47,0) -> 789456 | J47: 87246 | K47: =G47/J47 -> 1.1310776
C48: 8.09 | D48: Punto sanitario pvc de 3" | E48: Un | F48: =+'[1]8.09'!L32 -> 2 | G48: =+[1]APU´S!E662 -> 187565 | H48: =ROUND(F48*G48,0) -> 375130 | J48: 167540 | K48: =G48/J48 -> 1.1195237
C50: 9 | D50: INSTALACIONES HIDRÁULICAS
C51: 9.01 | D51: Acometida hidráulica en tubería pvc Ø= 1/2" | E51: m | F51: =+'[1]9.01'!L32 -> 30 | G51: =+[1]APU´S!E682 -> 10869 | H51: =ROUND(F51*G51,0) -> 326070 | J51: 9807 | K51: =G51/J51 -> 1.10829
C52: 9.02 | D52: Punto hidráulico pvc de 1/2" (3 m) | E52: Un | F52: =+'[1]9.02'!L39 -> 10 | G52: =+[1]APU´S!E708 -> 68033 | H52: =ROUND(F52*G52,0) -> 680330 | J52: 45693 | K52: =G52/J52 -> 1.4889152
C53: 9.03 | D53: Válvula de bola de cpvc ø= 1/2" | E53: Un | F53: =+'[1]9.03'!L32 -> 2 | G53: =+[1]APU´S!E729 -> 40531 | H53: =ROUND(F53*G53,0) -> 81062 | J53: 36388 | K53: =G53/J53 -> 1.1138562
C54: 9.04 | D54: Codo presión pvc 1/2" | E54: Un | F54: =+'[1]9.04'!L32 -> 30 | G54: =+[1]APU´S!E751 -> 10642 | H54: =ROUND(F54*G54,0) -> 319260 | J54: 9038 | K54: =G54/J54 -> 1.1774729
C56: 10 | D56: INSTALACIONES ELÉCTRICAS
C57: 10.01 | D57: Suministro, transporte e instalación salida iluminación en tubería Conduit pvc sch40 3/4" y cable #12 | E57: Un | F57: =+'[1]10.01'!L33 -> 8 | G57: =+[1]APU´S!E779 -> 210091 | H57: =ROUND(F57*G57,0) -> 1680728 | J57: 184315 | K57: =G57/J57 -> 1.1398475
C58: 10.02 | D58: Suministro, transporte e instalacion bombillo led 20 W | E58: Un | F58: =+'[1]10.02'!L40 -> 8 | G58: =+[1]APU´S!E797 -> 28062 | H58: =ROUND(F58*G58,0) -> 224496 | J58: 25082 | K58: =G58/J58 -> 1.1188103
C59: 10.03 | D59: Suministro, transporte e instalación salida interruptor sencillo con tubería pvc sch40 1/2" y cable #12 | E59: Un | F59: =+'[1]10.03'!L34 -> 8 | G59: =+[1]APU´S!E818 -> 174610 | H59: =ROUND(F59*G59,0) -> 1396880 | J59: 152492 | K59: =G59/J59 -> 1.1450437
C60: 10.04 | D60: Suministro, transporte e instalación salida tomacorriente doble con tubería pvc sch40 1/2" y cable #12 | E60: Un | F60: =+'[1]10.04'!L32 -> 16 | G60: =+[1]APU´S!E839 -> 186901 | H60: =ROUND(F60*G60,0) -> 2990416 | J60: 164186 | K60: =G60/J60 -> 1.1383492
C61: 10.05 | D61: Tablero monofásico de 4 circuitos | E61: Un | F61: =+'[1]10.05'!L33 -> 2 | G61: =+[1]APU´S!E863 -> 336432 | H61: =ROUND(F61*G61,0) -> 672864 | J61: 299730 | K61: =G61/J61 -> 1.1224502
C62: 10.06 | D62: Trámite de legalización, derechos de conexión ante operador de red (CHEC) e instalación de sistema de puesta a tierra para acometida eléctrica monofásica, para prestación del servicio | E62: Un | F62: =+'[1]10.06'!L33 -> 2 | G62: =+[1]APU´S!E887 -> 2813049 | H62: =ROUND(F62*G62,0) -> 5626098 | J62: 2615563 | K62: =G62/J62 -> 1.0755042
C64: 11 | D64: ENCHAPES Y ACCESORIOS
C65: 11.01 | D65: Enchape en cerámica | E65: m2 | F65: =+'[1]11.01'!L37 -> 24.88 | G65: =+[1]APU´S!E912 -> 89748 | H65: =ROUND(F65*G65,0) -> 2232930 | J65: 80777 | K65: =G65/J65 -> 1.1110588
C66: 11.02 | D66: Suministro, transporte e instalación bordillo en concreto 20.7 Mpa para base instalación de división de baño entre h= 0,05 m y h= 0,08 m y entre a= 0,05 m y a= 0,08 m. Terminado enchapado | E66: ml | F66: =+'[1]11.02'!L32 -> 2.52 | G66: =+[1]APU´S!E935 -> 108198 | H66: =ROUND(F66*G66,0) -> 272659 | J66: 100150 | K66: =G66/J66 -> 1.0803595
C68: 12 | D68: REALIZAR ACABADOS
C69: 12.01 | D69: Combo sanitario y lavamanos | E69: Un | F69: =+'[1]12.01'!L32 -> 2 | G69: =+[1]APU´S!E958 -> 626731 | H69: =ROUND(F69*G69,0) -> 1253462 | J69: 576241 | K69: =G69/J69 -> 1.0876196
C70: 12.02 | D70: Grifería ducha sencilla | E70: Un | F70: =+'[1]12.02'!L32 -> 2 | G70: =+[1]APU´S!E977 -> 121737 | H70: =ROUND(F70*G70,0) -> 243474 | J70: 111048 | K70: =G70/J70 -> 1.0962557
C71: 12.03 | D71: Lavaplatos con escurridor en acero inoxidable 1.00x0.50 m | E71: Un | F71: =+'[1]12.03'!L32 -> 2 | G71: =+[1]APU´S!E1002 -> 366319 | H71: =ROUND(F71*G71,0) -> 732638 | J71: 341431 | K71: =G71/J71 -> 1.0728932
C72: 12.04 | D72: Lavadero prefabricado en granito 0,80x0,60 m | E72: Un | F72: =+'[1]12.04'!L32 -> 2 | G72: =+[1]APU´S!E1021 -> 754771 | H72: =ROUND(F72*G72,0) -> 1509542 | J72: 706693 | K72: =G72/J72 -> 1.0680324
C74: 13 | D74: CARPINTERÍA METÁLICA
C75: 13.01 | D75: Puerta en lámina Cal. 20, 0.80 x 2.05 m (incl pintura) | E75: Un | F75: =+'[1]13.01'!L36 -> 6 | G75: =+[1]APU´S!E1049 -> 817607 | H75: =ROUND(F75*G75,0) -> 4905642 | J75: 763271 | K75: =G75/J75 -> 1.0711883
C76: 13.02 | D76: Puerta en lámina Cal. 20, 0.70 x 2.05 m (incl pintura) | E76: Un | F76: =+'[1]13.02'!L32 -> 2 | G76: =+[1]APU´S!E1077 -> 802035 | H76: =ROUND(F76*G76,0) -> 1604070 | J76: 748455 | K76: =G76/J76 -> 1.0715875
C77: 13.03 | D77: Ventana en lámina Cal. 20 (vidrio 4 mm) | E77: m2 | F77: =+'[1]13.03'!L43 -> 14.55 | G77: =+[1]APU´S!E1102 -> 272712 | H77: =ROUND(F77*G77,0) -> 3967960 | J77: 255785 | K77: =G77/J77 -> 1.0661767
C79: 14 | D79: OTROS
C80: 14.01 | D80: Sobreacarreo de materiales en vehiculo automotor de tracción 4x4. Incluye cargue y descargue de materiales. | E80: Ton | F80: =+'[1]14.01'!M39 -> 180.31 | G80: =+[1]APU´S!E1118 -> 74824 | H80: =ROUND(F80*G80,0) -> 13491515 | J80: 69204 | K80: =G80/J80 -> 1.0812092
B82: TOTAL COSTOS DIRECTOS | H82: =SUM(H6:H81) -> 147058824
B83: ADMINISTRACIÓN | G83: 0.31 | H83: =+ROUND($H$82*G83,0) -> 45588235 | J83: 0.31 | K83: 0.31
B84: UTILIDAD | G84: 0.05 | H84: =+ROUND($H$82*G84,0) -> 7352941 | J84: 0.05 | K84: 0.05
B85: VALOR TOTAL | H85: =SUM(H82:H84) -> 200000000
F91: _______________________________________
B92: Elaboró: | D92: DIEGO TORO RAMIREZ
D93: T.P. No. 091037-0575559 CND
D94: SECRETARIO DE PLANEACION E INFRAESTRUCTURA
D95: MUNICIPIO DE MANZANARES
