Workbook

Sheet PRESUPUESTO DE OBRA (2)
B1: RESUPUESTO DE OBRA
B2: “CONSTRUCCIÓN DE VIVIENDA NUEVA EN SITIO PROPIO EN EL MUNICIPIO DE MANZANARES CALDAS”
B3: CONDICIONES CONTRACTUALES
B4: N° | D4: DESCRIPCION | E4: UNIDAD | F4: CANTIDAD | G4: VALOR UNITARIO | H4: VALOR TOTAL | J4: VALOR UNITARIO | K4: VALOR UNITARIO
C5: 1 | D5: PRELIMINARES
C6: 1.01 | D6: Descapote y limpieza manual (incl. retiro) | E6: m2 | F6: =+'[1]1.01'!L33 -> 116.63 | G6: =+[1]APU´S!E19 -> 13387 | H6: =ROUND(F6*G6,0) -> 1561326 | J6: 12263 | K6: =G6/J6 -> 1.0916578
C7: 1.02 | D7: Localización y replanteo para edificaciones | E7: m2 | F7: =+'[1]1.02'!L33 -> 116.63 | G7: =+[1]APU´S!E43 -> 4069 | H7: =ROUND(F7*G7,0) -> 474567 | J7: 3587 | K7: =G7/J7 -> 1.1343741
C8: 1.03 | D8: Demolición manual | E8: m3 | F8: =+'[1]1.03'!L32 -> 1.52 | G8: =+[1]APU´S!E61 -> 194643 | H8: =ROUND(F8*G8,0) -> 295857 | J8: 174487 | K8: =G8/J8 -> 1.1155158
C9: 1.04 | D9: Cerramiento provisional en guadua y polisombra verde, h:2m | E9: m | F9: =+'[1]1.04'!L32 -> 66.749675 | G9: =+[1]APU´S!E89 -> 42085 | H9: =ROUND(F9*G9,0) -> 2809160 | J9: 38904 | K9: =G9/J9 -> 1.0817654
C11: 2 | D11: MOVIMIENTO DE TIERRAS
C12: 2.01 | D12: Excavación y dispersión de tierra | E12: m3 | F12: =+'[1]2.01'!L33 -> 75.81 | G12: =+[1]APU´S!E102 -> 65339 | H12: =ROUND(F12*G12,0) -> 4953350 | J12: 54212 | K12: =G12/J12 -> 1.2052498
C13: 2.02 | D13: Cargue manual y retiro de sobrantes de obra | E13: m3 | F13: =+'[1]2.02'!M36 -> 7.86 | G13: =+[1]APU´S!E122 -> 61336 | H13: =ROUND(F13*G13,0) -> 482101 | J13: 57019 | K13: =G13/J13 -> 1.0757116
C14: 2.03 | D14: Excavación en tierra materiales varios | E14: m3 | F14: =+'[1]2.03'!L44 -> 4.53 | G14: =+[1]APU´S!E139 -> 47451 | H14: =ROUND(F14*G14,0) -> 214953 | J14: 38861 | K14: =G14/J14 -> 1.2210442
C15: 2.04 | D15: Protección superficie con plástico negro | E15: m2 | F15: =+'[1]2.04'!L34 -> 116.63 | G15: =+[1]APU´S!E160 -> 5804 | H15: =ROUND(F15*G15,0) -> 676921 | J15: 2748 | K15: =G15/J15 -> 2.1120815
C16: 2.05 | D16: Lleno compactado con afirmado | E16: m3 | F16: =+'[1]2.05'!L33 -> 29.16 | G16: =+[1]APU´S!E179 -> 160914 | H16: =ROUND(F16*G16,0) -> 4692252 | J16: 147028 | K16: =G16/J16 -> 1.0944446
C18: 3 | D18: CIMENTACIONES
C19: 3.01 | D19: Solado en concreto de 11.7 MPa | E19: m3 | F19: =+'[1]3.01'!L44 -> 0.99 | G19: =+[1]APU´S!E196 -> 571697 | H19: =ROUND(F19*G19,0) -> 565980 | J19: 529572 | K19: =G19/J19 -> 1.0795454
C20: 3.02 | D20: Viga cimentación en concreto de 20.7 MPa, 0.25x0.25 m (No incluye refuerzo) | E20: m | F20: =+'[1]3.02'!L43 -> 47.15 | G20: =+[1]APU´S!E228 -> 109847 | H20: =ROUND(F20*G20,0) -> 5179286 | J20: 98230 | K20: =G20/J20 -> 1.1182633
C21: 3.03 | D21: Placa de contrapiso en concreto de 20.7 MPa, e= 0.10 m | E21: m2 | F21: =+'[1]3.03'!L33 -> 116.63 | G21: =+[1]APU´S!E247 -> 102238 | H21: =ROUND(F21*G21,0) -> 11924018 | J21: 91874 | K21: =G21/J21 -> 1.1128067
C23: 4 | D23: ESTRUCTURAS EN CONCRETO
C24: 4.01 | D24: Acero de refuerzo Fy= 420 MPa | E24: Kg | F24: =+'[1]4.01'!O70 -> 1138.87 | G24: =+[1]APU´S!E269 -> 9139 | H24: =ROUND(F24*G24,0) -> 10408133 | J24: 8281 | K24: =G24/J24 -> 1.1036107
C25: 4.02 | D25: Malla electrosoldada 4.0 mm 25x25 cm (050) | E25: m2 | F25: =+'[1]4.02'!L32 -> 116.63 | G25: =+[1]APU´S!E292 -> 12760 | H25: =ROUND(F25*G25,0) -> 1488199 | J25: 11949 | K25: =G25/J25 -> 1.0678718
C26: 4.03 | D26: Viga de amarre 10x20 cm de 20.7 MPa (No incluye refuerzo) | E26: m | F26: =+'[1]4.03'!L42 -> 45.53 | G26: =+[1]APU´S!E317 -> 84565 | H26: =ROUND(F26*G26,0) -> 3850244 | J26: 73338 | K26: =G26/J26 -> 1.1530857
C28: 5 | D28: ESTRUCTURA MÉTALICA
C29: 5.01 | D29: Perfil metálico cuadrado 100x100x2 mm | E29: m | F29: =+'[1]5.01'!L32 -> 38.7 | G29: =+[1]APU´S!E348 -> 67242 | H29: =ROUND(F29*G29,0) -> 2602265 | J29: 61375 | K29: =G29/J29 -> 1.0955927
C30: 5.02 | D30: Suministro, transporte e instalacion de tubo rectangular de 100x40x1,5mm x6m para soporte de cubierta | E30: m | F30: =+'[1]5.02'!L31 -> 93.6 | G30: =+[1]APU´S!E371 -> 59631 | H30: =ROUND(F30*G30,0) -> 5581462 | J30: 53025 | K30: =G30/J30 -> 1.1245827
C32: 6 | D32: CUBIERTAS
C33: 6.01 | D33: Techo en teja de zinc arquitectonica | E33: m2 | F33: =+'[1]6.01'!L32 -> 120.12 | G33: =+[1]APU´S!E398 -> 88828 | H33: =ROUND(F33*G33,0) -> 10670019 | J33: 72690 | K33: =G33/J33 -> 1.2220113
C35: 7 | D35: MAMPOSTERÍA
C36: 7.01 | D36: Muro en ladrillo farol 10x20x30 cm | E36: m2 | F36: =+'[1]7.01'!L80 -> 147.28 | G36: =+[1]APU´S!E423 -> 187056 | H36: =ROUND(F36*G36,0) -> 27549608 | J36: 167703 | K36: =G36/J36 -> 1.1154004
C37: 7.02 | D37: Placa losa para meson de cocina, e= 0.05 m | E37: m2 | F37: =+'[1]7.02'!L32 -> 4.15 | G37: =+[1]APU´S!E456 -> 110475 | H37: =ROUND(F37*G37,0) -> 458471 | J37: 97745 | K37: =G37/J37 -> 1.1302368
C39: 8 | D39: INSTALACIONES SANITARIAS
C40: 8.01 | D40: Caja de inspección 50x50x50 cm en concreto | E40: Un | F40: =+'[1]8.01'!L32 -> 4 | G40: =+[1]APU´S!E487 -> 512019 | H40: =ROUND(F40*G40,0) -> 2048076 | J40: 455443 | K40: =G40/J40 -> 1.1242219
C41: 8.02 | D41: Tubería pvc sanitaria Ø= 2" (incl. accesorios) | E41: m | F41: =+'[1]8.02'!L32 -> 18 | G41: =+[1]APU´S!E510 -> 25392 | H41: =ROUND(F41*G41,0) -> 457056 | J41: 23626 | K41: =G41/J41 -> 1.0747482
C42: 8.03 | D42: Tubería pvc sanitaria Ø= 3" (incl. accesorios) | E42: m | F42: =+'[1]8.03'!L32 -> 24 | G42: =+[1]APU´S!E533 -> 61403 | H42: =ROUND(F42*G42,0) -> 1473672 | J42: 47679 | K42: =G42/J42 -> 1.2878416
C43: 8.04 | D43: Codo sanitario pvc 2" x 90° CxC | E43: Un | F43: =+'[1]8.04'!L32 -> 12 | G43: =+[1]APU´S!E555 -> 23705 | H43: =ROUND(F43*G43,0) -> 284460 | J43: 20379 | K43: =G43/J43 -> 1.1632072
C44: 8.05 | D44: Codo sanitario pvc 3" x 90° CxC | E44: Un | F44: =+'[1]8.05'!L32 -> 12 | G44: =+[1]APU´S!E576 -> 43094 | H44: =ROUND(F44*G44,0) -> 517128 | J44: 36371 | K44: =G44/J44 -> 1.1848451
C45: 8.06 | D45: Yee sanitaria pvc reducida 3" x 2" | E45: Un | F45: =+'[1]8.06'!L32 -> 6 | G45: =+[1]APU´S!E597 -> 50357 | H45: =ROUND(F45*G45,0) -> 302142 | J45: 45071 | K45: =G45/J45 -> 1.1172816
C46: 8.07 | D46: Sifón sanitario pvc de 2" | E46: Un | F46: =+'[1]8.07'!L32 -> 2 | G46: =+[1]APU´S!E620 -> 80718 | H46: =ROUND(F46*G46,0) -> 161436 | J46: 71772 | K46: =G46/J46 -> 1.1246447
C47: 8.08 | D47: Punto sanitario pvc de 2" | E47: Un | F47: =+'[1]8.08'!L28 -> 8 | G47: =+[1]APU´S!E641 -> 98682 | H47: =ROUND(F47*G47,0) -> 789456 | J47: 87246 | K47: =G47/J47 -> 1.1310776
...
