Workbook

Sheet PLAN DE NECESIDADES
B2: CLASIFICADOR POR OBJETO DEL GASTO | F2: NOMBRE CUENTA
B3: A-02-02-01-002-007 | F3: ARTÍCULOS TEXTILES (EXCEPTO PRENDAS DE VESTIR)
B4: ÍTEM | C4: CÓDIGO DANE | D4: DESCRIPCIÓN DEL BIEN Y/O SERVICIO | E4: UNIDAD MEDIDA | F4: EXISTENCIAS (STOCK - INVENTARIOS) | G4: NECESIDAD | H4: UNSPSC (CCE) | I4: CÓDIGO MATERIAL SAP | J4: CÓDIGO OTAN - NOC
B5: 1 | C5: 2791301 | D5: PARCHE DE IDENTIFICACIÓN PERSONAL: ESPECIFICACIONES TÉCNICAS DE ACUERDO NORMA TÉCNICA KIT DE DOTACIÓN NO. NTMD-0356 - A2 | E5: UNIDAD | F5: 0 | G5: 1 | H5: 11161701 | I5: 1047066 | J5: SIN CREAR
B6: 2 | C6: 2791301 | D6: PARCHE DE EJÉRCITO: ESPECIFICACIONES TÉCNICAS DE ACUERDO A LA NORMA TÉCNICA KIT DE DOTACIÓN. NO. NTMD-0356 - A2. | E6: UNIDAD | F6: 0 | G6: 1 | H6: 11161701 | I6: 1898472 | J6: SIN CREAR
B7: 3 | C7: 2791301 | D7: PARCHES DE LA UNIDAD SUPERIOR Y SUBALTERNA: ESPECIFICACIONES TÉCNICAS DE ACUERDO A LA NORMA TÉCNICA KIT DE DOTACIÓN N°. NTMD-0356 - A2. | E7: UNIDAD | F7: 0 | G7: 1 | H7: 11161701 | I7: 1343999 | J7: SIN CREAR
B8: 4 | C8: 2791301 | D8: BANDERA DE IDENTIFICACIÓN COLOMBIA: PARA UNIFORME DE COMBATE CAMUFLADO TIPO SELVA "CAMALEÓN" ESPECIFICACIONES TÉCNICAS DE ACUERDO AL BOLETÍN N°.001 ESTANDARIZACIÓN DE LA BANDERA DE IDENTIFICACIÓN EMPLEADA EN EL UNIFORME Nº4 Y 4A DEL PATRÓN DE CAMUFLAJE TERRESTRE "CAMALEÓN". | E8: UNIDAD | F8: 0 | G8: 1 | H8: 11161701 | I8: 1347326 | J8: SIN CREAR
B9: 5 | C9: 2791301 | D9: PARCHE PARA IDENTIFICACIÓN GRUPO SANGUÍNEO: ESPECIFICACIONES TÉCNICAS DE ACUERDO A LA NORMA TÉCNICA KIT DE DOTACIÓN N°. NTMD-0356 - A2. | E9: UNIDAD | F9: 0 | G9: 1 | H9: 11161701 | I9: 1143174 | J9: SIN CREAR
B10: 6 | C10: 2791301 | D10: INSIGNIA DEL GRADO SOLDADO: ESPECIFICACIONES TÉCNICAS DE ACUERDO A LA NORMA TÉCNICA KIT DE DOTACIÓN N°. NTMD-0356 - A2. | E10: JUEGO | F10: 0 | G10: 1 | H10: 11161701 | I10: 1047424 | J10: SIN CREAR
B11: 7 | C11: 2791301 | D11: BRAZALETES TÁCTICOS X JUEGO DE 4: ESPECIFICACIONES TÉCNICAS DE ACUERDO A LA NORMA TÉCNICA KIT DE DOTACIÓN N°. NTMD-0356 - A2. | E11: JUEGO | F11: 0 | G11: 1 | H11: 11161701 | I11: 1248964 | J11: 8455-80-0011302
B12: 8 | C12: 2791301 | D12: OJOS DE GATO: ESPECIFICACIONES TÉCNICAS DE ACUERDO A LA NORMA TÉCNICA KIT DE DOTACIÓN N°. NTMD-0356 - A2. | E12: UNIDAD | F12: 0 | G12: 1 | H12: 11161701 | I12: 1082391 | J12: SIN CREAR
B13: 9 | C13: 2792201 | D13: LIGAS PARA BOTA MANGA PANTALÓN CAMUFLADO: ESPECIFICACIONES TÉCNICAS DE ACUERDO A LA NORMA TÉCNICA KIT DE DOTACIÓN N°. NTMD-0356 - A2. | E13: PAR | F13: 0 | G13: 1 | H13: 53102509 | I13: 1127360 | J13: 8440-80-0011394
B14: 10 | C14: 2712007 | D14: PAÑUELO: ESPECIFICACIONES TÉCNICAS DE ACUERDO A LA NORMA TÉCNICA KIT DE DOTACIÓN N°. NTMD-0356 - A2. | E14: UNIDAD | F14: 0 | G14: 1 | H14: 53102512 | I14: 1316012 | J14: 8440-80-0011303
B15: 11 | C15: 2799701 | D15: BOLSO PARA ÚTILES DE ASEO: ESPECIFICACIONES TÉCNICAS DE ACUERDO A LA NORMA TÉCNICA KIT DE DOTACIÓN N°. NTMD-0356 - A2. | E15: UNIDAD | F15: 0 | G15: 1 | H15: 53121503 | I15: 1082376 | J15: SIN CREAR
B16: 12 | C16: 2732099 | D16: MALLA PARA CABELLO COLOR NEGRO DE ACUERDO A ESPECIFICACIONES TÉCNICAS JEMPP-CEDE4-DIETE-ET-04937/INT-0 | E16: UNIDAD | F16: 0 | G16: 1 | H16: 53102513 | I16: 1893958 | J16: SIN CREAR
B18: CLASIFICADOR POR OBJETO DEL GASTO | F18: NOMBRE CUENTA
B19: A-02-02-01-002-008 | F19: DOTACIÓN (PRENDAS DE VESTIR Y CALZADO)
B20: ÍTEM | C20: CÓDIGO DANE | D20: DESCRIPCIÓN DEL BIEN Y/O SERVICIO | E20: UNIDAD MEDIDA | F20: EXISTENCIAS (STOCK - INVENTARIOS) | G20: NECESIDAD | H20: UNSPSC (CCE) | I20: CÓDIGO MATERIAL SAP | J20: CÓDIGO OTAN - NOC
B21: 13 | C21: 2821001 | D21: CALCETÍN COLOR BLANCO PARA DEPORTES: EL CALCETÍN DEBE SER ELABORADO EN POLIAMIDA CON TEJIDO ACANALADO 3X1 PARA LA PARTE DE LA CAÑA Y PARA EL PIE, CON UN TEJIDO TIPO TERRY EN EL INTERIOR Y PUEDE SER EN FIBRA ANTIBACTERIAL DESDE LA PARTE ALTA DEL TALÓN, LA PLANTA DEL PIE, LA PUNTERA Y SU ANILLO. EL CALCETÍN LLEVA UNA BANDA ELÁSTICA TEJIDA EN EL CONTORNO DEL ARCO DE LA PLANTA Y EMPEINE PARA EVITAR QUE EL CALCETÍN SE DESLICE, ESPECIFICACIONES SEGÚN NORMA TÉCNICA NO. NTMD-0356 A2 DE ACUERDO A ÍTEM 3.1.2.7 | E21: PAR | F21: 0 | G21: 1 | H21: 53102402 | I21: 1495276 | J21: SIN CREAR
B22: 14 | C22: 2823601 | D22: UNIFORME DE DEPORTES COMPLETO (CAMISETA Y PANTALONETA): DE ACUERDO A NORMA TÉCNICA NO. NTMD-0356 A2 DE ACUERDO A ÍTEM 3.1.2.7 FIGURA ILUSTRATIVA 37 | E22: UNIDAD | F22: 0 | G22: 1 | H22: 53102700 | I22: 1329412 | J22: SIN CREAR
B23: 15 | C23: 2819003 | D23: CHANCLAS PARA BAÑO: PUEDEN ESTAR FABRICADAS EN CAUCHO, PVC (POLÍMERO DE CLORURO DE VINILO) O EN EVA (ETILENVINILACETATO), EN UNA SOLO PIEZA POR PROCESO DE INYECCIÓN CON MATERIALES NO RECICLADOS Y QUE NO GENEREN ALERGIAS O CUALQUIER OTRO TIPO DE ENFERMEDAD AL USUARIO POR SU USO NORMAL, SEGÚN NORMA TÉCNICA NO. NTMD-0356 A2 ÍTEM 3.1.1.20 | E23: PAR | F23: 0 | G23: 1 | H23: 53111800 | I23: 1296725 | J23: SIN CREAR
B24: 16 | C24: 2823603 | D24: BICICLETERO NEGRO CORTO: DE ACUERDO A ESPECIFICACIONES TÉCNICAS ESPECIFICACIONES TÉCNICAS NO JEMPP-CEDE4-DIETE-ET05595/INT-0 | E24: UNIDAD | F24: 0 | G24: 1 | H24: 53101500 | I24: 1893955 | J24: SIN CREAR
B25: 17 | C25: 2822401 | D25: JUEGO DE ROPA INTERIOR (TOP-CACHETERO) DE ACUERDO A ESPECIFICACIONES TÉCNICAS N° JEMPP-CEDE4-DIETE-ET05573/INT-01 | E25: UNIDAD | F25: 0 | G25: 1 | H25: 53102300 | I25: 1702099 | J25: SIN CREAR
B27: CLASIFICADOR POR OBJETO DEL GASTO | F27: NOMBRE CUENTA
B28: A-02-02-01-003-002 | F28: PASTA O PULPA, PAPEL Y PRODUCTOS DE PAPEL; IMPRESOS Y ARTÍCULOS SIMILARES
B29: ÍTEM | C29: CÓDIGO DANE | D29: DESCRIPCIÓN DEL BIEN Y/O SERVICIO | E29: UNIDAD MEDIDA | F29: EXISTENCIAS (STOCK - INVENTARIOS) | G29: NECESIDAD | H29: UNSPSC (CCE) | I29: CÓDIGO MATERIAL SAP | J29: CÓDIGO OTAN - NOC
B30: 18 | C30: 3270109 | D30: CUADERNO PARA ESCRITURA: DEBE SER COSIDO, GRAPADO O ARGOLLADO CON PASTA PLASTIFICADA DURA O BLANDA DE MÍNIMO 100 HOJAS DE COLOR BLANCO, ESPECIFICACIONES SEGÚN NORMA TÉCNICA N°. NTMD-0356 A2 ÍTEM 3.1.1.18 | E30: UNIDAD | F30: 0 | G30: 1 | H30: 14111514 | I30: 1277866 | J30: 7530-80-0011305
B31: 19 | C31: 3219302 | D31: PAPEL HIGIÉNICO TRIPLE HOJA: PRESENTACIÓN DE ROLLO TRIPLE HOJA CON UNA LONGITUD MÍNIMA DE 35 METROS, COLOR BLANCO, ABSORBENTE, RESISTENTE, SUAVE Y EMPACADO INDIVIDUALMENTE DE TAL MANERA QUE SUS CONDICIONES NO SE AFECTEN HASTA LLEGAR AL USUARIO FINA ESPECIFICACIONES SEGÚN NORMA TÉCNICA NO. NTMD-0356 A2 ÍTEM 3.1.1.10 | E31: UNIDAD | F31: 0 | G31: 1 | H31: 14111704 | I31: 1632379 | J31: 8540-80-0011398
B32: 20 | C32: 3219308 | D32: TOALLAS HIGIÉNICAS MUJER CON ALAS: ESPECIFICACIONES DE ACUERDO A NTC-3604 | E32: PAQUETE | F32: 0 | G32: 1 | H32: 52121700 | I32: 1476323 | J32: SIN CREAR
B34: CLASIFICADOR POR OBJETO DEL GASTO | F34: NOMBRE CUENTA
B35: A-02-02-01-003-005 | F35: OTROS PRODUCTOS QUÍMICOS; FIBRAS ARTIFICIALES (O FIBRAS INDUSTRIALES HECHAS POR EL HOMBRE)
B36: ÍTEM | C36: CÓDIGO DANE | D36: DESCRIPCIÓN DEL BIEN Y/O SERVICIO | E36: UNIDAD MEDIDA | F36: EXISTENCIAS (STOCK - INVENTARIOS) | G36: NECESIDAD | H36: UNSPSC (CCE) | I36: CÓDIGO MATERIAL SAP | J36: CÓDIGO OTAN - NOC
B37: 21 | C37: 3533301 | D37: BETÚN: NEGRO 125 GRAMOS ESPECIFICACIONES SEGÚN NORMA TÉCNICA NO. NTMD-0356 A2 ÍTEM 3.1.1.14 | E37: UNIDAD | F37: 0 | G37: 1 | H37: 47131809 | I37: 1048274 | J37: SIN CREAR
B38: 22 | C38: 3532315 | D38: TALCOS PARA PIES : DE 85 GRAMOS ESPECIFICACIONES SEGÚN NORMA TÉCNICA NO. NTMD-0356 A2 ÍTEM 3.1.1.6 | E38: UNIDAD | F38: 0 | G38: 1 | H38: 53131614 | I38: 1291103 | J38: 8510-80-0011397
B39: 23 | C39: 3532308 | D39: CREMA DENTAL: DE 100 ML ESPECIFICACIONES SEGÚN NORMA TÉCNICA NO. NTMD-0356 A2 ÍTEM 3.1.1.3 | E39: UNIDAD | F39: 0 | G39: 1 | H39: 53131502 | I39: 1013968 | J39: 8520-80-0011399
B40: 24 | C40: 3532324 | D40: DESODORANTE ANTITRASPIRANTE: ESPECIFICACIONES TÉCNICAS DE ACUERDO A LA NORMA TÉCNICA KIT DE DOTACIÓN NO. NTMD-0356 A2 ÍTEM 3.1.1.7 | E40: UNIDAD | F40: 0 | G40: 1 | H40: 53131606 | I40: 1013944 | J40: 8510-80-0011400
B41: 25 | C41: 3532324 | D41: DESODORANTE ANTITRANSPIRANTE PARA MUJER: DE 80 GRAMOS, ESPECIFICACIONES SEGÚN NORMA TÉCNICA NO. NTMD-0356 A2 ÍTEM 3.1.1.7 | E41: UNIDAD | F41: 0 | G41: 1 | H41: 53131606 | I41: 1476318 | J41: 8510-80-0011400
B42: 26 | C42: 3532105 | D42: JABÓN DE BAÑO ANTIBACTERIAL 130 GRAMOS: ESPECIFICACIONES SEGÚN NORMA TÉCNICA NO. NTMD-0356 A2 ÍTEM 3.1.1.8 | E42: UNIDAD | F42: 0 | G42: 1 | H42: 53131608 | I42: 1013955 | J42: 8520-80-0011401
B43: 27 | C43: 3532101 | D43: JABÓN PARA LAVAR ROPA: DE 300 GRAMOS, ESPECIFICACIONES SEGÚN NORMA TÉCNICA NO. NTMD-0356 A2 ÍTEM 3.1.1.13 | E43: UNIDAD | F43: 0 | G43: 1 | H43: 47131811 | I43: 1298675 | J43: 7930-80-0011405
B45: CLASIFICADOR POR OBJETO DEL GASTO | F45: NOMBRE CUENTA
...

Sheet PRESUPUESTO CONSOLIDADO
B2: ARTICULO PRESUPUESTAL (SIIF NACIÓN) | C2: RECURSO | D2: DESCRIPCIÓN DEL RUBRO | E2: VALOR APROXIMADO DE LA NECESIDAD | F2: PRESUPUESTO A UTILIZAR | G2: SALDO
B3: =PRESUPUESTO!B51 -> A-02-02-01-002-007 | C3: =PRESUPUESTO!C51 -> 10 | D3: =PRESUPUESTO!D51 -> ARTÍCULOS TEXTILES (EXCEPTO PRENDAS DE VESTIR) | E3: =PRESUPUESTO!G66 -> 1.4926446e+08 | F3: =PRESUPUESTO!H66 -> 0 | G3: =PRESUPUESTO!I66 -> 0
B4: =PRESUPUESTO!B69 -> A-02-02-01-002-008 | C4: =PRESUPUESTO!C69 -> 10 | D4: =PRESUPUESTO!D69 -> DOTACIÓN (PRENDAS DE VESTIR Y CALZADO) | E4: =PRESUPUESTO!G84 -> 1.1017241e+08 | F4: =PRESUPUESTO!H84 -> 0 | G4: =PRESUPUESTO!I84 -> 0
B5: =PRESUPUESTO!B87 -> A-02-02-01-003-002 | C5: =PRESUPUESTO!C87 -> 10 | D5: =PRESUPUESTO!D87 -> PASTA O PULPA, PAPEL Y PRODUCTOS DE PAPEL; IMPRESOS Y ARTÍCULOS SIMILARES | E5: =PRESUPUESTO!G102 -> 17181908 | F5: =PRESUPUESTO!H102 -> 0 | G5: =PRESUPUESTO!I102 -> 0
B6: =PRESUPUESTO!B105 -> A-02-02-01-003-005 | C6: =PRESUPUESTO!C105 -> 10 | D6: =PRESUPUESTO!D105 -> OTROS PRODUCTOS QUÍMICOS; FIBRAS ARTIFICIALES (O FIBRAS INDUSTRIALES HECHAS POR EL HOMBRE) | E6: =PRESUPUESTO!G120 -> 76633232 | F6: =PRESUPUESTO!H120 -> 0 | G6: =PRESUPUESTO!I120 -> 0
B7: =PRESUPUESTO!B123 -> A-02-02-01-003-006 | C7: =PRESUPUESTO!C123 -> 10 | D7: =PRESUPUESTO!D123 -> PRODUCTOS DE CAUCHO Y PLÁSTICO | E7: =PRESUPUESTO!G138 -> 10678304 | F7: =PRESUPUESTO!H138 -> 0 | G7: =PRESUPUESTO!I138 -> 0
B8: =PRESUPUESTO!B141 -> A-02-02-01-003-008 | C8: =PRESUPUESTO!C141 -> 10 | D8: =PRESUPUESTO!D141 -> OTROS BIENES TRANSPORTABLES N.C.P. | E8: =PRESUPUESTO!G156 -> 21384272 | F8: =PRESUPUESTO!H156 -> 0 | G8: =PRESUPUESTO!I156 -> 0
B9: =PRESUPUESTO!B159 -> A-02-02-01-004-002 | C9: =PRESUPUESTO!C159 -> 10 | D9: =PRESUPUESTO!D159 -> PRODUCTOS METÁLICOS ELABORADOS (EXCEPTO MAQUINARIA Y EQUIPO) | E9: =PRESUPUESTO!G174 -> 51156664 | F9: =PRESUPUESTO!H174 -> 0 | G9: =PRESUPUESTO!I174 -> 0
B10: TOTAL | E10: =SUM(E3:E9) -> 4.3647124e+08 | F10: =SUM(F3:F9) -> 0 | G10: =SUM(G3:G9) -> 0
O57: =SUMIFS(PRESUPUESTO!$G$87:$G$101,PRESUPUESTO!$E$87:$E$101,MÍNIMAS!AD3) -> 451638.72 | S57: =SUMIFS(PRESUPUESTO!$G$87:$G$101,PRESUPUESTO!$E$87:$E$101,MÍNIMAS!AH3) -> 1420371.1 | W57: =SUMIFS(PRESUPUESTO!$G$87:$G$101,PRESUPUESTO!$E$87:$E$101,MÍNIMAS!AL3) -> 1826191.4 | AA57: =SUMIFS(PRESUPUESTO!$G$87:$G$101,PRESUPUESTO!$E$87:$E$101,MÍNIMAS!AP3) -> 1420371.1 | AB57: =SUMIFS(PRESUPUESTO!$G$87:$G$101,PRESUPUESTO!$E$87:$E$101,MÍNIMAS!AQ3) -> 0 | AC57: =SUMIFS(PRESUPUESTO!$G$87:$G$101,PRESUPUESTO!$E$87:$E$101,MÍNIMAS!AR3) -> 0 | AD57: =SUMIFS(PRESUPUESTO!$G$87:$G$101,PRESUPUESTO!$E$87:$E$101,MÍNIMAS!AS3) -> 0 | AE57: =SUMIFS(PRESUPUESTO!$G$87:$G$101,PRESUPUESTO!$E$87:$E$101,MÍNIMAS!AT3) -> 1623281.2 | AI57: =SUMIFS(PRESUPUESTO!$G$87:$G$101,PRESUPUESTO!$E$87:$E$101,MÍNIMAS!AX3) -> 1623281.2 | AJ57: =SUMIFS(PRESUPUESTO!$G$87:$G$101,PRESUPUESTO!$E$87:$E$101,MÍNIMAS!AY3) -> 0 | AK57: =SUMIFS(PRESUPUESTO!$G$87:$G$101,PRESUPUESTO!$E$87:$E$101,MÍNIMAS!AZ3) -> 0 | AL57: =SUMIFS(PRESUPUESTO!$G$87:$G$101,PRESUPUESTO!$E$87:$E$101,MÍNIMAS!BA3) -> 0 | AM57: =SUMIFS(PRESUPUESTO!$G$87:$G$101,PRESUPUESTO!$E$87:$E$101,MÍNIMAS!BB3) -> 1826191.4 | AN57: =SUMIFS(PRESUPUESTO!$G$87:$G$101,PRESUPUESTO!$E$87:$E$101,MÍNIMAS!BC3) -> 0 | AO57: =SUMIFS(PRESUPUESTO!$G$87:$G$101,PRESUPUESTO!$E$87:$E$101,MÍNIMAS!BD3) -> 0 | AP57: =SUMIFS(PRESUPUESTO!$G$87:$G$101,PRESUPUESTO!$E$87:$E$101,MÍNIMAS!BE3) -> 0 | ... BV57: =SUMIFS(PRESUPUESTO!$G$87:$G$101,PRESUPUESTO!$E$87:$E$101,MÍNIMAS!CK3) -> 0 | BW57: =SUMIFS(PRESUPUESTO!$G:$G,PRESUPUESTO!$E:$E,MÍNIMAS!#REF!,PRESUPUESTO!$A:$A,1) -> 0 | BX57: =SUMIFS(PRESUPUESTO!$G$87:$G$101,PRESUPUESTO!$E$87:$E$101,MÍNIMAS!#REF!) -> 0 | BY57: =SUMIFS(PRESUPUESTO!$G$87:$G$101,PRESUPUESTO!$E$87:$E$101,MÍNIMAS!#REF!) -> 0 | BZ57: =SUMIFS(PRESUPUESTO!$G$87:$G$101,PRESUPUESTO!$E$87:$E$101,MÍNIMAS!#REF!) -> 0 | CA57: =SUMIFS(PRESUPUESTO!$G$87:$G$101,PRESUPUESTO!$E$87:$E$101,MÍNIMAS!#REF!) -> 0 | CB57: =SUMIFS(PRESUPUESTO!$G$87:$G$101,PRESUPUESTO!$E$87:$E$101,MÍNIMAS!#REF!) -> 0 | CC57: =SUMIFS(PRESUPUESTO!$G$87:$G$101,PRESUPUESTO!$E$87:$E$101,MÍNIMAS!#REF!) -> 0 | CD57: =SUMIFS(PRESUPUESTO!$G$87:$G$101,PRESUPUESTO!$E$87:$E$101,MÍNIMAS!#REF!) -> 0 | CE57: =SUMIFS(PRESUPUESTO!$G$87:$G$101,PRESUPUESTO!$E$87:$E$101,MÍNIMAS!#REF!) -> 0 | ... DV57: =SUMIFS(PRESUPUESTO!$G$87:$G$101,PRESUPUESTO!$E$87:$E$101,MÍNIMAS!#REF!) -> 0
A65: 1
A66: 1
A67: 1
A68: 1
A69: 1
A70: 1
A71: 1
A72: 1
A73: 1
A74: 1
A75: 1
A76: 1
... A92: 1

Sheet PRESUPUESTO
B2: UNIDAD | C2: 2° Contingente | D2: 3° Contingente | E2: 4° Contingente | F2: TOTAL | H2: UNIDAD | I2: KIT FEMENINO | J2: KIT MASCULINO | K2: TOTAL
B3: BAABS3 | C3: 31 | D3: 20 | E3: 18 | F3: =SUM(C3:E3) -> 69 | H3: BAABS3 | I3: 0 | J3: 69 | K3: =SUM(I3+J3) -> 69
B4: BAACA10 | C4: 93 | D4: 62 | E4: 62 | F4: =SUM(C4:E4) -> 217 | H4: BAACA10 | I4: 0 | J4: 217 | K4: =SUM(I4+J4) -> 217
B5: BAACA2 | C5: 93 | D5: 62 | E5: 124 | F5: =SUM(C5:E5) -> 279 | H5: BAACA2 | I5: 0 | J5: 279 | K5: =SUM(I5+J5) -> 279
B6: BAADA1 | C6: 93 | D6: 62 | E6: 62 | F6: =SUM(C6:E6) -> 217 | H6: BAADA1 | I6: 0 | J6: 217 | K6: =SUM(I6+J6) -> 217
B7: BAEEV2 | C7: 62 | D7: 62 | E7: 124 | F7: =SUM(C7:E7) -> 248 | H7: BAEEV2 | I7: 0 | J7: 248 | K7: =SUM(I7+J7) -> 248
B8: BAEEV3 | C8: 93 | D8: 93 | E8: 62 | F8: =SUM(C8:E8) -> 248 | H8: BAEEV3 | I8: 0 | J8: 248 | K8: =SUM(I8+J8) -> 248
B9: BAMMA7 | C9: 93 | D9: 124 | E9: 62 | F9: =SUM(C9:E9) -> 279 | H9: BAMMA7 | I9: 0 | J9: 279 | K9: =SUM(I9+J9) -> 279
B10: BASPC10 | C10: 0 | D10: 62 | E10: 63 | F10: =SUM(C10:E10) -> 125 | H10: BASPC10 | I10: 62 | J10: 63 | K10: =SUM(I10+J10) -> 125
B11: BASAC | C11: 0 | D11: 62 | E11: 0 | F11: =SUM(C11:E11) -> 62 | H11: BASAC | I11: 0 | J11: 62 | K11: =SUM(I11+J11) -> 62
B12: BICAR | C12: 93 | D12: 93 | E12: 93 | F12: =SUM(C12:E12) -> 279 | H12: BICAR | I12: 0 | J12: 279 | K12: =SUM(I12+J12) -> 279
B13: BIMOC70 | C13: 62 | D13: 62 | E13: 62 | F13: =SUM(C13:E13) -> 186 | H13: BIMOC70 | I13: 0 | J13: 186 | K13: =SUM(I13+J13) -> 186
B14: BITER10 | C14: 0 | D14: 16 | E14: 16 | F14: =SUM(C14:E14) -> 32 | H14: BITER10 | I14: 0 | J14: 32 | K14: =SUM(I14+J14) -> 32
... B17: GMRON | C17: 62 | D17: 62 | E17: 62 | F17: =SUM(C17:E17) -> 186 | H17: GMRON | I17: 0 | J17: 186 | K17: =SUM(I17+J17) -> 186
B18: TOTAL | C18: =SUM(C3:C17) -> 841 | D18: =SUM(D3:D17) -> 908 | E18: =SUM(E3:E17) -> 876 | F18: =SUM(C18:E18) -> 2625 | H18: TOTAL | I18: =SUM(I3:I17) -> 62 | J18: =SUM(J3:J17) -> 2563 | K18: =SUM(I18+J18) -> 2625
B20: KIT DE DOTACIÓN PARA SOLDADOS
B21: ARTICULO PRESUPUESTAL (SIIF NACIÓN) | C21: RECURSO | D21: DESCRIPCIÓN DEL RUBRO | E21: UNIDAD BENEFICIADA | F21: PORCENTAJE | G21: VALOR POR ARTÍCULO PRESUPUESTAL
B22: A-02-02-01-002-007 | C22: 10 | D22: ARTÍCULOS TEXTILES (EXCEPTO PRENDAS DE VESTIR) | E22: BR10 - FUTAM -BRLOG3 | F22: =G22*100%/#REF! -> #REF! | G22: =+K75 -> 0
B23: A-02-02-01-002-008 | D23: DOTACIÓN (PRENDAS DE VESTIR Y CALZADO) | E23: BR10 - FUTAM -BRLOG3 | F23: =G23*100%/#REF! -> #REF! | G23: =+#REF! -> #REF!
B24: A-02-02-01-003-002 | D24: PASTA O PULPA, PAPEL Y PRODUCTOS DE PAPEL; IMPRESOS Y ARTÍCULOS SIMILARES | E24: BR10 - FUTAM -BRLOG3 | F24: =G24*100%/#REF! -> #REF! | G24: =+K98 -> 0
B25: A-02-02-01-003-005 | D25: OTROS PRODUCTOS QUÍMICOS; FIBRAS ARTIFICIALES (O FIBRAS INDUSTRIALES HECHAS POR EL HOMBRE) | E25: BR10 - FUTAM -BRLOG3 | F25: =G25*100%/#REF! -> #REF! | G25: =+K103 -> 0
B26: A-02-02-01-003-006 | D26: PRODUCTOS DE CAUCHO Y PLÁSTICO | E26: BR10 - FUTAM -BRLOG3 | F26: =G26*100%/#REF! -> #REF! | G26: =+#REF! -> #REF!
B27: A-02-02-01-003-008 | D27: OTROS BIENES TRANSPORTABLES N.C.P. | E27: BR10 - FUTAM -BRLOG3 | F27: =G27*100%/#REF! -> #REF! | G27: =K126 -> 0
B28: A-02-02-01-004-002 | D28: PRODUCTOS METÁLICOS ELABORADOS (EXCEPTO MAQUINARIA Y EQUIPO) | E28: BR10 - FUTAM -BRLOG3 | F28: =G28*100%/#REF! -> #REF! | G28: =#REF! -> #REF!
B29: VALOR TOTAL DE LA PARTIDA | F29: =SUM(F22:F28) -> #REF! | G29: =SUM(G22:L28) -> #REF!
B31: VALOR POR UNIDAD
B32: ARTICULO PRESUPUESTAL (SIIF NACIÓN) | C32: RECURSO | D32: DESCRIPCIÓN DEL RUBRO | E32: UNIDAD BENEFICIADA | F32: PORCENTAJE | G32: VALOR POR ARTÍCULO PRESUPUESTAL
B33: A-02-02-01-002-007 A-02-02-01-002-008 A-02-02-01-003-002 A-02-02-01-003-005 A-02-02-01-003-006 A-02-02-01-003-008 A-02-02-01-004-002 | C33: 10 | D33: VALOR TOTAL PARTIDA ESPECIAL POR UNIDAD | E33: BAABS3 | F33: =G33/$G$48 -> 0.026285714 | G33: =SUM(G51,G69,G87,G105,G123,G141,G159) -> 11472958
E34: BAACA10 | F34: =G34/$G$48 -> 0.082666667 | G34: =SUM(G52,G70,G88,G106,G124,G142,G160) -> 36081623
E35: BAACA2 | F35: =G35/$G$48 -> 0.10628571 | G35: =SUM(G53,G71,G89,G107,G125,G143,G161) -> 46390658
E36: BAADA1 | F36: =G36/$G$48 -> 0.082666667 | G36: =SUM(G54,G72,G90,G108,G126,G144,G162) -> 36081623
E37: BAEEV2 | F37: =G37/$G$48 -> 0.09447619 | G37: =SUM(G55,G73,G91,G109,G127,G145,G163) -> 41236140
E38: BAEEV3 | F38: =G38/$G$48 -> 0.09447619 | G38: =SUM(G56,G74,G92,G110,G128,G146,G164) -> 41236140
E39: BAMMA7 | F39: =G39/$G$48 -> 0.10628571 | G39: =SUM(G57,G75,G93,G111,G129,G147,G165) -> 46390658
E40: BASPC10 | F40: =G40/$G$48 -> 0.047619048 | G40: =SUM(G58,G76,G94,G112,G130,G148,G166) -> 20784345
E41: BASAC | F41: =G41/$G$48 -> 0.023619048 | G41: =SUM(G59,G77,G95,G113,G131,G149,G167) -> 10309035
E42: BICAR | F42: =G42/$G$48 -> 0.10628571 | G42: =SUM(G60,G78,G96,G114,G132,G150,G168) -> 46390658
E43: BIMOC70 | F43: =G43/$G$48 -> 0.070857143 | G43: =SUM(G61,G79,G97,G115,G133,G151,G169) -> 30927105
E44: BITER10 | F44: =G44/$G$48 -> 0.012190476 | G44: =SUM(G62,G80,G98,G116,G134,G152,G170) -> 5320792.3
E45: DIM15 | F45: =G45/$G$48 -> 0.0045714286 | G45: =SUM(G63,G81,G99,G117,G135,G153,G171) -> 1995297.1
...

Sheet MÍNIMAS
B2: A-02-02-01-002-007 ARTÍCULOS TEXTILES (EXCEPTO PRENDAS DE VESTIR)
B3: ='PLAN DE NECESIDADES'!B4 -> ÍTEM | C3: ='PLAN DE NECESIDADES'!C4 -> CÓDIGO DANE | D3: ='PLAN DE NECESIDADES'!D4 -> DESCRIPCIÓN DEL BIEN Y/O SERVICIO | E3: ='PLAN DE NECESIDADES'!E4 -> UNIDAD MEDIDA | F3: ='PLAN DE NECESIDADES'!F4 -> EXISTENCIAS (STOCK - INVENTARIOS) | G3: ='PLAN DE NECESIDADES'!H4 -> UNSPSC (CCE) | H3: ='PLAN DE NECESIDADES'!I4 -> CÓDIGO MATERIAL SAP | I3: ='PLAN DE NECESIDADES'!J4 -> CÓDIGO OTAN - NOC | J3: CANTIDAD POR ELEMENTO | K3: =AD3 -> BAABS3 | L3: =AH3 -> BAACA10 | M3: =AL3 -> BAACA2 | N3: =AP3 -> BAADA1 | O3: =AT3 -> BAEEV2 | P3: =AX3 -> BAEEV3 | Q3: =BB3 -> BAMMA7 | R3: =BF3 -> BASPC10 | S3: =BJ3 -> BASAC | T3: =BN3 -> BICAR | U3: =BR3 -> BIMOC70 | V3: =BV3 -> BITER10 | W3: =BZ3 -> DIM15 | X3: =CD3 -> GMMAT | Y3: =CH3 -> GMRON | Z3: NECESIDAD TOTAL | AA3: MÍNIMAS | AB3: LIMITACIONES | AC3: PRECIO DE REFERENCIA | AD3: =PRESUPUESTO!E33 -> BAABS3 | AH3: BAACA10 | AL3: BAACA2 | AP3: BAADA1 | AT3: BAEEV2 | AX3: BAEEV3 | BB3: BAMMA7 | BF3: BASPC10 | BJ3: BASAC | BN3: BICAR | BR3: BIMOC70 | BV3: BITER10 | BZ3: DIM15 | CD3: GMMAT | CH3: GMRON
AD4: NT | AE4: M | AF4: L | AG4: VT | AH4: NT | AI4: M | AJ4: L | AK4: VT | AL4: NT | AM4: M | AN4: L | AO4: VT | AP4: NT | AQ4: M | AR4: L | AS4: VT | AT4: NT | AU4: M | AV4: L | AW4: VT | AX4: NT | AY4: M | AZ4: L | BA4: VT | BB4: NT | BC4: M | BD4: L | BE4: VT | BF4: NT | BG4: M | BH4: L | BI4: VT | BJ4: NT | BK4: M | BL4: L | BM4: VT | BN4: NT | BO4: M | BP4: L | BQ4: VT | BR4: NT | BS4: M | BT4: L | BU4: VT | BV4: NT | BW4: M | BX4: L | BY4: VT | BZ4: NT | CA4: M | CB4: L | CC4: VT | CD4: NT | CE4: M | CF4: L | CG4: VT | CH4: NT | CI4: M | CJ4: L | CK4: VT
B5: ='PLAN DE NECESIDADES'!B5 -> 1 | C5: ='PLAN DE NECESIDADES'!C5 -> 2791301 | D5: ='PLAN DE NECESIDADES'!D5 -> PARCHE DE IDENTIFICACIÓN PERSONAL: ESPECIFICACIONES TÉCNICAS DE ACUERDO NORMA TÉCNICA KIT DE DOTACIÓN NO. NTMD-0356 - A2 | E5: ='PLAN DE NECESIDADES'!E5 -> UNIDAD | F5: ='PLAN DE NECESIDADES'!F5 -> 0 | G5: ='PLAN DE NECESIDADES'!H5 -> 11161701 | H5: ='PLAN DE NECESIDADES'!I5 -> 1047066 | I5: ='PLAN DE NECESIDADES'!J5 -> SIN CREAR | J5: 4 | K5: 69 | L5: 217 | M5: 279 | N5: 217 | O5: 248 | P5: 248 | Q5: 279 | R5: 125 | S5: 62 | T5: 279 | U5: 186 | V5: 32 | W5: 12 | X5: 186 | Y5: 186 | Z5: =SUM(AD5,AH5,AL5,AP5,AT5,AX5,BB5,BF5,BJ5,BN5,BR5,BV5,BZ5,CD5,CH5) -> 10624 | AA5: =SUM(AE5,AI5,AM5,AQ5,AU5,AY5,BC5,BG5,BK5,BO5,BS5,BW5,CA5,CE5,CI5) -> 5080 | AB5: =SUM(AF5,AJ5,AN5,AR5,AV5,AZ5,BD5,BH5,BL5,BP5,BT5,BX5,CB5,CF5,CJ5) -> 5544 | AC5: 3100 | AD5: =K5*J5 -> 276 | AE5: =J5*34 -> 136 | AF5: =AD5-AE5 -> 140 | AG5: =AC5*AE5 -> 421600 | AH5: =L5*J5 -> 868 | AI5: =J5*105 -> 420 | AJ5: =AH5-AI5 -> 448 | AK5: =AC5*AI5 -> 1302000 | AL5: =M5*J5 -> 1116 | AM5: =J5*135 -> 540 | AN5: =AL5-AM5 -> 576 | AO5: =AC5*AM5 -> 1674000 | AP5: =N5*J5 -> 868 | AQ5: =J5*105 -> 420 | AR5: =AP5-AQ5 -> 448 | AS5: =AC5*AQ5 -> 1302000 | AT5: =M5*J5 -> 1116 | AU5: =J5*120 -> 480 | AV5: =AT5-AU5 -> 636 | AW5: =AU5*AC5 -> 1488000 | AX5: =P5*J5 -> 992 | AY5: =J5*120 -> 480 | AZ5: =AX5-AY5 -> 512 | BA5: =AC5*AY5 -> 1488000 | BB5: =Q5*J5 -> 1116 | BC5: =J5*135 -> 540 | BD5: =BB5-BC5 -> 576 | BE5: =BC5*AC5 -> 1674000 | BF5: =R5*J5 -> 500 | BG5: =J5*59 -> 236 | BH5: =BF5-BG5 -> 264 | BI5: =BG5*AC5 -> 731600 | BJ5: =S5*J5 -> 248 | BK5: =J5*30 -> 120 | BL5: =BJ5-BK5 -> 128 | BM5: =BK5*AC5 -> 372000 | BN5: =T5*J5 -> 1116 | BO5: =J5*135 -> 540 | BP5: =BN5-BO5 -> 576 | BQ5: =BO5*AC5 -> 1674000 | BR5: =U5*J5 -> 744 | BS5: =J5*90 -> 360 | BT5: =BR5-BS5 -> 384 | BU5: =BS5*AC5 -> 1116000 | BV5: =V5*J5 -> 128 | BW5: =J5*16 -> 64 | BX5: =BV5-BW5 -> 64 | BY5: =BW5*AC5 -> 198400 | BZ5: =W5*J5 -> 48 | CA5: =J5*6 -> 24 | CB5: =BZ5-CA5 -> 24 | CC5: =CA5*AC5 -> 74400 | CD5: =X5*J5 -> 744 | CE5: =J5*90 -> 360 | CF5: =CD5-CE5 -> 384 | CG5: =CE5*AC5 -> 1116000 | CH5: =Y5*J5 -> 744 | CI5: =J5*90 -> 360 | CJ5: =CH5-CI5 -> 384 | CK5: =CI5*AC5 -> 1116000
B6: ='PLAN DE NECESIDADES'!B6 -> 2 | C6: ='PLAN DE NECESIDADES'!C6 -> 2791301 | D6: ='PLAN DE NECESIDADES'!D6 -> PARCHE DE EJÉRCITO: ESPECIFICACIONES TÉCNICAS DE ACUERDO A LA NORMA TÉCNICA KIT DE DOTACIÓN. NO. NTMD-0356 - A2. | E6: ='PLAN DE NECESIDADES'!E6 -> UNIDAD | F6: ='PLAN DE NECESIDADES'!F6 -> 0 | G6: ='PLAN DE NECESIDADES'!H6 -> 11161701 | H6: ='PLAN DE NECESIDADES'!I6 -> 1898472 | I6: ='PLAN DE NECESIDADES'!J6 -> SIN CREAR | J6: 2 | K6: 69 | L6: 217 | M6: 279 | N6: 217 | O6: 248 | P6: 248 | Q6: 279 | R6: 125 | S6: 62 | T6: 279 | U6: 186 | V6: 32 | W6: 12 | X6: 186 | Y6: 186 | Z6: =SUM(AD6,AH6,AL6,AP6,AT6,AX6,BB6,BF6,BJ6,BN6,BR6,BV6,BZ6,CD6,CH6) -> 5312 | AA6: =SUM(AE6,AI6,AM6,AQ6,AU6,AY6,BC6,BG6,BK6,BO6,BS6,BW6,CA6,CE6,CI6) -> 2538 | AB6: =SUM(AF6,AJ6,AN6,AR6,AV6,AZ6,BD6,BH6,BL6,BP6,BT6,BX6,CB6,CF6,CJ6) -> 2774 | AC6: 3900 | AD6: =K6*J6 -> 138 | AE6: =J6*34 -> 68 | AF6: =AD6-AE6 -> 70 | AG6: =AC6*AE6 -> 265200 | AH6: =L6*J6 -> 434 | AI6: =J6*105 -> 210 | AJ6: =AH6-AI6 -> 224 | AK6: =AC6*AI6 -> 819000 | AL6: =M6*J6 -> 558 | AM6: =J6*135 -> 270 | AN6: =AL6-AM6 -> 288 | AO6: =AC6*AM6 -> 1053000 | AP6: =N6*J6 -> 434 | AQ6: =J6*105 -> 210 | AR6: =AP6-AQ6 -> 224 | AS6: =AC6*AQ6 -> 819000 | AT6: =M6*J6 -> 558 | AU6: =J6*120 -> 240 | AV6: =AT6-AU6 -> 318 | AW6: =AU6*AC6 -> 936000 | AX6: =P6*J6 -> 496 | AY6: =J6*120 -> 240 | AZ6: =AX6-AY6 -> 256 | BA6: =AC6*AY6 -> 936000 | BB6: =Q6*J6 -> 558 | BC6: =J6*135 -> 270 | BD6: =BB6-BC6 -> 288 | BE6: =BC6*AC6 -> 1053000 | BF6: =R6*J6 -> 250 | BG6: =J6*58 -> 116 | BH6: =BF6-BG6 -> 134 | BI6: =BG6*AC6 -> 452400 | BJ6: =S6*J6 -> 124 | BK6: =J6*30 -> 60 | BL6: =BJ6-BK6 -> 64 | BM6: =BK6*AC6 -> 234000 | BN6: =T6*J6 -> 558 | BO6: =J6*135 -> 270 | BP6: =BN6-BO6 -> 288 | BQ6: =BO6*AC6 -> 1053000 | BR6: =U6*J6 -> 372 | BS6: =J6*90 -> 180 | BT6: =BR6-BS6 -> 192 | BU6: =BS6*AC6 -> 702000 | BV6: =V6*J6 -> 64 | BW6: =J6*16 -> 32 | BX6: =BV6-BW6 -> 32 | BY6: =BW6*AC6 -> 124800 | BZ6: =W6*J6 -> 24 | CA6: =J6*6 -> 12 | CB6: =BZ6-CA6 -> 12 | CC6: =CA6*AC6 -> 46800 | CD6: =X6*J6 -> 372 | CE6: =J6*90 -> 180 | CF6: =CD6-CE6 -> 192 | CG6: =CE6*AC6 -> 702000 | CH6: =Y6*J6 -> 372 | CI6: =J6*90 -> 180 | CJ6: =CH6-CI6 -> 192 | CK6: =CI6*AC6 -> 702000
B7: ='PLAN DE NECESIDADES'!B7 -> 3 | C7: ='PLAN DE NECESIDADES'!C7 -> 2791301 | D7: ='PLAN DE NECESIDADES'!D7 -> PARCHES DE LA UNIDAD SUPERIOR Y SUBALTERNA: ESPECIFICACIONES TÉCNICAS DE ACUERDO A LA NORMA TÉCNICA KIT DE DOTACIÓN N°. NTMD-0356 - A2. | E7: ='PLAN DE NECESIDADES'!E7 -> UNIDAD | F7: ='PLAN DE NECESIDADES'!F7 -> 0 | G7: ='PLAN DE NECESIDADES'!H7 -> 11161701 | H7: ='PLAN DE NECESIDADES'!I7 -> 1343999 | I7: ='PLAN DE NECESIDADES'!J7 -> SIN CREAR | J7: 4 | K7: 69 | L7: 217 | M7: 279 | N7: 217 | O7: 248 | P7: 248 | Q7: 279 | R7: 125 | S7: 62 | T7: 279 | U7: 186 | V7: 32 | W7: 12 | X7: 186 | Y7: 186 | Z7: =SUM(AD7,AH7,AL7,AP7,AT7,AX7,BB7,BF7,BJ7,BN7,BR7,BV7,BZ7,CD7,CH7) -> 10624 | AA7: =SUM(AE7,AI7,AM7,AQ7,AU7,AY7,BC7,BG7,BK7,BO7,BS7,BW7,CA7,CE7,CI7) -> 5076 | AB7: =SUM(AF7,AJ7,AN7,AR7,AV7,AZ7,BD7,BH7,BL7,BP7,BT7,BX7,CB7,CF7,CJ7) -> 5548 | AC7: 4100 | AD7: =K7*J7 -> 276 | AE7: =J7*34 -> 136 | AF7: =AD7-AE7 -> 140 | AG7: =AC7*AE7 -> 557600 | AH7: =L7*J7 -> 868 | AI7: =J7*105 -> 420 | AJ7: =AH7-AI7 -> 448 | AK7: =AC7*AI7 -> 1722000 | AL7: =M7*J7 -> 1116 | AM7: =J7*135 -> 540 | AN7: =AL7-AM7 -> 576 | AO7: =AC7*AM7 -> 2214000 | AP7: =N7*J7 -> 868 | AQ7: =J7*105 -> 420 | AR7: =AP7-AQ7 -> 448 | AS7: =AC7*AQ7 -> 1722000 | AT7: =M7*J7 -> 1116 | AU7: =J7*120 -> 480 | AV7: =AT7-AU7 -> 636 | AW7: =AU7*AC7 -> 1968000 | AX7: =P7*J7 -> 992 | AY7: =J7*120 -> 480 | AZ7: =AX7-AY7 -> 512 | BA7: =AC7*AY7 -> 1968000 | BB7: =Q7*J7 -> 1116 | BC7: =J7*135 -> 540 | BD7: =BB7-BC7 -> 576 | BE7: =BC7*AC7 -> 2214000 | BF7: =R7*J7 -> 500 | BG7: =J7*58 -> 232 | BH7: =BF7-BG7 -> 268 | BI7: =BG7*AC7 -> 951200 | BJ7: =S7*J7 -> 248 | BK7: =J7*30 -> 120 | BL7: =BJ7-BK7 -> 128 | BM7: =BK7*AC7 -> 492000 | BN7: =T7*J7 -> 1116 | BO7: =J7*135 -> 540 | BP7: =BN7-BO7 -> 576 | BQ7: =BO7*AC7 -> 2214000 | BR7: =U7*J7 -> 744 | BS7: =J7*90 -> 360 | BT7: =BR7-BS7 -> 384 | BU7: =BS7*AC7 -> 1476000 | BV7: =V7*J7 -> 128 | BW7: =J7*16 -> 64 | BX7: =BV7-BW7 -> 64 | BY7: =BW7*AC7 -> 262400 | BZ7: =W7*J7 -> 48 | CA7: =J7*6 -> 24 | CB7: =BZ7-CA7 -> 24 | CC7: =CA7*AC7 -> 98400 | CD7: =X7*J7 -> 744 | CE7: =J7*90 -> 360 | CF7: =CD7-CE7 -> 384 | CG7: =CE7*AC7 -> 1476000 | CH7: =Y7*J7 -> 744 | CI7: =J7*90 -> 360 | CJ7: =CH7-CI7 -> 384 | CK7: =CI7*AC7 -> 1476000
B8: ='PLAN DE NECESIDADES'!B8 -> 4 | C8: ='PLAN DE NECESIDADES'!C8 -> 2791301 | D8: ='PLAN DE NECESIDADES'!D8 -> BANDERA DE IDENTIFICACIÓN COLOMBIA: PARA UNIFORME DE COMBATE CAMUFLADO TIPO SELVA "CAMALEÓN" ESPECIFICACIONES TÉCNICAS DE ACUERDO AL BOLETÍN N°.001 ESTANDARIZACIÓN DE LA BANDERA DE IDENTIFICACIÓN EMPLEADA EN EL UNIFORME Nº4 Y 4A DEL PATRÓN DE CAMUFLAJE TERRESTRE "CAMALEÓN". | E8: ='PLAN DE NECESIDADES'!E8 -> UNIDAD | F8: ='PLAN DE NECESIDADES'!F8 -> 0 | G8: ='PLAN DE NECESIDADES'!H8 -> 11161701 | H8: ='PLAN DE NECESIDADES'!I8 -> 1347326 | I8: ='PLAN DE NECESIDADES'!J8 -> SIN CREAR | J8: 2 | K8: 69 | L8: 217 | M8: 279 | N8: 217 | O8: 248 | P8: 248 | Q8: 279 | R8: 125 | S8: 62 | T8: 279 | U8: 186 | V8: 32 | W8: 12 | X8: 186 | Y8: 186 | Z8: =SUM(AD8,AH8,AL8,AP8,AT8,AX8,BB8,BF8,BJ8,BN8,BR8,BV8,BZ8,CD8,CH8) -> 5312 | AA8: =SUM(AE8,AI8,AM8,AQ8,AU8,AY8,BC8,BG8,BK8,BO8,BS8,BW8,CA8,CE8,CI8) -> 2536 | AB8: =SUM(AF8,AJ8,AN8,AR8,AV8,AZ8,BD8,BH8,BL8,BP8,BT8,BX8,CB8,CF8,CJ8) -> 2776 | AC8: 5300 | AD8: =K8*J8 -> 138 | AE8: =J8*33 -> 66 | AF8: =AD8-AE8 -> 72 | AG8: =AC8*AE8 -> 349800 | AH8: =L8*J8 -> 434 | AI8: =J8*105 -> 210 | AJ8: =AH8-AI8 -> 224 | AK8: =AC8*AI8 -> 1113000 | AL8: =M8*J8 -> 558 | AM8: =J8*135 -> 270 | AN8: =AL8-AM8 -> 288 | AO8: =AC8*AM8 -> 1431000 | AP8: =N8*J8 -> 434 | AQ8: =J8*105 -> 210 | AR8: =AP8-AQ8 -> 224 | AS8: =AC8*AQ8 -> 1113000 | AT8: =M8*J8 -> 558 | AU8: =J8*120 -> 240 | AV8: =AT8-AU8 -> 318 | AW8: =AU8*AC8 -> 1272000 | AX8: =P8*J8 -> 496 | AY8: =J8*120 -> 240 | AZ8: =AX8-AY8 -> 256 | BA8: =AC8*AY8 -> 1272000 | BB8: =Q8*J8 -> 558 | BC8: =J8*135 -> 270 | BD8: =BB8-BC8 -> 288 | BE8: =BC8*AC8 -> 1431000 | BF8: =R8*J8 -> 250 | BG8: =J8*58 -> 116 | BH8: =BF8-BG8 -> 134 | BI8: =BG8*AC8 -> 614800 | BJ8: =S8*J8 -> 124 | BK8: =J8*30 -> 60 | BL8: =BJ8-BK8 -> 64 | BM8: =BK8*AC8 -> 318000 | BN8: =T8*J8 -> 558 | BO8: =J8*135 -> 270 | BP8: =BN8-BO8 -> 288 | BQ8: =BO8*AC8 -> 1431000 | BR8: =U8*J8 -> 372 | BS8: =J8*90 -> 180 | BT8: =BR8-BS8 -> 192 | BU8: =BS8*AC8 -> 954000 | BV8: =V8*J8 -> 64 | BW8: =J8*16 -> 32 | BX8: =BV8-BW8 -> 32 | BY8: =BW8*AC8 -> 169600 | BZ8: =W8*J8 -> 24 | CA8: =J8*6 -> 12 | CB8: =BZ8-CA8 -> 12 | CC8: =CA8*AC8 -> 63600 | CD8: =X8*J8 -> 372 | CE8: =J8*90 -> 180 | CF8: =CD8-CE8 -> 192 | CG8: =CE8*AC8 -> 954000 | CH8: =Y8*J8 -> 372 | CI8: =J8*90 -> 180 | CJ8: =CH8-CI8 -> 192 | CK8: =CI8*AC8 -> 954000
B9: ='PLAN DE NECESIDADES'!B9 -> 5 | C9: ='PLAN DE NECESIDADES'!C9 -> 2791301 | D9: ='PLAN DE NECESIDADES'!D9 -> PARCHE PARA IDENTIFICACIÓN GRUPO SANGUÍNEO: ESPECIFICACIONES TÉCNICAS DE ACUERDO A LA NORMA TÉCNICA KIT DE DOTACIÓN N°. NTMD-0356 - A2. | E9: ='PLAN DE NECESIDADES'!E9 -> UNIDAD | F9: ='PLAN DE NECESIDADES'!F9 -> 0 | G9: ='PLAN DE NECESIDADES'!H9 -> 11161701 | H9: ='PLAN DE NECESIDADES'!I9 -> 1143174 | I9: ='PLAN DE NECESIDADES'!J9 -> SIN CREAR | J9: 2 | K9: 69 | L9: 217 | M9: 279 | N9: 217 | O9: 248 | P9: 248 | Q9: 279 | R9: 125 | S9: 62 | T9: 279 | U9: 186 | V9: 32 | W9: 12 | X9: 186 | Y9: 186 | Z9: =SUM(AD9,AH9,AL9,AP9,AT9,AX9,BB9,BF9,BJ9,BN9,BR9,BV9,BZ9,CD9,CH9) -> 5312 | AA9: =SUM(AE9,AI9,AM9,AQ9,AU9,AY9,BC9,BG9,BK9,BO9,BS9,BW9,CA9,CE9,CI9) -> 2534 | AB9: =SUM(AF9,AJ9,AN9,AR9,AV9,AZ9,BD9,BH9,BL9,BP9,BT9,BX9,CB9,CF9,CJ9) -> 2778 | AC9: 3700 | AD9: =K9*J9 -> 138 | AE9: =J9*33 -> 66 | AF9: =AD9-AE9 -> 72 | AG9: =AC9*AE9 -> 244200 | AH9: =L9*J9 -> 434 | AI9: =J9*104 -> 208 | AJ9: =AH9-AI9 -> 226 | AK9: =AC9*AI9 -> 769600 | AL9: =M9*J9 -> 558 | AM9: =J9*135 -> 270 | AN9: =AL9-AM9 -> 288 | AO9: =AC9*AM9 -> 999000 | AP9: =N9*J9 -> 434 | AQ9: =J9*105 -> 210 | AR9: =AP9-AQ9 -> 224 | AS9: =AC9*AQ9 -> 777000 | AT9: =M9*J9 -> 558 | AU9: =J9*120 -> 240 | AV9: =AT9-AU9 -> 318 | AW9: =AU9*AC9 -> 888000 | AX9: =P9*J9 -> 496 | AY9: =J9*120 -> 240 | AZ9: =AX9-AY9 -> 256 | BA9: =AC9*AY9 -> 888000 | BB9: =Q9*J9 -> 558 | BC9: =J9*135 -> 270 | BD9: =BB9-BC9 -> 288 | BE9: =BC9*AC9 -> 999000 | BF9: =R9*J9 -> 250 | BG9: =J9*58 -> 116 | BH9: =BF9-BG9 -> 134 | BI9: =BG9*AC9 -> 429200 | BJ9: =S9*J9 -> 124 | BK9: =J9*30 -> 60 | BL9: =BJ9-BK9 -> 64 | BM9: =BK9*AC9 -> 222000 | BN9: =T9*J9 -> 558 | BO9: =J9*135 -> 270 | BP9: =BN9-BO9 -> 288 | BQ9: =BO9*AC9 -> 999000 | BR9: =U9*J9 -> 372 | BS9: =J9*90 -> 180 | BT9: =BR9-BS9 -> 192 | BU9: =BS9*AC9 -> 666000 | BV9: =V9*J9 -> 64 | BW9: =J9*16 -> 32 | BX9: =BV9-BW9 -> 32 | BY9: =BW9*AC9 -> 118400 | BZ9: =W9*J9 -> 24 | CA9: =J9*6 -> 12 | CB9: =BZ9-CA9 -> 12 | CC9: =CA9*AC9 -> 44400 | CD9: =X9*J9 -> 372 | CE9: =J9*90 -> 180 | CF9: =CD9-CE9 -> 192 | CG9: =CE9*AC9 -> 666000 | CH9: =Y9*J9 -> 372 | CI9: =J9*90 -> 180 | CJ9: =CH9-CI9 -> 192 | CK9: =CI9*AC9 -> 666000
B10: ='PLAN DE NECESIDADES'!B10 -> 6 | C10: ='PLAN DE NECESIDADES'!C10 -> 2791301 | D10: ='PLAN DE NECESIDADES'!D10 -> INSIGNIA DEL GRADO SOLDADO: ESPECIFICACIONES TÉCNICAS DE ACUERDO A LA NORMA TÉCNICA KIT DE DOTACIÓN N°. NTMD-0356 - A2. | E10: ='PLAN DE NECESIDADES'!E10 -> JUEGO | F10: ='PLAN DE NECESIDADES'!F10 -> 0 | G10: ='PLAN DE NECESIDADES'!H10 -> 11161701 | H10: ='PLAN DE NECESIDADES'!I10 -> 1047424 | I10: ='PLAN DE NECESIDADES'!J10 -> SIN CREAR | J10: 2 | K10: 69 | L10: 217 | M10: 279 | N10: 217 | O10: 248 | P10: 248 | Q10: 279 | R10: 125 | S10: 62 | T10: 279 | U10: 186 | V10: 32 | W10: 12 | X10: 186 | Y10: 186 | Z10: =SUM(AD10,AH10,AL10,AP10,AT10,AX10,BB10,BF10,BJ10,BN10,BR10,BV10,BZ10,CD10,CH10) -> 5312 | AA10: =SUM(AE10,AI10,AM10,AQ10,AU10,AY10,BC10,BG10,BK10,BO10,BS10,BW10,CA10,CE10,CI10) -> 2534 | AB10: =SUM(AF10,AJ10,AN10,AR10,AV10,AZ10,BD10,BH10,BL10,BP10,BT10,BX10,CB10,CF10,CJ10) -> 2778 | AC10: 14900 | AD10: =K10*J10 -> 138 | AE10: =J10*33 -> 66 | AF10: =AD10-AE10 -> 72 | AG10: =AC10*AE10 -> 983400 | AH10: =L10*J10 -> 434 | AI10: =J10*105 -> 210 | AJ10: =AH10-AI10 -> 224 | AK10: =AC10*AI10 -> 3129000 | AL10: =M10*J10 -> 558 | AM10: =J10*135 -> 270 | AN10: =AL10-AM10 -> 288 | AO10: =AC10*AM10 -> 4023000 | AP10: =N10*J10 -> 434 | AQ10: =J10*105 -> 210 | AR10: =AP10-AQ10 -> 224 | AS10: =AC10*AQ10 -> 3129000 | AT10: =M10*J10 -> 558 | AU10: =J10*120 -> 240 | AV10: =AT10-AU10 -> 318 | AW10: =AU10*AC10 -> 3576000 | AX10: =P10*J10 -> 496 | AY10: =J10*120 -> 240 | AZ10: =AX10-AY10 -> 256 | BA10: =AC10*AY10 -> 3576000 | BB10: =Q10*J10 -> 558 | BC10: =J10*135 -> 270 | BD10: =BB10-BC10 -> 288 | BE10: =BC10*AC10 -> 4023000 | BF10: =R10*J10 -> 250 | BG10: =J10*58 -> 116 | BH10: =BF10-BG10 -> 134 | BI10: =BG10*AC10 -> 1728400 | BJ10: =S10*J10 -> 124 | BK10: =J10*30 -> 60 | BL10: =BJ10-BK10 -> 64 | BM10: =BK10*AC10 -> 894000 | BN10: =T10*J10 -> 558 | BO10: =J10*135 -> 270 | BP10: =BN10-BO10 -> 288 | BQ10: =BO10*AC10 -> 4023000 | BR10: =U10*J10 -> 372 | BS10: =J10*90 -> 180 | BT10: =BR10-BS10 -> 192 | BU10: =BS10*AC10 -> 2682000 | BV10: =V10*J10 -> 64 | BW10: =J10*15 -> 30 | BX10: =BV10-BW10 -> 34 | BY10: =BW10*AC10 -> 447000 | BZ10: =W10*J10 -> 24 | CA10: =J10*6 -> 12 | CB10: =BZ10-CA10 -> 12 | CC10: =CA10*AC10 -> 178800 | CD10: =X10*J10 -> 372 | CE10: =J10*90 -> 180 | CF10: =CD10-CE10 -> 192 | CG10: =CE10*AC10 -> 2682000 | CH10: =Y10*J10 -> 372 | CI10: =J10*90 -> 180 | CJ10: =CH10-CI10 -> 192 | CK10: =CI10*AC10 -> 2682000
B11: ='PLAN DE NECESIDADES'!B11 -> 7 | C11: ='PLAN DE NECESIDADES'!C11 -> 2791301 | D11: ='PLAN DE NECESIDADES'!D11 -> BRAZALETES TÁCTICOS X JUEGO DE 4: ESPECIFICACIONES TÉCNICAS DE ACUERDO A LA NORMA TÉCNICA KIT DE DOTACIÓN N°. NTMD-0356 - A2. | E11: ='PLAN DE NECESIDADES'!E11 -> JUEGO | F11: ='PLAN DE NECESIDADES'!F11 -> 0 | G11: ='PLAN DE NECESIDADES'!H11 -> 11161701 | H11: ='PLAN DE NECESIDADES'!I11 -> 1248964 | I11: ='PLAN DE NECESIDADES'!J11 -> 8455-80-0011302 | J11: 1 | K11: 69 | L11: 217 | M11: 279 | N11: 217 | O11: 248 | P11: 248 | Q11: 279 | R11: 125 | S11: 62 | T11: 279 | U11: 186 | V11: 32 | W11: 12 | X11: 186 | Y11: 186 | Z11: =SUM(AD11,AH11,AL11,AP11,AT11,AX11,BB11,BF11,BJ11,BN11,BR11,BV11,BZ11,CD11,CH11) -> 2656 | AA11: =SUM(AE11,AI11,AM11,AQ11,AU11,AY11,BC11,BG11,BK11,BO11,BS11,BW11,CA11,CE11,CI11) -> 1260 | AB11: =SUM(AF11,AJ11,AN11,AR11,AV11,AZ11,BD11,BH11,BL11,BP11,BT11,BX11,CB11,CF11,CJ11) -> 1396 | AC11: 8200 | AD11: =K11*J11 -> 69 | AE11: =J11*33 -> 33 | AF11: =AD11-AE11 -> 36 | AG11: =AC11*AE11 -> 270600 | AH11: =L11*J11 -> 217 | AI11: =J11*105 -> 105 | AJ11: =AH11-AI11 -> 112 | AK11: =AC11*AI11 -> 861000 | AL11: =M11*J11 -> 279 | AM11: =J11*134 -> 134 | AN11: =AL11-AM11 -> 145 | AO11: =AC11*AM11 -> 1098800 | AP11: =N11*J11 -> 217 | AQ11: =J11*105 -> 105 | AR11: =AP11-AQ11 -> 112 | AS11: =AC11*AQ11 -> 861000 | AT11: =M11*J11 -> 279 | AU11: =J11*120 -> 120 | AV11: =AT11-AU11 -> 159 | AW11: =AU11*AC11 -> 984000 | AX11: =P11*J11 -> 248 | AY11: =J11*119 -> 119 | AZ11: =AX11-AY11 -> 129 | BA11: =AC11*AY11 -> 975800 | BB11: =Q11*J11 -> 279 | BC11: =J11*134 -> 134 | BD11: =BB11-BC11 -> 145 | BE11: =BC11*AC11 -> 1098800 | BF11: =R11*J11 -> 125 | BG11: =J11*58 -> 58 | BH11: =BF11-BG11 -> 67 | BI11: =BG11*AC11 -> 475600 | BJ11: =S11*J11 -> 62 | BK11: =J11*30 -> 30 | BL11: =BJ11-BK11 -> 32 | BM11: =BK11*AC11 -> 246000 | BN11: =T11*J11 -> 279 | BO11: =J11*135 -> 135 | BP11: =BN11-BO11 -> 144 | BQ11: =BO11*AC11 -> 1107000 | BR11: =U11*J11 -> 186 | BS11: =J11*89 -> 89 | BT11: =BR11-BS11 -> 97 | BU11: =BS11*AC11 -> 729800 | BV11: =V11*J11 -> 32 | BW11: =J11*15 -> 15 | BX11: =BV11-BW11 -> 17 | BY11: =BW11*AC11 -> 123000 | BZ11: =W11*J11 -> 12 | CA11: =J11*5 -> 5 | CB11: =BZ11-CA11 -> 7 | CC11: =CA11*AC11 -> 41000 | CD11: =X11*J11 -> 186 | CE11: =J11*89 -> 89 | CF11: =CD11-CE11 -> 97 | CG11: =CE11*AC11 -> 729800 | CH11: =Y11*J11 -> 186 | CI11: =J11*89 -> 89 | CJ11: =CH11-CI11 -> 97 | CK11: =CI11*AC11 -> 729800
B12: ='PLAN DE NECESIDADES'!B12 -> 8 | C12: ='PLAN DE NECESIDADES'!C12 -> 2791301 | D12: ='PLAN DE NECESIDADES'!D12 -> OJOS DE GATO: ESPECIFICACIONES TÉCNICAS DE ACUERDO A LA NORMA TÉCNICA KIT DE DOTACIÓN N°. NTMD-0356 - A2. | E12: ='PLAN DE NECESIDADES'!E12 -> UNIDAD | F12: ='PLAN DE NECESIDADES'!F12 -> 0 | G12: ='PLAN DE NECESIDADES'!H12 -> 11161701 | H12: ='PLAN DE NECESIDADES'!I12 -> 1082391 | I12: ='PLAN DE NECESIDADES'!J12 -> SIN CREAR | J12: 2 | K12: 69 | L12: 217 | M12: 279 | N12: 217 | O12: 248 | P12: 248 | Q12: 279 | R12: 125 | S12: 62 | T12: 279 | U12: 186 | V12: 32 | W12: 12 | X12: 186 | Y12: 186 | Z12: =SUM(AD12,AH12,AL12,AP12,AT12,AX12,BB12,BF12,BJ12,BN12,BR12,BV12,BZ12,CD12,CH12) -> 5312 | AA12: =SUM(AE12,AI12,AM12,AQ12,AU12,AY12,BC12,BG12,BK12,BO12,BS12,BW12,CA12,CE12,CI12) -> 2534 | AB12: =SUM(AF12,AJ12,AN12,AR12,AV12,AZ12,BD12,BH12,BL12,BP12,BT12,BX12,CB12,CF12,CJ12) -> 2778 | AC12: 4100 | AD12: =K12*J12 -> 138 | AE12: =J12*33 -> 66 | AF12: =AD12-AE12 -> 72 | AG12: =AC12*AE12 -> 270600 | AH12: =L12*J12 -> 434 | AI12: =J12*105 -> 210 | AJ12: =AH12-AI12 -> 224 | AK12: =AC12*AI12 -> 861000 | AL12: =M12*J12 -> 558 | AM12: =J12*135 -> 270 | AN12: =AL12-AM12 -> 288 | AO12: =AC12*AM12 -> 1107000 | AP12: =N12*J12 -> 434 | AQ12: =J12*105 -> 210 | AR12: =AP12-AQ12 -> 224 | AS12: =AC12*AQ12 -> 861000 | AT12: =M12*J12 -> 558 | AU12: =J12*120 -> 240 | AV12: =AT12-AU12 -> 318 | AW12: =AU12*AC12 -> 984000 | AX12: =P12*J12 -> 496 | AY12: =J12*120 -> 240 | AZ12: =AX12-AY12 -> 256 | BA12: =AC12*AY12 -> 984000 | BB12: =Q12*J12 -> 558 | BC12: =J12*135 -> 270 | BD12: =BB12-BC12 -> 288 | BE12: =BC12*AC12 -> 1107000 | BF12: =R12*J12 -> 250 | BG12: =J12*58 -> 116 | BH12: =BF12-BG12 -> 134 | BI12: =BG12*AC12 -> 475600 | BJ12: =S12*J12 -> 124 | BK12: =J12*30 -> 60 | BL12: =BJ12-BK12 -> 64 | BM12: =BK12*AC12 -> 246000 | BN12: =T12*J12 -> 558 | BO12: =J12*135 -> 270 | BP12: =BN12-BO12 -> 288 | BQ12: =BO12*AC12 -> 1107000 | BR12: =U12*J12 -> 372 | BS12: =J12*90 -> 180 | BT12: =BR12-BS12 -> 192 | BU12: =BS12*AC12 -> 738000 | BV12: =V12*J12 -> 64 | BW12: =J12*15 -> 30 | BX12: =BV12-BW12 -> 34 | BY12: =BW12*AC12 -> 123000 | BZ12: =W12*J12 -> 24 | CA12: =J12*6 -> 12 | CB12: =BZ12-CA12 -> 12 | CC12: =CA12*AC12 -> 49200 | CD12: =X12*J12 -> 372 | CE12: =J12*90 -> 180 | CF12: =CD12-CE12 -> 192 | CG12: =CE12*AC12 -> 738000 | CH12: =Y12*J12 -> 372 | CI12: =J12*90 -> 180 | CJ12: =CH12-CI12 -> 192 | CK12: =CI12*AC12 -> 738000
B13: ='PLAN DE NECESIDADES'!B13 -> 9 | C13: ='PLAN DE NECESIDADES'!C13 -> 2792201 | D13: ='PLAN DE NECESIDADES'!D13 -> LIGAS PARA BOTA MANGA PANTALÓN CAMUFLADO: ESPECIFICACIONES TÉCNICAS DE ACUERDO A LA NORMA TÉCNICA KIT DE DOTACIÓN N°. NTMD-0356 - A2. | E13: ='PLAN DE NECESIDADES'!E13 -> PAR | F13: ='PLAN DE NECESIDADES'!F13 -> 0 | G13: ='PLAN DE NECESIDADES'!H13 -> 53102509 | H13: ='PLAN DE NECESIDADES'!I13 -> 1127360 | I13: ='PLAN DE NECESIDADES'!J13 -> 8440-80-0011394 | J13: 1 | K13: 69 | L13: 217 | M13: 279 | N13: 217 | O13: 248 | P13: 248 | Q13: 279 | R13: 125 | S13: 62 | T13: 279 | U13: 186 | V13: 32 | W13: 12 | X13: 186 | Y13: 186 | Z13: =SUM(AD13,AH13,AL13,AP13,AT13,AX13,BB13,BF13,BJ13,BN13,BR13,BV13,BZ13,CD13,CH13) -> 2656 | AA13: =SUM(AE13,AI13,AM13,AQ13,AU13,AY13,BC13,BG13,BK13,BO13,BS13,BW13,CA13,CE13,CI13) -> 1258 | AB13: =SUM(AF13,AJ13,AN13,AR13,AV13,AZ13,BD13,BH13,BL13,BP13,BT13,BX13,CB13,CF13,CJ13) -> 1398 | AC13: 3400 | AD13: =K13*J13 -> 69 | AE13: =J13*34 -> 34 | AF13: =AD13-AE13 -> 35 | AG13: =AC13*AE13 -> 115600 | AH13: =L13*J13 -> 217 | AI13: =J13*104 -> 104 | AJ13: =AH13-AI13 -> 113 | AK13: =AC13*AI13 -> 353600 | AL13: =M13*J13 -> 279 | AM13: =J13*134 -> 134 | AN13: =AL13-AM13 -> 145 | AO13: =AC13*AM13 -> 455600 | AP13: =N13*J13 -> 217 | AQ13: =J13*106 -> 106 | AR13: =AP13-AQ13 -> 111 | AS13: =AC13*AQ13 -> 360400 | AT13: =M13*J13 -> 279 | AU13: =J13*118 -> 118 | AV13: =AT13-AU13 -> 161 | AW13: =AU13*AC13 -> 401200 | AX13: =P13*J13 -> 248 | AY13: =J13*119 -> 119 | AZ13: =AX13-AY13 -> 129 | BA13: =AC13*AY13 -> 404600 | BB13: =Q13*J13 -> 279 | BC13: =J13*134 -> 134 | BD13: =BB13-BC13 -> 145 | BE13: =BC13*AC13 -> 455600 | BF13: =R13*J13 -> 125 | BG13: =J13*58 -> 58 | BH13: =BF13-BG13 -> 67 | BI13: =BG13*AC13 -> 197200 | BJ13: =S13*J13 -> 62 | BK13: =J13*29 -> 29 | BL13: =BJ13-BK13 -> 33 | BM13: =BK13*AC13 -> 98600 | BN13: =T13*J13 -> 279 | BO13: =J13*133 -> 133 | BP13: =BN13-BO13 -> 146 | BQ13: =BO13*AC13 -> 452200 | BR13: =U13*J13 -> 186 | BS13: =J13*90 -> 90 | BT13: =BR13-BS13 -> 96 | BU13: =BS13*AC13 -> 306000 | BV13: =V13*J13 -> 32 | BW13: =J13*15 -> 15 | BX13: =BV13-BW13 -> 17 | BY13: =BW13*AC13 -> 51000 | BZ13: =W13*J13 -> 12 | CA13: =J13*4 -> 4 | CB13: =BZ13-CA13 -> 8 | CC13: =CA13*AC13 -> 13600 | CD13: =X13*J13 -> 186 | CE13: =J13*90 -> 90 | CF13: =CD13-CE13 -> 96 | CG13: =CE13*AC13 -> 306000 | CH13: =Y13*J13 -> 186 | CI13: =J13*90 -> 90 | CJ13: =CH13-CI13 -> 96 | CK13: =CI13*AC13 -> 306000
B14: ='PLAN DE NECESIDADES'!B14 -> 10 | C14: ='PLAN DE NECESIDADES'!C14 -> 2712007 | D14: ='PLAN DE NECESIDADES'!D14 -> PAÑUELO: ESPECIFICACIONES TÉCNICAS DE ACUERDO A LA NORMA TÉCNICA KIT DE DOTACIÓN N°. NTMD-0356 - A2. | E14: ='PLAN DE NECESIDADES'!E14 -> UNIDAD | F14: ='PLAN DE NECESIDADES'!F14 -> 0 | G14: ='PLAN DE NECESIDADES'!H14 -> 53102512 | H14: ='PLAN DE NECESIDADES'!I14 -> 1316012 | I14: ='PLAN DE NECESIDADES'!J14 -> 8440-80-0011303 | J14: 2 | K14: 69 | L14: 217 | M14: 279 | N14: 217 | O14: 248 | P14: 248 | Q14: 279 | R14: 125 | S14: 62 | T14: 279 | U14: 186 | V14: 32 | W14: 12 | X14: 186 | Y14: 186 | Z14: =SUM(AD14,AH14,AL14,AP14,AT14,AX14,BB14,BF14,BJ14,BN14,BR14,BV14,BZ14,CD14,CH14) -> 5312 | AA14: =SUM(AE14,AI14,AM14,AQ14,AU14,AY14,BC14,BG14,BK14,BO14,BS14,BW14,CA14,CE14,CI14) -> 2532 | AB14: =SUM(AF14,AJ14,AN14,AR14,AV14,AZ14,BD14,BH14,BL14,BP14,BT14,BX14,CB14,CF14,CJ14) -> 2780 | AC14: 4000 | AD14: =K14*J14 -> 138 | AE14: =J14*33 -> 66 | AF14: =AD14-AE14 -> 72 | AG14: =AC14*AE14 -> 264000 | AH14: =L14*J14 -> 434 | AI14: =J14*105 -> 210 | AJ14: =AH14-AI14 -> 224 | AK14: =AC14*AI14 -> 840000 | AL14: =M14*J14 -> 558 | AM14: =J14*135 -> 270 | AN14: =AL14-AM14 -> 288 | AO14: =AC14*AM14 -> 1080000 | AP14: =N14*J14 -> 434 | AQ14: =J14*104 -> 208 | AR14: =AP14-AQ14 -> 226 | AS14: =AC14*AQ14 -> 832000 | AT14: =M14*J14 -> 558 | AU14: =J14*120 -> 240 | AV14: =AT14-AU14 -> 318 | AW14: =AU14*AC14 -> 960000 | AX14: =P14*J14 -> 496 | AY14: =J14*120 -> 240 | AZ14: =AX14-AY14 -> 256 | BA14: =AC14*AY14 -> 960000 | BB14: =Q14*J14 -> 558 | BC14: =J14*135 -> 270 | BD14: =BB14-BC14 -> 288 | BE14: =BC14*AC14 -> 1080000 | BF14: =R14*J14 -> 250 | BG14: =J14*58 -> 116 | BH14: =BF14-BG14 -> 134 | BI14: =BG14*AC14 -> 464000 | BJ14: =S14*J14 -> 124 | BK14: =J14*30 -> 60 | BL14: =BJ14-BK14 -> 64 | BM14: =BK14*AC14 -> 240000 | BN14: =T14*J14 -> 558 | BO14: =J14*135 -> 270 | BP14: =BN14-BO14 -> 288 | BQ14: =BO14*AC14 -> 1080000 | BR14: =U14*J14 -> 372 | BS14: =J14*90 -> 180 | BT14: =BR14-BS14 -> 192 | BU14: =BS14*AC14 -> 720000 | BV14: =V14*J14 -> 64 | BW14: =J14*15 -> 30 | BX14: =BV14-BW14 -> 34 | BY14: =BW14*AC14 -> 120000 | BZ14: =W14*J14 -> 24 | CA14: =J14*6 -> 12 | CB14: =BZ14-CA14 -> 12 | CC14: =CA14*AC14 -> 48000 | CD14: =X14*J14 -> 372 | CE14: =J14*90 -> 180 | CF14: =CD14-CE14 -> 192 | CG14: =CE14*AC14 -> 720000 | CH14: =Y14*J14 -> 372 | CI14: =J14*90 -> 180 | CJ14: =CH14-CI14 -> 192 | CK14: =CI14*AC14 -> 720000
B15: ='PLAN DE NECESIDADES'!B15 -> 11 | C15: ='PLAN DE NECESIDADES'!C15 -> 2799701 | D15: ='PLAN DE NECESIDADES'!D15 -> BOLSO PARA ÚTILES DE ASEO: ESPECIFICACIONES TÉCNICAS DE ACUERDO A LA NORMA TÉCNICA KIT DE DOTACIÓN N°. NTMD-0356 - A2. | E15: ='PLAN DE NECESIDADES'!E15 -> UNIDAD | F15: ='PLAN DE NECESIDADES'!F15 -> 0 | G15: ='PLAN DE NECESIDADES'!H15 -> 53121503 | H15: ='PLAN DE NECESIDADES'!I15 -> 1082376 | I15: ='PLAN DE NECESIDADES'!J15 -> SIN CREAR | J15: 1 | K15: 69 | L15: 217 | M15: 279 | N15: 217 | O15: 248 | P15: 248 | Q15: 279 | R15: 125 | S15: 62 | T15: 279 | U15: 186 | V15: 32 | W15: 12 | X15: 186 | Y15: 186 | Z15: =SUM(AD15,AH15,AL15,AP15,AT15,AX15,BB15,BF15,BJ15,BN15,BR15,BV15,BZ15,CD15,CH15) -> 2656 | AA15: =SUM(AE15,AI15,AM15,AQ15,AU15,AY15,BC15,BG15,BK15,BO15,BS15,BW15,CA15,CE15,CI15) -> 1262 | AB15: =SUM(AF15,AJ15,AN15,AR15,AV15,AZ15,BD15,BH15,BL15,BP15,BT15,BX15,CB15,CF15,CJ15) -> 1394 | AC15: 5400 | AD15: =K15*J15 -> 69 | AE15: =J15*33 -> 33 | AF15: =AD15-AE15 -> 36 | AG15: =AC15*AE15 -> 178200 | AH15: =L15*J15 -> 217 | AI15: =J15*105 -> 105 | AJ15: =AH15-AI15 -> 112 | AK15: =AC15*AI15 -> 567000 | AL15: =M15*J15 -> 279 | AM15: =J15*135 -> 135 | AN15: =AL15-AM15 -> 144 | AO15: =AC15*AM15 -> 729000 | AP15: =N15*J15 -> 217 | AQ15: =J15*104 -> 104 | AR15: =AP15-AQ15 -> 113 | AS15: =AC15*AQ15 -> 561600 | AT15: =M15*J15 -> 279 | AU15: =J15*119 -> 119 | AV15: =AT15-AU15 -> 160 | AW15: =AU15*AC15 -> 642600 | AX15: =P15*J15 -> 248 | AY15: =J15*120 -> 120 | AZ15: =AX15-AY15 -> 128 | BA15: =AC15*AY15 -> 648000 | BB15: =Q15*J15 -> 279 | BC15: =J15*135 -> 135 | BD15: =BB15-BC15 -> 144 | BE15: =BC15*AC15 -> 729000 | BF15: =R15*J15 -> 125 | BG15: =J15*58 -> 58 | BH15: =BF15-BG15 -> 67 | BI15: =BG15*AC15 -> 313200 | BJ15: =S15*J15 -> 62 | BK15: =J15*30 -> 30 | BL15: =BJ15-BK15 -> 32 | BM15: =BK15*AC15 -> 162000 | BN15: =T15*J15 -> 279 | BO15: =J15*134 -> 134 | BP15: =BN15-BO15 -> 145 | BQ15: =BO15*AC15 -> 723600 | BR15: =U15*J15 -> 186 | BS15: =J15*90 -> 90 | BT15: =BR15-BS15 -> 96 | BU15: =BS15*AC15 -> 486000 | BV15: =V15*J15 -> 32 | BW15: =J15*15 -> 15 | BX15: =BV15-BW15 -> 17 | BY15: =BW15*AC15 -> 81000 | BZ15: =W15*J15 -> 12 | CA15: =J15*4 -> 4 | CB15: =BZ15-CA15 -> 8 | CC15: =CA15*AC15 -> 21600 | CD15: =X15*J15 -> 186 | CE15: =J15*90 -> 90 | CF15: =CD15-CE15 -> 96 | CG15: =CE15*AC15 -> 486000 | CH15: =Y15*J15 -> 186 | CI15: =J15*90 -> 90 | CJ15: =CH15-CI15 -> 96 | CK15: =CI15*AC15 -> 486000
B16: ='PLAN DE NECESIDADES'!B16 -> 12 | C16: ='PLAN DE NECESIDADES'!C16 -> 2732099 | D16: ='PLAN DE NECESIDADES'!D16 -> MALLA PARA CABELLO COLOR NEGRO DE ACUERDO A ESPECIFICACIONES TÉCNICAS JEMPP-CEDE4-DIETE-ET-04937/INT-0 | E16: ='PLAN DE NECESIDADES'!E16 -> UNIDAD | F16: ='PLAN DE NECESIDADES'!F16 -> 0 | G16: ='PLAN DE NECESIDADES'!H16 -> 53102513 | H16: ='PLAN DE NECESIDADES'!I16 -> 1893958 | I16: ='PLAN DE NECESIDADES'!J16 -> SIN CREAR | J16: 1 | R16: 125 | Z16: =SUM(AD16,AH16,AL16,AP16,AT16,AX16,BB16,BF16,BJ16,BN16,BR16,BV16,BZ16,CD16,CH16) -> 125 | AA16: =SUM(AE16,AI16,AM16,AQ16,AU16,AY16,BC16,BG16,BK16,BO16,BS16,BW16,CA16,CE16,CI16) -> 58 | AB16: =SUM(AF16,AJ16,AN16,AR16,AV16,AZ16,BD16,BH16,BL16,BP16,BT16,BX16,CB16,CF16,CJ16) -> 67 | AC16: 4700 | BF16: =R16*J16 -> 125 | BG16: =J16*58 -> 58 | BH16: =BF16-BG16 -> 67 | BI16: =BG16*AC16 -> 272600
B17: VALOR TOTAL NECESIDAD | AD17: =SUM(AG5:AG16) -> 3920800 | AH17: =SUM(AK5:AK16) -> 12337200 | AL17: =SUM(AO5:AO16) -> 15864400 | AP17: =SUM(AS5:AS16) -> 12338000 | AT17: =SUM(AW5:AW16) -> 14099800 | AX17: =SUM(BA5:BA16) -> 14100400 | BB17: =SUM(BE5:BE16) -> 15864400 | BF17: =SUM(BI5:BI16) -> 7105800 | BJ17: =SUM(BM5:BM16) -> 3524600 | BN17: =SUM(BQ5:BQ16) -> 15863800 | BR17: =SUM(BU5:BU16) -> 10575800 | BV17: =SUM(BY5:BY16) -> 1818600 | BZ17: =SUM(CC5:CC16) -> 679800 | CD17: =SUM(CG5:CG16) -> 10575800 | CH17: =SUM(CK5:CK16) -> 10575800
B18: PRESUPUESTO ASIGNADO | AD18: =SUMIFS(PRESUPUESTO!$G$51:$G$65,PRESUPUESTO!$E$51:$E$65,AD3) -> 3923522.9 | AH18: =SUMIFS(PRESUPUESTO!$G$51:$G$65,PRESUPUESTO!$E$51:$E$65,AH3) -> 12339195 | AL18: =SUMIFS(PRESUPUESTO!$G$51:$G$65,PRESUPUESTO!$E$51:$E$65,AL3) -> 15864680 | AP18: =SUMIFS(PRESUPUESTO!$G$51:$G$65,PRESUPUESTO!$E$51:$E$65,AP3) -> 12339195 | AT18: =SUMIFS(PRESUPUESTO!$G$51:$G$65,PRESUPUESTO!$E$51:$E$65,AT3) -> 14101937 | AX18: =SUMIFS(PRESUPUESTO!$G$51:$G$65,PRESUPUESTO!$E$51:$E$65,AX3) -> 14101937 | BB18: =SUMIFS(PRESUPUESTO!$G$51:$G$65,PRESUPUESTO!$E$51:$E$65,BB3) -> 15864680 | BF18: =SUMIFS(PRESUPUESTO!$G$51:$G$65,PRESUPUESTO!$E$51:$E$65,BF3) -> 7107831.3 | BJ18: =SUMIFS(PRESUPUESTO!$G$51:$G$65,PRESUPUESTO!$E$51:$E$65,BJ3) -> 3525484.3 | BN18: =SUMIFS(PRESUPUESTO!$G$51:$G$65,PRESUPUESTO!$E$51:$E$65,BN3) -> 15864680 | BR18: =SUMIFS(PRESUPUESTO!$G$51:$G$65,PRESUPUESTO!$E$51:$E$65,BR3) -> 10576453 | BV18: =SUMIFS(PRESUPUESTO!$G$51:$G$65,PRESUPUESTO!$E$51:$E$65,BV3) -> 1819604.8 | BZ18: =SUMIFS(PRESUPUESTO!$G$51:$G$65,PRESUPUESTO!$E$51:$E$65,BZ3) -> 682351.81 | CD18: =SUMIFS(PRESUPUESTO!$G$51:$G$65,PRESUPUESTO!$E$51:$E$65,CD3) -> 10576453 | CH18: =SUMIFS(PRESUPUESTO!$G$51:$G$65,PRESUPUESTO!$E$51:$E$65,CH3) -> 10576453 | CL18: =SUM(AD18:CK18) -> 1.4926446e+08
B19: SALDO | AD19: =AD18-AD17 -> 2722.896 | AH19: =AH18-AH17 -> 1995.1947 | AL19: =AL18-AL17 -> 279.536 | AP19: =AP18-AP17 -> 1195.1947 | AT19: =AT18-AT17 -> 2137.3653 | AX19: =AX18-AX17 -> 1537.3653 | BB19: =BB18-BB17 -> 279.536 | BF19: =BF18-BF17 -> 2031.3333 | BJ19: =BJ18-BJ17 -> 884.34133 | BN19: =BN18-BN17 -> 879.536 | BR19: =BR18-BR17 -> 653.024 | BV19: =BV18-BV17 -> 1004.8213 | BZ19: =BZ18-BZ17 -> 2551.808 | CD19: =CD18-CD17 -> 653.024 | CH19: =CH18-CH17 -> 653.024
B21: A-02-02-01-002-008 DOTACIÓN (PRENDAS DE VESTIR Y CALZADO)
B22: ='PLAN DE NECESIDADES'!B20 -> ÍTEM | C22: ='PLAN DE NECESIDADES'!C20 -> CÓDIGO DANE | D22: ='PLAN DE NECESIDADES'!D20 -> DESCRIPCIÓN DEL BIEN Y/O SERVICIO | E22: ='PLAN DE NECESIDADES'!E20 -> UNIDAD MEDIDA | F22: ='PLAN DE NECESIDADES'!F20 -> EXISTENCIAS (STOCK - INVENTARIOS) | G22: ='PLAN DE NECESIDADES'!H20 -> UNSPSC (CCE) | H22: ='PLAN DE NECESIDADES'!I20 -> CÓDIGO MATERIAL SAP | I22: ='PLAN DE NECESIDADES'!J20 -> CÓDIGO OTAN - NOC | J22: CANTIDAD POR ELEMENTO | K22: =AD22 -> BAABS3 | L22: =AH22 -> BAACA10 | M22: =AL22 -> BAACA2 | N22: =AP22 -> BAADA1 | O22: =AT22 -> BAEEV2 | P22: =AX22 -> BAEEV3 | Q22: =BB22 -> BAMMA7 | R22: =BF22 -> BASPC10 | S22: =BJ22 -> BASAC | T22: =BN22 -> BICAR | U22: =BR22 -> BIMOC70 | V22: =BV22 -> BITER10 | W22: =BZ22 -> DIM15 | X22: =CD22 -> GMMAT | Y22: =CH22 -> GMRON | Z22: NECESIDAD TOTAL | AA22: MÍNIMAS | AB22: LIMITACIONES | AC22: PRECIO DE REFERENCIA | AD22: BAABS3 | AH22: BAACA10 | AL22: BAACA2 | AP22: BAADA1 | AT22: BAEEV2 | AX22: BAEEV3 | BB22: BAMMA7 | BF22: BASPC10 | BJ22: BASAC | BN22: BICAR | BR22: BIMOC70 | BV22: BITER10 | BZ22: DIM15 | CD22: GMMAT | CH22: GMRON
AD23: NT | AE23: M | AF23: L | AG23: VT | AH23: NT | AI23: M | AJ23: L | AK23: VT | AL23: NT | AM23: M | AN23: L | AO23: VT | AP23: NT | AQ23: M | AR23: L | AS23: VT | AT23: NT | AU23: M | AV23: L | AW23: VT | AX23: NT | AY23: M | AZ23: L | BA23: VT | BB23: NT | BC23: M | BD23: L | BE23: VT | BF23: NT | BG23: M | BH23: L | BI23: VT | BJ23: NT | BK23: M | BL23: L | BM23: VT | BN23: NT | BO23: M | BP23: L | BQ23: VT | BR23: NT | BS23: M | BT23: L | BU23: VT | BV23: NT | BW23: M | BX23: L | BY23: VT | BZ23: NT | CA23: M | CB23: L | CC23: VT | CD23: NT | CE23: M | CF23: L | CG23: VT | CH23: NT | CI23: M | CJ23: L | CK23: VT
B24: ='PLAN DE NECESIDADES'!B21 -> 13 | C24: ='PLAN DE NECESIDADES'!C21 -> 2821001 | D24: ='PLAN DE NECESIDADES'!D21 -> CALCETÍN COLOR BLANCO PARA DEPORTES: EL CALCETÍN DEBE SER ELABORADO EN POLIAMIDA CON TEJIDO ACANALADO 3X1 PARA LA PARTE DE LA CAÑA Y PARA EL PIE, CON UN TEJIDO TIPO TERRY EN EL INTERIOR Y PUEDE SER EN FIBRA ANTIBACTERIAL DESDE LA PARTE ALTA DEL TALÓN, LA PLANTA DEL PIE, LA PUNTERA Y SU ANILLO. EL CALCETÍN LLEVA UNA BANDA ELÁSTICA TEJIDA EN EL CONTORNO DEL ARCO DE LA PLANTA Y EMPEINE PARA EVITAR QUE EL CALCETÍN SE DESLICE, ESPECIFICACIONES SEGÚN NORMA TÉCNICA NO. NTMD-0356 A2 DE ACUERDO A ÍTEM 3.1.2.7 | E24: ='PLAN DE NECESIDADES'!E21 -> PAR | F24: ='PLAN DE NECESIDADES'!F21 -> 0 | G24: ='PLAN DE NECESIDADES'!H21 -> 53102402 | H24: ='PLAN DE NECESIDADES'!I21 -> 1495276 | I24: ='PLAN DE NECESIDADES'!J21 -> SIN CREAR | J24: 1 | K24: 69 | L24: 217 | M24: 279 | N24: 217 | O24: 248 | P24: 248 | Q24: 279 | R24: 125 | S24: 62 | T24: 279 | U24: 186 | V24: 32 | W24: 12 | X24: 186 | Y24: 186 | Z24: =SUM(AD24,AH24,AL24,AP24,AT24,AX24,BB24,BF24,BJ24,BN24,BR24,BV24,BZ24,CD24,CH24) -> 2656 | AA24: =SUM(AE24,AI24,AM24,AQ24,AU24,AY24,BC24,BG24,BK24,BO24,BS24,BW24,CA24,CE24,CI24) -> 1957 | AB24: =SUM(AF24,AJ24,AN24,AR24,AV24,AZ24,BD24,BH24,BL24,BP24,BT24,BX24,CB24,CF24,CJ24) -> 699 | AC24: 4700 | AD24: =K24*J24 -> 69 | AE24: =J24*54 -> 54 | AF24: =AD24-AE24 -> 15 | AG24: =AC24*AE24 -> 253800 | AH24: =L24*J24 -> 217 | AI24: =J24*167 -> 167 | AJ24: =AH24-AI24 -> 50 | AK24: =AC24*AI24 -> 784900 | AL24: =M24*J24 -> 279 | AM24: =J24*216 -> 216 | AN24: =AL24-AM24 -> 63 | AO24: =AC24*AM24 -> 1015200 | AP24: =N24*J24 -> 217 | AQ24: =J24*168 -> 168 | AR24: =AP24-AQ24 -> 49 | AS24: =AC24*AQ24 -> 789600 | AT24: =M24*J24 -> 279 | AU24: =J24*190 -> 190 | AV24: =AT24-AU24 -> 89 | AW24: =AU24*AC24 -> 893000 | AX24: =P24*J24 -> 248 | AY24: =J24*190 -> 190 | AZ24: =AX24-AY24 -> 58 | BA24: =AC24*AY24 -> 893000 | BB24: =Q24*J24 -> 279 | BC24: =J24*213 -> 213 | BD24: =BB24-BC24 -> 66 | BE24: =BC24*AC24 -> 1001100 | BF24: =R24*J24 -> 125 | BG24: =J24*40 -> 40 | BH24: =BF24-BG24 -> 85 | BI24: =BG24*AC24 -> 188000 | BJ24: =S24*J24 -> 62 | BK24: =J24*49 -> 49 | BL24: =BJ24-BK24 -> 13 | BM24: =BK24*AC24 -> 230300 | BN24: =T24*J24 -> 279 | BO24: =J24*213 -> 213 | BP24: =BN24-BO24 -> 66 | BQ24: =BO24*AC24 -> 1001100 | BR24: =U24*J24 -> 186 | BS24: =J24*141 -> 141 | BT24: =BR24-BS24 -> 45 | BU24: =BS24*AC24 -> 662700 | BV24: =V24*J24 -> 32 | BW24: =J24*25 -> 25 | BX24: =BV24-BW24 -> 7 | BY24: =BW24*AC24 -> 117500 | BZ24: =W24*J24 -> 12 | CA24: =J24*9 -> 9 | CB24: =BZ24-CA24 -> 3 | CC24: =CA24*AC24 -> 42300 | CD24: =X24*J24 -> 186 | CE24: =J24*141 -> 141 | CF24: =CD24-CE24 -> 45 | CG24: =CE24*AC24 -> 662700 | CH24: =Y24*J24 -> 186 | CI24: =J24*141 -> 141 | CJ24: =CH24-CI24 -> 45 | CK24: =CI24*AC24 -> 662700
B25: ='PLAN DE NECESIDADES'!B22 -> 14 | C25: ='PLAN DE NECESIDADES'!C22 -> 2823601 | D25: ='PLAN DE NECESIDADES'!D22 -> UNIFORME DE DEPORTES COMPLETO (CAMISETA Y PANTALONETA): DE ACUERDO A NORMA TÉCNICA NO. NTMD-0356 A2 DE ACUERDO A ÍTEM 3.1.2.7 FIGURA ILUSTRATIVA 37 | E25: ='PLAN DE NECESIDADES'!E22 -> UNIDAD | F25: ='PLAN DE NECESIDADES'!F22 -> 0 | G25: ='PLAN DE NECESIDADES'!H22 -> 53102700 | H25: ='PLAN DE NECESIDADES'!I22 -> 1329412 | I25: ='PLAN DE NECESIDADES'!J22 -> SIN CREAR | J25: 1 | K25: 69 | L25: 217 | M25: 279 | N25: 217 | O25: 248 | P25: 248 | Q25: 279 | R25: 125 | S25: 62 | T25: 279 | U25: 186 | V25: 32 | W25: 12 | X25: 186 | Y25: 186 | Z25: =SUM(AD25,AH25,AL25,AP25,AT25,AX25,BB25,BF25,BJ25,BN25,BR25,BV25,BZ25,CD25,CH25) -> 2656 | AA25: =SUM(AE25,AI25,AM25,AQ25,AU25,AY25,BC25,BG25,BK25,BO25,BS25,BW25,CA25,CE25,CI25) -> 1944 | AB25: =SUM(AF25,AJ25,AN25,AR25,AV25,AZ25,BD25,BH25,BL25,BP25,BT25,BX25,CB25,CF25,CJ25) -> 712 | AC25: 43000 | AD25: =K25*J25 -> 69 | AE25: =J25*52 -> 52 | AF25: =AD25-AE25 -> 17 | AG25: =AC25*AE25 -> 2236000 | AH25: =L25*J25 -> 217 | AI25: =J25*165 -> 165 | AJ25: =AH25-AI25 -> 52 | AK25: =AC25*AI25 -> 7095000 | AL25: =M25*J25 -> 279 | AM25: =J25*212 -> 212 | AN25: =AL25-AM25 -> 67 | AO25: =AC25*AM25 -> 9116000 | AP25: =N25*J25 -> 217 | AQ25: =J25*165 -> 165 | AR25: =AP25-AQ25 -> 52 | AS25: =AC25*AQ25 -> 7095000 | AT25: =M25*J25 -> 279 | AU25: =J25*189 -> 189 | AV25: =AT25-AU25 -> 90 | AW25: =AU25*AC25 -> 8127000 | AX25: =P25*J25 -> 248 | AY25: =J25*189 -> 189 | AZ25: =AX25-AY25 -> 59 | BA25: =AC25*AY25 -> 8127000 | BB25: =Q25*J25 -> 279 | BC25: =J25*213 -> 213 | BD25: =BB25-BC25 -> 66 | BE25: =BC25*AC25 -> 9159000 | BF25: =R25*J25 -> 125 | BG25: =J25*40 -> 40 | BH25: =BF25-BG25 -> 85 | BI25: =BG25*AC25 -> 1720000 | BJ25: =S25*J25 -> 62 | BK25: =J25*47 -> 47 | BL25: =BJ25-BK25 -> 15 | BM25: =BK25*AC25 -> 2021000 | BN25: =T25*J25 -> 279 | BO25: =J25*213 -> 213 | BP25: =BN25-BO25 -> 66 | BQ25: =BO25*AC25 -> 9159000 | BR25: =U25*J25 -> 186 | BS25: =J25*142 -> 142 | BT25: =BR25-BS25 -> 44 | BU25: =BS25*AC25 -> 6106000 | BV25: =V25*J25 -> 32 | BW25: =J25*24 -> 24 | BX25: =BV25-BW25 -> 8 | BY25: =BW25*AC25 -> 1032000 | BZ25: =W25*J25 -> 12 | CA25: =J25*9 -> 9 | CB25: =BZ25-CA25 -> 3 | CC25: =CA25*AC25 -> 387000 | CD25: =X25*J25 -> 186 | CE25: =J25*142 -> 142 | CF25: =CD25-CE25 -> 44 | CG25: =CE25*AC25 -> 6106000 | CH25: =Y25*J25 -> 186 | CI25: =J25*142 -> 142 | CJ25: =CH25-CI25 -> 44 | CK25: =CI25*AC25 -> 6106000
B26: ='PLAN DE NECESIDADES'!B23 -> 15 | C26: ='PLAN DE NECESIDADES'!C23 -> 2819003 | D26: ='PLAN DE NECESIDADES'!D23 -> CHANCLAS PARA BAÑO: PUEDEN ESTAR FABRICADAS EN CAUCHO, PVC (POLÍMERO DE CLORURO DE VINILO) O EN EVA (ETILENVINILACETATO), EN UNA SOLO PIEZA POR PROCESO DE INYECCIÓN CON MATERIALES NO RECICLADOS Y QUE NO GENEREN ALERGIAS O CUALQUIER OTRO TIPO DE ENFERMEDAD AL USUARIO POR SU USO NORMAL, SEGÚN NORMA TÉCNICA NO. NTMD-0356 A2 ÍTEM 3.1.1.20 | E26: ='PLAN DE NECESIDADES'!E23 -> PAR | F26: ='PLAN DE NECESIDADES'!F23 -> 0 | G26: ='PLAN DE NECESIDADES'!H23 -> 53111800 | H26: ='PLAN DE NECESIDADES'!I23 -> 1296725 | I26: ='PLAN DE NECESIDADES'!J23 -> SIN CREAR | J26: 1 | K26: 69 | L26: 217 | M26: 279 | N26: 217 | O26: 248 | P26: 248 | Q26: 279 | R26: 125 | S26: 62 | T26: 279 | U26: 186 | V26: 32 | W26: 12 | X26: 186 | Y26: 186 | Z26: =SUM(AD26,AH26,AL26,AP26,AT26,AX26,BB26,BF26,BJ26,BN26,BR26,BV26,BZ26,CD26,CH26) -> 2656 | AA26: =SUM(AE26,AI26,AM26,AQ26,AU26,AY26,BC26,BG26,BK26,BO26,BS26,BW26,CA26,CE26,CI26) -> 1961 | AB26: =SUM(AF26,AJ26,AN26,AR26,AV26,AZ26,BD26,BH26,BL26,BP26,BT26,BX26,CB26,CF26,CJ26) -> 695 | AC26: 7300 | AD26: =K26*J26 -> 69 | AE26: =J26*55 -> 55 | AF26: =AD26-AE26 -> 14 | AG26: =AC26*AE26 -> 401500 | AH26: =L26*J26 -> 217 | AI26: =J26*168 -> 168 | AJ26: =AH26-AI26 -> 49 | AK26: =AC26*AI26 -> 1226400 | AL26: =M26*J26 -> 279 | AM26: =J26*216 -> 216 | AN26: =AL26-AM26 -> 63 | AO26: =AC26*AM26 -> 1576800 | AP26: =N26*J26 -> 217 | AQ26: =J26*167 -> 167 | AR26: =AP26-AQ26 -> 50 | AS26: =AC26*AQ26 -> 1219100 | AT26: =M26*J26 -> 279 | AU26: =J26*190 -> 190 | AV26: =AT26-AU26 -> 89 | AW26: =AU26*AC26 -> 1387000 | AX26: =P26*J26 -> 248 | AY26: =J26*190 -> 190 | AZ26: =AX26-AY26 -> 58 | BA26: =AC26*AY26 -> 1387000 | BB26: =Q26*J26 -> 279 | BC26: =J26*212 -> 212 | BD26: =BB26-BC26 -> 67 | BE26: =BC26*AC26 -> 1547600 | BF26: =R26*J26 -> 125 | BG26: =J26*41 -> 41 | BH26: =BF26-BG26 -> 84 | BI26: =BG26*AC26 -> 299300 | BJ26: =S26*J26 -> 62 | BK26: =J26*48 -> 48 | BL26: =BJ26-BK26 -> 14 | BM26: =BK26*AC26 -> 350400 | BN26: =T26*J26 -> 279 | BO26: =J26*212 -> 212 | BP26: =BN26-BO26 -> 67 | BQ26: =BO26*AC26 -> 1547600 | BR26: =U26*J26 -> 186 | BS26: =J26*142 -> 142 | BT26: =BR26-BS26 -> 44 | BU26: =BS26*AC26 -> 1036600 | BV26: =V26*J26 -> 32 | BW26: =J26*26 -> 26 | BX26: =BV26-BW26 -> 6 | BY26: =BW26*AC26 -> 189800 | BZ26: =W26*J26 -> 12 | CA26: =J26*10 -> 10 | CB26: =BZ26-CA26 -> 2 | CC26: =CA26*AC26 -> 73000 | CD26: =X26*J26 -> 186 | CE26: =J26*142 -> 142 | CF26: =CD26-CE26 -> 44 | CG26: =CE26*AC26 -> 1036600 | CH26: =Y26*J26 -> 186 | CI26: =J26*142 -> 142 | CJ26: =CH26-CI26 -> 44 | CK26: =CI26*AC26 -> 1036600
