Workbook
Name lstCapacidadDiscoDuro: #REF!
Name lstCapacidadDiscoDuroTableta: #REF!
Name lstNucleosProcesadorTableta: #REF!
Name lstRAM: #REF!
Name lstRAMTableta: #REF!
Name lstRJ45: #REF!
Name lstTamañoTableta: #REF!
Name lstTecnologíaPantalla: #REF!
Name lstTipoDiscoDuro: #REF!
Name lstTipoPortátil: #REF!
Name lstUSB2.0: #REF!
Name lstUSB2.0Tableta: #REF!
Name lstUSB3.0: #REF!
Name lstUSB3.1Tableta: #REF!
Name lstVelocidadProcesadorTableta: #REF!
Name Productos: [1]ListasAutomaticas!$E$2:$E$6647
Name tipo: #REF!
Name tipo10: #REF!
Name tipo11: '[2]Lote 11'!$H$2
Name tipo12: '[3]Lote 12'!$H$2
Name tipo14: #REF!
Name tipo2: #REF!
Name tipo3: #REF!
Name tipo4: #REF!
Name tipo5: #REF!
Name tipo6: #REF!
Name tipo7: #REF!
Name tipo8: #REF!
Name tipo9: #REF!

Sheet CalculoPrecio
C2: IVA | D2: 0.19
B5: ANALISIS DE PRESUPUESTO ENDPOINT
B7: No. | C7: DESCRIPCION | D7: CANTIDAD | E7: MESES | F7: UNIDAD DE MEDIDA | G7: FUENTE # 1 WISE | J7: FUENTE # 2 ELIPTICAL | M7: FUENTE # 3 WIRCO | P7: FUENTE #4 SPECTRUM | S7: FUENTE #5 HEIMCORE | V7: FUENTE #6 STMIA | Z7: PROMEDIO SIMPLE 3 MÁS BAJAS | AE7: PROMEDIO GEOMETRICO
G8: VALOR UNITARIO ANTES DE IVA | H8: IVA | I8: VALOR UNITARIO + IVA | J8: VALOR UNITARIO ANTES DE IVA | K8: IVA | L8: VALOR UNITARIO + IVA | M8: VALOR UNITARIO ANTES DE IVA | N8: IVA | O8: VALOR UNITARIO + IVA | P8: VALOR UNITARIO ANTES DE IVA | Q8: IVA | R8: VALOR UNITARIO + IVA | S8: VALOR UNITARIO ANTES DE IVA | T8: IVA | U8: VALOR UNITARIO + IVA | V8: VALOR UNITARIO ANTES DE IVA | W8: IVA | X8: VALOR UNITARIO + IVA | Z8: VALOR ANTES IVA | AA8: IVA | AB8: VALOR UNITARIO INCLUIDO IVA | AC8: Total | AE8: VALOR ANTES IVA | AF8: IVA | AG8: VALOR +IVA | AH8: Total
B9: 1 | C9: Alojamiento de infraestructura - Housing - Full Rack - Oro - Puntos de red: 4 - Capacidad de energía: 4 KVA - Capacidad en unidades: 42 U - Rack/M - Cantidad: 1 | D9: 300 | E9: 12 | F9: UNIDAD | G9: =WISE!H7 -> 100409 | H9: 0 | I9: =+G9+H9 -> 100409 | J9: =ELLIPTICAL!H7 -> 107966 | K9: 0 | L9: =ROUND(J9*(1),0) -> 107966 | M9: =WIRCO!H7 -> 111195 | N9: 0 | O9: =ROUND(M9*(1),0) -> 111195 | P9: =+SPECTRUM!H7 -> 660544 | Q9: 0 | R9: =ROUND((P9+1.19%),0) -> 660544 | S9: =+HEIMCORE!H7 -> 571900 | T9: 0 | U9: =+S9+T9 -> 571900 | V9: =+STMIA!H4 -> 629090 | W9: 0 | X9: =+W9+V9 -> 629090 | Z9: =ROUND(AVERAGE(G9,J9,M9),0) -> 106523 | AA9: 0 | AB9: =+AA9+Z9 -> 106523 | AC9: =(AB9*D9)*E9 -> 383482800 | AE9: =ROUND(GEOMEAN(G9,J9,M9),0) -> 106426 | AF9: 0 | AG9: =+AF9+AE9 -> 106426 | AH9: =ROUND(AG9*D9*E9,0) -> 383133600
AC10: =SUM(AC9:AC9) -> 383482800 | AH10: =SUM(AH9:AH9) -> 383133600
C12: Spectrum | D12: =((P9-AE9)/AE9)*100 -> 520.66036
C13: Heimcore | D13: =((S9-AE9)/AE9)*100 -> 437.36869
C14: STMIA | D14: =((V9-AE9)/AE9)*100 -> 491.10556

Sheet WISE
B2: Contratar la suscripción de Endpoints de última generación para la protección de los servidores donde se ejecutan las aplicaciones y herramientas de la agencia nacional de minería, y su administración centralizada (Línea del PAA 130007426).
B5: ITEMS | C5: CODIGOS UNPSC | D5: DESCRIPCION | E5: UNIDAD DE MEDIDA | F5: CANT | G5: MESES | H5: COTIZACION
H6: V/R UNIT | I6: IVA (SI APLICA) | J6: V/R UNIT + IVA | K6: V/R TOTAL CANT | L6: V/R TOTAL MES
B7: 1 | C7: 43231500, 43233200, 81111800, 81112200, 81112300; 80101500, 81111500; 81161500 | D7: Suscripción de solución de seguridad de end point para servidoreso | E7: Unidad | F7: 300 | G7: 12 | H7: 100409 | I7: =+H7*0 -> 0 | J7: =+H7+I7 -> 100409 | K7: =+J7*F7 -> 30122700 | L7: =+(J7*F7)*G7 -> 361472400
B8: 2 | C8: 43231500, 43233200, 81111800, 81112200, 81112300; 80101500, 81111500; 81161500 | D8: Suscripción de solución de seguridad de end point para servidoreso | E8: Unidad | F8: 300 | G8: 24 | H8: 92448 | I8: =+H8*0 -> 0 | J8: =+H8+I8 -> 92448 | K8: =+J8*F8 -> 27734400 | L8: =+(J8*F8)*G8 -> 665625600
B9: 3 | C9: 43231500, 43233200, 81111800, 81112200, 81112300; 80101500, 81111500; 81161500 | D9: Suscripción de solución de seguridad de end point para servidoreso | E9: Unidad | F9: 300 | G9: 36 | H9: 89842 | I9: =+H9*0 -> 0 | J9: =+H9+I9 -> 89842 | K9: =+J9*F9 -> 26952600 | L9: =+(J9*F9)*G9 -> 970293600
B10: VALOR TOTAL COTIZACION CON IVA INCLUIDO | L10: =SUM(L7:L9) -> 1997391600
B13: Nota 1: Las cantidades y los meses pueden variar de conformidad a la necesidad de la ANM, de acuerdo con los valores del mercado.
B15: Nota 2: Aplicar IVA si aplica
B20: FIRMA
B21: NOMBRE DEL CONTRATISTA: Wise Security Experts SAS
B22: DIRECCION: Av Calle 3 Nro 71 A 42

Sheet ELLIPTICAL
B2: Contratar la suscripción de Endpoints de última generación para la protección de los servidores donde se ejecutan las aplicaciones y herramientas de la agencia nacional de minería, y su administración centralizada (Línea del PAA 130007426).
B5: ITEMS | C5: CODIGOS UNPSC | D5: DESCRIPCION | E5: UNIDAD DE MEDIDA | F5: CANT | G5: MESES | H5: COTIZACION
H6: V/R UNIT | I6: IVA (SI APLICA) | J6: V/R UNIT + IVA | K6: V/R TOTAL CANT | L6: V/R TOTAL MES
B7: 1 | C7: 43231500, 43233200, 81111800, 81112200, 81112300; 80101500, 81111500; 81161500 | D7: Suscripción de solución de seguridad de end point para servidoreso | E7: Unidad | F7: 300 | G7: 12 | H7: 107966 | I7: =+H7*0 -> 0 | J7: =+H7+I7 -> 107966 | K7: =+J7*F7 -> 32389800 | L7: =+(J7*F7)*G7 -> 388677600
B8: 2 | C8: 43231500, 43233200, 81111800, 81112200, 81112300; 80101500, 81111500; 81161500 | D8: Suscripción de solución de seguridad de end point para servidoreso | E8: Unidad | F8: 300 | G8: 24 | H8: 95504 | I8: =+H8*0 -> 0 | J8: =+H8+I8 -> 95504 | K8: =+J8*F8 -> 28651200 | L8: =+(J8*F8)*G8 -> 687628800
B9: 3 | C9: 43231500, 43233200, 81111800, 81112200, 81112300; 80101500, 81111500; 81161500 | D9: Suscripción de solución de seguridad de end point para servidoreso | E9: Unidad | F9: 300 | G9: 36 | H9: 92620 | I9: =+H9*0 -> 0 | J9: =+H9+I9 -> 92620 | K9: =+J9*F9 -> 27786000 | L9: =+(J9*F9)*G9 -> 1000296000
B10: VALOR TOTAL COTIZACION CON IVA INCLUIDO | L10: =SUM(L7:L9) -> 2076602400
B13: Nota 1: Las cantidades y los meses pueden variar de conformidad a la necesidad de la ANM, de acuerdo con los valores del mercado.
B15: Nota 2: Aplicar IVA si aplica
B20: FIRMA
B21: NOMBRE DEL CONTRATISTA: ELLIPTICAL
B22: DIRECCION: Av Calle 3 Nro 71 A 42

Sheet WIRCO
B2: Contratar la suscripción de Endpoints de última generación para la protección de los servidores donde se ejecutan las aplicaciones y herramientas de la agencia nacional de minería, y su administración centralizada (Línea del PAA 130007426).
B5: ITEMS | C5: CODIGOS UNPSC | D5: DESCRIPCION | E5: UNIDAD DE MEDIDA | F5: CANT | G5: MESES | H5: COTIZACION
H6: V/R UNIT | I6: IVA (SI APLICA) | J6: V/R UNIT + IVA | K6: V/R TOTAL CANT | L6: V/R TOTAL MES
B7: 1 | C7: 43231500, 43233200, 81111800, 81112200, 81112300; 80101500, 81111500; 81161500 | D7: Suscripción de solución de seguridad de end point para servidoreso | E7: Unidad | F7: 300 | G7: 12 | H7: 111195 | I7: =+H7*0 -> 0 | J7: =+H7+I7 -> 111195 | K7: =+J7*F7 -> 33358500 | L7: =+(J7*F7)*G7 -> 400302000
B8: 2 | C8: 43231500, 43233200, 81111800, 81112200, 81112300; 80101500, 81111500; 81161500 | D8: Suscripción de solución de seguridad de end point para servidoreso | E8: Unidad | F8: 300 | G8: 24 | H8: 97007 | I8: =+H8*0 -> 0 | J8: =+H8+I8 -> 97007 | K8: =+J8*F8 -> 29102100 | L8: =+(J8*F8)*G8 -> 698450400
B9: 3 | C9: 43231500, 43233200, 81111800, 81112200, 81112300; 80101500, 81111500; 81161500 | D9: Suscripción de solución de seguridad de end point para servidoreso | E9: Unidad | F9: 300 | G9: 36 | H9: 94075 | I9: =+H9*0 -> 0 | J9: =+H9+I9 -> 94075 | K9: =+J9*F9 -> 28222500 | L9: =+(J9*F9)*G9 -> 1016010000
B10: VALOR TOTAL COTIZACION CON IVA INCLUIDO | L10: =SUM(L7:L9) -> 2114762400
B13: Nota 1: Las cantidades y los meses pueden variar de conformidad a la necesidad de la ANM, de acuerdo con los valores del mercado.
B15: Nota 2: Aplicar IVA si aplica
B20: FIRMA
B21: NOMBRE DEL CONTRATISTA: | C21: wirco
B22: DIRECCION:

Sheet SPECTRUM
B2: Contratar la suscripción de Endpoints de última generación para la protección de los servidores donde se ejecutan las aplicaciones y herramientas de la agencia nacional de minería, y su administración centralizada (Línea del PAA 130007426).
B5: ITEMS | C5: CODIGOS UNPSC | D5: DESCRIPCION | E5: UNIDAD DE MEDIDA | F5: CANT | G5: MESES | H5: COTIZACION
H6: V/R UNIT | I6: IVA (SI APLICA) | J6: V/R UNIT + IVA | K6: V/R TOTAL CANT | L6: V/R TOTAL MES
B7: 1 | C7: 43231500, 43233200, 81111800, 81112200, 81112300; 80101500, 81111500; 81161500 | D7: Suscripción de solución de seguridad de end point para servidoreso | E7: Unidad | F7: 300 | G7: 12 | H7: 660544 | I7: 125503 | J7: =+H7+I7 -> 786047 | K7: =+J7*F7 -> 235814100 | L7: =+(J7*F7)*G7 -> 2829769200
B8: 2 | C8: 43231500, 43233200, 81111800, 81112200, 81112300; 80101500, 81111500; 81161500 | D8: Suscripción de solución de seguridad de end point para servidoreso | E8: Unidad | F8: 300 | G8: 24 | H8: 647962 | I8: 123113 | J8: =+H8+I8 -> 771075 | K8: =+J8*F8 -> 231322500 | L8: =+(J8*F8)*G8 -> 5551740000
B9: 3 | C9: 43231500, 43233200, 81111800, 81112200, 81112300; 80101500, 81111500; 81161500 | D9: Suscripción de solución de seguridad de end point para servidoreso | E9: Unidad | F9: 300 | G9: 36 | H9: 635380 | I9: 120722 | J9: =+H9+I9 -> 756102 | K9: =+J9*F9 -> 226830600 | L9: =+(J9*F9)*G9 -> 8165901600
B10: VALOR TOTAL COTIZACION CON IVA INCLUIDO | L10: =SUM(L7:L9) -> 16547410800
B13: Nota 1: Las cantidades y los meses pueden variar de conformidad a la necesidad de la ANM, de acuerdo con los valores del mercado.
B15: Nota 2: Aplicar IVA si aplica
B20: FIRMA
B21: NOMBRE DEL CONTRATISTA: | D21: Spectrum
B22: DIRECCION:

Sheet HEIMCORE
B2: Contratar la suscripción de Endpoints de última generación para la protección de los servidores donde se ejecutan las aplicaciones y herramientas de la agencia nacional de minería, y su administración centralizada (Línea del PAA 130007426).
B5: ITEMS | C5: CODIGOS UNPSC | D5: DESCRIPCION | E5: UNIDAD DE MEDIDA | F5: CANT | G5: MESES | H5: COTIZACION
H6: V/R UNIT | I6: IVA (SI APLICA) | J6: V/R UNIT + IVA | K6: V/R TOTAL CANT | L6: V/R TOTAL MES
B7: 1 | C7: 43231500, 43233200, 81111800, 81112200, 81112300; 80101500, 81111500; 81161500 | D7: Suscripción de solución de seguridad de end point para servidoreso | E7: Unidad | F7: 300 | G7: 12 | H7: 571900 | I7: =+H7*0.19 -> 108661 | J7: =+H7+I7 -> 680561 | K7: =+J7*F7 -> 204168300 | L7: =+(J7*F7)*G7 -> 2450019600
B8: 2 | C8: 43231500, 43233200, 81111800, 81112200, 81112300; 80101500, 81111500; 81161500 | D8: Suscripción de solución de seguridad de end point para servidoreso | E8: Unidad | F8: 300 | G8: 24 | H8: 589100 | I8: =+H8*0.19 -> 111929 | J8: =+H8+I8 -> 701029 | K8: =+J8*F8 -> 210308700 | L8: =+(J8*F8)*G8 -> 5047408800
B9: 3 | C9: 43231500, 43233200, 81111800, 81112200, 81112300; 80101500, 81111500; 81161500 | D9: Suscripción de solución de seguridad de end point para servidoreso | E9: Unidad | F9: 300 | G9: 36 | H9: 632100 | I9: =+H9*0.19 -> 120099 | J9: =+H9+I9 -> 752199 | K9: =+J9*F9 -> 225659700 | L9: =+(J9*F9)*G9 -> 8123749200
B10: VALOR TOTAL COTIZACION CON IVA INCLUIDO | L10: =SUM(L7:L9) -> 15621177600
B13: Nota 1: Las cantidades y los meses pueden variar de conformidad a la necesidad de la ANM, de acuerdo con los valores del mercado.
B15: Nota 2: Aplicar IVA si aplica
B20: FIRMA
B21: NOMBRE DEL ONTRATISTA | D21: HEIMCORE SAS
B22: DIRECCION | D22: Calle 98 No. 70 - 91 OF 202 Edificio Vardi

Sheet STMIA
B2: ITEMS | C2: CODIGOS UNPSC | D2: DESCRIPCION | E2: UNIDAD DE MEDIDA | F2: CANT | G2: MESES | H2: COTIZACION
H3: V/R UNIT | I3: IVA (SI APLICA) | J3: V/R UNIT + IVA | K3: V/R TOTAL CANT | L3: V/R TOTAL MES
B4: 1 | C4: 43231500, 43233200, 81111800, 81112200, 81112300; 80101500, 81111500; 81161500 | D4: Suscripción de solución de seguridad de end point para servidoreso | E4: Unidad | F4: 300 | G4: 12 | H4: 629090 | I4: 119527 | J4: 748617 | K4: 224585130 | L4: 2695021560
B5: 2 | C5: 43231500, 43233200, 81111800, 81112200, 81112300; 80101500, 81111500; 81161500 | D5: Suscripción de solución de seguridad de end point para servidoreso | E5: Unidad | F5: 300 | G5: 24 | H5: 629090 | I5: 119527 | J5: 748617 | K5: 224585130 | L5: 5390043120
B6: 3 | C6: 43231500, 43233200, 81111800, 81112200, 81112300; 80101500, 81111500; 81161500 | D6: Suscripción de solución de seguridad de end point para servidoreso | E6: Unidad | F6: 300 | G6: 36 | H6: 629090 | I6: 119527 | J6: 748617 | K6: 224585130 | L6: 8085064680
B7: VALOR TOTAL COTIZACION CON IVA INCLUIDO | L7: 16170129360
B10: SYSTEMS TECHNOLOGY & MANAGEMENT SAS
B11: CR 7 # 155-33
