Workbook
Name contratación: 'IDENTIFICACION Y ANALISIS'!$B$39:$B$43
Name ejecución: 'IDENTIFICACION Y ANALISIS'!$B$45:$B$68
Name OPCIONES: 'ASIGNACION Y TRATAMIENTO'!$B$42:$B$44
Name planeación: 'IDENTIFICACION Y ANALISIS'!$B$19:$B$29
Name selección: 'IDENTIFICACION Y ANALISIS'!$B$31:$B$37

Sheet CONTEXTO
C2: MATRIZ DE RIESGOS EN CONTRATACIÓN | F2: Código: GCO-GCI-F164 Versión: 02 Vigencia: 01 de diciembre de 2022 Caso HOLA: 280117
B6: ESTABLECER EL CONTEXTO
B7: El punto inicial es identificar el contexto en el cual interactúa la Entidad Estatal para conocer el ambiente social, económico y político, e identificar (i) sus propios Riesgos; (ii) los Riesgos comunes a sus Procesos de Contratación; y (iii) los Riesgos del Proceso de Contratación en particular. (Aplica igual para contratos interadministrativos) En este paso la Entidad Estatal debe identificar los aspectos que se mencionan a continuación y los posibles efectos adversos que estos pueden generar.
B8: "PRESTAR LOS SERVICIOS INTEGRALES COMO OPERADOR LOGÍSTICO, INCLUYENDO EL SUMINISTRO, ALQUILER Y OPERACIÓN DE BIENES Y SERVICIOS REQUERIDOS PARA LA PLANEACIÓN, ORGANIZACIÓN, PRODUCCIÓN Y EJECUCIÓN DE LAS ACTIVIDADES, EVENTOS, JORNADAS, ENCUENTROS Y DEMÁS ESPACIOS INSTITUCIONALES REQUERIDOS POR LA ALCALDÍA LOCAL DE CHAPINERO, EN CUMPLIMIENTO DE LOS PROYECTOS ASOCIADOS A LOS EJES ESTRATÉGICOS SOCIALES, CULTURALES,Y DE PARTICIPACIÓN CIUDADANA, DE CONFORMIDAD CON EL PLAN DE DESARROLLO LOCAL DURANTE LA VIGENCIA 2026"
B9: Partícipes del Proceso de Contratación: Organismos de control, veedurías ciudadanas, supervisores, funcionarios y demás usuarios.
B10: Ciudadanía que se beneficia del Proceso de Contratación: funcionarios, pasantes, contratistas y ciudadanía en general.
B11: Capacidad de la Entidad Estatal entendida como la disponibilidad de recursos y conocimientos para el Proceso de Contratación: El Fondo de Desarrollo Local de Chapinero cuenta con la capacidad administrativa, técnica, jurídica y financiera necesaria para adelantar el presente proceso de contratación. Así mismo, dispone del personal competente para la planeación, estructuración, supervisión y seguimiento de la ejecución contractual, así como de los recursos presupuestales asignados para la vigencia 2026, destinados al cumplimiento de las metas de los proyectos de inversión O230117459920242507 – Chapinero Cultural: Promueve el Talento y el Patrimonio Local (Metas 2 y 3), O230117459920242310 – Chapinero Participa y Construye Comunidad, O230117459920242527 – Fortalecimiento Institucional y Control en Acción.
B12: Suficiencia del presupuesto oficial del Proceso de Contratación: El presente proceso se encuentra incluido en el Plan Anual de Adquisiciones de la vigencia 2026. Así mismo, se cuenta con los recursos necesarios para su financiación con cargo a los proyectos de inversión O230117459920242507 – Chapinero Cultural: Promueve el Talento y el Patrimonio Local (Metas 2 y 3), O230117459920242310 – Chapinero Participa y Construye Comunidad, O230117459920242527 – Fortalecimiento Institucional y Control en Acción y por un valor total de DOSCIENTOS CATORCE MILLONES OCHOCIENTOS SESENTA Y CUATRO MIL QUINIENTOS PESOS M/CTE ($214.864.500,00), correspondiente a la vigencia fiscal 2026. El contrato se estructura bajo la modalidad de precios unitarios fijos sin fórmula de reajuste y presupuesto de monto agotable, por lo que las cantidades y valores estimados son referenciales y su ejecución real dependerá de las necesidades efectivas de la Entidad durante la vigencia del contrato.
B13: Condiciones geográficas y de acceso del lugar en el cual se debe cumplir el objeto del Proceso de Contratación: La ejecución del contrato se desarrollará en la localidad de Chapinero y, cuando las necesidades del servicio lo requieran, en otros puntos del perímetro urbano de Bogotá D.C., de conformidad con la programación de actividades definida por el Fondo de Desarrollo Local de Chapinero y las instrucciones impartidas por el supervisor del contrato.
B14: Entorno socio ambiental: No aplica
B15: Condiciones políticas: No aplica
B16: Factores ambientales: Los bienes objeto del contrato serán entregados en los lugares que determine el Fondo de Desarrollo Local de Chapinero, de acuerdo con las necesidades de cada actividad o evento programado, previa coordinación con el supervisor del contrato.
B17: Sector del objeto del Proceso de Contratación y su mercado: Logística, Alimentación y Servicios Complementarios
... B19: Experiencia propia y de otras Entidades Estatales en Procesos de Contratación del mismo tipo: La entidad ya ha realizado adquisición de este tipo de procesos

Sheet IDENTIFICACION Y ANALISIS
C2: MATRIZ DE RIESGOS DE CONTRATACIÓN | F2: Código: GCO-GCI-F164 Versión: 02 Vigencia: 01 de diciembre de 2022 Caso HOLA: 280117
B6: DEFINICIONES
B7: RIESGO: Evento que puede generar efectos adversos y de distinta magnitud en el logro de los objetivos del Proceso de Contratación o en la ejecución de un contrato RIESGOS PREVISIBLES: Son los posibles hechos o circunstancias que por la naturaleza del contrato y de la actividad a ejecutar es factible su ocurrencia. ETAPA DE PLANEACIÓN: Está comprendida desde el momento en que se identifican las necesidades que debe satisfacer la Secretaría Distrital de Gobierno y los Fondos de Desarrollo Local, a través del abastecimiento de bienes, obras o servicios, la elaboración del Plan Anual de Adquisiciones y la estructuración de los documentos y estudios previos. ETAPA DE SELECCIÓN: Está comprendida entre el acto de Apertura del Proceso de Contratación y la Adjudicación o la declaración de desierto del Proceso de Contratación ETAPA DE CONTRATACIÓN: Una vez adjudicado el contrato objeto del Proceso de Contratación, inicia la etapa para la celebración del contrato y el cumplimiento de los requisitos para de perfeccionamiento y ejecución. ETAPA DE EJECUCIÓN: Inicia una vez cumplidos los requisitos previstos para iniciar la ejecución del contrato respectivo y termina con el vencimiento del plazo del contrato o la fecha de liquidación si hay lugar a ella. RIESGO GENERAL: Es un riesgo de todos los procesos de contratación adelantados por la Entidad Estatal, por lo cual está presente en toda su actividad contractual. RIEGO ESPECIFICO: Es un riesgo propio del proceso de contratación objeto de análisis. RIESGOS ECONÓMICOS: Son los derivados del comportamiento del mercado, tales como la fluctuación de los precios de los insumos, desabastecimiento y especulación de los mismos, entre otros. RIESGOS SOCIALES O POLÍTICOS: son los derivados de los cambios de las políticas gubernamentales y de cambios en las condiciones sociales que tengan impacto en la ejecución del contrato. RIESGOS OPERACIONALES: Son los asociados a la operatividad del contrato, tales como la suficiencia del presupuesto oficial, del plazo o los derivados de procesos, procedimientos, parámetros, sistemas de información y tecnológicos, equipos humanos o técnicos inadecuados o insuficientes. RIESGOS FINANCIEROS: Son (i) el riesgo de consecución de financiación o riesgo de liquidez para obtener recursos para cumplir con el objeto del contrato, y (ii) el riesgo de las condiciones financieras establecidas para la obtención de los recursos, tales como plazos, tasas, garantías, contragarantías, y refinanciaciones, entre otros. RIESGOS REGULATORIOS: Derivados de cambios regulatorios o reglamentarios que afecten la ecuación económica del contrato. RIESGOS DE LA NATURALEZA: Son los eventos naturales previsibles en los cuales no hay intervención humana que puedan tener impacto en la ejecución del contrato, por ejemplo los temblores, inundaciones, lluvias, sequías, entre otros. RIESGOS AMBIENTALES: Son los derivados de las obligaciones legales o reglamentarias de carácter ambiental, así como de las licencias, planes de manejo o de permisos y autorizaciones ambientales, incluyendo tasas retributivas y compensatorias, obligaciones de mitigación, tareas de monitoreo y control, entre otras. RIESGOS TECNOLÓGICOS: Son los derivados de fallas en los sistemas de comunicación de voz y de datos, suspensión de servicios públicos, nuevos desarrollos tecnológicos o estándares que deben ser tenidos en cuenta para la ejecución del contrato, obsolescencia tecnológica.
B15: INSTRUCCIONES PARA LA IDENTIFICACIÓN, ANALISIS, EVALUACIÓN , ASIGNACIÓN Y TRATAMIENTO DE RIESGOS EN LA CONTRATACIÓN
B16: 1) Identifique los riesgos previsibles que le apliquen al objeto contractual que se adelante. Los relacionados a continuación se establecen de manera general y como proforma. No obstante, si del objeto contractual se identifican otros riesgos diferentes a los aquí determinados, por favor reemplace el texto de la casilla teniendo en cuenta la etapa del proceso. Así mismo, seleccione la clase, fuente y el tipo (Operacional, Económico, Sociales o Políticos, Regulatorios, Financieros, Tecnológicos, De la naturaleza, Ambientales) 2) Continúe en la hoja de "EVALUACIÓN" (SI EXISTEN DUDAS CONCEPTUALES PARA LA ELABORACIÓN DE LA MATRIZ DE RIESGO CONSULTE EL MANUAL PARA LA IDENTIFICACIÓN Y COBERTURA DEL RIESGO EN LOS PROCESOS DE CONTRATACIÓN EXPEDIDO POR COLOMBIA COMPRA EFICIENTE Y LA GUÍA DE RIESGOS PREVISIBLES CONTRACTUALES, EXPEDIDA POR LA VEEDURÍA DISTRITAL)
C17: ETAPAS | D17: CLASE | E17: FUENTE | F17: TIPO
C18: PLANEACIÓN
B19: Inadecuada escogencia de la modalidad de contratación | F19: Operacionales
B20: Requisitos habilitantes inapropiados para el proceso de selección | F20: Operacionales
B21: Inadecuado análisis económico estimativo del valor del contrato | F21: Economicos
B22: Inadecuada descripción del bien o servicio requerido | D22: Especifico | E22: Interno | F22: Operacionales
B23: Inadecuada elaboración de estudios y diseños | F23: Operacionales
B24: Requisitos habilitantes que impidan la selección objetiva | F24: Operacionales
B25: Falta de profundidad en el estudio de sector no identificandose claramente aspectos de oferta y demanda | F25: Economicos
B26: Ausencia de fundamentación de la justificación y conveniencia de la contratación | F26: Operacionales
B27: Inadecuada identificación de las condiciones contractuales | F27: Operacionales
B28: No aprobación o demoras en la expedición vigencias futuras | F28: Operacionales
B29: Apertura de procesos sin disponibilidad presupuestal | F29: Operacionales
C30: SELECCIÓN
B31: Inadecuada evaluación de las ofertas y/o verificación de requisitos habilitantes | D31: Especifico | E31: Interno | F31: Operacionales
B32: Inadecuado manejo administrativo del proceso contractual | F32: Operacionales
B33: Falta de claridad en la elaboración de los actos administrativos | F33: Operacionales
B34: Contestación inoportuna a todas las observaciones formuladas a los documentos de la contratación | F34: Operacionales
B35: No publicación de la documentación del proceso de selección en el SECOP | F35: Operacionales
B36: Posibilidad de que dos o más proponentes coordinen sus ofertas o incurran en prácticas colusorias durante el proceso de selección, afectando la libre competencia y la selección objetiva. | D36: General | E36: Externo | F36: Operacionales
B37: Posibilidad de adjudicar el contrato a una oferta con precios artificialmente bajos que no garantice la adecuada ejecución contractual. | D37: Estatal | E37: Interno | F37: Operacionales
C38: CONTRATACIÓN
B39: Riesgo de que no se firme el contrato. | D39: Especifico | E39: Externo | F39: Operacionales
B40: Falta de constitución o constitución tardía de la garantía única. Aceptación de garantías que no se ajustan a lo contemplado en el contrato | D40: Especifico | E40: Externo | F40: Operacionales
B41: Falta de solicitud o solicitud tardía del registro presupuestal | F41: Operacionales
B42: No publicación de la documentación del proceso de selección en el SECOP | F42: Operacionales
B43: Presentación de reclamos de terceros sobre la selección del oferente que retrasen el perfeccionamiento del contrato. | F43: Operacionales
C44: EJECUCIÓN
B45: Fluctuaciones del valor de la moneda | F45: Economicos
B46: Cambio de precios en factores de producción. | F46: Economicos
B47: Variación de los precios del mercado | D47: General | E47: Externo | F47: Economicos
B48: Factores políticos o macroeconómicos. | F48: Sociales o Políticos
B49: Cancelación de pedidos. | D49: Estatal | E49: Interno | F49: Economicos
B50: Variación en la disponibilidad o en el costo de los insumos necesarios para prestar los servicios. | D50: General | E50: Externo | F50: Economicos
B51: Incumplimiento de compromisos adquiridos por el contratista seleccionado con sus subcontratistas, suministradores de bienes y servicios. | D51: Especifico | E51: Externo | F51: Economicos
...

Sheet EVALUACION
C2: MATRIZ DE RIESGOS DE CONTRATACIÓN | K2: Código: GCO-GCI-F164 Versión: 02 Vigencia: 01 de diciembre de 2022 Caso HOLA: 280117
B6: Objeto Contractual: "PRESTAR LOS SERVICIOS INTEGRALES COMO OPERADOR LOGÍSTICO, INCLUYENDO EL SUMINISTRO, ALQUILER, COORDINACIÓN Y OPERACIÓN DE LOS BIENES Y SERVICIOS REQUERIDOS PARA LA PLANEACIÓN, ORGANIZACIÓN, PRODUCCIÓN, EJECUCIÓN Y OPERACIÓN LOGÍSTICA DE LAS ACTIVIDADES, EVENTOS, JORNADAS, ENCUENTROS Y DEMÁS ESPACIOS INSTITUCIONALES QUE DETERMINE LA ALCALDÍA LOCAL DE CHAPINERO, BAJO LA MODALIDAD DE CONTRATACIÓN POR EL SISTEMA DE PRECIOS UNITARIOS FIJOS SIN FÓRMULA DE REAJUSTE Y PRESUPUESTO DE MONTO AGOTABLE, EN CUMPLIMIENTO DE LOS EJES ESTRATÉGICOS SOCIALES, CULTURALES Y DE PARTICIPACIÓN CIUDADANA, DE CONFORMIDAD CON EL PLAN DE DESARROLLO LOCAL DURANTE LA VIGENCIA 2026."
B7: INSTRUCCIONES PARA LA IDENTIFICACIÓN, ANALISIS, EVALUACIÓN , ASIGNACIÓN Y TRATAMIENTO DE RIESGOS EN LA CONTRATACIÓN
B8: 1) Diligencie el objeto contractual y seleccione la(s) etapas y los riesgos que aplican al objeto contractual, de acuerdo a lo definido en la hoja de "IDENTIFICACIÓN Y ANÁLISIS"
B9: 2) Describa las consecuencias de la ocurrencia del Riesgo/evento.
B10: 3) Asigne la probabilidad de ocurrencia del riesgo, de conformidad con la tabla de probabilidad y la valoración del riesgo (Cualitativa o Monetaria)
B11: 4) Asigne el impacto que generaría la materialización del riesgo, de conformidad con la tabla de impacto y la valoración del riesgo (Cualitativa o Monetaria)
B12: 5) Al realizar las anteriores actividades se obtendrá la calificación total y la valoración del riesgo (prioridad).
B13: 6) Continúe en la hoja de "EVALUACIÓN DE CONTROLES"
B15: CALIFICACIÓN | H15: Cualitativa
B16: ETAPA | C16: Descripción (Que puede pasar y, cómo puede ocurrir) | H16: Consecuencias de la ocurrencia del evento | I16: Probabilidad de Ocurrencia | J16: Impacto | K16: Calificación Total | L16: Prioridad
B17: PLANEACIÓN | C17: Inadecuada descripción del bien o servicio requerido | H17: Posible incumplimiento de metas generando un posible incumplimiento del objeto contractual. | I17: 2 | J17: 3 | K17: =I17+J17 -> 5 | L17: =IF(K17<=4,"BAJO",IF(K17=5,"MEDIO",IF(K17=6,"ALTO",IF(K17=7,"ALTO","EXTREMO")))) -> MEDIO
B18: SELECCIÓN | C18: Inadecuada evaluación de las ofertas y/o verificación de requisitos habilitantes | H18: La selección de un contratista inadecuado puede generar riesgo de impugnaciones y demandas, el retraso en la ejecución del contrato, y posibles pérdidas económicas y de reputación. | I18: 2 | J18: 3 | K18: =+I18+J18 -> 5 | L18: =IF(K18<=4,"BAJO",IF(K18=5,"MEDIO",IF(K18=6,"ALTO",IF(K18=7,"ALTO","EXTREMO")))) -> MEDIO
B19: SELECCIÓN | C19: Posibilidad de que dos o más proponentes coordinen sus ofertas o incurran en prácticas colusorias durante el proceso de selección, afectando la libre competencia y la selección objetiva. | H19: Restricción de la pluralidad de oferentes, afectación de la transparencia, posible nulidad del proceso y selección de una oferta que no represente las mejores condiciones para la Entidad. | I19: 1 | J19: 3 | K19: =+I19+J19 -> 4 | L19: =IF(K19<=4,"BAJO",IF(K19=5,"MEDIO",IF(K19=6,"ALTO",IF(K19=7,"ALTO","EXTREMO")))) -> BAJO
B20: SELECCIÓN | C20: Posibilidad de adjudicar el contrato a una oferta con precios artificialmente bajos que no garantice la adecuada ejecución contractual. | H20: Incumplimiento contractual, afectación de la calidad de los bienes y servicios, solicitudes de modificación contractual, posibles sobrecostos y afectación de los recursos públicos. | I20: 2 | J20: 3 | K20: =+I20+J20 -> 5 | L20: =IF(K20<=4,"BAJO",IF(K20=5,"MEDIO",IF(K20=6,"ALTO",IF(K20=7,"ALTO","EXTREMO")))) -> MEDIO
B21: CONTRATACIÓN | C21: Riesgo de que no se firme el contrato. | H21: Retraso en el cronograma de las actividades del contrato, debido al corto tiempo de ejecución. | I21: 1 | J21: 2 | K21: =+I21+J21 -> 3 | L21: =IF(K21<=4,"BAJO",IF(K21=5,"MEDIO",IF(K21=6,"ALTO",IF(K21=7,"ALTO","EXTREMO")))) -> BAJO
B22: CONTRATACIÓN | C22: Falta de constitución o constitución tardía de la garantía única. Aceptación de garantías que no se ajustan a lo contemplado en el contrato | H22: Retraso en el cronograma de las actividades del contrato, debido al corto tiempo de ejecución. | I22: 3 | J22: 3 | K22: =+I22+J22 -> 6 | L22: =IF(K22<=4,"BAJO",IF(K22=5,"MEDIO",IF(K22=6,"ALTO",IF(K22=7,"ALTO","EXTREMO")))) -> ALTO
B23: EJECUCIÓN | C23: Variación de los precios del mercado | H23: Retroceso en cuanto a los procesos administrativos para el cierre del contrato y sobrecostos. | I23: 3 | J23: 2 | K23: =+I23+J23 -> 5 | L23: =IF(K23<=4,"BAJO",IF(K23=5,"MEDIO",IF(K23=6,"ALTO",IF(K23=7,"ALTO","EXTREMO")))) -> MEDIO
B24: EJECUCIÓN | C24: Cancelación de pedidos. | H24: Retrocesos en la ejecución del contrato y posible generacuón de perdidas para el contratista | I24: 3 | J24: 4 | K24: =+I24+J24 -> 7 | L24: =IF(K24<=4,"BAJO",IF(K24=5,"MEDIO",IF(K24=6,"ALTO",IF(K24=7,"ALTO","EXTREMO")))) -> ALTO
B25: EJECUCIÓN | C25: Incumplimiento de compromisos adquiridos por el contratista seleccionado con sus subcontratistas, suministradores de bienes y servicios. | H25: Retraso en el cronograma de las actividades del contrato | I25: 2 | J25: 3 | K25: =+I25+J25 -> 5 | L25: =IF(K25<=4,"BAJO",IF(K25=5,"MEDIO",IF(K25=6,"ALTO",IF(K25=7,"ALTO","EXTREMO")))) -> MEDIO
B26: EJECUCIÓN | C26: Posibilidad de agotamiento anticipado del presupuesto oficial o de variaciones en la demanda de bienes y servicios, debido a que el contrato se ejecuta bajo la modalidad de monto agotable y las cantidades son estimadas. | H26: Agotamiento del presupuesto antes de finalizar la vigencia contractual, necesidad de priorizar requerimientos, imposibilidad de atender nuevas solicitudes o terminación de la ejecución por agotamiento de los recursos disponibles. | I26: 2 | J26: 3 | K26: =+I26+J26 -> 5 | L26: =IF(K26<=4,"BAJO",IF(K26=5,"MEDIO",IF(K26=6,"ALTO",IF(K26=7,"ALTO","EXTREMO")))) -> MEDIO
B29: Probabilidad | C29: Catagoria | E29: Valoración | G29: Impacto | H29: Categoria | I29: Valoración
C30: Raro (puede ocurrir excepcionalmente) | E30: 1 | H30: Insignificante | I30: 1
C31: Improbable (puede ocurrir ocasionalmente) | E31: 2 | H31: Menor | I31: 2
C32: Posible (puede ocurrir en cualquier momento futuro) | E32: 3 | H32: Moderado | I32: 3
C33: Probable (probablemente va a ocurrir) | E33: 4 | H33: Mayor | I33: 4
C34: Casi cierto (ocurre en la mayoria de circunstancias) | E34: 5 | H34: Catastrófico | I34: 5
C36: Valoración del Riesgo
C37: Calificación Cualitativa | F37: Obstruye la ejecución del contrato de manera intrascendente. | G37: Dificulta la ejecución del contrato de manera baja, aplicando medidas mínimas se pueden lograr el objeto contractual | H37: Afecta la ejecución del contrato sin alterar el beneficio para las partes | I37: Obstruye la ejecución del contrato sustancialmente pero aun así permite la consecución del objeto contractual | K37: Perturba la ejecución del contrato de manera grave imposibilitando la consecución del objeto contractual.
C38: Calificación Monetaria | F38: Los sobrecostos no representan más del uno por ciento (1%) del valor del contrato. | G38: Los sobrecostos no representan más del cinco por ciento (5%) del valor del contrato. | H38: Genera un impacto sobre el valor del contrato entre el cinco (5%) y el quince por ciento (15%). | I38: Incrementa el valor del contrato entre el quince (15%) y el treinta por ciento (30%). | K38: Impacto sobre el valor del contrato en más del treinta por ciento (30%).
C39: Categoría | E39: Valoración | F39: Insignificante | G39: Menor | H39: Moderado | I39: Mayor | K39: Catastrófico
F40: 1 | G40: 2 | H40: 3 | I40: 4 | K40: 5
C41: Raro (puede ocurrir excepcionalmente) | E41: 1 | F41: 2 | G41: 3 | H41: 4 | I41: 5 | K41: 6
C42: Improbable (puede ocurrir ocasionalmente) | E42: 2 | F42: 3 | G42: 4 | H42: 5 | I42: 6 | K42: 7
C43: Posible (puede ocurrir en cualquier momento futuro) | E43: 3 | F43: 4 | G43: 5 | H43: 6 | I43: 7 | K43: 8
C44: Probable (probablemente va a ocurrir) | E44: 4 | F44: 5 | G44: 6 | H44: 7 | I44: 8 | K44: 9
C45: Casi cierto (ocurre en la mayoria de circunstancias) | E45: 5 | F45: 6 | G45: 7 | H45: 8 | I45: 9 | K45: 10
G47: Categoria del Riesgo
G48: Valoración del Riesgo | H48: Categoría
G49: 8, 9 y 10 | H49: Riesgo extremo
...

Sheet EVALUACION CON CONTROLES
C2: MATRIZ DE RIESGOS DE CONTRATACIÓN | Q2: Código: GCO-GCI-F164 Versión: 02 Vigencia: 01 de diciembre de 2022 Caso HOLA: 280117
B6: =+EVALUACION!B6 EVALUACION!B6 -> Objeto Contractual: "PRESTAR LOS SERVICIOS INTEGRALES COMO OPERADOR LOGÍSTICO, INCLUYENDO EL SUMINISTRO, ALQUILER, COORDINACIÓN Y OPERACIÓN DE LOS BIENES Y SERVICIOS REQUERIDOS PARA LA PLANEACIÓN, ORGANIZACIÓN, PRODUCCIÓN, EJECUCIÓN Y OPERACIÓN LOGÍSTICA DE LAS ACTIVIDADES, EVENTOS, JORNADAS, ENCUENTROS Y DEMÁS ESPACIOS INSTITUCIONALES QUE DETERMINE LA ALCALDÍA LOCAL DE CHAPINERO, BAJO LA MODALIDAD DE CONTRATACIÓN POR EL SISTEMA DE PRECIOS UNITARIOS FIJOS SIN FÓRMULA DE REAJUSTE Y PRESUPUESTO DE MONTO AGOTABLE, EN CUMPLIMIENTO DE LOS EJES ESTRATÉGICOS SOCIALES, CULTURALES Y DE PARTICIPACIÓN CIUDADANA, DE CONFORMIDAD CON EL PLAN DE DESARROLLO LOCAL DURANTE LA VIGENCIA 2026."
B7: INSTRUCCIONES PARA LA IDENTIFICACIÓN, ANALISIS, EVALUACIÓN , ASIGNACIÓN Y TRATAMIENTO DE RIESGOS EN LA CONTRATACIÓN
B8: 1) Describa el tratamiento/controles a ser implementados
B9: 2) Diligencie la información de las siguientes columnas, de acuerdo con el análisis realizado a cada riesgo: Afecta el equilibrio económico, persona responsable de implementar el tratamiento, fecha estimada de inicio del tratamiento, fecha estimada en la que se completa el tratamiento, cómo se realiza el monitoreo y la periodicidad.
B10: 3) Continúe en la hoja de "ASIGNACIÓN Y TRATAMIENTO" y diligencie las siguientes casillas: A quien se le asigna y el porcentaje que asume cada una de las partes en caso de que sea compartido.
B15: ETAPA | C15: Descripción (Que puede pasar y, cómo puede ocurrir) | G15: Tratamiento/Controles a ser implementados | I15: Probabilidad de Ocurrencia | J15: Impacto | K15: Calificación Total | L15: Prioridad | M15: ¿Afecta el equilibrio económico del contrato? | N15: Persona responsable por implementar el tratamiento | O15: Fecha estimada en que se inicia el tratamiento | P15: Fecha estimada en que se completa el tratamiento | Q15: ¿Cómo se realiza el monitoreo? | R15: Periodicidad ¿Cuándo?
B16: =+EVALUACION!B17 -> PLANEACIÓN | C16: =+EVALUACION!C17 -> Inadecuada descripción del bien o servicio requerido | G16: Revisión detallada de las condiciones: Antes de firmar el contrato, realizar una revisión exhaustiva de la descripción técnica del servicio para asegurar que está claramente definido | I16: 1 | J16: 2 | K16: =+I16+J16 -> 3 | L16: =IF(K16<=4,"BAJO",IF(K16=5,"MEDIO",IF(K16=6,"ALTO",IF(K16=7,"ALTO","EXTREMO")))) -> BAJO | M16: Si | N16: Persona que estructuró el proceso | O16: Estructuración | P16: Estructuración | Q16: Revisión con el área técnica de la descripción de los bienes y/o servicios a solicitar | R16: Mensual
B17: =+EVALUACION!B18 -> SELECCIÓN | C17: =+EVALUACION!C18 -> Inadecuada evaluación de las ofertas y/o verificación de requisitos habilitantes | G17: Revisión detallada de los criterios de selección | I17: 1 | J17: 2 | K17: =+I17+J17 -> 3 | L17: =IF(K17<=4,"BAJO",IF(K17=5,"MEDIO",IF(K17=6,"ALTO",IF(K17=7,"ALTO","EXTREMO")))) -> BAJO | M17: Si | N17: Personas que evaluan los ofertas de los proponentes | O17: Selección | P17: Selección | Q17: Revisar los critertios solicitados en el estudio previo para evaluar las ofertas | R17: Cuando se evalué a los proponentes
B18: =+EVALUACION!B19 -> SELECCIÓN | C18: =+EVALUACION!C19 -> Posibilidad de que dos o más proponentes coordinen sus ofertas o incurran en prácticas colusorias durante el proceso de selección, afectando la libre competencia y la selección objetiva. | G18: Publicar oportunamente el proceso en SECOP II, establecer reglas objetivas de participación y evaluación, promover la pluralidad de oferentes, verificar posibles indicios de colusión durante la evaluación de las ofertas y, de ser procedente, poner los hechos en conocimiento de las autoridades competentes. | I18: =+EVALUACION!I19 -> 1 | J18: 2 | K18: =+I18+J18 -> 3 | L18: =IF(K18<=4,"BAJO",IF(K18=5,"MEDIO",IF(K18=6,"ALTO",IF(K18=7,"ALTO","EXTREMO")))) -> BAJO | M18: Si | N18: Comité Evaluador y Profesional estructurador del proceso | O18: Estructuración | P18: Adjudicación | Q18: Verificación durante la evaluación de las ofertas, análisis de coincidencias o comportamientos atípicos entre proponentes y revisión jurídica del proceso. | R18: Durante la etapa de evaluación de las ofertas y antes de la adjudicación del contrato.
B19: =+EVALUACION!B20 -> SELECCIÓN | C19: =+EVALUACION!C20 -> Posibilidad de adjudicar el contrato a una oferta con precios artificialmente bajos que no garantice la adecuada ejecución contractual. | G19: Aplicar el procedimiento previsto en el pliego de condiciones para identificar ofertas con precios artificialmente bajos; solicitar las aclaraciones y soportes respectivos; verificar la viabilidad técnica, económica y financiera de la oferta y rechazarla cuando no se justifique satisfactoriamente su ejecución. | I19: 1 | J19: 1 | K19: =+I19+J19 -> 2 | L19: =IF(K19<=4,"BAJO",IF(K19=5,"MEDIO",IF(K19=6,"ALTO",IF(K19=7,"ALTO","EXTREMO")))) -> BAJO | M19: Si | N19: Comité Evaluador Económico y Área Financiera | O19: Inicio de la evaluación económica | P19: Adjudicación | Q19: Revisión de las ofertas económicas, análisis de las justificaciones presentadas por los oferentes y validación de la razonabilidad de los precios frente al estudio de mercado. | R19: Durante la evaluación económica de las ofertas y previo a la adjudicación del contrato.
B20: =+EVALUACION!B21 -> CONTRATACIÓN | C20: =+EVALUACION!C21 -> Riesgo de que no se firme el contrato. | G20: Verificación previa de la disponibilidad presupuestal, la idoneidad del adjudicatario y el cumplimiento de los requisitos de perfeccionamiento del contrato; comunicación oportuna al adjudicatario de los términos y plazos para la suscripción y legalización; y seguimiento activo del área de contratación al cronograma de firma. | I20: =+EVALUACION!I21 -> 1 | J20: 1 | K20: =+I20+J20 -> 2 | L20: =IF(K20<=4,"BAJO",IF(K20=5,"MEDIO",IF(K20=6,"ALTO",IF(K20=7,"ALTO","EXTREMO")))) -> BAJO | M20: Si | N20: Persona del área jurídica de contratación a cargo del proceso | O20: Contratación | P20: Contratación | Q20: Revisar continuamente la Plataforma SECOP y mantener contacto con el proponente seleccionado | R20: cuando se seleccione el proponente
B21: =+EVALUACION!B22 -> CONTRATACIÓN | C21: =+EVALUACION!C22 -> Falta de constitución o constitución tardía de la garantía única. Aceptación de garantías que no se ajustan a lo contemplado en el contrato | G21: Incluir el estudio previo un plazo específico para la constitución de garantías | I21: 2 | J21: 1 | K21: =+I21+J21 -> 3 | L21: =IF(K21<=4,"BAJO",IF(K21=5,"MEDIO",IF(K21=6,"ALTO",IF(K21=7,"ALTO","EXTREMO")))) -> BAJO | M21: Si | N21: Persona del área jurídica de contratación a cargo del proceso | O21: Contratación | P21: Contratación | Q21: Revisar continuamente la Plataforma SECOP y mantener contacto con el proponente seleccionado | R21: cuando se seleccione el proponente
B22: =+EVALUACION!B23 -> EJECUCIÓN | C22: =+EVALUACION!C23 -> Variación de los precios del mercado | G22: Especificar que lo valores de los precios ofertados por oferente serán fijos. | I22: 1 | J22: =+EVALUACION!J23 -> 2 | K22: =+I22+J22 -> 3 | L22: =IF(K22<=4,"BAJO",IF(K22=5,"MEDIO",IF(K22=6,"ALTO",IF(K22=7,"ALTO","EXTREMO")))) -> BAJO | M22: No | N22: Persona que hará el apoyo a la supervisión del contrato | O22: Ejecución | P22: Ejecución | Q22: Relaizar comité técnico de seguimineto en el cual se aclare que los valores a usar para la ejecución del contrato serán los de la oferta publicad que se seleccionó | R22: Durante todo el contrato
B23: =+EVALUACION!B24 -> EJECUCIÓN | C23: =+EVALUACION!C24 -> Cancelación de pedidos. | G23: Establecer mecanismos para la revisión y aprobación de solicitudes al contratista | I23: 2 | J23: 3 | K23: =+I23+J23 -> 5 | L23: =IF(K23<=4,"BAJO",IF(K23=5,"MEDIO",IF(K23=6,"ALTO",IF(K23=7,"ALTO","EXTREMO")))) -> MEDIO | M23: Si | N23: Persona que hará el apoyo a la supervisión del contrato | O23: Ejecución | P23: Ejecución | Q23: Relaizar comité técnico de seguimineto mensual en el cual se presente el avance mensual de la ejecución del contrato | R23: Mensual
B24: =+EVALUACION!B25 -> EJECUCIÓN | C24: =+EVALUACION!C25 -> Incumplimiento de compromisos adquiridos por el contratista seleccionado con sus subcontratistas, suministradores de bienes y servicios. | G24: Se revisarán previamente las facturas presentadas por el contratista en las cuales se incluya la verificación de pago a terceros si fuera el caso como parte escencial para que se haga el pago al contratista | I24: 1 | J24: 2 | K24: =+I24+J24 -> 3 | L24: =IF(K24<=4,"BAJO",IF(K24=5,"MEDIO",IF(K24=6,"ALTO",IF(K24=7,"ALTO","EXTREMO")))) -> BAJO | M24: Si | N24: Persona que hará el apoyo a la supervisión del contrato | O24: Ejecución | P24: Ejecución | Q24: Relaizar comité técnico de seguimineto mensual en el cual se presente el avance mensual de la ejecución del contrato | R24: Mensual
B25: =+EVALUACION!B26 -> EJECUCIÓN | C25: =+EVALUACION!C26 -> Posibilidad de agotamiento anticipado del presupuesto oficial o de variaciones en la demanda de bienes y servicios, debido a que el contrato se ejecuta bajo la modalidad de monto agotable y las cantidades son estimadas. | G25: Realizar seguimiento permanente a la ejecución presupuestal y al consumo del monto contractual; controlar las órdenes de suministro emitidas por el supervisor; verificar periódicamente el saldo disponible y priorizar los requerimientos conforme a las necesidades institucionales y la disponibilidad de recursos. | I25: 1 | J25: 2 | K25: =+I25+J25 -> 3 | L25: =IF(K25<=4,"BAJO",IF(K25=5,"MEDIO",IF(K25=6,"ALTO",IF(K25=7,"ALTO","EXTREMO")))) -> BAJO | M25: Si | N25: Supervisor del contrato y apoyo a la supervisión | O25: Inicio de la ejecución del contrato | P25: Terminación del contrato | Q25: Seguimiento periódico al consumo del monto contractual, conciliación de órdenes de suministro y verificación del saldo disponible frente al presupuesto oficial. | R25: Durante toda la ejecución del contrato o con cada orden de suministro emitida.
C27: Categoria del Riesgo | H27: Impacto del Riesgo
B28: Probabilidad | C28: Catagoria | F28: Valoración | H28: Categoria | J28: Valoración | N28: Categoria del Riesgo
C29: Raro (puede ocurrir excepcionalmente) | F29: 1 | H29: Insignificante | J29: 1 | N29: Valoración del Riesgo | P29: Categoría
C30: Improbable (puede ocurrir ocasionalmente) | F30: 2 | H30: Menor | J30: 2 | N30: 8, 9 y 10 | P30: Riesgo extremo
C31: Posible (puede ocurrir en cualquier momento futuro) | F31: 3 | H31: Moderado | J31: 3 | N31: 6 y 7 | P31: Riesgo alto
C32: Probable (probablemente va a ocurrir) | F32: 4 | H32: Mayor | J32: 4 | N32: 5 | P32: Riesgo medio
C33: Casi cierto (ocurre en la mayoria de circunstancias) | F33: 5 | H33: Catastrófico | J33: 5 | N33: 2, 3 y 4 | P33: Riesgo bajo
C35: Valoración del Riesgo
C36: Calificación Cualitativa | G36: Obstruye la ejecución del contrato de manera intrascendente. | I36: Dificulta la ejecución del contrato de manera baja, aplicando medidas mínimas se pueden lograr el objeto contractual | L36: Afecta la ejecución del contrato sin alterar el beneficio para las partes | N36: Obstruye la ejecución del contrato sustancialmente pero aun así permite la consecución del objeto contractual | P36: Perturba la ejecución del contrato de manera grave imposibilitando la consecución del objeto contractual.
C37: Calificación Monetaria | G37: Los sobrecostos no representan más del uno por ciento (1%) del valor del contrato. | I37: Los sobrecostos no representan más del cinco por ciento (5%) del valor del contrato. | L37: Genera un impacto sobre el valor del contrato entre el cinco (5%) y el quince por ciento (15%). | N37: Incrementa el valor del contrato entre el quince (15%) y el treinta por ciento (30%). | P37: Impacto sobre el valor del contrato en más del treinta por ciento (30%).
C38: Catagoria | F38: Valoración | G38: Insignificante | I38: Menor | L38: Moderado | N38: Mayor | P38: Catastrófico
G39: 1 | I39: 2 | L39: 3 | N39: 4 | P39: 5
C40: Raro (puede ocurrir excepcionalmente) | F40: 1 | G40: 2 | I40: 3 | L40: 4 | N40: 5 | P40: 6
C41: Improbable (puede ocurrir ocasionalmente) | F41: 2 | G41: 3 | I41: 4 | L41: 5 | N41: 6 | P41: 7
C42: Posible (puede ocurrir en cualquier momento futuro) | F42: 3 | G42: 4 | I42: 5 | L42: 6 | N42: 7 | P42: 8
C43: Probable (probablemente va a ocurrir) | F43: 4 | G43: 5 | I43: 6 | L43: 7 | N43: 8 | P43: 9
C44: Casi cierto (ocurre en la mayoria de circunstancias) | F44: 5 | G44: 6 | I44: 7 | L44: 8 | N44: 9 | P44: 10

Sheet ASIGNACION Y TRATAMIENTO
C2: MATRIZ DE RIESGOS DE CONTRATACIÓN | W2: Código: GCO-GCI-F164 Versión: 02 Vigencia: 01 de diciembre de 2022 Caso HOLA: 280117
B6: =+EVALUACION!B6 -> Objeto Contractual: "PRESTAR LOS SERVICIOS INTEGRALES COMO OPERADOR LOGÍSTICO, INCLUYENDO EL SUMINISTRO, ALQUILER, COORDINACIÓN Y OPERACIÓN DE LOS BIENES Y SERVICIOS REQUERIDOS PARA LA PLANEACIÓN, ORGANIZACIÓN, PRODUCCIÓN, EJECUCIÓN Y OPERACIÓN LOGÍSTICA DE LAS ACTIVIDADES, EVENTOS, JORNADAS, ENCUENTROS Y DEMÁS ESPACIOS INSTITUCIONALES QUE DETERMINE LA ALCALDÍA LOCAL DE CHAPINERO, BAJO LA MODALIDAD DE CONTRATACIÓN POR EL SISTEMA DE PRECIOS UNITARIOS FIJOS SIN FÓRMULA DE REAJUSTE Y PRESUPUESTO DE MONTO AGOTABLE, EN CUMPLIMIENTO DE LOS EJES ESTRATÉGICOS SOCIALES, CULTURALES Y DE PARTICIPACIÓN CIUDADANA, DE CONFORMIDAD CON EL PLAN DE DESARROLLO LOCAL DURANTE LA VIGENCIA 2026."
B7: Esta matriz es un documento anexo del Estudio Previo
B10: No | C10: Descripción (Que puede pasar y, cómo puede ocurrir) | D10: Etapa | E10: Clase | F10: Fuente | G10: Consecuencias de la ocurrencia del evento | H10: Probabilidad | I10: Impacto | J10: Calificación total | K10: Prioridad | L10: ¿A quien se le asigna? | M10: % | N10: Tratamiento/Controles a ser implementados | O10: Probabilidad | P10: Impacto | Q10: Calificación total | R10: Prioridad | S10: ¿Afecta el equilibrio económico del contrato? | T10: Persona responsable por implementar el tratamiento | U10: Fecha estimada en que se inicia el tratamiento | V10: Fecha estimada en que se completa el tratamiento | W10: ¿Cómo se realiza el monitoreo | X10: Periodicidad ¿Cuándo?
B11: 1 | C11: =+'EVALUACION CON CONTROLES'!C16:F16 -> Inadecuada descripción del bien o servicio requerido | D11: =+'EVALUACION CON CONTROLES'!B16 -> PLANEACIÓN | E11: =VLOOKUP(C11,'IDENTIFICACION Y ANALISIS'!$B$19:$F$68,3,FALSE()) -> Especifico | F11: =VLOOKUP(C11,'IDENTIFICACION Y ANALISIS'!$B$19:$F$68,4,FALSE()) -> Interno | G11: =+EVALUACION!H17 -> Posible incumplimiento de metas generando un posible incumplimiento del objeto contractual. | H11: =+EVALUACION!I17 -> 2 | I11: =+EVALUACION!J17 -> 3 | J11: =+EVALUACION!K17 -> 5 | K11: =+EVALUACION!L17 -> MEDIO | L11: FDLCH | M11: 100 | N11: =+'EVALUACION CON CONTROLES'!G16 -> Revisión detallada de las condiciones: Antes de firmar el contrato, realizar una revisión exhaustiva de la descripción técnica del servicio para asegurar que está claramente definido | O11: =+'EVALUACION CON CONTROLES'!I16 -> 1 | P11: =+'EVALUACION CON CONTROLES'!J16 -> 2 | Q11: =+'EVALUACION CON CONTROLES'!K16 -> 3 | R11: =+'EVALUACION CON CONTROLES'!L16 -> BAJO | S11: =+'EVALUACION CON CONTROLES'!M16 -> Si | T11: =+'EVALUACION CON CONTROLES'!N16 -> Persona que estructuró el proceso | U11: =+'EVALUACION CON CONTROLES'!O16 -> Estructuración | V11: =+'EVALUACION CON CONTROLES'!P16 -> Estructuración | ... X11: =+'EVALUACION CON CONTROLES'!R16 -> Mensual
B12: 2 | C12: =+'EVALUACION CON CONTROLES'!C17:F17 -> Inadecuada evaluación de las ofertas y/o verificación de requisitos habilitantes | D12: =+'EVALUACION CON CONTROLES'!B17 -> SELECCIÓN | E12: =VLOOKUP(C12,'IDENTIFICACION Y ANALISIS'!$B$19:$F$68,3,FALSE()) -> Especifico | F12: =VLOOKUP(C12,'IDENTIFICACION Y ANALISIS'!$B$19:$F$68,4,FALSE()) -> Interno | G12: =+EVALUACION!H18 -> La selección de un contratista inadecuado puede generar riesgo de impugnaciones y demandas, el retraso en la ejecución del contrato, y posibles pérdidas económicas y de reputación. | H12: =+EVALUACION!I18 -> 2 | I12: =+EVALUACION!J18 -> 3 | J12: =+EVALUACION!K18 -> 5 | K12: =+EVALUACION!L18 -> MEDIO | L12: FDLCH | M12: 100 | N12: =+'EVALUACION CON CONTROLES'!G17 -> Revisión detallada de los criterios de selección | O12: =+'EVALUACION CON CONTROLES'!I17 -> 1 | P12: =+'EVALUACION CON CONTROLES'!J17 -> 2 | Q12: =+'EVALUACION CON CONTROLES'!K17 -> 3 | R12: =+'EVALUACION CON CONTROLES'!L17 -> BAJO | S12: =+'EVALUACION CON CONTROLES'!M17 -> Si | T12: =+'EVALUACION CON CONTROLES'!N17 -> Personas que evaluan los ofertas de los proponentes | U12: =+'EVALUACION CON CONTROLES'!O17 -> Selección | V12: =+'EVALUACION CON CONTROLES'!P17 -> Selección | ... X12: =+'EVALUACION CON CONTROLES'!R17 -> Cuando se evalué a los proponentes
B13: 3 | C13: =+'EVALUACION CON CONTROLES'!C18:F18 -> Posibilidad de que dos o más proponentes coordinen sus ofertas o incurran en prácticas colusorias durante el proceso de selección, afectando la libre competencia y la selección objetiva. | D13: =+'EVALUACION CON CONTROLES'!B18 -> SELECCIÓN | E13: =VLOOKUP(C13,'IDENTIFICACION Y ANALISIS'!$B$19:$F$68,3,FALSE()) -> General | F13: =VLOOKUP(C13,'IDENTIFICACION Y ANALISIS'!$B$19:$F$68,4,FALSE()) -> Externo | G13: =+EVALUACION!H19 -> Restricción de la pluralidad de oferentes, afectación de la transparencia, posible nulidad del proceso y selección de una oferta que no represente las mejores condiciones para la Entidad. | H13: =+EVALUACION!I19 -> 1 | I13: =+EVALUACION!J19 -> 3 | J13: =+EVALUACION!K19 -> 4 | K13: =+EVALUACION!L19 -> BAJO | L13: FDLCH | M13: 100 | N13: =+'EVALUACION CON CONTROLES'!G18 -> Publicar oportunamente el proceso en SECOP II, establecer reglas objetivas de participación y evaluación, promover la pluralidad de oferentes, verificar posibles indicios de colusión durante la evaluación de las ofertas y, de ser procedente, poner los hechos en conocimiento de las autoridades competentes. | O13: =+'EVALUACION CON CONTROLES'!I18 -> 1 | P13: =+'EVALUACION CON CONTROLES'!J18 -> 2 | Q13: =+'EVALUACION CON CONTROLES'!K18 -> 3 | R13: =+'EVALUACION CON CONTROLES'!L18 -> BAJO | S13: =+'EVALUACION CON CONTROLES'!M18 -> Si | T13: =+'EVALUACION CON CONTROLES'!N18 -> Comité Evaluador y Profesional estructurador del proceso | U13: =+'EVALUACION CON CONTROLES'!O18 -> Estructuración | V13: =+'EVALUACION CON CONTROLES'!P18 -> Adjudicación | ... X13: =+'EVALUACION CON CONTROLES'!R18 -> Durante la etapa de evaluación de las ofertas y antes de la adjudicación del contrato.
B14: 4 | C14: =+'EVALUACION CON CONTROLES'!C19:F19 -> Posibilidad de adjudicar el contrato a una oferta con precios artificialmente bajos que no garantice la adecuada ejecución contractual. | D14: =+'EVALUACION CON CONTROLES'!B19 -> SELECCIÓN | E14: =VLOOKUP(C14,'IDENTIFICACION Y ANALISIS'!$B$19:$F$68,3,FALSE()) -> Estatal | F14: =VLOOKUP(C14,'IDENTIFICACION Y ANALISIS'!$B$19:$F$68,4,FALSE()) -> Interno | G14: =+EVALUACION!H20 -> Incumplimiento contractual, afectación de la calidad de los bienes y servicios, solicitudes de modificación contractual, posibles sobrecostos y afectación de los recursos públicos. | H14: =+EVALUACION!I20 -> 2 | I14: =+EVALUACION!J20 -> 3 | J14: =+EVALUACION!K20 -> 5 | K14: =+EVALUACION!L20 -> MEDIO | L14: FDLCH | M14: 100 | N14: =+'EVALUACION CON CONTROLES'!G19 -> Aplicar el procedimiento previsto en el pliego de condiciones para identificar ofertas con precios artificialmente bajos; solicitar las aclaraciones y soportes respectivos; verificar la viabilidad técnica, económica y financiera de la oferta y rechazarla cuando no se justifique satisfactoriamente su ejecución. | O14: =+'EVALUACION CON CONTROLES'!I19 -> 1 | P14: =+'EVALUACION CON CONTROLES'!J19 -> 1 | Q14: =+'EVALUACION CON CONTROLES'!K19 -> 2 | R14: =+'EVALUACION CON CONTROLES'!L19 -> BAJO | S14: =+'EVALUACION CON CONTROLES'!M19 -> Si | T14: =+'EVALUACION CON CONTROLES'!N19 -> Comité Evaluador Económico y Área Financiera | U14: =+'EVALUACION CON CONTROLES'!O19 -> Inicio de la evaluación económica | V14: =+'EVALUACION CON CONTROLES'!P19 -> Adjudicación | ... X14: =+'EVALUACION CON CONTROLES'!R19 -> Durante la evaluación económica de las ofertas y previo a la adjudicación del contrato.
B15: 5 | C15: =+'EVALUACION CON CONTROLES'!C20:F20 -> Riesgo de que no se firme el contrato. | D15: =+'EVALUACION CON CONTROLES'!B20 -> CONTRATACIÓN | E15: =VLOOKUP(C15,'IDENTIFICACION Y ANALISIS'!$B$19:$F$68,3,FALSE()) -> Especifico | F15: =VLOOKUP(C15,'IDENTIFICACION Y ANALISIS'!$B$19:$F$68,4,FALSE()) -> Externo | G15: =+EVALUACION!H21 -> Retraso en el cronograma de las actividades del contrato, debido al corto tiempo de ejecución. | H15: =+EVALUACION!I21 -> 1 | I15: =+EVALUACION!J21 -> 2 | J15: =+EVALUACION!K21 -> 3 | K15: =+EVALUACION!L21 -> BAJO | L15: CONTRATISTA Y FDLCH | M15: 50/50 | N15: =+'EVALUACION CON CONTROLES'!G20 -> Verificación previa de la disponibilidad presupuestal, la idoneidad del adjudicatario y el cumplimiento de los requisitos de perfeccionamiento del contrato; comunicación oportuna al adjudicatario de los términos y plazos para la suscripción y legalización; y seguimiento activo del área de contratación al cronograma de firma. | O15: =+'EVALUACION CON CONTROLES'!I20 -> 1 | P15: =+'EVALUACION CON CONTROLES'!J20 -> 1 | Q15: =+'EVALUACION CON CONTROLES'!K20 -> 2 | R15: =+'EVALUACION CON CONTROLES'!L20 -> BAJO | S15: =+'EVALUACION CON CONTROLES'!M20 -> Si | T15: =+'EVALUACION CON CONTROLES'!N20 -> Persona del área jurídica de contratación a cargo del proceso | U15: =+'EVALUACION CON CONTROLES'!O20 -> Contratación | V15: =+'EVALUACION CON CONTROLES'!P20 -> Contratación | ... X15: =+'EVALUACION CON CONTROLES'!R20 -> cuando se seleccione el proponente
B16: 6 | C16: =+'EVALUACION CON CONTROLES'!C21:F21 -> Falta de constitución o constitución tardía de la garantía única. Aceptación de garantías que no se ajustan a lo contemplado en el contrato | D16: =+'EVALUACION CON CONTROLES'!B21 -> CONTRATACIÓN | E16: =VLOOKUP(C16,'IDENTIFICACION Y ANALISIS'!$B$19:$F$68,3,FALSE()) -> Especifico | F16: =VLOOKUP(C16,'IDENTIFICACION Y ANALISIS'!$B$19:$F$68,4,FALSE()) -> Externo | G16: =+EVALUACION!H22 -> Retraso en el cronograma de las actividades del contrato, debido al corto tiempo de ejecución. | H16: =+EVALUACION!I22 -> 3 | I16: =+EVALUACION!J22 -> 3 | J16: =+EVALUACION!K22 -> 6 | K16: =+EVALUACION!L22 -> ALTO | L16: CONTRATISTA | M16: 100 | N16: =+'EVALUACION CON CONTROLES'!G21 -> Incluir el estudio previo un plazo específico para la constitución de garantías | O16: =+'EVALUACION CON CONTROLES'!I21 -> 2 | P16: =+'EVALUACION CON CONTROLES'!J21 -> 1 | Q16: =+'EVALUACION CON CONTROLES'!K21 -> 3 | R16: =+'EVALUACION CON CONTROLES'!L21 -> BAJO | S16: =+'EVALUACION CON CONTROLES'!M21 -> Si | T16: =+'EVALUACION CON CONTROLES'!N21 -> Persona del área jurídica de contratación a cargo del proceso | U16: =+'EVALUACION CON CONTROLES'!O21 -> Contratación | V16: =+'EVALUACION CON CONTROLES'!P21 -> Contratación | ... X16: =+'EVALUACION CON CONTROLES'!R21 -> cuando se seleccione el proponente
B17: 7 | C17: =+'EVALUACION CON CONTROLES'!C22:F22 -> Variación de los precios del mercado | D17: =+'EVALUACION CON CONTROLES'!B22 -> EJECUCIÓN | E17: =VLOOKUP(C17,'IDENTIFICACION Y ANALISIS'!$B$19:$F$68,3,FALSE()) -> General | F17: =VLOOKUP(C17,'IDENTIFICACION Y ANALISIS'!$B$19:$F$68,4,FALSE()) -> Externo | G17: =+EVALUACION!H23 -> Retroceso en cuanto a los procesos administrativos para el cierre del contrato y sobrecostos. | H17: =+EVALUACION!I23 -> 3 | I17: =+EVALUACION!J23 -> 2 | J17: =+EVALUACION!K23 -> 5 | K17: =+EVALUACION!L23 -> MEDIO | L17: CONTRATISTA | M17: 100 | N17: =+'EVALUACION CON CONTROLES'!G22 -> Especificar que lo valores de los precios ofertados por oferente serán fijos. | O17: =+'EVALUACION CON CONTROLES'!I22 -> 1 | P17: =+'EVALUACION CON CONTROLES'!J22 -> 2 | Q17: =+'EVALUACION CON CONTROLES'!K22 -> 3 | R17: =+'EVALUACION CON CONTROLES'!L22 -> BAJO | S17: =+'EVALUACION CON CONTROLES'!M22 -> No | T17: =+'EVALUACION CON CONTROLES'!N22 -> Persona que hará el apoyo a la supervisión del contrato | U17: =+'EVALUACION CON CONTROLES'!O22 -> Ejecución | V17: =+'EVALUACION CON CONTROLES'!P22 -> Ejecución | ... X17: =+'EVALUACION CON CONTROLES'!R22 -> Durante todo el contrato
B18: 8 | C18: =+'EVALUACION CON CONTROLES'!C23:F23 -> Cancelación de pedidos. | D18: =+'EVALUACION CON CONTROLES'!B23 -> EJECUCIÓN | E18: =VLOOKUP(C18,'IDENTIFICACION Y ANALISIS'!$B$19:$F$68,3,FALSE()) -> Estatal | F18: =VLOOKUP(C18,'IDENTIFICACION Y ANALISIS'!$B$19:$F$68,4,FALSE()) -> Interno | G18: =+EVALUACION!H24 -> Retrocesos en la ejecución del contrato y posible generacuón de perdidas para el contratista | H18: =+EVALUACION!I24 -> 3 | I18: =+EVALUACION!J24 -> 4 | J18: =+EVALUACION!K24 -> 7 | K18: =+EVALUACION!L24 -> ALTO | L18: FDLCH | M18: 100 | N18: =+'EVALUACION CON CONTROLES'!G23 -> Establecer mecanismos para la revisión y aprobación de solicitudes al contratista | O18: =+'EVALUACION CON CONTROLES'!I23 -> 2 | P18: =+'EVALUACION CON CONTROLES'!J23 -> 3 | Q18: =+'EVALUACION CON CONTROLES'!K23 -> 5 | R18: =+'EVALUACION CON CONTROLES'!L23 -> MEDIO | S18: =+'EVALUACION CON CONTROLES'!M23 -> Si | T18: =+'EVALUACION CON CONTROLES'!N23 -> Persona que hará el apoyo a la supervisión del contrato | U18: =+'EVALUACION CON CONTROLES'!O23 -> Ejecución | V18: =+'EVALUACION CON CONTROLES'!P23 -> Ejecución | ... X18: =+'EVALUACION CON CONTROLES'!R23 -> Mensual
B19: 9 | C19: =+'EVALUACION CON CONTROLES'!C24:F24 -> Incumplimiento de compromisos adquiridos por el contratista seleccionado con sus subcontratistas, suministradores de bienes y servicios. | D19: =+'EVALUACION CON CONTROLES'!B24 -> EJECUCIÓN | E19: =VLOOKUP(C19,'IDENTIFICACION Y ANALISIS'!$B$19:$F$68,3,FALSE()) -> Especifico | F19: =VLOOKUP(C19,'IDENTIFICACION Y ANALISIS'!$B$19:$F$68,4,FALSE()) -> Externo | G19: =+EVALUACION!H25 -> Retraso en el cronograma de las actividades del contrato | H19: =+EVALUACION!I25 -> 2 | I19: =+EVALUACION!J25 -> 3 | J19: =+EVALUACION!K25 -> 5 | K19: =+EVALUACION!L25 -> MEDIO | L19: CONTRATISTA | M19: 100 | N19: =+'EVALUACION CON CONTROLES'!G24 -> Se revisarán previamente las facturas presentadas por el contratista en las cuales se incluya la verificación de pago a terceros si fuera el caso como parte escencial para que se haga el pago al contratista | O19: =+'EVALUACION CON CONTROLES'!I24 -> 1 | P19: =+'EVALUACION CON CONTROLES'!J24 -> 2 | Q19: =+'EVALUACION CON CONTROLES'!K24 -> 3 | R19: =+'EVALUACION CON CONTROLES'!L24 -> BAJO | S19: =+'EVALUACION CON CONTROLES'!M24 -> Si | T19: =+'EVALUACION CON CONTROLES'!N24 -> Persona que hará el apoyo a la supervisión del contrato | U19: =+'EVALUACION CON CONTROLES'!O24 -> Ejecución | V19: =+'EVALUACION CON CONTROLES'!P24 -> Ejecución | ... X19: =+'EVALUACION CON CONTROLES'!R24 -> Mensual
B20: 10 | C20: =+'EVALUACION CON CONTROLES'!C25:F25 -> Posibilidad de agotamiento anticipado del presupuesto oficial o de variaciones en la demanda de bienes y servicios, debido a que el contrato se ejecuta bajo la modalidad de monto agotable y las cantidades son estimadas. | D20: =+'EVALUACION CON CONTROLES'!B25 -> EJECUCIÓN | E20: =VLOOKUP(C20,'IDENTIFICACION Y ANALISIS'!$B$19:$F$68,3,FALSE()) -> Especifico | F20: =VLOOKUP(C20,'IDENTIFICACION Y ANALISIS'!$B$19:$F$68,4,FALSE()) -> Interno | G20: =+EVALUACION!H26 -> Agotamiento del presupuesto antes de finalizar la vigencia contractual, necesidad de priorizar requerimientos, imposibilidad de atender nuevas solicitudes o terminación de la ejecución por agotamiento de los recursos disponibles. | H20: =+EVALUACION!I26 -> 2 | I20: =+EVALUACION!J26 -> 3 | J20: =+EVALUACION!K26 -> 5 | K20: =+EVALUACION!L26 -> MEDIO | L20: CONTRATISTA | M20: 100 | N20: =+'EVALUACION CON CONTROLES'!G25 -> Realizar seguimiento permanente a la ejecución presupuestal y al consumo del monto contractual; controlar las órdenes de suministro emitidas por el supervisor; verificar periódicamente el saldo disponible y priorizar los requerimientos conforme a las necesidades institucionales y la disponibilidad de recursos. | O20: =+'EVALUACION CON CONTROLES'!I25 -> 1 | P20: =+'EVALUACION CON CONTROLES'!J25 -> 2 | Q20: =+'EVALUACION CON CONTROLES'!K25 -> 3 | R20: =+'EVALUACION CON CONTROLES'!L25 -> BAJO | S20: =+'EVALUACION CON CONTROLES'!M25 -> Si | T20: =+'EVALUACION CON CONTROLES'!N25 -> Supervisor del contrato y apoyo a la supervisión | U20: =+'EVALUACION CON CONTROLES'!O25 -> Inicio de la ejecución del contrato | V20: =+'EVALUACION CON CONTROLES'!P25 -> Terminación del contrato | ... X20: =+'EVALUACION CON CONTROLES'!R25 -> Durante toda la ejecución del contrato o con cada orden de suministro emitida.
F22: Categoria | J22: Impacto del Riesgo
E23: Probabilidad | F23: Catagoria | G23: Valoración | J23: Categoria | L23: Valoración
F24: Raro (puede ocurrir excepcionalmente) | G24: 1 | J24: Insignificante | L24: 1
F25: Improbable (puede ocurrir ocasionalmente) | G25: 2 | J25: Menor | L25: 2
F26: Posible (puede ocurrir en cualquier momento futuro) | G26: 3 | J26: Moderado | L26: 3
F27: Probable (probablemente va a ocurrir) | G27: 4 | J27: Mayor | L27: 4
F28: Casi cierto (ocurre en la mayoria de circunstancias) | G28: 5 | J28: Catastrófico | L28: 5
D30: Valoración del Riesgo
D31: Catagoria | E31: Valoración | F31: Insignificante | H31: Menor | J31: Moderado | K31: Mayor | L31: Catastrófico | P31: Categoria del Riesgo
F32: 1 | H32: 2 | J32: 3 | K32: 4 | L32: 5 | P32: Valoración del Riesgo | S32: Categoría
D33: Raro (puede ocurrir excepcionalmente) | E33: 1 | F33: 2 | H33: 3 | J33: 4 | K33: 5 | L33: 6 | P33: 8, 9 y 10 | S33: Riesgo extremo
D34: Improbable (puede ocurrir ocasionalmente) | E34: 2 | F34: 3 | H34: 4 | J34: 5 | K34: 6 | L34: 7 | P34: 6 y 7 | S34: Riesgo alto
D35: Posible (puede ocurrir en cualquier momento futuro) | E35: 3 | F35: 4 | H35: 5 | J35: 6 | K35: 7 | L35: 8 | P35: 5 | S35: Riesgo medio
D36: Probable (probablemente va a ocurrir) | E36: 4 | F36: 5 | H36: 6 | J36: 7 | K36: 8 | L36: 9 | P36: 2, 3 y 4 | S36: Riesgo bajo
D37: Casi cierto (ocurre en la mayoria de circunstancias) | E37: 5 | F37: 6 | H37: 7 | J37: 8 | K37: 9 | L37: 10
B42: CONTRATISTA
B43: FDLCH
B44: CONTRATISTA Y FDLCH
