Workbook

Sheet PLAN DE NECESIDADES
B2: CLASIFICADOR POR OBJETO DEL GASTO | F2: NOMBRE CUENTA
B3: A-02-02-01-002-007 | F3: ARTÍCULOS TEXTILES (EXCEPTO PRENDAS DE VESTIR)
B4: ÍTEM | C4: CÓDIGO DANE | D4: DESCRIPCIÓN DEL BIEN Y/O SERVICIO | E4: UNIDAD MEDIDA | F4: EXISTENCIAS (STOCK - INVENTARIOS) | G4: NECESIDAD | H4: UNSPSC (CCE) | I4: CÓDIGO MATERIAL SAP | J4: CÓDIGO OTAN - NOC
B5: 1 | C5: 2791301 | D5: PARCHE DE IDENTIFICACIÓN PERSONAL: ESPECIFICACIONES TÉCNICAS DE ACUERDO NORMA TÉCNICA KIT DE DOTACIÓN NO. NTMD-0356 - A2 | E5: UNIDAD | F5: 0 | G5: 1 | H5: 11161701 | I5: 1047066 | J5: SIN CREAR
B6: 2 | C6: 2791301 | D6: PARCHE DE EJÉRCITO: ESPECIFICACIONES TÉCNICAS DE ACUERDO A LA NORMA TÉCNICA KIT DE DOTACIÓN. NO. NTMD-0356 - A2. | E6: UNIDAD | F6: 0 | G6: 1 | H6: 11161701 | I6: 1898472 | J6: SIN CREAR
B7: 3 | C7: 2791301 | D7: PARCHES DE LA UNIDAD SUPERIOR Y SUBALTERNA: ESPECIFICACIONES TÉCNICAS DE ACUERDO A LA NORMA TÉCNICA KIT DE DOTACIÓN N°. NTMD-0356 - A2. | E7: UNIDAD | F7: 0 | G7: 1 | H7: 11161701 | I7: 1343999 | J7: SIN CREAR
B8: 4 | C8: 2791301 | D8: BANDERA DE IDENTIFICACIÓN COLOMBIA: PARA UNIFORME DE COMBATE CAMUFLADO TIPO SELVA "CAMALEÓN" ESPECIFICACIONES TÉCNICAS DE ACUERDO AL BOLETÍN N°.001 ESTANDARIZACIÓN DE LA BANDERA DE IDENTIFICACIÓN EMPLEADA EN EL UNIFORME Nº4 Y 4A DEL PATRÓN DE CAMUFLAJE TERRESTRE "CAMALEÓN". | E8: UNIDAD | F8: 0 | G8: 1 | H8: 11161701 | I8: 1347326 | J8: SIN CREAR
B9: 5 | C9: 2791301 | D9: PARCHE PARA IDENTIFICACIÓN GRUPO SANGUÍNEO: ESPECIFICACIONES TÉCNICAS DE ACUERDO A LA NORMA TÉCNICA KIT DE DOTACIÓN N°. NTMD-0356 - A2. | E9: UNIDAD | F9: 0 | G9: 1 | H9: 11161701 | I9: 1143174 | J9: SIN CREAR
B10: 6 | C10: 2791301 | D10: INSIGNIA DEL GRADO SOLDADO: ESPECIFICACIONES TÉCNICAS DE ACUERDO A LA NORMA TÉCNICA KIT DE DOTACIÓN N°. NTMD-0356 - A2. | E10: JUEGO | F10: 0 | G10: 1 | H10: 11161701 | I10: 1047424 | J10: SIN CREAR
B11: 7 | C11: 2791301 | D11: BRAZALETES TÁCTICOS X JUEGO DE 4: ESPECIFICACIONES TÉCNICAS DE ACUERDO A LA NORMA TÉCNICA KIT DE DOTACIÓN N°. NTMD-0356 - A2. | E11: JUEGO | F11: 0 | G11: 1 | H11: 11161701 | I11: 1248964 | J11: 8455-80-0011302
B12: 8 | C12: 2791301 | D12: OJOS DE GATO: ESPECIFICACIONES TÉCNICAS DE ACUERDO A LA NORMA TÉCNICA KIT DE DOTACIÓN N°. NTMD-0356 - A2. | E12: UNIDAD | F12: 0 | G12: 1 | H12: 11161701 | I12: 1082391 | J12: SIN CREAR
B13: 9 | C13: 2792201 | D13: LIGAS PARA BOTA MANGA PANTALÓN CAMUFLADO: ESPECIFICACIONES TÉCNICAS DE ACUERDO A LA NORMA TÉCNICA KIT DE DOTACIÓN N°. NTMD-0356 - A2. | E13: PAR | F13: 0 | G13: 1 | H13: 53102509 | I13: 1127360 | J13: 8440-80-0011394
B14: 10 | C14: 2712007 | D14: PAÑUELO: ESPECIFICACIONES TÉCNICAS DE ACUERDO A LA NORMA TÉCNICA KIT DE DOTACIÓN N°. NTMD-0356 - A2. | E14: UNIDAD | F14: 0 | G14: 1 | H14: 53102512 | I14: 1316012 | J14: 8440-80-0011303
B15: 11 | C15: 2799701 | D15: BOLSO PARA ÚTILES DE ASEO: ESPECIFICACIONES TÉCNICAS DE ACUERDO A LA NORMA TÉCNICA KIT DE DOTACIÓN N°. NTMD-0356 - A2. | E15: UNIDAD | F15: 0 | G15: 1 | H15: 53121503 | I15: 1082376 | J15: SIN CREAR
B16: 12 | C16: 2732099 | D16: MALLA PARA CABELLO COLOR NEGRO DE ACUERDO A ESPECIFICACIONES TÉCNICAS JEMPP-CEDE4-DIETE-ET-04937/INT-0 | E16: UNIDAD | F16: 0 | G16: 1 | H16: 53102513 | I16: 1893958 | J16: SIN CREAR
B18: CLASIFICADOR POR OBJETO DEL GASTO | F18: NOMBRE CUENTA
B19: A-02-02-01-002-008 | F19: DOTACIÓN (PRENDAS DE VESTIR Y CALZADO)
B20: ÍTEM | C20: CÓDIGO DANE | D20: DESCRIPCIÓN DEL BIEN Y/O SERVICIO | E20: UNIDAD MEDIDA | F20: EXISTENCIAS (STOCK - INVENTARIOS) | G20: NECESIDAD | H20: UNSPSC (CCE) | I20: CÓDIGO MATERIAL SAP | J20: CÓDIGO OTAN - NOC
B21: 13 | C21: 2821001 | D21: CALCETÍN COLOR BLANCO PARA DEPORTES: EL CALCETÍN DEBE SER ELABORADO EN POLIAMIDA CON TEJIDO ACANALADO 3X1 PARA LA PARTE DE LA CAÑA Y PARA EL PIE, CON UN TEJIDO TIPO TERRY EN EL INTERIOR Y PUEDE SER EN FIBRA ANTIBACTERIAL DESDE LA PARTE ALTA DEL TALÓN, LA PLANTA DEL PIE, LA PUNTERA Y SU ANILLO. EL CALCETÍN LLEVA UNA BANDA ELÁSTICA TEJIDA EN EL CONTORNO DEL ARCO DE LA PLANTA Y EMPEINE PARA EVITAR QUE EL CALCETÍN SE DESLICE, ESPECIFICACIONES SEGÚN NORMA TÉCNICA NO. NTMD-0356 A2 DE ACUERDO A ÍTEM 3.1.2.7 | E21: PAR | F21: 0 | G21: 1 | H21: 53102402 | I21: 1495276 | J21: SIN CREAR
B22: 14 | C22: 2823601 | D22: UNIFORME DE DEPORTES COMPLETO (CAMISETA Y PANTALONETA): DE ACUERDO A NORMA TÉCNICA NO. NTMD-0356 A2 DE ACUERDO A ÍTEM 3.1.2.7 FIGURA ILUSTRATIVA 37 | E22: UNIDAD | F22: 0 | G22: 1 | H22: 53102700 | I22: 1329412 | J22: SIN CREAR
B23: 15 | C23: 2819003 | D23: CHANCLAS PARA BAÑO: PUEDEN ESTAR FABRICADAS EN CAUCHO, PVC (POLÍMERO DE CLORURO DE VINILO) O EN EVA (ETILENVINILACETATO), EN UNA SOLO PIEZA POR PROCESO DE INYECCIÓN CON MATERIALES NO RECICLADOS Y QUE NO GENEREN ALERGIAS O CUALQUIER OTRO TIPO DE ENFERMEDAD AL USUARIO POR SU USO NORMAL, SEGÚN NORMA TÉCNICA NO. NTMD-0356 A2 ÍTEM 3.1.1.20 | E23: PAR | F23: 0 | G23: 1 | H23: 53111800 | I23: 1296725 | J23: SIN CREAR
B24: 16 | C24: 2823603 | D24: BICICLETERO NEGRO CORTO: DE ACUERDO A ESPECIFICACIONES TÉCNICAS ESPECIFICACIONES TÉCNICAS NO JEMPP-CEDE4-DIETE-ET05595/INT-0 | E24: UNIDAD | F24: 0 | G24: 1 | H24: 53101500 | I24: 1893955 | J24: SIN CREAR
B25: 17 | C25: 2822401 | D25: JUEGO DE ROPA INTERIOR (TOP-CACHETERO) DE ACUERDO A ESPECIFICACIONES TÉCNICAS N° JEMPP-CEDE4-DIETE-ET05573/INT-01 | E25: UNIDAD | F25: 0 | G25: 1 | H25: 53102300 | I25: 1702099 | J25: SIN CREAR
B27: CLASIFICADOR POR OBJETO DEL GASTO | F27: NOMBRE CUENTA
B28: A-02-02-01-003-002 | F28: PASTA O PULPA, PAPEL Y PRODUCTOS DE PAPEL; IMPRESOS Y ARTÍCULOS SIMILARES
B29: ÍTEM | C29: CÓDIGO DANE | D29: DESCRIPCIÓN DEL BIEN Y/O SERVICIO | E29: UNIDAD MEDIDA | F29: EXISTENCIAS (STOCK - INVENTARIOS) | G29: NECESIDAD | H29: UNSPSC (CCE) | I29: CÓDIGO MATERIAL SAP | J29: CÓDIGO OTAN - NOC
B30: 18 | C30: 3270109 | D30: CUADERNO PARA ESCRITURA: DEBE SER COSIDO, GRAPADO O ARGOLLADO CON PASTA PLASTIFICADA DURA O BLANDA DE MÍNIMO 100 HOJAS DE COLOR BLANCO, ESPECIFICACIONES SEGÚN NORMA TÉCNICA N°. NTMD-0356 A2 ÍTEM 3.1.1.18 | E30: UNIDAD | F30: 0 | G30: 1 | H30: 14111514 | I30: 1277866 | J30: 7530-80-0011305
B31: 19 | C31: 3219302 | D31: PAPEL HIGIÉNICO TRIPLE HOJA: PRESENTACIÓN DE ROLLO TRIPLE HOJA CON UNA LONGITUD MÍNIMA DE 35 METROS, COLOR BLANCO, ABSORBENTE, RESISTENTE, SUAVE Y EMPACADO INDIVIDUALMENTE DE TAL MANERA QUE SUS CONDICIONES NO SE AFECTEN HASTA LLEGAR AL USUARIO FINA ESPECIFICACIONES SEGÚN NORMA TÉCNICA NO. NTMD-0356 A2 ÍTEM 3.1.1.10 | E31: UNIDAD | F31: 0 | G31: 1 | H31: 14111704 | I31: 1632379 | J31: 8540-80-0011398
B32: 20 | C32: 3219308 | D32: TOALLAS HIGIÉNICAS MUJER CON ALAS: ESPECIFICACIONES DE ACUERDO A NTC-3604 | E32: PAQUETE | F32: 0 | G32: 1 | H32: 52121700 | I32: 1476323 | J32: SIN CREAR
B34: CLASIFICADOR POR OBJETO DEL GASTO | F34: NOMBRE CUENTA
B35: A-02-02-01-003-005 | F35: OTROS PRODUCTOS QUÍMICOS; FIBRAS ARTIFICIALES (O FIBRAS INDUSTRIALES HECHAS POR EL HOMBRE)
B36: ÍTEM | C36: CÓDIGO DANE | D36: DESCRIPCIÓN DEL BIEN Y/O SERVICIO | E36: UNIDAD MEDIDA | F36: EXISTENCIAS (STOCK - INVENTARIOS) | G36: NECESIDAD | H36: UNSPSC (CCE) | I36: CÓDIGO MATERIAL SAP | J36: CÓDIGO OTAN - NOC
B37: 21 | C37: 3533301 | D37: BETÚN: NEGRO 125 GRAMOS ESPECIFICACIONES SEGÚN NORMA TÉCNICA NO. NTMD-0356 A2 ÍTEM 3.1.1.14 | E37: UNIDAD | F37: 0 | G37: 1 | H37: 47131809 | I37: 1048274 | J37: SIN CREAR
B38: 22 | C38: 3532315 | D38: TALCOS PARA PIES : DE 85 GRAMOS ESPECIFICACIONES SEGÚN NORMA TÉCNICA NO. NTMD-0356 A2 ÍTEM 3.1.1.6 | E38: UNIDAD | F38: 0 | G38: 1 | H38: 53131614 | I38: 1291103 | J38: 8510-80-0011397
B39: 23 | C39: 3532308 | D39: CREMA DENTAL: DE 100 ML ESPECIFICACIONES SEGÚN NORMA TÉCNICA NO. NTMD-0356 A2 ÍTEM 3.1.1.3 | E39: UNIDAD | F39: 0 | G39: 1 | H39: 53131502 | I39: 1013968 | J39: 8520-80-0011399
B40: 24 | C40: 3532324 | D40: DESODORANTE ANTITRASPIRANTE: ESPECIFICACIONES TÉCNICAS DE ACUERDO A LA NORMA TÉCNICA KIT DE DOTACIÓN NO. NTMD-0356 A2 ÍTEM 3.1.1.7 | E40: UNIDAD | F40: 0 | G40: 1 | H40: 53131606 | I40: 1013944 | J40: 8510-80-0011400
B41: 25 | C41: 3532324 | D41: DESODORANTE ANTITRANSPIRANTE PARA MUJER: DE 80 GRAMOS, ESPECIFICACIONES SEGÚN NORMA TÉCNICA NO. NTMD-0356 A2 ÍTEM 3.1.1.7 | E41: UNIDAD | F41: 0 | G41: 1 | H41: 53131606 | I41: 1476318 | J41: 8510-80-0011400
B42: 26 | C42: 3532105 | D42: JABÓN DE BAÑO ANTIBACTERIAL 130 GRAMOS: ESPECIFICACIONES SEGÚN NORMA TÉCNICA NO. NTMD-0356 A2 ÍTEM 3.1.1.8 | E42: UNIDAD | F42: 0 | G42: 1 | H42: 53131608 | I42: 1013955 | J42: 8520-80-0011401
B43: 27 | C43: 3532101 | D43: JABÓN PARA LAVAR ROPA: DE 300 GRAMOS, ESPECIFICACIONES SEGÚN NORMA TÉCNICA NO. NTMD-0356 A2 ÍTEM 3.1.1.13 | E43: UNIDAD | F43: 0 | G43: 1 | H43: 47131811 | I43: 1298675 | J43: 7930-80-0011405
B45: CLASIFICADOR POR OBJETO DEL GASTO | F45: NOMBRE CUENTA
...

Sheet PRESUPUESTO CONSOLIDADO
B2: ARTICULO PRESUPUESTAL (SIIF NACIÓN) | C2: RECURSO | D2: DESCRIPCIÓN DEL RUBRO | E2: VALOR APROXIMADO DE LA NECESIDAD | F2: PRESUPUESTO A UTILIZAR | G2: SALDO
B3: =PRESUPUESTO!B51 -> A-02-02-01-002-007 | C3: =PRESUPUESTO!C51 -> 10 | D3: =PRESUPUESTO!D51 -> ARTÍCULOS TEXTILES (EXCEPTO PRENDAS DE VESTIR) | E3: =PRESUPUESTO!G66 -> 1.4926446e+08 | F3: =PRESUPUESTO!H66 -> 0 | G3: =PRESUPUESTO!I66 -> 0
B4: =PRESUPUESTO!B69 -> A-02-02-01-002-008 | C4: =PRESUPUESTO!C69 -> 10 | D4: =PRESUPUESTO!D69 -> DOTACIÓN (PRENDAS DE VESTIR Y CALZADO) | E4: =PRESUPUESTO!G84 -> 1.1017241e+08 | F4: =PRESUPUESTO!H84 -> 0 | G4: =PRESUPUESTO!I84 -> 0
B5: =PRESUPUESTO!B87 -> A-02-02-01-003-002 | C5: =PRESUPUESTO!C87 -> 10 | D5: =PRESUPUESTO!D87 -> PASTA O PULPA, PAPEL Y PRODUCTOS DE PAPEL; IMPRESOS Y ARTÍCULOS SIMILARES | E5: =PRESUPUESTO!G102 -> 17181908 | F5: =PRESUPUESTO!H102 -> 0 | G5: =PRESUPUESTO!I102 -> 0
B6: =PRESUPUESTO!B105 -> A-02-02-01-003-005 | C6: =PRESUPUESTO!C105 -> 10 | D6: =PRESUPUESTO!D105 -> OTROS PRODUCTOS QUÍMICOS; FIBRAS ARTIFICIALES (O FIBRAS INDUSTRIALES HECHAS POR EL HOMBRE) | E6: =PRESUPUESTO!G120 -> 76633232 | F6: =PRESUPUESTO!H120 -> 0 | G6: =PRESUPUESTO!I120 -> 0
B7: =PRESUPUESTO!B123 -> A-02-02-01-003-006 | C7: =PRESUPUESTO!C123 -> 10 | D7: =PRESUPUESTO!D123 -> PRODUCTOS DE CAUCHO Y PLÁSTICO | E7: =PRESUPUESTO!G138 -> 10678304 | F7: =PRESUPUESTO!H138 -> 0 | G7: =PRESUPUESTO!I138 -> 0
B8: =PRESUPUESTO!B141 -> A-02-02-01-003-008 | C8: =PRESUPUESTO!C141 -> 10 | D8: =PRESUPUESTO!D141 -> OTROS BIENES TRANSPORTABLES N.C.P. | E8: =PRESUPUESTO!G156 -> 21384272 | F8: =PRESUPUESTO!H156 -> 0 | G8: =PRESUPUESTO!I156 -> 0
B9: =PRESUPUESTO!B159 -> A-02-02-01-004-002 | C9: =PRESUPUESTO!C159 -> 10 | D9: =PRESUPUESTO!D159 -> PRODUCTOS METÁLICOS ELABORADOS (EXCEPTO MAQUINARIA Y EQUIPO) | E9: =PRESUPUESTO!G174 -> 51156664 | F9: =PRESUPUESTO!H174 -> 0 | G9: =PRESUPUESTO!I174 -> 0
B10: TOTAL | E10: =SUM(E3:E9) -> 4.3647124e+08 | F10: =SUM(F3:F9) -> 0 | G10: =SUM(G3:G9) -> 0
O57: =SUMIFS(PRESUPUESTO!$G$87:$G$101,PRESUPUESTO!$E$87:$E$101,'CANTIDADES ADJUDICACIÓN'!AD3) -> 451638.72 | S57: =SUMIFS(PRESUPUESTO!$G$87:$G$101,PRESUPUESTO!$E$87:$E$101,'CANTIDADES ADJUDICACIÓN'!AH3) -> 1420371.1 | W57: =SUMIFS(PRESUPUESTO!$G$87:$G$101,PRESUPUESTO!$E$87:$E$101,'CANTIDADES ADJUDICACIÓN'!AL3) -> 1826191.4 | AA57: =SUMIFS(PRESUPUESTO!$G$87:$G$101,PRESUPUESTO!$E$87:$E$101,'CANTIDADES ADJUDICACIÓN'!AP3) -> 1420371.1 | AB57: =SUMIFS(PRESUPUESTO!$G$87:$G$101,PRESUPUESTO!$E$87:$E$101,'CANTIDADES ADJUDICACIÓN'!AQ3) -> 0 | AC57: =SUMIFS(PRESUPUESTO!$G$87:$G$101,PRESUPUESTO!$E$87:$E$101,'CANTIDADES ADJUDICACIÓN'!AR3) -> 0 | AD57: =SUMIFS(PRESUPUESTO!$G$87:$G$101,PRESUPUESTO!$E$87:$E$101,'CANTIDADES ADJUDICACIÓN'!AS3) -> 0 | AE57: =SUMIFS(PRESUPUESTO!$G$87:$G$101,PRESUPUESTO!$E$87:$E$101,'CANTIDADES ADJUDICACIÓN'!AT3) -> 1623281.2 | AI57: =SUMIFS(PRESUPUESTO!$G$87:$G$101,PRESUPUESTO!$E$87:$E$101,'CANTIDADES ADJUDICACIÓN'!AX3) -> 1623281.2 | AJ57: =SUMIFS(PRESUPUESTO!$G$87:$G$101,PRESUPUESTO!$E$87:$E$101,'CANTIDADES ADJUDICACIÓN'!AY3) -> 0 | AK57: =SUMIFS(PRESUPUESTO!$G$87:$G$101,PRESUPUESTO!$E$87:$E$101,'CANTIDADES ADJUDICACIÓN'!AZ3) -> 0 | AL57: =SUMIFS(PRESUPUESTO!$G$87:$G$101,PRESUPUESTO!$E$87:$E$101,'CANTIDADES ADJUDICACIÓN'!BA3) -> 0 | AM57: =SUMIFS(PRESUPUESTO!$G$87:$G$101,PRESUPUESTO!$E$87:$E$101,'CANTIDADES ADJUDICACIÓN'!BB3) -> 1826191.4 | AN57: =SUMIFS(PRESUPUESTO!$G$87:$G$101,PRESUPUESTO!$E$87:$E$101,'CANTIDADES ADJUDICACIÓN'!BC3) -> 0 | AO57: =SUMIFS(PRESUPUESTO!$G$87:$G$101,PRESUPUESTO!$E$87:$E$101,'CANTIDADES ADJUDICACIÓN'!BD3) -> 0 | AP57: =SUMIFS(PRESUPUESTO!$G$87:$G$101,PRESUPUESTO!$E$87:$E$101,'CANTIDADES ADJUDICACIÓN'!BE3) -> 0 | ... BV57: =SUMIFS(PRESUPUESTO!$G$87:$G$101,PRESUPUESTO!$E$87:$E$101,'CANTIDADES ADJUDICACIÓN'!CK3) -> 0 | BW57: =SUMIFS(PRESUPUESTO!$G:$G,PRESUPUESTO!$E:$E,'CANTIDADES ADJUDICACIÓN'!#REF!,PRESUPUESTO!$A:$A,1) -> 0 | BX57: =SUMIFS(PRESUPUESTO!$G$87:$G$101,PRESUPUESTO!$E$87:$E$101,'CANTIDADES ADJUDICACIÓN'!#REF!) -> 0 | BY57: =SUMIFS(PRESUPUESTO!$G$87:$G$101,PRESUPUESTO!$E$87:$E$101,'CANTIDADES ADJUDICACIÓN'!#REF!) -> 0 | BZ57: =SUMIFS(PRESUPUESTO!$G$87:$G$101,PRESUPUESTO!$E$87:$E$101,'CANTIDADES ADJUDICACIÓN'!#REF!) -> 0 | CA57: =SUMIFS(PRESUPUESTO!$G$87:$G$101,PRESUPUESTO!$E$87:$E$101,'CANTIDADES ADJUDICACIÓN'!#REF!) -> 0 | CB57: =SUMIFS(PRESUPUESTO!$G$87:$G$101,PRESUPUESTO!$E$87:$E$101,'CANTIDADES ADJUDICACIÓN'!#REF!) -> 0 | CC57: =SUMIFS(PRESUPUESTO!$G$87:$G$101,PRESUPUESTO!$E$87:$E$101,'CANTIDADES ADJUDICACIÓN'!#REF!) -> 0 | CD57: =SUMIFS(PRESUPUESTO!$G$87:$G$101,PRESUPUESTO!$E$87:$E$101,'CANTIDADES ADJUDICACIÓN'!#REF!) -> 0 | CE57: =SUMIFS(PRESUPUESTO!$G$87:$G$101,PRESUPUESTO!$E$87:$E$101,'CANTIDADES ADJUDICACIÓN'!#REF!) -> 0 | ... DV57: =SUMIFS(PRESUPUESTO!$G$87:$G$101,PRESUPUESTO!$E$87:$E$101,'CANTIDADES ADJUDICACIÓN'!#REF!) -> 0
A65: 1
A66: 1
A67: 1
A68: 1
A69: 1
A70: 1
A71: 1
A72: 1
A73: 1
A74: 1
A75: 1
A76: 1
... A92: 1

Sheet PRESUPUESTO
B2: UNIDAD | C2: 2° Contingente | D2: 3° Contingente | E2: 4° Contingente | F2: TOTAL | H2: UNIDAD | I2: KIT FEMENINO | J2: KIT MASCULINO | K2: TOTAL
B3: BAABS3 | C3: 31 | D3: 20 | E3: 18 | F3: =SUM(C3:E3) -> 69 | H3: BAABS3 | I3: 0 | J3: 69 | K3: =SUM(I3+J3) -> 69
B4: BAACA10 | C4: 93 | D4: 62 | E4: 62 | F4: =SUM(C4:E4) -> 217 | H4: BAACA10 | I4: 0 | J4: 217 | K4: =SUM(I4+J4) -> 217
B5: BAACA2 | C5: 93 | D5: 62 | E5: 124 | F5: =SUM(C5:E5) -> 279 | H5: BAACA2 | I5: 0 | J5: 279 | K5: =SUM(I5+J5) -> 279
B6: BAADA1 | C6: 93 | D6: 62 | E6: 62 | F6: =SUM(C6:E6) -> 217 | H6: BAADA1 | I6: 0 | J6: 217 | K6: =SUM(I6+J6) -> 217
B7: BAEEV2 | C7: 62 | D7: 62 | E7: 124 | F7: =SUM(C7:E7) -> 248 | H7: BAEEV2 | I7: 0 | J7: 248 | K7: =SUM(I7+J7) -> 248
B8: BAEEV3 | C8: 93 | D8: 93 | E8: 62 | F8: =SUM(C8:E8) -> 248 | H8: BAEEV3 | I8: 0 | J8: 248 | K8: =SUM(I8+J8) -> 248
B9: BAMMA7 | C9: 93 | D9: 124 | E9: 62 | F9: =SUM(C9:E9) -> 279 | H9: BAMMA7 | I9: 0 | J9: 279 | K9: =SUM(I9+J9) -> 279
B10: BASPC10 | C10: 0 | D10: 62 | E10: 63 | F10: =SUM(C10:E10) -> 125 | H10: BASPC10 | I10: 62 | J10: 63 | K10: =SUM(I10+J10) -> 125
B11: BASAC | C11: 0 | D11: 62 | E11: 0 | F11: =SUM(C11:E11) -> 62 | H11: BASAC | I11: 0 | J11: 62 | K11: =SUM(I11+J11) -> 62
B12: BICAR | C12: 93 | D12: 93 | E12: 93 | F12: =SUM(C12:E12) -> 279 | H12: BICAR | I12: 0 | J12: 279 | K12: =SUM(I12+J12) -> 279
B13: BIMOC70 | C13: 62 | D13: 62 | E13: 62 | F13: =SUM(C13:E13) -> 186 | H13: BIMOC70 | I13: 0 | J13: 186 | K13: =SUM(I13+J13) -> 186
B14: BITER10 | C14: 0 | D14: 16 | E14: 16 | F14: =SUM(C14:E14) -> 32 | H14: BITER10 | I14: 0 | J14: 32 | K14: =SUM(I14+J14) -> 32
... B17: GMRON | C17: 62 | D17: 62 | E17: 62 | F17: =SUM(C17:E17) -> 186 | H17: GMRON | I17: 0 | J17: 186 | K17: =SUM(I17+J17) -> 186
B18: TOTAL | C18: =SUM(C3:C17) -> 841 | D18: =SUM(D3:D17) -> 908 | E18: =SUM(E3:E17) -> 876 | F18: =SUM(C18:E18) -> 2625 | H18: TOTAL | I18: =SUM(I3:I17) -> 62 | J18: =SUM(J3:J17) -> 2563 | K18: =SUM(I18+J18) -> 2625
B20: KIT DE DOTACIÓN PARA SOLDADOS
B21: ARTICULO PRESUPUESTAL (SIIF NACIÓN) | C21: RECURSO | D21: DESCRIPCIÓN DEL RUBRO | E21: UNIDAD BENEFICIADA | F21: PORCENTAJE | G21: VALOR POR ARTÍCULO PRESUPUESTAL
B22: A-02-02-01-002-007 | C22: 10 | D22: ARTÍCULOS TEXTILES (EXCEPTO PRENDAS DE VESTIR) | E22: BR10 - FUTAM -BRLOG3 | F22: =G22*100%/#REF! -> #REF! | G22: =+K75 -> 0
B23: A-02-02-01-002-008 | D23: DOTACIÓN (PRENDAS DE VESTIR Y CALZADO) | E23: BR10 - FUTAM -BRLOG3 | F23: =G23*100%/#REF! -> #REF! | G23: =+#REF! -> #REF!
B24: A-02-02-01-003-002 | D24: PASTA O PULPA, PAPEL Y PRODUCTOS DE PAPEL; IMPRESOS Y ARTÍCULOS SIMILARES | E24: BR10 - FUTAM -BRLOG3 | F24: =G24*100%/#REF! -> #REF! | G24: =+K98 -> 0
B25: A-02-02-01-003-005 | D25: OTROS PRODUCTOS QUÍMICOS; FIBRAS ARTIFICIALES (O FIBRAS INDUSTRIALES HECHAS POR EL HOMBRE) | E25: BR10 - FUTAM -BRLOG3 | F25: =G25*100%/#REF! -> #REF! | G25: =+K103 -> 0
B26: A-02-02-01-003-006 | D26: PRODUCTOS DE CAUCHO Y PLÁSTICO | E26: BR10 - FUTAM -BRLOG3 | F26: =G26*100%/#REF! -> #REF! | G26: =+#REF! -> #REF!
B27: A-02-02-01-003-008 | D27: OTROS BIENES TRANSPORTABLES N.C.P. | E27: BR10 - FUTAM -BRLOG3 | F27: =G27*100%/#REF! -> #REF! | G27: =K126 -> 0
B28: A-02-02-01-004-002 | D28: PRODUCTOS METÁLICOS ELABORADOS (EXCEPTO MAQUINARIA Y EQUIPO) | E28: BR10 - FUTAM -BRLOG3 | F28: =G28*100%/#REF! -> #REF! | G28: =#REF! -> #REF!
B29: VALOR TOTAL DE LA PARTIDA | F29: =SUM(F22:F28) -> #REF! | G29: =SUM(G22:L28) -> #REF!
B31: VALOR POR UNIDAD
B32: ARTICULO PRESUPUESTAL (SIIF NACIÓN) | C32: RECURSO | D32: DESCRIPCIÓN DEL RUBRO | E32: UNIDAD BENEFICIADA | F32: PORCENTAJE | G32: VALOR POR ARTÍCULO PRESUPUESTAL
B33: A-02-02-01-002-007 A-02-02-01-002-008 A-02-02-01-003-002 A-02-02-01-003-005 A-02-02-01-003-006 A-02-02-01-003-008 A-02-02-01-004-002 | C33: 10 | D33: VALOR TOTAL PARTIDA ESPECIAL POR UNIDAD | E33: BAABS3 | F33: =G33/$G$48 -> 0.026285714 | G33: =SUM(G51,G69,G87,G105,G123,G141,G159) -> 11472958
E34: BAACA10 | F34: =G34/$G$48 -> 0.082666667 | G34: =SUM(G52,G70,G88,G106,G124,G142,G160) -> 36081623
E35: BAACA2 | F35: =G35/$G$48 -> 0.10628571 | G35: =SUM(G53,G71,G89,G107,G125,G143,G161) -> 46390658
E36: BAADA1 | F36: =G36/$G$48 -> 0.082666667 | G36: =SUM(G54,G72,G90,G108,G126,G144,G162) -> 36081623
E37: BAEEV2 | F37: =G37/$G$48 -> 0.09447619 | G37: =SUM(G55,G73,G91,G109,G127,G145,G163) -> 41236140
E38: BAEEV3 | F38: =G38/$G$48 -> 0.09447619 | G38: =SUM(G56,G74,G92,G110,G128,G146,G164) -> 41236140
E39: BAMMA7 | F39: =G39/$G$48 -> 0.10628571 | G39: =SUM(G57,G75,G93,G111,G129,G147,G165) -> 46390658
E40: BASPC10 | F40: =G40/$G$48 -> 0.047619048 | G40: =SUM(G58,G76,G94,G112,G130,G148,G166) -> 20784345
E41: BASAC | F41: =G41/$G$48 -> 0.023619048 | G41: =SUM(G59,G77,G95,G113,G131,G149,G167) -> 10309035
E42: BICAR | F42: =G42/$G$48 -> 0.10628571 | G42: =SUM(G60,G78,G96,G114,G132,G150,G168) -> 46390658
E43: BIMOC70 | F43: =G43/$G$48 -> 0.070857143 | G43: =SUM(G61,G79,G97,G115,G133,G151,G169) -> 30927105
E44: BITER10 | F44: =G44/$G$48 -> 0.012190476 | G44: =SUM(G62,G80,G98,G116,G134,G152,G170) -> 5320792.3
E45: DIM15 | F45: =G45/$G$48 -> 0.0045714286 | G45: =SUM(G63,G81,G99,G117,G135,G153,G171) -> 1995297.1
...

Sheet OFICIO
B2: SUBUNIDAD EJECUTORA | C2: RUBRO | D2: VALOR POR HOMBRE | E2: VALOR POR MUJER | F2: DIFERENCIA
B3: ='CANTIDADES ADJUDICACIÓN'!K3 -> BAABS3 | C3: ='CANTIDADES ADJUDICACIÓN'!B2 -> A-02-02-01-002-007 ARTÍCULOS TEXTILES (EXCEPTO PRENDAS DE VESTIR)
C4: ='CANTIDADES ADJUDICACIÓN'!B21 -> A-02-02-01-002-008 DOTACIÓN (PRENDAS DE VESTIR Y CALZADO)
C5: ='CANTIDADES ADJUDICACIÓN'!B33 -> A-02-02-01-003-002 PASTA O PULPA, PAPEL Y PRODUCTOS DE PAPEL; IMPRESOS Y ARTÍCULOS SIMILARES
C6: ='CANTIDADES ADJUDICACIÓN'!B43 -> A-02-02-01-003-005 OTROS PRODUCTOS QUÍMICOS; FIBRAS ARTIFICIALES (O FIBRAS INDUSTRIALES HECHAS POR EL HOMBRE)
C7: ='CANTIDADES ADJUDICACIÓN'!B57 -> A-02-02-01-003-006 PRODUCTOS DE CAUCHO Y PLÁSTICO
C8: ='CANTIDADES ADJUDICACIÓN'!B67 -> A-02-02-01-003-008 OTROS BIENES TRANSPORTABLES N.C.P.
C9: ='CANTIDADES ADJUDICACIÓN'!B78 -> A-02-02-01-004-002 PRODUCTOS METÁLICOS ELABORADOS (EXCEPTO MAQUINARIA Y EQUIPO)
B10: ='CANTIDADES ADJUDICACIÓN'!L3 -> BAACA10 | C10: A-02-02-01-002-007 ARTÍCULOS TEXTILES (EXCEPTO PRENDAS DE VESTIR)
C11: A-02-02-01-002-008 DOTACIÓN (PRENDAS DE VESTIR Y CALZADO)
C12: A-02-02-01-003-002 PASTA O PULPA, PAPEL Y PRODUCTOS DE PAPEL; IMPRESOS Y ARTÍCULOS SIMILARES
C13: A-02-02-01-003-005 OTROS PRODUCTOS QUÍMICOS; FIBRAS ARTIFICIALES (O FIBRAS INDUSTRIALES HECHAS POR EL HOMBRE)
C14: A-02-02-01-003-006 PRODUCTOS DE CAUCHO Y PLÁSTICO
C15: A-02-02-01-003-008 OTROS BIENES TRANSPORTABLES N.C.P.
C16: A-02-02-01-004-002 PRODUCTOS METÁLICOS ELABORADOS (EXCEPTO MAQUINARIA Y EQUIPO)
B17: ='CANTIDADES ADJUDICACIÓN'!M3 -> BAACA2 | C17: A-02-02-01-002-007 ARTÍCULOS TEXTILES (EXCEPTO PRENDAS DE VESTIR)
C18: A-02-02-01-002-008 DOTACIÓN (PRENDAS DE VESTIR Y CALZADO)
C19: A-02-02-01-003-002 PASTA O PULPA, PAPEL Y PRODUCTOS DE PAPEL; IMPRESOS Y ARTÍCULOS SIMILARES
C20: A-02-02-01-003-005 OTROS PRODUCTOS QUÍMICOS; FIBRAS ARTIFICIALES (O FIBRAS INDUSTRIALES HECHAS POR EL HOMBRE)
C21: A-02-02-01-003-006 PRODUCTOS DE CAUCHO Y PLÁSTICO
C22: A-02-02-01-003-008 OTROS BIENES TRANSPORTABLES N.C.P.
C23: A-02-02-01-004-002 PRODUCTOS METÁLICOS ELABORADOS (EXCEPTO MAQUINARIA Y EQUIPO)
B24: ='CANTIDADES ADJUDICACIÓN'!N3 -> BAADA1 | C24: A-02-02-01-002-007 ARTÍCULOS TEXTILES (EXCEPTO PRENDAS DE VESTIR)
C25: A-02-02-01-002-008 DOTACIÓN (PRENDAS DE VESTIR Y CALZADO)
C26: A-02-02-01-003-002 PASTA O PULPA, PAPEL Y PRODUCTOS DE PAPEL; IMPRESOS Y ARTÍCULOS SIMILARES
C27: A-02-02-01-003-005 OTROS PRODUCTOS QUÍMICOS; FIBRAS ARTIFICIALES (O FIBRAS INDUSTRIALES HECHAS POR EL HOMBRE)
C28: A-02-02-01-003-006 PRODUCTOS DE CAUCHO Y PLÁSTICO
C29: A-02-02-01-003-008 OTROS BIENES TRANSPORTABLES N.C.P.
C30: A-02-02-01-004-002 PRODUCTOS METÁLICOS ELABORADOS (EXCEPTO MAQUINARIA Y EQUIPO)
B31: ='CANTIDADES ADJUDICACIÓN'!O3 -> BAEEV2 | C31: A-02-02-01-002-007 ARTÍCULOS TEXTILES (EXCEPTO PRENDAS DE VESTIR)
C32: A-02-02-01-002-008 DOTACIÓN (PRENDAS DE VESTIR Y CALZADO)
C33: A-02-02-01-003-002 PASTA O PULPA, PAPEL Y PRODUCTOS DE PAPEL; IMPRESOS Y ARTÍCULOS SIMILARES
C34: A-02-02-01-003-005 OTROS PRODUCTOS QUÍMICOS; FIBRAS ARTIFICIALES (O FIBRAS INDUSTRIALES HECHAS POR EL HOMBRE)
C35: A-02-02-01-003-006 PRODUCTOS DE CAUCHO Y PLÁSTICO
C36: A-02-02-01-003-008 OTROS BIENES TRANSPORTABLES N.C.P.
C37: A-02-02-01-004-002 PRODUCTOS METÁLICOS ELABORADOS (EXCEPTO MAQUINARIA Y EQUIPO)
B38: ='CANTIDADES ADJUDICACIÓN'!P3 -> BAEEV3 | C38: A-02-02-01-002-007 ARTÍCULOS TEXTILES (EXCEPTO PRENDAS DE VESTIR)
C39: A-02-02-01-002-008 DOTACIÓN (PRENDAS DE VESTIR Y CALZADO)
C40: A-02-02-01-003-002 PASTA O PULPA, PAPEL Y PRODUCTOS DE PAPEL; IMPRESOS Y ARTÍCULOS SIMILARES
C41: A-02-02-01-003-005 OTROS PRODUCTOS QUÍMICOS; FIBRAS ARTIFICIALES (O FIBRAS INDUSTRIALES HECHAS POR EL HOMBRE)
...

Sheet DÉFICIT POR CONTINGENTE
B2: UNIDAD | C2: 2° Contingente | D2: 3° Contingente | E2: 4° Contingente | F2: TOTAL | H2: UNIDAD | I2: KIT FEMENINO | J2: KIT MASCULINO | K2: TOTAL
B3: BAABS3 | C3: 31 | D3: 20 | E3: 18 | F3: =SUM(C3:E3) -> 69 | H3: BAABS3 | I3: 0 | J3: 69 | K3: =SUM(I3+J3) -> 69
B4: BAACA10 | C4: 93 | D4: 62 | E4: 62 | F4: =SUM(C4:E4) -> 217 | H4: BAACA10 | I4: 0 | J4: 217 | K4: =SUM(I4+J4) -> 217
B5: BAACA2 | C5: 93 | D5: 62 | E5: 124 | F5: =SUM(C5:E5) -> 279 | H5: BAACA2 | I5: 0 | J5: 279 | K5: =SUM(I5+J5) -> 279
B6: BAADA1 | C6: 93 | D6: 62 | E6: 62 | F6: =SUM(C6:E6) -> 217 | H6: BAADA1 | I6: 0 | J6: 217 | K6: =SUM(I6+J6) -> 217
B7: BAEEV2 | C7: 62 | D7: 62 | E7: 124 | F7: =SUM(C7:E7) -> 248 | H7: BAEEV2 | I7: 0 | J7: 248 | K7: =SUM(I7+J7) -> 248
B8: BAEEV3 | C8: 93 | D8: 93 | E8: 62 | F8: =SUM(C8:E8) -> 248 | H8: BAEEV3 | I8: 0 | J8: 248 | K8: =SUM(I8+J8) -> 248
B9: BAMMA7 | C9: 93 | D9: 124 | E9: 62 | F9: =SUM(C9:E9) -> 279 | H9: BAMMA7 | I9: 0 | J9: 279 | K9: =SUM(I9+J9) -> 279
B10: BASPC10 | C10: 0 | D10: 62 | E10: 63 | F10: =SUM(C10:E10) -> 125 | H10: BASPC10 | I10: 62 | J10: 63 | K10: =SUM(I10+J10) -> 125
B11: BASAC | C11: 0 | D11: 62 | E11: 0 | F11: =SUM(C11:E11) -> 62 | H11: BASAC | I11: 0 | J11: 62 | K11: =SUM(I11+J11) -> 62
B12: BICAR | C12: 93 | D12: 93 | E12: 93 | F12: =SUM(C12:E12) -> 279 | H12: BICAR | I12: 0 | J12: 279 | K12: =SUM(I12+J12) -> 279
B13: BIMOC70 | C13: 62 | D13: 62 | E13: 62 | F13: =SUM(C13:E13) -> 186 | H13: BIMOC70 | I13: 0 | J13: 186 | K13: =SUM(I13+J13) -> 186
B14: BITER10 | C14: 0 | D14: 16 | E14: 16 | F14: =SUM(C14:E14) -> 32 | H14: BITER10 | I14: 0 | J14: 32 | K14: =SUM(I14+J14) -> 32
... B17: GMRON | C17: 62 | D17: 62 | E17: 62 | F17: =SUM(C17:E17) -> 186 | H17: GMRON | I17: 0 | J17: 186 | K17: =SUM(I17+J17) -> 186
B18: TOTAL | C18: =SUM(C3:C17) -> 841 | D18: =SUM(D3:D17) -> 908 | E18: =SUM(E3:E17) -> 876 | F18: =SUM(C18:E18) -> 2625 | H18: TOTAL | I18: =SUM(I3:I17) -> 62 | J18: =SUM(J3:J17) -> 2563 | K18: =SUM(I18+J18) -> 2625

Sheet MÍNIMAS (2)
B2: A-02-02-01-002-007 ARTÍCULOS TEXTILES (EXCEPTO PRENDAS DE VESTIR)
B3: ='PLAN DE NECESIDADES'!B4 -> ÍTEM | C3: ='PLAN DE NECESIDADES'!C4 -> CÓDIGO DANE | D3: ='PLAN DE NECESIDADES'!D4 -> DESCRIPCIÓN DEL BIEN Y/O SERVICIO | E3: ='PLAN DE NECESIDADES'!E4 -> UNIDAD MEDIDA | F3: ='PLAN DE NECESIDADES'!F4 -> EXISTENCIAS (STOCK - INVENTARIOS) | G3: ='PLAN DE NECESIDADES'!H4 -> UNSPSC (CCE) | H3: ='PLAN DE NECESIDADES'!I4 -> CÓDIGO MATERIAL SAP | I3: ='PLAN DE NECESIDADES'!J4 -> CÓDIGO OTAN - NOC | J3: CANTIDAD POR ELEMENTO | K3: =AD3 -> BAABS3 | L3: =AQ3 -> BAACA10 | M3: =BD3 -> BAACA2 | N3: =BQ3 -> BAADA1 | O3: =CD3 -> BAEEV2 | P3: =CQ3 -> BAEEV3 | Q3: =DD3 -> BAMMA7 | R3: =DQ3 -> BASPC10 | S3: =ED3 -> BASAC | T3: =EQ3 -> BICAR | U3: =FD3 -> BIMOC70 | V3: =FQ3 -> BITER10 | W3: =GD3 -> DIM15 | X3: =GQ3 -> GMMAT | Y3: =HD3 -> GMRON | Z3: NECESIDAD TOTAL | AA3: MÍNIMAS | AB3: LIMITACIONES | AC3: PRECIO DE REFERENCIA | AD3: =PRESUPUESTO!E33 -> BAABS3 | AQ3: BAACA10 | BD3: BAACA2 | BQ3: BAADA1 | CD3: BAEEV2 | CQ3: BAEEV3 | DD3: BAMMA7 | DQ3: BASPC10 | ED3: BASAC | EQ3: BICAR | FD3: BIMOC70 | FQ3: BITER10 | GD3: DIM15 | GQ3: GMMAT | HD3: GMRON
AD4: NT | AE4: M | AF4: L | AG4: VT | AH4: CANTIDADES ADJUDICADAS | AI4: SEGUNDO CONTINGENTE | AJ4: DÉFICIT | AK4: TERCER CONTINGENTE | AL4: DÉFICIT | AM4: CUARTO CONTINGENTE | AN4: DÉFICIT | AO4: TOTAL | AQ4: NT | AR4: M | AS4: L | AT4: VT | AU4: CANTIDADES ADJUDICADAS | AV4: SEGUNDO CONTINGENTE | AW4: DÉFICIT | AX4: TERCER CONTINGENTE | AY4: DÉFICIT | AZ4: CUARTO CONTINGENTE | BA4: DÉFICIT | BB4: TOTAL | BD4: NT | BE4: M | BF4: L | BG4: VT | BH4: CANTIDADES ADJUDICADAS | BI4: SEGUNDO CONTINGENTE | BJ4: DÉFICIT | BK4: TERCER CONTINGENTE | BL4: DÉFICIT | BM4: CUARTO CONTINGENTE | BN4: DÉFICIT | BO4: TOTAL | BQ4: NT | BR4: M | BS4: L | BT4: VT | BU4: CANTIDADES ADJUDICADAS | BV4: SEGUNDO CONTINGENTE | BW4: DÉFICIT | BX4: TERCER CONTINGENTE | BY4: DÉFICIT | BZ4: CUARTO CONTINGENTE | CA4: DÉFICIT | CB4: TOTAL | CD4: NT | CE4: M | CF4: L | CG4: VT | CH4: CANTIDADES ADJUDICADAS | CI4: SEGUNDO CONTINGENTE | CJ4: DÉFICIT | CK4: TERCER CONTINGENTE | CL4: DÉFICIT | CM4: CUARTO CONTINGENTE | CN4: DÉFICIT | CO4: TOTAL | CQ4: NT | CR4: M | CS4: L | CT4: VT | CU4: CANTIDADES ADJUDICADAS | CV4: SEGUNDO CONTINGENTE | CW4: DÉFICIT | CX4: TERCER CONTINGENTE | CY4: DÉFICIT | CZ4: CUARTO CONTINGENTE | DA4: DÉFICIT | DB4: TOTAL | DD4: NT | DE4: M | DF4: L | DG4: VT | DH4: CANTIDADES ADJUDICADAS | DI4: SEGUNDO CONTINGENTE | DJ4: DÉFICIT | DK4: TERCER CONTINGENTE | DL4: DÉFICIT | DM4: CUARTO CONTINGENTE | DN4: DÉFICIT | DO4: TOTAL | DQ4: NT | DR4: M | DS4: L | DT4: VT | DU4: CANTIDADES ADJUDICADAS | DV4: SEGUNDO CONTINGENTE | DW4: DÉFICIT | DX4: TERCER CONTINGENTE | DY4: DÉFICIT | DZ4: CUARTO CONTINGENTE | EA4: DÉFICIT | EB4: TOTAL | ED4: NT | EE4: M | EF4: L | EG4: VT | EH4: CANTIDADES ADJUDICADAS | EI4: SEGUNDO CONTINGENTE | EJ4: DÉFICIT | EK4: TERCER CONTINGENTE | EL4: DÉFICIT | EM4: CUARTO CONTINGENTE | EN4: DÉFICIT | EO4: TOTAL | EQ4: NT | ER4: M | ES4: L | ET4: VT | EU4: CANTIDADES ADJUDICADAS | EV4: SEGUNDO CONTINGENTE | EW4: DÉFICIT | EX4: TERCER CONTINGENTE | EY4: DÉFICIT | EZ4: CUARTO CONTINGENTE | FA4: DÉFICIT | FB4: TOTAL | FD4: NT | FE4: M | FF4: L | FG4: VT | FH4: CANTIDADES ADJUDICADAS | FI4: SEGUNDO CONTINGENTE | FJ4: DÉFICIT | FK4: TERCER CONTINGENTE | FL4: DÉFICIT | FM4: CUARTO CONTINGENTE | FN4: DÉFICIT | FO4: TOTAL | FQ4: NT | FR4: M | FS4: L | FT4: VT | FU4: CANTIDADES ADJUDICADAS | FV4: SEGUNDO CONTINGENTE | FW4: DÉFICIT | FX4: TERCER CONTINGENTE | FY4: DÉFICIT | FZ4: CUARTO CONTINGENTE | GA4: DÉFICIT | GB4: TOTAL | GD4: NT | GE4: M | GF4: L | GG4: VT | GH4: CANTIDADES ADJUDICADAS | GI4: SEGUNDO CONTINGENTE | GJ4: DÉFICIT | GK4: TERCER CONTINGENTE | GL4: DÉFICIT | GM4: CUARTO CONTINGENTE | GN4: DÉFICIT | GO4: TOTAL | GQ4: NT | GR4: M | GS4: L | GT4: VT | GU4: CANTIDADES ADJUDICADAS | GV4: SEGUNDO CONTINGENTE | GW4: DÉFICIT | GX4: TERCER CONTINGENTE | GY4: DÉFICIT | GZ4: CUARTO CONTINGENTE | HA4: DÉFICIT | HB4: TOTAL | HD4: NT | HE4: M | HF4: L | HG4: VT | HH4: CANTIDADES ADJUDICADAS | HI4: SEGUNDO CONTINGENTE | HJ4: DÉFICIT | HK4: TERCER CONTINGENTE | HL4: DÉFICIT | HM4: CUARTO CONTINGENTE | HN4: DÉFICIT | HO4: TOTAL
B5: ='PLAN DE NECESIDADES'!B5 -> 1 | C5: ='PLAN DE NECESIDADES'!C5 -> 2791301 | D5: ='PLAN DE NECESIDADES'!D5 -> PARCHE DE IDENTIFICACIÓN PERSONAL: ESPECIFICACIONES TÉCNICAS DE ACUERDO NORMA TÉCNICA KIT DE DOTACIÓN NO. NTMD-0356 - A2 | E5: ='PLAN DE NECESIDADES'!E5 -> UNIDAD | F5: ='PLAN DE NECESIDADES'!F5 -> 0 | G5: ='PLAN DE NECESIDADES'!H5 -> 11161701 | H5: ='PLAN DE NECESIDADES'!I5 -> 1047066 | I5: ='PLAN DE NECESIDADES'!J5 -> SIN CREAR | J5: 4 | K5: 69 | L5: 217 | M5: 279 | N5: 217 | O5: 248 | P5: 248 | Q5: 279 | R5: 125 | S5: 62 | T5: 279 | U5: 186 | V5: 32 | W5: 12 | X5: 186 | Y5: 186 | Z5: =SUM(AD5,AQ5,BD5,BQ5,CD5,CQ5,DD5,DQ5,ED5,EQ5,FD5,FQ5,GD5,GQ5,HD5) -> 10624 | AA5: =SUM(AE5,AR5,BE5,BR5,CE5,CR5,DE5,DR5,EE5,ER5,FE5,FR5,GE5,GR5,HE5) -> 5080 | AB5: =SUM(AF5,AS5,BF5,BS5,CF5,CS5,DF5,DS5,EF5,ES5,FF5,FS5,GF5,GS5,HF5) -> 5544 | AC5: 3100 | AD5: =K5*J5 -> 276 | AE5: =J5*34 -> 136 | AF5: =AD5-AE5 -> 140 | AG5: =AC5*AE5 -> 421600 | AH5: =AE5/J5 -> 34 | AI5: 31 | AK5: 20 | AL5: 17 | AM5: 18 | AN5: 18 | AO5: =AL5+AN5 -> 35 | AP5: =AH5+AJ5+AL5+AN5 -> 69 | AQ5: =L5*J5 -> 868 | AR5: =J5*105 -> 420 | AS5: =AQ5-AR5 -> 448 | AT5: =AC5*AR5 -> 1302000 | AU5: =AR5/J5 -> 105 | AV5: 93 | AX5: 62 | AY5: 50 | AZ5: 62 | BA5: 62 | BB5: =AW5+AY5+BA5 -> 112 | BC5: =AU5+AW5+AY5+BA5 -> 217 | BD5: =M5*J5 -> 1116 | BE5: =J5*135 -> 540 | BF5: =BD5-BE5 -> 576 | BG5: =AC5*BE5 -> 1674000 | BH5: =BE5/J5 -> 135 | BI5: 93 | BK5: 62 | BL5: 20 | BM5: 124 | BN5: 124 | BO5: =BJ5+BL5+BN5 -> 144 | BP5: =BH5+BJ5+BL5+BN5 -> 279 | BQ5: =N5*J5 -> 868 | BR5: =J5*105 -> 420 | BS5: =BQ5-BR5 -> 448 | BT5: =AC5*BR5 -> 1302000 | BU5: =BR5/J5 -> 105 | BV5: 93 | BX5: 62 | BY5: 50 | BZ5: 62 | CA5: 62 | CB5: =BW5+BY5+CA5 -> 112 | CC5: =BU5+BW5+BY5+CA5 -> 217 | CD5: =M5*J5 -> 1116 | CE5: =J5*120 -> 480 | CF5: =CD5-CE5 -> 636 | CG5: =CE5*AC5 -> 1488000 | CH5: =CE5/J5 -> 120 | CI5: 62 | CK5: 62 | CL5: 4 | CM5: 124 | CN5: 124 | CO5: =CJ5+CL5+CN5 -> 128 | CP5: =CH5+CJ5+CL5+CN5 -> 248 | CQ5: =P5*J5 -> 992 | CR5: =J5*120 -> 480 | CS5: =CQ5-CR5 -> 512 | CT5: =AC5*CR5 -> 1488000 | CU5: =CR5/J5 -> 120 | CV5: 93 | CX5: 93 | CY5: 66 | CZ5: 62 | DA5: 62 | DB5: =CW5+CY5+DA5 -> 128 | DC5: =CU5+CW5+CY5+DA5 -> 248 | DD5: =Q5*J5 -> 1116 | DE5: =J5*135 -> 540 | DF5: =DD5-DE5 -> 576 | DG5: =DE5*AC5 -> 1674000 | DH5: =DE5/J5 -> 135 | DI5: 93 | DK5: 124 | DL5: 82 | DM5: 62 | DN5: 62 | DO5: =DJ5+DL5+DN5 -> 144 | DP5: =DH5+DJ5+DL5+DN5 -> 279 | DQ5: =R5*J5 -> 500 | DR5: =J5*59 -> 236 | DS5: =DQ5-DR5 -> 264 | DT5: =DR5*AC5 -> 731600 | DU5: =DR5/J5 -> 59 | DV5: 0 | DX5: 62 | DY5: 3 | DZ5: 63 | EA5: 63 | EB5: =DW5+DY5+EA5 -> 66 | EC5: =DU5+DW5+DY5+EA5 -> 125 | ED5: =S5*J5 -> 248 | EE5: =J5*30 -> 120 | EF5: =ED5-EE5 -> 128 | EG5: =EE5*AC5 -> 372000 | EH5: =EE5/J5 -> 30 | EI5: 0 | EK5: 62 | EL5: =EK5-EH5 -> 32 | EM5: 0 | EO5: =EJ5+EL5+EN5 -> 32 | EP5: =EH5+EJ5+EL5+EN5 -> 62 | EQ5: =T5*J5 -> 1116 | ER5: =J5*135 -> 540 | ES5: =EQ5-ER5 -> 576 | ET5: =ER5*AC5 -> 1674000 | EU5: =ER5/J5 -> 135 | EV5: 93 | EX5: 93 | EY5: 51 | EZ5: 93 | FA5: 93 | FB5: =EW5+EY5+FA5 -> 144 | FC5: =EU5+EW5+EY5+FA5 -> 279 | FD5: =U5*J5 -> 744 | FE5: =J5*90 -> 360 | FF5: =FD5-FE5 -> 384 | FG5: =FE5*AC5 -> 1116000 | FH5: =FE5/J5 -> 90 | FI5: 62 | FK5: 62 | FL5: 34 | FM5: 62 | FN5: 62 | FO5: =FJ5+FL5+FN5 -> 96 | FP5: =FH5+FJ5+FL5+FN5 -> 186 | FQ5: =V5*J5 -> 128 | FR5: =J5*16 -> 64 | FS5: =FQ5-FR5 -> 64 | FT5: =FR5*AC5 -> 198400 | FU5: =FR5/J5 -> 16 | FV5: 0 | FX5: 16 | FY5: 0 | FZ5: 16 | GA5: 16 | GB5: =FW5+FY5+GA5 -> 16 | GC5: =FU5+FW5+FY5+GA5 -> 32 | GD5: =W5*J5 -> 48 | GE5: =J5*6 -> 24 | GF5: =GD5-GE5 -> 24 | GG5: =GE5*AC5 -> 74400 | GH5: =GE5/J5 -> 6 | GI5: 4 | GK5: 4 | GL5: 2 | GM5: 4 | GN5: 4 | GO5: =GJ5+GL5+GN5 -> 6 | GP5: =GH5+GJ5+GL5+GN5 -> 12 | GQ5: =X5*J5 -> 744 | GR5: =J5*90 -> 360 | GS5: =GQ5-GR5 -> 384 | GT5: =GR5*AC5 -> 1116000 | GU5: =GR5/J5 -> 90 | GV5: 62 | GX5: 62 | GY5: 34 | GZ5: 62 | HA5: 62 | HB5: =GW5+GY5+HA5 -> 96 | HC5: =GU5+GW5+GY5+HA5 -> 186 | HD5: =Y5*J5 -> 744 | HE5: =J5*90 -> 360 | HF5: =HD5-HE5 -> 384 | HG5: =HE5*AC5 -> 1116000 | HH5: =HE5/J5 -> 90 | HI5: 62 | HK5: 62 | HL5: 34 | HM5: 62 | HN5: 62 | HO5: =HJ5+HL5+HN5 -> 96 | HP5: =HH5+HJ5+HL5+HN5 -> 186
B6: ='PLAN DE NECESIDADES'!B6 -> 2 | C6: ='PLAN DE NECESIDADES'!C6 -> 2791301 | D6: ='PLAN DE NECESIDADES'!D6 -> PARCHE DE EJÉRCITO: ESPECIFICACIONES TÉCNICAS DE ACUERDO A LA NORMA TÉCNICA KIT DE DOTACIÓN. NO. NTMD-0356 - A2. | E6: ='PLAN DE NECESIDADES'!E6 -> UNIDAD | F6: ='PLAN DE NECESIDADES'!F6 -> 0 | G6: ='PLAN DE NECESIDADES'!H6 -> 11161701 | H6: ='PLAN DE NECESIDADES'!I6 -> 1898472 | I6: ='PLAN DE NECESIDADES'!J6 -> SIN CREAR | J6: 2 | K6: 69 | L6: 217 | M6: 279 | N6: 217 | O6: 248 | P6: 248 | Q6: 279 | R6: 125 | S6: 62 | T6: 279 | U6: 186 | V6: 32 | W6: 12 | X6: 186 | Y6: 186 | Z6: =SUM(AD6,AQ6,BD6,BQ6,CD6,CQ6,DD6,DQ6,ED6,EQ6,FD6,FQ6,GD6,GQ6,HD6) -> 5312 | AA6: =SUM(AE6,AR6,BE6,BR6,CE6,CR6,DE6,DR6,EE6,ER6,FE6,FR6,GE6,GR6,HE6) -> 2538 | AB6: =SUM(AF6,AS6,BF6,BS6,CF6,CS6,DF6,DS6,EF6,ES6,FF6,FS6,GF6,GS6,HF6) -> 2774 | AC6: 3900 | AD6: =K6*J6 -> 138 | AE6: =J6*34 -> 68 | AF6: =AD6-AE6 -> 70 | AG6: =AC6*AE6 -> 265200 | AH6: =AE6/J6 -> 34 | AI6: 31 | AK6: 20 | AL6: 17 | AM6: 18 | AN6: 18 | AO6: =AL6+AN6 -> 35 | AP6: =AH6+AJ6+AL6+AN6 -> 69 | AQ6: =L6*J6 -> 434 | AR6: =J6*105 -> 210 | AS6: =AQ6-AR6 -> 224 | AT6: =AC6*AR6 -> 819000 | AU6: =AR6/J6 -> 105 | AV6: 93 | AX6: 62 | AY6: 50 | AZ6: 62 | BA6: 62 | BB6: =AW6+AY6+BA6 -> 112 | BC6: =AU6+AW6+AY6+BA6 -> 217 | BD6: =M6*J6 -> 558 | BE6: =J6*135 -> 270 | BF6: =BD6-BE6 -> 288 | BG6: =AC6*BE6 -> 1053000 | BH6: =BE6/J6 -> 135 | BI6: 93 | BK6: 62 | BL6: 20 | BM6: 124 | BN6: 124 | BO6: =BJ6+BL6+BN6 -> 144 | BP6: =BH6+BJ6+BL6+BN6 -> 279 | BQ6: =N6*J6 -> 434 | BR6: =J6*105 -> 210 | BS6: =BQ6-BR6 -> 224 | BT6: =AC6*BR6 -> 819000 | BU6: =BR6/J6 -> 105 | BV6: 93 | BX6: 62 | BY6: 50 | BZ6: 62 | CA6: 62 | CB6: =BW6+BY6+CA6 -> 112 | CC6: =BU6+BW6+BY6+CA6 -> 217 | CD6: =M6*J6 -> 558 | CE6: =J6*120 -> 240 | CF6: =CD6-CE6 -> 318 | CG6: =CE6*AC6 -> 936000 | CH6: =CE6/J6 -> 120 | CI6: 62 | CK6: 62 | CL6: 4 | CM6: 124 | CN6: 124 | CO6: =CJ6+CL6+CN6 -> 128 | CP6: =CH6+CJ6+CL6+CN6 -> 248 | CQ6: =P6*J6 -> 496 | CR6: =J6*120 -> 240 | CS6: =CQ6-CR6 -> 256 | CT6: =AC6*CR6 -> 936000 | CU6: =CR6/J6 -> 120 | CV6: 93 | CX6: 93 | CY6: 66 | CZ6: 62 | DA6: 62 | DB6: =CW6+CY6+DA6 -> 128 | DC6: =CU6+CW6+CY6+DA6 -> 248 | DD6: =Q6*J6 -> 558 | DE6: =J6*135 -> 270 | DF6: =DD6-DE6 -> 288 | DG6: =DE6*AC6 -> 1053000 | DH6: =DE6/J6 -> 135 | DI6: 93 | DK6: 124 | DL6: 82 | DM6: 62 | DN6: 62 | DO6: =DJ6+DL6+DN6 -> 144 | DP6: =DH6+DJ6+DL6+DN6 -> 279 | DQ6: =R6*J6 -> 250 | DR6: =J6*58 -> 116 | DS6: =DQ6-DR6 -> 134 | DT6: =DR6*AC6 -> 452400 | DU6: =DR6/J6 -> 58 | DV6: 0 | DX6: 62 | DY6: 4 | DZ6: 63 | EA6: 63 | EB6: =DW6+DY6+EA6 -> 67 | EC6: =DU6+DW6+DY6+EA6 -> 125 | ED6: =S6*J6 -> 124 | EE6: =J6*30 -> 60 | EF6: =ED6-EE6 -> 64 | EG6: =EE6*AC6 -> 234000 | EH6: =EE6/J6 -> 30 | EI6: 0 | EK6: 62 | EL6: =EK6-EH6 -> 32 | EM6: 0 | EO6: =EJ6+EL6+EN6 -> 32 | EP6: =EH6+EJ6+EL6+EN6 -> 62 | EQ6: =T6*J6 -> 558 | ER6: =J6*135 -> 270 | ES6: =EQ6-ER6 -> 288 | ET6: =ER6*AC6 -> 1053000 | EU6: =ER6/J6 -> 135 | EV6: 93 | EX6: 93 | EY6: 51 | EZ6: 93 | FA6: 93 | FB6: =EW6+EY6+FA6 -> 144 | FC6: =EU6+EW6+EY6+FA6 -> 279 | FD6: =U6*J6 -> 372 | FE6: =J6*90 -> 180 | FF6: =FD6-FE6 -> 192 | FG6: =FE6*AC6 -> 702000 | FH6: =FE6/J6 -> 90 | FI6: 62 | FK6: 62 | FL6: 34 | FM6: 62 | FN6: 62 | FO6: =FJ6+FL6+FN6 -> 96 | FP6: =FH6+FJ6+FL6+FN6 -> 186 | FQ6: =V6*J6 -> 64 | FR6: =J6*16 -> 32 | FS6: =FQ6-FR6 -> 32 | FT6: =FR6*AC6 -> 124800 | FU6: =FR6/J6 -> 16 | FV6: 0 | FX6: 16 | FY6: 0 | FZ6: 16 | GA6: 16 | GB6: =FW6+FY6+GA6 -> 16 | GC6: =FU6+FW6+FY6+GA6 -> 32 | GD6: =W6*J6 -> 24 | GE6: =J6*6 -> 12 | GF6: =GD6-GE6 -> 12 | GG6: =GE6*AC6 -> 46800 | GH6: =GE6/J6 -> 6 | GI6: 4 | GK6: 4 | GL6: 2 | GM6: 4 | GN6: 4 | GO6: =GJ6+GL6+GN6 -> 6 | GP6: =GH6+GJ6+GL6+GN6 -> 12 | GQ6: =X6*J6 -> 372 | GR6: =J6*90 -> 180 | GS6: =GQ6-GR6 -> 192 | GT6: =GR6*AC6 -> 702000 | GU6: =GR6/J6 -> 90 | GV6: 62 | GX6: 62 | GY6: 34 | GZ6: 62 | HA6: 62 | HB6: =GW6+GY6+HA6 -> 96 | HC6: =GU6+GW6+GY6+HA6 -> 186 | HD6: =Y6*J6 -> 372 | HE6: =J6*90 -> 180 | HF6: =HD6-HE6 -> 192 | HG6: =HE6*AC6 -> 702000 | HH6: =HE6/J6 -> 90 | HI6: 62 | HK6: 62 | HL6: 34 | HM6: 62 | HN6: 62 | HO6: =HJ6+HL6+HN6 -> 96 | HP6: =HH6+HJ6+HL6+HN6 -> 186
B7: ='PLAN DE NECESIDADES'!B7 -> 3 | C7: ='PLAN DE NECESIDADES'!C7 -> 2791301 | D7: ='PLAN DE NECESIDADES'!D7 -> PARCHES DE LA UNIDAD SUPERIOR Y SUBALTERNA: ESPECIFICACIONES TÉCNICAS DE ACUERDO A LA NORMA TÉCNICA KIT DE DOTACIÓN N°. NTMD-0356 - A2. | E7: ='PLAN DE NECESIDADES'!E7 -> UNIDAD | F7: ='PLAN DE NECESIDADES'!F7 -> 0 | G7: ='PLAN DE NECESIDADES'!H7 -> 11161701 | H7: ='PLAN DE NECESIDADES'!I7 -> 1343999 | I7: ='PLAN DE NECESIDADES'!J7 -> SIN CREAR | J7: 4 | K7: 69 | L7: 217 | M7: 279 | N7: 217 | O7: 248 | P7: 248 | Q7: 279 | R7: 125 | S7: 62 | T7: 279 | U7: 186 | V7: 32 | W7: 12 | X7: 186 | Y7: 186 | Z7: =SUM(AD7,AQ7,BD7,BQ7,CD7,CQ7,DD7,DQ7,ED7,EQ7,FD7,FQ7,GD7,GQ7,HD7) -> 10624 | AA7: =SUM(AE7,AR7,BE7,BR7,CE7,CR7,DE7,DR7,EE7,ER7,FE7,FR7,GE7,GR7,HE7) -> 5076 | AB7: =SUM(AF7,AS7,BF7,BS7,CF7,CS7,DF7,DS7,EF7,ES7,FF7,FS7,GF7,GS7,HF7) -> 5548 | AC7: 4100 | AD7: =K7*J7 -> 276 | AE7: =J7*34 -> 136 | AF7: =AD7-AE7 -> 140 | AG7: =AC7*AE7 -> 557600 | AH7: =AE7/J7 -> 34 | AI7: 31 | AK7: 20 | AL7: 17 | AM7: 18 | AN7: 18 | AO7: =AL7+AN7 -> 35 | AP7: =AH7+AJ7+AL7+AN7 -> 69 | AQ7: =L7*J7 -> 868 | AR7: =J7*105 -> 420 | AS7: =AQ7-AR7 -> 448 | AT7: =AC7*AR7 -> 1722000 | AU7: =AR7/J7 -> 105 | AV7: 93 | AX7: 62 | AY7: 50 | AZ7: 62 | BA7: 62 | BB7: =AW7+AY7+BA7 -> 112 | BC7: =AU7+AW7+AY7+BA7 -> 217 | BD7: =M7*J7 -> 1116 | BE7: =J7*135 -> 540 | BF7: =BD7-BE7 -> 576 | BG7: =AC7*BE7 -> 2214000 | BH7: =BE7/J7 -> 135 | BI7: 93 | BK7: 62 | BL7: 20 | BM7: 124 | BN7: 124 | BO7: =BJ7+BL7+BN7 -> 144 | BP7: =BH7+BJ7+BL7+BN7 -> 279 | BQ7: =N7*J7 -> 868 | BR7: =J7*105 -> 420 | BS7: =BQ7-BR7 -> 448 | BT7: =AC7*BR7 -> 1722000 | BU7: =BR7/J7 -> 105 | BV7: 93 | BX7: 62 | BY7: 50 | BZ7: 62 | CA7: 62 | CB7: =BW7+BY7+CA7 -> 112 | CC7: =BU7+BW7+BY7+CA7 -> 217 | CD7: =M7*J7 -> 1116 | CE7: =J7*120 -> 480 | CF7: =CD7-CE7 -> 636 | CG7: =CE7*AC7 -> 1968000 | CH7: =CE7/J7 -> 120 | CI7: 62 | CK7: 62 | CL7: 4 | CM7: 124 | CN7: 124 | CO7: =CJ7+CL7+CN7 -> 128 | CP7: =CH7+CJ7+CL7+CN7 -> 248 | CQ7: =P7*J7 -> 992 | CR7: =J7*120 -> 480 | CS7: =CQ7-CR7 -> 512 | CT7: =AC7*CR7 -> 1968000 | CU7: =CR7/J7 -> 120 | CV7: 93 | CX7: 93 | CY7: 66 | CZ7: 62 | DA7: 62 | DB7: =CW7+CY7+DA7 -> 128 | DC7: =CU7+CW7+CY7+DA7 -> 248 | DD7: =Q7*J7 -> 1116 | DE7: =J7*135 -> 540 | DF7: =DD7-DE7 -> 576 | DG7: =DE7*AC7 -> 2214000 | DH7: =DE7/J7 -> 135 | DI7: 93 | DK7: 124 | DL7: 82 | DM7: 62 | DN7: 62 | DO7: =DJ7+DL7+DN7 -> 144 | DP7: =DH7+DJ7+DL7+DN7 -> 279 | DQ7: =R7*J7 -> 500 | DR7: =J7*58 -> 232 | DS7: =DQ7-DR7 -> 268 | DT7: =DR7*AC7 -> 951200 | DU7: =DR7/J7 -> 58 | DV7: 0 | DX7: 62 | DY7: 4 | DZ7: 63 | EA7: 63 | EB7: =DW7+DY7+EA7 -> 67 | EC7: =DU7+DW7+DY7+EA7 -> 125 | ED7: =S7*J7 -> 248 | EE7: =J7*30 -> 120 | EF7: =ED7-EE7 -> 128 | EG7: =EE7*AC7 -> 492000 | EH7: =EE7/J7 -> 30 | EI7: 0 | EK7: 62 | EL7: =EK7-EH7 -> 32 | EM7: 0 | EO7: =EJ7+EL7+EN7 -> 32 | EP7: =EH7+EJ7+EL7+EN7 -> 62 | EQ7: =T7*J7 -> 1116 | ER7: =J7*135 -> 540 | ES7: =EQ7-ER7 -> 576 | ET7: =ER7*AC7 -> 2214000 | EU7: =ER7/J7 -> 135 | EV7: 93 | EX7: 93 | EY7: 51 | EZ7: 93 | FA7: 93 | FB7: =EW7+EY7+FA7 -> 144 | FC7: =EU7+EW7+EY7+FA7 -> 279 | FD7: =U7*J7 -> 744 | FE7: =J7*90 -> 360 | FF7: =FD7-FE7 -> 384 | FG7: =FE7*AC7 -> 1476000 | FH7: =FE7/J7 -> 90 | FI7: 62 | FK7: 62 | FL7: 34 | FM7: 62 | FN7: 62 | FO7: =FJ7+FL7+FN7 -> 96 | FP7: =FH7+FJ7+FL7+FN7 -> 186 | FQ7: =V7*J7 -> 128 | FR7: =J7*16 -> 64 | FS7: =FQ7-FR7 -> 64 | FT7: =FR7*AC7 -> 262400 | FU7: =FR7/J7 -> 16 | FV7: 0 | FX7: 16 | FY7: 0 | FZ7: 16 | GA7: 16 | GB7: =FW7+FY7+GA7 -> 16 | GC7: =FU7+FW7+FY7+GA7 -> 32 | GD7: =W7*J7 -> 48 | GE7: =J7*6 -> 24 | GF7: =GD7-GE7 -> 24 | GG7: =GE7*AC7 -> 98400 | GH7: =GE7/J7 -> 6 | GI7: 4 | GK7: 4 | GL7: 2 | GM7: 4 | GN7: 4 | GO7: =GJ7+GL7+GN7 -> 6 | GP7: =GH7+GJ7+GL7+GN7 -> 12 | GQ7: =X7*J7 -> 744 | GR7: =J7*90 -> 360 | GS7: =GQ7-GR7 -> 384 | GT7: =GR7*AC7 -> 1476000 | GU7: =GR7/J7 -> 90 | GV7: 62 | GX7: 62 | GY7: 34 | GZ7: 62 | HA7: 62 | HB7: =GW7+GY7+HA7 -> 96 | HC7: =GU7+GW7+GY7+HA7 -> 186 | HD7: =Y7*J7 -> 744 | HE7: =J7*90 -> 360 | HF7: =HD7-HE7 -> 384 | HG7: =HE7*AC7 -> 1476000 | HH7: =HE7/J7 -> 90 | HI7: 62 | HK7: 62 | HL7: 34 | HM7: 62 | HN7: 62 | HO7: =HJ7+HL7+HN7 -> 96 | HP7: =HH7+HJ7+HL7+HN7 -> 186
B8: ='PLAN DE NECESIDADES'!B8 -> 4 | C8: ='PLAN DE NECESIDADES'!C8 -> 2791301 | D8: ='PLAN DE NECESIDADES'!D8 -> BANDERA DE IDENTIFICACIÓN COLOMBIA: PARA UNIFORME DE COMBATE CAMUFLADO TIPO SELVA "CAMALEÓN" ESPECIFICACIONES TÉCNICAS DE ACUERDO AL BOLETÍN N°.001 ESTANDARIZACIÓN DE LA BANDERA DE IDENTIFICACIÓN EMPLEADA EN EL UNIFORME Nº4 Y 4A DEL PATRÓN DE CAMUFLAJE TERRESTRE "CAMALEÓN". | E8: ='PLAN DE NECESIDADES'!E8 -> UNIDAD | F8: ='PLAN DE NECESIDADES'!F8 -> 0 | G8: ='PLAN DE NECESIDADES'!H8 -> 11161701 | H8: ='PLAN DE NECESIDADES'!I8 -> 1347326 | I8: ='PLAN DE NECESIDADES'!J8 -> SIN CREAR | J8: 2 | K8: 69 | L8: 217 | M8: 279 | N8: 217 | O8: 248 | P8: 248 | Q8: 279 | R8: 125 | S8: 62 | T8: 279 | U8: 186 | V8: 32 | W8: 12 | X8: 186 | Y8: 186 | Z8: =SUM(AD8,AQ8,BD8,BQ8,CD8,CQ8,DD8,DQ8,ED8,EQ8,FD8,FQ8,GD8,GQ8,HD8) -> 5312 | AA8: =SUM(AE8,AR8,BE8,BR8,CE8,CR8,DE8,DR8,EE8,ER8,FE8,FR8,GE8,GR8,HE8) -> 2536 | AB8: =SUM(AF8,AS8,BF8,BS8,CF8,CS8,DF8,DS8,EF8,ES8,FF8,FS8,GF8,GS8,HF8) -> 2776 | AC8: 5300 | AD8: =K8*J8 -> 138 | AE8: =J8*33 -> 66 | AF8: =AD8-AE8 -> 72 | AG8: =AC8*AE8 -> 349800 | AH8: =AE8/J8 -> 33 | AI8: 31 | AK8: 20 | AL8: 18 | AM8: 18 | AN8: 18 | AO8: =AL8+AN8 -> 36 | AP8: =AH8+AJ8+AL8+AN8 -> 69 | AQ8: =L8*J8 -> 434 | AR8: =J8*105 -> 210 | AS8: =AQ8-AR8 -> 224 | AT8: =AC8*AR8 -> 1113000 | AU8: =AR8/J8 -> 105 | AV8: 93 | AX8: 62 | AY8: 50 | AZ8: 62 | BA8: 62 | BB8: =AW8+AY8+BA8 -> 112 | BC8: =AU8+AW8+AY8+BA8 -> 217 | BD8: =M8*J8 -> 558 | BE8: =J8*135 -> 270 | BF8: =BD8-BE8 -> 288 | BG8: =AC8*BE8 -> 1431000 | BH8: =BE8/J8 -> 135 | BI8: 93 | BK8: 62 | BL8: 20 | BM8: 124 | BN8: 124 | BO8: =BJ8+BL8+BN8 -> 144 | BP8: =BH8+BJ8+BL8+BN8 -> 279 | BQ8: =N8*J8 -> 434 | BR8: =J8*105 -> 210 | BS8: =BQ8-BR8 -> 224 | BT8: =AC8*BR8 -> 1113000 | BU8: =BR8/J8 -> 105 | BV8: 93 | BX8: 62 | BY8: 50 | BZ8: 62 | CA8: 62 | CB8: =BW8+BY8+CA8 -> 112 | CC8: =BU8+BW8+BY8+CA8 -> 217 | CD8: =M8*J8 -> 558 | CE8: =J8*120 -> 240 | CF8: =CD8-CE8 -> 318 | CG8: =CE8*AC8 -> 1272000 | CH8: =CE8/J8 -> 120 | CI8: 62 | CK8: 62 | CL8: 4 | CM8: 124 | CN8: 124 | CO8: =CJ8+CL8+CN8 -> 128 | CP8: =CH8+CJ8+CL8+CN8 -> 248 | CQ8: =P8*J8 -> 496 | CR8: =J8*120 -> 240 | CS8: =CQ8-CR8 -> 256 | CT8: =AC8*CR8 -> 1272000 | CU8: =CR8/J8 -> 120 | CV8: 93 | CX8: 93 | CY8: 66 | CZ8: 62 | DA8: 62 | DB8: =CW8+CY8+DA8 -> 128 | DC8: =CU8+CW8+CY8+DA8 -> 248 | DD8: =Q8*J8 -> 558 | DE8: =J8*135 -> 270 | DF8: =DD8-DE8 -> 288 | DG8: =DE8*AC8 -> 1431000 | DH8: =DE8/J8 -> 135 | DI8: 93 | DK8: 124 | DL8: 82 | DM8: 62 | DN8: 62 | DO8: =DJ8+DL8+DN8 -> 144 | DP8: =DH8+DJ8+DL8+DN8 -> 279 | DQ8: =R8*J8 -> 250 | DR8: =J8*58 -> 116 | DS8: =DQ8-DR8 -> 134 | DT8: =DR8*AC8 -> 614800 | DU8: =DR8/J8 -> 58 | DV8: 0 | DX8: 62 | DY8: 4 | DZ8: 63 | EA8: 63 | EB8: =DW8+DY8+EA8 -> 67 | EC8: =DU8+DW8+DY8+EA8 -> 125 | ED8: =S8*J8 -> 124 | EE8: =J8*30 -> 60 | EF8: =ED8-EE8 -> 64 | EG8: =EE8*AC8 -> 318000 | EH8: =EE8/J8 -> 30 | EI8: 0 | EK8: 62 | EL8: =EK8-EH8 -> 32 | EM8: 0 | EO8: =EJ8+EL8+EN8 -> 32 | EP8: =EH8+EJ8+EL8+EN8 -> 62 | EQ8: =T8*J8 -> 558 | ER8: =J8*135 -> 270 | ES8: =EQ8-ER8 -> 288 | ET8: =ER8*AC8 -> 1431000 | EU8: =ER8/J8 -> 135 | EV8: 93 | EX8: 93 | EY8: 51 | EZ8: 93 | FA8: 93 | FB8: =EW8+EY8+FA8 -> 144 | FC8: =EU8+EW8+EY8+FA8 -> 279 | FD8: =U8*J8 -> 372 | FE8: =J8*90 -> 180 | FF8: =FD8-FE8 -> 192 | FG8: =FE8*AC8 -> 954000 | FH8: =FE8/J8 -> 90 | FI8: 62 | FK8: 62 | FL8: 34 | FM8: 62 | FN8: 62 | FO8: =FJ8+FL8+FN8 -> 96 | FP8: =FH8+FJ8+FL8+FN8 -> 186 | FQ8: =V8*J8 -> 64 | FR8: =J8*16 -> 32 | FS8: =FQ8-FR8 -> 32 | FT8: =FR8*AC8 -> 169600 | FU8: =FR8/J8 -> 16 | FV8: 0 | FX8: 16 | FY8: 0 | FZ8: 16 | GA8: 16 | GB8: =FW8+FY8+GA8 -> 16 | GC8: =FU8+FW8+FY8+GA8 -> 32 | GD8: =W8*J8 -> 24 | GE8: =J8*6 -> 12 | GF8: =GD8-GE8 -> 12 | GG8: =GE8*AC8 -> 63600 | GH8: =GE8/J8 -> 6 | GI8: 4 | GK8: 4 | GL8: 2 | GM8: 4 | GN8: 4 | GO8: =GJ8+GL8+GN8 -> 6 | GP8: =GH8+GJ8+GL8+GN8 -> 12 | GQ8: =X8*J8 -> 372 | GR8: =J8*90 -> 180 | GS8: =GQ8-GR8 -> 192 | GT8: =GR8*AC8 -> 954000 | GU8: =GR8/J8 -> 90 | GV8: 62 | GX8: 62 | GY8: 34 | GZ8: 62 | HA8: 62 | HB8: =GW8+GY8+HA8 -> 96 | HC8: =GU8+GW8+GY8+HA8 -> 186 | HD8: =Y8*J8 -> 372 | HE8: =J8*90 -> 180 | HF8: =HD8-HE8 -> 192 | HG8: =HE8*AC8 -> 954000 | HH8: =HE8/J8 -> 90 | HI8: 62 | HK8: 62 | HL8: 34 | HM8: 62 | HN8: 62 | HO8: =HJ8+HL8+HN8 -> 96 | HP8: =HH8+HJ8+HL8+HN8 -> 186
B9: ='PLAN DE NECESIDADES'!B9 -> 5 | C9: ='PLAN DE NECESIDADES'!C9 -> 2791301 | D9: ='PLAN DE NECESIDADES'!D9 -> PARCHE PARA IDENTIFICACIÓN GRUPO SANGUÍNEO: ESPECIFICACIONES TÉCNICAS DE ACUERDO A LA NORMA TÉCNICA KIT DE DOTACIÓN N°. NTMD-0356 - A2. | E9: ='PLAN DE NECESIDADES'!E9 -> UNIDAD | F9: ='PLAN DE NECESIDADES'!F9 -> 0 | G9: ='PLAN DE NECESIDADES'!H9 -> 11161701 | H9: ='PLAN DE NECESIDADES'!I9 -> 1143174 | I9: ='PLAN DE NECESIDADES'!J9 -> SIN CREAR | J9: 2 | K9: 69 | L9: 217 | M9: 279 | N9: 217 | O9: 248 | P9: 248 | Q9: 279 | R9: 125 | S9: 62 | T9: 279 | U9: 186 | V9: 32 | W9: 12 | X9: 186 | Y9: 186 | Z9: =SUM(AD9,AQ9,BD9,BQ9,CD9,CQ9,DD9,DQ9,ED9,EQ9,FD9,FQ9,GD9,GQ9,HD9) -> 5312 | AA9: =SUM(AE9,AR9,BE9,BR9,CE9,CR9,DE9,DR9,EE9,ER9,FE9,FR9,GE9,GR9,HE9) -> 2534 | AB9: =SUM(AF9,AS9,BF9,BS9,CF9,CS9,DF9,DS9,EF9,ES9,FF9,FS9,GF9,GS9,HF9) -> 2778 | AC9: 3700 | AD9: =K9*J9 -> 138 | AE9: =J9*33 -> 66 | AF9: =AD9-AE9 -> 72 | AG9: =AC9*AE9 -> 244200 | AH9: =AE9/J9 -> 33 | AI9: 31 | AK9: 20 | AL9: 18 | AM9: 18 | AN9: 18 | AO9: =AL9+AN9 -> 36 | AP9: =AH9+AJ9+AL9+AN9 -> 69 | AQ9: =L9*J9 -> 434 | AR9: =J9*104 -> 208 | AS9: =AQ9-AR9 -> 226 | AT9: =AC9*AR9 -> 769600 | AU9: =AR9/J9 -> 104 | AV9: 93 | AX9: 62 | AY9: 51 | AZ9: 62 | BA9: 62 | BB9: =AW9+AY9+BA9 -> 113 | BC9: =AU9+AW9+AY9+BA9 -> 217 | BD9: =M9*J9 -> 558 | BE9: =J9*135 -> 270 | BF9: =BD9-BE9 -> 288 | BG9: =AC9*BE9 -> 999000 | BH9: =BE9/J9 -> 135 | BI9: 93 | BK9: 62 | BL9: 20 | BM9: 124 | BN9: 124 | BO9: =BJ9+BL9+BN9 -> 144 | BP9: =BH9+BJ9+BL9+BN9 -> 279 | BQ9: =N9*J9 -> 434 | BR9: =J9*105 -> 210 | BS9: =BQ9-BR9 -> 224 | BT9: =AC9*BR9 -> 777000 | BU9: =BR9/J9 -> 105 | BV9: 93 | BX9: 62 | BY9: 50 | BZ9: 62 | CA9: 62 | CB9: =BW9+BY9+CA9 -> 112 | CC9: =BU9+BW9+BY9+CA9 -> 217 | CD9: =M9*J9 -> 558 | CE9: =J9*120 -> 240 | CF9: =CD9-CE9 -> 318 | CG9: =CE9*AC9 -> 888000 | CH9: =CE9/J9 -> 120 | CI9: 62 | CK9: 62 | CL9: 4 | CM9: 124 | CN9: 124 | CO9: =CJ9+CL9+CN9 -> 128 | CP9: =CH9+CJ9+CL9+CN9 -> 248 | CQ9: =P9*J9 -> 496 | CR9: =J9*120 -> 240 | CS9: =CQ9-CR9 -> 256 | CT9: =AC9*CR9 -> 888000 | CU9: =CR9/J9 -> 120 | CV9: 93 | CX9: 93 | CY9: 66 | CZ9: 62 | DA9: 62 | DB9: =CW9+CY9+DA9 -> 128 | DC9: =CU9+CW9+CY9+DA9 -> 248 | DD9: =Q9*J9 -> 558 | DE9: =J9*135 -> 270 | DF9: =DD9-DE9 -> 288 | DG9: =DE9*AC9 -> 999000 | DH9: =DE9/J9 -> 135 | DI9: 93 | DK9: 124 | DL9: 82 | DM9: 62 | DN9: 62 | DO9: =DJ9+DL9+DN9 -> 144 | DP9: =DH9+DJ9+DL9+DN9 -> 279 | DQ9: =R9*J9 -> 250 | DR9: =J9*58 -> 116 | DS9: =DQ9-DR9 -> 134 | DT9: =DR9*AC9 -> 429200 | DU9: =DR9/J9 -> 58 | DV9: 0 | DX9: 62 | DY9: 4 | DZ9: 63 | EA9: 63 | EB9: =DW9+DY9+EA9 -> 67 | EC9: =DU9+DW9+DY9+EA9 -> 125 | ED9: =S9*J9 -> 124 | EE9: =J9*30 -> 60 | EF9: =ED9-EE9 -> 64 | EG9: =EE9*AC9 -> 222000 | EH9: =EE9/J9 -> 30 | EI9: 0 | EK9: 62 | EL9: =EK9-EH9 -> 32 | EM9: 0 | EO9: =EJ9+EL9+EN9 -> 32 | EP9: =EH9+EJ9+EL9+EN9 -> 62 | EQ9: =T9*J9 -> 558 | ER9: =J9*135 -> 270 | ES9: =EQ9-ER9 -> 288 | ET9: =ER9*AC9 -> 999000 | EU9: =ER9/J9 -> 135 | EV9: 93 | EX9: 93 | EY9: 51 | EZ9: 93 | FA9: 93 | FB9: =EW9+EY9+FA9 -> 144 | FC9: =EU9+EW9+EY9+FA9 -> 279 | FD9: =U9*J9 -> 372 | FE9: =J9*90 -> 180 | FF9: =FD9-FE9 -> 192 | FG9: =FE9*AC9 -> 666000 | FH9: =FE9/J9 -> 90 | FI9: 62 | FK9: 62 | FL9: 34 | FM9: 62 | FN9: 62 | FO9: =FJ9+FL9+FN9 -> 96 | FP9: =FH9+FJ9+FL9+FN9 -> 186 | FQ9: =V9*J9 -> 64 | FR9: =J9*16 -> 32 | FS9: =FQ9-FR9 -> 32 | FT9: =FR9*AC9 -> 118400 | FU9: =FR9/J9 -> 16 | FV9: 0 | FX9: 16 | FY9: 0 | FZ9: 16 | GA9: 16 | GB9: =FW9+FY9+GA9 -> 16 | GC9: =FU9+FW9+FY9+GA9 -> 32 | GD9: =W9*J9 -> 24 | GE9: =J9*6 -> 12 | GF9: =GD9-GE9 -> 12 | GG9: =GE9*AC9 -> 44400 | GH9: =GE9/J9 -> 6 | GI9: 4 | GK9: 4 | GL9: 2 | GM9: 4 | GN9: 4 | GO9: =GJ9+GL9+GN9 -> 6 | GP9: =GH9+GJ9+GL9+GN9 -> 12 | GQ9: =X9*J9 -> 372 | GR9: =J9*90 -> 180 | GS9: =GQ9-GR9 -> 192 | GT9: =GR9*AC9 -> 666000 | GU9: =GR9/J9 -> 90 | GV9: 62 | GX9: 62 | GY9: 34 | GZ9: 62 | HA9: 62 | HB9: =GW9+GY9+HA9 -> 96 | HC9: =GU9+GW9+GY9+HA9 -> 186 | HD9: =Y9*J9 -> 372 | HE9: =J9*90 -> 180 | HF9: =HD9-HE9 -> 192 | HG9: =HE9*AC9 -> 666000 | HH9: =HE9/J9 -> 90 | HI9: 62 | HK9: 62 | HL9: 34 | HM9: 62 | HN9: 62 | HO9: =HJ9+HL9+HN9 -> 96 | HP9: =HH9+HJ9+HL9+HN9 -> 186
B10: ='PLAN DE NECESIDADES'!B10 -> 6 | C10: ='PLAN DE NECESIDADES'!C10 -> 2791301 | D10: ='PLAN DE NECESIDADES'!D10 -> INSIGNIA DEL GRADO SOLDADO: ESPECIFICACIONES TÉCNICAS DE ACUERDO A LA NORMA TÉCNICA KIT DE DOTACIÓN N°. NTMD-0356 - A2. | E10: ='PLAN DE NECESIDADES'!E10 -> JUEGO | F10: ='PLAN DE NECESIDADES'!F10 -> 0 | G10: ='PLAN DE NECESIDADES'!H10 -> 11161701 | H10: ='PLAN DE NECESIDADES'!I10 -> 1047424 | I10: ='PLAN DE NECESIDADES'!J10 -> SIN CREAR | J10: 2 | K10: 69 | L10: 217 | M10: 279 | N10: 217 | O10: 248 | P10: 248 | Q10: 279 | R10: 125 | S10: 62 | T10: 279 | U10: 186 | V10: 32 | W10: 12 | X10: 186 | Y10: 186 | Z10: =SUM(AD10,AQ10,BD10,BQ10,CD10,CQ10,DD10,DQ10,ED10,EQ10,FD10,FQ10,GD10,GQ10,HD10) -> 5312 | AA10: =SUM(AE10,AR10,BE10,BR10,CE10,CR10,DE10,DR10,EE10,ER10,FE10,FR10,GE10,GR10,HE10) -> 2534 | AB10: =SUM(AF10,AS10,BF10,BS10,CF10,CS10,DF10,DS10,EF10,ES10,FF10,FS10,GF10,GS10,HF10) -> 2778 | AC10: 14900 | AD10: =K10*J10 -> 138 | AE10: =J10*33 -> 66 | AF10: =AD10-AE10 -> 72 | AG10: =AC10*AE10 -> 983400 | AH10: =AE10/J10 -> 33 | AI10: 31 | AK10: 20 | AL10: 18 | AM10: 18 | AN10: 18 | AO10: =AL10+AN10 -> 36 | AP10: =AH10+AJ10+AL10+AN10 -> 69 | AQ10: =L10*J10 -> 434 | AR10: =J10*105 -> 210 | AS10: =AQ10-AR10 -> 224 | AT10: =AC10*AR10 -> 3129000 | AU10: =AR10/J10 -> 105 | AV10: 93 | AX10: 62 | AY10: 50 | AZ10: 62 | BA10: 62 | BB10: =AW10+AY10+BA10 -> 112 | BC10: =AU10+AW10+AY10+BA10 -> 217 | BD10: =M10*J10 -> 558 | BE10: =J10*135 -> 270 | BF10: =BD10-BE10 -> 288 | BG10: =AC10*BE10 -> 4023000 | BH10: =BE10/J10 -> 135 | BI10: 93 | BK10: 62 | BL10: 20 | BM10: 124 | BN10: 124 | BO10: =BJ10+BL10+BN10 -> 144 | BP10: =BH10+BJ10+BL10+BN10 -> 279 | BQ10: =N10*J10 -> 434 | BR10: =J10*105 -> 210 | BS10: =BQ10-BR10 -> 224 | BT10: =AC10*BR10 -> 3129000 | BU10: =BR10/J10 -> 105 | BV10: 93 | BX10: 62 | BY10: 50 | BZ10: 62 | CA10: 62 | CB10: =BW10+BY10+CA10 -> 112 | CC10: =BU10+BW10+BY10+CA10 -> 217 | CD10: =M10*J10 -> 558 | CE10: =J10*120 -> 240 | CF10: =CD10-CE10 -> 318 | CG10: =CE10*AC10 -> 3576000 | CH10: =CE10/J10 -> 120 | CI10: 62 | CK10: 62 | CL10: 4 | CM10: 124 | CN10: 124 | CO10: =CJ10+CL10+CN10 -> 128 | CP10: =CH10+CJ10+CL10+CN10 -> 248 | CQ10: =P10*J10 -> 496 | CR10: =J10*120 -> 240 | CS10: =CQ10-CR10 -> 256 | CT10: =AC10*CR10 -> 3576000 | CU10: =CR10/J10 -> 120 | CV10: 93 | CX10: 93 | CY10: 66 | CZ10: 62 | DA10: 62 | DB10: =CW10+CY10+DA10 -> 128 | DC10: =CU10+CW10+CY10+DA10 -> 248 | DD10: =Q10*J10 -> 558 | DE10: =J10*135 -> 270 | DF10: =DD10-DE10 -> 288 | DG10: =DE10*AC10 -> 4023000 | DH10: =DE10/J10 -> 135 | DI10: 93 | DK10: 124 | DL10: 82 | DM10: 62 | DN10: 62 | DO10: =DJ10+DL10+DN10 -> 144 | DP10: =DH10+DJ10+DL10+DN10 -> 279 | DQ10: =R10*J10 -> 250 | DR10: =J10*58 -> 116 | DS10: =DQ10-DR10 -> 134 | DT10: =DR10*AC10 -> 1728400 | DU10: =DR10/J10 -> 58 | DV10: 0 | DX10: 62 | DY10: 4 | DZ10: 63 | EA10: 63 | EB10: =DW10+DY10+EA10 -> 67 | EC10: =DU10+DW10+DY10+EA10 -> 125 | ED10: =S10*J10 -> 124 | EE10: =J10*30 -> 60 | EF10: =ED10-EE10 -> 64 | EG10: =EE10*AC10 -> 894000 | EH10: =EE10/J10 -> 30 | EI10: 0 | EK10: 62 | EL10: =EK10-EH10 -> 32 | EM10: 0 | EO10: =EJ10+EL10+EN10 -> 32 | EP10: =EH10+EJ10+EL10+EN10 -> 62 | EQ10: =T10*J10 -> 558 | ER10: =J10*135 -> 270 | ES10: =EQ10-ER10 -> 288 | ET10: =ER10*AC10 -> 4023000 | EU10: =ER10/J10 -> 135 | EV10: 93 | EX10: 93 | EY10: 51 | EZ10: 93 | FA10: 93 | FB10: =EW10+EY10+FA10 -> 144 | FC10: =EU10+EW10+EY10+FA10 -> 279 | FD10: =U10*J10 -> 372 | FE10: =J10*90 -> 180 | FF10: =FD10-FE10 -> 192 | FG10: =FE10*AC10 -> 2682000 | FH10: =FE10/J10 -> 90 | FI10: 62 | FK10: 62 | FL10: 34 | FM10: 62 | FN10: 62 | FO10: =FJ10+FL10+FN10 -> 96 | FP10: =FH10+FJ10+FL10+FN10 -> 186 | FQ10: =V10*J10 -> 64 | FR10: =J10*15 -> 30 | FS10: =FQ10-FR10 -> 34 | FT10: =FR10*AC10 -> 447000 | FU10: =FR10/J10 -> 15 | FV10: 0 | FX10: 16 | FY10: 1 | FZ10: 16 | GA10: 16 | GB10: =FW10+FY10+GA10 -> 17 | GC10: =FU10+FW10+FY10+GA10 -> 32 | GD10: =W10*J10 -> 24 | GE10: =J10*6 -> 12 | GF10: =GD10-GE10 -> 12 | GG10: =GE10*AC10 -> 178800 | GH10: =GE10/J10 -> 6 | GI10: 4 | GK10: 4 | GL10: 2 | GM10: 4 | GN10: 4 | GO10: =GJ10+GL10+GN10 -> 6 | GP10: =GH10+GJ10+GL10+GN10 -> 12 | GQ10: =X10*J10 -> 372 | GR10: =J10*90 -> 180 | GS10: =GQ10-GR10 -> 192 | GT10: =GR10*AC10 -> 2682000 | GU10: =GR10/J10 -> 90 | GV10: 62 | GX10: 62 | GY10: 34 | GZ10: 62 | HA10: 62 | HB10: =GW10+GY10+HA10 -> 96 | HC10: =GU10+GW10+GY10+HA10 -> 186 | HD10: =Y10*J10 -> 372 | HE10: =J10*90 -> 180 | HF10: =HD10-HE10 -> 192 | HG10: =HE10*AC10 -> 2682000 | HH10: =HE10/J10 -> 90 | HI10: 62 | HK10: 62 | HL10: 34 | HM10: 62 | HN10: 62 | HO10: =HJ10+HL10+HN10 -> 96 | HP10: =HH10+HJ10+HL10+HN10 -> 186
B11: ='PLAN DE NECESIDADES'!B11 -> 7 | C11: ='PLAN DE NECESIDADES'!C11 -> 2791301 | D11: ='PLAN DE NECESIDADES'!D11 -> BRAZALETES TÁCTICOS X JUEGO DE 4: ESPECIFICACIONES TÉCNICAS DE ACUERDO A LA NORMA TÉCNICA KIT DE DOTACIÓN N°. NTMD-0356 - A2. | E11: ='PLAN DE NECESIDADES'!E11 -> JUEGO | F11: ='PLAN DE NECESIDADES'!F11 -> 0 | G11: ='PLAN DE NECESIDADES'!H11 -> 11161701 | H11: ='PLAN DE NECESIDADES'!I11 -> 1248964 | I11: ='PLAN DE NECESIDADES'!J11 -> 8455-80-0011302 | J11: 1 | K11: 69 | L11: 217 | M11: 279 | N11: 217 | O11: 248 | P11: 248 | Q11: 279 | R11: 125 | S11: 62 | T11: 279 | U11: 186 | V11: 32 | W11: 12 | X11: 186 | Y11: 186 | Z11: =SUM(AD11,AQ11,BD11,BQ11,CD11,CQ11,DD11,DQ11,ED11,EQ11,FD11,FQ11,GD11,GQ11,HD11) -> 2656 | AA11: =SUM(AE11,AR11,BE11,BR11,CE11,CR11,DE11,DR11,EE11,ER11,FE11,FR11,GE11,GR11,HE11) -> 1260 | AB11: =SUM(AF11,AS11,BF11,BS11,CF11,CS11,DF11,DS11,EF11,ES11,FF11,FS11,GF11,GS11,HF11) -> 1396 | AC11: 8200 | AD11: =K11*J11 -> 69 | AE11: =J11*33 -> 33 | AF11: =AD11-AE11 -> 36 | AG11: =AC11*AE11 -> 270600 | AH11: =AE11/J11 -> 33 | AI11: 31 | AK11: 20 | AL11: 18 | AM11: 18 | AN11: 18 | AO11: =AL11+AN11 -> 36 | AP11: =AH11+AJ11+AL11+AN11 -> 69 | AQ11: =L11*J11 -> 217 | AR11: =J11*105 -> 105 | AS11: =AQ11-AR11 -> 112 | AT11: =AC11*AR11 -> 861000 | AU11: =AR11/J11 -> 105 | AV11: 93 | AX11: 62 | AY11: 50 | AZ11: 62 | BA11: 62 | BB11: =AW11+AY11+BA11 -> 112 | BC11: =AU11+AW11+AY11+BA11 -> 217 | BD11: =M11*J11 -> 279 | BE11: =J11*134 -> 134 | BF11: =BD11-BE11 -> 145 | BG11: =AC11*BE11 -> 1098800 | BH11: =BE11/J11 -> 134 | BI11: 93 | BK11: 62 | BL11: 21 | BM11: 124 | BN11: 124 | BO11: =BJ11+BL11+BN11 -> 145 | BP11: =BH11+BJ11+BL11+BN11 -> 279 | BQ11: =N11*J11 -> 217 | BR11: =J11*105 -> 105 | BS11: =BQ11-BR11 -> 112 | BT11: =AC11*BR11 -> 861000 | BU11: =BR11/J11 -> 105 | BV11: 93 | BX11: 62 | BY11: 50 | BZ11: 62 | CA11: 62 | CB11: =BW11+BY11+CA11 -> 112 | CC11: =BU11+BW11+BY11+CA11 -> 217 | CD11: =M11*J11 -> 279 | CE11: =J11*120 -> 120 | CF11: =CD11-CE11 -> 159 | CG11: =CE11*AC11 -> 984000 | CH11: =CE11/J11 -> 120 | CI11: 62 | CK11: 62 | CL11: 4 | CM11: 124 | CN11: 124 | CO11: =CJ11+CL11+CN11 -> 128 | CP11: =CH11+CJ11+CL11+CN11 -> 248 | CQ11: =P11*J11 -> 248 | CR11: =J11*119 -> 119 | CS11: =CQ11-CR11 -> 129 | CT11: =AC11*CR11 -> 975800 | CU11: =CR11/J11 -> 119 | CV11: 93 | CX11: 93 | CY11: 67 | CZ11: 62 | DA11: 62 | DB11: =CW11+CY11+DA11 -> 129 | DC11: =CU11+CW11+CY11+DA11 -> 248 | DD11: =Q11*J11 -> 279 | DE11: =J11*134 -> 134 | DF11: =DD11-DE11 -> 145 | DG11: =DE11*AC11 -> 1098800 | DH11: =DE11/J11 -> 134 | DI11: 93 | DK11: 124 | DL11: 83 | DM11: 62 | DN11: 62 | DO11: =DJ11+DL11+DN11 -> 145 | DP11: =DH11+DJ11+DL11+DN11 -> 279 | DQ11: =R11*J11 -> 125 | DR11: =J11*58 -> 58 | DS11: =DQ11-DR11 -> 67 | DT11: =DR11*AC11 -> 475600 | DU11: =DR11/J11 -> 58 | DV11: 0 | DX11: 62 | DY11: 4 | DZ11: 63 | EA11: 63 | EB11: =DW11+DY11+EA11 -> 67 | EC11: =DU11+DW11+DY11+EA11 -> 125 | ED11: =S11*J11 -> 62 | EE11: =J11*30 -> 30 | EF11: =ED11-EE11 -> 32 | EG11: =EE11*AC11 -> 246000 | EH11: =EE11/J11 -> 30 | EI11: 0 | EK11: 62 | EL11: =EK11-EH11 -> 32 | EM11: 0 | EO11: =EJ11+EL11+EN11 -> 32 | EP11: =EH11+EJ11+EL11+EN11 -> 62 | EQ11: =T11*J11 -> 279 | ER11: =J11*135 -> 135 | ES11: =EQ11-ER11 -> 144 | ET11: =ER11*AC11 -> 1107000 | EU11: =ER11/J11 -> 135 | EV11: 93 | EX11: 93 | EY11: 51 | EZ11: 93 | FA11: 93 | FB11: =EW11+EY11+FA11 -> 144 | FC11: =EU11+EW11+EY11+FA11 -> 279 | FD11: =U11*J11 -> 186 | FE11: =J11*89 -> 89 | FF11: =FD11-FE11 -> 97 | FG11: =FE11*AC11 -> 729800 | FH11: =FE11/J11 -> 89 | FI11: 62 | FK11: 62 | FL11: 35 | FM11: 62 | FN11: 62 | FO11: =FJ11+FL11+FN11 -> 97 | FP11: =FH11+FJ11+FL11+FN11 -> 186 | FQ11: =V11*J11 -> 32 | FR11: =J11*15 -> 15 | FS11: =FQ11-FR11 -> 17 | FT11: =FR11*AC11 -> 123000 | FU11: =FR11/J11 -> 15 | FV11: 0 | FX11: 16 | FY11: 1 | FZ11: 16 | GA11: 16 | GB11: =FW11+FY11+GA11 -> 17 | GC11: =FU11+FW11+FY11+GA11 -> 32 | GD11: =W11*J11 -> 12 | GE11: =J11*5 -> 5 | GF11: =GD11-GE11 -> 7 | GG11: =GE11*AC11 -> 41000 | GH11: =GE11/J11 -> 5 | GI11: 4 | GK11: 4 | GL11: 3 | GM11: 4 | GN11: 4 | GO11: =GJ11+GL11+GN11 -> 7 | GP11: =GH11+GJ11+GL11+GN11 -> 12 | GQ11: =X11*J11 -> 186 | GR11: =J11*89 -> 89 | GS11: =GQ11-GR11 -> 97 | GT11: =GR11*AC11 -> 729800 | GU11: =GR11/J11 -> 89 | GV11: 62 | GX11: 62 | GY11: 35 | GZ11: 62 | HA11: 62 | HB11: =GW11+GY11+HA11 -> 97 | HC11: =GU11+GW11+GY11+HA11 -> 186 | HD11: =Y11*J11 -> 186 | HE11: =J11*89 -> 89 | HF11: =HD11-HE11 -> 97 | HG11: =HE11*AC11 -> 729800 | HH11: =HE11/J11 -> 89 | HI11: 62 | HK11: 62 | HL11: 35 | HM11: 62 | HN11: 62 | HO11: =HJ11+HL11+HN11 -> 97 | HP11: =HH11+HJ11+HL11+HN11 -> 186
