Workbook

Sheet PRESUPUESTO OK
A1: 1.1 | B1: CERRAMIENTO EN VARA ROLLIZA Y LONA H = 1.50 M . DISTANCIA ENTRE POSTES 2 M | C1: ML | D1: 83 | E1: 60872.942 | F1: =+ROUND(D1*E1,2) -> 5052454.2
A2: 1.2 | B2: BARRIDO Y SOPLADO | C2: M2 | D2: 448 | E2: 2835.937 | F2: =+ROUND(D2*E2,2) -> 1270499.8
A3: 1.3 | B3: SUMINISTRO E INSTALACION DE SISTEMA DE RECUBRIMIENTO SINTETICO REFORZADO POR CAPAS PLEXIPAVE O DECOART O SIMILAR COMPUESTO 100% DE RESINAS ACRILICAS QUE INCLUYE: REPLANTEO ARQUITECTONICO SEGUN DISEÑO, TRATAMIENTO PREVIO CON ACIDO FOSFORICO, CAPA DE PLEXIBOND PRIMER COATING, CAPA DE BASE, CAPA FILLER, CAPA FINISH Y DEMARCACIÓN (CON RESPECTIVO CERTIFICADO DE CALIDAD DE INSTALACIÓN EXPEDIDO POR EL FABRICANTE). | C3: M2 | D3: 448 | E3: 108679.52 | F3: =+ROUND(D3*E3,2) -> 48688425
A4: 2.1 | B4: CERRAMIENTO EN VARA ROLLIZA Y LONA H = 1.50 M . DISTANCIA ENTRE POSTES 2 M | C4: ML | D4: 87 | E4: 60872.942 | F4: =+ROUND(D4*E4,2) -> 5295946
A5: 2.2 | B5: BARRIDO Y SOPLADO | C5: M2 | D5: 500 | E5: 2835.937 | F5: =+ROUND(D5*E5,2) -> 1417968.5
A6: 2.3 | B6: SUMINISTRO E INSTALACION DE SISTEMA DE RECUBRIMIENTO SINTETICO REFORZADO POR CAPAS PLEXIPAVE O DECOART O SIMILAR COMPUESTO 100% DE RESINAS ACRILICAS QUE INCLUYE: REPLANTEO ARQUITECTONICO SEGUN DISEÑO, TRATAMIENTO PREVIO CON ACIDO FOSFORICO, CAPA DE PLEXIBOND PRIMER COATING, CAPA DE BASE, CAPA FILLER, CAPA FINISH Y DEMARCACIÓN (CON RESPECTIVO CERTIFICADO DE CALIDAD DE INSTALACIÓN EXPEDIDO POR EL FABRICANTE). | C6: M2 | D6: 500 | E6: 108679.52 | F6: =+ROUND(D6*E6,2) -> 54339760
A7: 2.3 | B7: SUMINISTRO E INSTALACIÓN DE CANCHA MULTIPLE TUBO AGUA NEGRA 3" Y 2" INCL.TABLERO ACRILICO 10 MM PARA ANCLAR AL PISO | C7: JUEGO | D7: 1 | E7: 13467488 | F7: =+ROUND(D7*E7,2) -> 13467488
A8: 3.1 | B8: CERRAMIENTO EN VARA ROLLIZA Y LONA H = 1.50 M . DISTANCIA ENTRE POSTES 2 M | C8: ML | D8: 83 | E8: 60872.942 | F8: =+ROUND(D8*E8,2) -> 5052454.2
A9: 3.2 | B9: BARRIDO Y SOPLADO | C9: M2 | D9: 448 | E9: 2835.937 | F9: =+ROUND(D9*E9,2) -> 1270499.8
A10: 3.3 | B10: SUMINISTRO E INSTALACIÓN CAPA DE ACRYLIC RESURFACER CON ARENILLA DE CUARZO COMO BASE SINTETICA MEZCLADO CON TEXACRYL PARA CABADO EN SUPERFICIES DE ASFALTO | C10: ML | D10: 448 | E10: 6077.5 | F10: =+ROUND(D10*E10,2) -> 2722720
A11: 3.4 | B11: SUMINISTRO E INSTALACION DE SISTEMA DE RECUBRIMIENTO SINTETICO REFORZADO POR CAPAS PLEXIPAVE O DECOART O SIMILAR COMPUESTO 100% DE RESINAS ACRILICAS QUE INCLUYE: REPLANTEO ARQUITECTONICO SEGUN DISEÑO, TRATAMIENTO PREVIO CON ACIDO FOSFORICO, CAPA DE PLEXIBOND PRIMER COATING, CAPA DE BASE, CAPA FILLER, CAPA FINISH Y DEMARCACIÓN (CON RESPECTIVO CERTIFICADO DE CALIDAD DE INSTALACIÓN EXPEDIDO POR EL FABRICANTE). | C11: M2 | D11: 448 | E11: 108679.52 | F11: =+ROUND(D11*E11,2) -> 48688425
A12: 3.5 | B12: SUMINISTRO E INSTALACIÓN DE CANCHA MULTIPLE TUBO AGUA NEGRA 3" Y 2" INCL.TABLERO ACRILICO 10 MM PARA ANCLAR AL PISO | C12: JUEGO | D12: 1 | E12: 13467488 | F12: =+ROUND(D12*E12,2) -> 13467488
E13: TOTAL | F13: =SUM(F1:F12) -> 2.0073413e+08

Sheet PRESUPUESTO ORDENADO1
A1: 1.1 | B1: CERRAMIENTO EN VARA ROLLIZA Y LONA H = 1.50 M . DISTANCIA ENTRE POSTES 2 M | C1: ML | D1: 83 | E1: 60872.942 | F1: =+ROUND(D1*E1,2) -> 5052454.2 | G1: =+F1+F2+F3 -> 15400854
A2: 2.1 | B2: CERRAMIENTO EN VARA ROLLIZA Y LONA H = 1.50 M . DISTANCIA ENTRE POSTES 2 M | C2: ML | D2: 87 | E2: 60872.942 | F2: =+ROUND(D2*E2,2) -> 5295946
A3: 3.1 | B3: CERRAMIENTO EN VARA ROLLIZA Y LONA H = 1.50 M . DISTANCIA ENTRE POSTES 2 M | C3: ML | D3: 83 | E3: 60872.942 | F3: =+ROUND(D3*E3,2) -> 5052454.2
A4: 1.2 | B4: BARRIDO Y SOPLADO | C4: M2 | D4: 448 | E4: 2835.937 | F4: =+ROUND(D4*E4,2) -> 1270499.8 | G4: =+F4+F5+F6 -> 3958968.1
A5: 2.2 | B5: BARRIDO Y SOPLADO | C5: M2 | D5: 500 | E5: 2835.937 | F5: =+ROUND(D5*E5,2) -> 1417968.5
A6: 3.2 | B6: BARRIDO Y SOPLADO | C6: M2 | D6: 448 | E6: 2835.937 | F6: =+ROUND(D6*E6,2) -> 1270499.8
A7: 3.3 | B7: SUMINISTRO E INSTALACIÓN CAPA DE ACRYLIC RESURFACER CON ARENILLA DE CUARZO COMO BASE SINTETICA MEZCLADO CON TEXACRYL PARA CABADO EN SUPERFICIES DE ASFALTO | C7: ML | D7: 448 | E7: 6077.5 | F7: =+ROUND(D7*E7,2) -> 2722720 | G7: =+F7 -> 2722720
A8: 2.3 | B8: SUMINISTRO E INSTALACIÓN DE CANCHA MULTIPLE TUBO AGUA NEGRA 3" Y 2" INCL.TABLERO ACRILICO 10 MM PARA ANCLAR AL PISO | C8: JUEGO | D8: 1 | E8: 13467488 | F8: =+ROUND(D8*E8,2) -> 13467488 | G8: =+F8+F9 -> 26934976
A9: 3.5 | B9: SUMINISTRO E INSTALACIÓN DE CANCHA MULTIPLE TUBO AGUA NEGRA 3" Y 2" INCL.TABLERO ACRILICO 10 MM PARA ANCLAR AL PISO | C9: JUEGO | D9: 1 | E9: 13467488 | F9: =+ROUND(D9*E9,2) -> 13467488
A10: 1.3 | B10: SUMINISTRO E INSTALACION DE SISTEMA DE RECUBRIMIENTO SINTETICO REFORZADO POR CAPAS PLEXIPAVE O DECOART O SIMILAR COMPUESTO 100% DE RESINAS ACRILICAS QUE INCLUYE: REPLANTEO ARQUITECTONICO SEGUN DISEÑO, TRATAMIENTO PREVIO CON ACIDO FOSFORICO, CAPA DE PLEXIBOND PRIMER COATING, CAPA DE BASE, CAPA FILLER, CAPA FINISH Y DEMARCACIÓN (CON RESPECTIVO CERTIFICADO DE CALIDAD DE INSTALACIÓN EXPEDIDO POR EL FABRICANTE). | C10: M2 | D10: 448 | E10: 108679.52 | F10: =+ROUND(D10*E10,2) -> 48688425 | G10: =+F10+F11+F12 -> 1.5171661e+08
A11: 2.3 | B11: SUMINISTRO E INSTALACION DE SISTEMA DE RECUBRIMIENTO SINTETICO REFORZADO POR CAPAS PLEXIPAVE O DECOART O SIMILAR COMPUESTO 100% DE RESINAS ACRILICAS QUE INCLUYE: REPLANTEO ARQUITECTONICO SEGUN DISEÑO, TRATAMIENTO PREVIO CON ACIDO FOSFORICO, CAPA DE PLEXIBOND PRIMER COATING, CAPA DE BASE, CAPA FILLER, CAPA FINISH Y DEMARCACIÓN (CON RESPECTIVO CERTIFICADO DE CALIDAD DE INSTALACIÓN EXPEDIDO POR EL FABRICANTE). | C11: M2 | D11: 500 | E11: 108679.52 | F11: =+ROUND(D11*E11,2) -> 54339760
A12: 3.4 | B12: SUMINISTRO E INSTALACION DE SISTEMA DE RECUBRIMIENTO SINTETICO REFORZADO POR CAPAS PLEXIPAVE O DECOART O SIMILAR COMPUESTO 100% DE RESINAS ACRILICAS QUE INCLUYE: REPLANTEO ARQUITECTONICO SEGUN DISEÑO, TRATAMIENTO PREVIO CON ACIDO FOSFORICO, CAPA DE PLEXIBOND PRIMER COATING, CAPA DE BASE, CAPA FILLER, CAPA FINISH Y DEMARCACIÓN (CON RESPECTIVO CERTIFICADO DE CALIDAD DE INSTALACIÓN EXPEDIDO POR EL FABRICANTE). | C12: M2 | D12: 448 | E12: 108679.52 | F12: =+ROUND(D12*E12,2) -> 48688425
E13: SUB TOTAL OBRA | F13: =SUM(F1:F12) -> 2.0073413e+08

Sheet PRESUPUESTO ORDENADO2
B1: SUMINISTRO E INSTALACION DE SISTEMA DE RECUBRIMIENTO SINTETICO REFORZADO POR CAPAS PLEXIPAVE O DECOART O SIMILAR COMPUESTO 100% DE RESINAS ACRILICAS QUE INCLUYE: REPLANTEO ARQUITECTONICO SEGUN DISEÑO, TRATAMIENTO PREVIO CON ACIDO FOSFORICO, CAPA DE PLEXIBOND PRIMER COATING, CAPA DE BASE, CAPA FILLER, CAPA FINISH Y DEMARCACIÓN (CON RESPECTIVO CERTIFICADO DE CALIDAD DE INSTALACIÓN EXPEDIDO POR EL FABRICANTE). | C1: =+'PRESUPUESTO ORDENADO1'!G10 -> 1.5171661e+08
B2: SUMINISTRO E INSTALACIÓN DE CANCHA MULTIPLE TUBO AGUA NEGRA 3" Y 2" INCL.TABLERO ACRILICO 10 MM PARA ANCLAR AL PISO | C2: =+'PRESUPUESTO ORDENADO1'!G8 -> 26934976
B3: CERRAMIENTO EN VARA ROLLIZA Y LONA H = 1.50 M . DISTANCIA ENTRE POSTES 2 M | C3: =+'PRESUPUESTO ORDENADO1'!G1 -> 15400854
B4: BARRIDO Y SOPLADO | C4: =+'PRESUPUESTO ORDENADO1'!G4 -> 3958968.1
B5: SUMINISTRO E INSTALACIÓN CAPA DE ACRYLIC RESURFACER CON ARENILLA DE CUARZO COMO BASE SINTETICA MEZCLADO CON TEXACRYL PARA CABADO EN SUPERFICIES DE ASFALTO | C5: =+'PRESUPUESTO ORDENADO1'!G7 -> 2722720
B6: TOTAL | C6: =SUM(C1:C5) -> 2.0073413e+08

Sheet ANALISIS BIENES RELEVANTES
O2: Sumatoria % | P2: =SUM(O4:O5) -> 0.75580874 | Q2: TOTAL PUNTOS
B3: ACTIVIDAD | C3: UN | D3: CANTIDAD | E3: VALOR UNITARIO | F3: VALOR PARCIAL | G3: VALOR TOTAL | H3: Porcentaje de Participacion | I3: Porcentaje Acumulado | J3: Promedio | K3: vr promedio calculado | L3: =+J4 -> 0.75580874 | M3: NOMBRE PARA CONSULTA REGISTRO (MATERIAL ) | N3: CONSULTA REGISTRO | O3: % | P3: PUNTAJE | Q3: 20
B4: SUMINISTRO E INSTALACION DE SISTEMA DE RECUBRIMIENTO SINTETICO REFORZADO POR CAPAS PLEXIPAVE O DECOART O SIMILAR COMPUESTO 100% DE RESINAS ACRILICAS QUE INCLUYE: REPLANTEO ARQUITECTONICO SEGUN DISEÑO, TRATAMIENTO PREVIO CON ACIDO FOSFORICO, CAPA DE PLEXIBOND PRIMER COATING, CAPA DE BASE, CAPA FILLER, CAPA FINISH Y DEMARCACIÓN (CON RESPECTIVO CERTIFICADO DE CALIDAD DE INSTALACIÓN EXPEDIDO POR EL FABRICANTE). | F4: 1.5171661e+08 | G4: =SUM(F4:F8) -> 2.0073413e+08 | H4: =F4/$G$4 -> 0.75580874 | I4: =H4 -> 0.75580874 | J4: =+I4 -> 0.75580874 | K4: =IF((H4>$L$3),"BIEN RELEVANTE","NO ES BIEN RELEVANTE") -> NO ES BIEN RELEVANTE | N4: SI SE ENCUENTRA | O4: =+H4 -> 0.75580874 | P4: =(O4/P2)*20 -> 20
B5: SUMINISTRO E INSTALACIÓN DE CANCHA MULTIPLE TUBO AGUA NEGRA 3" Y 2" INCL.TABLERO ACRILICO 10 MM PARA ANCLAR AL PISO | F5: 26934976 | H5: =F5/$G$4 -> 0.13418235 | I5: =H5+I4 -> 0.88999109 | K5: =IF((H5>$L$3),"BIEN RELEVANTE","NO ES BIEN RELEVANTE") -> NO ES BIEN RELEVANTE | N5: NO SE ENCUENTRA | O5: 0 | P5: =(O5/P2)*20 -> 0
B6: CERRAMIENTO EN VARA ROLLIZA Y LONA H = 1.50 M . DISTANCIA ENTRE POSTES 2 M | F6: 15400854 | H6: =F6/$G$4 -> 0.076722651 | I6: =H6+I5 -> 0.96671374 | K6: =IF((H6>$L$3),"BIEN RELEVANTE","NO ES BIEN RELEVANTE") -> NO ES BIEN RELEVANTE
B7: BARRIDO Y SOPLADO | F7: 3958968.1 | H7: =F7/$G$4 -> 0.019722446 | I7: =H7+I6 -> 0.98643619 | K7: =IF((H7>$L$3),"BIEN RELEVANTE","NO ES BIEN RELEVANTE") -> NO ES BIEN RELEVANTE
B8: SUMINISTRO E INSTALACIÓN CAPA DE ACRYLIC RESURFACER CON ARENILLA DE CUARZO COMO BASE SINTETICA MEZCLADO CON TEXACRYL PARA CABADO EN SUPERFICIES DE ASFALTO | F8: 2722720 | H8: =F8/$G$4 -> 0.013563812 | I8: =H8+I7 -> 1 | K8: =IF((H8>$L$3),"BIEN RELEVANTE","NO ES BIEN RELEVANTE") -> NO ES BIEN RELEVANTE
B9: total | F9: =SUM(F4:F8) -> 2.0073413e+08 | H9: =SUM(H4:H8) -> 1

Sheet CONSULTA REGISTRO
A2: =+'ANALISIS BIENES RELEVANTES'!M4 -> 0 | E2: SE ENCUENTRA | I2: =+'ANALISIS BIENES RELEVANTES'!M5 -> 0 | K2: SE ENCUENTRA
