Workbook

Sheet  GCO-040-PDT-002-f-016 (2)
C2: CONSOLIDADO ESTUDIO DE LA OFERTA
A4: Objeto: | C4: 2323502226_OSIS_2026_ST Adquirir el servicio de mantenimiento preventivo y correctivo especializado, con suministro de repuestos a los sistemas de aire acondicionado y sistemas ininterrumpidos de potencia - UPS, de acuerdo con las especificaciones técnicas establecidas por la Entidad.
A5: Ítem | B5: Descripción del bien o servicio | C5: Unidad de medida | D5: Cantidad | E5: SMARTE PLANNIG | F5: COMPUTEL SYSTEM S.A.S. | G5: SISELCOM | H5: COTEL | I5: INVERSER | J5: COMSISTELCO | K5: POWERSUN | L5: HISTORICO CTO 2025 DANE | M5: Valor Unitario Promedio Incluido IVA | N5: Valor Unitario Promedio Incluido IVA (redondeado) | O5: Valor total promedio por ítem (para la cantidad requerida) incluido IVA | P5: DESVIACIÓN ESTÁNDAR CON TODAS LAS COTIZACIONES | Q5: DESVIACIÓN ESTÁNDAR EXCLUYENDO ALGUNAS COTIZACIONES
E6: 46077 | F6: 24/2/2026 | G6: 46077 | H6: 46086 | I6: 46097 | J6: 46097 | K6: 25/3/2026
E7: Valor unitario incluido IVA | F7: Valor unitario incluido IVA | G7: Valor unitario incluido IVA | H7: Valor unitario incluido IVA | I7: Valor unitario incluido IVA | J7: Valor unitario incluido IVA | K7: Valor unitario incluido IVA | L7: CO1.PCCNTR.8460196
A8: 1 | B8: LOTE 1. EQUIPOS MARCA LIEBERT Y VERTIV - MANTENIMIENTO PREVENTIVO Y CORRECTIVO DE ACUERDO CON EL ANEXO 1 FICHA TÉCNICA MANTENIMIENTO UPS
A9: 1 | B9: Mantenimiento preventivo UPS Bogotá DANE CENTRAL LIEBERT 200 kVA | C9: Unidad | D9: 2 | E9: 1071000 | F9: 4879000 | G9: 19436667 | H9: 11729822 | I9: 3975278 | J9: 4110326 | K9: 1532720 | L9: 2988497.1 | M9: =AVERAGE(I9,,J9,F9,L9) -> 3190620.2 | N9: =ROUND(M9,0) -> 3190620 | O9: =N9*D9 -> 6381240 | P9: =STDEVA(I9:L9) -> 1189534.4 | Q9: =STDEVA(I9,J9,F9,L9) -> 776318.7
A10: 2 | B10: Mantenimiento preventivo UPS Bucaramanga LIEBERT 10 kVA | C10: Unidad | D10: 1 | E10: 440300 | F10: 297500 | G10: 1543544 | H10: 790920 | I10: 700001 | J10: 1067734 | K10: 314160 | L10: 736741.58 | M10: =AVERAGE(I10,K10,E10,J10,H10,L10) -> 674976.1 | N10: =ROUND(M10,0) -> 674976 | O10: =N10*D10 -> 674976 | P10: =STDEVA(I10:L10) -> 308417.42 | Q10: =STDEVA(I10,K10,E10,J10,H10,L10) -> 267358.97
A11: 3 | B11: Mantenimiento preventivo UPS Bucaramanga LIEBERT 10 kVA | C11: Unidad | D11: 1 | I11: 700001 | J11: 1067734 | K11: 314160 | L11: 736741.58 | M11: =AVERAGE(I11,J11,L11) -> 834825.53 | N11: =ROUND(M11,0) -> 834826 | O11: =N11*D11 -> 834826 | P11: =STDEVA(I11:L11) -> 308417.42 | Q11: =STDEVA(I11,J11,L11) -> 202539.47
A12: 4 | B12: Mantenimiento preventivo UPS Barranquilla VERTIV 20 KVA | C12: Unidad | D12: 1 | E12: 559300 | F12: 464100 | G12: 2303649 | H12: 978900 | I12: 787603 | J12: 1351787 | K12: 1237600 | M12: =AVERAGE(I12,K12,E12,J12,F12,H12) -> 896548.33 | N12: =ROUND(M12,0) -> 896548 | O12: =N12*D12 -> 896548 | P12: =STDEVA(I12:L12) -> 298283.86 | Q12: =STDEVA(I12,E12,F12,H12,K12) -> 313953.29
A13: 5 | B13: Mantenimiento preventivo UPS Manizales LIEBERT 10 KVA | C13: Unidad | D13: 1 | E13: 440300 | F13: 297500 | G13: 1650226 | H13: 1687716 | I13: 1279912 | J13: 1946787 | K13: 1204280 | L13: 1483506.2 | M13: =AVERAGE(I13,J13,K13,G13,H13,L13) -> 1542071.2 | N13: =ROUND(M13,0) -> 1542071 | O13: =N13*D13 -> 1542071 | P13: =STDEVA(I13:L13) -> 333642.28 | Q13: =STDEVA(I13,J13,K13,G13,H13,L13) -> 276754.39
A14: 6 | B14: Mantenimiento preventivo UPS Florencia LIEBERT 3 kVA | C14: Unidad | D14: 1 | E14: 357000 | F14: 214200 | G14: 1372546 | H14: 2940654 | I14: 2967113 | J14: 1459958 | K14: 1958740 | L14: 483366.5 | M14: =AVERAGE(K14,J14,G14) -> 1597081.3 | N14: =ROUND(M14,0) -> 1597081 | O14: =N14*D14 -> 1597081 | P14: =STDEVA(I14:L14) -> 1034269.9 | Q14: =STDEVA(J14,K14,G14) -> 316240.35
A15: 7 | B15: Mantenimiento preventivo UPS Santa Marta LIEBERT 10 kVA | C15: Unidad | D15: 1 | E15: 440300 | F15: 297500 | G15: 1541764 | H15: 2103462 | I15: 1036438 | J15: 1946787 | K15: 1618400 | L15: 1314995.7 | M15: =AVERAGE(I15,K15,J15,G15,H15,L15) -> 1593641.1 | N15: =ROUND(M15,0) -> 1593641 | O15: =N15*D15 -> 1593641 | P15: =STDEVA(I15:L15) -> 392009.98 | Q15: =STDEVA(I15,J15,K15,G15,H15,L15) -> 393967.55
A16: 8 | B16: Mantenimiento preventivo UPS Villavicencio LIEBERT 10 kVA | C16: Unidad | D16: 1 | I16: 932408 | J16: 825688 | K16: 1309000 | M16: =AVERAGE(I16,K16,J16) -> 1022365.3 | N16: =ROUND(M16,0) -> 1022365 | O16: =N16*D16 -> 1022365 | P16: =STDEVA(I16:L16) -> 253903.26 | Q16: =STDEVA(I16,J16,K16,E16) -> 253903.26
A17: 9 | B17: Mantenimiento preventivo UPS Riohacha VERTIV 6 KVA | C17: Unidad | D17: 1 | I17: 1461067 | J17: 1459958 | K17: 1856400 | L17: 913454.87 | M17: =AVERAGE(I17,K17,J17) -> 1592475 | N17: =ROUND(M17,0) -> 1592475 | O17: =N17*D17 -> 1592475 | P17: =STDEVA(I17:L17) -> 387421.59 | Q17: =STDEVA(I17,J17,E17,F17) -> 784.18142
A18: 10 | B18: Mantenimiento preventivo UPS Valledupar LIEBERT 15 kVA | C18: Unidad | D18: 1 | E18: 511700 | F18: 464100 | G18: 1701581 | H18: 8414822 | I18: 1571589 | J18: 1595142 | K18: 2237200 | L18: 1213429.8 | M18: =AVERAGE(I18,K18,J18,G18,L18) -> 1663788.4 | N18: =ROUND(M18,0) -> 1663788 | O18: =N18*D18 -> 1663788 | P18: =STDEVA(I18:L18) -> 426020.24 | Q18: =STDEVA(I18,J18,K18,L18,G18) -> 369548.74
A19: 11 | B19: Mantenimiento preventivo UPS Montería LIEBERT 40 kVA | C19: Unidad | D19: 1 | E19: 714000 | F19: 606900 | G19: 4061232 | H19: 2690801 | I19: 1678546 | J19: 3298984 | K19: 1570800 | M19: =AVERAGE(I19,K19,H19) -> 1980049 | N19: =ROUND(M19,0) -> 1980049 | O19: =N19*D19 -> 1980049 | P19: =STDEVA(I19:K19) -> 968163.94 | Q19: =STDEVA(I19,K19,H19) -> 617882.35
A20: 12 | B20: Mantenimiento preventivo UPS Arauca LIEBERT 3 kVA | C20: Unidad | D20: 1 | I20: 2506105 | J20: 949091 | K20: 837760 | L20: 543259.38 | M20: =AVERAGE(K20,J20,L20) -> 776703.46 | N20: =ROUND(M20,0) -> 776703 | O20: =N20*D20 -> 776703 | P20: =STDEVA(I20:L20) -> 881488.09 | Q20: =STDEVA(I20,J20,E20) -> 1100975.2
A21: 13 | B21: Mantenimiento preventivo UPS San Jose del Guaviare LIEBERT 3 kVA | C21: Unidad | D21: 1 | I21: 2948785 | J21: 949091 | K21: 1832600 | L21: 739904.67 | M21: =AVERAGE(K21,J21,L21) -> 1173865.2 | N21: =ROUND(M21,0) -> 1173865 | O21: =N21*D21 -> 1173865 | P21: =STDEVA(I21:L21) -> 1005904.5 | Q21: =STDEVA(K21,J21,L21) -> 579989.96
A22: 14 | B22: Mantenimiento preventivo UPS Inirida LIEBERT 3 kVA | C22: Unidad | D22: 1 | I22: 3477965 | J22: 949091 | K22: 9029720 | L22: 806529.33 | M22: =AVERAGE(I22,J22,L22) -> 1744528.4 | N22: =ROUND(M22,0) -> 1744528 | O22: =N22*D22 -> 1744528 | P22: =STDEVA(I22:L22) -> 3843734.2 | Q22: =STDEVA(I22,J22,L22) -> 1502891.4
A23: 15 | B23: Mantenimiento preventivo UPS Yopal LIEBERT 3 kVA | C23: Unidad | D23: 1 | I23: 2506105 | J23: 949091 | K23: 6935320 | M23: =AVERAGE(I23,J23) -> 1727598 | N23: =ROUND(M23,0) -> 1727598 | O23: =N23*D23 -> 1727598 | P23: =STDEVA(I23:L23) -> 3105832.6 | Q23: =STDEVA(I23,J23) -> 1100975.2
A24: 16 | B24: Mantenimiento preventivo UPS Mitu LIEBERT 3 kVA | C24: Unidad | D24: 1 | I24: 3391465 | J24: 949091 | K24: 10338720 | L24: 857009.62 | M24: =AVERAGE(I24,J24,L24) -> 1732521.9 | N24: =ROUND(M24,0) -> 1732522 | O24: =N24*D24 -> 1732522 | P24: =STDEVA(I24:L24) -> 4460282.6 | Q24: =STDEVA(I24,J24,L24) -> 1437424.4
A25: 17 | B25: Mantenimiento preventivo UPS Leticia LIEBERT 3 kVA | C25: Unidad | D25: 1 | E25: 392700 | F25: 214200 | G25: 1372546 | H25: 3294427 | I25: 4143977 | J25: 949091 | K25: 952000 | L25: 577912.11 | M25: =AVERAGE(J25,K25,E25,F25,G25,L25) -> 743074.85 | N25: =ROUND(M25,0) -> 743075 | O25: =N25*D25 -> 743075 | P25: =STDEVA(I25:L25) -> 1668096.6 | Q25: =STDEVA(J25,K25,E25,F25,G25,L25) -> 427100.97
A26: 18 | B26: Adquisicion e instalacion de baterias para UPS de 10 KVA UPS Bucaramanga | C26: Unidad | D26: 24 | E26: 1666000 | F26: 3689000 | G26: 151725 | H26: 153388 | I26: 182628 | J26: 19665530 | K26: 145180 | M26: =AVERAGE(I26,K26,G26,H26) -> 158230.25 | N26: =ROUND(M26,0) -> 158230 | O26: =N26*D26 -> 3797520 | P26: =STDEVA(I26:L26) -> 11259285 | Q26: =STDEVA(I26,G26,K26,H26) -> 16646.57
A27: 19 | B27: Adquisicion e instalacion de baterias para UPS de 6 KVA UPS Rioacha | C27: Unidad | D27: 20 | E27: 1071000 | F27: 2142000 | G27: 151725 | H27: 153388 | I27: 221896 | J27: 18192191 | K27: 222530 | M27: =AVERAGE(I27,K27,G27,H27) -> 187384.75 | N27: =ROUND(M27,0) -> 187385 | O27: =N27*D27 -> 3747700 | P27: =STDEVA(I27:L27) -> 10374972 | Q27: =STDEVA(I27,G27,K27,H27) -> 40222.762
A28: 20 | B28: Adquisicion e instalacion de baterias para UPS de 3 KVA UPS Arauca | C28: Unidad | D28: 6 | E28: 833000 | F28: 1666000 | G28: 178500 | H28: 153388 | I28: 670999 | J28: 9161876 | K28: 251090 | M28: =AVERAGE(I28,K28,E28,G28,H28) -> 417395.4 | N28: =ROUND(M28,0) -> 417395 | O28: =N28*D28 -> 2504370 | P28: =STDEVA(I28:L28) -> 5027813 | Q28: =STDEVA(I28,G28,K28,E28,H28) -> 312837.97
A29: 21 | B29: Adquisicion e instalacion de baterias para UPS de 3 KVA UPS San jose del guaviare | C29: Unidad | D29: 6 | E29: 833000 | F29: 1666000 | G29: 178500 | H29: 153388 | I29: 694747 | J29: 9747832 | K29: 1570800 | M29: =AVERAGE(I29,E29,G29,H29,L29) -> 464908.75 | N29: =ROUND(M29,0) -> 464909 | O29: =N29*D29 -> 2789454 | P29: =STDEVA(I29:L29) -> 4993156.5 | Q29: =STDEVA(I29,G29,H29,E29) -> 349948.54
A30: 22 | B30: Adquisicion e instalacion de baterias para UPS de 3 KVA UPS Inirida | C30: Unidad | D30: 6 | E30: 833000 | F30: 1666000 | G30: 178500 | H30: 153388 | I30: 682066 | J30: 12970828 | K30: 965090 | M30: =AVERAGE(I30,K30,E30,G30,H30) -> 562408.8 | N30: =ROUND(M30,0) -> 562409 | O30: =N30*D30 -> 3374454 | P30: =STDEVA(I30:L30) -> 7014645.6 | Q30: =STDEVA(I30,G30,K30,E30,H30) -> 375624.01
A31: 23 | B31: Adquisicion e instalacion de baterias para UPS de 3 KVA UPS Yopal | C31: Unidad | D31: 6 | E31: 833000 | F31: 1666000 | G31: 178500 | H31: 153388 | I31: 501305 | J31: 7579771 | K31: 722330 | M31: =AVERAGE(I31,K31,E31,G31,H31) -> 477704.6 | N31: =ROUND(M31,0) -> 477705 | O31: =N31*D31 -> 2866230 | P31: =STDEVA(I31:L31) -> 4024467.5 | Q31: =STDEVA(I31,G31,K31,E31,H31) -> 308762.87
A32: 24 | B32: Adquisicion e instalacion de baterias para UPS de 3 KVA UPS Mitu | C32: Unidad | D32: 6 | E32: 833000 | F32: 1666000 | G32: 151725 | H32: 153388 | I32: 870943 | J32: 14142740 | K32: 1073380 | M32: =AVERAGE(I32,K32,E32,G32,H32) -> 616487.2 | N32: =ROUND(M32,0) -> 616487 | O32: =N32*D32 -> 3698922 | P32: =STDEVA(I32:L32) -> 7604710.7 | Q32: =STDEVA(I32,G32,H32,E32) -> 404105
A33: 25 | B33: Mantenimiento preventivo Aire Acondicionado Bogotá DANE CENTRAL LIEBERT 5 TR | C33: Unidad | D33: 3 | E33: 595000 | F33: 595000 | G33: 3272500 | H33: 1003928 | I33: 1630659 | J33: 2163129 | K33: 1454180 | L33: 1237921.3 | M33: =AVERAGE(I33,J33,K33,H33,L33) -> 1497963.5 | N33: =ROUND(M33,0) -> 1497963 | O33: =N33*D33 -> 4493889 | P33: =STDEVA(I33:L33) -> 395210.69 | Q33: =STDEVA(I33,J33,K33,H33,L33) -> 439790.65
A34: 26 | B34: Mantenimiento preventivo Aire Acondicionado Bogotá DANE CENTRAL LIEBERT 10 TR | C34: Unidad | D34: 3 | E34: 833000 | F34: 714000 | G34: 4760000 | H34: 1299919 | I34: 2163146 | J34: 2874392 | K34: 1915900 | L34: 1472784 | M34: =AVERAGE(K34,E34,F34,H34,L34) -> 1247120.6 | N34: =ROUND(M34,0) -> 1247121 | O34: =N34*D34 -> 3741363 | P34: =STDEVA(I34:L34) -> 586171.55 | Q34: =STDEVA(F34,H34,K34,E34,L34) -> 489052.9
A35: 27 | B35: Mantenimiento preventivo Aire Acondicionado Bogotá DANE CENTRAL VERTIV 10 TR | C35: Unidad | D35: 3 | E35: 833000 | F35: 714000 | G35: 4760000 | H35: 1299919 | I35: 2163146 | J35: 2874392 | K35: 1915900 | L35: 1472784 | M35: =AVERAGE(I35,J35,K35,E35,F35,G35,H35,L35) -> 2004142.6 | N35: =ROUND(M35,0) -> 2004143 | O35: =N35*D35 -> 6012429 | P35: =STDEVA(I35:L35) -> 586171.55 | Q35: =STDEVA(I35,J35,K35,E35) -> 846313.1
A36: 28 | B36: Adquisicion e instalacion Correa de transmisión Ref. A-41 Aire Aconcicionado Bogota Dane Cental LIEBERT 5 TR | C36: Unidad | D36: 1 | E36: 273700 | F36: 535500 | G36: 1041250 | H36: 476697 | I36: 55335 | J36: 2375544 | K36: 1397060 | M36: =AVERAGE(K36,E36,F36,G36,H36) -> 744841.4 | N36: =ROUND(M36,0) -> 744841 | O36: =N36*D36 -> 744841 | P36: =STDEVA(I36:L36) -> 1164833.8 | Q36: =STDEVA(F36,G36,K36,E36,H36) -> 461233.84
A37: 29 | B37: Adquisicion e instalacion Pantalla/Display iCOM Aire Aconcicionado Bogota Dane Cental LIEBERT 10 TR | C37: Unidad | D37: 1 | E37: 1487500 | F37: 1368500 | G37: 5474000 | H37: 0 | I37: 10259109 | J37: 40044399 | K37: 5322870 | M37: =AVERAGE(K37,E37,F37,G37) -> 3413217.5 | N37: =ROUND(M37,0) -> 3413218 | O37: =N37*D37 -> 3413218 | P37: =STDEVA(I37:K37) -> 18784366 | Q37: =STDEVA(G37,K37,E37,F37) -> 2293676.4
B38: TOTAL MANTENIMIENTO PREVENTIVO | E38: =SUM(E9*$D$9)+E10+E11+E12+E13+E14+E15+E16+E17+E18+E19+E20+E21+E22+E23+E24+E25+(E26*$D$26)+(E27*$D$27)+(E28*$D$28)+(E29*$D$29)+(E30*$D$30)+(E31*$D$31)+(E32*$D$32)+(E33*$D$33)+(E34*$D$34)+(E35*$D$35)+E36+E37 -> 100935800 | F38: =SUM(F9*$D$9)+F10+F12+F13+F14+F15+F18+F19+F24+F25+(F26*$D$26)+(F27*$D$27)+(F28*$D$28)+(F29*$D$29)+(F30*$D$30)+(F31*$D$31)+(F32*$D$32)+(F33*$D$33)+(F34*$D$34)+(F35*$D$35)+F36+F37 -> 201943000 | G38: =SUM(G9*$D$9)+G10+G12+G13+G14+G15+G18+G19+G24+G25+(G26*$D$26)+(G27*$D$27)+(G28*$D$28)+(G29*$D$29)+(G30*$D$30)+(G31*$D$31)+(G32*$D$32)+(G33*$D$33)+(G34*$D$34)+(G35*$D$35)+G36+G37 -> 111183422 | H38: =SUM(H9*$D$9)+H10+H12+H13+H14+H15+H18+H19+H24+H25+(H26*$D$26)+(H27*$D$27)+(H28*$D$28)+(H29*$D$29)+(H30*$D$30)+(H31*$D$31)+(H32*$D$32)+(H33*$D$33)+(H34*$D$34)+(H35*$D$35)+H36+H37 -> 69000053 | I38: =SUM(I9*$D$9)+I10+I11+I12+I13+I14+I15+I16+I17+I18+I19+I20+I21+I22+I23+I24+I25+(I26*$D$26)+(I27*$D$27)+(I28*$D$28)+(I29*$D$29)+(I30*$D$30)+(I31*$D$31)+(I32*$D$32)+(I33*$D$33)+(I34*$D$34)+(I35*$D$35)+I36+I37 -> 97566285 | J38: =SUM(J9*$D$9)+J10+J11+J12+J13+J14+J15+J16+J17+J18+J19+J20+J21+J22+J23+J24+J25+(J26*$D$26)+(J27*$D$27)+(J28*$D$28)+(J29*$D$29)+(J30*$D$30)+(J31*$D$31)+(J32*$D$32)+(J33*$D$33)+(J34*$D$34)+(J35*$D$35)+J36+J37 -> 1253526261 | K38: =SUM(K9*$D$9)+K10+K11+K12+K13+K14+K15+K16+K17+K18+K19+K20+K21+K22+K23+K24+K25+(K26*$D$26)+(K27*$D$27)+(K28*$D$28)+(K29*$D$29)+(K30*$D$30)+(K31*$D$31)+(K32*$D$32)+(K33*$D$33)+(K34*$D$34)+(K35*$D$35)+K36+K37 -> 104621230 | O38: =SUM(O9:O37) -> 68861741
A39: 30 | B39: MANTENIMIENTO CORRECTIVO - BOLSA DE REPUESTOS LOTE 1 ($ incluido IVA)(No modificar este valor) | C39: Unidad | D39: 1 | E39: 52326787 | F39: 52326787 | G39: 52326787 | H39: 52326787 | I39: 52326787 | J39: 52326787 | K39: 52326787 | M39: 52326787 | N39: =ROUND(M39,0) -> 52326787 | O39: =ROUND(N39,0) -> 52326787
A40: TOTAL LOTE 1 | E40: =SUM(E38:E39) -> 1.5326259e+08 | F40: =SUM(F38:F39) -> 2.5426979e+08 | G40: =SUM(G38:G39) -> 1.6351021e+08 | H40: =SUM(H38:H39) -> 1.2132684e+08 | I40: =SUM(I38:I39) -> 1.4989307e+08 | J40: =SUM(J38:J39) -> 1.305853e+09 | K40: =SUM(K38:K39) -> 1.5694802e+08 | O40: =SUM(O38:O39) -> 121188528
A42: 2 | B42: LOTE 2 UPSS Y AIRES MULTIMARCA - MANTENIMIENTO PREVENTIVO Y CORRECTIVO DE ACUERDO CON EL ANEXO 1 FICHA TÉCNICA – CONDICIONES CARACTERÍSTICAS TÉCNICAS | L42: CO1.PCCNTR.8460365
A43: 1 | B43: Mantenimiento preventivo UPS Bogotá CASA LA ESMERALDA TRIPP-LITE 20KVA | C43: Unidad | D43: 1 | E43: 559300 | F43: 464100 | G43: 2032917 | H43: 1106187 | I43: 690213 | J43: 1676300 | K43: 1342320 | L43: 1114664.7 | M43: =AVERAGE(I43,J43,K43,H43,L43) -> 1185936.9 | N43: =ROUND(M43,0) -> 1185937 | O43: =N43*D43 -> 1185937 | P43: =STDEVA(I43:L43) -> 413982.1 | Q43: =STDEVA(I43,J43,K43,H43,L43) -> 361280.22
A44: 2 | B44: Mantenimiento preventivo UPS Bogotá -Álamos TRIPP-LITE 60kVA | C44: Unidad | D44: 1 | E44: 987700 | F44: 773500 | G44: 4152108 | H44: 1531008 | I44: 1434829 | J44: 2217155 | K44: 1487500 | L44: 1445679.3 | M44: =AVERAGE(I44,K44,E44,F44,H44,L44) -> 1276702.7 | N44: =ROUND(M44,0) -> 1276703 | O44: =N44*D44 -> 1276703 | P44: =STDEVA(I44:L44) -> 381252.99 | Q44: =STDEVA(I44,F44,K44,E44,H44,L44) -> 316037.72
A45: 3 | B45: Mantenimiento preventivo UPS Bogotá Álamos TRIPP-LITE 60kVA | C45: Unidad | D45: 1 | E45: 987700 | F45: 773500 | G45: 4152108 | H45: 1531008 | I45: 1434829 | J45: 2217155 | K45: 1487500 | L45: 1445681.3 | M45: =AVERAGE(I45,K45,E45,F45,H45,L45) -> 1276703 | N45: =ROUND(M45,0) -> 1276703 | O45: =N45*D45 -> 1276703 | P45: =STDEVA(I45:L45) -> 381252.64 | Q45: =STDEVA(I45,F45,K45,E45,H45,L45) -> 316037.94
A46: 4 | B46: Mantenimiento preventivo UPS Medellin TITAN 10 KVA | C46: Unidad | D46: 1 | I46: 602611 | J46: 1946787 | K46: 880600 | M46: =AVERAGE(I46,J46,K46) -> 1143332.7 | N46: =ROUND(M46,0) -> 1143333 | O46: =N46*D46 -> 1143333 | P46: =STDEVA(I46:L46) -> 709558.75 | Q46: =STDEVA(I46,J46,K46) -> 709558.75
A47: 5 | B47: Mantenimiento preventivo UPS Medellin TITAN 10 KVA | C47: Unidad | D47: 1 | I47: 602611 | J47: 1946787 | K47: 880600 | L47: 875019.55 | M47: =AVERAGE(I47,K47,L47) -> 786076.85 | N47: =ROUND(M47,0) -> 786077 | O47: =N47*D47 -> 786077 | P47: =STDEVA(I47:L47) -> 594682.32 | Q47: =STDEVA(I47,L47,K47) -> 158910.59
A48: 6 | B48: Mantenimiento preventivo UPS Medellin TITAN 10 KVA | C48: Unidad | D48: 1 | I48: 602611 | J48: 1946787 | K48: 880600 | L48: 875019.55 | M48: =AVERAGE(I48,K48,L48) -> 786076.85 | N48: =ROUND(M48,0) -> 786077 | O48: =N48*D48 -> 786077 | P48: =STDEVA(I48:L48) -> 594682.32 | Q48: =STDEVA(I48,L48,K48) -> 158910.59
A49: 7 | B49: Mantenimiento preventivo UPS Quibdó POWERCOM 6 kva | C49: Unidad | D49: 1 | E49: 392700 | F49: 297500 | G49: 1556216 | H49: 3184262 | I49: 4981673 | J49: 1919655 | K49: 1190000 | L49: 1728248.6 | M49: =AVERAGE(J49,K49,G49,L49) -> 1598529.9 | N49: =ROUND(M49,0) -> 1598530 | O49: =N49*D49 -> 1598530 | P49: =STDEVA(I49:L49) -> 1712606.5 | Q49: =STDEVA(G49,J49,K49,L49) -> 310180.28
A50: 8 | B50: Mantenimiento preventivo UPS Puerto Carreño TRIPP-LITE 10kVA | C50: Unidad | D50: 1 | E50: 1071000 | F50: 773500 | G50: 6123185 | H50: 3829264 | I50: 4947495 | J50: 1946787 | K50: 952000 | M50: =AVERAGE(K50,E50,F50) -> 932166.67 | N50: =ROUND(M50,0) -> 932167 | O50: =N50*D50 -> 932167 | P50: =STDEVA(I50:L50) -> 2079977.2 | Q50: =STDEVA(F50,K50,E50) -> 149738.38
A51: 9 | B51: Mantenimiento preventivo UPS Cucuta POWERCOM 12 Kva | C51: Unidad | D51: 1 | I51: 1534453 | J51: 3298984 | K51: 2618000 | L51: 1264464 | M51: =AVERAGE(I51,K51,L51) -> 1805639 | N51: =ROUND(M51,0) -> 1805639 | O51: =N51*D51 -> 1805639 | P51: =STDEVA(I51:L51) -> 948490.4 | Q51: =STDEVA(I51,K51,L51) -> 716359.77
A52: 10 | B52: Mantenimiento preventivo UPS Manizales TRIPPLITE 10 KVA | C52: Unidad | D52: 1 | E52: 440300 | F52: 297500 | G52: 1541764 | H52: 1263435 | I52: 1279912 | J52: 1946787 | K52: 1204280 | L52: 1445656 | M52: =AVERAGE(I52,J52,K52,G52,H52,L52) -> 1446972.3 | N52: =ROUND(M52,0) -> 1446972 | O52: =N52*D52 -> 1446972 | P52: =STDEVA(I52:L52) -> 333994.12 | Q52: =STDEVA(I52,J52,K52,G52,H52,L52) -> 275425.7
A53: 11 | B53: Mantenimiento preventivo UPS Pereira TRIPP-LITE 20 Kva | C53: Unidad | D53: 1 | E53: 559300 | F53: 464100 | G53: 2738825 | H53: 1075739 | I53: 1655255 | J53: 1432826 | K53: 1675520 | L53: 1344200.1 | M53: =AVERAGE(I53,J53,K53,H53,L53) -> 1436708 | N53: =ROUND(M53,0) -> 1436708 | O53: =N53*D53 -> 1436708 | P53: =STDEVA(I53:L53) -> 164105.74 | Q53: =STDEVA(I53,J53,K53,H53,L53) -> 246812.36
A54: 12 | B54: Mantenimiento preventivo UPS Armenia TRIPP-LITE 10 Kva | C54: Unidad | D54: 1 | E54: 440300 | F54: 297500 | G54: 1650226 | H54: 1203124 | I54: 963395 | J54: 1067734 | K54: 785400 | M54: =AVERAGE(I54,J54,K54,G54,H54) -> 1133975.8 | N54: =ROUND(M54,0) -> 1133976 | O54: =N54*D54 -> 1133976 | P54: =STDEVA(I54:L54) -> 142759.32 | Q54: =STDEVA(I54,J54,K54,G54,H54) -> 326453.14
A55: 13 | B55: Mantenimiento preventivo UPS Popayán TRIPP-LITE 10kva | C55: Unidad | D55: 1 | E55: 440300 | F55: 297500 | G55: 1650226 | H55: 1722675 | I55: 1437063 | J55: 1067734 | K55: 692580 | L55: 1136637.8 | M55: =AVERAGE(I55,J55,K55,G55,H55,L55) -> 1284486 | N55: =ROUND(M55,0) -> 1284486 | O55: =N55*D55 -> 1284486 | P55: =STDEVA(I55:L55) -> 305994.25 | Q55: =STDEVA(I55,J55,K55,G55,H55,L55) -> 391981.71
A56: 14 | B56: Mantenimiento preventivo UPS Pasto TRIPP-LITE 10 KVA | C56: Unidad | D56: 1 | I56: 1636269 | J56: 1067734 | K56: 837760 | L56: 1215581.9 | M56: =AVERAGE(I56,J56,K56,L56) -> 1189336.2 | N56: =ROUND(M56,0) -> 1189336 | O56: =N56*D56 -> 1189336 | P56: =STDEVA(I56:L56) -> 336070.77 | Q56: =STDEVA(I56,J56,K56,L56) -> 336070.77
A57: 15 | B57: Mantenimiento preventivo UPS San Andrés Titan 6kva | C57: Unidad | D57: 1 | E57: 416500 | F57: 297500 | G57: 1813177 | H57: 3157221 | I57: 4135739 | J57: 5462642 | K57: 2094400 | L57: 1427037.7 | M57: =AVERAGE(K57,G57,L57) -> 1778204.9 | N57: =ROUND(M57,0) -> 1778205 | O57: =N57*D57 -> 1778205 | P57: =STDEVA(I57:L57) -> 1856100.9 | Q57: =STDEVA(K57,G57,L57) -> 335052.82
A58: 16 | B58: Adquisicion e instalacion de baterias UPS Bogotá -Álamos TRIPP-LITE 60kVA | C58: Unidad | D58: 40 | E58: 1582700 | F58: 10353000 | G58: 401625 | H58: 587190 | I58: 340642 | J58: 1074041 | K58: 354620 | M58: =AVERAGE(I58,J58,K58,G58,H58) -> 551623.6 | N58: =ROUND(M58,0) -> 551624 | O58: =N58*D58 -> 22064960 | P58: =STDEVA(I58:L58) -> 419451.24 | Q58: =STDEVA(I58,J58,K58,G58,H58) -> 308224
A59: 17 | B59: Adquisicion e instalacion de baterias UPS Bogotá -Álamos TRIPP-LITE 60kVA | C59: Unidad | D59: 40 | E59: 1582700 | F59: 10353000 | G59: 401625 | H59: 587190 | I59: 340642 | J59: 1074041 | K59: 354620 | M59: =AVERAGE(I59,J59,K59,G59,H59) -> 551623.6 | N59: =ROUND(M59,0) -> 551624 | O59: =N59*D59 -> 22064960 | P59: =STDEVA(I59:L59) -> 419451.24 | Q59: =STDEVA(I59,J59,K59,G59,H59) -> 308224
A60: 18 | B60: Adquisicion e instalacion de baterias UPS Medellin TITAN 10 KVA | C60: Unidad | D60: 20 | E60: 1035300 | F60: 3689000 | G60: 160650 | H60: 153388 | I60: 189199 | J60: 455122 | K60: 121380 | M60: =AVERAGE(I60,J60,K60,G60,H60) -> 215947.8 | N60: =ROUND(M60,0) -> 215948 | O60: =N60*D60 -> 4318960 | P60: =STDEVA(I60:L60) -> 176398.31 | Q60: =STDEVA(I60,J60,K60,G60,H60) -> 135862.47
A61: 19 | B61: Adquisicion e instalacion de baterias UPS Medellin TITAN 10 KVA | C61: Unidad | D61: 20 | E61: 1035300 | F61: 3689000 | G61: 160650 | H61: 153388 | I61: 189199 | J61: 455122 | K61: 121380 | M61: =AVERAGE(I61,J61,K61,G61,H61) -> 215947.8 | N61: =ROUND(M61,0) -> 215948 | O61: =N61*D61 -> 4318960 | P61: =STDEVA(I61:L61) -> 176398.31 | Q61: =STDEVA(I61,J61,K61,G61,H61) -> 135862.47
A62: 20 | B62: Adquisicion e instalacion de baterias UPS Medellin TITAN 10 KVA | C62: Unidad | D62: 20 | E62: 1035300 | F62: 3689000 | G62: 160650 | H62: 153388 | I62: 189199 | J62: 455122 | K62: 121380 | M62: =AVERAGE(I62,J62,K62,G62,H62) -> 215947.8 | N62: =ROUND(M62,0) -> 215948 | O62: =N62*D62 -> 4318960 | P62: =STDEVA(I62:L62) -> 176398.31 | Q62: =STDEVA(I62,J62,K62,G62,H62) -> 135862.47
A63: 21 | B63: Adquisicion e instalacion de baterias UPS Cucuta ENERGEX 10 Kva | C63: Unidad | D63: 40 | E63: 1035300 | F63: 3689000 | G63: 160650 | H63: 153388 | I63: 186154 | J63: 455122 | K63: 128520 | M63: =AVERAGE(I63,J63,K63,G63,H63) -> 216766.8 | N63: =ROUND(M63,0) -> 216767 | O63: =N63*D63 -> 8670680 | P63: =STDEVA(I63:L63) -> 174324.57 | Q63: =STDEVA(I63,J63,K63,G63,H63) -> 134818.22
A64: 22 | B64: Adquisicion e instalacion de baterias UPS Pasto TRIPP-LITE 10 KVA | C64: Unidad | D64: 20 | E64: 1035300 | F64: 3689000 | G64: 178500 | H64: 153388 | I64: 220740 | J64: 472734 | K64: 126140 | M64: =AVERAGE(I64,J64,K64,G64,H64) -> 230300.4 | N64: =ROUND(M64,0) -> 230300 | O64: =N64*D64 -> 4606000 | P64: =STDEVA(I64:L64) -> 179154.28 | Q64: =STDEVA(I64,J64,K64,G64,H64) -> 139922.87
A65: 23 | B65: Mantenimiento preventivo Aire Acondicionado Bogotá DANE CENTRAL BLUELINE 5 TR | C65: Unidad | D65: 3 | E65: 559300 | F65: 595000 | G65: 3272500 | H65: 516431 | I65: 1597458 | J65: 1000142 | K65: 825860 | M65: =AVERAGE(J65,K65,E65,F65,H65) -> 699346.6 | N65: =ROUND(M65,0) -> 699347 | O65: =N65*D65 -> 2098041 | P65: =STDEVA(I65:L65) -> 404665.31 | Q65: =STDEVA(J65,K65,E65,F65,G65) -> 1144434.4
A66: 24 | B66: Mantenimiento preventivo Aire Acondicionado Bogotá DANE CENTRAL YORK 36000 BTU | C66: Unidad | D66: 3 | E66: 511700 | F66: 476000 | G66: 937125 | H66: 516431 | I66: 1064973 | J66: 1270629 | K66: 825860 | M66: =AVERAGE(I66,J66,K66,E66,F66,G66,H66,L66) -> 800388.29 | N66: =ROUND(M66,0) -> 800388 | O66: =N66*D66 -> 2401164 | P66: =STDEVA(I66:L66) -> 222594.13 | Q66: =STDEVA(I66,J66,E66,F66) -> 398327.5
A67: 25 | B67: Mantenimiento preventivo Aire Acondicionado Bogotá DANE CENTRAL YORK 36000 BTU | C67: Unidad | D67: 3 | E67: 511700 | F67: 476000 | G67: 937125 | H67: 516431 | I67: 1064973 | J67: 1270629 | K67: 825860 | M67: =AVERAGE(I67,J67,K67,E67,F67,G67,H67,L67) -> 800388.29 | N67: =ROUND(M67,0) -> 800388 | O67: =N67*D67 -> 2401164 | P67: =STDEVA(I67:L67) -> 222594.13 | Q67: =STDEVA(I67,J67,E67,F67) -> 398327.5
A68: 26 | B68: Mantenimiento preventivo Aire Acondicionado Bogotá DANE CENTRAL YORK 36000 BTU | C68: Unidad | D68: 3 | E68: 511700 | F68: 476000 | G68: 937125 | H68: 21153216 | I68: 1064973 | J68: 1270629 | K68: 825860 | M68: =AVERAGE(I68,J68,K68,E68,F68,G68) -> 847714.5 | N68: =ROUND(M68,0) -> 847715 | O68: =N68*D68 -> 2543145 | P68: =STDEVA(I68:L68) -> 222594.13 | Q68: =STDEVA(I68,J68,E68,F68) -> 398327.5
A69: 27 | B69: Intervencion Condensadoras aires acondicionados YORK - DANE CENTRAL | C69: Unidad | D69: 1 | E69: 1190000 | F69: 952000 | G69: 5474000 | H69: 0 | I69: 10624320 | J69: 1540997 | K69: 19040000 | M69: =AVERAGE(I69,J69,E69,F69,G69) -> 3956263.4 | N69: =ROUND(M69,0) -> 3956263 | O69: =N69*D69 -> 3956263
B70: TOTAL MANTENIMIENTO PREVENTIVO | E70: =SUM((E43:E57))+SUM(E58*$D$58)+(E59*$D$59)+(E60*$D$60)+(E61*$D$61)+(E62*$D$62)+(E63*$D$63)+(E64*$D$64)+(E65*$D$65)+(E66*$D$66)+(E67*$D$67)+(E68*$D$68)+E69 -> 264620300 | F70: =SUM((F43:F57))+SUM(F58*$D$58)+(F59*$D$59)+(F60*$D$60)+(F61*$D$61)+(F62*$D$62)+(F63*$D$63)+(F64*$D$64)+(F65*$D$65)+(F66*$D$66)+(F67*$D$67)+(F68*$D$68)+F69 -> 1282677200 | G70: =SUM((G43:G57))+SUM(G58*$D$58)+(G59*$D$59)+(G60*$D$60)+(G61*$D$61)+(G62*$D$62)+(G63*$D$63)+(G64*$D$64)+(G65*$D$65)+(G66*$D$66)+(G67*$D$67)+(G68*$D$68)+G69 -> 102901377 | H70: =SUM((H43:H57))+SUM(H58*$D$58)+(H59*$D$59)+(H60*$D$60)+(H61*$D$61)+(H62*$D$62)+(H63*$D$63)+(H64*$D$64)+(H65*$D$65)+(H66*$D$66)+(H67*$D$67)+(H68*$D$68)+H69 -> 153093210 | I70: =SUM((I43:I57))+(I58*$D$58)+(I59*$D$59)+(I60*$D$60)+(I61*$D$61)+(I62*$D$62)+(I63*$D$63)+(I64*$D$64)+(I65*$D$65)+(I66*$D$66)+(I67*$D$67)+(I68*$D$68)+I69 -> 103404669 | J70: =SUM((J43:J57))+(J58*$D$58)+(J59*$D$59)+(J60*$D$60)+(J61*$D$61)+(J62*$D$62)+(J63*$D$63)+(J64*$D$64)+(J65*$D$65)+(J66*$D$66)+(J67*$D$67)+(J68*$D$68)+J69 -> 188029098 | K70: =SUM((K43:K57))+(K58*$D$58)+(K59*$D$59)+(K60*$D$60)+(K61*$D$61)+(K62*$D$62)+(K63*$D$63)+(K64*$D$64)+(K65*$D$65)+(K66*$D$66)+(K67*$D$67)+(K68*$D$68)+K69 -> 91275380 | L70: =SUM((L43:L57))+(L58*$D$58)+(L59*$D$59)+(L60*$D$60)+(L61*$D$61)+(L62*$D$62)+(L63*$D$63)+(L64*$D$64)+(L65*$D$65)+(L66*$D$66)+(L67*$D$67)+(L68*$D$68)+L69 -> 15317890 | O70: =SUM(O43:O69) -> 102824106
A71: 28 | B71: MANTENIMIENTO CORRECTIVO - BOLSA DE REPUESTOS LOTE 2 ($ incluido IVA)(No modificar este valor) | C71: GLOBAL | D71: 1 | E71: 29480519 | F71: 29480519 | G71: 29480519 | H71: 29480519 | I71: 29480519 | J71: 29480519 | K71: 29480519 | L71: 29480519 | M71: 29480519 | N71: =ROUND(M71,0) -> 29480519 | O71: =ROUND(N71,0) -> 29480519
A72: TOTAL LOTE 2 | E72: =SUM(E70:E71) -> 2.9410082e+08 | F72: =SUM(F70:F71) -> 1.3121577e+09 | G72: =SUM(G70:G71) -> 1.323819e+08 | H72: =SUM(H70:H71) -> 1.8257373e+08 | I72: =SUM(I70:I71) -> 1.3288519e+08 | J72: =SUM(J70:J71) -> 2.1750962e+08 | K72: =SUM(K70:K71) -> 1.207559e+08 | O72: =SUM(O70:O71) -> 132304625
B73: TOTAL | E73: =E72+E40 -> 4.4736341e+08 | F73: =F72+F40 -> 1.5664275e+09 | G73: =G72+G40 -> 2.958921e+08 | H73: =H72+H40 -> 3.0390057e+08 | I73: =I72+I40 -> 2.8277826e+08 | J73: =J72+J40 -> 1.5233627e+09 | K73: =K72+K40 -> 2.7770392e+08 | O73: =O72+O40 -> 253493153
B76: Observaciones: 1. Se dio inicio al proceso de estudio de mercado recibieron siete cotizaciones de las cuales 4 se presentaron de forma parcial para el proceso de UPS, y todas se presentaron para los dos lotes cuales cotizaron para los dos lotes 2, Se concidero en el proceso de analisis como historico los valores del contrato del año inmediatamente anterior generando el aumento del IPC 2. Se evaluaron las cotizaciones identificando valores atípicosy adicionalmente se calculó la desviación estándar considerando todas las cotizaciones y excluyendo los valores atípicos, se concluye que con todas las cotizaciones la desviación estándar aumenta y disminuye al excluirlos. 3. Respecto al valor relacionado con la bolsa de repuesto para los mantenimientos, en el estudio previo se relaciona el valor asignado de acuerdo con el incremento del IPC El presupuesto oficial estimado es de DOSCIENTOS CINCUENTA Y TRES MILLONES CUATROCIENTOS NOVENTA Y TRES MIL CIENTO CINCUENTA Y TRES PESOS ($ 253.596.088) M/CTE, INCLUIDO IVA
B79: Elaborado: Sandra Paola Murcia Murcia Revisado: Nelson Mauricio Parada Botia – Asesor Oficina Sistemas Aprobado: Luis Martín Barrera Pino

Sheet Hoja1
C3: LOTE 1
C4: MANTENIMIENTO PREVENTIVO | D4: =' GCO-040-PDT-002-f-016 (2)'!O38 -> 68861741
C5: MANTENIMIENTO CORRECTIVO | D5: =' GCO-040-PDT-002-f-016 (2)'!O39 -> 52326787
C6: TOTAL LOTE 1 | D6: =' GCO-040-PDT-002-f-016 (2)'!O40 -> 121188528
C7: LOTE 2
C8: MANTENIMIENTO PREVENTIVO | D8: =' GCO-040-PDT-002-f-016 (2)'!O70 -> 102824106
C9: MANTENIMIENTO CORRECTIVO | D9: =' GCO-040-PDT-002-f-016 (2)'!O71 -> 29480519
C10: TOTAL LOTE 2 | D10: =' GCO-040-PDT-002-f-016 (2)'!O72 -> 132304625
C11: TOTAL | D11: =' GCO-040-PDT-002-f-016 (2)'!O73 -> 253493153
C12: CDP | D12: 260000000
C13: FALTANTE | D13: =D11-D12 -> -6506847

Sheet Hoja2
D1: 0.051
C2: 1060575.4 | D2: =C2*$D$1 -> 54089.343 | E2: =C2+D2 -> 1114664.7
C3: 1375527.4 | D3: =C3*$D$1 -> 70151.895 | E3: =C3+D3 -> 1445679.3
C4: 1375529.3 | D4: =C4*$D$1 -> 70151.993 | E4: =C4+D4 -> 1445681.3
C5: 832559.04
C6: 832559.04 | D6: =C6*$D$1 -> 42460.511 | E6: =C6+D6 -> 875019.55
C7: 832559.04 | D7: =C7*$D$1 -> 42460.511 | E7: =C7+D7 -> 875019.55
C8: 1644385 | D8: =C8*$D$1 -> 83863.633 | E8: =C8+D8 -> 1728248.6
C10: 1203105.6 | D10: =C10*$D$1 -> 61358.386 | E10: =C10+D10 -> 1264464
C11: 1375505.3 | D11: =C11*$D$1 -> 70150.769 | E11: =C11+D11 -> 1445656
C12: 1278972.5 | D12: =C12*$D$1 -> 65227.596 | E12: =C12+D12 -> 1344200.1
C14: 1081482.2 | D14: =C14*$D$1 -> 55155.594 | E14: =C14+D14 -> 1136637.8
C15: 1156595.5 | D15: =C15*$D$1 -> 58986.372 | E15: =C15+D15 -> 1215581.9
C16: 1357790.4 | D16: =C16*$D$1 -> 69247.31 | E16: =C16+D16 -> 1427037.7
