Workbook

Sheet Resumen 
C5: DESCRIPCIÓN | D5: VALOR TOTAL
C6: =+#REF! -> 1. Campeonato de futbol categoría única | D6: =+'FINAL '!G18 -> 76678000
C7: =+#REF! -> 2. Campeonato de futbol categoria veteranos | D7: =+'FINAL '!G34 -> 44990400
C8: =+#REF! -> 3. Campeonato de banquitas | D8: =+'FINAL '!G50 -> 11907000
C9: =+#REF! -> 4. Campeonato de futbol categoria juvenil | D9: =+'FINAL '!G65 -> 26369000
C10: =+#REF! -> 5. Campeonato de baloncesto | D10: =+'FINAL '!G80 -> 12306000
C11: =+#REF! -> 6. Campeonato de billar pool | D11: =+'FINAL '!G94 -> 16408000
C12: =+#REF! -> 7. Campeonato de mini tejo | D12: =+'FINAL '!G109 -> 14915600
C13: =+#REF! -> 8. Campeonato de dominó | D13: =+'FINAL '!G122 -> 6216000
C14: =+#REF! -> 9. Campeonato de bolos criollos | D14: =+'FINAL '!G134 -> 7630000
C15: =+#REF! -> 10. Festival de cometas | D15: =+'FINAL '!G147 -> 14750000
C16: =+#REF! -> 11. Campeonato de microfútbol categoría única | D16: =+'FINAL '!G164 -> 37830400
C17: =+#REF! -> 12. Campeonato de microfútbol categoría femenino | D17: =+'FINAL '!G178 -> 18760000
C18: =+#REF! -> 13. Campeonato de microfútbol categoría veteranos | D18: =+'FINAL '!G191 -> 17990000
C19: =+#REF! -> 14. Campeonato de microfutbol infantil prejuvenil | D19: =+'FINAL '!G204 -> 14686000
C20: =+#REF! -> 15. Festival de patinaje | D20: =+'FINAL '!G217 -> 12630000
C21: =+#REF! -> 16. Ruta de ciclismo | D21: =+'FINAL '!G231 -> 16590000
C22: =+#REF! -> 17. Implementos deportivos levantamientos de pesas | D22: =+'FINAL '!G249 -> 7986000.4
C23: =+#REF! -> 18. pilas en la juega | D23: =+'FINAL '!G258 -> 9156000
C24: =+#REF! -> 19. Apoyo a actividades deportivas comunitarias | D24: =+'FINAL '!G266 -> 21609600
C25: =+#REF! -> 20. Implementos deportivos para los escenarios y actividades | D25: =+'FINAL '!G285 -> 19392000
C26: =+#REF! -> 21. Equipos y herramientas para mantenimiento de escenarios deportivos | D26: =+'FINAL '!G298 -> 19200000
C27: TOTAL | D27: =SUM(D6:D26) -> 4.28e+08
C29: DESCRIPCIÓN CONTRAPARTIDA | D29: VALOR TOTAL
C30: Coordinación general del convenio (Director o coordinador del proyecto, Supervisión y seguimiento de todas las actividades, Elaboración de informes técnicos y administrativos) | D30: =4000000*5 -> 20000000
C31: Comunicación y divulgación de las actividades ( Diseño de piezas publicitarias, Administración de redes sociales, Convocatorias, Registro fotográfico y audiovisual, Elaboración de memorias. | D31: 21000000
C32: Papeleria y elementos de oficina ( Formatos de inscripción de participantes y equipos. Listados de asistencia de deportistas, entrenadores y asistentes. Elaboración e impresión de actas de reuniones y de entrega de implementos, Formatos de control de préstamo y devolución de elementos deportivos, Planillas de programación y control de competencias, Actas de premiación y entrega de incentivos, Certificados de participación, Carpetas para el archivo y organización documental del convenio, Hojas, lapiceros, marcadores, carpetas, ganchos, cintas, tóner y demás insumos de oficina requeridos durante la ejecución. | D32: 3000000
C33: Servicio de transporte destinado al desplazamiento del personal encargado de la supervisión, coordinación y seguimiento de las actividades programadas en el convenio, con el fin de verificar la correcta ejecución de las jornadas deportivas, la entrega de suministros, el cumplimiento del cronograma, el acompañamiento al personal de apoyo y la recolección de evidencias documentales y fotográficas para los informes de ejecución. | D33: 3555556
D34: =SUM(D30:D33) -> 47555556

Sheet FINAL 
B3: PRESUPUESTO MT-CON-RECO-001-2026.
B4: AUNAR ESFUERZOS TÉCNICOS, ADMINISTRATIVOS, FINANCIEROS Y LOGÍSTICOS, PARA REALIZAR ACCIONES QUE PROMUEVA PRÁCTICAS DEPORTIVAS Y RECREATIVAS QUE CONTRIBUYEN AL APROVECHAMIENTO DEL TIEMPO LIBRE Y A MEJORAR LA CALIDAD DE VIDA DE TODA LA POBLACIÓN DEL MUNICIPIO DE EL TARRA NORTE DE SANTANDER.
B5: 1. Campeonato de futbol categoría única
B6: ITEM | C6: NOMBRE DEL PRODUCTO | D6: UNIDAD | E6: CANT | F6: VALOR UNITARIO | G6: VALOR TOTAL
B7: 1 | C7: Entrega de Kit de incentivos deportivos para equipo, primer, segundo, tercer, cuarto puesto, goleador y mejor arquero (ej. balones, tulas, cronómetros, indumentaria técnica, etc.) según especificación del Anexo Técnico y/o Bono Redimible exclusivo para Implementación Deportiva de Características Técnicas. | D7: GLOBAL | E7: 1 | F7: 14000000 | G7: =E7*F7 -> 14000000
B8: 2 | C8: Entrega de trofeos para los cuatro primeros lugares de la competencia (primer, segundo, tercer y cuarto puesto), así como distinciones individuales orientadas a reconocer el rendimiento técnico y la disciplina, las cuales incluirán los galardones al máximo goleador, a la valla menos vencida (mejor arquero). | D8: GLOBAL | E8: 1 | F8: 1960000 | G8: =E8*F8 -> 1960000
B9: 3 | C9: Entrega de medallas de reconocimiento deportivo, incluye cintas de colores institucionales del municipio y/o logos del evento | D9: UNIDAD | E9: 80 | F9: 14000 | G9: =E9*F9 -> 1120000
B10: 4 | C10: Servicio integral de juzgamiento y arbitraje deportivo calificado por partido (incluye terna arbitral según reglamento oficial de la disciplina) | D10: PARTIDOS | E10: 110 | F10: 252000 | G10: =E10*F10 -> 27720000
B11: 5 | C11: Balón Futbol Vento Quality Pro Nro.5 | D11: UNIDAD | E11: 10 | F11: 310800 | G11: =E11*F11 -> 3108000
B12: 6 | C12: Entrega de Uniforme de competencia: camiseta tipo pro labrada manga corta con pantaloneta impermeable y medías licradas. Destinados para los cuartos de final. | D12: UNIDAD | E12: 162 | F12: 105000 | G12: =E12*F12 -> 17010000
B13: 7 | C13: Entrega de Mallas Fútbol 11: 7,5 metros *2,5 metros | D13: PARES | E13: 2 | F13: 420000 | G13: =E13*F13 -> 840000
B14: 8 | C14: servicio de personal logístico de campo para la asistencia y dinamización de encuentros deportivos (Recoge pelotas) | D14: GLOBAL | E14: 1 | F14: 2720000 | G14: =E14*F14 -> 2720000
B15: 9 | C15: Servicio integral de logística, sonido y decoración para el acto de clausura | D15: GLOBAL | E15: 1 | F15: 3000000 | G15: =E15*F15 -> 3000000
B16: 10 | C16: servicio de Mantenimiento y demarcación reglamentaria de canchas para el desarrollo de las jornadas deportivas | D16: GLOBAL | E16: 1 | F16: 1700000 | G16: =E16*F16 -> 1700000
B17: 11 | C17: personal logístico para el control técnico y registro de planillas de juego | D17: GLOBAL | E17: 1 | F17: 3500000 | G17: =E17*F17 -> 3500000
B18: Subtotal | G18: =SUM(G7:G17) -> 76678000
B19: Nota: Duración del campeonato 4 meses, Se contempla la participación de 30 equipos
B23: 2. Campeonato de futbol categoria veteranos
B24: ITEM | C24: NOMBRE DEL PRODUCTO | D24: UNIDAD | E24: CANT | F24: VALOR UNITARIO | G24: VALOR TOTAL
B25: 1 | C25: Entrega de Kit de incentivos deportivos para equipo, primer, segundo, tercer, cuarto puesto, goleador y mejor arquero (ej. balones, tulas, cronómetros, indumentaria técnica, etc.) según especificación del Anexo Técnico y/o Bono Redimible exclusivo para Implementación Deportiva de Características Técnicas. | D25: GLOBAL | E25: 1 | F25: 13000000 | G25: =E25*F25 -> 13000000
B26: 2 | C26: Entrega de trofeos para los cuatro primeros lugares de la competencia (primer, segundo, tercer y cuarto puesto), así como distinciones individuales orientadas a reconocer el rendimiento técnico y la disciplina, las cuales incluirán los galardones al máximo goleador, a la valla menos vencida (mejor arquero). | D26: GLOBAL | E26: 1 | F26: 1960000 | G26: =E26*F26 -> 1960000
B27: 3 | C27: Entrega de medallas de reconocimiento deportivo, incluye cintas de colores institucionales del municipio y/o logos del evento | D27: UNIDAD | E27: 80 | F27: 14000 | G27: =E27*F27 -> 1120000
B28: 4 | C28: Servicio integral de juzgamiento y arbitraje deportivo calificado por partido (incluye terna arbitral según reglamento oficial de la disciplina) | D28: PARTIDOS | E28: 60 | F28: 252000 | G28: =E28*F28 -> 15120000
B29: 5 | C29: Entrega de Balón Futbol Vento Quality Pro Nro.5 | D29: UNIDAD | E29: 3 | F29: 310800 | G29: =E29*F29 -> 932400
B30: 6 | C30: Entrega de Uniforme de competencia: camiseta tipo pro labrada manga corta con pantaloneta impermeable y medias licradas. Destinados para semifinal. | D30: UNIDAD | E30: 90 | F30: 105000 | G30: =E30*F30 -> 9450000
B31: 7 | C31: servicio de Personal logístico de campo para la asistencia y dinamización de encuentros deportivos (Recoge pelotas) | D31: GLOBAL | E31: 1 | F31: 1708000 | G31: =E31*F31 -> 1708000
B32: 8 | C32: Mantenimiento y demarcación reglamentaria de canchas para el desarrollo de las jornadas deportivas | D32: GLOBAL | E32: 1 | F32: 700000 | G32: =E32*F32 -> 700000
B33: 9 | C33: servicio de personal logístico para el control técnico y registro de planillas de juego | D33: GLOBAL | E33: 1 | F33: 1000000 | G33: =E33*F33 -> 1000000
B34: Subtotal | G34: =SUM(G25:G33) -> 44990400
B35: Nota: Duración del campeonato 4 meses
B38: 3. Campeonato de banquitas
B39: ITEM | C39: NOMBRE DEL PRODUCTO | D39: UNIDAD | E39: CANT | F39: VALOR UNITARIO | G39: VALOR TOTAL
B40: 1 | C40: Entrega de Kit de incentivos deportivos para equipo, primer, segundo, tercer, cuarto puesto, goleador y mejor arquero (ej. balones, tulas, cronómetros, indumentaria técnica, etc.) según especificación del Anexo Técnico y/o Bono Redimible exclusivo para Implementación Deportiva de características técnicas. | D40: GLOBAL | E40: 1 | F40: 5320000 | G40: =E40*F40 -> 5320000
B41: 2 | C41: servicio de Marcacion de las canchas en los barrios o asentamientos, donde se ejecute el campeonato | D41: GLOBAL | E41: 1 | F41: 210000 | G41: =E41*F41 -> 210000
B42: 3 | C42: Transporte para traslado de arquerías a los barrios o asentamientos. | D42: GLOBAL | E42: 1 | F42: 210000 | G42: =E42*F42 -> 210000
B43: 4 | C43: Entrega de Uniforme de competencia: camiseta tipo pro labrada manga corta con pantaloneta impermeable y medías licradas. Destinados para el equipo campeón | D43: UNIDAD | E43: 5 | F43: 105000 | G43: =E43*F43 -> 525000
B44: 5 | C44: Entrega de trofeos para los cuatro primeros lugares de la competencia (primer, segundo, tercer y cuarto puesto), así como al jugador más destacado del campeonato | D44: GLOBAL | E44: 1 | F44: 1400000 | G44: =E44*F44 -> 1400000
B45: 6 | C45: Entrega de servicio de personal logístico para el control técnico y registro de planillas de juego | D45: GLOBAL | E45: 1 | F45: 504000 | G45: =E45*F45 -> 504000
B46: 7 | C46: Personal logístico de campo para la asistencia y dinamización de encuentros deportivos (Recoge pelotas) | D46: GLOBAL | E46: 1 | F46: 448000 | G46: =E46*F46 -> 448000
B47: 8 | C47: Servicio integral de juzgamiento y arbitraje deportivo calificado por partido | D47: PARTIDOS | E47: 80 | F47: 28000 | G47: =E47*F47 -> 2240000
B48: 9 | C48: Servicio integral de logística, sonido y decoración para el acto de clausura | D48: GLOBAL | E48: 1 | F48: 700000 | G48: =E48*F48 -> 700000
B49: 10 | C49: Entrega de medallas de reconocimiento deportivo, incluye cintas de colores institucionales del municipio y/o logos del evento | D49: UNIDAD | E49: 25 | F49: 14000 | G49: =E49*F49 -> 350000
B50: Subtotal | G50: =SUM(G40:G49) -> 11907000
B51: Nota: Duración del campeonato 2 meses. Se proyecta la participación de 25 equipos
B55: 4. Campeonato de futbol categoria juvenil
B56: ITEM | C56: NOMBRE DEL PRODUCTO | D56: UNIDAD | E56: CANT | F56: VALOR UNITARIO | G56: VALOR TOTAL
B57: 1 | C57: Entrega de Kit de incentivos deportivos para equipo, primer, segundo, tercer, cuarto puesto, goleador y mejor arquero (ej. balones, tulas, cronómetros, indumentaria técnica, etc.) según especificación del Anexo Técnico y/o Bono Redimible exclusivo para Implementación Deportiva de características técnicas. | D57: GLOBAL | E57: 1 | F57: 7630000 | G57: =E57*F57 -> 7630000
B58: 2 | C58: Entrega de Uniforme de competencia: camiseta tipo pro labrada manga corta con pantaloneta impermeable y medias licradas. Destinados para equipo campeón | D58: UNIDAD | E58: 15 | F58: 105000 | G58: =E58*F58 -> 1575000
B59: 3 | C59: Entrega de trofeos para los cuatro primeros lugares de la competencia (primer, segundo, tercer y cuarto puesto), así como distinciones individuales orientadas a reconocer el rendimiento técnico y la disciplina, las cuales incluirán los galardones al máximo goleador, a la valla menos vencida (mejor arquero). | D59: GLOBAL | E59: 1 | F59: 1960000 | G59: =E59*F59 -> 1960000
B60: 4 | C60: Servicio integral de juzgamiento y arbitraje deportivo calificado por partido (incluye terna arbitral según reglamento oficial de la disciplina) | D60: PARTIDOS | E60: 49 | F60: 252000 | G60: =E60*F60 -> 12348000
B61: 5 | C61: Servicio integral de logística, sonido y decoración para el acto de clausura | D61: GLOBAL | E61: 1 | F61: 700000 | G61: =E61*F61 -> 700000
B62: 6 | C62: Personal logístico de campo para la asistencia y dinamización de encuentros deportivos (Recoge pelotas) | D62: GLOBAL | E62: 1 | F62: 560000 | G62: =E62*F62 -> 560000
B63: 7 | C63: personal logístico para el control técnico y registro de planillas de juego | D63: GLOBAL | E63: 1 | F63: 700000 | G63: =E63*F63 -> 700000
B64: 8 | C64: Entrega de medallas de reconocimiento deportivo, incluye cintas de colores institucionales del municipio y/o logos del evento | D64: UNIDAD | E64: 64 | F64: 14000 | G64: =E64*F64 -> 896000
B65: Subtotal | G65: =SUM(G57:G64) -> 26369000
B66: Nota: Duración del campeonato, 2 meses. Se proyecta la participación de 10 equipos
B70: 5. Campeonato de baloncesto
B71: ITEM | C71: NOMBRE DEL PRODUCTO | D71: UNIDAD | E71: CANT | F71: VALOR UNITARIO | G71: VALOR TOTAL
B72: 1 | C72: Entrega de Kit de incentivos deportivos para equipo, primer, segundo, tercer, cuarto puesto, (ej. balones, tulas, cronómetros, indumentaria técnica, etc.) según especificación del Anexo Técnico y/o Bono Redimible exclusivo para Implementación Deportiva de características técnicas. | D72: GLOBAL | E72: 1 | F72: 6160000 | G72: =E72*F72 -> 6160000
B73: 2 | C73: Entrega de Uniformes: Camisa ancha sin mangas y pantaloneta holgada en tela fresca, con diseño personalizado que incluye números y logos. Para equipo ganador | D73: UNIDAD | E73: 10 | F73: 105000 | G73: =E73*F73 -> 1050000
B74: 3 | C74: Entrega de trofeos para los cuatro primeros lugares de la competencia (primer, segundo, tercer y cuarto puesto). | D74: GLOBAL | E74: 1 | F74: 1120000 | G74: =E74*F74 -> 1120000
B75: 4 | C75: Entrega de Balon de Baloncesto Golty Profesional Laminado #7 | D75: UNIDAD | E75: 3 | F75: 280000 | G75: =E75*F75 -> 840000
B76: 5 | C76: Servicio integral de juzgamiento y arbitraje deportivo calificado por partido (según reglamento oficial de la disciplina) | D76: PARTIDOS | E76: 35 | F76: 42000 | G76: =E76*F76 -> 1470000
B77: 6 | C77: servicio de personal logístico para el control técnico y registro de planillas de juego | D77: GLOBAL | E77: 1 | F77: 378000 | G77: =E77*F77 -> 378000
B78: 7 | C78: Servicio integral de logística, sonido y decoración para el acto de clausura | D78: GLOBAL | E78: 1 | F78: 700000 | G78: =E78*F78 -> 700000
B79: 8 | C79: Entrega de medallas de reconocimiento deportivo, incluye cintas de colores institucionales del municipio y/o logos del evento | D79: UNIDAD | E79: 42 | F79: 14000 | G79: =E79*F79 -> 588000
B80: Subtotal | G80: =SUM(G72:G79) -> 12306000
B81: Nota: Duración del campeonato, 2 meses. Se proyecta la participación de 10 equipos
B85: 6. Campeonato de billar pool
B86: ITEM | C86: NOMBRE DEL PRODUCTO | D86: UNIDAD | E86: CANT | F86: VALOR UNITARIO | G86: VALOR TOTAL
B87: 1 | C87: Entrega de Kit de incentivos deportivos para equipo, primer, segundo, tercer, cuarto puesto, según especificación del Anexo Técnico y/o Bono Redimible exclusivo para Implementación Deportiva de características técnicas. | D87: UNIDAD | E87: 1 | F87: 5320000 | G87: =E87*F87 -> 5320000
B88: 2 | C88: Entrega de Uniforme: camiseta tipo pro labrada manga corta . Destinados a los finalistas que pasen a octavos de final | D88: UNIDAD | E88: 18 | F88: 56000 | G88: =E88*F88 -> 1008000
B89: 3 | C89: Entrega de trofeos para los cuatro primeros lugares de la competencia (primer, segundo, tercer y cuarto puesto). | D89: GLOBAL | E89: 1 | F89: 1120000 | G89: =E89*F89 -> 1120000
B90: 4 | C90: Servicio integral de juzgamiento y arbitraje deportivo calificado por partido (incluye dupla arbitral según reglamento oficial de la disciplina) | D90: PARTIDOS | E90: 80 | F90: 32200 | G90: =E90*F90 -> 2576000
B91: 5 | C91: Servicio integral de logística, sonido y decoración durante la ejecución del campeonato | D91: GLOBAL | E91: 1 | F91: 2100000 | G91: =E91*F91 -> 2100000
B92: 6 | C92: servicio de dos (2) mesas de billar pool, con set de tacos. Incluye alquiler e instalación de paños, transporte, mano de obra para instalación y desinstalación | D92: GLOBAL | E92: 1 | F92: 4200000 | G92: =E92*F92 -> 4200000
B93: 7 | C93: Entrega de medallas de reconocimiento deportivo, incluye cintas de colores institucionales del municipio y/o logos del evento | D93: UNIDAD | E93: 6 | F93: 14000 | G93: =E93*F93 -> 84000
B94: Subtotal | G94: =SUM(G87:G93) -> 16408000
B95: Nota: Duración del campeonato 4 dias. Lugar: Polideportivo San Rafael. Se proyecta la participación de 110 participantes
B99: 7. Campeonato de mini tejo
B100: ITEM | C100: NOMBRE DEL PRODUCTO | D100: UNIDAD | E100: CANT | F100: VALOR UNITARIO | G100: VALOR TOTAL
B101: 1 | C101: Entrega de Kit de incentivos deportivos para equipo, primer, segundo, tercer, cuarto puesto, según especificación del Anexo Técnico y/o Bono Redimible exclusivo para Implementación Deportiva de características técnicas. | D101: GLOBAL | E101: 1 | F101: 5320000 | G101: =E101*F101 -> 5320000
B102: 2 | C102: Entrega de Uniforme de competencia: camiseta tipo pro labrada manga corta. | D102: UNIDAD | E102: 75 | F102: 56000 | G102: =E102*F102 -> 4200000
B103: 3 | C103: Entrega de trofeos para los cuatro primeros lugares de la competencia (primer, segundo, tercer y cuarto puesto). | D103: GLOBAL | E103: 1 | F103: 1120000 | G103: =E103*F103 -> 1120000
B104: 4 | C104: servicio de mantenimiento, cuidado y administración de tres canchas, durante la ejecución del campeonato | D104: GLOBAL | E104: 1 | F104: 420000 | G104: =E104*F104 -> 420000
B105: 5 | C105: Servicio integral de juzgamiento y arbitraje deportivo calificado por partido (según reglamento oficial de la disciplina) | D105: PARTIDOS | E105: 60 | F105: 30380 | G105: =E105*F105 -> 1822800
B106: 6 | C106: Alquiler de canchas de minitejo, puestas en sitio | D106: UNIDAD | E106: 3 | F106: 537600 | G106: =E106*F106 -> 1612800
B107: 7 | C107: mechas y barro para tres canchas de minitejo | D107: GLOBAL | E107: 1 | F107: 140000 | G107: =E107*F107 -> 140000
B108: 8 | C108: Entrega de medallas de reconocimiento deportivo, incluye cintas de colores institucionales del municipio y/o logos del evento | D108: UNIDAD | E108: 20 | F108: 14000 | G108: =E108*F108 -> 280000
B109: Subtotal | G109: =SUM(G101:G108) -> 14915600
B110: Nota: Duración del campeonato 3 dias, se proyecta la participación de 25 equipos
B114: 8. Campeonato de dominó
B115: ITEM | C115: NOMBRE DEL PRODUCTO | D115: UNIDAD | E115: CANT | F115: VALOR UNITARIO | G115: VALOR TOTAL
B116: 1 | C116: Entrega de Kit de incentivos deportivos para equipo, primer, segundo, tercer, cuarto puesto, según especificación del Anexo Técnico y/o Bono Redimible exclusivo para Implementación Deportiva de características técnicas. | D116: GLOBAL | E116: 1 | F116: 3360000 | G116: =E116*F116 -> 3360000
B117: 2 | C117: Entrega de trofeos para los cuatro primeros lugares de la competencia (primer, segundo, tercer y cuarto puesto). | D117: GLOBAL | E117: 1 | F117: 1120000 | G117: =E117*F117 -> 1120000
B118: 3 | C118: Entrega de juego de dominó de 28 piezas | D118: UNIDAD | E118: 2 | F118: 42000 | G118: =E118*F118 -> 84000
B119: 4 | C119: Entrega de servicio de mesas multijuego y sillas | D119: GLOBAL | E119: 1 | F119: 392000 | G119: =E119*F119 -> 392000
B120: 5 | C120: Servicio integral de juzgamiento y arbitraje deportivo calificado por partido (según reglamento oficial de la disciplina) | D120: PARTIDOS | E120: 40 | F120: 28000 | G120: =E120*F120 -> 1120000
B121: 6 | C121: Entrega de medallas de reconocimiento deportivo, incluye cintas de colores institucionales del municipio y/o logos del evento | D121: UNIDAD | E121: 10 | F121: 14000 | G121: =E121*F121 -> 140000
B122: Subtotal | G122: =SUM(G116:G121) -> 6216000
...
