Workbook

Sheet Resumen 
C5: DESCRIPCIÓN | D5: VALOR TOTAL
C6: =+#REF! -> 1. Campeonato de futbol categoría única | D6: =+'FINAL '!G18 -> 76678000
C7: =+#REF! -> 2. Campeonato de futbol categoria veteranos | D7: =+'FINAL '!G34 -> 44990400
C8: =+#REF! -> 3. Campeonato de banquitas | D8: =+'FINAL '!G50 -> 11907000
C9: =+#REF! -> 4. Campeonato de futbol categoria juvenil | D9: =+'FINAL '!G65 -> 26369000
C10: =+#REF! -> 5. Campeonato de baloncesto | D10: =+'FINAL '!G80 -> 12306000
C11: =+#REF! -> 6. Campeonato de billar pool | D11: =+'FINAL '!G94 -> 16408000
C12: =+#REF! -> 7. Campeonato de mini tejo | D12: =+'FINAL '!G109 -> 14915600
C13: =+#REF! -> 8. Campeonato de dominó | D13: =+'FINAL '!G122 -> 6216000
C14: =+#REF! -> 9. Campeonato de bolos criollos | D14: =+'FINAL '!G134 -> 7630000
C15: =+#REF! -> 10. Festival de cometas | D15: =+'FINAL '!G147 -> 14750000
C16: =+#REF! -> 11. Campeonato de microfútbol categoría única | D16: =+'FINAL '!G164 -> 37830400
C17: =+#REF! -> 12. Campeonato de microfútbol categoría femenino | D17: =+'FINAL '!G178 -> 18760000
C18: =+#REF! -> 13. Campeonato de microfútbol categoría veteranos | D18: =+'FINAL '!G191 -> 17990000
C19: =+#REF! -> 14. Campeonato de microfutbol infantil prejuvenil | D19: =+'FINAL '!G204 -> 14686000
C20: =+#REF! -> 15. Festival de patinaje | D20: =+'FINAL '!G217 -> 12630000
C21: =+#REF! -> 16. Ruta de ciclismo | D21: =+'FINAL '!G231 -> 16590000
C22: =+#REF! -> 17. Implementos deportivos levantamientos de pesas | D22: =+'FINAL '!G249 -> 7986000.4
C23: =+#REF! -> 18. pilas en la juega | D23: =+'FINAL '!G258 -> 9156000
C24: =+#REF! -> 19. Apoyo a actividades deportivas comunitarias | D24: =+'FINAL '!G266 -> 21609600
C25: =+#REF! -> 20. Implementos deportivos para los escenarios y actividades | D25: =+'FINAL '!G285 -> 19392000
C26: =+#REF! -> 21. Equipos y herramientas para mantenimiento de escenarios deportivos | D26: =+'FINAL '!G298 -> 19200000
C27: TOTAL | D27: =SUM(D6:D26) -> 4.28e+08
C29: DESCRIPCIÓN CONTRAPARTIDA | D29: VALOR TOTAL
C30: Coordinación general del convenio (Director o coordinador del proyecto, Supervisión y seguimiento de todas las actividades, Elaboración de informes técnicos y administrativos) | D30: =4000000*5 -> 20000000
C31: Comunicación y divulgación de las actividades ( Diseño de piezas publicitarias, Administración de redes sociales, Convocatorias, Registro fotográfico y audiovisual, Elaboración de memorias. | D31: 21000000
C32: Papeleria y elementos de oficina ( Formatos de inscripción de participantes y equipos. Listados de asistencia de deportistas, entrenadores y asistentes. Elaboración e impresión de actas de reuniones y de entrega de implementos, Formatos de control de préstamo y devolución de elementos deportivos, Planillas de programación y control de competencias, Actas de premiación y entrega de incentivos, Certificados de participación, Carpetas para el archivo y organización documental del convenio, Hojas, lapiceros, marcadores, carpetas, ganchos, cintas, tóner y demás insumos de oficina requeridos durante la ejecución. | D32: 3000000
C33: Servicio de transporte destinado al desplazamiento del personal encargado de la supervisión, coordinación y seguimiento de las actividades programadas en el convenio, con el fin de verificar la correcta ejecución de las jornadas deportivas, la entrega de suministros, el cumplimiento del cronograma, el acompañamiento al personal de apoyo y la recolección de evidencias documentales y fotográficas para los informes de ejecución. | D33: 3555556
D34: =SUM(D30:D33) -> 47555556

Sheet FINAL 
B3: PRESUPUESTO MT-CON-RECO-001-2026.
B4: AUNAR ESFUERZOS TÉCNICOS, ADMINISTRATIVOS, FINANCIEROS Y LOGÍSTICOS, PARA REALIZAR ACCIONES QUE PROMUEVA PRÁCTICAS DEPORTIVAS Y RECREATIVAS QUE CONTRIBUYEN AL APROVECHAMIENTO DEL TIEMPO LIBRE Y A MEJORAR LA CALIDAD DE VIDA DE TODA LA POBLACIÓN DEL MUNICIPIO DE EL TARRA NORTE DE SANTANDER.
B5: 1. Campeonato de futbol categoría única
B6: ITEM | C6: NOMBRE DEL PRODUCTO | D6: UNIDAD | E6: CANT | F6: VALOR UNITARIO | G6: VALOR TOTAL
B7: 1 | C7: Entrega de Kit de incentivos deportivos para equipo, primer, segundo, tercer, cuarto puesto, goleador y mejor arquero (ej. balones, tulas, cronómetros, indumentaria técnica, etc.) según especificación del Anexo Técnico y/o Bono Redimible exclusivo para Implementación Deportiva de Características Técnicas. | D7: GLOBAL | E7: 1 | F7: 14000000 | G7: =E7*F7 -> 14000000
B8: 2 | C8: Entrega de trofeos para los cuatro primeros lugares de la competencia (primer, segundo, tercer y cuarto puesto), así como distinciones individuales orientadas a reconocer el rendimiento técnico y la disciplina, las cuales incluirán los galardones al máximo goleador, a la valla menos vencida (mejor arquero). | D8: GLOBAL | E8: 1 | F8: 1960000 | G8: =E8*F8 -> 1960000
B9: 3 | C9: Entrega de medallas de reconocimiento deportivo, incluye cintas de colores institucionales del municipio y/o logos del evento | D9: UNIDAD | E9: 80 | F9: 14000 | G9: =E9*F9 -> 1120000
B10: 4 | C10: Servicio integral de juzgamiento y arbitraje deportivo calificado por partido (incluye terna arbitral según reglamento oficial de la disciplina) | D10: PARTIDOS | E10: 110 | F10: 252000 | G10: =E10*F10 -> 27720000
B11: 5 | C11: Balón Futbol Vento Quality Pro Nro.5 | D11: UNIDAD | E11: 10 | F11: 310800 | G11: =E11*F11 -> 3108000
B12: 6 | C12: Entrega de Uniforme de competencia: camiseta tipo pro labrada manga corta con pantaloneta impermeable y medías licradas. Destinados para los cuartos de final. | D12: UNIDAD | E12: 162 | F12: 105000 | G12: =E12*F12 -> 17010000
B13: 7 | C13: Entrega de Mallas Fútbol 11: 7,5 metros *2,5 metros | D13: PARES | E13: 2 | F13: 420000 | G13: =E13*F13 -> 840000
B14: 8 | C14: servicio de personal logístico de campo para la asistencia y dinamización de encuentros deportivos (Recoge pelotas) | D14: GLOBAL | E14: 1 | F14: 2720000 | G14: =E14*F14 -> 2720000
B15: 9 | C15: Servicio integral de logística, sonido y decoración para el acto de clausura | D15: GLOBAL | E15: 1 | F15: 3000000 | G15: =E15*F15 -> 3000000
B16: 10 | C16: servicio de Mantenimiento y demarcación reglamentaria de canchas para el desarrollo de las jornadas deportivas | D16: GLOBAL | E16: 1 | F16: 1700000 | G16: =E16*F16 -> 1700000
B17: 11 | C17: personal logístico para el control técnico y registro de planillas de juego | D17: GLOBAL | E17: 1 | F17: 3500000 | G17: =E17*F17 -> 3500000
B18: Subtotal | G18: =SUM(G7:G17) -> 76678000
B19: Nota: Duración del campeonato 4 meses, Se contempla la participación de 30 equipos
B23: 2. Campeonato de futbol categoria veteranos
B24: ITEM | C24: NOMBRE DEL PRODUCTO | D24: UNIDAD | E24: CANT | F24: VALOR UNITARIO | G24: VALOR TOTAL
B25: 1 | C25: Entrega de Kit de incentivos deportivos para equipo, primer, segundo, tercer, cuarto puesto, goleador y mejor arquero (ej. balones, tulas, cronómetros, indumentaria técnica, etc.) según especificación del Anexo Técnico y/o Bono Redimible exclusivo para Implementación Deportiva de Características Técnicas. | D25: GLOBAL | E25: 1 | F25: 13000000 | G25: =E25*F25 -> 13000000
B26: 2 | C26: Entrega de trofeos para los cuatro primeros lugares de la competencia (primer, segundo, tercer y cuarto puesto), así como distinciones individuales orientadas a reconocer el rendimiento técnico y la disciplina, las cuales incluirán los galardones al máximo goleador, a la valla menos vencida (mejor arquero). | D26: GLOBAL | E26: 1 | F26: 1960000 | G26: =E26*F26 -> 1960000
B27: 3 | C27: Entrega de medallas de reconocimiento deportivo, incluye cintas de colores institucionales del municipio y/o logos del evento | D27: UNIDAD | E27: 80 | F27: 14000 | G27: =E27*F27 -> 1120000
B28: 4 | C28: Servicio integral de juzgamiento y arbitraje deportivo calificado por partido (incluye terna arbitral según reglamento oficial de la disciplina) | D28: PARTIDOS | E28: 60 | F28: 252000 | G28: =E28*F28 -> 15120000
B29: 5 | C29: Entrega de Balón Futbol Vento Quality Pro Nro.5 | D29: UNIDAD | E29: 3 | F29: 310800 | G29: =E29*F29 -> 932400
B30: 6 | C30: Entrega de Uniforme de competencia: camiseta tipo pro labrada manga corta con pantaloneta impermeable y medias licradas. Destinados para semifinal. | D30: UNIDAD | E30: 90 | F30: 105000 | G30: =E30*F30 -> 9450000
B31: 7 | C31: servicio de Personal logístico de campo para la asistencia y dinamización de encuentros deportivos (Recoge pelotas) | D31: GLOBAL | E31: 1 | F31: 1708000 | G31: =E31*F31 -> 1708000
B32: 8 | C32: Mantenimiento y demarcación reglamentaria de canchas para el desarrollo de las jornadas deportivas | D32: GLOBAL | E32: 1 | F32: 700000 | G32: =E32*F32 -> 700000
B33: 9 | C33: servicio de personal logístico para el control técnico y registro de planillas de juego | D33: GLOBAL | E33: 1 | F33: 1000000 | G33: =E33*F33 -> 1000000
B34: Subtotal | G34: =SUM(G25:G33) -> 44990400
B35: Nota: Duración del campeonato 4 meses
B38: 3. Campeonato de banquitas
B39: ITEM | C39: NOMBRE DEL PRODUCTO | D39: UNIDAD | E39: CANT | F39: VALOR UNITARIO | G39: VALOR TOTAL
B40: 1 | C40: Entrega de Kit de incentivos deportivos para equipo, primer, segundo, tercer, cuarto puesto, goleador y mejor arquero (ej. balones, tulas, cronómetros, indumentaria técnica, etc.) según especificación del Anexo Técnico y/o Bono Redimible exclusivo para Implementación Deportiva de características técnicas. | D40: GLOBAL | E40: 1 | F40: 5320000 | G40: =E40*F40 -> 5320000
B41: 2 | C41: servicio de Marcacion de las canchas en los barrios o asentamientos, donde se ejecute el campeonato | D41: GLOBAL | E41: 1 | F41: 210000 | G41: =E41*F41 -> 210000
B42: 3 | C42: Transporte para traslado de arquerías a los barrios o asentamientos. | D42: GLOBAL | E42: 1 | F42: 210000 | G42: =E42*F42 -> 210000
B43: 4 | C43: Entrega de Uniforme de competencia: camiseta tipo pro labrada manga corta con pantaloneta impermeable y medías licradas. Destinados para el equipo campeón | D43: UNIDAD | E43: 5 | F43: 105000 | G43: =E43*F43 -> 525000
B44: 5 | C44: Entrega de trofeos para los cuatro primeros lugares de la competencia (primer, segundo, tercer y cuarto puesto), así como al jugador más destacado del campeonato | D44: GLOBAL | E44: 1 | F44: 1400000 | G44: =E44*F44 -> 1400000
B45: 6 | C45: Entrega de servicio de personal logístico para el control técnico y registro de planillas de juego | D45: GLOBAL | E45: 1 | F45: 504000 | G45: =E45*F45 -> 504000
B46: 7 | C46: Personal logístico de campo para la asistencia y dinamización de encuentros deportivos (Recoge pelotas) | D46: GLOBAL | E46: 1 | F46: 448000 | G46: =E46*F46 -> 448000
B47: 8 | C47: Servicio integral de juzgamiento y arbitraje deportivo calificado por partido | D47: PARTIDOS | E47: 80 | F47: 28000 | G47: =E47*F47 -> 2240000
...
