Workbook
Name ___INDEX_SHEET___ASAP_Utilities: #REF!
Name ¿Quiénes_están_inscritos_dentro_del_sistema__incluye_desinscr___: #REF!
Name a1_Y1: #REF!
Name a1_Y2: #REF!
Name a10_Y10: #REF!
Name a10_Y11: #REF!
Name a2_Y2: #REF!
Name a2_Y3: #REF!
Name a3_Y3: #REF!
Name a3_Y4: #REF!
Name a4_Y4: #REF!
Name a4_Y5: #REF!
Name a5_Y5: #REF!
Name a5_Y6: #REF!
Name a6_Y6: #REF!
Name a6_Y7: #REF!
Name a7_Y7: #REF!
Name a7_Y8: #REF!
Name a8_Y8: #REF!
Name a8_Y9: #REF!
Name a9_Y10: #REF!
Name a9_Y9: #REF!
Name aaa: #REF!
Name ActividadRE: #REF!
Name AGE: #REF!
Name ALM_COM: #REF!
Name ALMUERZO: #REF!
Name almuerzocena: #REF!
Name AMAZONAS: #REF!
Name AMAZONAS1: #REF!
Name ANTIGUEDAD: #REF!
Name ANTIOQUIA: #REF!
Name año1: #REF!
Name Años_préstamo: #REF!
Name ARAUCA: #REF!
Name ATLANTICO: #REF!
Name Bachiller_Técnico_industrial: #REF!
Name BAS: #REF!
Name Base: #REF!
Name BASETD: OFFSET(#REF!,0,0,COUNTA(#REF!),6)
Name bbb: #REF!
Name Beginning_Balance: -FV(Interest_Rate/12,Payment_Number-1,-Monthly_Payment,Loan_Amount)
Name BKLZXX: #REF!
Name BOLIVAR: #REF!
Name BuiltIn_Consolidate_Area: NA()
Name BuiltIn_Consolidate_Area___0: NA()
Name BuiltIn_Consolidate_Area___0___0: NA()
Name BuiltIn_Consolidate_Area___0___0___0: NA()
Name BuiltIn_Consolidate_Area___0___0___0___0: NA()
Name BuiltIn_Print_Area___0: "$"
Name BuiltIn_Print_Area___0___0: 0
Name BuiltIn_Print_Titles: NA()
Name BuiltIn_Print_Titles___0: NA()
Name BuiltIn_Print_Titles___0___0: 0
Name CALDAS: #REF!
Name CALENDARIO: #REF!
Name Calidad: #REF!
Name Calidad_1: "['file://172.16.9.31/ArchivosICBF/DIRECCION%20TECNICA%20ICBF/Archivos%20FONADE/COSTEO%20DIAGNOSTICOS.xlsm'#$PERSONAL.$P$58]"
Name Campamento: #REF!
Name Campamento_1: "['file://172.16.9.31/ArchivosICBF/DIRECCION%20TECNICA%20ICBF/Archivos%20FONADE/COSTEO%20DIAGNOSTICOS.xlsm'#$PERSONAL.$P$122]"

Sheet MATRIZ
A1: INFORMACIÓN GENERAL ADICIÓN CONTRATOS SERVICIOS INTEGRALES 2026 | I1: CANTIDAD DE CONTRATOS | K1: {=SUM(IF(FREQUENCY(E3:E39,E3:E39)>0,1))} -> 0 | L1: CANTIDAD DE UDS | P1: =SUBTOTAL(9,K3:K39) -> 25 | X1: INFORMACIÓN DEL VALOR DEL CONTRATO | AO1: VALOR SMLV: $1.423.500 | AT1: 1300000 | AU1: 1423500 | AV1: =SUBTOTAL(9,AU3:AU39) -> 0 | AW1: 1750905
A2: ES CONTRATO NUEVO (SI/NO) | B2: ZONA | C2: REGIONAL | D2: contrato oculto | E2: REFERENCIA / No. CONTRATO SECOP | F2: No. RP | G2: CENTRO ZONAL | H2: MUNICIPIO | I2: NOMBRE DEL SERVICIO | J2: Componente 2026 II Semestre | K2: UDS | L2: CUPOS | M2: TOTAL CUPOS ZONIFICACION | N2: TIEMPO A ADICIONAR O CONTRATAR | O2: SUMATORIA DE LAS UDS DEL CONTRATO A ADICIONAR (REGISTRO UNICO) | P2: SUMATORIA DE LOS CUPOS DEL CONTRATO A ADICIONAR (REGISTRO UNICO) | Q2: FORMA DE CONTRATACIÓN | R2: NIT OCULTO | S2: NIT | T2: NOMBRE EAS OCULTO | U2: NOMBRE EAS | V2: MODALIDAD DE SERVICIO | W2: FECHA DE FIN DEL CONTRATO | X2: VALOR INICIAL DEL SERVICIO 2025-2026 | Y2: VALOR TOTAL INICIAL APORTE ICBF POR CONTRATO (REGISTRO UNICO) | Z2: VALOR INICIAL OTROS CONCEPTOS | AA2: DETALLE OTROS CONCEPTOS | AB2: VALOR INICIAL CONTRAPARTIDA | AC2: VALOR TOTAL CONTRAPARTIDA | AD2: VALOR OTROS CONCEPTOS INICIAL | AE2: VALOR TOTAL OTROS CONCEPTOS Y CONTRAPARTIDA (REGISTRO UNICO) | AF2: VALOR TOTAL INICIAL DEL CONTRATO POR SERVICIO | AG2: VALOR TOTAL INICIAL DEL CONTRATO (UNICO REGISTRO) | AH2: AÑO INICIO CONTRATO | AI2: VALOR TOTAL INICIAL DEL CONTRATO (UNICO REGISTRO) EN SMMLV | AJ2: TOTAL REDUCCIONES ICBF | AK2: TOTAL ADICIONES ICBF | AL2: TOTAL REDUCCIONES EAS | AM2: TOTAL ADICIONES EAS | AN2: VALOR TOTAL REDUCCIONES 2026 | AO2: VALOR TOTAL ADICIONES 2026 | AP2: No. SALARIOS NETO (ADICIONES - REDUCCIONES) | AQ2: TOTAL NÚMERO DE SALARIOS NETO ADICIONES - REDUCCIONES (SMMVL) | AR2: ADICIONES - REDUCCIONES | AS2: TOTAL ADICION - REDUCCION | AT2: VALOR TOTAL INCIAL DEL CONTRATO POR SERVICIO (APORTE ICBF + APORTE EAS) | AU2: VALOR ACTUAL DEL CONTRATO ANTES DE LA ADICIÓN SOLICITADA | AV2: VALOR ADICIÓN (REGISTRO MULTIPLE) | AW2: VALOR ADICIÓN (UNICO REGISTRO) | AX2: VALOR ADICIÓN OTROS CONCEPTOS | AY2: DETALLE OTROS CONCEPTOS | AZ2: NÚMERO DE TASAS COMPENSATORIAS | BA2: VALOR TASAS COMPENSATORIAS | BB2: VALOR INEJECUCIONES A REINVERTIR | BC2: VALOR TOTAL DE LA ADICIÓN APORTE ICBF | BD2: VALOR TOTAL DE LA ADICIÓN APORTE ICBF (REGISTRO ÚNICO) | BE2: % APORTE EAS - VALOR CONTRAPARTIDA | BF2: VALOR CONTRAPARTIDA ADICIÓN | BG2: VALOR TOTAL ADICIÓN DEL APORTE DE LA EAS (REGISTRO UNICO) | BH2: VALOR TOTAL DE LA ADICIÓN CONTRATO (UNICO REGISTRO) | BI2: VALOR TOTAL DE LA ADICIÓN CONTRATO (UNICO REGISTRO) EN SMMLV | BJ2: VALOR FINAL DEL CONTRATO APORTE ICFB (Inicial + Adición) $ | BK2: VALOR FINAL DEL CONTRATO APORTE ICFB (MULTIPLE REGISTRO (Inicial + Adición) $ | BL2: VALOR FINAL DEL CONTRATO APORTE ICFB (REGISTRO UNICO) (Inicial + Adición) $ | BM2: VALOR FINAL DEL CONTRATO APORTE EAS (Inicial + Adición) $ | BN2: VALOR FINAL DEL CONTRATO (VALOR ACTUAL DEL CONTRATO ANTES DE LA ADICIÓN SOLICITADA + VALOR TOTAL DE LA ADICIÓN (UNICO REGISTRO) | BO2: 50% VALOR CONTRATO INICIAL EN SMMLV PARA CALCULAR LA CAPACIDAD A ADICIONAR | BP2: ADICIONES HISTÓRICAS Y ACTUAL EXPRESADAS EN SMMLV (No puede superar el 50% del Vr. del Contrato Inicial) | BQ2: VALOR MÁXIMO A ADICIONAR EN SMMLV | BR2: VALOR MÁXIMO A ADICIONAR (%) 50% Vr. Inicial Contrato "Art. 40 Ley 80/1993"), | BS2: VALOR TOTAL FINAL DEL CONTRTO EN SMMLV | BT2: ALERTA CONTRATO DE APORTE SUPERA 5.000 SMLMV
A3: SI | B3: 1826 | C3: SANTANDER | D3: 68008822025 | E3: =IF($A3="SI","",$D3) | G3: CZ CARLOS LLERAS RESTREPO | H3: Bucaramanga | I3: HOGAR INFANTIL – INSTITUCIONAL | J3: OPERADOR COMPONENTE PEDAGOGICO CON ALIMENTOS | K3: 1 | L3: =SUMIFS( zonificación!$AA:$AA, zonificación!$A:$A,B3, zonificación!$K:$K, G3, zonificación!$I:$I,H3, zonificación!$W:$W, I3) -> 99 | M3: =IF(COUNTIFS($D$2:$D3,D3)=1,SUMIFS($L:$L,D:D,D3),0) -> 99 | N3: 3 | O3: =IF(COUNTIFS($D$2:$D3,D3)=1,SUMIFS($K:$K,D:D,D3),0) -> 1 | P3: =IF(COUNTIFS($D$2:$D3,D3)=1,SUMIFS($M:$M,D:D,D3),0) -> 99 | Q3: Articulo 35 invitación cerrada – literal m | R3: 800122280 | S3: =IF($A3="SI","",$R3) | T3: ASOCIACIÓN DE PADRES DE FAMILIA DEL HOGAR INFANTIL JOSE RAQUEL MERCADO | U3: =IF($A3="SI","",$T3) | V3: Institucional | W3: 46326 | X3: 0 | Y3: =IF(COUNTIFS($D$2:$D3,$D3)=1,SUMIFS(X:X,$D:$D,$D3),0) -> 0 | Z3: 0 | AA3: Descripción otros conceptos | AB3: 0 | AC3: =IF(COUNTIFS($D$2:$D3,$D3)=1,SUMIFS(AB:AB,$D:$D,$D3),0) -> 0 | AD3: =IF(COUNTIFS($D$2:$D3,$D3)=1,SUMIFS(Z:Z,$D:$D,$D3),0) -> 0 | AE3: =SUM(AC3:AD3) -> 0 | AF3: =+X3+AE3 -> 0 | AG3: =IF(COUNTIFS($D$2:$D3,$D3)=1,SUMIFS(AF:AF,$D:$D,$D3),0) -> 0 | AH3: =IF(E3="",2026,VALUE(RIGHT(E3,4))) -> 2026 | AI3: =AG3/VLOOKUP(AH3,SALARIOS!$A$1:$B$4,2,0) -> 0 | AJ3: 0 | AK3: 0 | AL3: 0 | AM3: 0 | AN3: =+AJ3+AL3 -> 0 | AO3: =+AK3+AM3 -> 0 | AP3: =((AK3-AJ3)/SAL_2026)+((AM3-AL3)/SAL_2026) -> 0 | AQ3: =VALUE(IF(COUNTIFS($D$2:$D3,$D3)=1,MAX(0,SUMIFS(AP:AP,$D:$D,$D3)),0)) -> 0 | AR3: =$AO3-$AN3 -> 0 | AS3: =IF(COUNTIFS($D$2:$D3,$D3)=1,SUMIFS(AR:AR,$D:$D,$D3),0) -> 0 | AT3: =IF(AS3="",AG3,AG3+AS3) -> 0 | AU3: =+AT3 -> 0 | AV3: =SUMIFS(Combinaciones!$K:$K,Combinaciones!$A:$A,I3,Combinaciones!$B:$B,J3,Combinaciones!$F:$F,N3)*L3 -> 167219316 | AW3: =IF(COUNTIFS($D$2:$D3,$D3)=1,SUMIFS(AV:AV,$D:$D,$D3),0) -> 167219316 | AX3: 0 | AY3: Descripción otros conceptos | BA3: =+IF(I3="HOGAR INFANTIL – INSTITUCIONAL",AZ3*(1750905*0.03)*N3,0) -> 0 | BB3: 0 | BC3: =IFERROR(AV3+AX3-BB3+BA3,0) -> 167219316 | BD3: =IF(COUNTIFS($D$2:$D3,$D3)=1,SUMIFS(BC:BC,$D:$D,$D3),0) -> 167219316 | BE3: 0 | BF3: =IFERROR(BE3*BD3,"") -> 0 | BG3: =IF(COUNTIFS($D$2:$D3,$D3)=1,SUMIFS(BF:BF,$D:$D,$D3),0) -> 0 | BH3: =IF(BD3<>"",BD3+BG3,"") -> 167219316 | BI3: =IFERROR(BH3/SAL_2026,"") -> 95.504505 | BJ3: =X3+AK3-AJ3+BC3 -> 167219316 | BK3: =SUMIF($D:$D,$D:$D,$BJ:$BJ) -> 167219316 | BL3: =IF(COUNTIF($D$3:D3,D3)=1,BK3,"") -> 167219316 | BM3: =+IFERROR(AC3+BF3+AM3-AL3,0) -> 0 | BN3: =+IFERROR(Y3+AE3+AK3-AJ3+AM3-AL3+BD3+BF3+AD3,0) -> 167219316 | BO3: =IF(AI3<>"",AI3/2,"") -> 0 | BP3: =+AQ3+BI3 -> 95.504505 | BQ3: =IF(A3="SI","",IF(BO3-BP3<0,0,BO3-BP3)) | BR3: =IFERROR(BQ3*SAL_2026,"") | BS3: =+(AI3+BP3) -> 95.504505 | BT3: =IF(BS3="","",IF(SUMIFS(BS:BS,R:R,R3)>5000,"ALERTA MAYOR QUE 5.000",""))
A4: SI | B4: 1827 | C4: SANTANDER | D4: 68008662025 | E4: =IF($A4="SI","",$D4) | G4: CZ CARLOS LLERAS RESTREPO | H4: Bucaramanga | I4: HOGAR INFANTIL – INSTITUCIONAL | J4: OPERADOR COMPONENTE PEDAGOGICO CON ALIMENTOS | K4: 1 | L4: =SUMIFS( zonificación!$AA:$AA, zonificación!$A:$A,B4, zonificación!$K:$K, G4, zonificación!$I:$I,H4, zonificación!$W:$W, I4) -> 79 | M4: =IF(COUNTIFS($D$2:$D4,D4)=1,SUMIFS($L:$L,D:D,D4),0) -> 79 | N4: 3 | O4: =IF(COUNTIFS($D$2:$D4,D4)=1,SUMIFS($K:$K,D:D,D4),0) -> 1 | P4: =IF(COUNTIFS($D$2:$D4,D4)=1,SUMIFS($M:$M,D:D,D4),0) -> 79 | Q4: Articulo 35 invitación cerrada – literal m | R4: 890212211 | S4: =IF($A4="SI","",$R4) | T4: ASOCIACION PADRES DE FAMILIA DEL HOGAR INFANTIL PELUSA | U4: =IF($A4="SI","",$T4) | V4: Institucional | W4: 46326 | X4: 0 | Y4: =IF(COUNTIFS($D$2:$D4,$D4)=1,SUMIFS(X:X,$D:$D,$D4),0) -> 0 | Z4: 0 | AA4: Descripción otros conceptos | AB4: 0 | AC4: =IF(COUNTIFS($D$2:$D4,$D4)=1,SUMIFS(AB:AB,$D:$D,$D4),0) -> 0 | AD4: =IF(COUNTIFS($D$2:$D4,$D4)=1,SUMIFS(Z:Z,$D:$D,$D4),0) -> 0 | AE4: =SUM(AC4:AD4) -> 0 | AF4: =+X4+AE4 -> 0 | AG4: =IF(COUNTIFS($D$2:$D4,$D4)=1,SUMIFS(AF:AF,$D:$D,$D4),0) -> 0 | AH4: =IF(E4="",2026,VALUE(RIGHT(E4,4))) -> 2026 | AI4: =AG4/VLOOKUP(AH4,SALARIOS!$A$1:$B$4,2,0) -> 0 | AJ4: 0 | AK4: 0 | AL4: 0 | AM4: 0 | AN4: =+AJ4+AL4 -> 0 | AO4: =+AK4+AM4 -> 0 | AP4: =((AK4-AJ4)/SAL_2026)+((AM4-AL4)/SAL_2026) -> 0 | AQ4: =VALUE(IF(COUNTIFS($D$2:$D4,$D4)=1,MAX(0,SUMIFS(AP:AP,$D:$D,$D4)),0)) -> 0 | AR4: =$AO4-$AN4 -> 0 | AS4: =IF(COUNTIFS($D$2:$D4,$D4)=1,SUMIFS(AR:AR,$D:$D,$D4),0) -> 0 | AT4: =IF(AS4="",AG4,AG4+AS4) -> 0 | AU4: =+AT4 -> 0 | AV4: =SUMIFS(Combinaciones!$K:$K,Combinaciones!$A:$A,I4,Combinaciones!$B:$B,J4,Combinaciones!$F:$F,N4)*L4 -> 133437636 | AW4: =IF(COUNTIFS($D$2:$D4,$D4)=1,SUMIFS(AV:AV,$D:$D,$D4),0) -> 133437636 | AX4: 0 | AY4: Descripción otros conceptos | AZ4: 1 | BA4: =+IF(I4="HOGAR INFANTIL – INSTITUCIONAL",AZ4*(1750905*0.03)*N4,0) -> 157581.45 | BB4: 0 | BC4: =IFERROR(AV4+AX4-BB4+BA4,0) -> 1.3359522e+08 | BD4: =IF(COUNTIFS($D$2:$D4,$D4)=1,SUMIFS(BC:BC,$D:$D,$D4),0) -> 1.3359522e+08 | BE4: 0 | BF4: =IFERROR(BE4*BD4,"") -> 0 | BG4: =IF(COUNTIFS($D$2:$D4,$D4)=1,SUMIFS(BF:BF,$D:$D,$D4),0) -> 0 | BH4: =IF(BD4<>"",BD4+BG4,"") -> 1.3359522e+08 | BI4: =IFERROR(BH4/SAL_2026,"") -> 76.300666 | BJ4: =X4+AK4-AJ4+BC4 -> 1.3359522e+08 | BK4: =SUMIF($D:$D,$D:$D,$BJ:$BJ) -> 1.3359522e+08 | BL4: =IF(COUNTIF($D$3:D4,D4)=1,BK4,"") -> 1.3359522e+08 | BM4: =+IFERROR(AC4+BF4+AM4-AL4,0) -> 0 | BN4: =+IFERROR(Y4+AE4+AK4-AJ4+AM4-AL4+BD4+BF4+AD4,0) -> 1.3359522e+08 | BO4: =IF(AI4<>"",AI4/2,"") -> 0 | BP4: =+AQ4+BI4 -> 76.300666 | BQ4: =IF(A4="SI","",IF(BO4-BP4<0,0,BO4-BP4)) | BR4: =IFERROR(BQ4*SAL_2026,"") | BS4: =+(AI4+BP4) -> 76.300666 | BT4: =IF(BS4="","",IF(SUMIFS(BS:BS,R:R,R4)>5000,"ALERTA MAYOR QUE 5.000",""))
A5: SI | B5: 1828 | C5: SANTANDER | D5: 68008802025 | E5: =IF($A5="SI","",$D5) | G5: CZ CARLOS LLERAS RESTREPO | H5: Bucaramanga | I5: HOGAR INFANTIL – INSTITUCIONAL | J5: OPERADOR COMPONENTE PEDAGOGICO CON ALIMENTOS | K5: 1 | L5: =SUMIFS( zonificación!$AA:$AA, zonificación!$A:$A,B5, zonificación!$K:$K, G5, zonificación!$I:$I,H5, zonificación!$W:$W, I5) -> 93 | M5: =IF(COUNTIFS($D$2:$D5,D5)=1,SUMIFS($L:$L,D:D,D5),0) -> 93 | N5: 3 | O5: =IF(COUNTIFS($D$2:$D5,D5)=1,SUMIFS($K:$K,D:D,D5),0) -> 1 | P5: =IF(COUNTIFS($D$2:$D5,D5)=1,SUMIFS($M:$M,D:D,D5),0) -> 93 | Q5: Articulo 35 invitación cerrada – literal m | R5: 804005706 | S5: =IF($A5="SI","",$R5) | T5: ASOCIACION DE PADRES DE FAMILIA DEL HOGAR INFANTIL GASPARIN | U5: =IF($A5="SI","",$T5) | V5: Institucional | W5: 46326 | X5: 0 | Y5: =IF(COUNTIFS($D$2:$D5,$D5)=1,SUMIFS(X:X,$D:$D,$D5),0) -> 0 | Z5: 0 | AA5: Descripción otros conceptos | AB5: 0 | AC5: =IF(COUNTIFS($D$2:$D5,$D5)=1,SUMIFS(AB:AB,$D:$D,$D5),0) -> 0 | AD5: =IF(COUNTIFS($D$2:$D5,$D5)=1,SUMIFS(Z:Z,$D:$D,$D5),0) -> 0 | AE5: =SUM(AC5:AD5) -> 0 | AF5: =+X5+AE5 -> 0 | AG5: =IF(COUNTIFS($D$2:$D5,$D5)=1,SUMIFS(AF:AF,$D:$D,$D5),0) -> 0 | AH5: =IF(E5="",2026,VALUE(RIGHT(E5,4))) -> 2026 | AI5: =AG5/VLOOKUP(AH5,SALARIOS!$A$1:$B$4,2,0) -> 0 | AJ5: 0 | AK5: 0 | AL5: 0 | AM5: 0 | AN5: =+AJ5+AL5 -> 0 | AO5: =+AK5+AM5 -> 0 | AP5: =((AK5-AJ5)/SAL_2026)+((AM5-AL5)/SAL_2026) -> 0 | AQ5: =VALUE(IF(COUNTIFS($D$2:$D5,$D5)=1,MAX(0,SUMIFS(AP:AP,$D:$D,$D5)),0)) -> 0 | AR5: =$AO5-$AN5 -> 0 | AS5: =IF(COUNTIFS($D$2:$D5,$D5)=1,SUMIFS(AR:AR,$D:$D,$D5),0) -> 0 | AT5: =IF(AS5="",AG5,AG5+AS5) -> 0 | AU5: =+AT5 -> 0 | AV5: =SUMIFS(Combinaciones!$K:$K,Combinaciones!$A:$A,I5,Combinaciones!$B:$B,J5,Combinaciones!$F:$F,N5)*L5 -> 157084812 | AW5: =IF(COUNTIFS($D$2:$D5,$D5)=1,SUMIFS(AV:AV,$D:$D,$D5),0) -> 157084812 | AX5: 0 | AY5: Descripción otros conceptos | AZ5: 3 | BA5: =+IF(I5="HOGAR INFANTIL – INSTITUCIONAL",AZ5*(1750905*0.03)*N5,0) -> 472744.35 | BB5: 0 | BC5: =IFERROR(AV5+AX5-BB5+BA5,0) -> 1.5755756e+08 | BD5: =IF(COUNTIFS($D$2:$D5,$D5)=1,SUMIFS(BC:BC,$D:$D,$D5),0) -> 1.5755756e+08 | BE5: 0 | BF5: =IFERROR(BE5*BD5,"") -> 0 | BG5: =IF(COUNTIFS($D$2:$D5,$D5)=1,SUMIFS(BF:BF,$D:$D,$D5),0) -> 0 | BH5: =IF(BD5<>"",BD5+BG5,"") -> 1.5755756e+08 | BI5: =IFERROR(BH5/SAL_2026,"") -> 89.986354 | BJ5: =X5+AK5-AJ5+BC5 -> 1.5755756e+08 | BK5: =SUMIF($D:$D,$D:$D,$BJ:$BJ) -> 1.5755756e+08 | BL5: =IF(COUNTIF($D$3:D5,D5)=1,BK5,"") -> 1.5755756e+08 | BM5: =+IFERROR(AC5+BF5+AM5-AL5,0) -> 0 | BN5: =+IFERROR(Y5+AE5+AK5-AJ5+AM5-AL5+BD5+BF5+AD5,0) -> 1.5755756e+08 | BO5: =IF(AI5<>"",AI5/2,"") -> 0 | BP5: =+AQ5+BI5 -> 89.986354 | BQ5: =IF(A5="SI","",IF(BO5-BP5<0,0,BO5-BP5)) | BR5: =IFERROR(BQ5*SAL_2026,"") | BS5: =+(AI5+BP5) -> 89.986354 | BT5: =IF(BS5="","",IF(SUMIFS(BS:BS,R:R,R5)>5000,"ALERTA MAYOR QUE 5.000",""))
A6: SI | B6: 1829 | C6: SANTANDER | D6: 68008812025 | E6: =IF($A6="SI","",$D6) | G6: CZ CARLOS LLERAS RESTREPO | H6: Bucaramanga | I6: HOGAR INFANTIL – INSTITUCIONAL | J6: OPERADOR COMPONENTE PEDAGOGICO CON ALIMENTOS | K6: 1 | L6: =SUMIFS( zonificación!$AA:$AA, zonificación!$A:$A,B6, zonificación!$K:$K, G6, zonificación!$I:$I,H6, zonificación!$W:$W, I6) -> 53 | M6: =IF(COUNTIFS($D$2:$D6,D6)=1,SUMIFS($L:$L,D:D,D6),0) -> 53 | N6: 3 | O6: =IF(COUNTIFS($D$2:$D6,D6)=1,SUMIFS($K:$K,D:D,D6),0) -> 1 | P6: =IF(COUNTIFS($D$2:$D6,D6)=1,SUMIFS($M:$M,D:D,D6),0) -> 53 | Q6: Articulo 35 invitación cerrada – literal m | R6: 890208030 | S6: =IF($A6="SI","",$R6) | T6: ASOCIACION DE PADRES DE FAMILIA DEL HOGAR INFANTIL JARDINCITO ALEGRE | U6: =IF($A6="SI","",$T6) | V6: Institucional | W6: 46326 | X6: 0 | Y6: =IF(COUNTIFS($D$2:$D6,$D6)=1,SUMIFS(X:X,$D:$D,$D6),0) -> 0 | Z6: 0 | AA6: Descripción otros conceptos | AB6: 0 | AC6: =IF(COUNTIFS($D$2:$D6,$D6)=1,SUMIFS(AB:AB,$D:$D,$D6),0) -> 0 | AD6: =IF(COUNTIFS($D$2:$D6,$D6)=1,SUMIFS(Z:Z,$D:$D,$D6),0) -> 0 | AE6: =SUM(AC6:AD6) -> 0 | AF6: =+X6+AE6 -> 0 | AG6: =IF(COUNTIFS($D$2:$D6,$D6)=1,SUMIFS(AF:AF,$D:$D,$D6),0) -> 0 | AH6: =IF(E6="",2026,VALUE(RIGHT(E6,4))) -> 2026 | AI6: =AG6/VLOOKUP(AH6,SALARIOS!$A$1:$B$4,2,0) -> 0 | AJ6: 0 | AK6: 0 | AL6: 0 | AM6: 0 | AN6: =+AJ6+AL6 -> 0 | AO6: =+AK6+AM6 -> 0 | AP6: =((AK6-AJ6)/SAL_2026)+((AM6-AL6)/SAL_2026) -> 0 | AQ6: =VALUE(IF(COUNTIFS($D$2:$D6,$D6)=1,MAX(0,SUMIFS(AP:AP,$D:$D,$D6)),0)) -> 0 | AR6: =$AO6-$AN6 -> 0 | AS6: =IF(COUNTIFS($D$2:$D6,$D6)=1,SUMIFS(AR:AR,$D:$D,$D6),0) -> 0 | AT6: =IF(AS6="",AG6,AG6+AS6) -> 0 | AU6: =+AT6 -> 0 | AV6: =SUMIFS(Combinaciones!$K:$K,Combinaciones!$A:$A,I6,Combinaciones!$B:$B,J6,Combinaciones!$F:$F,N6)*L6 -> 89521452 | AW6: =IF(COUNTIFS($D$2:$D6,$D6)=1,SUMIFS(AV:AV,$D:$D,$D6),0) -> 89521452 | AX6: 0 | AY6: Descripción otros conceptos | AZ6: 2 | BA6: =+IF(I6="HOGAR INFANTIL – INSTITUCIONAL",AZ6*(1750905*0.03)*N6,0) -> 315162.9 | BB6: 0 | BC6: =IFERROR(AV6+AX6-BB6+BA6,0) -> 89836615 | BD6: =IF(COUNTIFS($D$2:$D6,$D6)=1,SUMIFS(BC:BC,$D:$D,$D6),0) -> 89836615 | BE6: 0 | BF6: =IFERROR(BE6*BD6,"") -> 0 | BG6: =IF(COUNTIFS($D$2:$D6,$D6)=1,SUMIFS(BF:BF,$D:$D,$D6),0) -> 0 | BH6: =IF(BD6<>"",BD6+BG6,"") -> 89836615 | BI6: =IFERROR(BH6/SAL_2026,"") -> 51.308675 | BJ6: =X6+AK6-AJ6+BC6 -> 89836615 | BK6: =SUMIF($D:$D,$D:$D,$BJ:$BJ) -> 89836615 | BL6: =IF(COUNTIF($D$3:D6,D6)=1,BK6,"") -> 89836615 | BM6: =+IFERROR(AC6+BF6+AM6-AL6,0) -> 0 | BN6: =+IFERROR(Y6+AE6+AK6-AJ6+AM6-AL6+BD6+BF6+AD6,0) -> 89836615 | BO6: =IF(AI6<>"",AI6/2,"") -> 0 | BP6: =+AQ6+BI6 -> 51.308675 | BQ6: =IF(A6="SI","",IF(BO6-BP6<0,0,BO6-BP6)) | BR6: =IFERROR(BQ6*SAL_2026,"") | BS6: =+(AI6+BP6) -> 51.308675 | BT6: =IF(BS6="","",IF(SUMIFS(BS:BS,R:R,R6)>5000,"ALERTA MAYOR QUE 5.000",""))
A7: SI | B7: 1830 | C7: SANTANDER | D7: 68008982025 | E7: =IF($A7="SI","",$D7) | G7: CZ SOCORRO | H7: Suaita | I7: HOGAR INFANTIL – INSTITUCIONAL | J7: OPERADOR COMPONENTE PEDAGOGICO CON ALIMENTOS | K7: 1 | L7: =SUMIFS( zonificación!$AA:$AA, zonificación!$A:$A,B7, zonificación!$K:$K, G7, zonificación!$I:$I,H7, zonificación!$W:$W, I7) -> 39 | M7: =IF(COUNTIFS($D$2:$D7,D7)=1,SUMIFS($L:$L,D:D,D7),0) -> 39 | N7: 3 | O7: =IF(COUNTIFS($D$2:$D7,D7)=1,SUMIFS($K:$K,D:D,D7),0) -> 1 | P7: =IF(COUNTIFS($D$2:$D7,D7)=1,SUMIFS($M:$M,D:D,D7),0) -> 39 | Q7: Articulo 35 invitación cerrada – literal m | R7: 890212101 | S7: =IF($A7="SI","",$R7) | T7: ASOCIACION DE PADRES DE FAMILIA DEL HOGAR INFANTIL EL BOSQUECILLO | U7: =IF($A7="SI","",$T7) | V7: Institucional | W7: 46326 | X7: 0 | Y7: =IF(COUNTIFS($D$2:$D7,$D7)=1,SUMIFS(X:X,$D:$D,$D7),0) -> 0 | Z7: 0 | AA7: Descripción otros conceptos | AB7: 0 | AC7: =IF(COUNTIFS($D$2:$D7,$D7)=1,SUMIFS(AB:AB,$D:$D,$D7),0) -> 0 | AD7: =IF(COUNTIFS($D$2:$D7,$D7)=1,SUMIFS(Z:Z,$D:$D,$D7),0) -> 0 | AE7: =SUM(AC7:AD7) -> 0 | AF7: =+X7+AE7 -> 0 | AG7: =IF(COUNTIFS($D$2:$D7,$D7)=1,SUMIFS(AF:AF,$D:$D,$D7),0) -> 0 | AH7: =IF(E7="",2026,VALUE(RIGHT(E7,4))) -> 2026 | AI7: =AG7/VLOOKUP(AH7,SALARIOS!$A$1:$B$4,2,0) -> 0 | AJ7: 0 | AK7: 0 | AL7: 0 | AM7: 0 | AN7: =+AJ7+AL7 -> 0 | AO7: =+AK7+AM7 -> 0 | AP7: =((AK7-AJ7)/SAL_2026)+((AM7-AL7)/SAL_2026) -> 0 | AQ7: =VALUE(IF(COUNTIFS($D$2:$D7,$D7)=1,MAX(0,SUMIFS(AP:AP,$D:$D,$D7)),0)) -> 0 | AR7: =$AO7-$AN7 -> 0 | AS7: =IF(COUNTIFS($D$2:$D7,$D7)=1,SUMIFS(AR:AR,$D:$D,$D7),0) -> 0 | AT7: =IF(AS7="",AG7,AG7+AS7) -> 0 | AU7: =+AT7 -> 0 | AV7: =SUMIFS(Combinaciones!$K:$K,Combinaciones!$A:$A,I7,Combinaciones!$B:$B,J7,Combinaciones!$F:$F,N7)*L7 -> 65874276 | AW7: =IF(COUNTIFS($D$2:$D7,$D7)=1,SUMIFS(AV:AV,$D:$D,$D7),0) -> 65874276 | AX7: 0 | AY7: Descripción otros conceptos | BA7: =+IF(I7="HOGAR INFANTIL – INSTITUCIONAL",AZ7*(1750905*0.03)*N7,0) -> 0 | BB7: 0 | BC7: =IFERROR(AV7+AX7-BB7+BA7,0) -> 65874276 | BD7: =IF(COUNTIFS($D$2:$D7,$D7)=1,SUMIFS(BC:BC,$D:$D,$D7),0) -> 65874276 | BE7: 0 | BF7: =IFERROR(BE7*BD7,"") -> 0 | BG7: =IF(COUNTIFS($D$2:$D7,$D7)=1,SUMIFS(BF:BF,$D:$D,$D7),0) -> 0 | BH7: =IF(BD7<>"",BD7+BG7,"") -> 65874276 | BI7: =IFERROR(BH7/SAL_2026,"") -> 37.622987 | BJ7: =X7+AK7-AJ7+BC7 -> 65874276 | BK7: =SUMIF($D:$D,$D:$D,$BJ:$BJ) -> 65874276 | BL7: =IF(COUNTIF($D$3:D7,D7)=1,BK7,"") -> 65874276 | BM7: =+IFERROR(AC7+BF7+AM7-AL7,0) -> 0 | BN7: =+IFERROR(Y7+AE7+AK7-AJ7+AM7-AL7+BD7+BF7+AD7,0) -> 65874276 | BO7: =IF(AI7<>"",AI7/2,"") -> 0 | BP7: =+AQ7+BI7 -> 37.622987 | BQ7: =IF(A7="SI","",IF(BO7-BP7<0,0,BO7-BP7)) | BR7: =IFERROR(BQ7*SAL_2026,"") | BS7: =+(AI7+BP7) -> 37.622987 | BT7: =IF(BS7="","",IF(SUMIFS(BS:BS,R:R,R7)>5000,"ALERTA MAYOR QUE 5.000",""))
A8: SI | B8: 1831 | C8: SANTANDER | D8: 68008252025 | E8: =IF($A8="SI","",$D8) | G8: CZ YARIQUIES | H8: Puerto Wilches | I8: HOGAR INFANTIL – INSTITUCIONAL | J8: OPERADOR COMPONENTE PEDAGOGICO CON ALIMENTOS | K8: 1 | L8: =SUMIFS( zonificación!$AA:$AA, zonificación!$A:$A,B8, zonificación!$K:$K, G8, zonificación!$I:$I,H8, zonificación!$W:$W, I8) -> 120 | M8: =IF(COUNTIFS($D$2:$D8,D8)=1,SUMIFS($L:$L,D:D,D8),0) -> 120 | N8: 3 | O8: =IF(COUNTIFS($D$2:$D8,D8)=1,SUMIFS($K:$K,D:D,D8),0) -> 1 | P8: =IF(COUNTIFS($D$2:$D8,D8)=1,SUMIFS($M:$M,D:D,D8),0) -> 120 | Q8: Articulo 35 invitación cerrada – literal m | R8: 800230470 | S8: =IF($A8="SI","",$R8) | T8: ASOCIACION DE PADRES DEL HOGAR INFANTIL PEBLES | U8: =IF($A8="SI","",$T8) | V8: Institucional | W8: 46326 | X8: 0 | Y8: =IF(COUNTIFS($D$2:$D8,$D8)=1,SUMIFS(X:X,$D:$D,$D8),0) -> 0 | Z8: 0 | AA8: Descripción otros conceptos | AB8: 0 | AC8: =IF(COUNTIFS($D$2:$D8,$D8)=1,SUMIFS(AB:AB,$D:$D,$D8),0) -> 0 | AD8: =IF(COUNTIFS($D$2:$D8,$D8)=1,SUMIFS(Z:Z,$D:$D,$D8),0) -> 0 | AE8: =SUM(AC8:AD8) -> 0 | AF8: =+X8+AE8 -> 0 | AG8: =IF(COUNTIFS($D$2:$D8,$D8)=1,SUMIFS(AF:AF,$D:$D,$D8),0) -> 0 | AH8: =IF(E8="",2026,VALUE(RIGHT(E8,4))) -> 2026 | AI8: =AG8/VLOOKUP(AH8,SALARIOS!$A$1:$B$4,2,0) -> 0 | AJ8: 0 | AK8: 0 | AL8: 0 | AM8: 0 | AN8: =+AJ8+AL8 -> 0 | AO8: =+AK8+AM8 -> 0 | AP8: =((AK8-AJ8)/SAL_2026)+((AM8-AL8)/SAL_2026) -> 0 | AQ8: =VALUE(IF(COUNTIFS($D$2:$D8,$D8)=1,MAX(0,SUMIFS(AP:AP,$D:$D,$D8)),0)) -> 0 | AR8: =$AO8-$AN8 -> 0 | AS8: =IF(COUNTIFS($D$2:$D8,$D8)=1,SUMIFS(AR:AR,$D:$D,$D8),0) -> 0 | AT8: =IF(AS8="",AG8,AG8+AS8) -> 0 | AU8: =+AT8 -> 0 | AV8: =SUMIFS(Combinaciones!$K:$K,Combinaciones!$A:$A,I8,Combinaciones!$B:$B,J8,Combinaciones!$F:$F,N8)*L8 -> 202690080 | AW8: =IF(COUNTIFS($D$2:$D8,$D8)=1,SUMIFS(AV:AV,$D:$D,$D8),0) -> 202690080 | AX8: 0 | AY8: Descripción otros conceptos | AZ8: 10 | BA8: =+IF(I8="HOGAR INFANTIL – INSTITUCIONAL",AZ8*(1750905*0.03)*N8,0) -> 1575814.5 | BB8: 0 | BC8: =IFERROR(AV8+AX8-BB8+BA8,0) -> 2.0426589e+08 | BD8: =IF(COUNTIFS($D$2:$D8,$D8)=1,SUMIFS(BC:BC,$D:$D,$D8),0) -> 2.0426589e+08 | BE8: 0 | BF8: =IFERROR(BE8*BD8,"") -> 0 | BG8: =IF(COUNTIFS($D$2:$D8,$D8)=1,SUMIFS(BF:BF,$D:$D,$D8),0) -> 0 | BH8: =IF(BD8<>"",BD8+BG8,"") -> 2.0426589e+08 | BI8: =IFERROR(BH8/SAL_2026,"") -> 116.66304 | BJ8: =X8+AK8-AJ8+BC8 -> 2.0426589e+08 | BK8: =SUMIF($D:$D,$D:$D,$BJ:$BJ) -> 2.0426589e+08 | BL8: =IF(COUNTIF($D$3:D8,D8)=1,BK8,"") -> 2.0426589e+08 | BM8: =+IFERROR(AC8+BF8+AM8-AL8,0) -> 0 | BN8: =+IFERROR(Y8+AE8+AK8-AJ8+AM8-AL8+BD8+BF8+AD8,0) -> 2.0426589e+08 | BO8: =IF(AI8<>"",AI8/2,"") -> 0 | BP8: =+AQ8+BI8 -> 116.66304 | BQ8: =IF(A8="SI","",IF(BO8-BP8<0,0,BO8-BP8)) | BR8: =IFERROR(BQ8*SAL_2026,"") | BS8: =+(AI8+BP8) -> 116.66304 | BT8: =IF(BS8="","",IF(SUMIFS(BS:BS,R:R,R8)>5000,"ALERTA MAYOR QUE 5.000",""))
A9: SI | B9: 1832 | C9: SANTANDER | D9: 68008632025 | E9: =IF($A9="SI","",$D9) | G9: CZ SAN GIL | H9: San Gil | I9: HOGAR INFANTIL – INSTITUCIONAL | J9: OPERADOR COMPONENTE PEDAGOGICO CON ALIMENTOS | K9: 1 | L9: =SUMIFS( zonificación!$AA:$AA, zonificación!$A:$A,B9, zonificación!$K:$K, G9, zonificación!$I:$I,H9, zonificación!$W:$W, I9) -> 185 | M9: =IF(COUNTIFS($D$2:$D9,D9)=1,SUMIFS($L:$L,D:D,D9),0) -> 185 | N9: 3 | O9: =IF(COUNTIFS($D$2:$D9,D9)=1,SUMIFS($K:$K,D:D,D9),0) -> 1 | P9: =IF(COUNTIFS($D$2:$D9,D9)=1,SUMIFS($M:$M,D:D,D9),0) -> 185 | Q9: Articulo 35 invitación cerrada – literal m | R9: 890212037 | S9: =IF($A9="SI","",$R9) | T9: ASOCIACIÓN DE PADRES DE FAMILIA HOGAR INFANTIL DUMBO | U9: =IF($A9="SI","",$T9) | V9: Institucional | W9: 46326 | X9: 0 | Y9: =IF(COUNTIFS($D$2:$D9,$D9)=1,SUMIFS(X:X,$D:$D,$D9),0) -> 0 | Z9: 0 | AA9: Descripción otros conceptos | AB9: 0 | AC9: =IF(COUNTIFS($D$2:$D9,$D9)=1,SUMIFS(AB:AB,$D:$D,$D9),0) -> 0 | AD9: =IF(COUNTIFS($D$2:$D9,$D9)=1,SUMIFS(Z:Z,$D:$D,$D9),0) -> 0 | AE9: =SUM(AC9:AD9) -> 0 | AF9: =+X9+AE9 -> 0 | AG9: =IF(COUNTIFS($D$2:$D9,$D9)=1,SUMIFS(AF:AF,$D:$D,$D9),0) -> 0 | AH9: =IF(E9="",2026,VALUE(RIGHT(E9,4))) -> 2026 | AI9: =AG9/VLOOKUP(AH9,SALARIOS!$A$1:$B$4,2,0) -> 0 | AJ9: 0 | AK9: 0 | AL9: 0 | AM9: 0 | AN9: =+AJ9+AL9 -> 0 | AO9: =+AK9+AM9 -> 0 | AP9: =((AK9-AJ9)/SAL_2026)+((AM9-AL9)/SAL_2026) -> 0 | AQ9: =VALUE(IF(COUNTIFS($D$2:$D9,$D9)=1,MAX(0,SUMIFS(AP:AP,$D:$D,$D9)),0)) -> 0 | AR9: =$AO9-$AN9 -> 0 | AS9: =IF(COUNTIFS($D$2:$D9,$D9)=1,SUMIFS(AR:AR,$D:$D,$D9),0) -> 0 | AT9: =IF(AS9="",AG9,AG9+AS9) -> 0 | AU9: =+AT9 -> 0 | AV9: =SUMIFS(Combinaciones!$K:$K,Combinaciones!$A:$A,I9,Combinaciones!$B:$B,J9,Combinaciones!$F:$F,N9)*L9 -> 312480540 | AW9: =IF(COUNTIFS($D$2:$D9,$D9)=1,SUMIFS(AV:AV,$D:$D,$D9),0) -> 312480540 | AX9: 0 | AY9: Descripción otros conceptos | AZ9: 3 | BA9: =+IF(I9="HOGAR INFANTIL – INSTITUCIONAL",AZ9*(1750905*0.03)*N9,0) -> 472744.35 | BB9: 0 | BC9: =IFERROR(AV9+AX9-BB9+BA9,0) -> 3.1295328e+08 | BD9: =IF(COUNTIFS($D$2:$D9,$D9)=1,SUMIFS(BC:BC,$D:$D,$D9),0) -> 3.1295328e+08 | BE9: 0 | BF9: =IFERROR(BE9*BD9,"") -> 0 | BG9: =IF(COUNTIFS($D$2:$D9,$D9)=1,SUMIFS(BF:BF,$D:$D,$D9),0) -> 0 | BH9: =IF(BD9<>"",BD9+BG9,"") -> 3.1295328e+08 | BI9: =IFERROR(BH9/SAL_2026,"") -> 178.73802 | BJ9: =X9+AK9-AJ9+BC9 -> 3.1295328e+08 | BK9: =SUMIF($D:$D,$D:$D,$BJ:$BJ) -> 3.1295328e+08 | BL9: =IF(COUNTIF($D$3:D9,D9)=1,BK9,"") -> 3.1295328e+08 | BM9: =+IFERROR(AC9+BF9+AM9-AL9,0) -> 0 | BN9: =+IFERROR(Y9+AE9+AK9-AJ9+AM9-AL9+BD9+BF9+AD9,0) -> 3.1295328e+08 | BO9: =IF(AI9<>"",AI9/2,"") -> 0 | BP9: =+AQ9+BI9 -> 178.73802 | BQ9: =IF(A9="SI","",IF(BO9-BP9<0,0,BO9-BP9)) | BR9: =IFERROR(BQ9*SAL_2026,"") | BS9: =+(AI9+BP9) -> 178.73802 | BT9: =IF(BS9="","",IF(SUMIFS(BS:BS,R:R,R9)>5000,"ALERTA MAYOR QUE 5.000",""))
A10: SI | B10: 1833 | C10: SANTANDER | D10: 68008642025 | E10: =IF($A10="SI","",$D10) | G10: CZ CARLOS LLERAS RESTREPO | H10: Bucaramanga | I10: CENTRO DE DESARROLLO INFANTIL - SIN ARRIENDO - INSTITUCIONAL | J10: OPERADOR COMPONENTE PEDAGOGICO CON ALIMENTOS | K10: 1 | L10: =SUMIFS( zonificación!$AA:$AA, zonificación!$A:$A,B10, zonificación!$K:$K, G10, zonificación!$I:$I,H10, zonificación!$W:$W, I10) -> 164 | M10: =IF(COUNTIFS($D$2:$D10,D10)=1,SUMIFS($L:$L,D:D,D10),0) -> 164 | N10: 3 | O10: =IF(COUNTIFS($D$2:$D10,D10)=1,SUMIFS($K:$K,D:D,D10),0) -> 1 | P10: =IF(COUNTIFS($D$2:$D10,D10)=1,SUMIFS($M:$M,D:D,D10),0) -> 164 | Q10: Articulo 35 invitación cerrada – literal m | R10: 890201334 | S10: =IF($A10="SI","",$R10) | T10: HERMANAS DE LA CARIDAD DOMINICAS DE LA PRESENTACION DE LA SANTISIMA VIRGEN | U10: =IF($A10="SI","",$T10) | V10: Institucional | W10: 46326 | X10: 0 | Y10: =IF(COUNTIFS($D$2:$D10,$D10)=1,SUMIFS(X:X,$D:$D,$D10),0) -> 0 | Z10: 0 | AA10: Descripción otros conceptos | AB10: 0 | AC10: =IF(COUNTIFS($D$2:$D10,$D10)=1,SUMIFS(AB:AB,$D:$D,$D10),0) -> 0 | AD10: =IF(COUNTIFS($D$2:$D10,$D10)=1,SUMIFS(Z:Z,$D:$D,$D10),0) -> 0 | AE10: =SUM(AC10:AD10) -> 0 | AF10: =+X10+AE10 -> 0 | AG10: =IF(COUNTIFS($D$2:$D10,$D10)=1,SUMIFS(AF:AF,$D:$D,$D10),0) -> 0 | AH10: =IF(E10="",2026,VALUE(RIGHT(E10,4))) -> 2026 | AI10: =AG10/VLOOKUP(AH10,SALARIOS!$A$1:$B$4,2,0) -> 0 | AJ10: 0 | AK10: 0 | AL10: 0 | AM10: 0 | AN10: =+AJ10+AL10 -> 0 | AO10: =+AK10+AM10 -> 0 | AP10: =((AK10-AJ10)/SAL_2026)+((AM10-AL10)/SAL_2026) -> 0 | AQ10: =VALUE(IF(COUNTIFS($D$2:$D10,$D10)=1,MAX(0,SUMIFS(AP:AP,$D:$D,$D10)),0)) -> 0 | AR10: =$AO10-$AN10 -> 0 | AS10: =IF(COUNTIFS($D$2:$D10,$D10)=1,SUMIFS(AR:AR,$D:$D,$D10),0) -> 0 | AT10: =IF(AS10="",AG10,AG10+AS10) -> 0 | AU10: =+AT10 -> 0 | AV10: =SUMIFS(Combinaciones!$K:$K,Combinaciones!$A:$A,I10,Combinaciones!$B:$B,J10,Combinaciones!$F:$F,N10)*L10 -> 277009776 | AW10: =IF(COUNTIFS($D$2:$D10,$D10)=1,SUMIFS(AV:AV,$D:$D,$D10),0) -> 277009776 | AX10: 0 | AY10: Descripción otros conceptos | BA10: =+IF(I10="HOGAR INFANTIL – INSTITUCIONAL",AZ10*(1750905*0.03)*N10,0) -> 0 | BB10: 0 | BC10: =IFERROR(AV10+AX10-BB10+BA10,0) -> 277009776 | BD10: =IF(COUNTIFS($D$2:$D10,$D10)=1,SUMIFS(BC:BC,$D:$D,$D10),0) -> 277009776 | BE10: 0.02 | BF10: =IFERROR(BE10*BD10,"") -> 5540195.5 | BG10: =IF(COUNTIFS($D$2:$D10,$D10)=1,SUMIFS(BF:BF,$D:$D,$D10),0) -> 5540195.5 | BH10: =IF(BD10<>"",BD10+BG10,"") -> 2.8254997e+08 | BI10: =IFERROR(BH10/SAL_2026,"") -> 161.37367 | BJ10: =X10+AK10-AJ10+BC10 -> 277009776 | BK10: =SUMIF($D:$D,$D:$D,$BJ:$BJ) -> 277009776 | BL10: =IF(COUNTIF($D$3:D10,D10)=1,BK10,"") -> 277009776 | BM10: =+IFERROR(AC10+BF10+AM10-AL10,0) -> 5540195.5 | BN10: =+IFERROR(Y10+AE10+AK10-AJ10+AM10-AL10+BD10+BF10+AD10,0) -> 2.8254997e+08 | BO10: =IF(AI10<>"",AI10/2,"") -> 0 | BP10: =+AQ10+BI10 -> 161.37367 | BQ10: =IF(A10="SI","",IF(BO10-BP10<0,0,BO10-BP10)) | BR10: =IFERROR(BQ10*SAL_2026,"") | BS10: =+(AI10+BP10) -> 161.37367 | BT10: =IF(BS10="","",IF(SUMIFS(BS:BS,R:R,R10)>5000,"ALERTA MAYOR QUE 5.000",""))
A11: SI | B11: 1834 | C11: SANTANDER | D11: 68008682025 | E11: =IF($A11="SI","",$D11) | G11: CZ CARLOS LLERAS RESTREPO | H11: Bucaramanga | I11: CENTRO DE DESARROLLO INFANTIL - SIN ARRIENDO - INSTITUCIONAL | J11: OPERADOR COMPONENTE PEDAGOGICO CON ALIMENTOS | K11: 1 | L11: =SUMIFS( zonificación!$AA:$AA, zonificación!$A:$A,B11, zonificación!$K:$K, G11, zonificación!$I:$I,H11, zonificación!$W:$W, I11) -> 167 | M11: =IF(COUNTIFS($D$2:$D11,D11)=1,SUMIFS($L:$L,D:D,D11),0) -> 167 | N11: 3 | O11: =IF(COUNTIFS($D$2:$D11,D11)=1,SUMIFS($K:$K,D:D,D11),0) -> 1 | P11: =IF(COUNTIFS($D$2:$D11,D11)=1,SUMIFS($M:$M,D:D,D11),0) -> 167 | Q11: Articulo 35 invitación cerrada – literal m | R11: 800048777 | S11: =IF($A11="SI","",$R11) | T11: FUNDACION ROMELIO | U11: =IF($A11="SI","",$T11) | V11: Institucional | W11: 46326 | X11: 0 | Y11: =IF(COUNTIFS($D$2:$D11,$D11)=1,SUMIFS(X:X,$D:$D,$D11),0) -> 0 | Z11: 0 | AA11: Descripción otros conceptos | AB11: 0 | AC11: =IF(COUNTIFS($D$2:$D11,$D11)=1,SUMIFS(AB:AB,$D:$D,$D11),0) -> 0 | AD11: =IF(COUNTIFS($D$2:$D11,$D11)=1,SUMIFS(Z:Z,$D:$D,$D11),0) -> 0 | AE11: =SUM(AC11:AD11) -> 0 | AF11: =+X11+AE11 -> 0 | AG11: =IF(COUNTIFS($D$2:$D11,$D11)=1,SUMIFS(AF:AF,$D:$D,$D11),0) -> 0 | AH11: =IF(E11="",2026,VALUE(RIGHT(E11,4))) -> 2026 | AI11: =AG11/VLOOKUP(AH11,SALARIOS!$A$1:$B$4,2,0) -> 0 | AJ11: 0 | AK11: 0 | AL11: 0 | AM11: 0 | AN11: =+AJ11+AL11 -> 0 | AO11: =+AK11+AM11 -> 0 | AP11: =((AK11-AJ11)/SAL_2026)+((AM11-AL11)/SAL_2026) -> 0 | AQ11: =VALUE(IF(COUNTIFS($D$2:$D11,$D11)=1,MAX(0,SUMIFS(AP:AP,$D:$D,$D11)),0)) -> 0 | AR11: =$AO11-$AN11 -> 0 | AS11: =IF(COUNTIFS($D$2:$D11,$D11)=1,SUMIFS(AR:AR,$D:$D,$D11),0) -> 0 | AT11: =IF(AS11="",AG11,AG11+AS11) -> 0 | AU11: =+AT11 -> 0 | AV11: =SUMIFS(Combinaciones!$K:$K,Combinaciones!$A:$A,I11,Combinaciones!$B:$B,J11,Combinaciones!$F:$F,N11)*L11 -> 282077028 | AW11: =IF(COUNTIFS($D$2:$D11,$D11)=1,SUMIFS(AV:AV,$D:$D,$D11),0) -> 282077028 | AX11: 0 | AY11: Descripción otros conceptos | BA11: =+IF(I11="HOGAR INFANTIL – INSTITUCIONAL",AZ11*(1750905*0.03)*N11,0) -> 0 | BB11: 0 | BC11: =IFERROR(AV11+AX11-BB11+BA11,0) -> 282077028 | BD11: =IF(COUNTIFS($D$2:$D11,$D11)=1,SUMIFS(BC:BC,$D:$D,$D11),0) -> 282077028 | BE11: 0.02 | BF11: =IFERROR(BE11*BD11,"") -> 5641540.6 | BG11: =IF(COUNTIFS($D$2:$D11,$D11)=1,SUMIFS(BF:BF,$D:$D,$D11),0) -> 5641540.6 | BH11: =IF(BD11<>"",BD11+BG11,"") -> 2.8771857e+08 | BI11: =IFERROR(BH11/SAL_2026,"") -> 164.32563 | BJ11: =X11+AK11-AJ11+BC11 -> 282077028 | BK11: =SUMIF($D:$D,$D:$D,$BJ:$BJ) -> 282077028 | BL11: =IF(COUNTIF($D$3:D11,D11)=1,BK11,"") -> 282077028 | BM11: =+IFERROR(AC11+BF11+AM11-AL11,0) -> 5641540.6 | BN11: =+IFERROR(Y11+AE11+AK11-AJ11+AM11-AL11+BD11+BF11+AD11,0) -> 2.8771857e+08 | BO11: =IF(AI11<>"",AI11/2,"") -> 0 | BP11: =+AQ11+BI11 -> 164.32563 | BQ11: =IF(A11="SI","",IF(BO11-BP11<0,0,BO11-BP11)) | BR11: =IFERROR(BQ11*SAL_2026,"") | BS11: =+(AI11+BP11) -> 164.32563 | BT11: =IF(BS11="","",IF(SUMIFS(BS:BS,R:R,R11)>5000,"ALERTA MAYOR QUE 5.000",""))
A12: SI | B12: 1835 | C12: SANTANDER | D12: 68008832025 | E12: =IF($A12="SI","",$D12) | G12: CZ BUCARAMANGA SUR | H12: Zapatoca | I12: CENTRO DE DESARROLLO INFANTIL - SIN ARRIENDO - INSTITUCIONAL | J12: OPERADOR COMPONENTE PEDAGOGICO CON ALIMENTOS | K12: 1 | L12: =SUMIFS( zonificación!$AA:$AA, zonificación!$A:$A,B12, zonificación!$K:$K, G12, zonificación!$I:$I,H12, zonificación!$W:$W, I12) -> 101 | M12: =IF(COUNTIFS($D$2:$D12,D12)=1,SUMIFS($L:$L,D:D,D12),0) -> 101 | N12: 3 | O12: =IF(COUNTIFS($D$2:$D12,D12)=1,SUMIFS($K:$K,D:D,D12),0) -> 1 | P12: =IF(COUNTIFS($D$2:$D12,D12)=1,SUMIFS($M:$M,D:D,D12),0) -> 101 | Q12: Articulo 35 invitación cerrada – literal m | R12: 890204066 | S12: =IF($A12="SI","",$R12) | T12: ASOCIACION SAN VICENTICO DE ZAPATOCA | U12: =IF($A12="SI","",$T12) | V12: Institucional | W12: 46326 | X12: 0 | Y12: =IF(COUNTIFS($D$2:$D12,$D12)=1,SUMIFS(X:X,$D:$D,$D12),0) -> 0 | Z12: 0 | AA12: Descripción otros conceptos | AB12: 0 | AC12: =IF(COUNTIFS($D$2:$D12,$D12)=1,SUMIFS(AB:AB,$D:$D,$D12),0) -> 0 | AD12: =IF(COUNTIFS($D$2:$D12,$D12)=1,SUMIFS(Z:Z,$D:$D,$D12),0) -> 0 | AE12: =SUM(AC12:AD12) -> 0 | AF12: =+X12+AE12 -> 0 | AG12: =IF(COUNTIFS($D$2:$D12,$D12)=1,SUMIFS(AF:AF,$D:$D,$D12),0) -> 0 | AH12: =IF(E12="",2026,VALUE(RIGHT(E12,4))) -> 2026 | AI12: =AG12/VLOOKUP(AH12,SALARIOS!$A$1:$B$4,2,0) -> 0 | AJ12: 0 | AK12: 0 | AL12: 0 | AM12: 0 | AN12: =+AJ12+AL12 -> 0 | AO12: =+AK12+AM12 -> 0 | AP12: =((AK12-AJ12)/SAL_2026)+((AM12-AL12)/SAL_2026) -> 0 | AQ12: =VALUE(IF(COUNTIFS($D$2:$D12,$D12)=1,MAX(0,SUMIFS(AP:AP,$D:$D,$D12)),0)) -> 0 | AR12: =$AO12-$AN12 -> 0 | AS12: =IF(COUNTIFS($D$2:$D12,$D12)=1,SUMIFS(AR:AR,$D:$D,$D12),0) -> 0 | AT12: =IF(AS12="",AG12,AG12+AS12) -> 0 | AU12: =+AT12 -> 0 | AV12: =SUMIFS(Combinaciones!$K:$K,Combinaciones!$A:$A,I12,Combinaciones!$B:$B,J12,Combinaciones!$F:$F,N12)*L12 -> 170597484 | AW12: =IF(COUNTIFS($D$2:$D12,$D12)=1,SUMIFS(AV:AV,$D:$D,$D12),0) -> 170597484 | AX12: 0 | AY12: Descripción otros conceptos | BA12: =+IF(I12="HOGAR INFANTIL – INSTITUCIONAL",AZ12*(1750905*0.03)*N12,0) -> 0 | BB12: 0 | BC12: =IFERROR(AV12+AX12-BB12+BA12,0) -> 170597484 | BD12: =IF(COUNTIFS($D$2:$D12,$D12)=1,SUMIFS(BC:BC,$D:$D,$D12),0) -> 170597484 | BE12: 0.02 | BF12: =IFERROR(BE12*BD12,"") -> 3411949.7 | BG12: =IF(COUNTIFS($D$2:$D12,$D12)=1,SUMIFS(BF:BF,$D:$D,$D12),0) -> 3411949.7 | BH12: =IF(BD12<>"",BD12+BG12,"") -> 1.7400943e+08 | BI12: =IFERROR(BH12/SAL_2026,"") -> 99.382567 | BJ12: =X12+AK12-AJ12+BC12 -> 170597484 | BK12: =SUMIF($D:$D,$D:$D,$BJ:$BJ) -> 170597484 | BL12: =IF(COUNTIF($D$3:D12,D12)=1,BK12,"") -> 170597484 | BM12: =+IFERROR(AC12+BF12+AM12-AL12,0) -> 3411949.7 | BN12: =+IFERROR(Y12+AE12+AK12-AJ12+AM12-AL12+BD12+BF12+AD12,0) -> 1.7400943e+08 | BO12: =IF(AI12<>"",AI12/2,"") -> 0 | BP12: =+AQ12+BI12 -> 99.382567 | BQ12: =IF(A12="SI","",IF(BO12-BP12<0,0,BO12-BP12)) | BR12: =IFERROR(BQ12*SAL_2026,"") | BS12: =+(AI12+BP12) -> 99.382567 | BT12: =IF(BS12="","",IF(SUMIFS(BS:BS,R:R,R12)>5000,"ALERTA MAYOR QUE 5.000",""))
A13: SI | B13: 1836 | C13: SANTANDER | D13: 68008672025 | E13: =IF($A13="SI","",$D13) | G13: CZ CARLOS LLERAS RESTREPO | H13: Bucaramanga | I13: HOGAR INFANTIL – INSTITUCIONAL | J13: OPERADOR COMPONENTE PEDAGOGICO CON ALIMENTOS | K13: 1 | L13: =SUMIFS( zonificación!$AA:$AA, zonificación!$A:$A,B13, zonificación!$K:$K, G13, zonificación!$I:$I,H13, zonificación!$W:$W, I13) -> 110 | M13: =IF(COUNTIFS($D$2:$D13,D13)=1,SUMIFS($L:$L,D:D,D13),0) -> 110 | N13: 3 | O13: =IF(COUNTIFS($D$2:$D13,D13)=1,SUMIFS($K:$K,D:D,D13),0) -> 1 | P13: =IF(COUNTIFS($D$2:$D13,D13)=1,SUMIFS($M:$M,D:D,D13),0) -> 110 | Q13: Articulo 35 invitación cerrada – literal m | R13: 890205135 | S13: =IF($A13="SI","",$R13) | T13: ASOCIACION DE PADRES DE FAMILIA HOGAR INANTIL ACOMUNAL ZONA 4 | U13: =IF($A13="SI","",$T13) | V13: Institucional | W13: 46326 | X13: 0 | Y13: =IF(COUNTIFS($D$2:$D13,$D13)=1,SUMIFS(X:X,$D:$D,$D13),0) -> 0 | Z13: 0 | AA13: Descripción otros conceptos | AB13: 0 | AC13: =IF(COUNTIFS($D$2:$D13,$D13)=1,SUMIFS(AB:AB,$D:$D,$D13),0) -> 0 | AD13: =IF(COUNTIFS($D$2:$D13,$D13)=1,SUMIFS(Z:Z,$D:$D,$D13),0) -> 0 | AE13: =SUM(AC13:AD13) -> 0 | AF13: =+X13+AE13 -> 0 | AG13: =IF(COUNTIFS($D$2:$D13,$D13)=1,SUMIFS(AF:AF,$D:$D,$D13),0) -> 0 | AH13: =IF(E13="",2026,VALUE(RIGHT(E13,4))) -> 2026 | AI13: =AG13/VLOOKUP(AH13,SALARIOS!$A$1:$B$4,2,0) -> 0 | AJ13: 0 | AK13: 0 | AL13: 0 | AM13: 0 | AN13: =+AJ13+AL13 -> 0 | AO13: =+AK13+AM13 -> 0 | AP13: =((AK13-AJ13)/SAL_2026)+((AM13-AL13)/SAL_2026) -> 0 | AQ13: =VALUE(IF(COUNTIFS($D$2:$D13,$D13)=1,MAX(0,SUMIFS(AP:AP,$D:$D,$D13)),0)) -> 0 | AR13: =$AO13-$AN13 -> 0 | AS13: =IF(COUNTIFS($D$2:$D13,$D13)=1,SUMIFS(AR:AR,$D:$D,$D13),0) -> 0 | AT13: =IF(AS13="",AG13,AG13+AS13) -> 0 | AU13: =+AT13 -> 0 | AV13: =SUMIFS(Combinaciones!$K:$K,Combinaciones!$A:$A,I13,Combinaciones!$B:$B,J13,Combinaciones!$F:$F,N13)*L13 -> 185799240 | AW13: =IF(COUNTIFS($D$2:$D13,$D13)=1,SUMIFS(AV:AV,$D:$D,$D13),0) -> 185799240 | AX13: 0 | AY13: Descripción otros conceptos | AZ13: 1 | BA13: =+IF(I13="HOGAR INFANTIL – INSTITUCIONAL",AZ13*(1750905*0.03)*N13,0) -> 157581.45 | BB13: 0 | BC13: =IFERROR(AV13+AX13-BB13+BA13,0) -> 1.8595682e+08 | BD13: =IF(COUNTIFS($D$2:$D13,$D13)=1,SUMIFS(BC:BC,$D:$D,$D13),0) -> 1.8595682e+08 | BE13: 0 | BF13: =IFERROR(BE13*BD13,"") -> 0 | BG13: =IF(COUNTIFS($D$2:$D13,$D13)=1,SUMIFS(BF:BF,$D:$D,$D13),0) -> 0 | BH13: =IF(BD13<>"",BD13+BG13,"") -> 1.8595682e+08 | BI13: =IFERROR(BH13/SAL_2026,"") -> 106.20612 | BJ13: =X13+AK13-AJ13+BC13 -> 1.8595682e+08 | BK13: =SUMIF($D:$D,$D:$D,$BJ:$BJ) -> 1.8595682e+08 | BL13: =IF(COUNTIF($D$3:D13,D13)=1,BK13,"") -> 1.8595682e+08 | BM13: =+IFERROR(AC13+BF13+AM13-AL13,0) -> 0 | BN13: =+IFERROR(Y13+AE13+AK13-AJ13+AM13-AL13+BD13+BF13+AD13,0) -> 1.8595682e+08 | BO13: =IF(AI13<>"",AI13/2,"") -> 0 | BP13: =+AQ13+BI13 -> 106.20612 | BQ13: =IF(A13="SI","",IF(BO13-BP13<0,0,BO13-BP13)) | BR13: =IFERROR(BQ13*SAL_2026,"") | BS13: =+(AI13+BP13) -> 106.20612 | BT13: =IF(BS13="","",IF(SUMIFS(BS:BS,R:R,R13)>5000,"ALERTA MAYOR QUE 5.000",""))
A14: SI | B14: 1837 | C14: SANTANDER | D14: 68008692025 | E14: =IF($A14="SI","",$D14) | G14: CZ CARLOS LLERAS RESTREPO | H14: Bucaramanga | I14: HOGAR INFANTIL – INSTITUCIONAL | J14: OPERADOR COMPONENTE PEDAGOGICO CON ALIMENTOS | K14: 1 | L14: =SUMIFS( zonificación!$AA:$AA, zonificación!$A:$A,B14, zonificación!$K:$K, G14, zonificación!$I:$I,H14, zonificación!$W:$W, I14) -> 104 | M14: =IF(COUNTIFS($D$2:$D14,D14)=1,SUMIFS($L:$L,D:D,D14),0) -> 104 | N14: 3 | O14: =IF(COUNTIFS($D$2:$D14,D14)=1,SUMIFS($K:$K,D:D,D14),0) -> 1 | P14: =IF(COUNTIFS($D$2:$D14,D14)=1,SUMIFS($M:$M,D:D,D14),0) -> 104 | Q14: Articulo 35 invitación cerrada – literal m | R14: 890208122 | S14: =IF($A14="SI","",$R14) | T14: ASOCIACION DE PADRES DE FAMILIA HOGAR INFANTIL EL TRENCITO | U14: =IF($A14="SI","",$T14) | V14: Institucional | W14: 46326 | X14: 0 | Y14: =IF(COUNTIFS($D$2:$D14,$D14)=1,SUMIFS(X:X,$D:$D,$D14),0) -> 0 | Z14: 0 | AA14: Descripción otros conceptos | AB14: 0 | AC14: =IF(COUNTIFS($D$2:$D14,$D14)=1,SUMIFS(AB:AB,$D:$D,$D14),0) -> 0 | AD14: =IF(COUNTIFS($D$2:$D14,$D14)=1,SUMIFS(Z:Z,$D:$D,$D14),0) -> 0 | AE14: =SUM(AC14:AD14) -> 0 | AF14: =+X14+AE14 -> 0 | AG14: =IF(COUNTIFS($D$2:$D14,$D14)=1,SUMIFS(AF:AF,$D:$D,$D14),0) -> 0 | AH14: =IF(E14="",2026,VALUE(RIGHT(E14,4))) -> 2026 | AI14: =AG14/VLOOKUP(AH14,SALARIOS!$A$1:$B$4,2,0) -> 0 | AJ14: 0 | AK14: 0 | AL14: 0 | AM14: 0 | AN14: =+AJ14+AL14 -> 0 | AO14: =+AK14+AM14 -> 0 | AP14: =((AK14-AJ14)/SAL_2026)+((AM14-AL14)/SAL_2026) -> 0 | AQ14: =VALUE(IF(COUNTIFS($D$2:$D14,$D14)=1,MAX(0,SUMIFS(AP:AP,$D:$D,$D14)),0)) -> 0 | AR14: =$AO14-$AN14 -> 0 | AS14: =IF(COUNTIFS($D$2:$D14,$D14)=1,SUMIFS(AR:AR,$D:$D,$D14),0) -> 0 | AT14: =IF(AS14="",AG14,AG14+AS14) -> 0 | AU14: =+AT14 -> 0 | AV14: =SUMIFS(Combinaciones!$K:$K,Combinaciones!$A:$A,I14,Combinaciones!$B:$B,J14,Combinaciones!$F:$F,N14)*L14 -> 175664736 | AW14: =IF(COUNTIFS($D$2:$D14,$D14)=1,SUMIFS(AV:AV,$D:$D,$D14),0) -> 175664736 | AX14: 0 | AY14: Descripción otros conceptos | AZ14: 3 | BA14: =+IF(I14="HOGAR INFANTIL – INSTITUCIONAL",AZ14*(1750905*0.03)*N14,0) -> 472744.35 | BB14: 0 | BC14: =IFERROR(AV14+AX14-BB14+BA14,0) -> 1.7613748e+08 | BD14: =IF(COUNTIFS($D$2:$D14,$D14)=1,SUMIFS(BC:BC,$D:$D,$D14),0) -> 1.7613748e+08 | BE14: 0 | BF14: =IFERROR(BE14*BD14,"") -> 0 | BG14: =IF(COUNTIFS($D$2:$D14,$D14)=1,SUMIFS(BF:BF,$D:$D,$D14),0) -> 0 | BH14: =IF(BD14<>"",BD14+BG14,"") -> 1.7613748e+08 | BI14: =IFERROR(BH14/SAL_2026,"") -> 100.59797 | BJ14: =X14+AK14-AJ14+BC14 -> 1.7613748e+08 | BK14: =SUMIF($D:$D,$D:$D,$BJ:$BJ) -> 1.7613748e+08 | BL14: =IF(COUNTIF($D$3:D14,D14)=1,BK14,"") -> 1.7613748e+08 | BM14: =+IFERROR(AC14+BF14+AM14-AL14,0) -> 0 | BN14: =+IFERROR(Y14+AE14+AK14-AJ14+AM14-AL14+BD14+BF14+AD14,0) -> 1.7613748e+08 | BO14: =IF(AI14<>"",AI14/2,"") -> 0 | BP14: =+AQ14+BI14 -> 100.59797 | BQ14: =IF(A14="SI","",IF(BO14-BP14<0,0,BO14-BP14)) | BR14: =IFERROR(BQ14*SAL_2026,"") | BS14: =+(AI14+BP14) -> 100.59797 | BT14: =IF(BS14="","",IF(SUMIFS(BS:BS,R:R,R14)>5000,"ALERTA MAYOR QUE 5.000",""))
A15: SI | B15: 1838 | C15: SANTANDER | D15: 68008702025 | E15: =IF($A15="SI","",$D15) | G15: CZ CARLOS LLERAS RESTREPO | H15: Bucaramanga | I15: HOGAR INFANTIL – INSTITUCIONAL | J15: OPERADOR COMPONENTE PEDAGOGICO CON ALIMENTOS | K15: 3 | L15: =SUMIFS( zonificación!$AA:$AA, zonificación!$A:$A,B15, zonificación!$K:$K, G15, zonificación!$I:$I,H15, zonificación!$W:$W, I15) -> 333 | M15: =IF(COUNTIFS($D$2:$D15,D15)=1,SUMIFS($L:$L,D:D,D15),0) -> 333 | N15: 3 | O15: =IF(COUNTIFS($D$2:$D15,D15)=1,SUMIFS($K:$K,D:D,D15),0) -> 3 | P15: =IF(COUNTIFS($D$2:$D15,D15)=1,SUMIFS($M:$M,D:D,D15),0) -> 333 | Q15: Articulo 35 invitación cerrada – literal m | R15: 890207407 | S15: =IF($A15="SI","",$R15) | T15: ASOCIACIÓN DE PADRES DE FAMILIA DEL HOGAR INFANTIL BAMBI | U15: =IF($A15="SI","",$T15) | V15: Institucional | W15: 46326 | X15: 0 | Y15: =IF(COUNTIFS($D$2:$D15,$D15)=1,SUMIFS(X:X,$D:$D,$D15),0) -> 0 | Z15: 0 | AA15: Descripción otros conceptos | AB15: 0 | AC15: =IF(COUNTIFS($D$2:$D15,$D15)=1,SUMIFS(AB:AB,$D:$D,$D15),0) -> 0 | AD15: =IF(COUNTIFS($D$2:$D15,$D15)=1,SUMIFS(Z:Z,$D:$D,$D15),0) -> 0 | AE15: =SUM(AC15:AD15) -> 0 | AF15: =+X15+AE15 -> 0 | AG15: =IF(COUNTIFS($D$2:$D15,$D15)=1,SUMIFS(AF:AF,$D:$D,$D15),0) -> 0 | AH15: =IF(E15="",2026,VALUE(RIGHT(E15,4))) -> 2026 | AI15: =AG15/VLOOKUP(AH15,SALARIOS!$A$1:$B$4,2,0) -> 0 | AJ15: 0 | AK15: 0 | AL15: 0 | AM15: 0 | AN15: =+AJ15+AL15 -> 0 | AO15: =+AK15+AM15 -> 0 | AP15: =((AK15-AJ15)/SAL_2026)+((AM15-AL15)/SAL_2026) -> 0 | AQ15: =VALUE(IF(COUNTIFS($D$2:$D15,$D15)=1,MAX(0,SUMIFS(AP:AP,$D:$D,$D15)),0)) -> 0 | AR15: =$AO15-$AN15 -> 0 | AS15: =IF(COUNTIFS($D$2:$D15,$D15)=1,SUMIFS(AR:AR,$D:$D,$D15),0) -> 0 | AT15: =IF(AS15="",AG15,AG15+AS15) -> 0 | AU15: =+AT15 -> 0 | AV15: =SUMIFS(Combinaciones!$K:$K,Combinaciones!$A:$A,I15,Combinaciones!$B:$B,J15,Combinaciones!$F:$F,N15)*L15 -> 562464972 | AW15: =IF(COUNTIFS($D$2:$D15,$D15)=1,SUMIFS(AV:AV,$D:$D,$D15),0) -> 562464972 | AX15: 0 | AY15: Descripción otros conceptos | AZ15: 8 | BA15: =+IF(I15="HOGAR INFANTIL – INSTITUCIONAL",AZ15*(1750905*0.03)*N15,0) -> 1260651.6 | BB15: 0 | BC15: =IFERROR(AV15+AX15-BB15+BA15,0) -> 5.6372562e+08 | BD15: =IF(COUNTIFS($D$2:$D15,$D15)=1,SUMIFS(BC:BC,$D:$D,$D15),0) -> 5.6372562e+08 | BE15: 0 | BF15: =IFERROR(BE15*BD15,"") -> 0 | BG15: =IF(COUNTIFS($D$2:$D15,$D15)=1,SUMIFS(BF:BF,$D:$D,$D15),0) -> 0 | BH15: =IF(BD15<>"",BD15+BG15,"") -> 5.6372562e+08 | BI15: =IFERROR(BH15/SAL_2026,"") -> 321.96243 | BJ15: =X15+AK15-AJ15+BC15 -> 5.6372562e+08 | BK15: =SUMIF($D:$D,$D:$D,$BJ:$BJ) -> 5.6372562e+08 | BL15: =IF(COUNTIF($D$3:D15,D15)=1,BK15,"") -> 5.6372562e+08 | BM15: =+IFERROR(AC15+BF15+AM15-AL15,0) -> 0 | BN15: =+IFERROR(Y15+AE15+AK15-AJ15+AM15-AL15+BD15+BF15+AD15,0) -> 5.6372562e+08 | BO15: =IF(AI15<>"",AI15/2,"") -> 0 | BP15: =+AQ15+BI15 -> 321.96243 | BQ15: =IF(A15="SI","",IF(BO15-BP15<0,0,BO15-BP15)) | BR15: =IFERROR(BQ15*SAL_2026,"") | BS15: =+(AI15+BP15) -> 321.96243 | BT15: =IF(BS15="","",IF(SUMIFS(BS:BS,R:R,R15)>5000,"ALERTA MAYOR QUE 5.000",""))
A16: SI | B16: 1839 | C16: SANTANDER | D16: 68008362025 | E16: =IF($A16="SI","",$D16) | G16: CZ MALAGA | H16: Capitanejo | I16: HOGAR INFANTIL – INSTITUCIONAL | J16: OPERADOR COMPONENTE PEDAGOGICO CON ALIMENTOS | K16: 1 | L16: =SUMIFS( zonificación!$AA:$AA, zonificación!$A:$A,B16, zonificación!$K:$K, G16, zonificación!$I:$I,H16, zonificación!$W:$W, I16) -> 24 | M16: =IF(COUNTIFS($D$2:$D16,D16)=1,SUMIFS($L:$L,D:D,D16),0) -> 24 | N16: 3 | O16: =IF(COUNTIFS($D$2:$D16,D16)=1,SUMIFS($K:$K,D:D,D16),0) -> 1 | P16: =IF(COUNTIFS($D$2:$D16,D16)=1,SUMIFS($M:$M,D:D,D16),0) -> 24 | Q16: Articulo 35 invitación cerrada – literal m | R16: 804016790 | S16: =IF($A16="SI","",$R16) | T16: ASOCIACION DE PADRES DE FAMILIA Y VECINOS DEL CENTRO | U16: =IF($A16="SI","",$T16) | V16: Institucional | W16: 46326 | X16: 0 | Y16: =IF(COUNTIFS($D$2:$D16,$D16)=1,SUMIFS(X:X,$D:$D,$D16),0) -> 0 | Z16: 0 | AA16: Descripción otros conceptos | AB16: 0 | AC16: =IF(COUNTIFS($D$2:$D16,$D16)=1,SUMIFS(AB:AB,$D:$D,$D16),0) -> 0 | AD16: =IF(COUNTIFS($D$2:$D16,$D16)=1,SUMIFS(Z:Z,$D:$D,$D16),0) -> 0 | AE16: =SUM(AC16:AD16) -> 0 | AF16: =+X16+AE16 -> 0 | AG16: =IF(COUNTIFS($D$2:$D16,$D16)=1,SUMIFS(AF:AF,$D:$D,$D16),0) -> 0 | AH16: =IF(E16="",2026,VALUE(RIGHT(E16,4))) -> 2026 | AI16: =AG16/VLOOKUP(AH16,SALARIOS!$A$1:$B$4,2,0) -> 0 | AJ16: 0 | AK16: 0 | AL16: 0 | AM16: 0 | AN16: =+AJ16+AL16 -> 0 | AO16: =+AK16+AM16 -> 0 | AP16: =((AK16-AJ16)/SAL_2026)+((AM16-AL16)/SAL_2026) -> 0 | AQ16: =VALUE(IF(COUNTIFS($D$2:$D16,$D16)=1,MAX(0,SUMIFS(AP:AP,$D:$D,$D16)),0)) -> 0 | AR16: =$AO16-$AN16 -> 0 | AS16: =IF(COUNTIFS($D$2:$D16,$D16)=1,SUMIFS(AR:AR,$D:$D,$D16),0) -> 0 | AT16: =IF(AS16="",AG16,AG16+AS16) -> 0 | AU16: =+AT16 -> 0 | AV16: =SUMIFS(Combinaciones!$K:$K,Combinaciones!$A:$A,I16,Combinaciones!$B:$B,J16,Combinaciones!$F:$F,N16)*L16 -> 40538016 | AW16: =IF(COUNTIFS($D$2:$D16,$D16)=1,SUMIFS(AV:AV,$D:$D,$D16),0) -> 40538016 | AX16: 0 | AY16: Descripción otros conceptos | AZ16: 1 | BA16: =+IF(I16="HOGAR INFANTIL – INSTITUCIONAL",AZ16*(1750905*0.03)*N16,0) -> 157581.45 | BB16: 0 | BC16: =IFERROR(AV16+AX16-BB16+BA16,0) -> 40695597 | BD16: =IF(COUNTIFS($D$2:$D16,$D16)=1,SUMIFS(BC:BC,$D:$D,$D16),0) -> 40695597 | BE16: 0 | BF16: =IFERROR(BE16*BD16,"") -> 0 | BG16: =IF(COUNTIFS($D$2:$D16,$D16)=1,SUMIFS(BF:BF,$D:$D,$D16),0) -> 0 | BH16: =IF(BD16<>"",BD16+BG16,"") -> 40695597 | BI16: =IFERROR(BH16/SAL_2026,"") -> 23.242607 | BJ16: =X16+AK16-AJ16+BC16 -> 40695597 | BK16: =SUMIF($D:$D,$D:$D,$BJ:$BJ) -> 40695597 | BL16: =IF(COUNTIF($D$3:D16,D16)=1,BK16,"") -> 40695597 | BM16: =+IFERROR(AC16+BF16+AM16-AL16,0) -> 0 | BN16: =+IFERROR(Y16+AE16+AK16-AJ16+AM16-AL16+BD16+BF16+AD16,0) -> 40695597 | BO16: =IF(AI16<>"",AI16/2,"") -> 0 | BP16: =+AQ16+BI16 -> 23.242607 | BQ16: =IF(A16="SI","",IF(BO16-BP16<0,0,BO16-BP16)) | BR16: =IFERROR(BQ16*SAL_2026,"") | BS16: =+(AI16+BP16) -> 23.242607 | BT16: =IF(BS16="","",IF(SUMIFS(BS:BS,R:R,R16)>5000,"ALERTA MAYOR QUE 5.000",""))
A17: SI | B17: 1840 | C17: SANTANDER | D17: 68008492025 | E17: =IF($A17="SI","",$D17) | G17: CZ BUCARAMANGA SUR | H17: Floridablanca | I17: HOGAR INFANTIL – INSTITUCIONAL | J17: OPERADOR COMPONENTE PEDAGOGICO CON ALIMENTOS | K17: 1 | L17: =SUMIFS( zonificación!$AA:$AA, zonificación!$A:$A,B17, zonificación!$K:$K, G17, zonificación!$I:$I,H17, zonificación!$W:$W, I17) -> 130 | M17: =IF(COUNTIFS($D$2:$D17,D17)=1,SUMIFS($L:$L,D:D,D17),0) -> 130 | N17: 3 | O17: =IF(COUNTIFS($D$2:$D17,D17)=1,SUMIFS($K:$K,D:D,D17),0) -> 1 | P17: =IF(COUNTIFS($D$2:$D17,D17)=1,SUMIFS($M:$M,D:D,D17),0) -> 130 | Q17: Articulo 35 invitación cerrada – literal m | R17: 890204995 | S17: =IF($A17="SI","",$R17) | T17: HOGAR INFANTIL CENTRO COMUNITARIO PARA LA INFANCIA LA CUMBRE | U17: =IF($A17="SI","",$T17) | V17: Institucional | W17: 46326 | X17: 0 | Y17: =IF(COUNTIFS($D$2:$D17,$D17)=1,SUMIFS(X:X,$D:$D,$D17),0) -> 0 | Z17: 0 | AA17: Descripción otros conceptos | AB17: 0 | AC17: =IF(COUNTIFS($D$2:$D17,$D17)=1,SUMIFS(AB:AB,$D:$D,$D17),0) -> 0 | AD17: =IF(COUNTIFS($D$2:$D17,$D17)=1,SUMIFS(Z:Z,$D:$D,$D17),0) -> 0 | AE17: =SUM(AC17:AD17) -> 0 | AF17: =+X17+AE17 -> 0 | AG17: =IF(COUNTIFS($D$2:$D17,$D17)=1,SUMIFS(AF:AF,$D:$D,$D17),0) -> 0 | AH17: =IF(E17="",2026,VALUE(RIGHT(E17,4))) -> 2026 | AI17: =AG17/VLOOKUP(AH17,SALARIOS!$A$1:$B$4,2,0) -> 0 | AJ17: 0 | AK17: 0 | AL17: 0 | AM17: 0 | AN17: =+AJ17+AL17 -> 0 | AO17: =+AK17+AM17 -> 0 | AP17: =((AK17-AJ17)/SAL_2026)+((AM17-AL17)/SAL_2026) -> 0 | AQ17: =VALUE(IF(COUNTIFS($D$2:$D17,$D17)=1,MAX(0,SUMIFS(AP:AP,$D:$D,$D17)),0)) -> 0 | AR17: =$AO17-$AN17 -> 0 | AS17: =IF(COUNTIFS($D$2:$D17,$D17)=1,SUMIFS(AR:AR,$D:$D,$D17),0) -> 0 | AT17: =IF(AS17="",AG17,AG17+AS17) -> 0 | AU17: =+AT17 -> 0 | AV17: =SUMIFS(Combinaciones!$K:$K,Combinaciones!$A:$A,I17,Combinaciones!$B:$B,J17,Combinaciones!$F:$F,N17)*L17 -> 219580920 | AW17: =IF(COUNTIFS($D$2:$D17,$D17)=1,SUMIFS(AV:AV,$D:$D,$D17),0) -> 219580920 | AX17: 0 | AY17: Descripción otros conceptos | AZ17: 11 | BA17: =+IF(I17="HOGAR INFANTIL – INSTITUCIONAL",AZ17*(1750905*0.03)*N17,0) -> 1733396 | BB17: 0 | BC17: =IFERROR(AV17+AX17-BB17+BA17,0) -> 2.2131432e+08 | BD17: =IF(COUNTIFS($D$2:$D17,$D17)=1,SUMIFS(BC:BC,$D:$D,$D17),0) -> 2.2131432e+08 | BE17: 0 | BF17: =IFERROR(BE17*BD17,"") -> 0 | BG17: =IF(COUNTIFS($D$2:$D17,$D17)=1,SUMIFS(BF:BF,$D:$D,$D17),0) -> 0 | BH17: =IF(BD17<>"",BD17+BG17,"") -> 2.2131432e+08 | BI17: =IFERROR(BH17/SAL_2026,"") -> 126.39996 | BJ17: =X17+AK17-AJ17+BC17 -> 2.2131432e+08 | BK17: =SUMIF($D:$D,$D:$D,$BJ:$BJ) -> 2.2131432e+08 | BL17: =IF(COUNTIF($D$3:D17,D17)=1,BK17,"") -> 2.2131432e+08 | BM17: =+IFERROR(AC17+BF17+AM17-AL17,0) -> 0 | BN17: =+IFERROR(Y17+AE17+AK17-AJ17+AM17-AL17+BD17+BF17+AD17,0) -> 2.2131432e+08 | BO17: =IF(AI17<>"",AI17/2,"") -> 0 | BP17: =+AQ17+BI17 -> 126.39996 | BQ17: =IF(A17="SI","",IF(BO17-BP17<0,0,BO17-BP17)) | BR17: =IFERROR(BQ17*SAL_2026,"") | BS17: =+(AI17+BP17) -> 126.39996 | BT17: =IF(BS17="","",IF(SUMIFS(BS:BS,R:R,R17)>5000,"ALERTA MAYOR QUE 5.000",""))
A18: SI | B18: 1841 | C18: SANTANDER | D18: 68008512025 | E18: =IF($A18="SI","",$D18) | G18: CZ BUCARAMANGA SUR | H18: Floridablanca | I18: HOGAR INFANTIL – INSTITUCIONAL | J18: OPERADOR COMPONENTE PEDAGOGICO CON ALIMENTOS | K18: 1 | L18: =SUMIFS( zonificación!$AA:$AA, zonificación!$A:$A,B18, zonificación!$K:$K, G18, zonificación!$I:$I,H18, zonificación!$W:$W, I18) -> 100 | M18: =IF(COUNTIFS($D$2:$D18,D18)=1,SUMIFS($L:$L,D:D,D18),0) -> 100 | N18: 3 | O18: =IF(COUNTIFS($D$2:$D18,D18)=1,SUMIFS($K:$K,D:D,D18),0) -> 1 | P18: =IF(COUNTIFS($D$2:$D18,D18)=1,SUMIFS($M:$M,D:D,D18),0) -> 100 | Q18: Articulo 35 invitación cerrada – literal m | R18: 890207427 | S18: =IF($A18="SI","",$R18) | T18: ASOCIACION DE PADRES DE FAMILIA DEL HOGAR INFANTIL PICARDIAS | U18: =IF($A18="SI","",$T18) | V18: Institucional | W18: 46326 | X18: 0 | Y18: =IF(COUNTIFS($D$2:$D18,$D18)=1,SUMIFS(X:X,$D:$D,$D18),0) -> 0 | Z18: 0 | AA18: Descripción otros conceptos | AB18: 0 | AC18: =IF(COUNTIFS($D$2:$D18,$D18)=1,SUMIFS(AB:AB,$D:$D,$D18),0) -> 0 | AD18: =IF(COUNTIFS($D$2:$D18,$D18)=1,SUMIFS(Z:Z,$D:$D,$D18),0) -> 0 | AE18: =SUM(AC18:AD18) -> 0 | AF18: =+X18+AE18 -> 0 | AG18: =IF(COUNTIFS($D$2:$D18,$D18)=1,SUMIFS(AF:AF,$D:$D,$D18),0) -> 0 | AH18: =IF(E18="",2026,VALUE(RIGHT(E18,4))) -> 2026 | AI18: =AG18/VLOOKUP(AH18,SALARIOS!$A$1:$B$4,2,0) -> 0 | AJ18: 0 | AK18: 0 | AL18: 0 | AM18: 0 | AN18: =+AJ18+AL18 -> 0 | AO18: =+AK18+AM18 -> 0 | AP18: =((AK18-AJ18)/SAL_2026)+((AM18-AL18)/SAL_2026) -> 0 | AQ18: =VALUE(IF(COUNTIFS($D$2:$D18,$D18)=1,MAX(0,SUMIFS(AP:AP,$D:$D,$D18)),0)) -> 0 | AR18: =$AO18-$AN18 -> 0 | AS18: =IF(COUNTIFS($D$2:$D18,$D18)=1,SUMIFS(AR:AR,$D:$D,$D18),0) -> 0 | AT18: =IF(AS18="",AG18,AG18+AS18) -> 0 | AU18: =+AT18 -> 0 | AV18: =SUMIFS(Combinaciones!$K:$K,Combinaciones!$A:$A,I18,Combinaciones!$B:$B,J18,Combinaciones!$F:$F,N18)*L18 -> 168908400 | AW18: =IF(COUNTIFS($D$2:$D18,$D18)=1,SUMIFS(AV:AV,$D:$D,$D18),0) -> 168908400 | AX18: 0 | AY18: Descripción otros conceptos | AZ18: 5 | BA18: =+IF(I18="HOGAR INFANTIL – INSTITUCIONAL",AZ18*(1750905*0.03)*N18,0) -> 787907.25 | BB18: 0 | BC18: =IFERROR(AV18+AX18-BB18+BA18,0) -> 1.6969631e+08 | BD18: =IF(COUNTIFS($D$2:$D18,$D18)=1,SUMIFS(BC:BC,$D:$D,$D18),0) -> 1.6969631e+08 | BE18: 0 | BF18: =IFERROR(BE18*BD18,"") -> 0 | BG18: =IF(COUNTIFS($D$2:$D18,$D18)=1,SUMIFS(BF:BF,$D:$D,$D18),0) -> 0 | BH18: =IF(BD18<>"",BD18+BG18,"") -> 1.6969631e+08 | BI18: =IFERROR(BH18/SAL_2026,"") -> 96.919197 | BJ18: =X18+AK18-AJ18+BC18 -> 1.6969631e+08 | BK18: =SUMIF($D:$D,$D:$D,$BJ:$BJ) -> 1.6969631e+08 | BL18: =IF(COUNTIF($D$3:D18,D18)=1,BK18,"") -> 1.6969631e+08 | BM18: =+IFERROR(AC18+BF18+AM18-AL18,0) -> 0 | BN18: =+IFERROR(Y18+AE18+AK18-AJ18+AM18-AL18+BD18+BF18+AD18,0) -> 1.6969631e+08 | BO18: =IF(AI18<>"",AI18/2,"") -> 0 | BP18: =+AQ18+BI18 -> 96.919197 | BQ18: =IF(A18="SI","",IF(BO18-BP18<0,0,BO18-BP18)) | BR18: =IFERROR(BQ18*SAL_2026,"") | BS18: =+(AI18+BP18) -> 96.919197 | BT18: =IF(BS18="","",IF(SUMIFS(BS:BS,R:R,R18)>5000,"ALERTA MAYOR QUE 5.000",""))
A19: SI | B19: 1842 | C19: SANTANDER | D19: 68008522025 | E19: =IF($A19="SI","",$D19) | G19: CZ BUCARAMANGA SUR | H19: Floridablanca | I19: HOGAR INFANTIL – INSTITUCIONAL | J19: OPERADOR COMPONENTE PEDAGOGICO CON ALIMENTOS | K19: 1 | L19: =SUMIFS( zonificación!$AA:$AA, zonificación!$A:$A,B19, zonificación!$K:$K, G19, zonificación!$I:$I,H19, zonificación!$W:$W, I19) -> 130 | M19: =IF(COUNTIFS($D$2:$D19,D19)=1,SUMIFS($L:$L,D:D,D19),0) -> 130 | N19: 3 | O19: =IF(COUNTIFS($D$2:$D19,D19)=1,SUMIFS($K:$K,D:D,D19),0) -> 1 | P19: =IF(COUNTIFS($D$2:$D19,D19)=1,SUMIFS($M:$M,D:D,D19),0) -> 130 | Q19: Articulo 35 invitación cerrada – literal m | R19: 890207418 | S19: =IF($A19="SI","",$R19) | T19: ASOCIACION DE PADRES DE FAMILIA DEL HOGAR INFANTILDINO | U19: =IF($A19="SI","",$T19) | V19: Institucional | W19: 46326 | X19: 0 | Y19: =IF(COUNTIFS($D$2:$D19,$D19)=1,SUMIFS(X:X,$D:$D,$D19),0) -> 0 | Z19: 0 | AA19: Descripción otros conceptos | AB19: 0 | AC19: =IF(COUNTIFS($D$2:$D19,$D19)=1,SUMIFS(AB:AB,$D:$D,$D19),0) -> 0 | AD19: =IF(COUNTIFS($D$2:$D19,$D19)=1,SUMIFS(Z:Z,$D:$D,$D19),0) -> 0 | AE19: =SUM(AC19:AD19) -> 0 | AF19: =+X19+AE19 -> 0 | AG19: =IF(COUNTIFS($D$2:$D19,$D19)=1,SUMIFS(AF:AF,$D:$D,$D19),0) -> 0 | AH19: =IF(E19="",2026,VALUE(RIGHT(E19,4))) -> 2026 | AI19: =AG19/VLOOKUP(AH19,SALARIOS!$A$1:$B$4,2,0) -> 0 | AJ19: 0 | AK19: 0 | AL19: 0 | AM19: 0 | AN19: =+AJ19+AL19 -> 0 | AO19: =+AK19+AM19 -> 0 | AP19: =((AK19-AJ19)/SAL_2026)+((AM19-AL19)/SAL_2026) -> 0 | AQ19: =VALUE(IF(COUNTIFS($D$2:$D19,$D19)=1,MAX(0,SUMIFS(AP:AP,$D:$D,$D19)),0)) -> 0 | AR19: =$AO19-$AN19 -> 0 | AS19: =IF(COUNTIFS($D$2:$D19,$D19)=1,SUMIFS(AR:AR,$D:$D,$D19),0) -> 0 | AT19: =IF(AS19="",AG19,AG19+AS19) -> 0 | AU19: =+AT19 -> 0 | AV19: =SUMIFS(Combinaciones!$K:$K,Combinaciones!$A:$A,I19,Combinaciones!$B:$B,J19,Combinaciones!$F:$F,N19)*L19 -> 219580920 | AW19: =IF(COUNTIFS($D$2:$D19,$D19)=1,SUMIFS(AV:AV,$D:$D,$D19),0) -> 219580920 | AX19: 0 | AY19: Descripción otros conceptos | AZ19: 2 | BA19: =+IF(I19="HOGAR INFANTIL – INSTITUCIONAL",AZ19*(1750905*0.03)*N19,0) -> 315162.9 | BB19: 0 | BC19: =IFERROR(AV19+AX19-BB19+BA19,0) -> 2.1989608e+08 | BD19: =IF(COUNTIFS($D$2:$D19,$D19)=1,SUMIFS(BC:BC,$D:$D,$D19),0) -> 2.1989608e+08 | BE19: 0 | BF19: =IFERROR(BE19*BD19,"") -> 0 | BG19: =IF(COUNTIFS($D$2:$D19,$D19)=1,SUMIFS(BF:BF,$D:$D,$D19),0) -> 0 | BH19: =IF(BD19<>"",BD19+BG19,"") -> 2.1989608e+08 | BI19: =IFERROR(BH19/SAL_2026,"") -> 125.58996 | BJ19: =X19+AK19-AJ19+BC19 -> 2.1989608e+08 | BK19: =SUMIF($D:$D,$D:$D,$BJ:$BJ) -> 2.1989608e+08 | BL19: =IF(COUNTIF($D$3:D19,D19)=1,BK19,"") -> 2.1989608e+08 | BM19: =+IFERROR(AC19+BF19+AM19-AL19,0) -> 0 | BN19: =+IFERROR(Y19+AE19+AK19-AJ19+AM19-AL19+BD19+BF19+AD19,0) -> 2.1989608e+08 | BO19: =IF(AI19<>"",AI19/2,"") -> 0 | BP19: =+AQ19+BI19 -> 125.58996 | BQ19: =IF(A19="SI","",IF(BO19-BP19<0,0,BO19-BP19)) | BR19: =IFERROR(BQ19*SAL_2026,"") | BS19: =+(AI19+BP19) -> 125.58996 | BT19: =IF(BS19="","",IF(SUMIFS(BS:BS,R:R,R19)>5000,"ALERTA MAYOR QUE 5.000",""))
A20: SI | B20: 1843 | C20: SANTANDER | D20: 68008262025 | E20: =IF($A20="SI","",$D20) | G20: CZ YARIQUIES | H20: Barrancabermeja | I20: HOGAR INFANTIL – INSTITUCIONAL | J20: OPERADOR COMPONENTE PEDAGOGICO CON ALIMENTOS | K20: 2 | L20: =SUMIFS( zonificación!$AA:$AA, zonificación!$A:$A,B20, zonificación!$K:$K, G20, zonificación!$I:$I,H20, zonificación!$W:$W, I20) -> 110 | M20: =IF(COUNTIFS($D$2:$D20,D20)=1,SUMIFS($L:$L,D:D,D20),0) -> 110 | N20: 3 | O20: =IF(COUNTIFS($D$2:$D20,D20)=1,SUMIFS($K:$K,D:D,D20),0) -> 2 | P20: =IF(COUNTIFS($D$2:$D20,D20)=1,SUMIFS($M:$M,D:D,D20),0) -> 110 | Q20: Articulo 35 invitación cerrada – literal m | R20: 890270632 | S20: =IF($A20="SI","",$R20) | T20: HOGAR INFANTIL CIUDADELA DEL NIÑO | U20: =IF($A20="SI","",$T20) | V20: Institucional | W20: 46326 | X20: 0 | Y20: =IF(COUNTIFS($D$2:$D20,$D20)=1,SUMIFS(X:X,$D:$D,$D20),0) -> 0 | Z20: 0 | AA20: Descripción otros conceptos | AB20: 0 | AC20: =IF(COUNTIFS($D$2:$D20,$D20)=1,SUMIFS(AB:AB,$D:$D,$D20),0) -> 0 | AD20: =IF(COUNTIFS($D$2:$D20,$D20)=1,SUMIFS(Z:Z,$D:$D,$D20),0) -> 0 | AE20: =SUM(AC20:AD20) -> 0 | AF20: =+X20+AE20 -> 0 | AG20: =IF(COUNTIFS($D$2:$D20,$D20)=1,SUMIFS(AF:AF,$D:$D,$D20),0) -> 0 | AH20: =IF(E20="",2026,VALUE(RIGHT(E20,4))) -> 2026 | AI20: =AG20/VLOOKUP(AH20,SALARIOS!$A$1:$B$4,2,0) -> 0 | AJ20: 0 | AK20: 0 | AL20: 0 | AM20: 0 | AN20: =+AJ20+AL20 -> 0 | AO20: =+AK20+AM20 -> 0 | AP20: =((AK20-AJ20)/SAL_2026)+((AM20-AL20)/SAL_2026) -> 0 | AQ20: =VALUE(IF(COUNTIFS($D$2:$D20,$D20)=1,MAX(0,SUMIFS(AP:AP,$D:$D,$D20)),0)) -> 0 | AR20: =$AO20-$AN20 -> 0 | AS20: =IF(COUNTIFS($D$2:$D20,$D20)=1,SUMIFS(AR:AR,$D:$D,$D20),0) -> 0 | AT20: =IF(AS20="",AG20,AG20+AS20) -> 0 | AU20: =+AT20 -> 0 | AV20: =SUMIFS(Combinaciones!$K:$K,Combinaciones!$A:$A,I20,Combinaciones!$B:$B,J20,Combinaciones!$F:$F,N20)*L20 -> 185799240 | AW20: =IF(COUNTIFS($D$2:$D20,$D20)=1,SUMIFS(AV:AV,$D:$D,$D20),0) -> 185799240 | AX20: 0 | AY20: Descripción otros conceptos | AZ20: 2 | BA20: =+IF(I20="HOGAR INFANTIL – INSTITUCIONAL",AZ20*(1750905*0.03)*N20,0) -> 315162.9 | BB20: 0 | BC20: =IFERROR(AV20+AX20-BB20+BA20,0) -> 1.861144e+08 | BD20: =IF(COUNTIFS($D$2:$D20,$D20)=1,SUMIFS(BC:BC,$D:$D,$D20),0) -> 1.861144e+08 | BE20: 0 | BF20: =IFERROR(BE20*BD20,"") -> 0 | BG20: =IF(COUNTIFS($D$2:$D20,$D20)=1,SUMIFS(BF:BF,$D:$D,$D20),0) -> 0 | BH20: =IF(BD20<>"",BD20+BG20,"") -> 1.861144e+08 | BI20: =IFERROR(BH20/SAL_2026,"") -> 106.29612 | BJ20: =X20+AK20-AJ20+BC20 -> 1.861144e+08 | BK20: =SUMIF($D:$D,$D:$D,$BJ:$BJ) -> 1.861144e+08 | BL20: =IF(COUNTIF($D$3:D20,D20)=1,BK20,"") -> 1.861144e+08 | BM20: =+IFERROR(AC20+BF20+AM20-AL20,0) -> 0 | BN20: =+IFERROR(Y20+AE20+AK20-AJ20+AM20-AL20+BD20+BF20+AD20,0) -> 1.861144e+08 | BO20: =IF(AI20<>"",AI20/2,"") -> 0 | BP20: =+AQ20+BI20 -> 106.29612 | BQ20: =IF(A20="SI","",IF(BO20-BP20<0,0,BO20-BP20)) | BR20: =IFERROR(BQ20*SAL_2026,"") | BS20: =+(AI20+BP20) -> 106.29612 | BT20: =IF(BS20="","",IF(SUMIFS(BS:BS,R:R,R20)>5000,"ALERTA MAYOR QUE 5.000",""))
