Workbook
Name \0: #REF!
Name \0: #REF!
Name \0: #REF!
Name \0: #REF!
Name \0: #REF!
Name \0: #REF!
Name \0: #REF!
Name \0: #REF!
Name \0: #REF!
Name \0: #REF!
Name \0: #REF!
Name \0: #REF!
Name \0: #REF!
Name \00: #REF!
Name \00: #REF!
Name \00: #REF!
Name \00: #REF!
Name \00: #REF!
Name \a: #REF!
Name \AA: #REF!
Name \AA: #REF!
Name \AA: #REF!
Name \AA: #REF!
Name \AA: #REF!
Name \b: #REF!
Name \b: #REF!
Name \b: #REF!
Name \b: #REF!
Name \b: #REF!
Name \b: #REF!
Name \b: #REF!
Name \b: #REF!
Name \bb: #REF!
Name \bb: #REF!
Name \bb: #REF!
Name \bb: #REF!
Name \bb: #REF!
Name \c: #REF!
Name \c: #REF!
Name \c: #REF!
Name \c: #REF!
Name \c: #REF!
Name \c: #REF!
Name \c: #REF!
Name \c: #REF!
Name \e: #REF!
Name \E: #REF!
Name \e: #REF!
Name \e: #REF!
Name \e: #REF!
Name \e: #REF!
Name \e: #REF!
Name \e: #REF!
Name \E: #REF!
Name \e: #REF!
Name \e: #REF!
Name \E: #REF!
Name \EE: #REF!
Name \EE: #REF!
Name \EE: #REF!

Sheet PRESUPUESTO OFICIAL (Entidad)
B1: Formulario 1 - Propuesta económica - Documento tipo de selección abreviada de menor cuantía - versión 1
B2: Versión: 1 del 21 de agosto de 2025
C5: FORMULARIO 1
C6: PRESUPUESTO OFICIAL
C7: [La entidad puede utilizar este formulario de detalle del presupuesto oficial para determinar las condiciones bajo las cuales los proponentes analizarán y presentarán su propuesta económica de forma detallada, sin perjuicio que la entidad pueda modificarlo o establecer la presentación de la oferta económica con un formulario distinto al indicado.]
C9: Adicionalmente, cuando el proceso de contratación es estructurado por precios unitarios, la Entidad debe aplicar las notas 1, 2 y 3 del presente formulario y las casillas de "Descripción", "Porcentaje" de la Administración, Imprevisto, Utilidad y total A.I.U. resaltadas en colo amarillo. Tratándose de otras modalidades de precio, la Entidad puede o no configurar los mismos aspectos.
C10: CONSTRUCCION DE CUBIERTA EN PLACA POLIDEPORTIVA DE LA I.E. Y OTRAS OBRAS EN LA VIA DE LA VEREDA EL CANO
C11: Nº | D11: ITEM DE PAGO | E11: ESPECIFICACIONES | G11: DESCRIPCION | H11: UND. | I11: CANTIDAD | J11: VALOR UNITARIO | K11: VALOR TOTAL
E12: GENERAL | F12: PARTICULAR
C13: EXCAVACIONES Y LLENOS Y PRELIMINARES
C14: 1 | D14: 1.1 | G14: Demolición manual de concreto de cualquier tipo: reforzado, simple, ciclópeo donde se requiera como en columnas, vigas, fundaciones.(Incluye botada de escombros, acarreo interno y almacenamiento temporal en obra) | H14: m³ | I14: 1 | J14: =+'CAP 1'!E31 -> 156262.8 | K14: =+J14*I14 -> 156262.8
C15: 2 | D15: 1.2 | G15: EXCAVACIÓN MANUAL Y BOTADA DE MATERIAL heterogéneo DE 0-2 m., bajo cualquier grado de humedad. Incluye: roca descompuesta, bolas de roca de volúmen inferior a 0.35 m³., el cargue, transporte interno y externo, botada de material proveniente de las excavaciones en los botaderos oficiales y su medida será en el sitio. No incluye entibado. | H15: m³ | I15: 6 | J15: =+'CAP 1'!E63 -> 96131.4 | K15: =+J15*I15 -> 576788.4
C16: 3 | D16: 1.3 | G16: LLENO COMPACTADO CON MATERIAL SELECCIONADO | H16: m³ | I16: 20 | J16: =+'CAP 1'!E96 -> 182404.4 | K16: =+J16*I16 -> 3648088
C17: Subtotal | K17: =SUM(K14:K16) -> 4381139.2
C18: ESTRUCTURA
C19: 4 | D19: 2.1 | G19: suministro transporte y construcción de solado en concreto simple de 17 Mpa y espesor 5 cm, de acuerdo a los niveles y especificaciones dados en los planos o indicaciones del supervisior. | H19: m³ | I19: 0.25 | J19: =+'CAP 2'!E30 -> 647924.39 | K19: =+J19*I19 -> 161981.1
C20: 5 | D20: 2.2 | G20: Suministro,transporte y construccion de concreto de 3000 psi para zapata,esp=30cm, incluye materiales, mano de obra y equipo necesario | H20: m³ | I20: 1.5000001 | J20: =+'CAP 2'!E64 -> 933382.04 | K20: =+J20*I20 -> 1400073.2
C21: 6 | D21: 2.3 | G21: Suministro transporte y construcción pedestales en concreto de 3000 psi, de seccion 35X35X1M m de altura, incluye materiales, mano de obra transporte y equipo necesario. | H21: m³ | I21: 1 | J21: =+'CAP 2'!E101 -> 1218716.1 | K21: =+J21*I21 -> 1218716.1
C22: 7 | D22: 2.4 | G22: Construccion de placa de piso en concreto de 3000 psi, de espesor 10cm reforzada con malla electrosoldada d-50, entresuelo en piedra acomodada de 20 cm | H22: m² | I22: 8 | J22: =+'CAP 2'!E138 -> 256389.44 | K22: =+J22*I22 -> 2051115.5
C23: Subtotal | K23: =SUM(K19:K22) -> 4831885.9
C24: ACERO
C25: 8 | D25: 3.1 | G25: Construcción y montaje de ESTRUCTURA METÁLICA, en PERFILERIA TIPO IPE, HEA, PHR-C, PTE para elementos de cubierta, columnas metalicas, según diseño. Incluye: suministro y transporte de láminas, platinas, uniones, soldaduras de acabado o presentación, anclajes y pernos a estructura de concreto y madera. Todos los elementos deben llevar wash primer, pintura anticorrosiva, (2) dos manos de esmalte base aceite mate, color por definir, ensayos a soldaduras, anticorrosivos y pinturas, obra falsa y todo el equipo y la herramienta necesaria para el montaje. | H25: kg | I25: 3076 | J25: =+'CAP 3'!E37 -> 23350.68 | K25: =+J25*I25 -> 71826692
C26: 9 | D26: 3.2 | G26: ACERO GRADO 60 . Incluye Suministro transporte , corte, figurado y amarre de acero en barras de 6 mt, incluye andamios y demas elementos necesarios para su correcta instalacion. | H26: kg | I26: 270 | J26: =+'CAP 3'!E69 -> 8129.145 | K26: =+J26*I26 -> 2194869.1
C27: 10 | D27: 3.3 | G27: Suministro, transporte y colocacion de platinas de acero de 300x300x10mm+4 pernos de 4/4" x10" y dos tuercas y un arandela | H27: Und | I27: 8 | J27: =+'CAP 3'!E104 -> 35669.046 | K27: =+J27*I27 -> 285352.37
C28: Subtotal | K28: =SUM(K25:K27) -> 74306913
C29: CUBIERTA
C30: 11 | D30: 4.1 | G30: Suministro, transporte y colocación de cubierta en teja sin traslapo MANO PLAS o similar color blanco. Incluye Clips de fijación, tornillos y todo lo necesario para su correcta instalación y funcionamiento. Según diseño de cubierta. | H30: m² | I30: 195 | J30: =+'CAP 4'!E33 -> 102739.18 | K30: =+J30*I30 -> 20034139
C31: Subtotal | K31: =+K30 -> 20034139
C32: INSTALACIONES HIDROSANITARIAS
C33: 12 | D33: 5.1 | G33: Suministro, transporte y colocación de canoa en lamina galvanizada calibre 20, .empalmes con soldadura autógena. , soportes, tornillos autoperforantes, wash primer, anticorrosivo epóxico por ambas caras, acabado con esmalte en la cara inferior a la vista y todos los elementos necesarios para su correcta instalación y funcionamiento. Según diseño de cubierta. Incluye embudos en laminas | H33: m | I33: 34 | J33: =+'CAP 5'!E39 -> 171667.08 | K33: =+J33*I33 -> 5836680.6
C34: 14 | D34: 5.2 | G34: Suministro, transporte e instalación de TUBERÍA PVC-VENTILACION, con un DIÁMETRO DE 4", para bajantes de aguas lluvias o reventilación. Incluye suministro y transporte de los materiales, bocas, accesorios, pegante, limpiador, wash primer, acabado en esmalte mate, color a definir por parte de interventoria, andamios, abrazaderas y todos los elementos necesarios para su correcta instalación y funcionamiento. | H34: m | I34: 48 | J34: =+'CAP 5'!E75 -> 31880.812 | K34: =+J34*I34 -> 1530279
C35: 15 | D35: 5.3 | G35: Suministro, transporte y colocacion de cunetas tipo v, de espesor 10cm , desarrollo 60cm, incluye recebo en cascajo sucio de 10cm y refuerzo en malla electrosoldada d-50 | H35: m | I35: 125 | J35: 170252 | K35: =+J35*I35 -> 21281500
C36: Subtotal | K36: =SUM(K33:K35) -> 28648460
C37: EXTERIORES
C38: 16 | D38: 6.1 | G38: Suministro, transporte y colocacion de baranda tipo pingüino para puente de altura 90 cm.( barra superior en tubo galvanizado de 4", barra inferior de 3"" paral en perfil estructural segun diseño., incluye anclaje, pernos, pintura y todos los elementos necesarios para su normal entrega. | H38: m | I38: 12 | J38: =+'CAP 6'!E34 -> 698928.02 | K38: =+J38*I38 -> 8387136.2
C39: Subtotal | K39: =+K38 -> 8387136.2
C40: SUBTOTAL OBRAS | K40: =SUM(K14:K38)/2 -> 1.3639611e+08
G42: TOTAL COSTO DIRECTO | K42: =+K40 -> 1.3639611e+08
G43: ADMINISTRACION | K43: =+A.U!I22 -> 28759671
G44: UTILIDAD | K44: =+A.U!I23 -> 6819805
...

Sheet PROPUESTA ECONOMICA(Proponente)
B1: Formulario 1 - Propuesta económica - Documento tipo de selección abreviada de menor cuantía - versión 1
B2: Versión: 1 del 21 de agosto de 2025
C5: FORMULARIO 1
C6: PROPUESTA ECONOMICA
C7: [La entidad puede utilizar este formulario de presentación de propuesta económica de forma detallada, sin perjuicio que la entidad pueda modificarlo o establecer la presentación de la oferta económica con un formulario distinto al indicado.] [Los proponentes emplearán el formulario establecido por la entidad para determinar su propuesta económica conforme al Formulario 1 - Presupuesto Oficial publicado por la Entidad] [En caso de modificar el formulario, es importante tener en cuenta que no se deben incluir causales de rechazo, reglas o parámetros contrarios a los definidos en el documento base. Los términos del proceso solo se encuentran en el Documento Base, por lo que la Entidad no deberá incluir ningún tipo de notas que se configuren en reglas contrarias a las definidas en dicho documento, las notas únicamente pueden ser aclaratorias para efectos del diligenciamiento del formato]
C9: Cuando el proceso de contratación es estructurado por precios unitarios, la Entidad debe aplicar las notas 1, 2 y 3 del presente formato y las casillas de "Descripción", "Porcentaje" de la Administración, Imprevisto, Utilidad y total A.I.U. resaltadas en color amarillo.
C11: Nº | D11: ITEM DE PAGO | E11: ESPECIFICACIONES | G11: DESCRIPCION | H11: UND. | I11: CANTIDAD | J11: VALOR UNITARIO | K11: VALOR TOTAL
E12: GENERAL | F12: PARTICULAR
C15: Subtotal
C21: Subtotal
C31: Subtotal
C36: Subtotal
C39: Subtotal
C40: SUBTOTAL OBRAS
G45: SUBTOTAL OBRAS (INCLUYE IVA)
G49: VALOR TOTAL
C52: NOTA 1: Se debe tener en cuenta que el PRECIO UNITARIO incluye el valor de A.I.U. | H52: DESCRIPCION | K52: PORCENTAJE
C53: NOTA 2: Cuando la fracción decimal del peso sea igual o superior a 5 se aproximara por exceso al número entero siguiente del peso y cuando la fracción decimal del peso sea inferior a 5 se aproximará por defecto al número entero del peso. | H53: ADMINISTRACION | J53: A= | K53: [Ofrecimiento del Proponente]
C54: NOTA 3: El A.I.U y su discriminación deben estar en porcentaje (%). | H54: IMPREVISTO | J54: I= | K54: [Ofrecimiento del Proponente]
H55: UTILIDAD | J55: U= | K55: [Ofrecimiento del Proponente]
H56: TOTAL A.I.U | J56: A.I.U.= | K56: [Ofrecimiento del Proponente]
G59: Firma del Proponente o de su Representante Legal

Sheet A.U
A1: CALCULO DE LA ADMINISTACION Y LA UTILIDAD
A2: PROYECTO
A3: CONSTRUCCION DE CENTRO DE INTEGRACION CIUDADANA EN LA VEREDA JUAN COJO DEL MUNICIPIO DE GIRARDOTA EN EL MARCO DEL P.P. DE LAS VIGENCIAS 2025-2026 Y2027
A4: LOCALIZACIÓN
A5: GIRARDOTA
A6: Item | B6: Descripción | C6: Unidad | D6: Cantidad | E6: Valor/Mes Base | F6: Factor prestacional | G6: Dedicación | H6: Meses | I6: V/Parcial
A7: 1 | B7: Personal Profesional y Técnico
A8: 1.1 | B8: Director de obra | C8: un | D8: 1 | E8: 4500000 | F8: 1.58 | G8: 0.25 | H8: 2 | I8: =ROUND(D8*E8*F8*G8*H8,0) -> 3555000
A9: 1.2 | B9: Ingeniero residente | C9: un | D9: 1 | E9: 3500000 | F9: 1.58 | G9: 1 | H9: 2 | I9: =ROUND(D9*E9*F9*G9*H9,0) -> 11060000
A10: 2 | B10: Gastos de desplazamiento Personal Profesional y Técnico
A11: 2.1 | B11: Gastos de desplazamiento | C11: mes | D11: 1 | E11: 1000000 | G11: 1 | H11: 2 | I11: =ROUND(E11*G11*H11*D11,0) -> 2000000
A12: 3 | B12: Personal Ambiental
A13: 3.1 | B13: Tecnologo Socio-Ambiental (manejo de seguridad industrial e impacto comunitario) | C13: un | D13: 1 | E13: 1800000 | F13: 1.58 | G13: 0.5 | H13: 2 | I13: =ROUND(D13*E13*F13*G13*H13,0) -> 2844000
A14: 4 | B14: Papelería y Equipos de Oficina
A15: 4.1 | B15: Gastos fijos de oficina, Papelería, tinta, fotocopias, planos, ploteos, fotografías, grabaciones y otros | C15: mes | D15: 1 | E15: 200272.57 | H15: 2 | I15: =ROUND(D15*E15*H15,0) -> 400545
A16: 4.2 | B16: Elaboración de planos necesarios para el recibo de la obra, en planchas de 1 m * 0,7 m (Planos record) | C16: un | D16: 10 | E16: 130000 | I16: =+D16*E16 -> 1300000
A17: 5 | B17: Laboratorio
A18: 5.1 | B18: Diseño de mezcla de concreto proporciones para una resistencia determinada, incluyendo ensayos sobre agregados de peso específico y absorción, gradaciones, humedades y masas unitarias. Además, tres mezclas de prueba con vaciado de cilindros a 3 y a 28 días según resistencia especificada (máximo dos agregados), Proporcionamiento para resistencia adicional, se realiza un estimado de transporte al municipio. | C18: un | D18: 1 | E18: 1500000 | I18: =D18*E18 -> 1500000
A19: 5.2 | B19: Fallo de cilindros (Fallar 2 cilindros a 7 dias, 2 cilindros a 28 dias y dejar 2 testigos), cada muestra corresponde a 6 cilindros y se toman cada 40 M3 devaciado de concreto o or actividades especificas indicadas por la interventoria | C19: un | D19: 30 | E19: 150000 | I19: =D19*E19 -> 4500000
A20: 6 | B20: Pólizas
A21: 6.1 | B21: Pólizas(Actualizaciones) | C21: Global | D21: 1 | E21: 0.011731466 | I21: =+I25*E21 -> 1600126.2
A22: ADMINISTRACION | G22: A | H22: =ROUND(SUM(I8:I21)/I25,4) -> 0.2109 | I22: =SUM(I8:I21) -> 28759671
A23: UTILIDAD | G23: U | H23: 0.05 | I23: =ROUND($I$25*H23,0) -> 6819805
A24: TOTAL AU (Suma de A + U) | H24: =ROUND(SUM(H22:H23),4) -> 0.2609 | I24: =+I22+I23 -> 35579476
A25: COSTO DIRECTO | I25: =+'PRESUPUESTO OFICIAL (Entidad)'!K42 -> 1.3639611e+08
A26: COSTO TOTAL (Costo Directo + Total AU) | I26: =+I25+I24 -> 1.7197558e+08
A32: NOTAS:
A33: Para el diligenciamiento de este formulario, se deben tener en cuenta los requisitos del numeral 4.2.3.2 Anexo 5.1 "Formulario de Análisis Detallado de Administración y Utilidad (AU) y Valor Total de la Oferta", de las Condiciones de Contratación
A34: Cualquier modificación y/o alteración de este formulario, es responsabilidad única y exclusivamente del proponente, y ocasionará el rechazo de la propuesta.
A35: Las correcciones efectuadas según el procedimiento anterior, serán de forzosa aceptación para los proponentes.

Sheet SALARIOS
A2: VALOR REAL SALARIO 2026
F4: AYUDANTE | H4: OFICIAL | J4: TOPOGRAFO
A5: SALARIO | D5: 1 MINIMO | F5: 1.0 MINIMOS | H5: 1,5. MINIMOS | J5: 2 MINIMOS
D6: VALOR | E6: REFERENCIA | F6: VALOR | G6: REFERENCIA | H6: VALOR | I6: REFERENCIA | J6: VALOR | K6: REFERENCIA
A8: Mensual | D8: 1750905 | E8: A | F8: =D8 -> 1750905 | G8: A | H8: =+D8*1.5 -> 2626357.5 | I8: A | J8: =+D8*2 -> 3501810 | K8: A
A9: Subsidio de transporte | D9: 249095 | E9: B | F9: =+D9 -> 249095 | G9: B | H9: =+D9 -> 249095 | I9: B | J9: =+F9 -> 249095 | K9: B
A10: Total Mensual | D10: =SUM(D8:D9) -> 2000000 | E10: C | F10: =SUM(F8:F9) -> 2000000 | G10: C | H10: =SUM(H8:H9) -> 2875452.5 | I10: C | J10: =SUM(J8:J9) -> 3750905 | K10: C
A11: Anual (A/30x365) | D11: =ROUND(+D8/30*360,0) -> 21010860 | E11: D | F11: =ROUND(+F8/30*360,0) -> 21010860 | G11: D | H11: =ROUND(+H8/30*360,0) -> 31516290 | I11: D | J11: =ROUND(+J8/30*360,0) -> 42021720 | K11: D
A12: Anual con subsidio de transporte | D12: =+D11+D9*12 -> 24000000 | E12: E | F12: =+F11+F9*12 -> 24000000 | G12: E | H12: =+H11+H9*12 -> 34505430 | I12: E | J12: =+J11+J9*12 -> 45010860 | K12: E
A13: Subsidio de transporte Anual (incluido en E) | D13: =+(D9/30*(365-18-3-15)) -> 2731741.8 | F13: =+D13 -> 2731741.8 | H13: =+F13 -> 2731741.8 | J13: =+H13 -> 2731741.8
A16: CONCEPTO | B16: BASE | C16: FACTOR | D16: Valor Anual | E16: % | F16: Valor Anual | G16: % | H16: Valor Anual | I16: % | J16: Valor Anual | K16: %
A17: SALARIO
A18: Salario anual (365 dias) | D18: =+D11 -> 21010860 | E18: 1 | F18: =+F11 -> 21010860 | G18: 1 | H18: =+H11 -> 31516290 | I18: 1 | J18: =+J11 -> 42021720 | K18: 1
A19: Subsidio Transporte | D19: =+$D$9*12 -> 2989140 | E19: =+D19/D18 -> 0.14226643 | F19: =+$D$9*12 -> 2989140 | G19: =+F19/$F$18 -> 0.14226643 | H19: =+$D$9*12 -> 2989140 | I19: =+H19/$H$18 -> 0.094844285 | J19: =+$D$9*12 -> 2989140 | K19: =+J19/$H$18 -> 0.094844285
A20: PRESTACIONES
A21: Cesantia anual | B21: E | C21: 0.098630137 | D21: =ROUND(+D12*36/365,0) -> 2367123 | E21: =D21/$D$18 -> 0.11266188 | F21: =ROUND(+F12*36/365,0) -> 2367123 | G21: =+F21/$F$18 -> 0.11266188 | H21: =ROUND(+H12*36/365,0) -> 3403275 | I21: =+H21/$H$18 -> 0.10798463 | J21: =ROUND(+J12*36/365,0) -> 4439427 | K21: =+J21/$J$18 -> 0.10564601
A22: Interes cesantia | B22: Cesantia | C22: 0.12 | D22: =ROUND(+D21*$C$22,0) -> 284055 | E22: =D22/$D$18 -> 0.013519437 | F22: =ROUND(+F21*$C$22,0) -> 284055 | G22: =+F22/$F$18 -> 0.013519437 | H22: =ROUND(+H21*$C$22,0) -> 408393 | I22: =+H22/$H$18 -> 0.012958156 | J22: =ROUND(+J21*$C$22,0) -> 532731 | K22: =+J22/$J$18 -> 0.012677515
A23: Vacaciones - 15 dias | B23: A | C23: 0.5 | D23: =ROUND(+D8*C23,0) -> 875453 | E23: =D23/$D$18 -> 0.04166669 | F23: =+F8*$C$23 -> 875452.5 | G23: =+F23/$F$18 -> 0.041666667 | H23: =+H8*$C$23 -> 1313178.8 | I23: =+H23/$H$18 -> 0.041666667 | J23: =+J8*$C$23 -> 1750905 | K23: =+J23/$J$18 -> 0.041666667
A24: Prima 30 dias | B24: C | C24: 1 | D24: =ROUND(+D10*$C$24,0) -> 2000000 | E24: =D24/$D$18 -> 0.095188869 | F24: =+F10*$C$24 -> 2000000 | G24: =+F24/$F$18 -> 0.095188869 | H24: =+H10*$C$24 -> 2875452.5 | I24: =+H24/$H$18 -> 0.091237024 | J24: =+J10*$C$24 -> 3750905 | K24: =+J24/$J$18 -> 0.089261101
A25: OTROS COSTOS
A26: Botas y overol | B26: =N32 -> 137900 | C26: 3 | D26: =+ROUND($C$26*$B$26,0) -> 413700 | E26: =D26/$D$18 -> 0.019689818 | F26: =+ROUND($C$26*$B$26,0) -> 413700 | G26: =+F26/$F$18 -> 0.019689818 | H26: =+ROUND($C$26*$B$26,0) -> 413700 | I26: =+H26/$H$18 -> 0.013126545 | J26: =+ROUND($C$26*$B$26,0) -> 413700 | K26: =+J26/$J$18 -> 0.0098449088
A27: Seguro colectivo | B27: D | C27: 0.005 | D27: =+ROUND($D$11*C27,0) -> 105054 | E27: =D27/$D$18 -> 0.0049999857 | F27: =+ROUND($F$11*$C$27,0) -> 105054 | G27: =+F27/$F$18 -> 0.0049999857 | H27: =+ROUND($H$11*$C$27,0) -> 157581 | I27: =+H27/$H$18 -> 0.0049999857 | J27: =+ROUND($H$11*$C$27,0) -> 157581 | K27: =+J27/$J$18 -> 0.0037499893
A28: EPP | B28: =N42 -> 490600 | C28: 1 | D28: =+ROUND($C$28*$B$28,0) -> 490600 | E28: =D28/$D$18 -> 0.02334983 | F28: =+ROUND($C$28*$B$28,0) -> 490600 | G28: =+F28/$F$18 -> 0.02334983 | H28: =+ROUND($C$28*$B$28,0) -> 490600 | I28: =+H28/$H$18 -> 0.015566553 | J28: =+ROUND($C$28*$B$28,0) -> 490600 | K28: =+J28/$J$18 -> 0.011674915
A29: SEGURIDAD SOCIAL | M29: Dotación
A30: Pensiones | B30: D | C30: 0.16 | D30: =+ROUND($D$11*C30,0) -> 3361738 | E30: =D30/$D$18 -> 0.16000002 | F30: =ROUND(+$F$11*C30,0) -> 3361738 | G30: =+F30/$F$18 -> 0.16000002 | H30: =ROUND(+$H$11*C30,0) -> 5042606 | I30: =+H30/$H$18 -> 0.15999999 | J30: =ROUND(+$H$11*E30,0) -> 5042607 | K30: =+J30/$J$18 -> 0.12000001 | M30: Overol 2 piezas | N30: 65900
A31: Salud | B31: D | C31: 0.125 | D31: =+D18*C31 -> 2626357.5 | E31: 0.125 | F31: =+F18*$C$31 -> 2626357.5 | G31: 0.125 | H31: =+H18*$C$31 -> 3939536.2 | I31: 0.125 | J31: =+J18*$C$31 -> 5252715 | K31: =+J31/$J$18 -> 0.125 | M31: Botas industriales | N31: 72000
A32: Riesgos Profesionales | B32: D | C32: 0.0696 | D32: =+ROUND($D$11*C32,0) -> 1462356 | E32: =D32/$D$18 -> 0.069600007 | F32: =ROUND(+$F$11*C32,0) -> 1462356 | G32: =+F32/$F$18 -> 0.069600007 | H32: =ROUND(+$H$11*C32,0) -> 2193534 | I32: =+H32/$H$18 -> 0.069600007 | J32: =ROUND(+$J$11*E32,0) -> 2924712 | K32: =+J32/$J$18 -> 0.069600007 | N32: =SUM(N30:N31) -> 137900
A33: APORTES SENA
A34: Aporte ordinario | B34: D | D34: =+ROUND($D$11*C34,0) -> 0 | E34: =D34/$D$18 -> 0 | F34: =ROUND(+$F$11*C34,0) -> 0 | G34: =+F34/$F$18 -> 0 | H34: =ROUND(+$H$11*C34,0) -> 0 | I34: =+H34/$H$18 -> 0 | J34: =ROUND(+$H$11*E34,0) -> 0 | K34: =+J34/$H$18 -> 0
A35: Fondo Industria Construccion | D35: =+$D$8/40*12 -> 525271.5 | E35: =D35/$D$18 -> 0.025 | F35: =+$D$8/40*12 -> 525271.5 | G35: =+F35/$F$18 -> 0.025 | H35: =+$D$8/40*12 -> 525271.5 | I35: =+H35/$H$18 -> 0.016666667 | J35: =+$D$8/40*12 -> 525271.5 | K35: =+J35/$H$18 -> 0.016666667 | M35: EPP
A36: OTROS APORTES | M36: Casco de seguridad | N36: 29900
A37: I.C.B.F. | B37: D | C37: 0.03 | D37: =+ROUND($D$11*C37,0) -> 630326 | E37: =D37/$D$18 -> 0.03000001 | F37: =ROUND(+$F$11*C37,0) -> 630326 | G37: =+F37/$F$18 -> 0.03000001 | H37: =ROUND(+$H$11*C37,0) -> 945489 | I37: =+H37/$H$18 -> 0.03000001 | J37: =ROUND(+$H$11*E37,0) -> 945489 | K37: =+J37/$H$18 -> 0.03000001 | M37: Guantes de Carnaza | N37: 33900
A38: Subsidio Familiar | B38: D | C38: 0.04 | D38: =+ROUND($D$11*C38,0) -> 840434 | E38: =D38/$D$18 -> 0.039999981 | F38: =ROUND(+$F$11*C38,0) -> 840434 | G38: =+F38/$F$18 -> 0.039999981 | H38: =ROUND(+$H$11*C38,0) -> 1260652 | I38: =+H38/$H$18 -> 0.040000013 | J38: =ROUND(+$H$11*E38,0) -> 1260651 | K38: =+J38/$H$18 -> 0.039999981 | M38: Monogafas | N38: 17900
A39: VALOR REAL SALARIO ANUAL | D39: =SUM(D18:D38) -> 39982468 | E39: =SUM(E18:E38) -> 1.902943 | F39: =SUM(F18:F38) -> 39982468 | G39: =SUM(G18:G38) -> 1.9029429 | H39: =SUM(H18:H38) -> 57474699 | I39: =SUM(I18:I38) -> 1.8236505 | J39: =SUM(J18:J38) -> 72498154 | K39: =SUM(K18:K38) -> 1.7706321 | M39: Botas de caucho | N39: 52900
C40: =SUM(C18:C39) -> 6.1482301 | M40: Respirador (50und) | N40: 290000
A41: VALOR REAL SALARIO MENSUAL | D41: =ROUND(+D39/12,0) -> 3331872 | F41: =ROUND(+F39/12,0) -> 3331872 | H41: =ROUND(+H39/12,0) -> 4789558 | J41: =ROUND(+J39/12,0) -> 6041513 | M41: Tapaoido 32db (24und) | N41: 66000
N42: =SUM(N36:N41) -> 490600
A43: VALOR REAL SALARIO DIARIO | D43: =+ROUND(D41/30,0) -> 111062 | F43: =+ROUND(F41/30,0) -> 111062 | H43: =+ROUND(H41/30,0) -> 159652 | J43: =+ROUND(J41/30,0) -> 201384
A45: VALOR REAL SALARIO HORA (8h/dia) | B45: 8 | D45: =+ROUND(D43/B45,0) -> 13883 | F45: =+ROUND(F43/B45,0) -> 13883 | H45: =+ROUND(H43/B45,0) -> 19957 | J45: =+ROUND(J43/B45,0) -> 25173
D46: AA | F46: BB | H46: CC | J46: DD
...

Sheet CAP 1
A1: ANÁLISIS DE PRECIOS UNITARIOS
A3: ÍTEM: | B3: =+'PRESUPUESTO OFICIAL (Entidad)'!D14 -> 1.1 | C3: =+VLOOKUP(B3,'PRESUPUESTO OFICIAL (Entidad)'!$D$14:$I$89,4,FALSE) -> Demolición manual de concreto de cualquier tipo: reforzado, simple, ciclópeo donde se requiera como en columnas, vigas, fundaciones.(Incluye botada de escombros, acarreo interno y almacenamiento temporal en obra) | D3: #REF! | E3: #REF!
A4: UNIDAD: | B4: =+VLOOKUP(B3,'PRESUPUESTO OFICIAL (Entidad)'!$D$14:$I$89,5,FALSE) -> m³ | C4: #REF! | D4: #REF! | E4: #REF!
A6: I. EQUIPO
A7: Descripción | B7: Unidad | C7: Tarifa | D7: Rendimiento | E7: Vlr Unitario
A8: Herramienta Menor (% M.O) | B8: % | C8: 0.05 | D8: 1 | E8: =+C8*D8*E29 -> 5726.8
D10: Sub-total | E10: =SUM(E8:E9) -> 5726.8
A12: II. MATERIALES
A13: Descripción | B13: Unidad | C13: Tarifa | D13: Rendimiento | E13: Vlr Unitario
D17: Sub-total | E17: =SUM(E14:E16) -> 0
A19: II.TRANSPORTE
A20: Descripción | B20: Unidad | C20: Tarifa | D20: Rendimiento | E20: Vlr Unitario
A21: =+'CARGUE, TRANSPORTE Y BOTADERO'!$A$4 -> Transporte de material ( Zona Rural ) | B21: =+VLOOKUP(A21,'CARGUE, TRANSPORTE Y BOTADERO'!$A$3:$C$13,2,FALSE) -> m3-Ton*km | C21: =+VLOOKUP(A21,'CARGUE, TRANSPORTE Y BOTADERO'!$A$3:$C$13,3,FALSE) -> 3600 | D21: 10 | E21: =+D21*C21 -> 36000
E22: =+D22*C22 -> 0
D23: Sub-total | E23: =SUM(E21:E22) -> 36000
A25: III. MANO DE OBRA
A26: Descripción | B26: Unidad | C26: Tarifa | D26: Rendimiento | E26: Vlr Unitario
A27: =+SALARIOS!$A$95 -> CUADRILLA DD EXCAVACION 1:2 | B27: =+VLOOKUP(A27,SALARIOS!$A$58:$C$106,2,FALSE) -> H/C | C27: =+VLOOKUP(A27,SALARIOS!$A$58:$C$106,3,FALSE) -> 57268 | D27: 2 | E27: =+D27*C27 -> 114536
E28: =+D28*C28 -> 0
D29: Sub-total | E29: =SUM(E27:E28) -> 114536
A31: TOTAL COSTO DIRECTO | E31: =+E29+E23+E17+E10 -> 156262.8
A33: ANÁLISIS DE PRECIOS UNITARIOS
A35: ÍTEM: | B35: =+'PRESUPUESTO OFICIAL (Entidad)'!D15 -> 1.2 | C35: =+VLOOKUP(B35,'PRESUPUESTO OFICIAL (Entidad)'!$D$14:$I$89,4,FALSE) -> EXCAVACIÓN MANUAL Y BOTADA DE MATERIAL heterogéneo DE 0-2 m., bajo cualquier grado de humedad. Incluye: roca descompuesta, bolas de roca de volúmen inferior a 0.35 m³., el cargue, transporte interno y externo, botada de material proveniente de las excavaciones en los botaderos oficiales y su medida será en el sitio. No incluye entibado. | D35: #REF! | E35: #REF!
A36: UNIDAD: | B36: =+VLOOKUP(B35,'PRESUPUESTO OFICIAL (Entidad)'!$D$14:$I$89,5,FALSE) -> m³ | C36: #REF! | D36: #REF! | E36: #REF!
A38: I. EQUIPO
A39: Descripción | B39: Unidad | C39: Tarifa | D39: Rendimiento | E39: Vlr Unitario
A40: Herramienta Menor (% M.O) | B40: % | C40: 0.05 | D40: 1 | E40: =+C40*D40*E61 -> 2863.4
D42: Sub-total | E42: =SUM(E40:E41) -> 2863.4
A44: II. MATERIALES
A45: Descripción | B45: Unidad | C45: Tarifa | D45: Rendimiento | E45: Vlr Unitario
D49: Sub-total | E49: =SUM(E46:E48) -> 0
A51: II.TRANSPORTE
A52: Descripción | B52: Unidad | C52: Tarifa | D52: Rendimiento | E52: Vlr Unitario
A53: =+'CARGUE, TRANSPORTE Y BOTADERO'!$A$4 -> Transporte de material ( Zona Rural ) | B53: =+VLOOKUP(A53,'CARGUE, TRANSPORTE Y BOTADERO'!$A$3:$C$13,2,FALSE) -> m3-Ton*km | C53: =+VLOOKUP(A53,'CARGUE, TRANSPORTE Y BOTADERO'!$A$3:$C$13,3,FALSE) -> 3600 | D53: 10 | E53: =+D53*C53 -> 36000
E54: =+D54*C54 -> 0
D55: Sub-total | E55: =SUM(E53:E54) -> 36000
A57: III. MANO DE OBRA
A58: Descripción | B58: Unidad | C58: Tarifa | D58: Rendimiento | E58: Vlr Unitario
A59: =+SALARIOS!$A$95 -> CUADRILLA DD EXCAVACION 1:2 | B59: =+VLOOKUP(A59,SALARIOS!$A$58:$C$106,2,FALSE) -> H/C | C59: =+VLOOKUP(A59,SALARIOS!$A$58:$C$106,3,FALSE) -> 57268 | D59: 1 | E59: =+D59*C59 -> 57268
E60: =+D60*C60 -> 0
...

Sheet CAP 2
A1: ANÁLISIS DE PRECIOS UNITARIOS
A3: ÍTEM: | B3: =+'PRESUPUESTO OFICIAL (Entidad)'!D19 -> 2.1 | C3: =+VLOOKUP(B3,'PRESUPUESTO OFICIAL (Entidad)'!$D$14:$I$89,4,FALSE) -> suministro transporte y construcción de solado en concreto simple de 17 Mpa y espesor 5 cm, de acuerdo a los niveles y especificaciones dados en los planos o indicaciones del supervisior. | D3: #REF! | E3: #REF!
A4: UNIDAD: | B4: =+VLOOKUP(B3,'PRESUPUESTO OFICIAL (Entidad)'!$D$14:$I$89,5,FALSE) -> m³ | C4: #REF! | D4: #REF! | E4: #REF!
A6: I. EQUIPO
A7: Descripción | B7: Unidad | C7: Tarifa | D7: Rendimiento | E7: Vlr Unitario
A8: Herramienta Menor (% M.O) | B8: % | C8: 0.05 | D8: 1 | E8: =+C8*D8*E28 -> 3423.35
D10: Sub-total | E10: =SUM(E8:E9) -> 3423.35
A12: II. MATERIALES
A13: Descripción | B13: Unidad | C13: Tarifa | D13: Rendimiento | E13: Vlr Unitario
A14: =+SUBANALIS!A4 -> Concreto en obra de 17 Mpa = 2400 PSI | B14: =+SUBANALIS!E4 -> m3 | C14: =+SUBANALIS!E32 -> 527175.28 | D14: 1.05 | E14: =+D14*C14 -> 553534.04
D16: Sub-total | E16: =SUM(E14:E15) -> 553534.04
A18: II.TRANSPORTE
A19: Descripción | B19: Unidad | C19: Tarifa | D19: Rendimiento | E19: Vlr Unitario
A20: =+'CARGUE, TRANSPORTE Y BOTADERO'!$A$5 -> Viaje de camion | B20: =+VLOOKUP(A20,'CARGUE, TRANSPORTE Y BOTADERO'!$A$3:$C$13,2,FALSE) -> Viaje | C20: =+VLOOKUP(A20,'CARGUE, TRANSPORTE Y BOTADERO'!$A$2:$C$13,3,FALSE) -> 450000 | D20: 0.05 | E20: =+D20*C20 -> 22500
D22: Sub-total | E22: =SUM(E20:E20) -> 22500
A24: III. MANO DE OBRA
A25: Descripción | B25: Unidad | C25: Tarifa | D25: Rendimiento | E25: Vlr Unitario
A26: =+SALARIOS!A$103 -> CUADRILLA DD CONCRETOS 1:2 | B26: =+VLOOKUP(A26,SALARIOS!$A$58:$C$106,2,FALSE) -> H/C | C26: =+VLOOKUP(A26,SALARIOS!$A$58:$C$106,3,FALSE) -> 68467 | D26: 1 | E26: =+D26*C26 -> 68467
E27: =+D27*C27 -> 0
D28: Sub-total | E28: =SUM(E26:E27) -> 68467
A30: TOTAL COSTO DIRECTO | E30: =+E28+E22+E16+E10 -> 647924.39
A33: ANÁLISIS DE PRECIOS UNITARIOS
A35: ÍTEM: | B35: =+'PRESUPUESTO OFICIAL (Entidad)'!D20 -> 2.2 | C35: =+VLOOKUP(B35,'PRESUPUESTO OFICIAL (Entidad)'!$D$14:$I$89,4,FALSE) -> Suministro,transporte y construccion de concreto de 3000 psi para zapata,esp=30cm, incluye materiales, mano de obra y equipo necesario | D35: #REF! | E35: #REF!
A36: UNIDAD: | B36: =+VLOOKUP(B35,'PRESUPUESTO OFICIAL (Entidad)'!$D$14:$I$89,5,FALSE) -> m³ | C36: #REF! | D36: #REF! | E36: #REF!
A38: I. EQUIPO
A39: Descripción | B39: Unidad | C39: Tarifa | D39: Rendimiento | E39: Vlr Unitario
A40: Herramienta Menor (% M.O) | B40: % | C40: 0.05 | D40: 1 | E40: =+C40*D40*E62 -> 10270.05
D42: Sub-total | E42: =SUM(E40:E41) -> 10270.05
A44: II. MATERIALES
A45: Descripción | B45: Unidad | C45: Tarifa | D45: Rendimiento | E45: Vlr Unitario
A46: =+SUBANALIS!$A$37 -> Concreto en obra de 21 Mpa = 3000 PSI | B46: =+SUBANALIS!$E$37 -> m3 | C46: =+SUBANALIS!$E$65 -> 598162.85 | D46: 1.05 | E46: =+D46*C46 -> 628070.99
A47: =+MATERIALES!A579 -> Switch sencillo | B47: =+VLOOKUP(A47,MATERIALES!$A$2:$C$3126,2,FALSE) -> und | C47: =+VLOOKUP(A47,MATERIALES!$A$2:$C$3126,3,FALSE) -> 7000 | D47: 3 | E47: =+D47*C47 -> 21000
A48: =+MATERIALES!$A$406 -> LARGUERO MADERA COMUN | B48: =+VLOOKUP(A48,MATERIALES!$A$2:$C$3126,2,FALSE) -> UND | C48: =+VLOOKUP(A48,MATERIALES!$A$2:$C$3126,3,FALSE) -> 19040 | D48: 1 | E48: =+D48*C48 -> 19040
A49: =+MATERIALES!$A$306 -> Clavos común de 1- 1/2" | B49: =+VLOOKUP(A49,MATERIALES!$A$2:$C$3126,2,FALSE) -> lb | C49: =+VLOOKUP(A49,MATERIALES!$A$2:$C$3126,3,FALSE) -> 11500 | D49: 0.4 | E49: =+D49*C49 -> 4600
D50: Sub-total | E50: =SUM(E46:E49) -> 672710.99
A52: II.TRANSPORTE
A53: Descripción | B53: Unidad | C53: Tarifa | D53: Rendimiento | E53: Vlr Unitario
A54: =+'CARGUE, TRANSPORTE Y BOTADERO'!$A$5 -> Viaje de camion | B54: =+VLOOKUP(A54,'CARGUE, TRANSPORTE Y BOTADERO'!$A$3:$C$13,2,FALSE) -> Viaje | C54: =+VLOOKUP(A54,'CARGUE, TRANSPORTE Y BOTADERO'!$A$2:$C$13,3,FALSE) -> 450000 | D54: 0.1 | E54: =+D54*C54 -> 45000
D56: Sub-total | E56: =SUM(E54:E54) -> 45000
A58: III. MANO DE OBRA
...

Sheet CAP 3
A1: ANÁLISIS DE PRECIOS UNITARIOS
A3: ÍTEM: | B3: =+'PRESUPUESTO OFICIAL (Entidad)'!D25 -> 3.1 | C3: =+VLOOKUP(B3,'PRESUPUESTO OFICIAL (Entidad)'!$D$14:$I$89,4,FALSE) -> Construcción y montaje de ESTRUCTURA METÁLICA, en PERFILERIA TIPO IPE, HEA, PHR-C, PTE para elementos de cubierta, columnas metalicas, según diseño. Incluye: suministro y transporte de láminas, platinas, uniones, soldaduras de acabado o presentación, anclajes y pernos a estructura de concreto y madera. Todos los elementos deben llevar wash primer, pintura anticorrosiva, (2) dos manos de esmalte base aceite mate, color por definir, ensayos a soldaduras, anticorrosivos y pinturas, obra falsa y todo el equipo y la herramienta necesaria para el montaje. | D3: #REF! | E3: #REF!
A4: UNIDAD: | B4: =+VLOOKUP(B3,'PRESUPUESTO OFICIAL (Entidad)'!$D$14:$I$89,5,FALSE) -> kg | C4: #REF! | D4: #REF! | E4: #REF!
A6: I. EQUIPO
A7: Descripción | B7: Unidad | C7: Tarifa | D7: Rendimiento | E7: Vlr Unitario
A8: Herramienta Menor (% M.O) | B8: % | C8: 0.05 | D8: 1 | E8: =+C8*D8*E35 -> 58.374
A9: =+EQUIPO!$A$25 -> Soldador Eléctrico MILLER XMT CC/W 300 AMP. | B9: =+VLOOKUP(A9,EQUIPO!$A$2:$C$86,2,FALSE) -> dia | C9: =+VLOOKUP(A9,EQUIPO!$A$2:$C$86,3,FALSE) -> 65500 | D9: 0.05 | E9: =+C9*D9 -> 3275
A10: =+EQUIPO!$A$9 -> Pluma grua giratoria de 250 kg 30-60m | B10: =+VLOOKUP(A10,EQUIPO!$A$2:$C$86,2,FALSE) -> dia | C10: =+VLOOKUP(A10,EQUIPO!$A$2:$C$86,3,FALSE) -> 115000 | D10: 0.005 | E10: =+C10*D10 -> 575
A11: =+EQUIPO!$A$27 -> Sección completa cuerpo de andamio (1.2m-1,5m) * 1,5m. (+4 ruedas) | B11: =+VLOOKUP(A11,EQUIPO!$A$2:$C$86,2,FALSE) -> dia | C11: =+VLOOKUP(A11,EQUIPO!$A$2:$C$86,3,FALSE) -> 19500 | D11: 0.05 | E11: =+C11*D11 -> 975
A12: =+MATERIALES!A273 -> Can Zunchado en madera común. De 3,5cm x 20 cm x 3,0m. Incluye transporte. | B12: =+VLOOKUP(A12,MATERIALES!$A$2:$C$3121,2,FALSE) -> und | C12: =+VLOOKUP(A12,MATERIALES!$A$2:$C$3121,3,FALSE) -> 15000 | D12: 0.05 | E12: =+C12*D12 -> 750
A13: =+EQUIPO!$A$53 -> Equipo de oxicorte, con pipetas | B13: =+VLOOKUP(A13,EQUIPO!$A$2:$C$86,2,FALSE) -> dia | C13: =+VLOOKUP(A13,EQUIPO!$A$2:$C$86,3,FALSE) -> 36854 | D13: 0.05 | E13: =+C13*D13 -> 1842.7
D14: Sub-total | E14: =SUM(E8:E13) -> 7476.074
A16: II. MATERIALES
A17: Descripción | B17: Unidad | C17: Tarifa | D17: Rendimiento | E17: Vlr Unitario
A18: Acero en elementos estructurales | B18: =+VLOOKUP(A18,MATERIALES!$A$2:$C$3121,2,FALSE) -> kg | C18: =+VLOOKUP(A18,MATERIALES!$A$2:$C$3121,3,FALSE) -> 10254 | D18: 1.05 | E18: =+D18*C18 -> 10766.7
A19: =+MATERIALES!$A$1516 -> ANTICORROSIVO GRIS 507 1/4 | B19: =+VLOOKUP(A19,MATERIALES!$A$2:$C$3121,2,FALSE) -> UND | C19: =+VLOOKUP(A19,MATERIALES!$A$2:$C$3121,3,FALSE) -> 24076 | D19: 0.006 | E19: =+D19*C19 -> 144.456
A20: =+MATERIALES!$A$339 -> Disco Diamantado Segmentado 9 Pulgadas Ref DW47902HP | B20: =+VLOOKUP(A20,MATERIALES!$A$2:$C$3121,2,FALSE) -> und | C20: =+VLOOKUP(A20,MATERIALES!$A$2:$C$3121,3,FALSE) -> 90900 | D20: 0.003 | E20: =+D20*C20 -> 272.7
A21: =+MATERIALES!$A$1718 -> CORROTEC ALTA TEMP NEGRO 901 GAL | B21: =+VLOOKUP(A21,MATERIALES!$A$2:$C$3121,2,FALSE) -> UND | C21: =+VLOOKUP(A21,MATERIALES!$A$2:$C$3121,3,FALSE) -> 132677 | D21: 0.01 | E21: =+D21*C21 -> 1326.77
A22: =+MATERIALES!$A$572 -> SOLDADURA PVC EN 1/8 | B22: =+VLOOKUP(A22,MATERIALES!$A$2:$C$3121,2,FALSE) -> und | C22: =+VLOOKUP(A22,MATERIALES!$A$2:$C$3121,3,FALSE) -> 49900 | D22: 0.035 | E22: =+D22*C22 -> 1746.5
D23: Sub-total | E23: =SUM(E18:E22) -> 14257.126
A25: II.TRANSPORTE
A26: Descripción | B26: Unidad | C26: Tarifa | D26: Rendimiento | E26: Vlr Unitario
A27: =+'CARGUE, TRANSPORTE Y BOTADERO'!$A$5 -> Viaje de camion | B27: =+VLOOKUP(A27,'CARGUE, TRANSPORTE Y BOTADERO'!$A$3:$C$13,2,FALSE) -> Viaje | C27: =+VLOOKUP(A27,'CARGUE, TRANSPORTE Y BOTADERO'!$A$2:$C$13,3,FALSE) -> 450000 | D27: 0.001 | E27: =+D27*C27 -> 450
D29: Sub-total | E29: =SUM(E27:E27) -> 450
A31: III. MANO DE OBRA
A32: Descripción | B32: Unidad | C32: Tarifa | D32: Rendimiento | E32: Vlr Unitario
A33: =+SALARIOS!$A$69 -> CUADRILLA BB INSTALACIONES 1:1 | B33: =+VLOOKUP(A33,SALARIOS!$A$58:$C$106,2,FALSE) -> H/C | C33: =+VLOOKUP(A33,SALARIOS!$A$58:$C$106,3,FALSE) -> 38916 | D33: 0.03 | E33: =+D33*C33 -> 1167.48
E34: =+D34*C34 -> 0
D35: Sub-total | E35: =SUM(E33:E34) -> 1167.48
A37: TOTAL COSTO DIRECTO | E37: =+E35+E29+E14+E23 -> 23350.68
A40: ANÁLISIS DE PRECIOS UNITARIOS
A42: ÍTEM: | B42: =+'PRESUPUESTO OFICIAL (Entidad)'!D26 -> 3.2 | C42: =+VLOOKUP(B42,'PRESUPUESTO OFICIAL (Entidad)'!$D$14:$I$89,4,FALSE) -> ACERO GRADO 60 . Incluye Suministro transporte , corte, figurado y amarre de acero en barras de 6 mt, incluye andamios y demas elementos necesarios para su correcta instalacion. | D42: #REF! | E42: #REF!
A43: UNIDAD: | B43: =+VLOOKUP(B42,'PRESUPUESTO OFICIAL (Entidad)'!$D$14:$I$89,5,FALSE) -> kg | C43: #REF! | D43: #REF! | E43: #REF!
A45: I. EQUIPO
A46: Descripción | B46: Unidad | C46: Tarifa | D46: Rendimiento | E46: Vlr Unitario
A47: Herramienta Menor (% M.O) | B47: % | C47: 0.05 | D47: 1 | E47: =+C47*D47*E67 -> 97.29
D49: Sub-total | E49: =SUM(E47:E48) -> 97.29
A51: II. MATERIALES
A52: Descripción | B52: Unidad | C52: Tarifa | D52: Rendimiento | E52: Vlr Unitario
A53: =+MATERIALES!$A$4 -> Acero de refuerzo 4200 Fy | B53: =+VLOOKUP(A53,MATERIALES!$A$2:$C$3126,2,FALSE) -> kg | C53: =+VLOOKUP(A53,MATERIALES!$A$2:$C$3121,3,FALSE) -> 5480 | D53: 1.05 | E53: =+D53*C53 -> 5754
...

Sheet CAP 4
A1: ANÁLISIS DE PRECIOS UNITARIOS
A3: ÍTEM: | B3: =+'PRESUPUESTO OFICIAL (Entidad)'!D30 -> 4.1 | C3: =+VLOOKUP(B3,'PRESUPUESTO OFICIAL (Entidad)'!$D$14:$I$89,4,FALSE) -> Suministro, transporte y colocación de cubierta en teja sin traslapo MANO PLAS o similar color blanco. Incluye Clips de fijación, tornillos y todo lo necesario para su correcta instalación y funcionamiento. Según diseño de cubierta. | D3: #REF! | E3: #REF!
A4: UNIDAD: | B4: =+VLOOKUP(B3,'PRESUPUESTO OFICIAL (Entidad)'!$D$14:$I$89,5,FALSE) -> m² | C4: #REF! | D4: #REF! | E4: #REF!
A6: I. EQUIPO
A7: Descripción | B7: Unidad | C7: Tarifa | D7: Rendimiento | E7: Vlr Unitario
A8: Herramienta Menor (% M.O) | B8: % | C8: 0.05 | D8: 1 | E8: =+C8*D8*E31 -> 1771.175
A9: =+EQUIPO!$A$27 -> Sección completa cuerpo de andamio (1.2m-1,5m) * 1,5m. (+4 ruedas) | B9: =+VLOOKUP(A9,EQUIPO!$A$2:$C$86,2,FALSE) -> dia | C9: =+VLOOKUP(A9,EQUIPO!$A$2:$C$86,3,FALSE) -> 19500 | D9: 0.25 | E9: =+D9*C9 -> 4875
A10: =+EQUIPO!$A$81 -> Can zunchado en madera común de 5,0cmx20cmx3,0m (alquiler). Incluye transporte. | B10: =+VLOOKUP(A10,EQUIPO!$A$2:$C$86,2,FALSE) -> dia | C10: =+VLOOKUP(A10,EQUIPO!$A$2:$C$86,3,FALSE) -> 1000 | D10: 0.25 | E10: =+D10*C10 -> 250
D11: Sub-total | E11: =SUM(E8:E10) -> 6896.175
A13: II. MATERIALES
A14: Descripción | B14: Unidad | C14: Tarifa | D14: Rendimiento | E14: Vlr Unitario
A15: =+MATERIALES!A807 -> Teja Blanca 5.9x1.07m 2mm Cresta Alta Upvc Klar | B15: =+VLOOKUP(A15,MATERIALES!$A$2:$C$3121,2,FALSE) -> m2 | C15: =+VLOOKUP(A15,MATERIALES!$A$2:$C$3121,3,FALSE) -> 45915 | D15: 1.05 | E15: =+D15*C15 -> 48210.75
A16: =+MATERIALES!$A$658 -> Tornillo Autoperforante zincado cabeza hexagonal Nº 10-16-3/4" con arandela de neopreno. | B16: =+VLOOKUP(A16,MATERIALES!$A$2:$C$3121,2,FALSE) -> und | C16: =+VLOOKUP(A16,MATERIALES!$A$2:$C$3121,3,FALSE) -> 269 | D16: 1 | E16: =+D16*C16 -> 269
A17: =+MATERIALES!A1915 -> SIKASIL E NEGRO X 280ML | B17: =+VLOOKUP(A17,MATERIALES!$A$2:$C$3121,2,FALSE) -> UND | C17: =+VLOOKUP(A17,MATERIALES!$A$2:$C$3121,3,FALSE) -> 21947 | D17: 0.25 | E17: =+D17*C17 -> 5486.75
A18: =+MATERIALES!$A$1813 -> AEROCOL BEI MARFIL BTE 300ML | B18: =+VLOOKUP(A18,MATERIALES!$A$2:$C$3121,2,FALSE) -> UND | C18: =+VLOOKUP(A18,MATERIALES!$A$2:$C$3121,3,FALSE) -> 13020 | D18: 0.15 | E18: =+D18*C18 -> 1953
D19: Sub-total | E19: =SUM(E15:E18) -> 55919.5
A21: II.TRANSPORTE
A22: Descripción | B22: Unidad | C22: Tarifa | D22: Rendimiento | E22: Vlr Unitario
A23: =+'CARGUE, TRANSPORTE Y BOTADERO'!$A$5 -> Viaje de camion | B23: =+VLOOKUP(A23,'CARGUE, TRANSPORTE Y BOTADERO'!$A$3:$C$13,2,FALSE) -> Viaje | C23: =+VLOOKUP(A23,'CARGUE, TRANSPORTE Y BOTADERO'!$A$2:$C$13,3,FALSE) -> 450000 | D23: 0.01 | E23: =+D23*C23 -> 4500
D25: Sub-total | E25: =SUM(E23:E23) -> 4500
A27: III. MANO DE OBRA
A28: Descripción | B28: Unidad | C28: Tarifa | D28: Rendimiento | E28: Vlr Unitario
A29: =+SALARIOS!A71 -> CUADRILLA BB INSTALACIONES 1:3 | B29: =+VLOOKUP(A29,SALARIOS!$A$58:$C$106,2,FALSE) -> H/C | C29: 70847 | D29: 0.5 | E29: =+D29*C29 -> 35423.5
E30: =+D30*C30 -> 0
D31: Sub-total | E31: =SUM(E29:E30) -> 35423.5
A33: TOTAL COSTO DIRECTO | E33: =+E31+E25+E11+E19 -> 102739.18

Sheet CAP 5
A1: ANÁLISIS DE PRECIOS UNITARIOS
A3: ÍTEM: | B3: =+'PRESUPUESTO OFICIAL (Entidad)'!D33 -> 5.1 | C3: =+VLOOKUP(B3,'PRESUPUESTO OFICIAL (Entidad)'!$D$14:$I$89,4,FALSE) -> Suministro, transporte y colocación de canoa en lamina galvanizada calibre 20, .empalmes con soldadura autógena. , soportes, tornillos autoperforantes, wash primer, anticorrosivo epóxico por ambas caras, acabado con esmalte en la cara inferior a la vista y todos los elementos necesarios para su correcta instalación y funcionamiento. Según diseño de cubierta. Incluye embudos en laminas | D3: #REF! | E3: #REF!
A4: UNIDAD: | B4: =+VLOOKUP(B3,'PRESUPUESTO OFICIAL (Entidad)'!$D$14:$I$89,5,FALSE) -> m | C4: #REF! | D4: #REF! | E4: #REF!
A6: I. EQUIPO
A7: Descripción | B7: Unidad | C7: Tarifa | D7: Rendimiento | E7: Vlr Unitario
A8: Herramienta Menor (% M.O) | B8: % | C8: 0.05 | D8: 1 | E8: =+C8*D8*E37 -> 1771.175
A9: =+EQUIPO!$A$27 -> Sección completa cuerpo de andamio (1.2m-1,5m) * 1,5m. (+4 ruedas) | B9: =+VLOOKUP(A9,EQUIPO!$A$2:$C$86,2,FALSE) -> dia | C9: =+VLOOKUP(A9,EQUIPO!$A$2:$C$86,3,FALSE) -> 19500 | D9: 0.5 | E9: =+D9*C9 -> 9750
A10: =+EQUIPO!$A$81 -> Can zunchado en madera común de 5,0cmx20cmx3,0m (alquiler). Incluye transporte. | B10: =+VLOOKUP(A10,EQUIPO!$A$2:$C$86,2,FALSE) -> dia | C10: =+VLOOKUP(A10,EQUIPO!$A$2:$C$86,3,FALSE) -> 1000 | D10: 0.5 | E10: =+D10*C10 -> 500
D11: Sub-total | E11: =SUM(E8:E10) -> 12021.175
A13: II. MATERIALES
A14: Descripción | B14: Unidad | C14: Tarifa | D14: Rendimiento | E14: Vlr Unitario
A15: Canoa en U | B15: m | C15: 86000 | D15: 1.05 | E15: =+D15*C15 -> 90300
A16: Boquilla g | B16: Und | C16: 22000 | D16: 0.1667 | E16: =+D16*C16 -> 3667.4
A17: Gancho fij canoa | B17: un | C17: 2100 | D17: 1 | E17: =+D17*C17 -> 2100
A18: Anticorrosivo | B18: galon | C18: 74900 | D18: 0.05 | E18: =+D18*C18 -> 3745
A19: Pintura anticorrosivo | B19: galon | C19: 74900 | D19: 0.05 | E19: =+D19*C19 -> 3745
A20: Pintulux | B20: gl | C20: 109900 | D20: 0.05 | E20: =+D20*C20 -> 5495
A21: Thinner y/o disolvente | B21: gl | C21: 55800 | D21: 0.05 | E21: =+D21*C21 -> 2790
A22: Pintura acondicionador de superficies Tipo Wash Primer, componente B. Presentación por 1/4 galón | B22: gal | C22: 34900 | D22: 0.02 | E22: =+D22*C22 -> 698
A23: Embudo galvanizado Calibre 22 | B23: un | C23: 28000 | D23: 0.25 | E23: =+D23*C23 -> 7000
A24: Tornillo Autoperforante zincado cabeza hezagonal Nº 10-16-3/4" con arandela de neopreno. | B24: un | C24: 91 | D24: 2 | E24: =+D24*C24 -> 182
D25: Sub-total | E25: =SUM(E15:E24) -> 119722.4
A27: II.TRANSPORTE
A28: Descripción | B28: Unidad | C28: Tarifa | D28: Rendimiento | E28: Vlr Unitario
A29: =+'CARGUE, TRANSPORTE Y BOTADERO'!$A$5 -> Viaje de camion | B29: =+VLOOKUP(A29,'CARGUE, TRANSPORTE Y BOTADERO'!$A$3:$C$13,2,FALSE) -> Viaje | C29: =+VLOOKUP(A29,'CARGUE, TRANSPORTE Y BOTADERO'!$A$2:$C$13,3,FALSE) -> 450000 | D29: 0.01 | E29: =+D29*C29 -> 4500
D31: Sub-total | E31: =SUM(E29:E29) -> 4500
A33: III. MANO DE OBRA
A34: Descripción | B34: Unidad | C34: Tarifa | D34: Rendimiento | E34: Vlr Unitario
A35: =+SALARIOS!$A$71 -> CUADRILLA BB INSTALACIONES 1:3 | B35: =+VLOOKUP(A35,SALARIOS!$A$58:$C$106,2,FALSE) -> H/C | C35: =+VLOOKUP(A35,SALARIOS!$A$58:$C$106,3,FALSE) -> 70847 | D35: 0.5 | E35: =+D35*C35 -> 35423.5
E36: =+D36*C36 -> 0
D37: Sub-total | E37: =SUM(E35:E36) -> 35423.5
A39: TOTAL COSTO DIRECTO | E39: =+E37+E31+E11+E25 -> 171667.08
A42: ANÁLISIS DE PRECIOS UNITARIOS
A44: ÍTEM: | B44: =+'PRESUPUESTO OFICIAL (Entidad)'!D34 -> 5.2 | C44: =+VLOOKUP(B44,'PRESUPUESTO OFICIAL (Entidad)'!$D$14:$I$89,4,FALSE) -> Suministro, transporte e instalación de TUBERÍA PVC-VENTILACION, con un DIÁMETRO DE 4", para bajantes de aguas lluvias o reventilación. Incluye suministro y transporte de los materiales, bocas, accesorios, pegante, limpiador, wash primer, acabado en esmalte mate, color a definir por parte de interventoria, andamios, abrazaderas y todos los elementos necesarios para su correcta instalación y funcionamiento. | D44: #REF! | E44: #REF!
A45: UNIDAD: | B45: m | C45: #REF! | D45: #REF! | E45: #REF!
A48: I. EQUIPO
A49: Descripción | B49: Unidad | C49: Tarifa | D49: Rendimiento | E49: Vlr Unitario
A50: Herramienta Menor (% M.O) | B50: % | C50: 0.05 | D50: 1 | E50: =+C50*D50*E73 -> 548.81
D52: Sub-total | E52: =SUM(E50:E51) -> 548.81
A54: II. MATERIALES
...

Sheet CAP 6
A1: ANÁLISIS DE PRECIOS UNITARIOS
A3: ÍTEM: | B3: =+'PRESUPUESTO OFICIAL (Entidad)'!D38 -> 6.1 | C3: =+VLOOKUP(B3,'PRESUPUESTO OFICIAL (Entidad)'!$D$14:$I$89,4,FALSE) -> Suministro, transporte y colocacion de baranda tipo pingüino para puente de altura 90 cm.( barra superior en tubo galvanizado de 4", barra inferior de 3"" paral en perfil estructural segun diseño., incluye anclaje, pernos, pintura y todos los elementos necesarios para su normal entrega. | D3: #REF! | E3: #REF!
A4: UNIDAD: | B4: =+VLOOKUP(B3,'PRESUPUESTO OFICIAL (Entidad)'!$D$14:$I$89,5,FALSE) -> m | C4: #REF! | D4: #REF! | E4: #REF!
A6: I. EQUIPO
A7: Descripción | B7: Unidad | C7: Tarifa | D7: Rendimiento | E7: Vlr Unitario
A8: Herramienta Menor (% M.O) | B8: % | C8: 0.05 | D8: 1 | E8: =+C8*D8*E32 -> 10627.05
D11: Sub-total | E11: =SUM(E8:E10) -> 10627.05
A13: II. MATERIALES
A14: Descripción | B14: Unidad | C14: Tarifa | D14: Rendimiento | E14: Vlr Unitario
A15: =+MATERIALES!A691 -> Tubería galvanizada de 3" pulg. Calibre 1,5mm x 6m | B15: =+VLOOKUP(A15,MATERIALES!$A$2:$C$3126,2,FALSE) -> und | C15: =+VLOOKUP(A15,MATERIALES!$A$2:$C$3126,3,FALSE) -> 134900 | D15: 3 | E15: =+D15*C15 -> 404700
A16: =+MATERIALES!$A$1515 -> ANTICORROSIVO RJO 310 1/4 | B16: UND | C16: 24076 | D16: 0.1667 | E16: =+D16*C16 -> 4013.4692
A17: Disolvente De Pinturas | B17: gal | C17: 56000 | D17: 1 | E17: =+D17*C17 -> 56000
A18: S-ESMALTE ALT BRILLO ALUM 26015 GAL | B18: UND | C18: 109050 | D18: 0.05 | E18: =+D18*C18 -> 5452.5
A19: Soldadura 7018 | B19: kg | C19: 21880 | D19: 0.05 | E19: =+D19*C19 -> 1094
D20: Sub-total | E20: =SUM(E15:E19) -> 471259.97
A22: II.TRANSPORTE
A23: Descripción | B23: Unidad | C23: Tarifa | D23: Rendimiento | E23: Vlr Unitario
A24: =+'CARGUE, TRANSPORTE Y BOTADERO'!$A$5 -> Viaje de camion | B24: =+VLOOKUP(A24,'CARGUE, TRANSPORTE Y BOTADERO'!$A$3:$C$13,2,FALSE) -> Viaje | C24: =+VLOOKUP(A24,'CARGUE, TRANSPORTE Y BOTADERO'!$A$2:$C$13,3,FALSE) -> 450000 | D24: 0.01 | E24: =+D24*C24 -> 4500
D26: Sub-total | E26: =SUM(E24:E24) -> 4500
A28: III. MANO DE OBRA
A29: Descripción | B29: Unidad | C29: Tarifa | D29: Rendimiento | E29: Vlr Unitario
A30: =+SALARIOS!$A$71 -> CUADRILLA BB INSTALACIONES 1:3 | B30: =+VLOOKUP(A30,SALARIOS!$A$58:$C$106,2,FALSE) -> H/C | C30: =+VLOOKUP(A30,SALARIOS!$A$58:$C$106,3,FALSE) -> 70847 | D30: 3 | E30: =+D30*C30 -> 212541
E31: =+D31*C31 -> 0
D32: Sub-total | E32: =SUM(E30:E31) -> 212541
A34: TOTAL COSTO DIRECTO | E34: =+E32+E26+E11+E20 -> 698928.02

Sheet SUBANALIS
A1: SUB ANALISIS
A3: DESCRIPCIÓN | E3: UNIDAD
A4: Concreto en obra de 17 Mpa = 2400 PSI | E4: m3
A6: I. EQUIPO
A7: Descripción | B7: Unidad | C7: Tarifa | D7: Rendimiento | E7: Vlr Unitario
A8: Herramienta Menos (% M.O) | B8: % | C8: 0.05 | D8: 1 | E8: =+C8*D8*E30 -> 4987.72
A9: Compactador a gasolina tipo rana | B9: dia | C9: 65000 | D9: 0.125 | E9: =+D9*C9 -> 8125
D11: Sub-total | E11: =SUM(E8:E10) -> 13112.72
A13: II. MATERIALES
A14: Descripción | B14: Unidad | C14: Tarifa | D14: Rendimiento | E14: Vlr Unitario
A15: Cemento gris | B15: kg | C15: 700 | D15: 300 | E15: =+D15*C15 -> 210000
A16: Triturado de 3/4" | B16: m3 | C16: 120428 | D16: 0.72 | E16: =+D16*C16 -> 86708.16
A17: Arena de concreto | B17: m3 | C17: 100000 | D17: 0.72 | E17: =+D17*C17 -> 72000
A18: Agua | B18: lt | C18: 60 | D18: 160 | E18: =+D18*C18 -> 9600
D19: Sub-total | E19: =SUM(E15:E18) -> 378308.16
A21: II.TRANSPORTE
A22: Descripción | B22: Unidad | C22: Tarifa | D22: Rendimiento | E22: Vlr Unitario
A23: Transporte de material ( Zona Rural ) | B23: m3-Ton*km | C23: 3600 | D23: 10 | E23: =+D23*C23 -> 36000
D24: Sub-total | E24: =SUM(E23:E23) -> 36000
A26: III. MANO DE OBRA
A27: Descripción | B27: Unidad | C27: Tarifa | D27: Rendimiento | E27: Vlr Unitario
A28: CUADRILLA DD CONCRETOS 1:5 | B28: H/C | C28: 124693 | D28: 0.8 | E28: =+D28*C28 -> 99754.4
E29: =+D29*C29 -> 0
D30: Sub-total | E30: =SUM(E28:E29) -> 99754.4
A32: TOTAL COSTO DIRECTO | E32: =+E30+E24+E11+E19 -> 527175.28
A36: DESCRIPCIÓN | E36: UNIDAD
A37: Concreto en obra de 21 Mpa = 3000 PSI | E37: m3
A39: I. EQUIPO
A40: Descripción | B40: Unidad | C40: Tarifa | D40: Rendimiento | E40: Vlr Unitario
A41: Herramienta Menos (% M.O) | B41: % | C41: 0.05 | D41: 1 | E41: =+C41*D41*E63 -> 6234.65
A42: Concretadora 2 bultos a gasolina | B42: dia | C42: 65000 | D42: 0.25 | E42: =+D42*C42 -> 16250
A43: Vibrador de concreto eléctrico a 110v (alquiler). Tipo aguja | B43: dia | C43: 65000 | D43: 0.25
D44: Sub-total | E44: =SUM(E41:E43) -> 22484.65
A46: II. MATERIALES
A47: Descripción | B47: Unidad | C47: Tarifa | D47: Rendimiento | E47: Vlr Unitario
A48: Cemento gris | B48: kg | C48: 700 | D48: 350 | E48: =+D48*C48 -> 245000
A49: Triturado de 3/4" | B49: m3 | C49: 120428 | D49: 0.9 | E49: =+D49*C49 -> 108385.2
A50: Arena de concreto | B50: m3 | C50: 100000 | D50: 0.52 | E50: =+D50*C50 -> 52000
A51: Agua | B51: lt | C51: 60 | D51: 160 | E51: =+D51*C51 -> 9600
D52: Sub-total | E52: =SUM(E48:E51) -> 414985.2
...

Sheet sub analisis
A2: DESCRIPCION | B2: UNIDAD | C2: CANT | D2: DESP | E2: PRECIO | F2: TOTAL
A4: Mort.1:4 En obra | B4: m3 | F4: =F5+F6+F7*1.05+F8 -> 448452.43
A5: Arena de pega puesta en obra | B5: m3 | C5: 1.09 | D5: 5 | E5: 58000 | F5: =C5*E5*1.05 -> 66381
A6: Cemento gris Nare (50 Kg) | B6: sac | C6: 9 | D6: 10 | E6: 35000 | F6: =C6*E6*1.1 -> 346500
A7: M.de O.prepar.mezclas | B7: m3 | C7: 1 | D7: 0 | E7: 20000 | F7: =C7*E7 -> 20000
A8: Mezc.1 saco elect. | B8: día | C8: 7 | D8: 0 | E8: 102000 | F8: =E8/C8 -> 14571.429
A9: Transporte(Planta-obra | B9: m3 | C9: 1.09 | E9: 15000
A12: Concr.en obra 2500 psi 3/4" | B12: m3 | F12: =(F16*1.05)+F13+F14+F15+F18 -> 297336.61
A13: Triturado de 3/4" | B13: m3 | C13: 0.9 | D13: 5 | E13: 55123 | F13: =C13*E13*1.05 -> 52091.235
A14: Arena de concreto | B14: m3 | C14: 0.56 | D14: 5 | E14: 49892 | F14: =C14*E14*1.05 -> 29336.496
A15: Cemento gris Nare (50 Kg) | B15: sac | C15: 6 | D15: 10 | E15: 28000 | F15: =C15*E15*1.05 -> 176400
A16: M.de O.prepar.mezclas | B16: m3 | C16: 1 | D16: 0 | E16: 22619 | F16: =C16*E16*1.05 -> 23749.95
A17: Transp. Mat.(Planta-obra | B17: m3 | C17: 1.5 | D17: 0 | E17: 25000 | F17: =C17*E17*1.05 -> 39375
A18: Mezc.1 saco elect. | B18: día | C18: 7 | D18: 0 | E18: 102000 | F18: =E18/C18 -> 14571.429
A20: Concr.en obra 3000 psi 3/4" | B20: m3 | F20: =F21+F22+F23+F24+F25+F26+F27 -> 494046.71
A21: Triturado de 3/4 pulg | B21: m3 | C21: =0.8*0+0.74 -> 0.74 | D21: 5 | E21: 96000 | F21: =C21*E21*1.05 -> 74592
A22: Arena de concreto | B22: m3 | C22: =0.56*0+0.53 -> 0.53 | D22: 5 | E22: 96000 | F22: =C22*E22*1.05 -> 53424
A23: Cemento gris Nare (50 Kg) | B23: sac | C23: 7.5 | D23: 0 | E23: 35000 | F23: =C23*E23*1.1 -> 288750
A24: Agua | B24: m3 | C24: 0.18 | E24: 2500 | F24: =C24*E24*1.1 -> 495
A25: M.de O.prepar.mezclas | B25: m3 | C25: 1 | D25: 0 | E25: 25000 | F25: =C25*E25 -> 25000
A26: Mezc. 3 saco elect. | B26: día | C26: 7 | D26: 0 | E26: 100000 | F26: =E26/C26 -> 14285.714
A27: Transp. Mat.(Planta-obra | B27: m3 | C27: 1.5 | E27: 25000 | F27: =E27*C27 -> 37500

Sheet MATERIALES
A1: DESCRIPCÍON | B1: UNIDAD | C1: PRECIO
A2: Abasto metálico (llave de regulación liviana de 1/2"metálica con manguera metálica) | B2: und | C2: 25000
A3: Abrazadera tipo fijador galvanizado para tubo de Ø= 3" + tornillos marca mecano ref FPAG300 o equivalente. | B3: und | C3: 6200
A4: Acero de refuerzo 4200 Fy | B4: kg | C4: 5480
A5: Grífel acero Ø 3/8" | B5: Kg | C5: 5654
A6: Acero en Elementos Estructurales | B6: kg | C6: 9500
A7: Acido Nítrico 1 Galón | B7: gal | C7: 33900
A8: Acondicionador de Superficie Novafort x 250cc. - Pavco o equivalente. | B8: und | C8: 84652
A9: Ácronal | B9: gal | C9: 39900
A10: Acople 1/2 X 7/8 40 Cm Plástico Sanitario | B10: und | C10: 5900
A11: Acople Metal Lavamanos/Lavaplatos 60 Cm 1/2 X 1/2, Grival | B11: und | C11: 25900
A12: Adaptador EMT 1" | B12: und | C12: 3300
A13: Super T de 19 mm. de 1,53 x 2,44 m. | B13: Und | C13: 255000
... A211: Ángulo de 1" x 1/8" CS | B211: ml | C211: 6086
A212: Angulo de 1" x 1/4".1/8" 6m + M.O Cerrajero | B212: und | C212: =44500+50000 -> 94500
A213: Herraje metalico de 1 m x 1m medidas externas en angulo y platina de 2"x1/8". Incluye marco y tapa | B213: und | C213: 460000
A214: Bloque Napolitano | B214: Und | C214: 3400
A215: Bloque de cemento 20x20 | B215: Und | C215: 4597
A216: Arena de concreto | B216: m3 | C216: 100000
A217: Arena de pega | B217: m3 | C217: 82000
A218: Arena de peña bulto 40kg | B218: und | C218: 11900
A219: Arena revoque | B219: m3 | C219: 90000
A220: Arena lavada de rio | B220: m3 | C220: 75000
A221: Arena lavada de rio bulto 40kg | B221: und | C221: 16000
A222: Arena no estructural | B222: m3 | C222: =38500*1.5*1.19 -> 68722.5
A223: Arenilla para lleno | B223: m3 | C223: 48500
A224: Arenilla para pisos | B224: m3 | C224: 80000
A225: Arena fina | B225: m3 | C225: 95000
A226: Paral vertical 6 cm. En lámina de acero galvanizado para muro en placas de yeso | B226: m | C226: 2547
A227: Baldosa de fondo Habana grano No. 1 30x30 | B227: m2 | C227: 67500
A228: Baldosa blanca con grano 30*30 | B228: m2 | C228: 64870
A229: Baliza tubular | B229: und | C229: 36127
A230: Barniz brillante exterior a base de aceite, tipo Pintuco-Pintulux | B230: gal | C230: 78100
A231: Base anticorrosiva y adherente | B231: gal | C231: 74900
A232: Base granular Tipo INVIAS | B232: m3 | C232: 74500
A233: Base tapa poros incoloro ref 7203 | B233: gal | C233: 108900
A234: Bisagra de trabajo pesado de 2 1/2" x 4" | B234: und | C234: 18160
... A236: Bisagra Pta Acero Inox 3-1/2 X 2-1/4pulg 1.5mm y tornillería | B236: und | C236: 11900
A237: Bisagra Piston 5/8pg + M.O Cerradura | B237: und | C237: =10450+10000 -> 20450
A238: Bisagras Rectangular Acero 2 Pulg X 1.1/2 Pulg | B238: und | C238: 14000
...

Sheet EQUIPO
A1: DESCRIPCÍON | B1: UNIDAD | C1: TARIFA
A2: Volqueta sencilla | B2: hr | C2: 80795
A3: Volqueta Dobletroque | B3: hr | C3: 130855
A4: Vibrocompactador SD70 | B4: hr | C4: 119000
A5: Vibrocompactador liso para pavimento | B5: hr | C5: 205001
A6: Vibrocompactador de llantas para pavimento | B6: hr | C6: 226001
A7: Vibro compactador rodillo y llanta 10 ton | B7: hr | C7: 125000
A8: Vibrador de concreto eléctrico a 110v (alquiler). Tipo aguja | B8: dia | C8: 45000
A9: Pluma grua giratoria de 250 kg 30-60m | B9: dia | C9: 115000
A10: Camion Grua | B10: dia | C10: 1600000
A11: Lijadora de piso | B11: dia | C11: 90000
A12: Mezclador electrico | B12: dia | C12: 35000
A13: Rociador tipo airless | B13: dia | C13: 150000
A14: Transito kern dkm-1 | B14: dia | C14: =112095*1.06 -> 118820.7
A15: Can Zunchado en madera común. De 3,5cm x 20 cm x 3,0m. Incluye transporte. | B15: und | C15: 15000
A16: Telera 0.90 x1.35 m. Alquiler | B16: dia | C16: 4900
A17: TALADRO ROTO - PERCUTOR DE 3/4" | B17: dia | C17: 100000
A18: TALADRO ROTO - PERCUTOR DE 1/2" | B18: dia | C18: 57350
A19: Taladro demoledor machin | B19: dia | C19: 160000
A20: Taladro demoledor eléctrico para muro 220 vol | B20: dia | C20: 70000
A21: Taladro | B21: dia | C21: 35000
A22: Taco metálico - halador para 5 @ 5.20 m | B22: dia | C22: 1800
A23: Taco metálico - halador para 3.8 @ 4.20 m | B23: dia | C23: 1300
A24: Taco metálico - halador para de 2 @ 3.3 m | B24: dia | C24: 500
A25: Soldador Eléctrico MILLER XMT CC/W 300 AMP. | B25: dia | C25: 65500
A26: Sierra circular manual (alquiler) + transporte | B26: dia | C26: 12500
... A56: Equipo aplicador de imprimante | B56: dia | C56: 13036
A57: Disco punta de diamante para cortadora 14" (alquiler) | B57: dia | C57: =36300*1.19 -> 43197
A58: Disco de corte ( Bloque de concreto y adobe ) | B58: m2 | C58: 6188
A59: Diferencial 3 Ton | B59: dia | C59: 20395
A60: Cuña hidráulica (Darda) | B60: dia | C60: 160710
A61: Gato tensor | B61: dia | C61: 2500
A62: Chapeta tensora (alquiler). Incluye transporte. | B62: dia | C62: 350
A63: Cortadorade ladrillo | B63: dia | C63: 45000
A64: Cortadora de piso a 6 cm de profundidad (minmo dia 50 ml)/ml | B64: ml | C64: =8000*1.19 -> 9520
A65: Cortadora de ladrillo / disco | B65: dia | C65: 91214
A66: Cortadora de disco para piso y/o pavimento (no incluye disco) | B66: dia | C66: =88000*1.19 -> 104720
A67: Cortadora de Cerámica TX-900 TM-50 TS-60 | B67: dia | C67: 11000
A68: CORTADO LADRILLO+DIS+OP | B68: dia | C68: 102384
A69: Concretadora electrica 1 1/2 a gasolina | B69: dia | C69: 70000
...

Sheet CARGUE, TRANSPORTE Y BOTADERO
A1: VALORES TRANSPORTE
A2: DESCRIPCIÓN | B2: UNIDAD | C2: PRECIO
A3: Transporte de material ( Zona Urba ) | B3: m3-Ton*km | C3: 2200
A4: Transporte de material ( Zona Rural ) | B4: m3-Ton*km | C4: 3600
A5: Viaje de camion | B5: Viaje | C5: 450000
A6: Acarreo interno | B6: m3-Ton | C6: 12878
A7: Acarreo interno x m2 | B7: m2 | C7: 1800
A8: Acarreo interno und | B8: und | C8: 3500
A9: Acarreo interno und 2 | B9: und | C9: 1500
A10: Cargue material | B10: m3-Ton | C10: 4500
A11: Derechos de explotación y/o disposición de materiales. | B11: m3-Ton | C11: 5982
A12: Transporte equipo menor | B12: und | C12: 7350
A13: Transporte de maquinaria pesada | B13: und | C13: 1108500
