Workbook

Sheet ANEXO 1
B1: ANEXO 1
D2: ANÁLISIS DE COTIZACIONES
D3: PRESTAR EL SERVICIO DE MANTENIMIENTO DE EQUIPOS: ALCANCE AL OBJETO: GRUPO No 1: PRESTAR EL SERVICIO DE MANTENIMIENTO PREVENTIVO Y SOPORTE TÉCNICO PARA EQUIPOS DE REFRIGERACIÓN Y CONGELACIÓN DE LOS GRUPOS GENÉTICA DE LA FISCALÍA GENERAL DE LA NACIÓN. GRUPO No 2: PRESTAR EL SERVICIO DE MANTENIMIENTO PREVENTIVO, CORRECTIVO Y SOPORTE TÉCNICO PARA LOS EQUIPOS DE MEDIANA TECNOLOGÍA DE LOS GRUPOS GENÉTICA DE LA FISCALÍA GENERAL DE LA NACIÓN. GRUPO No 3: PRESTAR EL SERVICIO DE MANTENIMIENTO PREVENTIVO, CORRECTIVO Y SOPORTE TÉCNICO PARA LOS EQUIPOS CABINAS DE EXTRACCIÓN, BIOSEGURIDAD Y FLUJO LAMINAR DE LOS GRUPOS GENÉTICA Y QUÍMICA (Seccional Bogotá) DE LA FISCALÍA GENERAL DE LA NACIÓN.
B6: NECESIDAD
B7: GRUPO 1. MANTENIMIENTO PREVENTIVO, CORRECTIVO Y SOPORTE TÉCNICO PARA EQUIPOS DE REFRIGERACIÓN Y CONGELACIÓN - GRUPO DE GENETICA
B8: MANTENIMIENTO PREVENTIVO / SOPORTE TÉCNICO | G8: COTIZACION LABPRO
B9: ITEM | C9: DESCRIPCIÓN DEL BIEN | D9: UNIDAD DE MEDIDA | E9: CANTIDAD | G9: VALOR UNITARIO SIN IVA
B10: 1 | C10: Congelador Revco md ULT 1740-5-A 30 S/N Y09H- 408968-YH (Bogotá G-179) | D10: UNIDAD | E10: 1 | G10: 240000
B11: 2 | C11: Congelador Revco md ULT2330A 22 s/n 0112971801130926 (Bogotá G-270) | D11: UNIDAD | E11: 1 | G11: 240000
B12: 3 | C12: Refrigerador Revco md REL2304A23 s/n 0112836701130801 (Bogotá G-291) | D12: UNIDAD | E12: 1 | G12: 215000
B13: 4 | C13: Refrigerador Revco md REL2304A14 s/n Y18H- 410411-YH (Bogotá G-174) | D13: UNIDAD | E13: 1 | G13: 215000
B14: 5 | C14: Refrigerador Revco md REL404A20 s/n 0115019101131008 (Bogotá G-301) | D14: UNIDAD | E14: 1 | G14: 215000
B15: 6 | C15: Refrigerador Revco md REL404A20 (Bogotá G- 302) | D15: UNIDAD | E15: 1 | G15: 215000
B16: 7 | C16: Refrigerador Revco md REL3004a23 s/n 01128803011820 (Bogotá G-290) | D16: UNIDAD | E16: 1 | G16: 215000
B17: 8 | C17: Refrigerador Revco md REL1204a24 s/n 0115089001131108 (Bogotá G-298) | D17: UNIDAD | E17: 1 | G17: 215000
B18: 9 | C18: Refrigerador / congelador EVERMED LCRF-370W (Bogotá G-331, G-332) | D18: UNIDAD | E18: 2 | G18: 290000
B19: 10 | C19: Refrigerador diserlab DIS NVE-01 (Bogotá G-142) | D19: UNIDAD | E19: 1 | G19: 300000
B20: 11 | C20: Refrigerador / congelador EVERMED LCRF-625S (Bogotá G-333) | D20: UNIDAD | E20: 1 | G20: 300000
B21: 12 | C21: Congelador THERMO SCIENTIFIC TSX2330FY (Bogotá G-365) | D21: UNIDAD | E21: 1 | G21: 240000
... B42: 33 | C42: Atlántico: Congelador-Refrigerador THERMO SCIENTIFIC MC20SS-SAEE-TS ATL, S/N 1168889501180806 (G-195) | D42: UNIDAD | E42: 1 | G42: 550000
B43: MANTENIMIENTO PREVENTIVO Y CORRECTIVO / SOPORTE TÉCNICO | G43: COTIZACION LABPRO
B44: ITEM | C44: DESCRIPCIÓN DEL BIEN | D44: UNIDAD DE MEDIDA | E44: CANTIDAD | G44: VALOR UNITARIO SIN IVA
B45: 34 | C45: Congelador EVERMED LF-140W (Bogotá G-334) El mantenimiento correctivo debe incluir: cambio del controlador PID (display), sensor de temperatura y módulo de control de potencia (repuestos y servicios). | D45: UNIDAD | E45: 1 | G45: 240000
B46: 34.1 | C46: Repotenciación del sistema de control de temperatura para Congelador EVERMED LF-140W (Bogotá G-334) incluye reemplazo de controlador PID (display), sensor de temperatura y módulo de control de potencia. | D46: UNIDAD | E46: 1 | G46: 3610000
B47: 35 | C47: Refrigerador Revco md REL2304A23 s/n Y18H- 410410-YH (Bogotá G-178) El mantenimiento correctivo debe incluir el reemplazo del sensor de temperatura | D47: UNIDAD | E47: 1 | G47: 290000
B48: 35.1 | C48: Suministro e instalación sensor de temperatura para Refrigerador Revco md REL2304A23 s/n Y18H- 410410-YH (Bogotá G-178) | D48: UNIDAD | E48: 1 | G48: 710000
B49: 36 | C49: Congelador THERMO SCIENTIFIC TSX2330FY (Bogotá, G-358) El mantenimiento correctivo debe incluir la reparación del sistema de drenaje de condensados. | D49: UNIDAD | E49: 1 | G49: 240000
B50: 36.1 | C50: Reparación del sistema de drenaje de condensados del evaporador hacia la salida de desagüe para Congelador THERMO SCIENTIFIC TSX2330FY (Bogotá G-358) | D50: UNIDAD | E50: 1 | G50: 1060000
B51: 37 | C51: Ultracongelador THERMO SCIENTIFIC TSX2330FY (Bogotá G-388) El mantenimiento correctivo debe incluir: entrega e instalación de regulador de 4 kVA (repuestos y servicios). | D51: UNIDAD | E51: 1 | G51: 530000
B52: 37.1 | C52: Suministro de regulador de 4KVA para Ultracongelador THERMO SCIENTIFIC TSX2330FY (Bogotá G-388) | D52: UNIDAD | E52: 1 | G52: 2100000
B53: GRUPO 2. EQUIPOS DE MEDIANA TECNOLOGÍA - GRUPO DE GENETICA
B54: MANTENIMIENTO PREVENTIVO / SOPORTE TECNICO (INCLUYE CONSUMIBLES PARA: ATL-G-37, ATL-G-99, G146, G229)
B55: ITEM | C55: DESCRIPCIÓN DEL BIEN | D55: UNIDAD DE MEDIDA | E55: CANTIDAD | G55: VALOR UNITARIO SIN IVA
B56: 1 | C56: Minispin 5452 eppendorf (Bogotá G-133, G-135) | D56: UNIDAD | E56: 2 | G56: 120000
B57: 2 | C57: Microcentrífuga Labnet (Bogotá G-255, G- 299) | D57: UNIDAD | E57: 2 | G57: 120000
B58: 3 | C58: Centrífuga refrigerada SORVALL LEGEND XFR marca THERMO SCIENTIFIC (Bogotá G-225, G-254) | D58: UNIDAD | E58: 2 | G58: 215000
B59: 4 | C59: Centrífuga refrigerada Labnet referencia Z400K (Bogotá G-129, G-130) | D59: UNIDAD | E59: 2 | G59: 215000
B60: 5 | C60: Horno de hibridación marca FINEPCR (Bogotá G-306) | D60: UNIDAD | E60: 1 | G60: 186000
B61: 6 | C61: Autoclave Tuttnauer Modelo 2540 Nova-3 (Bogotá G-237) | D61: UNIDAD | E61: 1 | G61: 480000
B62: 7 | C62: Molinos Mezcladores MM400 marca Retsh (Bogotá G-104, G-226, G-261, G-303, 369) | D62: UNIDAD | E62: 5 | G62: 215000
...

Sheet ANEXO 2
B1: ANEXO 1
D2: ANÁLISIS DE COSTOS HISTÓRICOS
D3: PRESTAR EL SERVICIO DE MANTENIMIENTO DE EQUIPOS: ALCANCE AL OBJETO: GRUPO No 1: PRESTAR EL SERVICIO DE MANTENIMIENTO PREVENTIVO Y SOPORTE TÉCNICO PARA EQUIPOS DE REFRIGERACIÓN Y CONGELACIÓN DE LOS GRUPOS GENÉTICA DE LA FISCALÍA GENERAL DE LA NACIÓN. GRUPO No 2: PRESTAR EL SERVICIO DE MANTENIMIENTO PREVENTIVO, CORRECTIVO Y SOPORTE TÉCNICO PARA LOS EQUIPOS DE MEDIANA TECNOLOGÍA DE LOS GRUPOS GENÉTICA DE LA FISCALÍA GENERAL DE LA NACIÓN. GRUPO No 3: PRESTAR EL SERVICIO DE MANTENIMIENTO PREVENTIVO, CORRECTIVO Y SOPORTE TÉCNICO PARA LOS EQUIPOS CABINAS DE EXTRACCIÓN, BIOSEGURIDAD Y FLUJO LAMINAR DE LOS GRUPOS GENÉTICA Y QUÍMICA (Seccional Bogotá) DE LA FISCALÍA GENERAL DE LA NACIÓN.
B6: NECESIDAD
B7: GRUPO 1. MANTENIMIENTO PREVENTIVO, CORRECTIVO Y SOPORTE TÉCNICO PARA EQUIPOS DE REFRIGERACIÓN Y CONGELACIÓN - GRUPO DE GENETICA
B8: MANTENIMIENTO PREVENTIVO / SOPORTE TÉCNICO | G8: ACEPTACIÓN DE OFERTA FGN-NC-0181-2024 - GRUPO 1 | I8: SEPTIEMBRE 2024 | J8: JUNIO 2026 | L8: ANÁLISIS PROYECCIÓN GASTO HISTÓRICO (IPC / Indices - Serie de empalme)
B9: ITEM | C9: DESCRIPCIÓN DEL BIEN | D9: UNIDAD DE MEDIDA | E9: CANTIDAD | G9: VALOR UNITARIO SIN IVA | I9: 1.4402 | J9: 1.5953 | L9: VALOR UNITARIO SIN IVA | M9: IVA | N9: VALOR TOTAL INCLUIDO IVA
B10: 1 | C10: Congelador Revco md ULT 1740-5-A 30 S/N Y09H- 408968-YH (Bogotá G-179) | D10: UNIDAD | E10: 1 | G10: 119900 | I10: =ROUND(($J$9/$I$9)*G10,2) -> 132812.44 | L10: =I10 -> 132812.44 | M10: =ROUND(L10*19%,2) -> 25234.36 | N10: =ROUND((L10+M10)*E10,2) -> 158046.8
B11: 2 | C11: Congelador Revco md ULT2330A 22 s/n 0112971801130926 (Bogotá G-270) | D11: UNIDAD | E11: 1 | G11: 139900 | I11: =ROUND(($J$9/$I$9)*G11,2) -> 154966.3 | L11: =I11 -> 154966.3 | M11: =ROUND(L11*19%,2) -> 29443.6 | N11: =ROUND((L11+M11)*E11,2) -> 184409.9
B12: 3 | C12: Refrigerador Revco md REL2304A23 s/n 0112836701130801 (Bogotá G-291) | D12: UNIDAD | E12: 1 | G12: 115000 | I12: =ROUND(($J$9/$I$9)*G12,2) -> 127384.74 | L12: =I12 -> 127384.74 | M12: =ROUND(L12*19%,2) -> 24203.1 | N12: =ROUND((L12+M12)*E12,2) -> 151587.84
B13: 4 | C13: Refrigerador Revco md REL2304A14 s/n Y18H- 410411-YH (Bogotá G-174) | D13: UNIDAD | E13: 1 | G13: 115000 | I13: =ROUND(($J$9/$I$9)*G13,2) -> 127384.74 | L13: =I13 -> 127384.74 | M13: =ROUND(L13*19%,2) -> 24203.1 | N13: =ROUND((L13+M13)*E13,2) -> 151587.84
B14: 5 | C14: Refrigerador Revco md REL404A20 s/n 0115019101131008 (Bogotá G-301) | D14: UNIDAD | E14: 1 | G14: 115000 | I14: =ROUND(($J$9/$I$9)*G14,2) -> 127384.74 | L14: =I14 -> 127384.74 | M14: =ROUND(L14*19%,2) -> 24203.1 | N14: =ROUND((L14+M14)*E14,2) -> 151587.84
B15: 6 | C15: Refrigerador Revco md REL404A20 (Bogotá G- 302) | D15: UNIDAD | E15: 1 | G15: 115000 | I15: =ROUND(($J$9/$I$9)*G15,2) -> 127384.74 | L15: =I15 -> 127384.74 | M15: =ROUND(L15*19%,2) -> 24203.1 | N15: =ROUND((L15+M15)*E15,2) -> 151587.84
B16: 7 | C16: Refrigerador Revco md REL3004a23 s/n 01128803011820 (Bogotá G-290) | D16: UNIDAD | E16: 1 | G16: 115000 | I16: =ROUND(($J$9/$I$9)*G16,2) -> 127384.74 | L16: =I16 -> 127384.74 | M16: =ROUND(L16*19%,2) -> 24203.1 | N16: =ROUND((L16+M16)*E16,2) -> 151587.84
B17: 8 | C17: Refrigerador Revco md REL1204a24 s/n 0115089001131108 (Bogotá G-298) | D17: UNIDAD | E17: 1 | G17: 115000 | I17: =ROUND(($J$9/$I$9)*G17,2) -> 127384.74 | L17: =I17 -> 127384.74 | M17: =ROUND(L17*19%,2) -> 24203.1 | N17: =ROUND((L17+M17)*E17,2) -> 151587.84
B18: 9 | C18: Refrigerador / congelador EVERMED LCRF-370W (Bogotá G-331, G-332) | D18: UNIDAD | E18: 2 | G18: 149900 | I18: =ROUND(($J$9/$I$9)*G18,2) -> 166043.24 | L18: =I18 -> 166043.24 | M18: =ROUND(L18*19%,2) -> 31548.22 | N18: =ROUND((L18+M18)*E18,2) -> 395182.92
B19: 10 | C19: Refrigerador diserlab DIS NVE-01 (Bogotá G-142) | D19: UNIDAD | E19: 1 | G19: 149900 | I19: =ROUND(($J$9/$I$9)*G19,2) -> 166043.24 | L19: =I19 -> 166043.24 | M19: =ROUND(L19*19%,2) -> 31548.22 | N19: =ROUND((L19+M19)*E19,2) -> 197591.46
B20: 11 | C20: Refrigerador / congelador EVERMED LCRF-625S (Bogotá G-333) | D20: UNIDAD | E20: 1 | G20: 149900 | I20: =ROUND(($J$9/$I$9)*G20,2) -> 166043.24 | L20: =I20 -> 166043.24 | M20: =ROUND(L20*19%,2) -> 31548.22 | N20: =ROUND((L20+M20)*E20,2) -> 197591.46
B21: 12 | C21: Congelador THERMO SCIENTIFIC TSX2330FY (Bogotá G-365) | D21: UNIDAD | E21: 1 | G21: 129900 | I21: =ROUND(($J$9/$I$9)*G21,2) -> 143889.37 | L21: =I21 -> 143889.37 | M21: =ROUND(L21*19%,2) -> 27338.98 | N21: =ROUND((L21+M21)*E21,2) -> 171228.35
... B28: 19 | C28: Congelador Revco md ULT2330A 23 s/n 0115107101131115 (G-292) | D28: UNIDAD | E28: 1 | G28: 2600000 | I28: =ROUND(($J$9/$I$9)*G28,2) -> 2880002.8 | L28: =I28 -> 2880002.8 | M28: =ROUND(L28*19%,2) -> 547200.53 | N28: =ROUND((L28+M28)*E28,2) -> 3427203.3
B29: 20 | C29: Bogotá: Congelador, Modelo: TSX2330FY, S/N 1141493201211101, (G-376) | D29: UNIDAD | E29: 1
B30: 21 | C30: Medellín: Vertical Freezer. Marca Thermo Fisher Scientific Modelo UGL2320A19 (Medellín MED-G-42) | D30: UNIDAD | E30: 1 | G30: 199900 | I30: =ROUND(($J$9/$I$9)*G30,2) -> 221427.91 | L30: =I30 -> 221427.91 | M30: =ROUND(L30*19%,2) -> 42071.3 | N30: =ROUND((L30+M30)*E30,2) -> 263499.21
B31: 22 | C31: Medellín: Congelador-Refrigerador Thermo Fisher Scientific modelo MC20SS-SAEE-TS (Medellín MED-G-64) | D31: UNIDAD | E31: 1 | G31: 289900 | I31: =ROUND(($J$9/$I$9)*G31,2) -> 321120.31 | L31: =I31 -> 321120.31 | M31: =ROUND(L31*19%,2) -> 61012.86 | N31: =ROUND((L31+M31)*E31,2) -> 382133.17
B32: 23 | C32: Ultracongelador THERMO SCIENTIFIC ULT2586-4-A46 (MED-G-108) | D32: UNIDAD | E32: 1
B33: 24 | C33: Medellín: Congelador marca PHCBI (MED-G-125) | D33: UNIDAD | E33: 1 | G33: 239900 | I33: =ROUND(($J$9/$I$9)*G33,2) -> 265735.64 | L33: =I33 -> 265735.64 | M33: =ROUND(L33*19%,2) -> 50489.77 | N33: =ROUND((L33+M33)*E33,2) -> 316225.41
B34: 25 | C34: Medellín: refrigerador marca PHCBI (MED-G-129) | D34: UNIDAD | E34: 1 | G34: 239900 | I34: =ROUND(($J$9/$I$9)*G34,2) -> 265735.64 | L34: =I34 -> 265735.64 | M34: =ROUND(L34*19%,2) -> 50489.77 | N34: =ROUND((L34+M34)*E34,2) -> 316225.41
B35: 26 | C35: Atlántico: Ultracongelador THERMO FISHER JLF2330A REVCO ULT2330A19 ATL-G-121 | D35: UNIDAD | E35: 1 | G35: 219900 | I35: =ROUND(($J$9/$I$9)*G35,2) -> 243581.77 | L35: =I35 -> 243581.77 | M35: =ROUND(L35*19%,2) -> 46280.54 | N35: =ROUND((L35+M35)*E35,2) -> 289862.31
B36: 27 | C36: Atlántico: Refrigerador vertical MGC NV23CS ATL-G-43 | D36: UNIDAD | E36: 1 | G36: 170000 | I36: =ROUND(($J$9/$I$9)*G36,2) -> 188307.87 | L36: =I36 -> 188307.87 | M36: =ROUND(L36*19%,2) -> 35778.5 | N36: =ROUND((L36+M36)*E36,2) -> 224086.37
B37: 28 | C37: Atlántico: Atlántico: Ultracongelador THERMO FISHER REVCO ULT2330A19 ATL-G-28 | D37: UNIDAD | E37: 1 | G37: 219900 | I37: =ROUND(($J$9/$I$9)*G37,2) -> 243581.77 | L37: =I37 -> 243581.77 | M37: =ROUND(L37*19%,2) -> 46280.54 | N37: =ROUND((L37+M37)*E37,2) -> 289862.31
B38: 29 | C38: Atlántico: Atlántico: Ultracongelador THERMO FISHER REVCO ULT-1786-4-A47 ATL-G-26 | D38: UNIDAD | E38: 1 | G38: 219900 | I38: =ROUND(($J$9/$I$9)*G38,2) -> 243581.77 | L38: =I38 -> 243581.77 | M38: =ROUND(L38*19%,2) -> 46280.54 | N38: =ROUND((L38+M38)*E38,2) -> 289862.31
B39: 30 | C39: Atlántico: Congelador-Refrigerador THERMO SCIENTIFIC MC20SS-SAEE-TS ATL-G-196 | D39: UNIDAD | E39: 1 | G39: 219900 | I39: =ROUND(($J$9/$I$9)*G39,2) -> 243581.77 | L39: =I39 -> 243581.77 | M39: =ROUND(L39*19%,2) -> 46280.54 | N39: =ROUND((L39+M39)*E39,2) -> 289862.31
B40: 31 | C40: Atlántico: Congelador PHCbi, ATL-G-204 | D40: UNIDAD | E40: 1 | G40: 219900 | I40: =ROUND(($J$9/$I$9)*G40,2) -> 243581.77 | L40: =I40 -> 243581.77 | M40: =ROUND(L40*19%,2) -> 46280.54 | N40: =ROUND((L40+M40)*E40,2) -> 289862.31
B41: 32 | C41: Atlántico: Refrigerador PHCbi, ATL-G-210 | D41: UNIDAD | E41: 1 | G41: 219900 | I41: =ROUND(($J$9/$I$9)*G41,2) -> 243581.77 | L41: =I41 -> 243581.77 | M41: =ROUND(L41*19%,2) -> 46280.54 | N41: =ROUND((L41+M41)*E41,2) -> 289862.31
B42: 33 | C42: Atlántico: Congelador-Refrigerador THERMO SCIENTIFIC MC20SS-SAEE-TS ATL, S/N 1168889501180806 (G-195) | D42: UNIDAD | E42: 1 | G42: 219900 | I42: =ROUND(($J$9/$I$9)*G42,2) -> 243581.77 | L42: =I42 -> 243581.77 | M42: =ROUND(L42*19%,2) -> 46280.54 | N42: =ROUND((L42+M42)*E42,2) -> 289862.31
B43: MANTENIMIENTO PREVENTIVO Y CORRECTIVO / SOPORTE TÉCNICO | G43: ACEPTACIÓN DE OFERTA FGN-NC-0181-2024 - GRUPO 1 | I43: SEPTIEMBRE 2024 | J43: JUNIO 2026 | L43: ANÁLISIS PROYECCIÓN GASTO HISTÓRICO (IPC / Indices - Serie de empalme)
B44: ITEM | C44: DESCRIPCIÓN DEL BIEN | D44: UNIDAD DE MEDIDA | E44: CANTIDAD | G44: VALOR UNITARIO SIN IVA | I44: 1.4402 | J44: 1.5953 | L44: VALOR UNITARIO SIN IVA | M44: IVA | N44: VALOR TOTAL INCLUIDO IVA
B45: 34 | C45: Congelador EVERMED LF-140W (Bogotá G-334) El mantenimiento correctivo debe incluir: cambio del controlador PID (display), sensor de temperatura y módulo de control de potencia (repuestos y servicios). | D45: UNIDAD | E45: 1 | G45: 119900 | I45: =ROUND(($J$9/$I$9)*G45,2) -> 132812.44 | L45: =I45 -> 132812.44 | M45: =ROUND(L45*19%,2) -> 25234.36 | N45: =ROUND((L45+M45)*E45,2) -> 158046.8
B46: 35 | C46: Refrigerador Revco md REL2304A23 s/n Y18H- 410410-YH (Bogotá G-178) El mantenimiento correctivo debe incluir el reemplazo del sensor de temperatura | D46: UNIDAD | E46: 1 | G46: 149900 | I46: =ROUND(($J$9/$I$9)*G46,2) -> 166043.24 | L46: =I46 -> 166043.24 | M46: =ROUND(L46*19%,2) -> 31548.22 | N46: =ROUND((L46+M46)*E46,2) -> 197591.46
B47: 36 | C47: Congelador THERMO SCIENTIFIC TSX2330FY (Bogotá, G-358) El mantenimiento correctivo debe incluir la reparación del sistema de drenaje de condensados. | D47: UNIDAD | E47: 1 | G47: 2800000 | I47: =ROUND(($J$9/$I$9)*G47,2) -> 3101541.5 | L47: =I47 -> 3101541.5 | M47: =ROUND(L47*19%,2) -> 589292.88 | N47: =ROUND((L47+M47)*E47,2) -> 3690834.3
B48: 37 | C48: Ultracongelador THERMO SCIENTIFIC TSX2330FY (Bogotá G-388) El mantenimiento correctivo debe incluir: entrega e instalación de regulador de 4 kVA (repuestos y servicios). | D48: UNIDAD | E48: 1 | G48: 129900 | I48: =ROUND(($J$9/$I$9)*G48,2) -> 143889.37 | L48: =I48 -> 143889.37 | M48: =ROUND(L48*19%,2) -> 27338.98 | N48: =ROUND((L48+M48)*E48,2) -> 171228.35
...

Sheet ANEXO 3
B1: ANEXO 3
D2: ANÁLISIS PARA ESTABLECER EL VALOR FINAL
D3: PRESTAR EL SERVICIO DE MANTENIMIENTO DE EQUIPOS: ALCANCE AL OBJETO: GRUPO No 1: PRESTAR EL SERVICIO DE MANTENIMIENTO PREVENTIVO Y SOPORTE TÉCNICO PARA EQUIPOS DE REFRIGERACIÓN Y CONGELACIÓN DE LOS GRUPOS GENÉTICA DE LA FISCALÍA GENERAL DE LA NACIÓN. GRUPO No 2: PRESTAR EL SERVICIO DE MANTENIMIENTO PREVENTIVO, CORRECTIVO Y SOPORTE TÉCNICO PARA LOS EQUIPOS DE MEDIANA TECNOLOGÍA DE LOS GRUPOS GENÉTICA DE LA FISCALÍA GENERAL DE LA NACIÓN. GRUPO No 3: PRESTAR EL SERVICIO DE MANTENIMIENTO PREVENTIVO, CORRECTIVO Y SOPORTE TÉCNICO PARA LOS EQUIPOS CABINAS DE EXTRACCIÓN, BIOSEGURIDAD Y FLUJO LAMINAR DE LOS GRUPOS GENÉTICA Y QUÍMICA (Seccional Bogotá) DE LA FISCALÍA GENERAL DE LA NACIÓN.
B6: NECESIDAD
B7: GRUPO 1. MANTENIMIENTO PREVENTIVO, CORRECTIVO Y SOPORTE TÉCNICO PARA EQUIPOS DE REFRIGERACIÓN Y CONGELACIÓN - GRUPO DE GENETICA
B8: MANTENIMIENTO PREVENTIVO / SOPORTE TÉCNICO | G8: ANÁLISIS DE COTIZACIONES | I8: ANÁLISIS GASTO HISTÓRICO | K8: VALOR SELECCIONADO
B9: ITEM | C9: DESCRIPCIÓN DEL BIEN | D9: UNIDAD DE MEDIDA | E9: CANTIDAD | G9: VALOR UNITARIO SIN IVA | I9: VALOR UNITARIO SIN IVA | K9: VALOR UNITARIO SIN IVA | L9: IVA UNITARIO | M9: VALOR UNITARIO INCLUIDO IVA | N9: VALOR TOTAL INCLUIDO IVA
B10: 1 | C10: Congelador Revco md ULT 1740-5-A 30 S/N Y09H- 408968-YH (Bogotá G-179) | D10: UNIDAD | E10: 1 | G10: ='ANEXO 1'!G10 -> 240000 | I10: ='ANEXO 2'!L10 -> 132812.44 | K10: =ROUND(AVERAGE(G10,I10),2) -> 186406.22 | L10: =ROUND((K10*19%),2) -> 35417.18 | M10: =ROUND((L10+K10),2) -> 221823.4 | N10: =ROUND((M10*E10),2) -> 221823.4
B11: 2 | C11: Congelador Revco md ULT2330A 22 s/n 0112971801130926 (Bogotá G-270) | D11: UNIDAD | E11: 1 | G11: ='ANEXO 1'!G11 -> 240000 | I11: ='ANEXO 2'!L11 -> 154966.3 | K11: =ROUND(AVERAGE(G11,I11),2) -> 197483.15 | L11: =ROUND((K11*19%),2) -> 37521.8 | M11: =ROUND((L11+K11),2) -> 235004.95 | N11: =ROUND((M11*E11),2) -> 235004.95
B12: 3 | C12: Refrigerador Revco md REL2304A23 s/n 0112836701130801 (Bogotá G-291) | D12: UNIDAD | E12: 1 | G12: ='ANEXO 1'!G12 -> 215000 | I12: ='ANEXO 2'!L12 -> 127384.74 | K12: =ROUND(AVERAGE(G12,I12),2) -> 171192.37 | L12: =ROUND((K12*19%),2) -> 32526.55 | M12: =ROUND((L12+K12),2) -> 203718.92 | N12: =ROUND((M12*E12),2) -> 203718.92
B13: 4 | C13: Refrigerador Revco md REL2304A14 s/n Y18H- 410411-YH (Bogotá G-174) | D13: UNIDAD | E13: 1 | G13: ='ANEXO 1'!G13 -> 215000 | I13: ='ANEXO 2'!L13 -> 127384.74 | K13: =ROUND(AVERAGE(G13,I13),2) -> 171192.37 | L13: =ROUND((K13*19%),2) -> 32526.55 | M13: =ROUND((L13+K13),2) -> 203718.92 | N13: =ROUND((M13*E13),2) -> 203718.92
B14: 5 | C14: Refrigerador Revco md REL404A20 s/n 0115019101131008 (Bogotá G-301) | D14: UNIDAD | E14: 1 | G14: ='ANEXO 1'!G14 -> 215000 | I14: ='ANEXO 2'!L14 -> 127384.74 | K14: =ROUND(AVERAGE(G14,I14),2) -> 171192.37 | L14: =ROUND((K14*19%),2) -> 32526.55 | M14: =ROUND((L14+K14),2) -> 203718.92 | N14: =ROUND((M14*E14),2) -> 203718.92
B15: 6 | C15: Refrigerador Revco md REL404A20 (Bogotá G- 302) | D15: UNIDAD | E15: 1 | G15: ='ANEXO 1'!G15 -> 215000 | I15: ='ANEXO 2'!L15 -> 127384.74 | K15: =ROUND(AVERAGE(G15,I15),2) -> 171192.37 | L15: =ROUND((K15*19%),2) -> 32526.55 | M15: =ROUND((L15+K15),2) -> 203718.92 | N15: =ROUND((M15*E15),2) -> 203718.92
B16: 7 | C16: Refrigerador Revco md REL3004a23 s/n 01128803011820 (Bogotá G-290) | D16: UNIDAD | E16: 1 | G16: ='ANEXO 1'!G16 -> 215000 | I16: ='ANEXO 2'!L16 -> 127384.74 | K16: =ROUND(AVERAGE(G16,I16),2) -> 171192.37 | L16: =ROUND((K16*19%),2) -> 32526.55 | M16: =ROUND((L16+K16),2) -> 203718.92 | N16: =ROUND((M16*E16),2) -> 203718.92
B17: 8 | C17: Refrigerador Revco md REL1204a24 s/n 0115089001131108 (Bogotá G-298) | D17: UNIDAD | E17: 1 | G17: ='ANEXO 1'!G17 -> 215000 | I17: ='ANEXO 2'!L17 -> 127384.74 | K17: =ROUND(AVERAGE(G17,I17),2) -> 171192.37 | L17: =ROUND((K17*19%),2) -> 32526.55 | M17: =ROUND((L17+K17),2) -> 203718.92 | N17: =ROUND((M17*E17),2) -> 203718.92
B18: 9 | C18: Refrigerador / congelador EVERMED LCRF-370W (Bogotá G-331, G-332) | D18: UNIDAD | E18: 2 | G18: ='ANEXO 1'!G18 -> 290000 | I18: ='ANEXO 2'!L18 -> 166043.24 | K18: =ROUND(AVERAGE(G18,I18),2) -> 228021.62 | L18: =ROUND((K18*19%),2) -> 43324.11 | M18: =ROUND((L18+K18),2) -> 271345.73 | N18: =ROUND((M18*E18),2) -> 542691.46
B19: 10 | C19: Refrigerador diserlab DIS NVE-01 (Bogotá G-142) | D19: UNIDAD | E19: 1 | G19: ='ANEXO 1'!G19 -> 300000 | I19: ='ANEXO 2'!L19 -> 166043.24 | K19: =ROUND(AVERAGE(G19,I19),2) -> 233021.62 | L19: =ROUND((K19*19%),2) -> 44274.11 | M19: =ROUND((L19+K19),2) -> 277295.73 | N19: =ROUND((M19*E19),2) -> 277295.73
B20: 11 | C20: Refrigerador / congelador EVERMED LCRF-625S (Bogotá G-333) | D20: UNIDAD | E20: 1 | G20: ='ANEXO 1'!G20 -> 300000 | I20: ='ANEXO 2'!L20 -> 166043.24 | K20: =ROUND(AVERAGE(G20,I20),2) -> 233021.62 | L20: =ROUND((K20*19%),2) -> 44274.11 | M20: =ROUND((L20+K20),2) -> 277295.73 | N20: =ROUND((M20*E20),2) -> 277295.73
B21: 12 | C21: Congelador THERMO SCIENTIFIC TSX2330FY (Bogotá G-365) | D21: UNIDAD | E21: 1 | G21: ='ANEXO 1'!G21 -> 240000 | I21: ='ANEXO 2'!L21 -> 143889.37 | K21: =ROUND(AVERAGE(G21,I21),2) -> 191944.69 | L21: =ROUND((K21*19%),2) -> 36469.49 | M21: =ROUND((L21+K21),2) -> 228414.18 | N21: =ROUND((M21*E21),2) -> 228414.18
... B26: 17 | C26: Congelador THERMO SCIENTIFIC TSX2330FY (Bogotá G-384) | D26: UNIDAD | E26: 1 | G26: ='ANEXO 1'!G26 -> 240000 | I26: ='ANEXO 2'!L26 -> 143889.37 | K26: =ROUND(AVERAGE(G26,I26),2) -> 191944.69 | L26: =ROUND((K26*19%),2) -> 36469.49 | M26: =ROUND((L26+K26),2) -> 228414.18 | N26: =ROUND((M26*E26),2) -> 228414.18
B27: 18 | C27: Congelador THERMO SCIENTIFIC TSX5030FY (Bogotá, G-359) | D27: UNIDAD | E27: 1 | G27: ='ANEXO 1'!G27 -> 380000 | I27: ='ANEXO 2'!L27 -> 3101541.5 | K27: =+G27 -> 380000 | L27: =ROUND((K27*19%),2) -> 72200 | M27: =ROUND((L27+K27),2) -> 452200 | N27: =ROUND((M27*E27),2) -> 452200
B28: 19 | C28: Congelador Revco md ULT2330A 23 s/n 0115107101131115 (G-292) | D28: UNIDAD | E28: 1 | G28: ='ANEXO 1'!G28 -> 380000 | I28: ='ANEXO 2'!L28 -> 2880002.8 | K28: =+G28 -> 380000 | L28: =ROUND((K28*19%),2) -> 72200 | M28: =ROUND((L28+K28),2) -> 452200 | N28: =ROUND((M28*E28),2) -> 452200
B29: 20 | C29: Bogotá: Congelador, Modelo: TSX2330FY, S/N 1141493201211101, (G-376) | D29: UNIDAD | E29: 1 | G29: ='ANEXO 1'!G29 -> 380000 | K29: =ROUND(AVERAGE(G29,I29),2) -> 380000 | L29: =ROUND((K29*19%),2) -> 72200 | M29: =ROUND((L29+K29),2) -> 452200 | N29: =ROUND((M29*E29),2) -> 452200
B30: 21 | C30: Medellín: Vertical Freezer. Marca Thermo Fisher Scientific Modelo UGL2320A19 (Medellín MED-G-42) | D30: UNIDAD | E30: 1 | G30: ='ANEXO 1'!G30 -> 400000 | I30: ='ANEXO 2'!L30 -> 221427.91 | K30: =ROUND(AVERAGE(G30,I30),2) -> 310713.96 | L30: =ROUND((K30*19%),2) -> 59035.65 | M30: =ROUND((L30+K30),2) -> 369749.61 | N30: =ROUND((M30*E30),2) -> 369749.61
B31: 22 | C31: Medellín: Congelador-Refrigerador Thermo Fisher Scientific modelo MC20SS-SAEE-TS (Medellín MED-G-64) | D31: UNIDAD | E31: 1 | G31: ='ANEXO 1'!G31 -> 400000 | I31: ='ANEXO 2'!L31 -> 321120.31 | K31: =ROUND(AVERAGE(G31,I31),2) -> 360560.16 | L31: =ROUND((K31*19%),2) -> 68506.43 | M31: =ROUND((L31+K31),2) -> 429066.59 | N31: =ROUND((M31*E31),2) -> 429066.59
B32: 23 | C32: Ultracongelador THERMO SCIENTIFIC ULT2586-4-A46 (MED-G-108) | D32: UNIDAD | E32: 1 | G32: ='ANEXO 1'!G32 -> 700000 | K32: =ROUND(AVERAGE(G32,I32),2) -> 700000 | L32: =ROUND((K32*19%),2) -> 133000 | M32: =ROUND((L32+K32),2) -> 833000 | N32: =ROUND((M32*E32),2) -> 833000
B33: 24 | C33: Medellín: Congelador marca PHCBI (MED-G-125) | D33: UNIDAD | E33: 1 | G33: ='ANEXO 1'!G33 -> 400000 | I33: ='ANEXO 2'!L33 -> 265735.64 | K33: =ROUND(AVERAGE(G33,I33),2) -> 332867.82 | L33: =ROUND((K33*19%),2) -> 63244.89 | M33: =ROUND((L33+K33),2) -> 396112.71 | N33: =ROUND((M33*E33),2) -> 396112.71
B34: 25 | C34: Medellín: refrigerador marca PHCBI (MED-G-129) | D34: UNIDAD | E34: 1 | G34: ='ANEXO 1'!G34 -> 380000 | I34: ='ANEXO 2'!L34 -> 265735.64 | K34: =ROUND(AVERAGE(G34,I34),2) -> 322867.82 | L34: =ROUND((K34*19%),2) -> 61344.89 | M34: =ROUND((L34+K34),2) -> 384212.71 | N34: =ROUND((M34*E34),2) -> 384212.71
B35: 26 | C35: Atlántico: Ultracongelador THERMO FISHER JLF2330A REVCO ULT2330A19 ATL-G-121 | D35: UNIDAD | E35: 1 | G35: ='ANEXO 1'!G35 -> 480000 | I35: ='ANEXO 2'!L35 -> 243581.77 | K35: =ROUND(AVERAGE(G35,I35),2) -> 361790.89 | L35: =ROUND((K35*19%),2) -> 68740.27 | M35: =ROUND((L35+K35),2) -> 430531.16 | N35: =ROUND((M35*E35),2) -> 430531.16
B36: 27 | C36: Atlántico: Refrigerador vertical MGC NV23CS ATL-G-43 | D36: UNIDAD | E36: 1 | G36: ='ANEXO 1'!G36 -> 350000 | I36: ='ANEXO 2'!L36 -> 188307.87 | K36: =ROUND(AVERAGE(G36,I36),2) -> 269153.94 | L36: =ROUND((K36*19%),2) -> 51139.25 | M36: =ROUND((L36+K36),2) -> 320293.19 | N36: =ROUND((M36*E36),2) -> 320293.19
B37: 28 | C37: Atlántico: Atlántico: Ultracongelador THERMO FISHER REVCO ULT2330A19 ATL-G-28 | D37: UNIDAD | E37: 1 | G37: ='ANEXO 1'!G37 -> 490000 | I37: ='ANEXO 2'!L37 -> 243581.77 | K37: =ROUND(AVERAGE(G37,I37),2) -> 366790.89 | L37: =ROUND((K37*19%),2) -> 69690.27 | M37: =ROUND((L37+K37),2) -> 436481.16 | N37: =ROUND((M37*E37),2) -> 436481.16
B38: 29 | C38: Atlántico: Atlántico: Ultracongelador THERMO FISHER REVCO ULT-1786-4-A47 ATL-G-26 | D38: UNIDAD | E38: 1 | G38: ='ANEXO 1'!G38 -> 550000 | I38: ='ANEXO 2'!L38 -> 243581.77 | K38: =ROUND(AVERAGE(G38,I38),2) -> 396790.89 | L38: =ROUND((K38*19%),2) -> 75390.27 | M38: =ROUND((L38+K38),2) -> 472181.16 | N38: =ROUND((M38*E38),2) -> 472181.16
B39: 30 | C39: Atlántico: Congelador-Refrigerador THERMO SCIENTIFIC MC20SS-SAEE-TS ATL-G-196 | D39: UNIDAD | E39: 1 | G39: ='ANEXO 1'!G39 -> 550000 | I39: ='ANEXO 2'!L39 -> 243581.77 | K39: =ROUND(AVERAGE(G39,I39),2) -> 396790.89 | L39: =ROUND((K39*19%),2) -> 75390.27 | M39: =ROUND((L39+K39),2) -> 472181.16 | N39: =ROUND((M39*E39),2) -> 472181.16
B40: 31 | C40: Atlántico: Congelador PHCbi, ATL-G-204 | D40: UNIDAD | E40: 1 | G40: ='ANEXO 1'!G40 -> 550000 | I40: ='ANEXO 2'!L40 -> 243581.77 | K40: =ROUND(AVERAGE(G40,I40),2) -> 396790.89 | L40: =ROUND((K40*19%),2) -> 75390.27 | M40: =ROUND((L40+K40),2) -> 472181.16 | N40: =ROUND((M40*E40),2) -> 472181.16
B41: 32 | C41: Atlántico: Refrigerador PHCbi, ATL-G-210 | D41: UNIDAD | E41: 1 | G41: ='ANEXO 1'!G41 -> 480000 | I41: ='ANEXO 2'!L41 -> 243581.77 | K41: =ROUND(AVERAGE(G41,I41),2) -> 361790.89 | L41: =ROUND((K41*19%),2) -> 68740.27 | M41: =ROUND((L41+K41),2) -> 430531.16 | N41: =ROUND((M41*E41),2) -> 430531.16
B42: 33 | C42: Atlántico: Congelador-Refrigerador THERMO SCIENTIFIC MC20SS-SAEE-TS ATL, S/N 1168889501180806 (G-195) | D42: UNIDAD | E42: 1 | G42: ='ANEXO 1'!G42 -> 550000 | I42: ='ANEXO 2'!L42 -> 243581.77 | K42: =ROUND(AVERAGE(G42,I42),2) -> 396790.89 | L42: =ROUND((K42*19%),2) -> 75390.27 | M42: =ROUND((L42+K42),2) -> 472181.16 | N42: =ROUND((M42*E42),2) -> 472181.16
B43: MANTENIMIENTO PREVENTIVO Y CORRECTIVO / SOPORTE TÉCNICO | G43: ANÁLISIS DE COTIZACIONES | I43: ANÁLISIS GASTO HISTÓRICO | K43: VALOR SELECCIONADO
B44: ITEM | C44: DESCRIPCIÓN DEL BIEN | D44: UNIDAD DE MEDIDA | E44: CANTIDAD | G44: VALOR UNITARIO SIN IVA | I44: VALOR UNITARIO SIN IVA | K44: VALOR UNITARIO SIN IVA | L44: IVA UNITARIO | M44: VALOR UNITARIO INCLUIDO IVA | N44: VALOR TOTAL INCLUIDO IVA
B45: 34 | C45: Congelador EVERMED LF-140W (Bogotá G-334) El mantenimiento correctivo debe incluir: cambio del controlador PID (display), sensor de temperatura y módulo de control de potencia (repuestos y servicios). | D45: UNIDAD | E45: 1 | G45: ='ANEXO 1'!G45 -> 240000 | I45: ='ANEXO 2'!L45 -> 132812.44 | K45: =ROUND(AVERAGE(G45,I45),2) -> 186406.22 | L45: =ROUND((K45*19%),2) -> 35417.18 | M45: =ROUND((L45+K45),2) -> 221823.4 | N45: =ROUND((M45*E45),2) -> 221823.4
B46: 35 | C46: Refrigerador Revco md REL2304A23 s/n Y18H- 410410-YH (Bogotá G-178) El mantenimiento correctivo debe incluir el reemplazo del sensor de temperatura | D46: UNIDAD | E46: 1 | G46: ='ANEXO 1'!G47 -> 290000 | I46: ='ANEXO 2'!L46 -> 166043.24 | K46: =ROUND(AVERAGE(G46,I46),2) -> 228021.62 | L46: =ROUND((K46*19%),2) -> 43324.11 | M46: =ROUND((L46+K46),2) -> 271345.73 | N46: =ROUND((M46*E46),2) -> 271345.73
...

Sheet ANEXO 4
B1: ANEXO 4
D2: ESTUDIO DE MERCADO DEFINITIVO
D3: PRESTAR EL SERVICIO DE MANTENIMIENTO DE EQUIPOS: ALCANCE AL OBJETO: GRUPO No 1: PRESTAR EL SERVICIO DE MANTENIMIENTO PREVENTIVO Y SOPORTE TÉCNICO PARA EQUIPOS DE REFRIGERACIÓN Y CONGELACIÓN DE LOS GRUPOS GENÉTICA DE LA FISCALÍA GENERAL DE LA NACIÓN. GRUPO No 2: PRESTAR EL SERVICIO DE MANTENIMIENTO PREVENTIVO, CORRECTIVO Y SOPORTE TÉCNICO PARA LOS EQUIPOS DE MEDIANA TECNOLOGÍA DE LOS GRUPOS GENÉTICA DE LA FISCALÍA GENERAL DE LA NACIÓN. GRUPO No 3: PRESTAR EL SERVICIO DE MANTENIMIENTO PREVENTIVO, CORRECTIVO Y SOPORTE TÉCNICO PARA LOS EQUIPOS CABINAS DE EXTRACCIÓN, BIOSEGURIDAD Y FLUJO LAMINAR DE LOS GRUPOS GENÉTICA Y QUÍMICA (Seccional Bogotá) DE LA FISCALÍA GENERAL DE LA NACIÓN.
B6: NECESIDAD
B7: GRUPO 1. MANTENIMIENTO PREVENTIVO, CORRECTIVO Y SOPORTE TÉCNICO PARA EQUIPOS DE REFRIGERACIÓN Y CONGELACIÓN - GRUPO DE GENETICA
B8: MANTENIMIENTO PREVENTIVO / SOPORTE TÉCNICO | G8: VALOR SELECCIONADO
B9: ITEM | C9: DESCRIPCIÓN DEL BIEN | D9: UNIDAD DE MEDIDA | E9: CANTIDAD | G9: VALOR UNITARIO SIN IVA | H9: IVA UNITARIO | I9: VALOR UNITARIO INCLUIDO IVA | J9: VALOR TOTAL INCLUIDO IVA
B10: 1 | C10: Congelador Revco md ULT 1740-5-A 30 S/N Y09H- 408968-YH (Bogotá G-179) | D10: UNIDAD | E10: 1 | G10: ='ANEXO 3'!K10 -> 186406.22 | H10: =+ROUND(G10*19%,2) -> 35417.18 | I10: =+ROUND(G10+H10,2) -> 221823.4 | J10: =ROUND((I10*E10),2) -> 221823.4
B11: 2 | C11: Congelador Revco md ULT2330A 22 s/n 0112971801130926 (Bogotá G-270) | D11: UNIDAD | E11: 1 | G11: ='ANEXO 3'!K11 -> 197483.15 | H11: =+ROUND(G11*19%,2) -> 37521.8 | I11: =+ROUND(G11+H11,2) -> 235004.95 | J11: =ROUND((I11*E11),2) -> 235004.95
B12: 3 | C12: Refrigerador Revco md REL2304A23 s/n 0112836701130801 (Bogotá G-291) | D12: UNIDAD | E12: 1 | G12: ='ANEXO 3'!K12 -> 171192.37 | H12: =+ROUND(G12*19%,2) -> 32526.55 | I12: =+ROUND(G12+H12,2) -> 203718.92 | J12: =ROUND((I12*E12),2) -> 203718.92
B13: 4 | C13: Refrigerador Revco md REL2304A14 s/n Y18H- 410411-YH (Bogotá G-174) | D13: UNIDAD | E13: 1 | G13: ='ANEXO 3'!K13 -> 171192.37 | H13: =+ROUND(G13*19%,2) -> 32526.55 | I13: =+ROUND(G13+H13,2) -> 203718.92 | J13: =ROUND((I13*E13),2) -> 203718.92
B14: 5 | C14: Refrigerador Revco md REL404A20 s/n 0115019101131008 (Bogotá G-301) | D14: UNIDAD | E14: 1 | G14: ='ANEXO 3'!K14 -> 171192.37 | H14: =+ROUND(G14*19%,2) -> 32526.55 | I14: =+ROUND(G14+H14,2) -> 203718.92 | J14: =ROUND((I14*E14),2) -> 203718.92
B15: 6 | C15: Refrigerador Revco md REL404A20 (Bogotá G- 302) | D15: UNIDAD | E15: 1 | G15: ='ANEXO 3'!K15 -> 171192.37 | H15: =+ROUND(G15*19%,2) -> 32526.55 | I15: =+ROUND(G15+H15,2) -> 203718.92 | J15: =ROUND((I15*E15),2) -> 203718.92
B16: 7 | C16: Refrigerador Revco md REL3004a23 s/n 01128803011820 (Bogotá G-290) | D16: UNIDAD | E16: 1 | G16: ='ANEXO 3'!K16 -> 171192.37 | H16: =+ROUND(G16*19%,2) -> 32526.55 | I16: =+ROUND(G16+H16,2) -> 203718.92 | J16: =ROUND((I16*E16),2) -> 203718.92
B17: 8 | C17: Refrigerador Revco md REL1204a24 s/n 0115089001131108 (Bogotá G-298) | D17: UNIDAD | E17: 1 | G17: ='ANEXO 3'!K17 -> 171192.37 | H17: =+ROUND(G17*19%,2) -> 32526.55 | I17: =+ROUND(G17+H17,2) -> 203718.92 | J17: =ROUND((I17*E17),2) -> 203718.92
B18: 9 | C18: Refrigerador / congelador EVERMED LCRF-370W (Bogotá G-331, G-332) | D18: UNIDAD | E18: 2 | G18: ='ANEXO 3'!K18 -> 228021.62 | H18: =+ROUND(G18*19%,2) -> 43324.11 | I18: =+ROUND(G18+H18,2) -> 271345.73 | J18: =ROUND((I18*E18),2) -> 542691.46
B19: 10 | C19: Refrigerador diserlab DIS NVE-01 (Bogotá G-142) | D19: UNIDAD | E19: 1 | G19: ='ANEXO 3'!K19 -> 233021.62 | H19: =+ROUND(G19*19%,2) -> 44274.11 | I19: =+ROUND(G19+H19,2) -> 277295.73 | J19: =ROUND((I19*E19),2) -> 277295.73
B20: 11 | C20: Refrigerador / congelador EVERMED LCRF-625S (Bogotá G-333) | D20: UNIDAD | E20: 1 | G20: ='ANEXO 3'!K20 -> 233021.62 | H20: =+ROUND(G20*19%,2) -> 44274.11 | I20: =+ROUND(G20+H20,2) -> 277295.73 | J20: =ROUND((I20*E20),2) -> 277295.73
B21: 12 | C21: Congelador THERMO SCIENTIFIC TSX2330FY (Bogotá G-365) | D21: UNIDAD | E21: 1 | G21: ='ANEXO 3'!K21 -> 191944.69 | H21: =+ROUND(G21*19%,2) -> 36469.49 | I21: =+ROUND(G21+H21,2) -> 228414.18 | J21: =ROUND((I21*E21),2) -> 228414.18
... B42: 33 | C42: Atlántico: Congelador-Refrigerador THERMO SCIENTIFIC MC20SS-SAEE-TS ATL, S/N 1168889501180806 (G-195) | D42: UNIDAD | E42: 1 | G42: ='ANEXO 3'!K42 -> 396790.89 | H42: =+ROUND(G42*19%,2) -> 75390.27 | I42: =+ROUND(G42+H42,2) -> 472181.16 | J42: =ROUND((I42*E42),2) -> 472181.16
B43: MANTENIMIENTO PREVENTIVO Y CORRECTIVO / SOPORTE TÉCNICO
B44: ITEM | C44: DESCRIPCIÓN DEL BIEN | D44: UNIDAD DE MEDIDA | E44: CANTIDAD | G44: VALOR UNITARIO SIN IVA | H44: IVA UNITARIO | I44: VALOR UNITARIO INCLUIDO IVA | J44: VALOR TOTAL INCLUIDO IVA
B45: 34 | C45: Congelador EVERMED LF-140W (Bogotá G-334) El mantenimiento correctivo debe incluir: cambio del controlador PID (display), sensor de temperatura y módulo de control de potencia (repuestos y servicios). | D45: UNIDAD | E45: 1 | G45: ='ANEXO 3'!K45 -> 186406.22 | H45: =+ROUND(G45*19%,2) -> 35417.18 | I45: =+ROUND(G45+H45,2) -> 221823.4 | J45: =ROUND((I45*E45),2) -> 221823.4
B46: 34.1 | C46: Repotenciación del sistema de control de temperatura para Congelador EVERMED LF-140W (Bogotá G-334) incluye reemplazo de controlador PID (display), sensor de temperatura y módulo de control de potencia. | D46: UNIDAD | E46: 1 | G46: 3610000 | H46: =+ROUND(G46*19%,2) -> 685900 | I46: =+ROUND(G46+H46,2) -> 4295900 | J46: =ROUND((I46*E46),2) -> 4295900
B47: 35 | C47: Refrigerador Revco md REL2304A23 s/n Y18H- 410410-YH (Bogotá G-178) El mantenimiento correctivo debe incluir el reemplazo del sensor de temperatura | D47: UNIDAD | E47: 1 | G47: ='ANEXO 3'!K46 -> 228021.62 | H47: =+ROUND(G47*19%,2) -> 43324.11 | I47: =+ROUND(G47+H47,2) -> 271345.73 | J47: =ROUND((I47*E47),2) -> 271345.73
B48: 35.1 | C48: Suministro e instalación sensor de temperatura para Refrigerador Revco md REL2304A23 s/n Y18H- 410410-YH (Bogotá G-178) | D48: UNIDAD | E48: 1 | G48: 710000 | H48: =+ROUND(G48*19%,2) -> 134900 | I48: =+ROUND(G48+H48,2) -> 844900 | J48: =ROUND((I48*E48),2) -> 844900
B49: 36 | C49: Congelador THERMO SCIENTIFIC TSX2330FY (Bogotá, G-358) El mantenimiento correctivo debe incluir la reparación del sistema de drenaje de condensados. | D49: UNIDAD | E49: 1 | G49: ='ANEXO 3'!K47 -> 240000 | H49: =+ROUND(G49*19%,2) -> 45600 | I49: =+ROUND(G49+H49,2) -> 285600 | J49: =ROUND((I49*E49),2) -> 285600
B50: 36.1 | C50: Reparación del sistema de drenaje de condensados del evaporador hacia la salida de desagüe para Congelador THERMO SCIENTIFIC TSX2330FY (Bogotá G-358) | D50: UNIDAD | E50: 1 | G50: 1060000 | H50: =+ROUND(G50*19%,2) -> 201400 | I50: =+ROUND(G50+H50,2) -> 1261400 | J50: =ROUND((I50*E50),2) -> 1261400
B51: 37 | C51: Ultracongelador THERMO SCIENTIFIC TSX2330FY (Bogotá G-388) El mantenimiento correctivo debe incluir: entrega e instalación de regulador de 4 kVA (repuestos y servicios). | D51: UNIDAD | E51: 1 | G51: ='ANEXO 3'!K48 -> 336944.69 | H51: =+ROUND(G51*19%,2) -> 64019.49 | I51: =+ROUND(G51+H51,2) -> 400964.18 | J51: =ROUND((I51*E51),2) -> 400964.18
B52: 37.1 | C52: Suministro de regulador de 4KVA para Ultracongelador THERMO SCIENTIFIC TSX2330FY (Bogotá G-388) | D52: UNIDAD | E52: 1 | G52: 2100000 | H52: =+ROUND(G52*19%,2) -> 399000 | I52: =+ROUND(G52+H52,2) -> 2499000 | J52: =ROUND((I52*E52),2) -> 2499000
G53: TOTAL GRUPO 1 | J53: =ROUND(SUM(J10:J52),2) -> 21481746
B55: GRUPO 2. EQUIPOS DE MEDIANA TECNOLOGÍA - GRUPO DE GENETICA
B56: MANTENIMIENTO PREVENTIVO / SOPORTE TECNICO (INCLUYE CONSUMIBLES PARA: ATL-G-37, ATL-G-99, G146, G229)
B57: ITEM | C57: DESCRIPCIÓN DEL BIEN | D57: UNIDAD DE MEDIDA | E57: CANTIDAD | G57: VALOR UNITARIO SIN IVA | H57: IVA UNITARIO | I57: VALOR UNITARIO INCLUIDO IVA | J57: VALOR TOTAL INCLUIDO IVA
B58: 1 | C58: Minispin 5452 eppendorf (Bogotá G-133, G-135) | D58: UNIDAD | E58: 2 | G58: ='ANEXO 3'!K54 -> 101538.5 | H58: =+ROUND(G58*19%,2) -> 19292.32 | I58: =+ROUND(G58+H58,2) -> 120830.82 | J58: =ROUND((I58*E58),2) -> 241661.64
B59: 2 | C59: Microcentrífuga Labnet (Bogotá G-255, G- 299) | D59: UNIDAD | E59: 2 | G59: ='ANEXO 3'!K55 -> 101538.5 | H59: =+ROUND(G59*19%,2) -> 19292.32 | I59: =+ROUND(G59+H59,2) -> 120830.82 | J59: =ROUND((I59*E59),2) -> 241661.64
B60: 3 | C60: Centrífuga refrigerada SORVALL LEGEND XFR marca THERMO SCIENTIFIC (Bogotá G-225, G-254) | D60: UNIDAD | E60: 2 | G60: ='ANEXO 3'!K56 -> 185038.54 | H60: =+ROUND(G60*19%,2) -> 35157.32 | I60: =+ROUND(G60+H60,2) -> 220195.86 | J60: =ROUND((I60*E60),2) -> 440391.72
B61: 4 | C61: Centrífuga refrigerada Labnet referencia Z400K (Bogotá G-129, G-130) | D61: UNIDAD | E61: 2 | G61: ='ANEXO 3'!K57 -> 179500.07 | H61: =+ROUND(G61*19%,2) -> 34105.01 | I61: =+ROUND(G61+H61,2) -> 213605.08 | J61: =ROUND((I61*E61),2) -> 427210.16
B62: 5 | C62: Horno de hibridación marca FINEPCR (Bogotá G-306) | D62: UNIDAD | E62: 1 | G62: ='ANEXO 3'!K58 -> 186000 | H62: =+ROUND(G62*19%,2) -> 35340 | I62: =+ROUND(G62+H62,2) -> 221340 | J62: =ROUND((I62*E62),2) -> 221340
B63: 6 | C63: Autoclave Tuttnauer Modelo 2540 Nova-3 (Bogotá G-237) | D63: UNIDAD | E63: 1 | G63: ='ANEXO 3'!K59 -> 400615.54 | H63: =+ROUND(G63*19%,2) -> 76116.95 | I63: =+ROUND(G63+H63,2) -> 476732.49 | J63: =ROUND((I63*E63),2) -> 476732.49
...
