Workbook
Name _____PR1: [1]PRECIOS!$A:$E
Name _____PR1: [1]PRECIOS!$A:$E
Name _____PR1: #REF!
Name ____PR1: [2]PRECIOS!$A:$E
Name ____PR1: [2]PRECIOS!$A:$E
Name ____PR1: #REF!
Name ___PR1: [3]PRECIOS!$A:$E
Name ___PR1: [3]PRECIOS!$A:$E
Name ___PR1: #REF!
Name __PR1: [4]PRECIOS!$A:$E
Name __PR1: [4]PRECIOS!$A:$E
Name __PR1: #REF!
Name _PR1: [5]PRECIOS!$A:$E
Name _PR1: [5]PRECIOS!$A:$E
Name _PR1: #REF!
Name A: [5]PRECIOS!$J$62
Name A: [5]PRECIOS!$J$62
Name A: #REF!
Name APB: [5]PRECIOS!$G$71:$J$153
Name APB: [5]PRECIOS!$G$71:$J$153
Name APB: #REF!
Name AY: [6]Hoja1!$G$6
Name AY: [6]Hoja1!$G$6
Name AY: #REF!
Name AYU: [6]Hoja1!$F$6
Name AYU: [6]Hoja1!$F$6
Name AYU: #REF!
Name BDLICITACION: [7]BD!$1:$1048576
Name BDLICITACION: [7]BD!$1:$1048576
Name BDLICITACION: #REF!
Name bustos: [6]Hoja1!$G$10
Name bustos: [6]Hoja1!$G$10
Name bustos: #REF!
Name CA: [5]PRECIOS!$J$64
Name CA: [5]PRECIOS!$J$64
Name CA: #REF!
Name CANTIDADES: '[7]CANTIDADES DE OBRA'!$D$9:$G$33
Name CANTIDADES: '[7]CANTIDADES DE OBRA'!$D$9:$G$33
Name CANTIDADES: #REF!
Name CO: [3]PRECIOS!$J$61
Name CO: [3]PRECIOS!$J$61
Name CO: #REF!
Name diego: [6]Hoja1!$G$5
Name diego: [6]Hoja1!$G$5
Name diego: #REF!
Name DSAGASG: #REF!
Name ed: #REF!
Name EQUI: [8]EQUIPO!$B$2:$B$36
Name EQUI: [8]EQUIPO!$B$2:$B$36
Name EQUI: #REF!
Name EQUIPO_1: [8]EQUIPO!$B$2:$D$36
Name EQUIPO_1: [8]EQUIPO!$B$2:$D$36
Name EQUIPO_1: #REF!
Name ETAPA1: #REF!
Name ETAPA2: #REF!
Name ETAPA3: #REF!
Name ETAPA4: #REF!
Name HM: [6]Hoja1!$G$8
Name HM: [6]Hoja1!$G$8
Name HM: #REF!

Sheet PROPUESTA ECONÓMICA (Proponente
C3: Formulario 1 - Propuesta económica - Licitación de obra pública de infraestructura social
C4: Código | D4: CCE-EICP-FM-116 | E4: Versión | F4: 1
C9: CONTRATAR LAS ACTIVIDADES DE IMPLOSION Y DEMOLICION DE LA TRIBUNA OCCIDENTAL DEL ESTADIO DE FÚTBOL GUILLERMO PLAZAS ALCID, DE LA CIUDAD DE NEIVA DEL DEPARTAMENTTO DEL HUILA
C11: Nº | D11: ÍTEM DE PAGO | E11: ESPECIFICACIONES | G11: DESCRIPCION | H11: UND | I11: CANTIDAD | J11: PRECIO UNITARIO | K11: VALOR TOTAL
E12: GENERAL | F12: PARTICULAR
C13: 1 Actividades preconstructivas
C14: 1,1 | D14: 1,1 | E14: X | F14: X | G14: Localizacion y replanteo | H14: m² | I14: 15435.59
C15: 1,2 | D15: 1,2 | E15: X | F15: X | G15: Limpieza de lote perimetral a tribuna occidental e instalación de polisombras de división de tribuna occidental del resto del estadio | H15: Und | I15: 1
C16: 1,3 | D16: 1,3 | E16: X | F16: X | G16: Instalación de líneas de agua de 1" y líneas eléctricas de 110v | H16: Und | I16: 1
C17: 1,4 | D17: 1,4 | E17: X | F17: X | G17: Instalación de señalización interna de obra. | H17: Und | I17: 90
C18: 1,5 | D18: 1,5 | E18: X | F18: X | G18: Limpieza de la edificación y retiro de basura. | H18: Und | I18: 1
C19: SUBTOTAL
C20: 2 Capitulo de Implosion
C21: 2,1 | D21: =+C21 -> 2,1 | E21: X | F21: X | G21: Desarrollo del proceso tecnico de implosión controlada para garantizar el derribamiento seguro de estructura con criterios de protección ambiental, análisis de riesgo, SST y Comunidad (Incluye, verificación de estructura y de elementos estructurales) | H21: m² | I21: 15435.59
C22: 2,2 | D22: =+C22 -> 2,2 | E22: X | F22: X | G22: Perforación de elementos estructurales en las mallas de implosión según lo indicado en el diseño de implosion planteada por el contratista seleccionado (Incluye, perforación, soplado de perforación y limpieza de las perforaciones). | H22: m² | I22: 15435.59
C23: 2,3 | D23: =+C23 -> 2,3 | E23: X | F23: X | G23: Instalación de explosivo y cordon detonante según lo indicado en el diseño de implosión en cuanto a tipo, cantidades y profundidad (Incluye el cierre de los huecos con mortero de pega) | H23: m² | I23: 15435.59
C24: 2,4 | D24: =+C24 -> 2,4 | E24: X | F24: X | G24: Instalación de detonadores indicados en el diseño de implosión (Incluye la programación de los tiempos según lo indicado en el diseño de implosión) | H24: Und | I24: 1
C25: 2,5 | D25: =+C25 -> 2,5 | E25: X | F25: X | G25: Instalación de protecciones de confinamiento de fragmentos de elementos estructurales esto incluye el suministro de mallas y geotextiles indicados en el diseño de implosión) | H25: Und | I25: 1
C26: 2,6 | D26: =+C26 -> 2,6 | E26: X | F26: X | G26: Instalación de cordón detonante desde ramales de la edificación hasta el Explosor ubicado en el punto de mando unificado incluye (el cheque de continuidad de todos los detonadores y alistamiento de evento de implosión) | H26: Und | I26: 1
C27: 2,7 | D27: =+C27 -> 2,7 | E27: X | F27: X | G27: Demolición manual de elementos no estructurales que interfieran con las actividades de perforación (incluye demolición manual y trasiego a zonas que no generen interferencia con la implosión) | H27: m² | I27: 15435.59
C28: 2,8 | D28: =+C28 -> 2,8 | E28: X | F28: X | G28: Instalación de guayas para sostenimiento estructural las cuales quedan bajo el criterio del especialista de demolición | H28: Und | I28: 1
C29: SUBTOTAL
C30: 3. Ejecucion de implosion controlada | D30: 2 | E30: X | F30: X | G30: RED AGUAS LLUVIAS - DRENAJE
C31: 3,1 | D31: =+C31 -> 3,1 | E31: X | F31: X | G31: Evento de implosión (incluye la detonación, los profesionales de acompañamiento estructural, demolición SST Y Ambiental | H31: m² | I31: 15435.59
C32: 3,2 | D32: =+C32 -> 3,2 | E32: X | F32: X | G32: Seguimiento de vibraciones mediante sismógrafos (Incluye la instalación, el seguimiento y el informe de onda sísmica originada por el derribo controlado del edificio) | H32: m² | I32: 15435.59
C33: 3,3 | D33: =+C33 -> 3,3 | E33: X | F33: X | G33: Inspección y aseguramiento de zona implosionada (Incluye, la verificación de la estructura con los diferentes especialistas | H33: m² | I33: 15435.59
C34: SUBTOTAL
C35: 4. Demolicion mecanica post-implosion
C36: 4,1 | D36: =C36 -> 4,1 | E36: X | F36: X | G36: =+APUS!C1017 -> Demolición mecánica intensiva de elementos implosionados con excavadoras de 21 tonf con martillo hidráulico de 1,5 tonf o equivalente (incluye demolición total, oxicorte de aceros, excavadoras necesarias para la demolición).Incluye descuento por aprovechamiento en disposicion de Acero de refuerzo. | H36: m³ | I36: 8566.2803
C37: 4,2 | D37: =C37 -> 4,2 | E37: X | F37: X | G37: Selección y acopio de RCD de elementos implosionados (incluye separación en la fuente de material metálico y material pétreo, acopio de material según su tipología). | H37: m³ | I37: 8566.2803
C38: 4,3 | D38: =C38 -> 4,3 | E38: X | F38: X | G38: Demolición mecánica intensiva de Camerinios con excavadoras de 21 tonf con martillo hidráulico de 1,5 tonf o equivalente (incluye demolición total, oxicorte de aceros, excavadoras necesarias para la demolición). | H38: m³ | I38: 2692.4318
C39: 4,4 | D39: =C39 -> 4,4 | E39: X | F39: X | G39: Selección y acopio de RCD de demolición Camerinos (incluye separación en la fuente de material metálico y material pétreo, acopio de material según su tipología). | H39: m³ | I39: 2692.4318
C40: 4,5 | D40: =C40 -> 4,5 | E40: X | F40: X | G40: Acomodación de escombro en lleno de camerinos para nivelación de pista atlética en costado occidental | H40: m³ | I40: 5200.125
C41: 4,6 | D41: =C41 -> 4,6 | E41: X | F41: X | G41: Transporte de RCD sobrante a zonas destinadas para disposición final de escombros | H41: m³ | I41: 11687.943
C42: SUBTOTAL
C43: 5. Componentes Complementarios y especializados
C44: 5,1 | D44: =+C44 -> 5,1 | E44: X | F44: X | G44: Plan de Manejo Ambiental | H44: Und | I44: 1
C45: 5,2 | D45: =+C45 -> 5,2 | E45: X | F45: X | G45: Plan de Manejo social | H45: Und | I45: 1
C46: 5,3 | D46: =+C46 -> 5,3 | E46: X | F46: X | G46: Plan de Manejo de Tráfico | H46: Und | I46: 1
C47: 5,4 | D47: =+C47 -> 5,4 | E47: X | F47: X | G47: Manejo SG-SST | H47: Und | I47: 1
...

Sheet PRESUPUESTO OFICIAL (Entidad)
C3: Formulario 1 - Propuesta económica - Licitación de obra pública de infraestructura social
C4: Código | D4: CCE-EICP-FM-116 | E4: Versión | F4: 1
C7: [La Entidad puede utilizar este Formulario de detalle del Presupuesto Oficial para determinar las condiciones bajo las cuales los Proponentes analizarán y presentarán su propuesta económica de forma detallada, sin perjuicio que la Entidad pueda modificarlo o establecer la presentación de la oferta económica con un Formulario distinto al indicado.]
C9: CONTRATAR LAS ACTIVIDADES DE IMPLOSION Y DEMOLICION DE LA TRIBUNA OCCIDENTAL DEL ESTADIO DE FÚTBOL GUILLERMO PLAZAS ALCID, DE LA CIUDAD DE NEIVA DEL DEPARTAMENTTO DEL HUILA
C11: Nº | D11: ÍTEM DE PAGO | E11: ESPECIFICACIONES | G11: DESCRIPCION | H11: UND | I11: CANTIDAD | J11: PRECIO UNITARIO | K11: VALOR TOTAL
E12: GENERAL | F12: PARTICULAR
C13: 1 Actividades preconstructivas
C14: 1,1 | D14: 1,1 | E14: X | F14: X | G14: Localizacion y replanteo | H14: m² | I14: 15435.59 | J14: =APUS!$J$498 -> 1778.7648 | K14: =+ROUND(I14*J14,2) -> 27456284
C15: 1,2 | D15: 1,2 | E15: X | F15: X | G15: Limpieza de lote perimetral a tribuna occidental e instalación de polisombras de división de tribuna occidental del resto del estadio | H15: Und | I15: 1 | J15: =APUS!$J$532 -> 8620281 | K15: =+ROUND(I15*J15,2) -> 8620281
C16: 1,3 | D16: 1,3 | E16: X | F16: X | G16: Instalación de líneas de agua de 1" y líneas eléctricas de 110v | H16: Und | I16: 1 | J16: =APUS!$J$567 -> 6741000 | K16: =+ROUND(I16*J16,2) -> 6741000
C17: 1,4 | D17: 1,4 | E17: X | F17: X | G17: Instalación de señalización interna de obra. | H17: Und | I17: 90 | J17: =APUS!$J$601 -> 129998.64 | K17: =+ROUND(I17*J17,2) -> 11699878
C18: 1,5 | D18: 1,5 | E18: X | F18: X | G18: Limpieza de la edificación y retiro de basura. | H18: Und | I18: 1 | J18: =APUS!$J$635 -> 12859836 | K18: =+ROUND(I18*J18,2) -> 12859836
C19: SUBTOTAL | K19: =SUM(K14:K18) -> 67377279
C20: 2 Capitulo de Implosion
C21: 2,1 | D21: =+C21 -> 2,1 | E21: X | F21: X | G21: Desarrollo del proceso tecnico de implosión controlada para garantizar el derribamiento seguro de estructura con criterios de protección ambiental, análisis de riesgo, SST y Comunidad (Incluye, verificación de estructura y de elementos estructurales) | H21: m² | I21: 15435.59 | J21: =APUS!$J$668 -> 34624.8 | K21: =+ROUND(I21*J21,2) -> 5.3445422e+08
C22: 2,2 | D22: =+C22 -> 2,2 | E22: X | F22: X | G22: Perforación de elementos estructurales en las mallas de implosión según lo indicado en el diseño de implosion planteada por el contratista seleccionado (Incluye, perforación, soplado de perforación y limpieza de las perforaciones). | H22: m² | I22: 15435.59 | J22: =APUS!$J$707 -> 37572.552 | K22: =+ROUND(I22*J22,2) -> 5.7995451e+08
C23: 2,3 | D23: =+C23 -> 2,3 | E23: X | F23: X | G23: Instalación de explosivo y cordon detonante según lo indicado en el diseño de implosión en cuanto a tipo, cantidades y profundidad (Incluye el cierre de los huecos con mortero de pega) | H23: m² | I23: 15435.59 | J23: =APUS!$J$743 -> 26413.106 | K23: =+ROUND(I23*J23,2) -> 4.0770187e+08
C24: 2,4 | D24: =+C24 -> 2,4 | E24: X | F24: X | G24: Instalación de detonadores indicados en el diseño de implosión (Incluye la programación de los tiempos según lo indicado en el diseño de implosión) | H24: Und | I24: 1 | J24: =APUS!$J$775 -> 42072660 | K24: =+ROUND(I24*J24,2) -> 42072660
C25: 2,5 | D25: =+C25 -> 2,5 | E25: X | F25: X | G25: Instalación de protecciones de confinamiento de fragmentos de elementos estructurales esto incluye el suministro de mallas y geotextiles indicados en el diseño de implosión) | H25: Und | I25: 1 | J25: =APUS!$J$808 -> 3.6743586e+08 | K25: =+ROUND(I25*J25,2) -> 3.6743586e+08
C26: 2,6 | D26: =+C26 -> 2,6 | E26: X | F26: X | G26: Instalación de cordón detonante desde ramales de la edificación hasta el Explosor ubicado en el punto de mando unificado incluye (el cheque de continuidad de todos los detonadores y alistamiento de evento de implosión) | H26: Und | I26: 1 | J26: =APUS!$J$840 -> 30867491 | K26: =+ROUND(I26*J26,2) -> 30867491
C27: 2,7 | D27: =+C27 -> 2,7 | E27: X | F27: X | G27: Demolición manual de elementos no estructurales que interfieran con las actividades de perforación (incluye demolición manual y trasiego a zonas que no generen interferencia con la implosión) | H27: m² | I27: 15435.59 | J27: =APUS!$J$870 -> 4009.1732 | K27: =+ROUND(I27*J27,2) -> 61883954
C28: 2,8 | D28: =+C28 -> 2,8 | E28: X | F28: X | G28: Instalación de guayas para sostenimiento estructural las cuales quedan bajo el criterio del especialista de demolición | H28: Und | I28: 1 | J28: =APUS!$J$900 -> 8511308.8 | K28: =+ROUND(I28*J28,2) -> 8511308.8
C29: SUBTOTAL | K29: =SUM(K21:K28) -> 2.0328819e+09
C30: 3. Ejecucion de implosion controlada | D30: 2 | E30: X | F30: X | G30: RED AGUAS LLUVIAS - DRENAJE
C31: 3,1 | D31: =+C31 -> 3,1 | E31: X | F31: X | G31: Evento de implosión (incluye la detonación, los profesionales de acompañamiento estructural, demolición SST Y Ambiental | H31: m² | I31: 15435.59 | J31: =APUS!$J$940 -> 32842.433 | K31: =+ROUND(I31*J31,2) -> 5.0694233e+08
C32: 3,2 | D32: =+C32 -> 3,2 | E32: X | F32: X | G32: Seguimiento de vibraciones mediante sismógrafos (Incluye la instalación, el seguimiento y el informe de onda sísmica originada por el derribo controlado del edificio) | H32: m² | I32: 15435.59 | J32: =APUS!$J$976 -> 5376.1254 | K32: =+ROUND(I32*J32,2) -> 82983668
C33: 3,3 | D33: =+C33 -> 3,3 | E33: X | F33: X | G33: Inspección y aseguramiento de zona implosionada (Incluye, la verificación de la estructura con los diferentes especialistas | H33: m² | I33: 15435.59 | J33: =APUS!$J$1009 -> 1377.1182 | K33: =+ROUND(I33*J33,2) -> 21256632
C34: SUBTOTAL | K34: =SUM(K31:K33) -> 6.1118263e+08
C35: 4. Demolicion mecanica post-implosion
C36: 4,1 | D36: =C36 -> 4,1 | E36: X | F36: X | G36: =+APUS!C1017 -> Demolición mecánica intensiva de elementos implosionados con excavadoras de 21 tonf con martillo hidráulico de 1,5 tonf o equivalente (incluye demolición total, oxicorte de aceros, excavadoras necesarias para la demolición).Incluye descuento por aprovechamiento en disposicion de Acero de refuerzo. | H36: m³ | I36: 8566.2803 | J36: =APUS!$J$1044 -> 245171.87 | K36: =+ROUND(I36*J36,2) -> 2.1002109e+09
C37: 4,2 | D37: =C37 -> 4,2 | E37: X | F37: X | G37: Selección y acopio de RCD de elementos implosionados (incluye separación en la fuente de material metálico y material pétreo, acopio de material según su tipología). | H37: m³ | I37: 8566.2803 | J37: =APUS!$J$1075 -> 33542.326 | K37: =+ROUND(I37*J37,2) -> 2.8733297e+08
C38: 4,3 | D38: =C38 -> 4,3 | E38: X | F38: X | G38: Demolición mecánica intensiva de Camerinios con excavadoras de 21 tonf con martillo hidráulico de 1,5 tonf o equivalente (incluye demolición total, oxicorte de aceros, excavadoras necesarias para la demolición). | H38: m³ | I38: 2692.4318 | J38: =APUS!$J$1044 -> 245171.87 | K38: =+ROUND(I38*J38,2) -> 6.6010852e+08
C39: 4,4 | D39: =C39 -> 4,4 | E39: X | F39: X | G39: Selección y acopio de RCD de demolición Camerinos (incluye separación en la fuente de material metálico y material pétreo, acopio de material según su tipología). | H39: m³ | I39: 2692.4318 | J39: =APUS!$J$1075 -> 33542.326 | K39: =+ROUND(I39*J39,2) -> 90310424
C40: 4,5 | D40: =C40 -> 4,5 | E40: X | F40: X | G40: Acomodación de escombro en lleno de camerinos para nivelación de pista atlética en costado occidental | H40: m³ | I40: 5200.125 | J40: =APUS!$J$1144 -> 9450 | K40: =+ROUND(I40*J40,2) -> 49141181
C41: 4,6 | D41: =C41 -> 4,6 | E41: X | F41: X | G41: Transporte de RCD sobrante a zonas destinadas para disposición final de escombros | H41: m³ | I41: 11687.943 | J41: =APUS!$J$1110 -> 50224.627 | K41: =+ROUND(I41*J41,2) -> 5.8702258e+08
C42: SUBTOTAL | K42: =SUM(K36:K41) -> 3.7741266e+09
C43: 5. Componentes Complementarios y especializados
C44: 5,1 | D44: =+C44 -> 5,1 | E44: X | F44: X | G44: Plan de Manejo Ambiental | H44: Und | I44: 1 | J44: 39665000 | K44: =+ROUND(I44*J44,2) -> 39665000
C45: 5,2 | D45: =+C45 -> 5,2 | E45: X | F45: X | G45: Plan de Manejo social | H45: Und | I45: 1 | J45: 67530080 | K45: =+ROUND(I45*J45,2) -> 67530080
C46: 5,3 | D46: =+C46 -> 5,3 | E46: X | F46: X | G46: Plan de Manejo de Tráfico | H46: Und | I46: 1 | J46: 34325000 | K46: =+ROUND(I46*J46,2) -> 34325000
...

Sheet APUS
E1: ALCALDIA DE NEIVA | H1: Fecha: | I1: 46097
H3: Versión: | I3: 1
E4: ANÁLISIS DE PRECIOS UNITARIOS | H4: CAPITULO | I4: =PPTO_OBRA_GENERAL!C6 -> ACTIVIDADES PRELIMINARES
B6: DEMOLICIÓN DE TRIBUNA OCCIDENTAL ESTADIO GUILLERMO PLAZAS ALCID
B8: SUBCAPITULO | C8: SERVCICIOS ESPECIALIZADOS - PLANES DE MANEJO
B11: ÍTEM | C11: DESCRIPCIÓN | I11: UNIDAD | J11: CANTIDAD
B12: =PPTO_PLANES!B7 -> 5.1.1 | C12: Elaboración de Plan de Manejo Ambiental ) (Incluye la cuantificación de la cantidad de RCD por tipo que será generado, la asignación del PIN, el control en obra que deberá ser establecido, la información sobre los gestores idóneos, el reporte periódico de los informes de gestión, la apertura y cierre de PIN y las medidas de manejo ambiental). | I12: UN | J12: 1
B13: II. MATERIALES
B14: DESCRIPCIÓN | G14: UNIDAD | H14: CANTIDAD | I14: PRECIO UNITARIO | J14: VALOR UNITARIO
J15: =ROUND(I15*H15,0) -> 0
I17: SUBTOTAL | J17: =+SUM(J15:J16) -> 0
B18: IV. MANO DE OBRA
B19: TRABAJADOR | H19: JORNAL TOTAL | I19: RENDIMIENTO | J19: VALOR UNITARIO
I22: SUBTOTAL | J22: =SUM(J20:J21) -> 0
B23: V. HERRAMIENTA
B24: DESCRIPCIÓN | G24: UNIDAD | H24: CANTIDAD | I24: PRECIO UNITARIO | J24: VALOR UNITARIO
J25: =ROUND(H25*I25,0) -> 0
I27: SUBTOTAL | J27: =SUM(J25:J26) -> 0
B28: VI. OTROS
B29: DESCRIPCIÓN | G29: UNIDAD | H29: CANTIDAD | I29: PRECIO UNITARIO | J29: VALOR UNITARIO
B30: Elaboración de documento y gestión documental | G30: UNIDAD | H30: 1 | I30: 15650000 | J30: =+H30*I30 -> 15650000
I33: SUBTOTAL | J33: =SUM(J30:J32) -> 15650000
H34: Total Costo Directo | J34: =+J27++J33+J22+J17 -> 15650000
H35: AIU 26 % | J35: =+J34*'PRESUPUESTO OFICIAL (Entidad)'!$K$56 -> 4069000
H36: Costo Total | J36: =SUM(J35:J35) -> 4069000
B39: ÍTEM | C39: DESCRIPCIÓN | I39: UNIDAD | J39: CANTIDAD
B40: =PPTO_PLANES!B19 -> 5.3.1 | C40: Plan de manejo de Tráfico (Incluye la elaboración del informe, el tramite y la autorización para el manejo de trafico, este debe ser asignado para la obra durante la ejecución de actividades y para el día del evento de implosión el cual deberá contemplar el cierre de vías que se encuentran dentro del perímetro sugerido por la gerencia de obra). | I40: UN | J40: 1
B41: II. MATERIALES
B42: DESCRIPCIÓN | G42: UNIDAD | H42: CANTIDAD | I42: PRECIO UNITARIO | J42: VALOR UNITARIO
J43: =ROUND(I43*H43,0) -> 0
I45: SUBTOTAL | J45: =+SUM(J43:J44) -> 0
B46: IV. MANO DE OBRA
B47: TRABAJADOR | H47: JORNAL TOTAL | I47: RENDIMIENTO | J47: VALOR UNITARIO
I50: SUBTOTAL | J50: =SUM(J48:J49) -> 0
B51: V. HERRAMIENTA
B52: DESCRIPCIÓN | G52: UNIDAD | H52: CANTIDAD | I52: PRECIO UNITARIO | J52: VALOR UNITARIO
J53: =ROUND(H53*I53,0) -> 0
I54: SUBTOTAL | J54: =SUM(J53:J53) -> 0
B55: VI. OTROS
B56: DESCRIPCIÓN | G56: UNIDAD | H56: CANTIDAD | I56: PRECIO UNITARIO | J56: VALOR UNITARIO
...

Sheet PPTO_OBRA_GENERAL
A2: =+RESUMEN!C5 -> ESTUDIOS TÉCNICOS Y DISEÑOS DEL PROYECTO: "REALIZAR LA REVISIÓN Y/O AJUSTE A LOS ESTUDIOS Y DISEÑOS TÉCNICOS EXISTENTES, REALIZAR ESTUDIOS GEOTÉCNICOS, PATOLOGIA ESTRUCTURAL Y VULNERABILIDAD SISMICA Y LOS DISEÑOS A NIVEL DE DETALLE (FASE III) DE LA ALTERNATIVA PARA LA PUESTA EN FUNCIONAMIENTO DEL ESTADIO DE FUTBOL GUILLERMO PLAZAS ALCID, RECUPERACIÓN DE LA PISTA ATLETICA Y EL URBANISMO DE LA VILLA OLIMPICA " | H2: #VALUE!
A5: ÍTEM | B5: COD APU | C5: ACTIVIDAD | D5: UN | E5: CANTIDAD | F5: PRECIO UNITARIO | G5: VALOR TOTAL
A6: 1 | B6: 01 | C6: ACTIVIDADES PRELIMINARES
A7: 1.1 | B7: 1.1 | C7: Localizacion y replanteo | D7: m² | E7: =MEMORIA_IMPLOSION!K14 -> 15435.59 | F7: =APUS!$J$496 -> 1411.7148 | G7: =ROUND(F7*E7,0) -> 21790651 | I7: =+ROUND(F7*1.26,2) -> 1778.76 | J7: =+E7*I7 -> 27456210 | K7: =+'[13]PPTO OBRA PLIEGO TIPO'!K14-J7 -> 66373.042
A8: 1.2 | B8: 1.2 | C8: Limpieza de lote perimetral a tribuna occidental e instalación de polisombras de división de tribuna occidental del resto del estadio | D8: Und | E8: 1 | F8: =APUS!$J$530 -> 6841492.9 | G8: =ROUND(F8*E8,0) -> 6841493 | I8: =+ROUND(F8*1.26,2) -> 8620281 | J8: =+E8*I8 -> 8620281 | K8: =+'[13]PPTO OBRA PLIEGO TIPO'!K15-J8 -> 20859.43
A9: 1.3 | B9: 1.3 | C9: Instalación de líneas de agua de 1" y líneas eléctricas de 110v | D9: =+D8 -> Und | E9: 1 | F9: =APUS!$J$565 -> 5350000 | G9: =ROUND(F9*E9,0) -> 5350000 | I9: =+ROUND(F9*1.26,2) -> 6741000 | J9: =+E9*I9 -> 6741000 | K9: =+'[13]PPTO OBRA PLIEGO TIPO'!K16-J9 -> 16311.93
A10: 1.4 | B10: 1.4 | C10: Instalación de señalización interna de obra. | D10: =+D9 -> Und | E10: 90 | F10: =APUS!$J$599 -> 103173.52 | G10: =ROUND(F10*E10,0) -> 9285617 | I10: =+ROUND(F10*1.26,2) -> 129998.64 | J10: =+E10*I10 -> 11699878 | K10: =+'[13]PPTO OBRA PLIEGO TIPO'!K17-J10 -> 28311.3
A11: 1.5 | B11: 1.5 | C11: Limpieza de la edificación y retiro de basura. | D11: =+D10 -> Und | E11: 1 | F11: =APUS!$J$633 -> 10206219 | G11: =ROUND(F11*E11,0) -> 10206219 | I11: =+ROUND(F11*1.26,2) -> 12859836 | J11: =+E11*I11 -> 12859836 | K11: =+'[13]PPTO OBRA PLIEGO TIPO'!K18-J11 -> 31118.34
B12: subtotal | H12: =SUM(G7:G11) -> 53473980 | I12: =+ROUND(H12*1.26,2) -> 67377215 | J12: =+E12*I12 -> 0 | K12: =+'[13]PPTO OBRA PLIEGO TIPO'!K19-J12 -> 67540179
A13: 2 | B13: 02 | C13: CAPITULO DE IMPLOSION | I13: =+ROUND(F13*1.263,2) -> 0 | J13: =+E13*I13 -> 0 | K13: =+'[13]PPTO OBRA PLIEGO TIPO'!K20-J13 -> 0
A14: 2.1 | B14: 2.1 | C14: Desarrollo del proceso tecnico de implosión controlada para garantizar el derribamiento seguro de estructura con criterios de protección ambiental, análisis de riesgo, SST y Comunidad (Incluye, verificación de estructura y de elementos estructurales) | D14: m² | E14: =MEMORIA_IMPLOSION!K14 -> 15435.59 | F14: =APUS!$J$666 -> 27480 | G14: =ROUND(F14*E14,0) -> 424170013 | I14: =+ROUND(F14*1.26,2) -> 34624.8 | J14: =+E14*I14 -> 5.3445422e+08 | K14: =+'[13]PPTO OBRA PLIEGO TIPO'!K21-J14 -> 1293348.1
A15: 2.2 | B15: 2.2 | C15: Perforación de elementos estructurales en las mallas de implosión según lo indicado en el diseño de implosion planteada por el contratista seleccionado (Incluye, perforación, soplado de perforación y limpieza de las perforaciones). | D15: m² | E15: =E14 -> 15435.59 | F15: =APUS!$J$705 -> 29819.482 | G15: =ROUND(F15*E15,0) -> 460281296 | I15: =+ROUND(F15*1.26,2) -> 37572.55 | J15: =+E15*I15 -> 5.7995448e+08 | K15: =+'[13]PPTO OBRA PLIEGO TIPO'!K22-J15 -> 1403403.8
A16: 2.3 | B16: 2.3 | C16: Instalación de explosivo y cordon detonante según lo indicado en el diseño de implosión en cuanto a tipo, cantidades y profundidad (Incluye el cierre de los huecos con mortero de pega) | D16: m² | E16: =E15 -> 15435.59 | F16: =APUS!$J$741 -> 20962.786 | G16: =ROUND(F16*E16,0) -> 323572967 | I16: =+ROUND(F16*1.26,2) -> 26413.11 | J16: =+E16*I16 -> 4.0770194e+08 | K16: =+'[13]PPTO OBRA PLIEGO TIPO'!K23-J16 -> 986488.56
A17: 2.4 | B17: 2.4 | C17: Instalación de detonadores indicados en el diseño de implosión (Incluye la programación de los tiempos según lo indicado en el diseño de implosión) | D17: =+D8 -> Und | E17: 1 | F17: =APUS!$J$773 -> 33391000 | G17: =ROUND(F17*E17,0) -> 33391000 | I17: =+ROUND(F17*1.26,2) -> 42072660 | J17: =+E17*I17 -> 42072660 | K17: =+'[13]PPTO OBRA PLIEGO TIPO'!K24-J17 -> 101807.79
A18: 2.5 | B18: 2.5 | C18: Instalación de protecciones de confinamiento de fragmentos de elementos estructurales esto incluye el suministro de mallas y geotextiles indicados en el diseño de implosión) | D18: =+D17 -> Und | E18: 1 | F18: =APUS!$J$806 -> 291615764 | G18: =ROUND(F18*E18,0) -> 291615764 | I18: =+ROUND(F18*1.26,2) -> 3.6743586e+08 | J18: =+E18*I18 -> 3.6743586e+08 | K18: =+'[13]PPTO OBRA PLIEGO TIPO'!K25-J18 -> 889124.54
A19: 2.6 | B19: 2.6 | C19: Instalación de cordón detonante desde ramales de la edificación hasta el Explosor ubicado en el punto de mando unificado incluye (el cheque de continuidad de todos los detonadores y alistamiento de evento de implosión) | D19: =+D18 -> Und | E19: 1 | F19: =APUS!$J$838 -> 24498009 | G19: =ROUND(F19*E19,0) -> 24498009 | I19: =+ROUND(F19*1.26,2) -> 30867491 | J19: =+E19*I19 -> 30867491 | K19: =+'[13]PPTO OBRA PLIEGO TIPO'!K26-J19 -> 74693.43
A20: 2.7 | B20: 2.7 | C20: Demolición manual de elementos no estructurales que interfieran con las actividades de perforación (incluye demolición manual y trasiego a zonas que no generen interferencia con la implosión) | D20: m² | E20: =E16 -> 15435.59 | F20: =APUS!$J$868 -> 3181.8832 | G20: =ROUND(F20*E20,0) -> 49114245 | I20: =+ROUND(F20*1.26,2) -> 4009.17 | J20: =+E20*I20 -> 61883904 | K20: =+'[13]PPTO OBRA PLIEGO TIPO'!K27-J20 -> 149725.22
A21: 2.8 | B21: 2.8 | C21: Instalación de guayas para sostenimiento estructural las cuales quedan bajo el criterio del especialista de demolición | D21: =+D19 -> Und | E21: 1 | F21: =APUS!$J$898 -> 6755007 | G21: =ROUND(F21*E21,0) -> 6755007 | I21: =+ROUND(F21*1.26,2) -> 8511308.8 | J21: =+E21*I21 -> 8511308.8 | K21: =+'[13]PPTO OBRA PLIEGO TIPO'!K28-J21 -> 20595.74
B22: subtotal | H22: =SUM(G14:G21) -> 1613398301 | I22: =+ROUND(H22*1.26,2) -> 2.0328819e+09 | J22: =+E22*I22 -> 0 | K22: =+'[13]PPTO OBRA PLIEGO TIPO'!K29-J22 -> 2.037801e+09
A23: 3 | B23: 03 | C23: EJECUCIÓN DE IMPLOSIÓN CONTROLADA | I23: =+ROUND(F23*1.263,2) -> 0 | J23: =+E23*I23 -> 0 | K23: =+'[13]PPTO OBRA PLIEGO TIPO'!K30-J23 -> 0
A24: 3.1 | B24: 3.1 | C24: Evento de implosión (incluye la detonación, los profesionales de acompañamiento estructural, demolición SST Y Ambiental | D24: m² | E24: =MEMORIA_IMPLOSION!K14 -> 15435.59 | F24: =APUS!$J$938 -> 26065.423 | G24: =ROUND(F24*E24,0) -> 402335184 | I24: =+ROUND(F24*1.26,2) -> 32842.43 | J24: =+E24*I24 -> 5.0694228e+08 | K24: =+'[13]PPTO OBRA PLIEGO TIPO'!K31-J24 -> 1226820.7
A25: 3.2 | B25: 3.2 | C25: Seguimiento de vibraciones mediante sismógrafos (Incluye la instalación, el seguimiento y el informe de onda sísmica originada por el derribo controlado del edificio) | D25: m² | E25: =E24 -> 15435.59 | F25: =APUS!$J$974 -> 4266.7654 | G25: =ROUND(F25*E25,0) -> 65860042 | I25: =+ROUND(F25*1.26,2) -> 5376.12 | J25: =+E25*I25 -> 82983584 | K25: =+'[13]PPTO OBRA PLIEGO TIPO'!K32-J25 -> 200817.03
A26: 3.3 | B26: 3.3 | C26: Inspección y aseguramiento de zona implosionada (Incluye, la verificación de la estructura con los diferentes especialistas | D26: m² | E26: =E25 -> 15435.59 | F26: =APUS!$J$1007 -> 1092.9482 | G26: =ROUND(F26*E26,0) -> 16870300 | I26: =+ROUND(F26*1.26,2) -> 1377.11 | J26: =+E26*I26 -> 21256505 | K26: =+'[13]PPTO OBRA PLIEGO TIPO'!K33-J26 -> 51554.875
B27: subtotal | H27: =SUM(G24:G26) -> 485065526 | I27: =+ROUND(H27*1.26,2) -> 6.1118256e+08 | J27: =+E27*I27 -> 0 | K27: =+'[13]PPTO OBRA PLIEGO TIPO'!K34-J27 -> 6.1266157e+08
A28: 4 | B28: 04 | C28: DEMOLICIÓN MECÁNICA POST-IMPLOSIÓN | I28: =+ROUND(F28*1.263,2) -> 0 | J28: =+E28*I28 -> 0 | K28: =+'[13]PPTO OBRA PLIEGO TIPO'!K35-J28 -> 0
A29: 4.1 | B29: 4.1 | C29: Demolición mecánica intensiva de elelemtos implosionados con excavadoras de 21 tonf con martillo hidráulico de 1,5 tonf o equivalente (incluye demolición total, oxicorte de aceros, excavadoras necesarias para la demolición). | D29: m³ | E29: =MEMORIA_IMPLOSION!L25 -> 8566.2803 | F29: =APUS!$J$1042 -> 194580.85 | G29: =ROUND(F29*E29,0) -> 1666834076 | I29: =+ROUND(F29*1.26,2) -> 245171.87 | J29: =+E29*I29 -> 2.100211e+09 | K29: =+'[13]PPTO OBRA PLIEGO TIPO'!K36-J29 -> 5082117.1
A30: 4.2 | B30: 4.2 | C30: Selección y acopio de RCD de elementos implosionados (incluye separación en la fuente de material metálico y material pétreo, acopio de material según su tipología). | D30: m³ | E30: =E29 -> 8566.2803 | F30: =APUS!$J$1073 -> 26620.896 | G30: =ROUND(F30*E30,0) -> 228042058 | I30: =+ROUND(F30*1.26,2) -> 33542.33 | J30: =+E30*I30 -> 2.87333e+08 | K30: =+'[13]PPTO OBRA PLIEGO TIPO'!K37-J30 -> 695324.97
A31: 4.4 | B31: 4.4 | C31: Demolición mecánica intensiva de Camerinios con excavadoras de 21 tonf con martillo hidráulico de 1,5 tonf o equivalente (incluye demolición total, oxicorte de aceros, excavadoras necesarias para la demolición). | D31: m³ | E31: =MEMORIA_IMPLOSION!L26 -> 2692.4318 | F31: =APUS!$J$1042 -> 194580.85 | G31: =ROUND(F31*E31,0) -> 523895652 | I31: =+ROUND(F31*1.26,2) -> 245171.87 | J31: =+E31*I31 -> 6.6010853e+08 | K31: =+'[13]PPTO OBRA PLIEGO TIPO'!K38-J31 -> 1597339
A32: 4.5 | B32: 4.5 | C32: Selección y acopio de RCD de demolición Camerinos (incluye separación en la fuente de material metálico y material pétreo, acopio de material según su tipología). | D32: m³ | E32: =E31 -> 2692.4318 | F32: =APUS!$J$1073 -> 26620.896 | G32: =ROUND(F32*E32,0) -> 71674946 | I32: =+ROUND(F32*1.26,2) -> 33542.33 | J32: =+E32*I32 -> 90310434 | K32: =+'[13]PPTO OBRA PLIEGO TIPO'!K39-J32 -> 218544.69
A33: 4.6 | B33: 4.6 | C33: Acomodación de escombro en lleno de camerinos para nivelación de pista atlética en costado occidental | D33: m³ | E33: =MEMORIA_IMPLOSION!L23 -> 5200.125 | F33: =APUS!$J$1142 -> 7500 | G33: =ROUND(F33*E33,0) -> 39000938 | I33: =+ROUND(F33*1.26,2) -> 9450 | J33: =+E33*I33 -> 49141181 | K33: =+'[13]PPTO OBRA PLIEGO TIPO'!K40-J33 -> 118926.86
A34: 4.7 | B34: 4.7 | C34: Transporte de RCD sobrante a zonas destinadas para disposición final de escombros | D34: m³ | E34: =MEMORIA_IMPLOSION!L24 -> 11687.943 | F34: =APUS!$J$1108 -> 39860.817 | G34: =ROUND(F34*E34,0) -> 465890964 | I34: =+ROUND(F34*1.26,2) -> 50224.63 | J34: =+E34*I34 -> 5.8702261e+08 | K34: =+'[13]PPTO OBRA PLIEGO TIPO'!K41-J34 -> 1420435.7
B35: subtotal | H35: =SUM(G29:G34) -> 2995338634 | I35: =+ROUND(H35*1.26,2) -> 3.7741267e+09 | J35: =+E35*I35 -> 0 | K35: =+'[13]PPTO OBRA PLIEGO TIPO'!K42-J35 -> 3.7832594e+09
C36: TOTAL COSTO DIRECTO | H36: =SUM(H6:H35) -> 5147276441 | I36: =+ROUND(F36*1.263,2) -> 0 | J36: =+E36*I36 -> 0 | K36: =+'[13]PPTO OBRA PLIEGO TIPO'!K43-J36 -> 0
E37: 0.21 | F37: ADMINISTRACIÓN | H37: =ROUND(E37*$H$36,0) -> 1080928053 | I37: =+ROUND(F37*1.263,2) -> #VALUE! | J37: =+E37*I37 -> #VALUE! | K37: =+'[13]PPTO OBRA PLIEGO TIPO'!K44-J37 -> #VALUE!
E38: 0.01 | F38: IMPREVISTOS | H38: =ROUND(E38*$H$36,0) -> 51472764 | I38: =+ROUND(F38*1.263,2) -> #VALUE! | J38: =+E38*I38 -> #VALUE! | K38: =+'[13]PPTO OBRA PLIEGO TIPO'!K45-J38 -> #VALUE!
E39: 0.04 | F39: UTILIDAD | H39: =ROUND(E39*$H$36,0) -> 205891058 | I39: =+ROUND(F39*1.263,2) -> #VALUE! | J39: =+E39*I39 -> #VALUE! | K39: =+'[13]PPTO OBRA PLIEGO TIPO'!K46-J39 -> #VALUE!
A40: COSTO TOTAL DEMOLICION (COSTOS DIRECTOS + COSTOS INDIRECTOS) | H40: =H36+H37+H38+H39 -> 6485568316 | I40: =+ROUND(F40*1.263,2) -> 0 | J40: =+E40*I40 -> 0 | K40: =+'[13]PPTO OBRA PLIEGO TIPO'!K47-J40 -> 1.34661e+08
A42: 5 | B42: COMPONENTES COMPLEMENTARIOS Y ESPECIALIZADOS
A43: 5.1 | C43: Plan de Manejo Ambiental | D43: Und | E43: 1 | F43: =PPTO_PLANES!$H$10 -> 39665000 | G43: =ROUND(F43*E43,0) -> 39665000
A44: 5.2 | C44: Plan de Manejo social | D44: =+D43 -> Und | E44: 1 | F44: =PPTO_PLANES!$H$17 -> 67530080 | G44: =ROUND(F44*E44,0) -> 67530080
...

Sheet RESUMEN
B2: DERRIBO CONTROLADO IMPLOSIÓN | C2: PRESUPUESTO DE ACTIVIDADES DE DEMOLICIÓN Y MANEJO DE LOS RCD GENERADOS EN EL PROCESO DE DEMOLICIÓN DE TRIBUNA OCCIDENTAL DEL ESTADIO GUILLERMO PLAZAS ALCID
B5: PROYECTO: | C5: ESTUDIOS TÉCNICOS Y DISEÑOS DEL PROYECTO: "REALIZAR LA REVISIÓN Y/O AJUSTE A LOS ESTUDIOS Y DISEÑOS TÉCNICOS EXISTENTES, REALIZAR ESTUDIOS GEOTÉCNICOS, PATOLOGIA ESTRUCTURAL Y VULNERABILIDAD SISMICA Y LOS DISEÑOS A NIVEL DE DETALLE (FASE III) DE LA ALTERNATIVA PARA LA PUESTA EN FUNCIONAMIENTO DEL ESTADIO DE FUTBOL GUILLERMO PLAZAS ALCID, RECUPERACIÓN DE LA PISTA ATLETICA Y EL URBANISMO DE LA VILLA OLIMPICA " | E5: #VALUE!
B6: DEPARTAMENTO: | C6: HUILA
B7: MUNICIPIO: | C7: NEIVA
B8: FECHA: | C8: =DATE(2026,4,10) -> 46122 | F8: 15207
B9: ELABORÓ: | C9: UNIVERSIDAD NACIONAL DE COLOMBIA SEDE MANIZALES
B10: CUADRO RESUMEN
F11: 205000
B12: 01 | C12: =PPTO_OBRA_GENERAL!$C$6 -> ACTIVIDADES PRELIMINARES | D12: =PPTO_OBRA_GENERAL!$H$12 -> 53473980 | E12: =+D12/$D$17 -> 0.010388791 | I12: +FC[-1]*1.24
B13: 02 | C13: =PPTO_OBRA_GENERAL!$C$13 -> CAPITULO DE IMPLOSION | D13: =PPTO_OBRA_GENERAL!$H$22 -> 1613398301 | E13: =+D13/$D$17 -> 0.31344699
B14: 03 | C14: =PPTO_OBRA_GENERAL!$C$23 -> EJECUCIÓN DE IMPLOSIÓN CONTROLADA | D14: =PPTO_OBRA_GENERAL!$H$27 -> 485065526 | E14: =+D14/$D$17 -> 0.094237318
B15: 04 | C15: =PPTO_OBRA_GENERAL!$C$28 -> DEMOLICIÓN MECÁNICA POST-IMPLOSIÓN | D15: =PPTO_OBRA_GENERAL!$H$35 -> 2995338634 | E15: =+D15/$D$17 -> 0.5819269
B17: COSTO DIRECTO | D17: =SUM(D12:D16) -> 5147276441
B19: Administración | C19: =PPTO_OBRA_GENERAL!E37 -> 0.21 | D19: =+C19*$D$17 -> 1.0809281e+09
B20: Imprevisto | C20: =AIU!I56 -> 0.01 | D20: =+C20*$D$17 -> 51472764
B21: Utilidad | C21: =AIU!I57 -> 0.04 | D21: =+C21*$D$17 -> 2.0589106e+08
B23: COSTO INDIRECTO | D23: =SUM(D19:D22) -> 1.3382919e+09
B25: COSTO TOTAL DEMOLICION | D25: =+D23+D17 -> 6.4855683e+09
B26: 05 | C26: =PPTO_OBRA_GENERAL!$B$42 -> COMPONENTES COMPLEMENTARIOS Y ESPECIALIZADOS
B27: =PPTO_OBRA_GENERAL!C43 -> Plan de Manejo Ambiental | D27: =PPTO_OBRA_GENERAL!G43 -> 39665000
B28: =PPTO_OBRA_GENERAL!C44 -> Plan de Manejo social | D28: =PPTO_OBRA_GENERAL!G44 -> 67530080
B29: =PPTO_OBRA_GENERAL!C45 -> Plan de Manejo de Tráfico | D29: =PPTO_OBRA_GENERAL!G45 -> 34325000
B30: =PPTO_OBRA_GENERAL!C46 -> Manejo SG-SST | D30: =PPTO_OBRA_GENERAL!G46 -> 134661000
B31: =PPTO_OBRA_GENERAL!C47 -> Plan de manejo de demolicion | D31: =PPTO_OBRA_GENERAL!G47 -> 41074600
B33: COSTO TOTAL DE COMPONENTES COMPLEMENTARIOS Y ESPECIALIZADOS | D33: =SUM(D27:D32) -> 317255680
B35: SUBTOTAL COSTO PROYECTO | D35: =+D25+D33 -> 6.802824e+09 | F35: =+D35-56786504584 -> -4.9983681e+10 | G35: =+F35*0.0369 -> -1.8443978e+09
B37: Interventoría (NO INCLUIDO) | D37: 0
B39: COSTO TOTAL PROYECTO | D39: =+D35+D37 -> 6.802824e+09
B43: Claudia Guevara Gómez
B44: Representante Legal
B45: SDI Demoliciones
B46: Expertos en demoliciones

Sheet PPTO_PLANES
A2: =+RESUMEN!C5 -> ESTUDIOS TÉCNICOS Y DISEÑOS DEL PROYECTO: "REALIZAR LA REVISIÓN Y/O AJUSTE A LOS ESTUDIOS Y DISEÑOS TÉCNICOS EXISTENTES, REALIZAR ESTUDIOS GEOTÉCNICOS, PATOLOGIA ESTRUCTURAL Y VULNERABILIDAD SISMICA Y LOS DISEÑOS A NIVEL DE DETALLE (FASE III) DE LA ALTERNATIVA PARA LA PUESTA EN FUNCIONAMIENTO DEL ESTADIO DE FUTBOL GUILLERMO PLAZAS ALCID, RECUPERACIÓN DE LA PISTA ATLETICA Y EL URBANISMO DE LA VILLA OLIMPICA "
A5: ÍTEM | B5: COD APU | C5: ACTIVIDAD | D5: UN | E5: CANTIDAD | F5: PRECIO UNITARIO | G5: VALOR TOTAL
A6: 5.1 | C6: Plan de Manejo Ambiental
B7: 5.1.1 | C7: Elaboración de Plan de Manejo Ambiental (Incluye la cuantificación de la cantidad de RCD por tipo que será generado, la asignación del Permiso, el control en obra que deberá ser establecido, la información sobre los gestores idóneos, el reporte periódico de los informes de gestión, la apertura y cierre de Permiso y las medidas de manejo ambiental). | D7: Un | E7: 1 | F7: =APUS!$J$34 -> 15650000 | G7: =+F7*E7 -> 15650000
B8: 5.1.2 | C8: Manejo Etológico (Incluye la identificación, rescate antes del evento de implosión, almacenamiento temporal y reincorporación en el área de rescate después del evento de implosión) | D8: Un | E8: 1 | F8: =APUS!$J$144 -> 16315000 | G8: =+F8*E8 -> 16315000
B9: 5.1.3 | C9: Servicio Ornitológico (Incluye la identificación y el ahuyentamiento en los momentos previos a la actividad de implosión) | D9: Un | E9: 1 | F9: =APUS!$J$171 -> 7700000 | G9: =+F9*E9 -> 7700000
H10: =SUM(G7:G9) -> 39665000
A11: 5.2 | C11: Plan de Manejo social
B12: 5.2.1 | C12: Plan de Manejo Social | D12: Un | E12: 1 | F12: =APUS!J299 -> 8540000 | G12: =+F12*E12 -> 8540000
B13: 5.2.2 | C13: Divulgación de procedimiento de demolición y Evacuación (incluye las reuniones necesarias con la comunidad y los diferentes organismos de control) | D13: Un | E13: 1 | F13: =APUS!J331 -> 24300000 | G13: =+F13*E13 -> 24300000
B14: 5.2.3 | C14: Volantes de información a la comunidad | D14: Un | E14: 1 | F14: =APUS!J429 -> 5400000 | G14: =+F14*E14 -> 5400000
B15: 5.2.4 | C15: Atención PQRS (incluye punto de atención y línea de comunicación) | D15: Un | E15: 1 | F15: =APUS!J364 -> 19490080 | G15: =+F15*E15 -> 19490080
B16: 5.2.5 | C16: Elaboración de actas de vecindad de apertura, seguimiento y cierre | D16: Un | E16: 1 | F16: =APUS!J397 -> 9800000 | G16: =F16*E16 -> 9800000
H17: =SUM(G12:G16) -> 67530080
A18: 5.3 | C18: Plan de Manejo de Tráfico
B19: 5.3.1 | C19: Plan de manejo de Tráfico (Incluye la elaboración del informe, el tramite y la autorización para el manejo de trafico, este debe ser asignado para la obra durante la ejecución de actividades y para el día del evento de implosión el cual deberá contemplar el cierre de vías que se encuentran dentro del perímetro sugerido por la gerencia de obra). | D19: Un | E19: 1 | F19: =APUS!$J$61 -> 17560000 | G19: =+F19*E19 -> 17560000
B20: 5.3.2 | C20: Implementación del plan de manejo de trafico (incluye la instalación de todos los elementos viales indicados en el documento del PMT) | D20: Un | E20: 1 | F20: =APUS!J455 -> 16765000 | G20: =+F20*E20 -> 16765000
A22: 5.4 | C22: MANEJO SG-SST | H22: =SUM(G19:G20) -> 34325000
B23: 5.4.1 | C23: Implementación del SG-SST ( según las actividades establecidas por la legislación colombiana) | D23: Un | E23: 1 | F23: =APUS!$J$203 -> 75321000 | G23: =+F23*E23 -> 75321000
B24: 5.4.2 | C24: Elaboración de Planes Operativos Seguros | D24: Un | E24: 1 | F24: =APUS!J234 -> 15430000 | G24: =+F24*E24 -> 15430000
B25: 5.4.3 | C25: Plan de Prevención, Preparación y Atención de Emergencias | D25: Un | E25: 1 | F25: =APUS!J267 -> 18410000 | G25: =+F25*E25 -> 18410000
B26: 5.4.4 | C26: Análisis y evaluación de riesgo por la ejecución de la demolición (Análisis, impactos y gestión de riesgos) | D26: Un | E26: 1 | F26: =APUS!$J$89 -> 25500000 | G26: =+F26*E26 -> 25500000
H27: =SUM(G23:G26) -> 1.34661e+08
A28: 5.5 | C28: Plan de manejo de demolicion
B29: 5.5.1 | C29: Permiso para uso y manejo de explosivos (incluye la solicitud, permisos, compra, transporte escolta militar hasta obra y custodia) | D29: Un | E29: 1 | F29: =APUS!$J$118 -> 41074600 | G29: =+F29*E29 -> 41074600
H30: =SUM(G29) -> 41074600
C32: TOTAL COSTO DIRECTO | H32: =SUM(H7:H30) -> 3.1725568e+08
B41: CLAUDIA GUEVARA GOMEZ
B42: Experta en Demoliciones UNAL Manizales
B43: Equipo Consultor

Sheet CUADRILLA
B4: CUADRILLA (1Art+8Perf) | D4: DIA | E4: 1 | F4: 2970000
B5: CUADRILLA (1Art+6Perf) | D5: DIA | E5: 1 | F5: 2310000
B6: CUADRILLA DEMOLICIÓN (1SUP+8OFIC) | D6: DIA | E6: 1 | F6: 2560000 | G6: =RESUMEN!K39 -> 0
B7: CUADRILLA DEMOLICIÓN (6OFIC) | D7: DIA | E7: 1 | F7: 1250000

Sheet MEMORIA_IMPLOSION
B3: CANTIDADES DE DEMOLICIÓN TRIBUNA OCCIDENTAL ESTADIO GUILLERMO PLAZAS ALCID | J3: CANTIDADES DE DEMOLICIÓN TRIBUNA OCCIDENTAL ESTADIO GUILLERMO PLAZAS ALCID
G6: =SUM(G9:G620) -> 11258.712 | J6: NIVEL | K6: AREA IMPLOSIÓN | N6: ITEM | O6: Etiquetas de fila | P6: VOL ESTRUCTURA
J7: 7 | K7: 520 | O7: OCCIDENTAL | P7: 11258.712
B8: TRIBUNA | C8: UBICACIÓN | D8: AREA | E8: ALTERNATIVA 3 | F8: ELEMENTO | G8: VOLUMEN ESTRUCTURA | J8: 6 | K8: =1200+11.2*9.6+3.5*8/2+6.4*6.2+6.5*6.2 -> 1401.5 | N8: AA | O8: CAMERINOS | P8: 1198.4318
B9: OCCIDENTAL | C9: PAÑOLETA NORTE | D9: VIGA | E9: ELIMINAR | F9: VG 515 | G9: 4.846 | J9: 5 | K9: =1200+6.5*6.2*2+(16.2+3.3)/2*33.5*2 -> 1933.85 | N9: BB | O9: CIMENTACIÓN CAMERINOS | P9: 1494
B10: OCCIDENTAL | C10: PAÑOLETA NORTE | D10: VIGA | E10: ELIMINAR | F10: VG 506 | G10: 1.731 | J10: 4 | K10: =1200+6.5*6.2*2+(16.2+3.3)/2*33.5*2 -> 1933.85 | N10: CC | O10: CIMENTACIÓN TRIBUNA OCCIDENTAL | P10: 1474
B11: OCCIDENTAL | C11: PAÑOLETA NORTE | D11: VIGA | E11: ELIMINAR | F11: VG 511 | G11: 3.92 | J11: 3 | K11: =1200+6.5*6.2*2+(16.2+3.3)/2*33.5*2 -> 1933.85 | N11: DD | O11: ESTRUCTURA CENTRAL | P11: 4884.3977
B12: OCCIDENTAL | C12: PAÑOLETA NORTE | D12: VIGA | E12: ELIMINAR | F12: VG 506 | G12: 6.364 | J12: 2 | K12: =6.7*133+2108+5.4*(3.4+1.6)/2+6.2*6+11*12+6.2*6.2+6.2*6.4+6.2*6.6 -> 3300.84 | N12: EE | O12: GRADAS | P12: 641.778
B13: OCCIDENTAL | C13: PAÑOLETA NORTE | D13: VIGA | E13: ELIMINAR | F13: VG 507 | G13: 6.364 | J13: 1 | K13: =3146.6+7.8*133+6.2*6.6+6*6.25+2.2*2.8+5.8*11+2.2*2.8+5.9*6.2*2 -> 4411.7 | N13: FF | O13: PAÑOLETA NORTE | P13: 729.31649
B14: OCCIDENTAL | C14: ESTRUCTURA CENTRAL | D14: VIGA | E14: ELIMINAR | F14: VG 507 | G14: 6.364 | K14: =SUBTOTAL(9,K7:K13) -> 15435.59 | N14: GG | O14: PAÑOLETA SUR | P14: 836.78809
B15: OCCIDENTAL | C15: PAÑOLETA NORTE | D15: COLUMNA | E15: ELIMINAR | F15: CL 501 | G15: 5.78 | O15: Total general | P15: 11258.712
B16: OCCIDENTAL | C16: PAÑOLETA NORTE | D16: COLUMNA | E16: ELIMINAR | F16: CL 502 | G16: 5.78 | I16: ITEM | J16: ESCOMBRO | L16: CANTIDAD
B17: OCCIDENTAL | C17: PAÑOLETA NORTE | D17: COLUMNA | E17: ELIMINAR | F17: CL 503 | G17: 5.78
B18: OCCIDENTAL | C18: PAÑOLETA NORTE | D18: COLUMNA | E18: ELIMINAR | F18: CL 504 | G18: 5.78 | I18: A | J18: M3 ESTRUCTURA | L18: =G6 -> 11258.712
B19: OCCIDENTAL | C19: PAÑOLETA NORTE | D19: COLUMNA | E19: ELIMINAR | F19: CL 505 | G19: 5.78 | I19: B | J19: FACTOR DE EXPANSIÓN | L19: 1.5
B20: OCCIDENTAL | C20: PAÑOLETA NORTE | D20: COLUMNA | E20: ELIMINAR | F20: CL 506 | G20: 6.343 | I20: C | J20: M3 SUELTO (AXB) | L20: =L18*L19 -> 16888.068
B21: OCCIDENTAL | C21: PAÑOLETA NORTE | D21: COLUMNA | E21: ELIMINAR | F21: CL 507 | G21: 5.766 | I21: D | J21: M3 LLENO CAMERINO (AREA EN PLANTA )* ALTURA HUECO = 1981M2x2,5M | L21: =1981*2.5 -> 4952.5
B22: OCCIDENTAL | C22: PAÑOLETA NORTE | D22: COLUMNA | E22: ELIMINAR | F22: CL 508 | G22: 5.766 | I22: E | J22: FACTOR DE COMPACTACIÓN PROMEDIO DE ESCOMBRO | L22: 1.05
B23: OCCIDENTAL | C23: PAÑOLETA NORTE | D23: VIGA | E23: ELIMINAR | F23: VG 415 | G23: 15.486 | I23: F | J23: VOLUMEN DE ESCOMBRO SUELTO PARA LLENAR CAMERINOS (DXE) | L23: =L21*L22 -> 5200.125
B24: OCCIDENTAL | C24: PAÑOLETA NORTE | D24: VIGA | E24: ELIMINAR | F24: VG 406 | G24: 1.741 | I24: G | J24: VOLUMEN TOTAL A TRANSPORTAR (C-F) | L24: =L20-L23 -> 11687.943
B25: OCCIDENTAL | C25: PAÑOLETA NORTE | D25: VIGA | E25: ELIMINAR | F25: VG 412 | G25: 3.772 | I25: H | J25: VOLUMEN TOTAL DE ESTRUCTURA AREA DE IMPLOSION (CC+DD+EE+FF+GG) | L25: =P10+P11+P12+P13+P14 -> 8566.2803
B26: OCCIDENTAL | C26: PAÑOLETA NORTE | D26: VIGA | E26: ELIMINAR | F26: VG 406 | G26: 6.36 | I26: I | J26: VOLUMEN TOTAL DE ESTRUCTURAS A DERRIBAR CON DEMOLICION MECANICA (AA+BB) | L26: =P8+P9 -> 2692.4318
B27: OCCIDENTAL | C27: ESTRUCTURA CENTRAL | D27: VIGA | E27: ELIMINAR | F27: VG 406 | G27: =19.326-G26 -> 12.966
B28: OCCIDENTAL | C28: PAÑOLETA NORTE | D28: VIGA | E28: ELIMINAR | F28: VG 408 | G28: 6.36
B29: OCCIDENTAL | C29: ESTRUCTURA CENTRAL | D29: VIGA | E29: ELIMINAR | F29: VG 408 | G29: =18.919-6.36 -> 12.559 | J29: Etiquetas de fila | K29: Suma de VOLUMEN ESTRUCTURA
B30: OCCIDENTAL | C30: PAÑOLETA NORTE | D30: VIGA | E30: ELIMINAR | F30: VG 409 | G30: 4.597 | J30: OCCIDENTAL | K30: 11258.712
B31: OCCIDENTAL | C31: PAÑOLETA NORTE | D31: VIGA | E31: ELIMINAR | F31: VG 410 | G31: 2.967 | J31: CIMENTACIÓN | K31: 2968
B32: OCCIDENTAL | C32: PAÑOLETA NORTE | D32: VIGA | E32: ELIMINAR | F32: VG 411 | G32: 1.36 | J32: COLUMNA | K32: 1615.8166
B33: OCCIDENTAL | C33: PAÑOLETA NORTE | D33: VIGUETA | E33: ELIMINAR | F33: VGT 29 2 | G33: 0.508 | J33: ESCALERA | K33: 252.29148
B34: OCCIDENTAL | C34: PAÑOLETA NORTE | D34: VIGA | E34: ELIMINAR | F34: VG 413 | G34: 3.751 | J34: MURO | K34: 465.88392
B35: OCCIDENTAL | C35: PAÑOLETA NORTE | D35: VIGA | E35: ELIMINAR | F35: VG 413 | G35: 6.496 | J35: PLACA | K35: 1718.8065
B36: OCCIDENTAL | C36: PAÑOLETA NORTE | D36: COLUMNA | E36: ELIMINAR | F36: CL 401 | G36: 5.78 | J36: RAMPA | K36: 46.583572
B37: OCCIDENTAL | C37: PAÑOLETA NORTE | D37: COLUMNA | E37: ELIMINAR | F37: CL 402 | G37: 5.78 | J37: RIOSTRA | K37: 31.146
B38: OCCIDENTAL | C38: PAÑOLETA NORTE | D38: COLUMNA | E38: ELIMINAR | F38: CL 403 | G38: 5.78 | J38: VIGA | K38: 3189.335
B39: OCCIDENTAL | C39: PAÑOLETA NORTE | D39: COLUMNA | E39: ELIMINAR | F39: CL 404 | G39: 5.78 | J39: VIGUETA | K39: 970.84899
B40: OCCIDENTAL | C40: PAÑOLETA NORTE | D40: COLUMNA | E40: ELIMINAR | F40: CL 405 | G40: 5.78 | J40: Total general | K40: 11258.712
B41: OCCIDENTAL | C41: PAÑOLETA NORTE | D41: COLUMNA | E41: ELIMINAR | F41: CL 406 | G41: 6.358
B42: OCCIDENTAL | C42: PAÑOLETA NORTE | D42: COLUMNA | E42: ELIMINAR | F42: CL 407 | G42: 5.78
B43: OCCIDENTAL | C43: PAÑOLETA NORTE | D43: COLUMNA | E43: ELIMINAR | F43: CL 408 | G43: 5.78
B44: OCCIDENTAL | C44: PAÑOLETA NORTE | D44: PLACA | E44: ELIMINAR | F44: PL3 1N | G44: =(31.9147)*(3.2508+15.2)/2*0.06 -> 17.665552
...

Sheet AIU
B1: CONTRATAR LAS ACTIVIDADES DE IMPLOSION Y DEMOLICION DE LA TRIBUNA OCCIDENTAL DEL ESTADIO DE FÚTBOL GUILLERMO PLAZAS ALCID, DE LA CIUDAD DE NEIVA DEL DEPARTAMENTTO DEL HUILA
B4: ANALISIS DE AIU
B6: COSTOS DIRECTOS: | D6: =+PPTO_OBRA_GENERAL!H36 -> 5147276441 | E6: DURACION: | G6: 4 | H6: Meses
B7: COSTOS TOTAL: | D7: =+PPTO_OBRA_GENERAL!H40 -> 6485568316
B9: ITEM | C9: DESCRIPCION | G9: VALOR UNITARIO | I9: VALOR TOTAL
B10: 1 | C10: PERSONAL ADMINISTRATIVO | E10: =SUM(E11:E18) -> 0.030007294 | F10: SALARIO | G10: SAL + PREST | H10: DEDICACION | I10: =SUM(I11:I19) -> 169586208
B11: 1 | C11: Director de Obra | E11: =+I11/$D$6 -> 0.0034447149 | F11: 4500000 | G11: =+F11*'[14]FACTOR PRESTACIONAL'!$E$39 -> 8865450 | H11: 0.5 | I11: =+G11*$G$6*H11 -> 17730900
B12: 2 | C12: Residente de obra | E12: =+I12/$D$6 -> 0.0061239377 | F12: 4000000 | G12: =+F12*'[14]FACTOR PRESTACIONAL'!$E$39 -> 7880400 | H12: 1 | I12: =+G12*$G$6*H12 -> 31521600
B13: 3 | C13: Ingeniero Experto en Demolición | E13: =+I13/$D$6 -> 0.0036743626 | F13: 4000000 | G13: =+F13*'[14]FACTOR PRESTACIONAL'!$E$39 -> 7880400 | H13: 0.6 | I13: =+G13*$G$6*H13 -> 18912960
B14: 8 | C14: Especialista Ambiental | E14: =+I14/$D$6 -> 0.0030619688 | F14: 4000000 | G14: =+F14*'[14]FACTOR PRESTACIONAL'!$E$39 -> 7880400 | H14: 0.5 | I14: =+G14*$G$6*H14 -> 15760800
B15: 9 | C15: Almacenista | E15: =+I15/$D$6 -> 0.0030619688 | F15: 2000000 | G15: =+F15*'[14]FACTOR PRESTACIONAL'!$E$39 -> 3940200 | H15: 1 | I15: =+G15*$G$6*H15 -> 15760800
B16: 10 | C16: Profesional SST | E16: =+I16/$D$6 -> 0.0045929532 | F16: 3000000 | G16: =+F16*'[14]FACTOR PRESTACIONAL'!$E$39 -> 5910300 | H16: 1 | I16: =+G16*$G$6*H16 -> 23641200
B17: 13 | C17: Ingeniero Residente Administrativo | E17: =+I17/$D$6 -> 0.0048991501 | F17: 3200000 | G17: =+F17*'[14]FACTOR PRESTACIONAL'!$E$39 -> 6304320 | H17: 1 | I17: =+G17*$G$6*H17 -> 25217280
B18: 14 | C18: Contador Publico | E18: =+I18/$D$6 -> 0.0011482383 | F18: 3000000 | G18: =+F18*'[14]FACTOR PRESTACIONAL'!$E$39 -> 5910300 | H18: 0.25 | I18: =+G18*$G$6*H18 -> 5910300
B19: 15 | C19: Tecnico explosivista | E19: =+I19/$D$6 -> 0.0029394901 | F19: 3200000 | G19: =+F19*'[14]FACTOR PRESTACIONAL'!$E$39 -> 6304320 | H19: =+H13 -> 0.6 | I19: =+G19*$G$6*H19 -> 15130368
B20: 2 | C20: DOTACION OFICINA ADMINISTRATIVA POR BLOQUE | E20: =SUM(E22:E34) -> 0.012465716 | F20: UNIDAD | H20: DURACION | I20: =+SUM(I22:I35) -> 64164484
C21: MENSUALES
B22: 1 | C22: Papelería (Impresiones, planos, herramientas) | E22: =+I22/$D$6 -> 0.001321087 | F22: MES | G22: 1700000 | H22: =$G$6 -> 4 | I22: =ROUND(G22*H22,0) -> 6800000
B23: 2 | C23: Mensajería | E23: =+I23/$D$6 -> 0.000388555 | F23: MES | G23: 500000 | H23: =$G$6 -> 4 | I23: =ROUND(G23*H23,0) -> 2000000
B24: 3 | C24: Campamento de obra | E24: =+I24/$D$6 -> 0.0017396548 | F24: MES | G24: 2238621 | H24: =$G$6 -> 4 | I24: =ROUND(G24*H24,0) -> 8954484
B25: 4 | C25: Almacen de obra | E25: =+I25/$D$6 -> 0.001165665 | F25: MES | G25: 1500000 | H25: =$G$6 -> 4 | I25: =ROUND(G25*H25,0) -> 6000000
B26: 5 | C26: Servicio de vigilancia | E26: =+I26/$D$6 -> 0.0044217559 | F26: MES | G26: 5690000 | H26: =$G$6 -> 4 | I26: =ROUND(G26*H26,0) -> 22760000
B27: 6 | C27: Internet | E27: =+I27/$D$6 -> 0.0001942775 | F27: MES | G27: 250000 | H27: =$G$6 -> 4 | I27: =ROUND(G27*H27,0) -> 1000000
B28: 7 | C28: Plan de telefonía | E28: =+I28/$D$6 -> 0.00014570813 | F28: MES | G28: 250000 | H28: 3 | I28: =ROUND(G28*H28,0) -> 750000
B29: 8 | C29: Programas de Salud Ocupacional | E29: =+I29/$D$6 -> 0 | F29: MES | G29: 2000000 | I29: =ROUND(G29*H29,0) -> 0
I30: =ROUND(G30*H30,0) -> 0
B31: 8 | C31: Servicio Transpor en Vehiculo ( Incluye conductor, combustible) | E31: =+I31/$D$6 -> 0.0022147635 | F31: MES | G31: 3800000 | H31: 3 | I31: =ROUND(G31*H31,0) -> 11400000
C32: GASTOS DURANTE LA EJECUCIÓN DE LA OBRA | H32: CANTIDAD
B33: 3 | C33: Informe final de obra civil | E33: =+I33/$D$6 -> 0.00029141625 | F33: UNIDAD | G33: 1500000 | H33: 1 | I33: =+G33*H33 -> 1500000
B34: 4 | C34: Planos Record | E34: =+I34/$D$6 -> 0.0005828325 | F34: UNIDAD | G34: 3000000 | H34: 1 | I34: =+G34*H34 -> 3000000
B35: 5 | C35: Ensayos de laboratorio | E35: =+I35/$D$6 -> 0 | F35: UNIDAD | G35: 14000000 | I35: =+G35*H35 -> 0
C36: TOTAL ANTES DE IMPUESTOS | I36: =+I20+I10 -> 233750692
G38: INCIDENCIA
B39: 3 | C39: GASTOS DE LEGALIZACIÓN | G39: =+SUM(G40:G53) -> 0.130625 | I39: =SUM(I40:I53) -> 847177361
B40: =+B39+0.01 -> 3.01 | C40: ESTAMPILLA PRO CULTURA | G40: 0.005 | I40: =ROUND(G40*$D$7,0) -> 32427842
B41: =+B40+0.01 -> 3.02 | C41: IMPUESTO PRO DEPORTE | G41: 0.02 | I41: =ROUND(G41*$D$7,0) -> 129711366
B42: =+B41+0.01 -> 3.03 | C42: ESTAMPILLA PROUSCO | G42: 0.01 | I42: =ROUND(G42*$D$7,0) -> 64855683
B43: =+B42+0.01 -> 3.04 | C43: ESTAMPILLA PRO PERSONAS MAYORES | G43: 0.02 | I43: =ROUND(G43*$D$7,0) -> 129711366
B44: =+B43+0.01 -> 3.05 | C44: ESTAMPILLA ICA DE INDUSTRIA Y COMERCIO | G44: 0.005 | I44: =ROUND(G44*$D$7,0) -> 32427842
B45: =+B44+0.01 -> 3.06 | C45: IMPUESTO DE SEGURIDAD OBRA PUBLICA | G45: 0.05 | I45: =ROUND(G45*$D$7,0) -> 324278416
...

Sheet FACTOR PRESTACIONAL
B1: FACTOR PRESTACIONAL
C2: PROYECTO: | D2: CONTRATAR LAS ACTIVIDADES DE IMPLOSION Y DEMOLICION DE LA TRIBUNA OCCIDENTAL DEL ESTADIO DE FÚTBOL GUILLERMO PLAZAS ALCID, DE LA CIUDAD DE NEIVA DEL DEPARTAMENTTO DEL HUILA
C3: DEPARTAMENTO: | D3: =+RESUMEN!C6 -> HUILA
C4: MUNICIPIO: | D4: =+RESUMEN!C7 -> NEIVA
C5: FECHA: | D5: =+RESUMEN!C8 -> 46122
C6: ELABORÓ: | D6: =+RESUMEN!C9 -> UNIVERSIDAD NACIONAL DE COLOMBIA SEDE MANIZALES
B7: COSTO GLOBAL DEL SALARIO MÍNIMO
B8: COLOMBIA 2026
B9: 1 | C9: (SMMLV) | D9: SALARIO MINIMO
B10: INFORMACIÓN BÁSICA | D10: VR MENSUAL | E10: VR. ANUAL
D11: 1750905 | E11: =+(SMIN/30)*360 -> 21010860
B12: Auxilio Transporte | D12: 249095 | E12: =+(D12/30)*360 -> 2989140
B13: Smín + Aux Transporte | D13: =+SMIN+D12 -> 2000000 | E13: =+E11+E12 -> 24000000
B15: APORTES | D15: =SUM(D16:D18) -> 480799 | E15: =+D15*12 -> 5769588
B16: Salud (8.5%) | D16: =+ROUND(SMIN*8.5%,0) -> 148827
B17: Pensión (12%) | D17: =+ROUND(SMIN*12%,0) -> 210109
B18: ARL (6.96%) | D18: =+ROUND(SMIN*6.96%,0) -> 121863
B20: PARAFISCALES | D20: =SUM(D21:D24) -> 201354 | E20: =+D20*12 -> 2416248
B21: CAJA DE COMPENSACION FAMILIAR (4%) | D21: =+ROUND(SMIN*4%,0) -> 70036
B22: I.C.B.F (3%) | D22: =+ROUND(SMIN*3%,0) -> 52527
B23: SENA (2%) | D23: =+ROUND(SMIN*2%,0) -> 35018
B24: FIC (1smlv/40 Trabajadores) | D24: =+ROUND(SMIN/40,0) -> 43773
B26: PRESTACIONES EMPRESA | D26: =SUM(D27:D30) -> 426205 | E26: =+D26*12 -> 5114460
B27: Prima de Servicios (8.33%) | D27: =+ROUND(SMT*8.33%,0) -> 166600
B28: Cesantias (8.33%) | D28: =+ROUND(SMT*8.33%,0) -> 166600
B29: Intereses sobre Cesantia (12% Anual) | D29: =+ROUND(D28*12%,0) -> 19992
B30: Vacaciones (4.17%) | D30: =+ROUND(SMIN*4.17%,0) -> 73013
B32: DOTACIONES | D32: =SUM(D33) -> 87545 | E32: =+D32*12 -> 1050540
B33: Overol - Casco - Gafas - Botas - Guantes (5% del SMLV) | D33: =ROUND(SMIN*5%,0) -> 87545
B35: TOTAL | E35: =SUM(E13:E34) -> 38350836
B36: JORNAL REAL=PAGADO AL AÑO/LABORADOS | E36: =+ROUND(E35/E46,0) -> 131338
B37: HORA REAL=PAGADO AL AÑO/LABORADOS | E37: =+E36/8 -> 16417.25
B38: JORNAL | E38: =+ROUND(SMT/30,0) -> 66667
B39: INCIDENCIA | E39: =+ROUND(E36/E38,4) -> 1.9701
D40: Factor Prestacional | E40: =+ROUND(E39-1,2) -> 0.97
D41: DIAS CALENDARIO | E41: 360
D42: DIAS NO LABORADOS | E42: =+E43+E44+E45 -> 68
D43: DOMINICALES | E43: 52
D44: FESTIVOS | E44: 16
D45: VACACIONES
...
